{"text_format":"1","workbook":"xlsx","n_sheets":8,"sheets":["VERSIE","Invulblad (INVOER)","UITVOER","Trendfactoren","Emissieberekening","Emissiekarakteristieken","Optellingen","Laadvermogenklassen"],"not_rendered":{"charts":0,"images":0,"macros":1,"external_links":0,"defined_names":34,"comments":0,"pivot_tables":4},"unopened":[],"bounds":{"document_bytes":16777216,"sheet_cells":100000,"rows_first":2000,"rows_last":500,"rows_between":2000,"halvings":0,"cell_chars":16384,"cell_head_chars":4096},"cells_cut":0,"cells_raw":0,"read":"whole","date_system":"1900"}

{"sheet":"VERSIE","index":0,"n_rows":16,"n_cols":3,"rows_kept":16,"cut":false,"hidden":false,"merged":[]}
["PRELUDE (© TNO)","PRognose Emissiemodel LUcht Door tellen van Eenheden"]
[]
["Versie","Omschrijving","Wijzingen"]
["1.0","Eerste testversie gebaseerd op uitvoer van het EMS-model voor binnenvaart","Geen"]
["1.1","Tweede versie voor gebruik in AERIUS en elders","Deze versie berekent enkel de emissies door voortstuwing (ipv voortstuwing en hulpvermogen)."]
[null,null,"De onderliggende data komen uit het EMS-model gebaseerd op verkeerdata 2008 uit BIVAS: export 2011-10-17 emissies basis (2008)."]
[null,null,"Aanvullingen bestaan uit emissies van grote schepen M10, M11 en M12 (MARIN-rapport 24032.600/2)."]
[null,null,"Passend bij deze aanvullingen is een opsplitsing in CBS-laadvermogenklasse 8 aangebracht: zie tabblad \"Laadvermogenklassen\"."]
[null,null,"Bij de vaarwegentypen zijn CEMT V en VI conform BIVAS opgesplitst in Va en Vb en VIa, VIb en Vic."]
[null,null,"Warmte-output is conform de aanpak in de GCN-berekeningen gebaseerd op het harmonisch gemiddelde."]
[null,null,"Warmte-output is jaarafhankelijk gemaakt omdat de efficiency van motoren langzaam toeneemt (hierdoor neemt de warmte-output af)."]
[null,null,"Basisemissiefactoren zijn voor 2010 berekend waarbij na CCR2 geen verdere emissiereductie is verondersteld."]
[null,null,"Opsplitsing van de uitvoer in groepen warmte-output is weggelaten."]
[null,null,"Kleine verbeteringen in de user-interface: niet invoercellen beschermd (password: TNO) en knoppen voor verversen data."]
["1.11","Derde versie voor gebruik AERIUS en elders","Toegevoegd enkele schepen/vaarwegcombinaties: BOx/CEMTI en BOx/IJssel"]
[null,null,"Verwijderd enkele schepen/vaarweg combinaties:CEMT Va/C3b,Lek/BII-2b,Lek/C3b"]

{"sheet":"Invulblad (INVOER)","index":1,"n_rows":901,"n_cols":11,"rows_kept":901,"cut":false,"hidden":false,"merged":[]}
[4,"Gebruiker","Calco Rekenaar",null,"Gegevens uitsluitend in te voeren blauwe vakken (zie Toelichting Emissieberekening binnenvaartschepen)"]
[null,"Datum veranderd",42439,null,null,null,null,null,null,null,"Kolom1"]
[null,"Naam van het vaartraject","Kikkerlandse Bocht",null,null,null,null,null,null,null,"ja"]
[{"$f":"+Afstand*ROW()","v":4},"Afstand van het vaartraject",1,"km",null,null,null,null,null,null,"nee"]
[{"$f":"+Jaar*ROW()","v":10080},"Jaar van emissie",2016,{"$f":"+IF(OR(Jaar<TRENDSTART,Jaar>TRENDEND),\"! Voer jaar tussen \"&TRENDSTART&\" en \"&TRENDEND&\" in Invulblad\",\"\")","v":""}]
[{"$f":"+IF(Sluis=\"nee\",11,13)*ROW()","v":66},"Sluis","nee",null,null,null,null,null,null,"Pmfactor",1.32]
[{"$f":"+A6*A5*A4","v":2661120},{"$f":"+IF(Sluis=\"ja\",\"Schuttijd\",\"\")","v":""},30,{"$f":"+IF(Sluis=\"ja\",\"minuten\",\"\")","v":""},null,null,null,null,null,"Noxfactor",1.17]
[0,"Kies filters om de invoer van aantallen te vereenvoudigen",null,null,null,"aantal regels ingevuld:",{"$f":"+SUM(Begin:Einde)","v":0},null,null,"Standbyvermogen",0.15]
["Zoekstring","Vaarwegtype","Indeling schepen","Scheepstype","Ladingstoestand","Richting","Aantal",null,null,null,{"$f":"+SUM(K10:K901)*A7","v":0}]
[{"$f":"+B10&D10&E10&F10","v":"CEMT ICBS_1geladenbeide"},"CEMT I","CBS","CBS_1","geladen","beide",0,null,null,null,{"$f":"+G10*ROW()","v":0}]
["CEMT ICBS_1leegbeide","CEMT I","CBS","CBS_1","leeg","beide",0,null,null,null,{"$f":"+G11*ROW()","v":0}]
["CEMT ICBS_2geladenbeide","CEMT I","CBS","CBS_2","geladen","beide",0,null,null,null,0]
["CEMT ICBS_2leegbeide","CEMT I","CBS","CBS_2","leeg","beide",0,null,null,null,0]
["CEMT ICBS_3geladenbeide","CEMT I","CBS","CBS_3","geladen","beide",0,null,null,null,0]
["CEMT ICBS_3leegbeide","CEMT I","CBS","CBS_3","leeg","beide",0,null,null,null,0]
["CEMT ICBS_4geladenbeide","CEMT I","CBS","CBS_4","geladen","beide",0,null,null,null,0]
["CEMT ICBS_4leegbeide","CEMT I","CBS","CBS_4","leeg","beide",0,null,null,null,0]
["CEMT ICBS_5geladenbeide","CEMT I","CBS","CBS_5","geladen","beide",0,null,null,null,0]
["CEMT ICBS_5leegbeide","CEMT I","CBS","CBS_5","leeg","beide",0,null,null,null,0]
["CEMT ICBS_6geladenbeide","CEMT I","CBS","CBS_6","geladen","beide",0,null,null,null,0]
["CEMT ICBS_6leegbeide","CEMT I","CBS","CBS_6","leeg","beide",0,null,null,null,0]
["CEMT IICBS_1geladenbeide","CEMT II","CBS","CBS_1","geladen","beide",0,null,null,null,0]
["CEMT IICBS_1leegbeide","CEMT II","CBS","CBS_1","leeg","beide",0,null,null,null,0]
["CEMT IICBS_2geladenbeide","CEMT II","CBS","CBS_2","geladen","beide",0,null,null,null,0]
["CEMT IICBS_2leegbeide","CEMT II","CBS","CBS_2","leeg","beide",0,null,null,null,0]
["CEMT IICBS_3geladenbeide","CEMT II","CBS","CBS_3","geladen","beide",0,null,null,null,0]
["CEMT IICBS_3leegbeide","CEMT II","CBS","CBS_3","leeg","beide",0,null,null,null,0]
["CEMT IICBS_4geladenbeide","CEMT II","CBS","CBS_4","geladen","beide",0,null,null,null,0]
["CEMT IICBS_4leegbeide","CEMT II","CBS","CBS_4","leeg","beide",0,null,null,null,0]
["CEMT IICBS_5geladenbeide","CEMT II","CBS","CBS_5","geladen","beide",0,null,null,null,0]
["CEMT IICBS_5leegbeide","CEMT II","CBS","CBS_5","leeg","beide",0,null,null,null,0]
["CEMT IICBS_6geladenbeide","CEMT II","CBS","CBS_6","geladen","beide",0,null,null,null,0]
["CEMT IICBS_6leegbeide","CEMT II","CBS","CBS_6","leeg","beide",0,null,null,null,0]
["CEMT IICBS_7geladenbeide","CEMT II","CBS","CBS_7","geladen","beide",0,null,null,null,0]
["CEMT IICBS_7leegbeide","CEMT II","CBS","CBS_7","leeg","beide",0,null,null,null,0]
["CEMT IIICBS_1geladenbeide","CEMT III","CBS","CBS_1","geladen","beide",0,null,null,null,0]
["CEMT IIICBS_1leegbeide","CEMT III","CBS","CBS_1","leeg","beide",0,null,null,null,0]
["CEMT IIICBS_2geladenbeide","CEMT III","CBS","CBS_2","geladen","beide",0,null,null,null,0]
["CEMT IIICBS_2leegbeide","CEMT III","CBS","CBS_2","leeg","beide",0,null,null,null,0]
["CEMT IIICBS_3geladenbeide","CEMT III","CBS","CBS_3","geladen","beide",0,null,null,null,0]
["CEMT IIICBS_3leegbeide","CEMT III","CBS","CBS_3","leeg","beide",0,null,null,null,0]
["CEMT IIICBS_4geladenbeide","CEMT III","CBS","CBS_4","geladen","beide",0,null,null,null,0]
["CEMT IIICBS_4leegbeide","CEMT III","CBS","CBS_4","leeg","beide",0,null,null,null,0]
["CEMT IIICBS_5geladenbeide","CEMT III","CBS","CBS_5","geladen","beide",0,null,null,null,0]
["CEMT IIICBS_5leegbeide","CEMT III","CBS","CBS_5","leeg","beide",0,null,null,null,0]
["CEMT IIICBS_6geladenbeide","CEMT III","CBS","CBS_6","geladen","beide",0,null,null,null,0]
["CEMT IIICBS_6leegbeide","CEMT III","CBS","CBS_6","leeg","beide",0,null,null,null,0]
["CEMT IVCBS_1geladenbeide","CEMT IV","CBS","CBS_1","geladen","beide",0,null,null,null,0]
["CEMT IVCBS_1leegbeide","CEMT IV","CBS","CBS_1","leeg","beide",0,null,null,null,0]
["CEMT IVCBS_2geladenbeide","CEMT IV","CBS","CBS_2","geladen","beide",0,null,null,null,0]
["CEMT IVCBS_2leegbeide","CEMT IV","CBS","CBS_2","leeg","beide",0,null,null,null,0]
["CEMT IVCBS_3geladenbeide","CEMT IV","CBS","CBS_3","geladen","beide",0,null,null,null,0]
["CEMT IVCBS_3leegbeide","CEMT IV","CBS","CBS_3","leeg","beide",0,null,null,null,0]
["CEMT IVCBS_4geladenbeide","CEMT IV","CBS","CBS_4","geladen","beide",0,null,null,null,0]
["CEMT IVCBS_4leegbeide","CEMT IV","CBS","CBS_4","leeg","beide",0,null,null,null,0]
["CEMT IVCBS_5geladenbeide","CEMT IV","CBS","CBS_5","geladen","beide",0,null,null,null,0]
["CEMT IVCBS_5leegbeide","CEMT IV","CBS","CBS_5","leeg","beide",0,null,null,null,0]
["CEMT IVCBS_6geladenbeide","CEMT IV","CBS","CBS_6","geladen","beide",0,null,null,null,0]
["CEMT IVCBS_6leegbeide","CEMT IV","CBS","CBS_6","leeg","beide",0,null,null,null,0]
["CEMT IVCBS_7geladenbeide","CEMT IV","CBS","CBS_7","geladen","beide",0,null,null,null,0]
["CEMT IVCBS_7leegbeide","CEMT IV","CBS","CBS_7","leeg","beide",0,null,null,null,0]
["CEMT VaCBS_1geladenbeide","CEMT Va","CBS","CBS_1","geladen","beide",0,null,null,null,0]
["CEMT VaCBS_1leegbeide","CEMT Va","CBS","CBS_1","leeg","beide",0,null,null,null,0]
["CEMT VaCBS_10geladenbeide","CEMT Va","CBS","CBS_10","geladen","beide",0,null,null,null,0]
["CEMT VaCBS_10leegbeide","CEMT Va","CBS","CBS_10","leeg","beide",0,null,null,null,0]
["CEMT VaCBS_2geladenbeide","CEMT Va","CBS","CBS_2","geladen","beide",0,null,null,null,0]
["CEMT VaCBS_2leegbeide","CEMT Va","CBS","CBS_2","leeg","beide",0,null,null,null,0]
["CEMT VaCBS_3geladenbeide","CEMT Va","CBS","CBS_3","geladen","beide",0,null,null,null,0]
["CEMT VaCBS_3leegbeide","CEMT Va","CBS","CBS_3","leeg","beide",0,null,null,null,0]
["CEMT VaCBS_4geladenbeide","CEMT Va","CBS","CBS_4","geladen","beide",0,null,null,null,0]
["CEMT VaCBS_4leegbeide","CEMT Va","CBS","CBS_4","leeg","beide",0,null,null,null,0]
["CEMT VaCBS_5geladenbeide","CEMT Va","CBS","CBS_5","geladen","beide",0,null,null,null,0]
["CEMT VaCBS_5leegbeide","CEMT Va","CBS","CBS_5","leeg","beide",0,null,null,null,0]
[{"$f":"+B74&D74&E74&F74","v":"CEMT VaCBS_6geladenbeide"},"CEMT Va","CBS","CBS_6","geladen","beide",0,null,null,null,0]
["CEMT VaCBS_6leegbeide","CEMT Va","CBS","CBS_6","leeg","beide",0,null,null,null,{"$f":"+G75*ROW()","v":0}]
["CEMT VaCBS_7geladenbeide","CEMT Va","CBS","CBS_7","geladen","beide",0,null,null,null,0]
["CEMT VaCBS_7leegbeide","CEMT Va","CBS","CBS_7","leeg","beide",0,null,null,null,0]
["CEMT VaCBS_9geladenbeide","CEMT Va","CBS","CBS_9","geladen","beide",0,null,null,null,0]
["CEMT VaCBS_9leegbeide","CEMT Va","CBS","CBS_9","leeg","beide",0,null,null,null,0]
["CEMT VbCBS_1geladenbeide","CEMT Vb","CBS","CBS_1","geladen","beide",0,null,null,null,0]
["CEMT VbCBS_1leegbeide","CEMT Vb","CBS","CBS_1","leeg","beide",0,null,null,null,0]
["CEMT VbCBS_2geladenbeide","CEMT Vb","CBS","CBS_2","geladen","beide",0,null,null,null,0]
["CEMT VbCBS_2leegbeide","CEMT Vb","CBS","CBS_2","leeg","beide",0,null,null,null,0]
["CEMT VbCBS_3geladenbeide","CEMT Vb","CBS","CBS_3","geladen","beide",0,null,null,null,0]
["CEMT VbCBS_3leegbeide","CEMT Vb","CBS","CBS_3","leeg","beide",0,null,null,null,0]
["CEMT VbCBS_4geladenbeide","CEMT Vb","CBS","CBS_4","geladen","beide",0,null,null,null,0]
["CEMT VbCBS_4leegbeide","CEMT Vb","CBS","CBS_4","leeg","beide",0,null,null,null,0]
["CEMT VbCBS_5geladenbeide","CEMT Vb","CBS","CBS_5","geladen","beide",0,null,null,null,0]
["CEMT VbCBS_5leegbeide","CEMT Vb","CBS","CBS_5","leeg","beide",0,null,null,null,0]
["CEMT VbCBS_6geladenbeide","CEMT Vb","CBS","CBS_6","geladen","beide",0,null,null,null,0]
["CEMT VbCBS_6leegbeide","CEMT Vb","CBS","CBS_6","leeg","beide",0,null,null,null,0]
["CEMT VbCBS_7geladenbeide","CEMT Vb","CBS","CBS_7","geladen","beide",0,null,null,null,0]
["CEMT VbCBS_7leegbeide","CEMT Vb","CBS","CBS_7","leeg","beide",0,null,null,null,0]
["CEMT VbCBS_9geladenbeide","CEMT Vb","CBS","CBS_9","geladen","beide",0,null,null,null,0]
["CEMT VbCBS_9leegbeide","CEMT Vb","CBS","CBS_9","leeg","beide",0,null,null,null,0]
["CEMT VIaCBS_1geladenbeide","CEMT VIa","CBS","CBS_1","geladen","beide",0,null,null,null,0]
["CEMT VIaCBS_1leegbeide","CEMT VIa","CBS","CBS_1","leeg","beide",0,null,null,null,0]
["CEMT VIaCBS_2geladenbeide","CEMT VIa","CBS","CBS_2","geladen","beide",0,null,null,null,0]
["CEMT VIaCBS_2leegbeide","CEMT VIa","CBS","CBS_2","leeg","beide",0,null,null,null,0]
["CEMT VIaCBS_3geladenbeide","CEMT VIa","CBS","CBS_3","geladen","beide",0,null,null,null,0]
["CEMT VIaCBS_3leegbeide","CEMT VIa","CBS","CBS_3","leeg","beide",0,null,null,null,0]
["CEMT VIaCBS_4geladenbeide","CEMT VIa","CBS","CBS_4","geladen","beide",0,null,null,null,0]
["CEMT VIaCBS_4leegbeide","CEMT VIa","CBS","CBS_4","leeg","beide",0,null,null,null,0]
["CEMT VIaCBS_5geladenbeide","CEMT VIa","CBS","CBS_5","geladen","beide",0,null,null,null,0]
["CEMT VIaCBS_5leegbeide","CEMT VIa","CBS","CBS_5","leeg","beide",0,null,null,null,0]
["CEMT VIaCBS_6geladenbeide","CEMT VIa","CBS","CBS_6","geladen","beide",0,null,null,null,0]
["CEMT VIaCBS_6leegbeide","CEMT VIa","CBS","CBS_6","leeg","beide",0,null,null,null,0]
["CEMT VIaCBS_7geladenbeide","CEMT VIa","CBS","CBS_7","geladen","beide",0,null,null,null,0]
["CEMT VIaCBS_7leegbeide","CEMT VIa","CBS","CBS_7","leeg","beide",0,null,null,null,0]
["CEMT VIaCBS_9geladenbeide","CEMT VIa","CBS","CBS_9","geladen","beide",0,null,null,null,0]
["CEMT VIaCBS_9leegbeide","CEMT VIa","CBS","CBS_9","leeg","beide",0,null,null,null,0]
["CEMT VIbCBS_1geladenbeide","CEMT VIb","CBS","CBS_1","geladen","beide",0,null,null,null,0]
["CEMT VIbCBS_1leegbeide","CEMT VIb","CBS","CBS_1","leeg","beide",0,null,null,null,0]
["CEMT VIbCBS_10geladenbeide","CEMT VIb","CBS","CBS_10","geladen","beide",0,null,null,null,0]
["CEMT VIbCBS_10leegbeide","CEMT VIb","CBS","CBS_10","leeg","beide",0,null,null,null,0]
["CEMT VIbCBS_2geladenbeide","CEMT VIb","CBS","CBS_2","geladen","beide",0,null,null,null,0]
["CEMT VIbCBS_2leegbeide","CEMT VIb","CBS","CBS_2","leeg","beide",0,null,null,null,0]
["CEMT VIbCBS_3geladenbeide","CEMT VIb","CBS","CBS_3","geladen","beide",0,null,null,null,0]
["CEMT VIbCBS_3leegbeide","CEMT VIb","CBS","CBS_3","leeg","beide",0,null,null,null,0]
["CEMT VIbCBS_4geladenbeide","CEMT VIb","CBS","CBS_4","geladen","beide",0,null,null,null,0]
["CEMT VIbCBS_4leegbeide","CEMT VIb","CBS","CBS_4","leeg","beide",0,null,null,null,0]
["CEMT VIbCBS_5geladenbeide","CEMT VIb","CBS","CBS_5","geladen","beide",0,null,null,null,0]
["CEMT VIbCBS_5leegbeide","CEMT VIb","CBS","CBS_5","leeg","beide",0,null,null,null,0]
["CEMT VIbCBS_6geladenbeide","CEMT VIb","CBS","CBS_6","geladen","beide",0,null,null,null,0]
["CEMT VIbCBS_6leegbeide","CEMT VIb","CBS","CBS_6","leeg","beide",0,null,null,null,0]
["CEMT VIbCBS_7geladenbeide","CEMT VIb","CBS","CBS_7","geladen","beide",0,null,null,null,0]
["CEMT VIbCBS_7leegbeide","CEMT VIb","CBS","CBS_7","leeg","beide",0,null,null,null,0]
["CEMT VIbCBS_9geladenbeide","CEMT VIb","CBS","CBS_9","geladen","beide",0,null,null,null,0]
["CEMT VIbCBS_9leegbeide","CEMT VIb","CBS","CBS_9","leeg","beide",0,null,null,null,0]
["CEMT VIcCBS_1geladenbeide","CEMT VIc","CBS","CBS_1","geladen","beide",0,null,null,null,0]
["CEMT VIcCBS_1leegbeide","CEMT VIc","CBS","CBS_1","leeg","beide",0,null,null,null,0]
["CEMT VIcCBS_10geladenbeide","CEMT VIc","CBS","CBS_10","geladen","beide",0,null,null,null,0]
["CEMT VIcCBS_10leegbeide","CEMT VIc","CBS","CBS_10","leeg","beide",0,null,null,null,0]
["CEMT VIcCBS_2geladenbeide","CEMT VIc","CBS","CBS_2","geladen","beide",0,null,null,null,0]
["CEMT VIcCBS_2leegbeide","CEMT VIc","CBS","CBS_2","leeg","beide",0,null,null,null,0]
["CEMT VIcCBS_3geladenbeide","CEMT VIc","CBS","CBS_3","geladen","beide",0,null,null,null,0]
["CEMT VIcCBS_3leegbeide","CEMT VIc","CBS","CBS_3","leeg","beide",0,null,null,null,0]
[{"$f":"+B138&D138&E138&F138","v":"CEMT VIcCBS_4geladenbeide"},"CEMT VIc","CBS","CBS_4","geladen","beide",0,null,null,null,0]
["CEMT VIcCBS_4leegbeide","CEMT VIc","CBS","CBS_4","leeg","beide",0,null,null,null,{"$f":"+G139*ROW()","v":0}]
["CEMT VIcCBS_5geladenbeide","CEMT VIc","CBS","CBS_5","geladen","beide",0,null,null,null,0]
["CEMT VIcCBS_5leegbeide","CEMT VIc","CBS","CBS_5","leeg","beide",0,null,null,null,0]
["CEMT VIcCBS_6geladenbeide","CEMT VIc","CBS","CBS_6","geladen","beide",0,null,null,null,0]
["CEMT VIcCBS_6leegbeide","CEMT VIc","CBS","CBS_6","leeg","beide",0,null,null,null,0]
["CEMT VIcCBS_7geladenbeide","CEMT VIc","CBS","CBS_7","geladen","beide",0,null,null,null,0]
["CEMT VIcCBS_7leegbeide","CEMT VIc","CBS","CBS_7","leeg","beide",0,null,null,null,0]
["CEMT VIcCBS_9geladenbeide","CEMT VIc","CBS","CBS_9","geladen","beide",0,null,null,null,0]
["CEMT VIcCBS_9leegbeide","CEMT VIc","CBS","CBS_9","leeg","beide",0,null,null,null,0]
["IJsselCBS_1geladenaf","IJssel","CBS","CBS_1","geladen","af",0,null,null,null,0]
["IJsselCBS_1geladenop","IJssel","CBS","CBS_1","geladen","op",0,null,null,null,0]
["IJsselCBS_1leegaf","IJssel","CBS","CBS_1","leeg","af",0,null,null,null,0]
["IJsselCBS_1leegop","IJssel","CBS","CBS_1","leeg","op",0,null,null,null,0]
["IJsselCBS_2geladenaf","IJssel","CBS","CBS_2","geladen","af",0,null,null,null,0]
["IJsselCBS_2geladenop","IJssel","CBS","CBS_2","geladen","op",0,null,null,null,0]
["IJsselCBS_2leegaf","IJssel","CBS","CBS_2","leeg","af",0,null,null,null,0]
["IJsselCBS_2leegop","IJssel","CBS","CBS_2","leeg","op",0,null,null,null,0]
["IJsselCBS_3geladenaf","IJssel","CBS","CBS_3","geladen","af",0,null,null,null,0]
["IJsselCBS_3geladenop","IJssel","CBS","CBS_3","geladen","op",0,null,null,null,0]
["IJsselCBS_3leegaf","IJssel","CBS","CBS_3","leeg","af",0,null,null,null,0]
["IJsselCBS_3leegop","IJssel","CBS","CBS_3","leeg","op",0,null,null,null,0]
["IJsselCBS_4geladenaf","IJssel","CBS","CBS_4","geladen","af",0,null,null,null,0]
["IJsselCBS_4geladenop","IJssel","CBS","CBS_4","geladen","op",0,null,null,null,0]
["IJsselCBS_4leegaf","IJssel","CBS","CBS_4","leeg","af",0,null,null,null,0]
["IJsselCBS_4leegop","IJssel","CBS","CBS_4","leeg","op",0,null,null,null,0]
["IJsselCBS_5geladenaf","IJssel","CBS","CBS_5","geladen","af",0,null,null,null,0]
["IJsselCBS_5geladenop","IJssel","CBS","CBS_5","geladen","op",0,null,null,null,0]
["IJsselCBS_5leegaf","IJssel","CBS","CBS_5","leeg","af",0,null,null,null,0]
["IJsselCBS_5leegop","IJssel","CBS","CBS_5","leeg","op",0,null,null,null,0]
["IJsselCBS_6geladenaf","IJssel","CBS","CBS_6","geladen","af",0,null,null,null,0]
["IJsselCBS_6geladenop","IJssel","CBS","CBS_6","geladen","op",0,null,null,null,0]
["IJsselCBS_6leegaf","IJssel","CBS","CBS_6","leeg","af",0,null,null,null,0]
["IJsselCBS_6leegop","IJssel","CBS","CBS_6","leeg","op",0,null,null,null,0]
["IJsselCBS_7geladenaf","IJssel","CBS","CBS_7","geladen","af",0,null,null,null,0]
["IJsselCBS_7geladenop","IJssel","CBS","CBS_7","geladen","op",0,null,null,null,0]
["IJsselCBS_7leegaf","IJssel","CBS","CBS_7","leeg","af",0,null,null,null,0]
["IJsselCBS_7leegop","IJssel","CBS","CBS_7","leeg","op",0,null,null,null,0]
["LekCBS_1geladenaf","Lek","CBS","CBS_1","geladen","af",0,null,null,null,0]
["LekCBS_1geladenop","Lek","CBS","CBS_1","geladen","op",0,null,null,null,0]
["LekCBS_1leegaf","Lek","CBS","CBS_1","leeg","af",0,null,null,null,0]
["LekCBS_1leegop","Lek","CBS","CBS_1","leeg","op",0,null,null,null,0]
["LekCBS_2geladenaf","Lek","CBS","CBS_2","geladen","af",0,null,null,null,0]
["LekCBS_2geladenop","Lek","CBS","CBS_2","geladen","op",0,null,null,null,0]
["LekCBS_2leegaf","Lek","CBS","CBS_2","leeg","af",0,null,null,null,0]
["LekCBS_2leegop","Lek","CBS","CBS_2","leeg","op",0,null,null,null,0]
["LekCBS_3geladenaf","Lek","CBS","CBS_3","geladen","af",0,null,null,null,0]
["LekCBS_3geladenop","Lek","CBS","CBS_3","geladen","op",0,null,null,null,0]
["LekCBS_3leegaf","Lek","CBS","CBS_3","leeg","af",0,null,null,null,0]
["LekCBS_3leegop","Lek","CBS","CBS_3","leeg","op",0,null,null,null,0]
["LekCBS_4geladenaf","Lek","CBS","CBS_4","geladen","af",0,null,null,null,0]
["LekCBS_4geladenop","Lek","CBS","CBS_4","geladen","op",0,null,null,null,0]
["LekCBS_4leegaf","Lek","CBS","CBS_4","leeg","af",0,null,null,null,0]
["LekCBS_4leegop","Lek","CBS","CBS_4","leeg","op",0,null,null,null,0]
["LekCBS_5geladenaf","Lek","CBS","CBS_5","geladen","af",0,null,null,null,0]
["LekCBS_5geladenop","Lek","CBS","CBS_5","geladen","op",0,null,null,null,0]
["LekCBS_5leegaf","Lek","CBS","CBS_5","leeg","af",0,null,null,null,0]
["LekCBS_5leegop","Lek","CBS","CBS_5","leeg","op",0,null,null,null,0]
["LekCBS_6geladenaf","Lek","CBS","CBS_6","geladen","af",0,null,null,null,0]
["LekCBS_6geladenop","Lek","CBS","CBS_6","geladen","op",0,null,null,null,0]
["LekCBS_6leegaf","Lek","CBS","CBS_6","leeg","af",0,null,null,null,0]
["LekCBS_6leegop","Lek","CBS","CBS_6","leeg","op",0,null,null,null,0]
["LekCBS_7geladenaf","Lek","CBS","CBS_7","geladen","af",0,null,null,null,0]
["LekCBS_7geladenop","Lek","CBS","CBS_7","geladen","op",0,null,null,null,0]
[{"$f":"+B202&D202&E202&F202","v":"LekCBS_7leegaf"},"Lek","CBS","CBS_7","leeg","af",0,null,null,null,0]
["LekCBS_7leegop","Lek","CBS","CBS_7","leeg","op",0,null,null,null,{"$f":"+G203*ROW()","v":0}]
["LekCBS_9geladenaf","Lek","CBS","CBS_9","geladen","af",0,null,null,null,0]
["LekCBS_9geladenop","Lek","CBS","CBS_9","geladen","op",0,null,null,null,0]
["LekCBS_9leegaf","Lek","CBS","CBS_9","leeg","af",0,null,null,null,0]
["LekCBS_9leegop","Lek","CBS","CBS_9","leeg","op",0,null,null,null,0]
["WaalCBS_1geladenaf","Waal","CBS","CBS_1","geladen","af",0,null,null,null,0]
["WaalCBS_1geladenop","Waal","CBS","CBS_1","geladen","op",0,null,null,null,0]
["WaalCBS_1leegaf","Waal","CBS","CBS_1","leeg","af",0,null,null,null,0]
["WaalCBS_1leegop","Waal","CBS","CBS_1","leeg","op",0,null,null,null,0]
["WaalCBS_10geladenaf","Waal","CBS","CBS_10","geladen","af",0,null,null,null,0]
["WaalCBS_10geladenop","Waal","CBS","CBS_10","geladen","op",0,null,null,null,0]
["WaalCBS_10leegaf","Waal","CBS","CBS_10","leeg","af",0,null,null,null,0]
["WaalCBS_10leegop","Waal","CBS","CBS_10","leeg","op",0,null,null,null,0]
["WaalCBS_2geladenaf","Waal","CBS","CBS_2","geladen","af",0,null,null,null,0]
["WaalCBS_2geladenop","Waal","CBS","CBS_2","geladen","op",0,null,null,null,0]
["WaalCBS_2leegaf","Waal","CBS","CBS_2","leeg","af",0,null,null,null,0]
["WaalCBS_2leegop","Waal","CBS","CBS_2","leeg","op",0,null,null,null,0]
["WaalCBS_3geladenaf","Waal","CBS","CBS_3","geladen","af",0,null,null,null,0]
["WaalCBS_3geladenop","Waal","CBS","CBS_3","geladen","op",0,null,null,null,0]
["WaalCBS_3leegaf","Waal","CBS","CBS_3","leeg","af",0,null,null,null,0]
["WaalCBS_3leegop","Waal","CBS","CBS_3","leeg","op",0,null,null,null,0]
["WaalCBS_4geladenaf","Waal","CBS","CBS_4","geladen","af",0,null,null,null,0]
["WaalCBS_4geladenop","Waal","CBS","CBS_4","geladen","op",0,null,null,null,0]
["WaalCBS_4leegaf","Waal","CBS","CBS_4","leeg","af",0,null,null,null,0]
["WaalCBS_4leegop","Waal","CBS","CBS_4","leeg","op",0,null,null,null,0]
["WaalCBS_5geladenaf","Waal","CBS","CBS_5","geladen","af",0,null,null,null,0]
["WaalCBS_5geladenop","Waal","CBS","CBS_5","geladen","op",0,null,null,null,0]
["WaalCBS_5leegaf","Waal","CBS","CBS_5","leeg","af",0,null,null,null,0]
["WaalCBS_5leegop","Waal","CBS","CBS_5","leeg","op",0,null,null,null,0]
["WaalCBS_6geladenaf","Waal","CBS","CBS_6","geladen","af",0,null,null,null,0]
["WaalCBS_6geladenop","Waal","CBS","CBS_6","geladen","op",0,null,null,null,0]
["WaalCBS_6leegaf","Waal","CBS","CBS_6","leeg","af",0,null,null,null,0]
["WaalCBS_6leegop","Waal","CBS","CBS_6","leeg","op",0,null,null,null,0]
["WaalCBS_7geladenaf","Waal","CBS","CBS_7","geladen","af",0,null,null,null,0]
["WaalCBS_7geladenop","Waal","CBS","CBS_7","geladen","op",0,null,null,null,0]
["WaalCBS_7leegaf","Waal","CBS","CBS_7","leeg","af",0,null,null,null,0]
["WaalCBS_7leegop","Waal","CBS","CBS_7","leeg","op",0,null,null,null,0]
["WaalCBS_9geladenaf","Waal","CBS","CBS_9","geladen","af",0,null,null,null,0]
["WaalCBS_9geladenop","Waal","CBS","CBS_9","geladen","op",0,null,null,null,0]
["WaalCBS_9leegaf","Waal","CBS","CBS_9","leeg","af",0,null,null,null,0]
["WaalCBS_9leegop","Waal","CBS","CBS_9","leeg","op",0,null,null,null,0]
["CEMT IBO1geladenbeide","CEMT I","RWS","BO1","geladen","beide",0]
["CEMT IBO2geladenbeide","CEMT I","RWS","BO2","geladen","beide",0]
["CEMT IBO3geladenbeide","CEMT I","RWS","BO3","geladen","beide",0]
["CEMT IBO4geladenbeide","CEMT I","RWS","BO4","geladen","beide",0]
["CEMT IBO1leegbeide","CEMT I","RWS","BO1","leeg","beide",0,null,null,null,0]
["CEMT IBO2leegbeide","CEMT I","RWS","BO2","leeg","beide",0,null,null,null,0]
["CEMT IBO3leegbeide","CEMT I","RWS","BO3","leeg","beide",0,null,null,null,0]
["CEMT IBO4leegbeide","CEMT I","RWS","BO4","leeg","beide",0,null,null,null,0]
["CEMT IC1lgeladenbeide","CEMT I","RWS","C1l","geladen","beide",0,null,null,null,0]
["CEMT IC1lleegbeide","CEMT I","RWS","C1l","leeg","beide",0,null,null,null,0]
["CEMT IM0geladenbeide","CEMT I","RWS","M0","geladen","beide",0,null,null,null,0]
["CEMT IM0leegbeide","CEMT I","RWS","M0","leeg","beide",0,null,null,null,0]
["CEMT IM1geladenbeide","CEMT I","RWS","M1","geladen","beide",0,null,null,null,0]
["CEMT IM1leegbeide","CEMT I","RWS","M1","leeg","beide",0,null,null,null,0]
["CEMT IM2geladenbeide","CEMT I","RWS","M2","geladen","beide",0,null,null,null,0]
["CEMT IM2leegbeide","CEMT I","RWS","M2","leeg","beide",0,null,null,null,0]
["CEMT IM3geladenbeide","CEMT I","RWS","M3","geladen","beide",0,null,null,null,0]
["CEMT IM3leegbeide","CEMT I","RWS","M3","leeg","beide",0,null,null,null,0]
["CEMT IM4geladenbeide","CEMT I","RWS","M4","geladen","beide",0,null,null,null,0]
["CEMT IM4leegbeide","CEMT I","RWS","M4","leeg","beide",0,null,null,null,0]
["CEMT IM5geladenbeide","CEMT I","RWS","M5","geladen","beide",0,null,null,null,0]
["CEMT IM5leegbeide","CEMT I","RWS","M5","leeg","beide",0,null,null,null,0]
["CEMT IM6geladenbeide","CEMT I","RWS","M6","geladen","beide",0,null,null,null,0]
["CEMT IM6leegbeide","CEMT I","RWS","M6","leeg","beide",0,null,null,null,0]
["CEMT IIBIgeladenbeide","CEMT II","RWS","BI","geladen","beide",0,null,null,null,0]
["CEMT IIBIleegbeide","CEMT II","RWS","BI","leeg","beide",0,null,null,null,0]
[{"$f":"+B270&D270&E270&F270","v":"CEMT IIBO1geladenbeide"},"CEMT II","RWS","BO1","geladen","beide",0,null,null,null,0]
["CEMT IIBO1leegbeide","CEMT II","RWS","BO1","leeg","beide",0,null,null,null,{"$f":"+G271*ROW()","v":0}]
["CEMT IIBO2geladenbeide","CEMT II","RWS","BO2","geladen","beide",0,null,null,null,0]
["CEMT IIBO2leegbeide","CEMT II","RWS","BO2","leeg","beide",0,null,null,null,0]
["CEMT IIBO3geladenbeide","CEMT II","RWS","BO3","geladen","beide",0,null,null,null,0]
["CEMT IIBO3leegbeide","CEMT II","RWS","BO3","leeg","beide",0,null,null,null,0]
["CEMT IIBO4geladenbeide","CEMT II","RWS","BO4","geladen","beide",0,null,null,null,0]
["CEMT IIBO4leegbeide","CEMT II","RWS","BO4","leeg","beide",0,null,null,null,0]
["CEMT IIC1lgeladenbeide","CEMT II","RWS","C1l","geladen","beide",0,null,null,null,0]
["CEMT IIC1lleegbeide","CEMT II","RWS","C1l","leeg","beide",0,null,null,null,0]
["CEMT IIM0geladenbeide","CEMT II","RWS","M0","geladen","beide",0,null,null,null,0]
["CEMT IIM0leegbeide","CEMT II","RWS","M0","leeg","beide",0,null,null,null,0]
["CEMT IIM1geladenbeide","CEMT II","RWS","M1","geladen","beide",0,null,null,null,0]
["CEMT IIM1leegbeide","CEMT II","RWS","M1","leeg","beide",0,null,null,null,0]
["CEMT IIM2geladenbeide","CEMT II","RWS","M2","geladen","beide",0,null,null,null,0]
["CEMT IIM2leegbeide","CEMT II","RWS","M2","leeg","beide",0,null,null,null,0]
["CEMT IIM3geladenbeide","CEMT II","RWS","M3","geladen","beide",0,null,null,null,0]
["CEMT IIM3leegbeide","CEMT II","RWS","M3","leeg","beide",0,null,null,null,0]
["CEMT IIM4geladenbeide","CEMT II","RWS","M4","geladen","beide",0,null,null,null,0]
["CEMT IIM4leegbeide","CEMT II","RWS","M4","leeg","beide",0,null,null,null,0]
["CEMT IIM5geladenbeide","CEMT II","RWS","M5","geladen","beide",0,null,null,null,0]
["CEMT IIM5leegbeide","CEMT II","RWS","M5","leeg","beide",0,null,null,null,0]
["CEMT IIM6geladenbeide","CEMT II","RWS","M6","geladen","beide",0,null,null,null,0]
["CEMT IIM6leegbeide","CEMT II","RWS","M6","leeg","beide",0,null,null,null,0]
["CEMT IIM7geladenbeide","CEMT II","RWS","M7","geladen","beide",0,null,null,null,0]
["CEMT IIM7leegbeide","CEMT II","RWS","M7","leeg","beide",0,null,null,null,0]
["CEMT IIIBO1geladenbeide","CEMT III","RWS","BO1","geladen","beide",0,null,null,null,0]
["CEMT IIIBO1leegbeide","CEMT III","RWS","BO1","leeg","beide",0,null,null,null,0]
["CEMT IIIBO2geladenbeide","CEMT III","RWS","BO2","geladen","beide",0,null,null,null,0]
["CEMT IIIBO2leegbeide","CEMT III","RWS","BO2","leeg","beide",0,null,null,null,0]
["CEMT IIIBO3geladenbeide","CEMT III","RWS","BO3","geladen","beide",0,null,null,null,0]
["CEMT IIIBO3leegbeide","CEMT III","RWS","BO3","leeg","beide",0,null,null,null,0]
["CEMT IIIBO4geladenbeide","CEMT III","RWS","BO4","geladen","beide",0,null,null,null,0]
["CEMT IIIBO4leegbeide","CEMT III","RWS","BO4","leeg","beide",0,null,null,null,0]
["CEMT IIIC1lgeladenbeide","CEMT III","RWS","C1l","geladen","beide",0,null,null,null,0]
["CEMT IIIC1lleegbeide","CEMT III","RWS","C1l","leeg","beide",0,null,null,null,0]
["CEMT IIIM0geladenbeide","CEMT III","RWS","M0","geladen","beide",0,null,null,null,0]
["CEMT IIIM0leegbeide","CEMT III","RWS","M0","leeg","beide",0,null,null,null,0]
["CEMT IIIM1geladenbeide","CEMT III","RWS","M1","geladen","beide",0,null,null,null,0]
["CEMT IIIM1leegbeide","CEMT III","RWS","M1","leeg","beide",0,null,null,null,0]
["CEMT IIIM2geladenbeide","CEMT III","RWS","M2","geladen","beide",0,null,null,null,0]
["CEMT IIIM2leegbeide","CEMT III","RWS","M2","leeg","beide",0,null,null,null,0]
["CEMT IIIM3geladenbeide","CEMT III","RWS","M3","geladen","beide",0,null,null,null,0]
["CEMT IIIM3leegbeide","CEMT III","RWS","M3","leeg","beide",0,null,null,null,0]
["CEMT IIIM4geladenbeide","CEMT III","RWS","M4","geladen","beide",0,null,null,null,0]
["CEMT IIIM4leegbeide","CEMT III","RWS","M4","leeg","beide",0,null,null,null,0]
["CEMT IIIM5geladenbeide","CEMT III","RWS","M5","geladen","beide",0,null,null,null,0]
["CEMT IIIM5leegbeide","CEMT III","RWS","M5","leeg","beide",0,null,null,null,0]
["CEMT IIIM6geladenbeide","CEMT III","RWS","M6","geladen","beide",0,null,null,null,0]
["CEMT IIIM6leegbeide","CEMT III","RWS","M6","leeg","beide",0,null,null,null,0]
["CEMT IVBIgeladenbeide","CEMT IV","RWS","BI","geladen","beide",0,null,null,null,0]
["CEMT IVBIleegbeide","CEMT IV","RWS","BI","leeg","beide",0,null,null,null,0]
["CEMT IVBII-1geladenbeide","CEMT IV","RWS","BII-1","geladen","beide",0,null,null,null,0]
["CEMT IVBII-1leegbeide","CEMT IV","RWS","BII-1","leeg","beide",0,null,null,null,0]
["CEMT IVBO1geladenbeide","CEMT IV","RWS","BO1","geladen","beide",0,null,null,null,0]
["CEMT IVBO1leegbeide","CEMT IV","RWS","BO1","leeg","beide",0,null,null,null,0]
["CEMT IVBO2geladenbeide","CEMT IV","RWS","BO2","geladen","beide",0,null,null,null,0]
["CEMT IVBO2leegbeide","CEMT IV","RWS","BO2","leeg","beide",0,null,null,null,0]
["CEMT IVBO3geladenbeide","CEMT IV","RWS","BO3","geladen","beide",0,null,null,null,0]
["CEMT IVBO3leegbeide","CEMT IV","RWS","BO3","leeg","beide",0,null,null,null,0]
["CEMT IVBO4geladenbeide","CEMT IV","RWS","BO4","geladen","beide",0,null,null,null,0]
["CEMT IVBO4leegbeide","CEMT IV","RWS","BO4","leeg","beide",0,null,null,null,0]
["CEMT IVC1bgeladenbeide","CEMT IV","RWS","C1b","geladen","beide",0,null,null,null,0]
["CEMT IVC1bleegbeide","CEMT IV","RWS","C1b","leeg","beide",0,null,null,null,0]
[{"$f":"+B334&D334&E334&F334","v":"CEMT IVC1lgeladenbeide"},"CEMT IV","RWS","C1l","geladen","beide",0,null,null,null,0]
["CEMT IVC1lleegbeide","CEMT IV","RWS","C1l","leeg","beide",0,null,null,null,{"$f":"+G335*ROW()","v":0}]
["CEMT IVM0geladenbeide","CEMT IV","RWS","M0","geladen","beide",0,null,null,null,0]
["CEMT IVM0leegbeide","CEMT IV","RWS","M0","leeg","beide",0,null,null,null,0]
["CEMT IVM1geladenbeide","CEMT IV","RWS","M1","geladen","beide",0,null,null,null,0]
["CEMT IVM1leegbeide","CEMT IV","RWS","M1","leeg","beide",0,null,null,null,0]
["CEMT IVM2geladenbeide","CEMT IV","RWS","M2","geladen","beide",0,null,null,null,0]
["CEMT IVM2leegbeide","CEMT IV","RWS","M2","leeg","beide",0,null,null,null,0]
["CEMT IVM3geladenbeide","CEMT IV","RWS","M3","geladen","beide",0,null,null,null,0]
["CEMT IVM3leegbeide","CEMT IV","RWS","M3","leeg","beide",0,null,null,null,0]
["CEMT IVM4geladenbeide","CEMT IV","RWS","M4","geladen","beide",0,null,null,null,0]
["CEMT IVM4leegbeide","CEMT IV","RWS","M4","leeg","beide",0,null,null,null,0]
["CEMT IVM5geladenbeide","CEMT IV","RWS","M5","geladen","beide",0,null,null,null,0]
["CEMT IVM5leegbeide","CEMT IV","RWS","M5","leeg","beide",0,null,null,null,0]
["CEMT IVM6geladenbeide","CEMT IV","RWS","M6","geladen","beide",0,null,null,null,0]
["CEMT IVM6leegbeide","CEMT IV","RWS","M6","leeg","beide",0,null,null,null,0]
["CEMT IVM7geladenbeide","CEMT IV","RWS","M7","geladen","beide",0,null,null,null,0]
["CEMT IVM7leegbeide","CEMT IV","RWS","M7","leeg","beide",0,null,null,null,0]
["CEMT IVM8geladenbeide","CEMT IV","RWS","M8","geladen","beide",0,null,null,null,0]
["CEMT IVM8leegbeide","CEMT IV","RWS","M8","leeg","beide",0,null,null,null,0]
["CEMT VaBIgeladenbeide","CEMT Va","RWS","BI","geladen","beide",0,null,null,null,0]
["CEMT VaBIleegbeide","CEMT Va","RWS","BI","leeg","beide",0,null,null,null,0]
["CEMT VaBII-1geladenbeide","CEMT Va","RWS","BII-1","geladen","beide",0,null,null,null,0]
["CEMT VaBII-1leegbeide","CEMT Va","RWS","BII-1","leeg","beide",0,null,null,null,0]
["CEMT VaBII-2Bgeladenbeide","CEMT Va","RWS","BII-2B","geladen","beide",0,null,null,null,0]
["CEMT VaBII-2Bleegbeide","CEMT Va","RWS","BII-2B","leeg","beide",0,null,null,null,0]
["CEMT VaBII-2Lgeladenbeide","CEMT Va","RWS","BII-2L","geladen","beide",0,null,null,null,0]
["CEMT VaBII-2Lleegbeide","CEMT Va","RWS","BII-2L","leeg","beide",0,null,null,null,0]
["CEMT VaBO1geladenbeide","CEMT Va","RWS","BO1","geladen","beide",0,null,null,null,0]
["CEMT VaBO1leegbeide","CEMT Va","RWS","BO1","leeg","beide",0,null,null,null,0]
["CEMT VaBO2geladenbeide","CEMT Va","RWS","BO2","geladen","beide",0,null,null,null,0]
["CEMT VaBO2leegbeide","CEMT Va","RWS","BO2","leeg","beide",0,null,null,null,0]
["CEMT VaBO3geladenbeide","CEMT Va","RWS","BO3","geladen","beide",0,null,null,null,0]
["CEMT VaBO3leegbeide","CEMT Va","RWS","BO3","leeg","beide",0,null,null,null,0]
["CEMT VaBO4geladenbeide","CEMT Va","RWS","BO4","geladen","beide",0,null,null,null,0]
["CEMT VaBO4leegbeide","CEMT Va","RWS","BO4","leeg","beide",0,null,null,null,0]
["CEMT VaC1bgeladenbeide","CEMT Va","RWS","C1b","geladen","beide",0,null,null,null,0]
["CEMT VaC1bleegbeide","CEMT Va","RWS","C1b","leeg","beide",0,null,null,null,0]
["CEMT VaC1lgeladenbeide","CEMT Va","RWS","C1l","geladen","beide",0,null,null,null,0]
["CEMT VaC1lleegbeide","CEMT Va","RWS","C1l","leeg","beide",0,null,null,null,0]
["CEMT VaC2bgeladenbeide","CEMT Va","RWS","C2b","geladen","beide",0,null,null,null,0]
["CEMT VaC2bleegbeide","CEMT Va","RWS","C2b","leeg","beide",0,null,null,null,0]
["CEMT VaC2lgeladenbeide","CEMT Va","RWS","C2l","geladen","beide",0,null,null,null,0]
["CEMT VaC2lleegbeide","CEMT Va","RWS","C2l","leeg","beide",0,null,null,null,0]
["CEMT VaC3lgeladenbeide","CEMT Va","RWS","C3l","geladen","beide",0,null,null,null,0]
["CEMT VaC3lleegbeide","CEMT Va","RWS","C3l","leeg","beide",0,null,null,null,0]
["CEMT VaC4geladenbeide","CEMT Va","RWS","C4","geladen","beide",0,null,null,null,0]
["CEMT VaC4leegbeide","CEMT Va","RWS","C4","leeg","beide",0,null,null,null,0]
["CEMT VaM0geladenbeide","CEMT Va","RWS","M0","geladen","beide",0,null,null,null,0]
["CEMT VaM0leegbeide","CEMT Va","RWS","M0","leeg","beide",0,null,null,null,0]
["CEMT VaM1geladenbeide","CEMT Va","RWS","M1","geladen","beide",0,null,null,null,0]
["CEMT VaM1leegbeide","CEMT Va","RWS","M1","leeg","beide",0,null,null,null,0]
["CEMT VaM10geladenbeide","CEMT Va","RWS","M10","geladen","beide",0,null,null,null,0]
["CEMT VaM10leegbeide","CEMT Va","RWS","M10","leeg","beide",0,null,null,null,0]
["CEMT VaM2geladenbeide","CEMT Va","RWS","M2","geladen","beide",0,null,null,null,0]
["CEMT VaM2leegbeide","CEMT Va","RWS","M2","leeg","beide",0,null,null,null,0]
["CEMT VaM3geladenbeide","CEMT Va","RWS","M3","geladen","beide",0,null,null,null,0]
["CEMT VaM3leegbeide","CEMT Va","RWS","M3","leeg","beide",0,null,null,null,0]
["CEMT VaM4geladenbeide","CEMT Va","RWS","M4","geladen","beide",0,null,null,null,0]
["CEMT VaM4leegbeide","CEMT Va","RWS","M4","leeg","beide",0,null,null,null,0]
["CEMT VaM5geladenbeide","CEMT Va","RWS","M5","geladen","beide",0,null,null,null,0]
["CEMT VaM5leegbeide","CEMT Va","RWS","M5","leeg","beide",0,null,null,null,0]
["CEMT VaM6geladenbeide","CEMT Va","RWS","M6","geladen","beide",0,null,null,null,0]
[{"$f":"+B397&D397&E397&F397","v":"CEMT VaM6leegbeide"},"CEMT Va","RWS","M6","leeg","beide",0,null,null,null,0]
["CEMT VaM7geladenbeide","CEMT Va","RWS","M7","geladen","beide",0,null,null,null,{"$f":"+G398*ROW()","v":0}]
["CEMT VaM7leegbeide","CEMT Va","RWS","M7","leeg","beide",0,null,null,null,0]
["CEMT VaM8geladenbeide","CEMT Va","RWS","M8","geladen","beide",0,null,null,null,0]
["CEMT VaM8leegbeide","CEMT Va","RWS","M8","leeg","beide",0,null,null,null,0]
["CEMT VaM9geladenbeide","CEMT Va","RWS","M9","geladen","beide",0,null,null,null,0]
["CEMT VaM9leegbeide","CEMT Va","RWS","M9","leeg","beide",0,null,null,null,0]
["CEMT VbBIgeladenbeide","CEMT Vb","RWS","BI","geladen","beide",0,null,null,null,0]
["CEMT VbBIleegbeide","CEMT Vb","RWS","BI","leeg","beide",0,null,null,null,0]
["CEMT VbBII-1geladenbeide","CEMT Vb","RWS","BII-1","geladen","beide",0,null,null,null,0]
["CEMT VbBII-1leegbeide","CEMT Vb","RWS","BII-1","leeg","beide",0,null,null,null,0]
["CEMT VbBII-2Lgeladenbeide","CEMT Vb","RWS","BII-2L","geladen","beide",0,null,null,null,0]
["CEMT VbBII-2Lleegbeide","CEMT Vb","RWS","BII-2L","leeg","beide",0,null,null,null,0]
["CEMT VbBO1geladenbeide","CEMT Vb","RWS","BO1","geladen","beide",0,null,null,null,0]
["CEMT VbBO1leegbeide","CEMT Vb","RWS","BO1","leeg","beide",0,null,null,null,0]
["CEMT VbBO2geladenbeide","CEMT Vb","RWS","BO2","geladen","beide",0,null,null,null,0]
["CEMT VbBO2leegbeide","CEMT Vb","RWS","BO2","leeg","beide",0,null,null,null,0]
["CEMT VbBO3geladenbeide","CEMT Vb","RWS","BO3","geladen","beide",0,null,null,null,0]
["CEMT VbBO3leegbeide","CEMT Vb","RWS","BO3","leeg","beide",0,null,null,null,0]
["CEMT VbBO4geladenbeide","CEMT Vb","RWS","BO4","geladen","beide",0,null,null,null,0]
["CEMT VbBO4leegbeide","CEMT Vb","RWS","BO4","leeg","beide",0,null,null,null,0]
["CEMT VbC1bgeladenbeide","CEMT Vb","RWS","C1b","geladen","beide",0,null,null,null,0]
["CEMT VbC1bleegbeide","CEMT Vb","RWS","C1b","leeg","beide",0,null,null,null,0]
["CEMT VbC1lgeladenbeide","CEMT Vb","RWS","C1l","geladen","beide",0,null,null,null,0]
["CEMT VbC1lleegbeide","CEMT Vb","RWS","C1l","leeg","beide",0,null,null,null,0]
["CEMT VbC2bgeladenbeide","CEMT Vb","RWS","C2b","geladen","beide",0,null,null,null,0]
["CEMT VbC2bleegbeide","CEMT Vb","RWS","C2b","leeg","beide",0,null,null,null,0]
["CEMT VbC2lgeladenbeide","CEMT Vb","RWS","C2l","geladen","beide",0,null,null,null,0]
["CEMT VbC2lleegbeide","CEMT Vb","RWS","C2l","leeg","beide",0,null,null,null,0]
["CEMT VbC3lgeladenbeide","CEMT Vb","RWS","C3l","geladen","beide",0,null,null,null,0]
["CEMT VbC3lleegbeide","CEMT Vb","RWS","C3l","leeg","beide",0,null,null,null,0]
["CEMT VbM0geladenbeide","CEMT Vb","RWS","M0","geladen","beide",0,null,null,null,0]
["CEMT VbM0leegbeide","CEMT Vb","RWS","M0","leeg","beide",0,null,null,null,0]
["CEMT VbM1geladenbeide","CEMT Vb","RWS","M1","geladen","beide",0,null,null,null,0]
["CEMT VbM1leegbeide","CEMT Vb","RWS","M1","leeg","beide",0,null,null,null,0]
["CEMT VbM10geladenbeide","CEMT Vb","RWS","M10","geladen","beide",0,null,null,null,0]
["CEMT VbM10leegbeide","CEMT Vb","RWS","M10","leeg","beide",0,null,null,null,0]
["CEMT VbM2geladenbeide","CEMT Vb","RWS","M2","geladen","beide",0,null,null,null,0]
["CEMT VbM2leegbeide","CEMT Vb","RWS","M2","leeg","beide",0,null,null,null,0]
["CEMT VbM3geladenbeide","CEMT Vb","RWS","M3","geladen","beide",0,null,null,null,0]
["CEMT VbM3leegbeide","CEMT Vb","RWS","M3","leeg","beide",0,null,null,null,0]
["CEMT VbM4geladenbeide","CEMT Vb","RWS","M4","geladen","beide",0,null,null,null,0]
["CEMT VbM4leegbeide","CEMT Vb","RWS","M4","leeg","beide",0,null,null,null,0]
["CEMT VbM5geladenbeide","CEMT Vb","RWS","M5","geladen","beide",0,null,null,null,0]
["CEMT VbM5leegbeide","CEMT Vb","RWS","M5","leeg","beide",0,null,null,null,0]
["CEMT VbM6geladenbeide","CEMT Vb","RWS","M6","geladen","beide",0,null,null,null,0]
["CEMT VbM6leegbeide","CEMT Vb","RWS","M6","leeg","beide",0,null,null,null,0]
["CEMT VbM7geladenbeide","CEMT Vb","RWS","M7","geladen","beide",0,null,null,null,0]
["CEMT VbM7leegbeide","CEMT Vb","RWS","M7","leeg","beide",0,null,null,null,0]
["CEMT VbM8geladenbeide","CEMT Vb","RWS","M8","geladen","beide",0,null,null,null,0]
["CEMT VbM8leegbeide","CEMT Vb","RWS","M8","leeg","beide",0,null,null,null,0]
["CEMT VbM9geladenbeide","CEMT Vb","RWS","M9","geladen","beide",0,null,null,null,0]
["CEMT VbM9leegbeide","CEMT Vb","RWS","M9","leeg","beide",0,null,null,null,0]
["CEMT VIaBIgeladenbeide","CEMT VIa","RWS","BI","geladen","beide",0,null,null,null,0]
["CEMT VIaBIleegbeide","CEMT VIa","RWS","BI","leeg","beide",0,null,null,null,0]
["CEMT VIaBII-1geladenbeide","CEMT VIa","RWS","BII-1","geladen","beide",0,null,null,null,0]
["CEMT VIaBII-1leegbeide","CEMT VIa","RWS","BII-1","leeg","beide",0,null,null,null,0]
["CEMT VIaBO1geladenbeide","CEMT VIa","RWS","BO1","geladen","beide",0,null,null,null,0]
["CEMT VIaBO1leegbeide","CEMT VIa","RWS","BO1","leeg","beide",0,null,null,null,0]
["CEMT VIaBO2geladenbeide","CEMT VIa","RWS","BO2","geladen","beide",0,null,null,null,0]
["CEMT VIaBO2leegbeide","CEMT VIa","RWS","BO2","leeg","beide",0,null,null,null,0]
["CEMT VIaBO3geladenbeide","CEMT VIa","RWS","BO3","geladen","beide",0,null,null,null,0]
["CEMT VIaBO3leegbeide","CEMT VIa","RWS","BO3","leeg","beide",0,null,null,null,0]
["CEMT VIaBO4geladenbeide","CEMT VIa","RWS","BO4","geladen","beide",0,null,null,null,0]
[{"$f":"+B461&D461&E461&F461","v":"CEMT VIaBO4leegbeide"},"CEMT VIa","RWS","BO4","leeg","beide",0,null,null,null,0]
["CEMT VIaC1bgeladenbeide","CEMT VIa","RWS","C1b","geladen","beide",0,null,null,null,{"$f":"+G462*ROW()","v":0}]
["CEMT VIaC1bleegbeide","CEMT VIa","RWS","C1b","leeg","beide",0,null,null,null,0]
["CEMT VIaC1lgeladenbeide","CEMT VIa","RWS","C1l","geladen","beide",0,null,null,null,0]
["CEMT VIaC1lleegbeide","CEMT VIa","RWS","C1l","leeg","beide",0,null,null,null,0]
["CEMT VIaC2lgeladenbeide","CEMT VIa","RWS","C2l","geladen","beide",0,null,null,null,0]
["CEMT VIaC2lleegbeide","CEMT VIa","RWS","C2l","leeg","beide",0,null,null,null,0]
["CEMT VIaM0geladenbeide","CEMT VIa","RWS","M0","geladen","beide",0,null,null,null,0]
["CEMT VIaM0leegbeide","CEMT VIa","RWS","M0","leeg","beide",0,null,null,null,0]
["CEMT VIaM1geladenbeide","CEMT VIa","RWS","M1","geladen","beide",0,null,null,null,0]
["CEMT VIaM1leegbeide","CEMT VIa","RWS","M1","leeg","beide",0,null,null,null,0]
["CEMT VIaM10geladenbeide","CEMT VIa","RWS","M10","geladen","beide",0,null,null,null,0]
["CEMT VIaM10leegbeide","CEMT VIa","RWS","M10","leeg","beide",0,null,null,null,0]
["CEMT VIaM11geladenbeide","CEMT VIa","RWS","M11","geladen","beide",0,null,null,null,0]
["CEMT VIaM11leegbeide","CEMT VIa","RWS","M11","leeg","beide",0,null,null,null,0]
["CEMT VIaM12geladenbeide","CEMT VIa","RWS","M12","geladen","beide",0,null,null,null,0]
["CEMT VIaM12leegbeide","CEMT VIa","RWS","M12","leeg","beide",0,null,null,null,0]
["CEMT VIaM2geladenbeide","CEMT VIa","RWS","M2","geladen","beide",0,null,null,null,0]
["CEMT VIaM2leegbeide","CEMT VIa","RWS","M2","leeg","beide",0,null,null,null,0]
["CEMT VIaM3geladenbeide","CEMT VIa","RWS","M3","geladen","beide",0,null,null,null,0]
["CEMT VIaM3leegbeide","CEMT VIa","RWS","M3","leeg","beide",0,null,null,null,0]
["CEMT VIaM4geladenbeide","CEMT VIa","RWS","M4","geladen","beide",0,null,null,null,0]
["CEMT VIaM4leegbeide","CEMT VIa","RWS","M4","leeg","beide",0,null,null,null,0]
["CEMT VIaM5geladenbeide","CEMT VIa","RWS","M5","geladen","beide",0,null,null,null,0]
["CEMT VIaM5leegbeide","CEMT VIa","RWS","M5","leeg","beide",0,null,null,null,0]
["CEMT VIaM6geladenbeide","CEMT VIa","RWS","M6","geladen","beide",0,null,null,null,0]
["CEMT VIaM6leegbeide","CEMT VIa","RWS","M6","leeg","beide",0,null,null,null,0]
["CEMT VIaM7geladenbeide","CEMT VIa","RWS","M7","geladen","beide",0,null,null,null,0]
["CEMT VIaM7leegbeide","CEMT VIa","RWS","M7","leeg","beide",0,null,null,null,0]
["CEMT VIaM8geladenbeide","CEMT VIa","RWS","M8","geladen","beide",0,null,null,null,0]
["CEMT VIaM8leegbeide","CEMT VIa","RWS","M8","leeg","beide",0,null,null,null,0]
["CEMT VIaM9geladenbeide","CEMT VIa","RWS","M9","geladen","beide",0,null,null,null,0]
["CEMT VIaM9leegbeide","CEMT VIa","RWS","M9","leeg","beide",0,null,null,null,0]
["CEMT VIbBIgeladenbeide","CEMT VIb","RWS","BI","geladen","beide",0,null,null,null,0]
["CEMT VIbBIleegbeide","CEMT VIb","RWS","BI","leeg","beide",0,null,null,null,0]
["CEMT VIbBII-1geladenbeide","CEMT VIb","RWS","BII-1","geladen","beide",0,null,null,null,0]
["CEMT VIbBII-1leegbeide","CEMT VIb","RWS","BII-1","leeg","beide",0,null,null,null,0]
["CEMT VIbBII-2Bgeladenbeide","CEMT VIb","RWS","BII-2B","geladen","beide",0,null,null,null,0]
["CEMT VIbBII-2Bleegbeide","CEMT VIb","RWS","BII-2B","leeg","beide",0,null,null,null,0]
["CEMT VIbBII-2Lgeladenbeide","CEMT VIb","RWS","BII-2L","geladen","beide",0,null,null,null,0]
["CEMT VIbBII-2Lleegbeide","CEMT VIb","RWS","BII-2L","leeg","beide",0,null,null,null,0]
["CEMT VIbBII-4geladenbeide","CEMT VIb","RWS","BII-4","geladen","beide",0,null,null,null,0]
["CEMT VIbBII-4leegbeide","CEMT VIb","RWS","BII-4","leeg","beide",0,null,null,null,0]
["CEMT VIbBII-6Bgeladenbeide","CEMT VIb","RWS","BII-6B","geladen","beide",0,null,null,null,0]
["CEMT VIbBII-6Bleegbeide","CEMT VIb","RWS","BII-6B","leeg","beide",0,null,null,null,0]
["CEMT VIbBII-6Lgeladenbeide","CEMT VIb","RWS","BII-6L","geladen","beide",0,null,null,null,0]
["CEMT VIbBII-6Lleegbeide","CEMT VIb","RWS","BII-6L","leeg","beide",0,null,null,null,0]
["CEMT VIbBO1geladenbeide","CEMT VIb","RWS","BO1","geladen","beide",0,null,null,null,0]
["CEMT VIbBO1leegbeide","CEMT VIb","RWS","BO1","leeg","beide",0,null,null,null,0]
["CEMT VIbBO2geladenbeide","CEMT VIb","RWS","BO2","geladen","beide",0,null,null,null,0]
["CEMT VIbBO2leegbeide","CEMT VIb","RWS","BO2","leeg","beide",0,null,null,null,0]
["CEMT VIbBO3geladenbeide","CEMT VIb","RWS","BO3","geladen","beide",0,null,null,null,0]
["CEMT VIbBO3leegbeide","CEMT VIb","RWS","BO3","leeg","beide",0,null,null,null,0]
["CEMT VIbBO4geladenbeide","CEMT VIb","RWS","BO4","geladen","beide",0,null,null,null,0]
["CEMT VIbBO4leegbeide","CEMT VIb","RWS","BO4","leeg","beide",0,null,null,null,0]
["CEMT VIbC1bgeladenbeide","CEMT VIb","RWS","C1b","geladen","beide",0,null,null,null,0]
["CEMT VIbC1bleegbeide","CEMT VIb","RWS","C1b","leeg","beide",0,null,null,null,0]
["CEMT VIbC1lgeladenbeide","CEMT VIb","RWS","C1l","geladen","beide",0,null,null,null,0]
["CEMT VIbC1lleegbeide","CEMT VIb","RWS","C1l","leeg","beide",0,null,null,null,0]
["CEMT VIbC2bgeladenbeide","CEMT VIb","RWS","C2b","geladen","beide",0,null,null,null,0]
["CEMT VIbC2bleegbeide","CEMT VIb","RWS","C2b","leeg","beide",0,null,null,null,0]
["CEMT VIbC2lgeladenbeide","CEMT VIb","RWS","C2l","geladen","beide",0,null,null,null,0]
["CEMT VIbC2lleegbeide","CEMT VIb","RWS","C2l","leeg","beide",0,null,null,null,0]
["CEMT VIbC3bgeladenbeide","CEMT VIb","RWS","C3b","geladen","beide",0,null,null,null,0]
[{"$f":"+B525&D525&E525&F525","v":"CEMT VIbC3bleegbeide"},"CEMT VIb","RWS","C3b","leeg","beide",0,null,null,null,0]
["CEMT VIbC3lgeladenbeide","CEMT VIb","RWS","C3l","geladen","beide",0,null,null,null,{"$f":"+G526*ROW()","v":0}]
["CEMT VIbC3lleegbeide","CEMT VIb","RWS","C3l","leeg","beide",0,null,null,null,0]
["CEMT VIbC4geladenbeide","CEMT VIb","RWS","C4","geladen","beide",0,null,null,null,0]
["CEMT VIbC4leegbeide","CEMT VIb","RWS","C4","leeg","beide",0,null,null,null,0]
["CEMT VIbM0geladenbeide","CEMT VIb","RWS","M0","geladen","beide",0,null,null,null,0]
["CEMT VIbM0leegbeide","CEMT VIb","RWS","M0","leeg","beide",0,null,null,null,0]
["CEMT VIbM1geladenbeide","CEMT VIb","RWS","M1","geladen","beide",0,null,null,null,0]
["CEMT VIbM1leegbeide","CEMT VIb","RWS","M1","leeg","beide",0,null,null,null,0]
["CEMT VIbM10geladenbeide","CEMT VIb","RWS","M10","geladen","beide",0,null,null,null,0]
["CEMT VIbM10leegbeide","CEMT VIb","RWS","M10","leeg","beide",0,null,null,null,0]
["CEMT VIbM11geladenbeide","CEMT VIb","RWS","M11","geladen","beide",0,null,null,null,0]
["CEMT VIbM11leegbeide","CEMT VIb","RWS","M11","leeg","beide",0,null,null,null,0]
["CEMT VIbM12geladenbeide","CEMT VIb","RWS","M12","geladen","beide",0,null,null,null,0]
["CEMT VIbM12leegbeide","CEMT VIb","RWS","M12","leeg","beide",0,null,null,null,0]
["CEMT VIbM2geladenbeide","CEMT VIb","RWS","M2","geladen","beide",0,null,null,null,0]
["CEMT VIbM2leegbeide","CEMT VIb","RWS","M2","leeg","beide",0,null,null,null,0]
["CEMT VIbM3geladenbeide","CEMT VIb","RWS","M3","geladen","beide",0,null,null,null,0]
["CEMT VIbM3leegbeide","CEMT VIb","RWS","M3","leeg","beide",0,null,null,null,0]
["CEMT VIbM4geladenbeide","CEMT VIb","RWS","M4","geladen","beide",0,null,null,null,0]
["CEMT VIbM4leegbeide","CEMT VIb","RWS","M4","leeg","beide",0,null,null,null,0]
["CEMT VIbM5geladenbeide","CEMT VIb","RWS","M5","geladen","beide",0,null,null,null,0]
["CEMT VIbM5leegbeide","CEMT VIb","RWS","M5","leeg","beide",0,null,null,null,0]
["CEMT VIbM6geladenbeide","CEMT VIb","RWS","M6","geladen","beide",0,null,null,null,0]
["CEMT VIbM6leegbeide","CEMT VIb","RWS","M6","leeg","beide",0,null,null,null,0]
["CEMT VIbM7geladenbeide","CEMT VIb","RWS","M7","geladen","beide",0,null,null,null,0]
["CEMT VIbM7leegbeide","CEMT VIb","RWS","M7","leeg","beide",0,null,null,null,0]
["CEMT VIbM8geladenbeide","CEMT VIb","RWS","M8","geladen","beide",0,null,null,null,0]
["CEMT VIbM8leegbeide","CEMT VIb","RWS","M8","leeg","beide",0,null,null,null,0]
["CEMT VIbM9geladenbeide","CEMT VIb","RWS","M9","geladen","beide",0,null,null,null,0]
["CEMT VIbM9leegbeide","CEMT VIb","RWS","M9","leeg","beide",0,null,null,null,0]
["CEMT VIcBIgeladenbeide","CEMT VIc","RWS","BI","geladen","beide",0,null,null,null,0]
["CEMT VIcBIleegbeide","CEMT VIc","RWS","BI","leeg","beide",0,null,null,null,0]
["CEMT VIcBII-1geladenbeide","CEMT VIc","RWS","BII-1","geladen","beide",0,null,null,null,0]
["CEMT VIcBII-1leegbeide","CEMT VIc","RWS","BII-1","leeg","beide",0,null,null,null,0]
["CEMT VIcBII-2Bgeladenbeide","CEMT VIc","RWS","BII-2B","geladen","beide",0,null,null,null,0]
["CEMT VIcBII-2Bleegbeide","CEMT VIc","RWS","BII-2B","leeg","beide",0,null,null,null,0]
["CEMT VIcBII-2Lgeladenbeide","CEMT VIc","RWS","BII-2L","geladen","beide",0,null,null,null,0]
["CEMT VIcBII-2Lleegbeide","CEMT VIc","RWS","BII-2L","leeg","beide",0,null,null,null,0]
["CEMT VIcBII-4geladenbeide","CEMT VIc","RWS","BII-4","geladen","beide",0,null,null,null,0]
["CEMT VIcBII-4leegbeide","CEMT VIc","RWS","BII-4","leeg","beide",0,null,null,null,0]
["CEMT VIcBII-6Bgeladenbeide","CEMT VIc","RWS","BII-6B","geladen","beide",0,null,null,null,0]
["CEMT VIcBII-6Bleegbeide","CEMT VIc","RWS","BII-6B","leeg","beide",0,null,null,null,0]
["CEMT VIcBII-6Lgeladenbeide","CEMT VIc","RWS","BII-6L","geladen","beide",0,null,null,null,0]
["CEMT VIcBII-6Lleegbeide","CEMT VIc","RWS","BII-6L","leeg","beide",0,null,null,null,0]
["CEMT VIcBO1geladenbeide","CEMT VIc","RWS","BO1","geladen","beide",0,null,null,null,0]
["CEMT VIcBO1leegbeide","CEMT VIc","RWS","BO1","leeg","beide",0,null,null,null,0]
["CEMT VIcBO2geladenbeide","CEMT VIc","RWS","BO2","geladen","beide",0,null,null,null,0]
["CEMT VIcBO2leegbeide","CEMT VIc","RWS","BO2","leeg","beide",0,null,null,null,0]
["CEMT VIcBO3geladenbeide","CEMT VIc","RWS","BO3","geladen","beide",0,null,null,null,0]
["CEMT VIcBO3leegbeide","CEMT VIc","RWS","BO3","leeg","beide",0,null,null,null,0]
["CEMT VIcBO4geladenbeide","CEMT VIc","RWS","BO4","geladen","beide",0,null,null,null,0]
["CEMT VIcBO4leegbeide","CEMT VIc","RWS","BO4","leeg","beide",0,null,null,null,0]
["CEMT VIcC1bgeladenbeide","CEMT VIc","RWS","C1b","geladen","beide",0,null,null,null,0]
["CEMT VIcC1bleegbeide","CEMT VIc","RWS","C1b","leeg","beide",0,null,null,null,0]
["CEMT VIcC1lgeladenbeide","CEMT VIc","RWS","C1l","geladen","beide",0,null,null,null,0]
["CEMT VIcC1lleegbeide","CEMT VIc","RWS","C1l","leeg","beide",0,null,null,null,0]
["CEMT VIcC2bgeladenbeide","CEMT VIc","RWS","C2b","geladen","beide",0,null,null,null,0]
["CEMT VIcC2bleegbeide","CEMT VIc","RWS","C2b","leeg","beide",0,null,null,null,0]
["CEMT VIcC2lgeladenbeide","CEMT VIc","RWS","C2l","geladen","beide",0,null,null,null,0]
["CEMT VIcC2lleegbeide","CEMT VIc","RWS","C2l","leeg","beide",0,null,null,null,0]
["CEMT VIcC3bgeladenbeide","CEMT VIc","RWS","C3b","geladen","beide",0,null,null,null,0]
["CEMT VIcC3bleegbeide","CEMT VIc","RWS","C3b","leeg","beide",0,null,null,null,0]
["CEMT VIcC3lgeladenbeide","CEMT VIc","RWS","C3l","geladen","beide",0,null,null,null,0]
[{"$f":"+B589&D589&E589&F589","v":"CEMT VIcC3lleegbeide"},"CEMT VIc","RWS","C3l","leeg","beide",0,null,null,null,0]
["CEMT VIcC4geladenbeide","CEMT VIc","RWS","C4","geladen","beide",0,null,null,null,{"$f":"+G590*ROW()","v":0}]
["CEMT VIcC4leegbeide","CEMT VIc","RWS","C4","leeg","beide",0,null,null,null,0]
["CEMT VIcM0geladenbeide","CEMT VIc","RWS","M0","geladen","beide",0,null,null,null,0]
["CEMT VIcM0leegbeide","CEMT VIc","RWS","M0","leeg","beide",0,null,null,null,0]
["CEMT VIcM1geladenbeide","CEMT VIc","RWS","M1","geladen","beide",0,null,null,null,0]
["CEMT VIcM1leegbeide","CEMT VIc","RWS","M1","leeg","beide",0,null,null,null,0]
["CEMT VIcM10geladenbeide","CEMT VIc","RWS","M10","geladen","beide",0,null,null,null,0]
["CEMT VIcM10leegbeide","CEMT VIc","RWS","M10","leeg","beide",0,null,null,null,0]
["CEMT VIcM11geladenbeide","CEMT VIc","RWS","M11","geladen","beide",0,null,null,null,0]
["CEMT VIcM11leegbeide","CEMT VIc","RWS","M11","leeg","beide",0,null,null,null,0]
["CEMT VIcM12geladenbeide","CEMT VIc","RWS","M12","geladen","beide",0,null,null,null,0]
["CEMT VIcM12leegbeide","CEMT VIc","RWS","M12","leeg","beide",0,null,null,null,0]
["CEMT VIcM2geladenbeide","CEMT VIc","RWS","M2","geladen","beide",0,null,null,null,0]
["CEMT VIcM2leegbeide","CEMT VIc","RWS","M2","leeg","beide",0,null,null,null,0]
["CEMT VIcM3geladenbeide","CEMT VIc","RWS","M3","geladen","beide",0,null,null,null,0]
["CEMT VIcM3leegbeide","CEMT VIc","RWS","M3","leeg","beide",0,null,null,null,0]
["CEMT VIcM4geladenbeide","CEMT VIc","RWS","M4","geladen","beide",0,null,null,null,0]
["CEMT VIcM4leegbeide","CEMT VIc","RWS","M4","leeg","beide",0,null,null,null,0]
["CEMT VIcM5geladenbeide","CEMT VIc","RWS","M5","geladen","beide",0,null,null,null,0]
["CEMT VIcM5leegbeide","CEMT VIc","RWS","M5","leeg","beide",0,null,null,null,0]
["CEMT VIcM6geladenbeide","CEMT VIc","RWS","M6","geladen","beide",0,null,null,null,0]
["CEMT VIcM6leegbeide","CEMT VIc","RWS","M6","leeg","beide",0,null,null,null,0]
["CEMT VIcM7geladenbeide","CEMT VIc","RWS","M7","geladen","beide",0,null,null,null,0]
["CEMT VIcM7leegbeide","CEMT VIc","RWS","M7","leeg","beide",0,null,null,null,0]
["CEMT VIcM8geladenbeide","CEMT VIc","RWS","M8","geladen","beide",0,null,null,null,0]
["CEMT VIcM8leegbeide","CEMT VIc","RWS","M8","leeg","beide",0,null,null,null,0]
["CEMT VIcM9geladenbeide","CEMT VIc","RWS","M9","geladen","beide",0,null,null,null,0]
["CEMT VIcM9leegbeide","CEMT VIc","RWS","M9","leeg","beide",0,null,null,null,0]
["IJsselBIgeladenaf","IJssel","RWS","BI","geladen","af",0,null,null,null,0]
["IJsselBIgeladenop","IJssel","RWS","BI","geladen","op",0,null,null,null,0]
["IJsselBIleegaf","IJssel","RWS","BI","leeg","af",0,null,null,null,0]
["IJsselBIleegop","IJssel","RWS","BI","leeg","op",0,null,null,null,0]
["IJsselBII-1geladenaf","IJssel","RWS","BII-1","geladen","af",0,null,null,null,0]
["IJsselBII-1geladenop","IJssel","RWS","BII-1","geladen","op",0,null,null,null,0]
["IJsselBII-1leegaf","IJssel","RWS","BII-1","leeg","af",0,null,null,null,0]
["IJsselBII-1leegop","IJssel","RWS","BII-1","leeg","op",0,null,null,null,0]
["IJsselBO1geladenaf","IJssel","RWS","BO1","geladen","af",0]
["IJsselBO1geladenop","IJssel","RWS","BO1","geladen","op",0]
["IJsselBO2geladenop","IJssel","RWS","BO2","geladen","op",0]
["IJsselBO3geladenop","IJssel","RWS","BO3","geladen","op",0]
["IJsselBO4geladenop","IJssel","RWS","BO4","geladen","op",0]
["IJsselBO1leegaf","IJssel","RWS","BO1","leeg","af",0,null,null,null,0]
["IJsselBO1leegop","IJssel","RWS","BO1","leeg","op",0,null,null,null,0]
["IJsselBO2geladenaf","IJssel","RWS","BO2","geladen","af",0,null,null,null,0]
["IJsselBO2leegaf","IJssel","RWS","BO2","leeg","af",0,null,null,null,0]
["IJsselBO2leegop","IJssel","RWS","BO2","leeg","op",0,null,null,null,0]
["IJsselBO3geladenaf","IJssel","RWS","BO3","geladen","af",0,null,null,null,0]
["IJsselBO3leegaf","IJssel","RWS","BO3","leeg","af",0,null,null,null,0]
["IJsselBO3leegop","IJssel","RWS","BO3","leeg","op",0,null,null,null,0]
["IJsselBO4geladenaf","IJssel","RWS","BO4","geladen","af",0,null,null,null,0]
["IJsselBO4leegaf","IJssel","RWS","BO4","leeg","af",0,null,null,null,0]
["IJsselBO4leegop","IJssel","RWS","BO4","leeg","op",0,null,null,null,0]
["IJsselC1bgeladenaf","IJssel","RWS","C1b","geladen","af",0,null,null,null,0]
["IJsselC1bgeladenop","IJssel","RWS","C1b","geladen","op",0,null,null,null,0]
["IJsselC1bleegaf","IJssel","RWS","C1b","leeg","af",0,null,null,null,0]
["IJsselC1bleegop","IJssel","RWS","C1b","leeg","op",0,null,null,null,0]
["IJsselC1lgeladenaf","IJssel","RWS","C1l","geladen","af",0,null,null,null,0]
["IJsselC1lgeladenop","IJssel","RWS","C1l","geladen","op",0,null,null,null,0]
["IJsselC1lleegaf","IJssel","RWS","C1l","leeg","af",0,null,null,null,0]
["IJsselC1lleegop","IJssel","RWS","C1l","leeg","op",0,null,null,null,0]
["IJsselM0geladenaf","IJssel","RWS","M0","geladen","af",0,null,null,null,0]
["IJsselM0geladenop","IJssel","RWS","M0","geladen","op",0,null,null,null,0]
["IJsselM0leegaf","IJssel","RWS","M0","leeg","af",0,null,null,null,0]
["IJsselM0leegop","IJssel","RWS","M0","leeg","op",0,null,null,null,0]
["IJsselM1geladenaf","IJssel","RWS","M1","geladen","af",0,null,null,null,0]
["IJsselM1geladenop","IJssel","RWS","M1","geladen","op",0,null,null,null,0]
["IJsselM1leegaf","IJssel","RWS","M1","leeg","af",0,null,null,null,0]
["IJsselM1leegop","IJssel","RWS","M1","leeg","op",0,null,null,null,0]
[{"$f":"+B658&D658&E658&F658","v":"IJsselM2geladenaf"},"IJssel","RWS","M2","geladen","af",0,null,null,null,0]
["IJsselM2geladenop","IJssel","RWS","M2","geladen","op",0,null,null,null,{"$f":"+G659*ROW()","v":0}]
["IJsselM2leegaf","IJssel","RWS","M2","leeg","af",0,null,null,null,0]
["IJsselM2leegop","IJssel","RWS","M2","leeg","op",0,null,null,null,0]
["IJsselM3geladenaf","IJssel","RWS","M3","geladen","af",0,null,null,null,0]
["IJsselM3geladenop","IJssel","RWS","M3","geladen","op",0,null,null,null,0]
["IJsselM3leegaf","IJssel","RWS","M3","leeg","af",0,null,null,null,0]
["IJsselM3leegop","IJssel","RWS","M3","leeg","op",0,null,null,null,0]
["IJsselM4geladenaf","IJssel","RWS","M4","geladen","af",0,null,null,null,0]
["IJsselM4geladenop","IJssel","RWS","M4","geladen","op",0,null,null,null,0]
["IJsselM4leegaf","IJssel","RWS","M4","leeg","af",0,null,null,null,0]
["IJsselM4leegop","IJssel","RWS","M4","leeg","op",0,null,null,null,0]
["IJsselM5geladenaf","IJssel","RWS","M5","geladen","af",0,null,null,null,0]
["IJsselM5geladenop","IJssel","RWS","M5","geladen","op",0,null,null,null,0]
["IJsselM5leegaf","IJssel","RWS","M5","leeg","af",0,null,null,null,0]
["IJsselM5leegop","IJssel","RWS","M5","leeg","op",0,null,null,null,0]
["IJsselM6geladenaf","IJssel","RWS","M6","geladen","af",0,null,null,null,0]
["IJsselM6geladenop","IJssel","RWS","M6","geladen","op",0,null,null,null,0]
["IJsselM6leegaf","IJssel","RWS","M6","leeg","af",0,null,null,null,0]
["IJsselM6leegop","IJssel","RWS","M6","leeg","op",0,null,null,null,0]
["IJsselM7geladenaf","IJssel","RWS","M7","geladen","af",0,null,null,null,0]
["IJsselM7geladenop","IJssel","RWS","M7","geladen","op",0,null,null,null,0]
["IJsselM7leegaf","IJssel","RWS","M7","leeg","af",0,null,null,null,0]
["IJsselM7leegop","IJssel","RWS","M7","leeg","op",0,null,null,null,0]
["IJsselM8geladenaf","IJssel","RWS","M8","geladen","af",0,null,null,null,0]
["IJsselM8geladenop","IJssel","RWS","M8","geladen","op",0,null,null,null,0]
["IJsselM8leegaf","IJssel","RWS","M8","leeg","af",0,null,null,null,0]
["IJsselM8leegop","IJssel","RWS","M8","leeg","op",0,null,null,null,0]
["LekBIgeladenaf","Lek","RWS","BI","geladen","af",0,null,null,null,0]
["LekBIgeladenop","Lek","RWS","BI","geladen","op",0,null,null,null,0]
["LekBIleegaf","Lek","RWS","BI","leeg","af",0,null,null,null,0]
["LekBIleegop","Lek","RWS","BI","leeg","op",0,null,null,null,0]
["LekBII-1geladenaf","Lek","RWS","BII-1","geladen","af",0,null,null,null,0]
["LekBII-1geladenop","Lek","RWS","BII-1","geladen","op",0,null,null,null,0]
["LekBII-1leegaf","Lek","RWS","BII-1","leeg","af",0,null,null,null,0]
["LekBII-1leegop","Lek","RWS","BII-1","leeg","op",0,null,null,null,0]
["LekBO1geladenaf","Lek","RWS","BO1","geladen","af",0,null,null,null,0]
["LekBO1geladenop","Lek","RWS","BO1","geladen","op",0,null,null,null,0]
["LekBO1leegaf","Lek","RWS","BO1","leeg","af",0,null,null,null,0]
["LekBO1leegop","Lek","RWS","BO1","leeg","op",0,null,null,null,0]
["LekBO2geladenaf","Lek","RWS","BO2","geladen","af",0,null,null,null,0]
["LekBO2geladenop","Lek","RWS","BO2","geladen","op",0,null,null,null,0]
["LekBO2leegaf","Lek","RWS","BO2","leeg","af",0,null,null,null,0]
["LekBO2leegop","Lek","RWS","BO2","leeg","op",0,null,null,null,0]
["LekBO3geladenaf","Lek","RWS","BO3","geladen","af",0,null,null,null,0]
["LekBO3geladenop","Lek","RWS","BO3","geladen","op",0,null,null,null,0]
["LekBO3leegaf","Lek","RWS","BO3","leeg","af",0,null,null,null,0]
["LekBO3leegop","Lek","RWS","BO3","leeg","op",0,null,null,null,0]
["LekBO4geladenaf","Lek","RWS","BO4","geladen","af",0,null,null,null,0]
["LekBO4geladenop","Lek","RWS","BO4","geladen","op",0,null,null,null,0]
["LekBO4leegaf","Lek","RWS","BO4","leeg","af",0,null,null,null,0]
["LekBO4leegop","Lek","RWS","BO4","leeg","op",0,null,null,null,0]
["LekC1bgeladenaf","Lek","RWS","C1b","geladen","af",0,null,null,null,0]
["LekC1bgeladenop","Lek","RWS","C1b","geladen","op",0,null,null,null,0]
["LekC1bleegaf","Lek","RWS","C1b","leeg","af",0,null,null,null,0]
["LekC1bleegop","Lek","RWS","C1b","leeg","op",0,null,null,null,0]
["LekC1lgeladenaf","Lek","RWS","C1l","geladen","af",0,null,null,null,0]
["LekC1lgeladenop","Lek","RWS","C1l","geladen","op",0,null,null,null,0]
["LekC1lleegaf","Lek","RWS","C1l","leeg","af",0,null,null,null,0]
["LekC1lleegop","Lek","RWS","C1l","leeg","op",0,null,null,null,0]
["LekC2bgeladenaf","Lek","RWS","C2b","geladen","af",0,null,null,null,0]
["LekC2bgeladenop","Lek","RWS","C2b","geladen","op",0,null,null,null,0]
["LekC2bleegaf","Lek","RWS","C2b","leeg","af",0,null,null,null,0]
[{"$f":"+B721&D721&E721&F721","v":"LekC2bleegop"},"Lek","RWS","C2b","leeg","op",0,null,null,null,0]
["LekC2lgeladenaf","Lek","RWS","C2l","geladen","af",0,null,null,null,{"$f":"+G722*ROW()","v":0}]
["LekC2lgeladenop","Lek","RWS","C2l","geladen","op",0,null,null,null,0]
["LekC2lleegaf","Lek","RWS","C2l","leeg","af",0,null,null,null,0]
["LekC2lleegop","Lek","RWS","C2l","leeg","op",0,null,null,null,0]
["LekM0geladenaf","Lek","RWS","M0","geladen","af",0,null,null,null,0]
["LekM0geladenop","Lek","RWS","M0","geladen","op",0,null,null,null,0]
["LekM0leegaf","Lek","RWS","M0","leeg","af",0,null,null,null,0]
["LekM0leegop","Lek","RWS","M0","leeg","op",0,null,null,null,0]
["LekM1geladenaf","Lek","RWS","M1","geladen","af",0,null,null,null,0]
["LekM1geladenop","Lek","RWS","M1","geladen","op",0,null,null,null,0]
["LekM1leegaf","Lek","RWS","M1","leeg","af",0,null,null,null,0]
["LekM1leegop","Lek","RWS","M1","leeg","op",0,null,null,null,0]
["LekM10geladenaf","Lek","RWS","M10","geladen","af",0,null,null,null,0]
["LekM10geladenop","Lek","RWS","M10","geladen","op",0,null,null,null,0]
["LekM10leegaf","Lek","RWS","M10","leeg","af",0,null,null,null,0]
["LekM10leegop","Lek","RWS","M10","leeg","op",0,null,null,null,0]
["LekM11geladenaf","Lek","RWS","M11","geladen","af",0,null,null,null,0]
["LekM11geladenop","Lek","RWS","M11","geladen","op",0,null,null,null,0]
["LekM11leegaf","Lek","RWS","M11","leeg","af",0,null,null,null,0]
["LekM11leegop","Lek","RWS","M11","leeg","op",0,null,null,null,0]
["LekM12geladenaf","Lek","RWS","M12","geladen","af",0,null,null,null,0]
["LekM12geladenop","Lek","RWS","M12","geladen","op",0,null,null,null,0]
["LekM12leegaf","Lek","RWS","M12","leeg","af",0,null,null,null,0]
["LekM12leegop","Lek","RWS","M12","leeg","op",0,null,null,null,0]
["LekM2geladenaf","Lek","RWS","M2","geladen","af",0,null,null,null,0]
["LekM2geladenop","Lek","RWS","M2","geladen","op",0,null,null,null,0]
["LekM2leegaf","Lek","RWS","M2","leeg","af",0,null,null,null,0]
["LekM2leegop","Lek","RWS","M2","leeg","op",0,null,null,null,0]
["LekM3geladenaf","Lek","RWS","M3","geladen","af",0,null,null,null,0]
["LekM3geladenop","Lek","RWS","M3","geladen","op",0,null,null,null,0]
["LekM3leegaf","Lek","RWS","M3","leeg","af",0,null,null,null,0]
["LekM3leegop","Lek","RWS","M3","leeg","op",0,null,null,null,0]
["LekM4geladenaf","Lek","RWS","M4","geladen","af",0,null,null,null,0]
["LekM4geladenop","Lek","RWS","M4","geladen","op",0,null,null,null,0]
["LekM4leegaf","Lek","RWS","M4","leeg","af",0,null,null,null,0]
["LekM4leegop","Lek","RWS","M4","leeg","op",0,null,null,null,0]
["LekM5geladenaf","Lek","RWS","M5","geladen","af",0,null,null,null,0]
["LekM5geladenop","Lek","RWS","M5","geladen","op",0,null,null,null,0]
["LekM5leegaf","Lek","RWS","M5","leeg","af",0,null,null,null,0]
["LekM5leegop","Lek","RWS","M5","leeg","op",0,null,null,null,0]
["LekM6geladenaf","Lek","RWS","M6","geladen","af",0,null,null,null,0]
["LekM6geladenop","Lek","RWS","M6","geladen","op",0,null,null,null,0]
["LekM6leegaf","Lek","RWS","M6","leeg","af",0,null,null,null,0]
["LekM6leegop","Lek","RWS","M6","leeg","op",0,null,null,null,0]
["LekM7geladenaf","Lek","RWS","M7","geladen","af",0,null,null,null,0]
["LekM7geladenop","Lek","RWS","M7","geladen","op",0,null,null,null,0]
["LekM7leegaf","Lek","RWS","M7","leeg","af",0,null,null,null,0]
["LekM7leegop","Lek","RWS","M7","leeg","op",0,null,null,null,0]
["LekM8geladenaf","Lek","RWS","M8","geladen","af",0,null,null,null,0]
["LekM8geladenop","Lek","RWS","M8","geladen","op",0,null,null,null,0]
["LekM8leegaf","Lek","RWS","M8","leeg","af",0,null,null,null,0]
["LekM8leegop","Lek","RWS","M8","leeg","op",0,null,null,null,0]
["LekM9geladenaf","Lek","RWS","M9","geladen","af",0,null,null,null,0]
["LekM9geladenop","Lek","RWS","M9","geladen","op",0,null,null,null,0]
["LekM9leegaf","Lek","RWS","M9","leeg","af",0,null,null,null,0]
["LekM9leegop","Lek","RWS","M9","leeg","op",0,null,null,null,0]
["WaalBIgeladenaf","Waal","RWS","BI","geladen","af",0,null,null,null,0]
["WaalBIgeladenop","Waal","RWS","BI","geladen","op",0,null,null,null,0]
["WaalBIleegaf","Waal","RWS","BI","leeg","af",0,null,null,null,0]
["WaalBIleegop","Waal","RWS","BI","leeg","op",0,null,null,null,0]
["WaalBII-1geladenaf","Waal","RWS","BII-1","geladen","af",0,null,null,null,0]
[{"$f":"+B783&D783&E783&F783","v":"WaalBII-1geladenop"},"Waal","RWS","BII-1","geladen","op",0,null,null,null,0]
["WaalBII-1leegaf","Waal","RWS","BII-1","leeg","af",0,null,null,null,{"$f":"+G784*ROW()","v":0}]
["WaalBII-1leegop","Waal","RWS","BII-1","leeg","op",0,null,null,null,0]
["WaalBII-2Bgeladenaf","Waal","RWS","BII-2B","geladen","af",0,null,null,null,0]
["WaalBII-2Bgeladenop","Waal","RWS","BII-2B","geladen","op",0,null,null,null,0]
["WaalBII-2Bleegaf","Waal","RWS","BII-2B","leeg","af",0,null,null,null,0]
["WaalBII-2Bleegop","Waal","RWS","BII-2B","leeg","op",0,null,null,null,0]
["WaalBII-2Lgeladenaf","Waal","RWS","BII-2L","geladen","af",0,null,null,null,0]
["WaalBII-2Lgeladenop","Waal","RWS","BII-2L","geladen","op",0,null,null,null,0]
["WaalBII-2Lleegaf","Waal","RWS","BII-2L","leeg","af",0,null,null,null,0]
["WaalBII-2Lleegop","Waal","RWS","BII-2L","leeg","op",0,null,null,null,0]
["WaalBII-4geladenaf","Waal","RWS","BII-4","geladen","af",0,null,null,null,0]
["WaalBII-4geladenop","Waal","RWS","BII-4","geladen","op",0,null,null,null,0]
["WaalBII-4leegaf","Waal","RWS","BII-4","leeg","af",0,null,null,null,0]
["WaalBII-4leegop","Waal","RWS","BII-4","leeg","op",0,null,null,null,0]
["WaalBII-6Bgeladenaf","Waal","RWS","BII-6B","geladen","af",0,null,null,null,0]
["WaalBII-6Bgeladenop","Waal","RWS","BII-6B","geladen","op",0,null,null,null,0]
["WaalBII-6Bleegaf","Waal","RWS","BII-6B","leeg","af",0,null,null,null,0]
["WaalBII-6Bleegop","Waal","RWS","BII-6B","leeg","op",0,null,null,null,0]
["WaalBII-6Lgeladenaf","Waal","RWS","BII-6L","geladen","af",0,null,null,null,0]
["WaalBII-6Lgeladenop","Waal","RWS","BII-6L","geladen","op",0,null,null,null,0]
["WaalBII-6Lleegaf","Waal","RWS","BII-6L","leeg","af",0,null,null,null,0]
["WaalBII-6Lleegop","Waal","RWS","BII-6L","leeg","op",0,null,null,null,0]
["WaalBO1geladenaf","Waal","RWS","BO1","geladen","af",0,null,null,null,0]
["WaalBO1geladenop","Waal","RWS","BO1","geladen","op",0,null,null,null,0]
["WaalBO1leegaf","Waal","RWS","BO1","leeg","af",0,null,null,null,0]
["WaalBO1leegop","Waal","RWS","BO1","leeg","op",0,null,null,null,0]
["WaalBO2geladenaf","Waal","RWS","BO2","geladen","af",0,null,null,null,0]
["WaalBO2geladenop","Waal","RWS","BO2","geladen","op",0,null,null,null,0]
["WaalBO2leegaf","Waal","RWS","BO2","leeg","af",0,null,null,null,0]
["WaalBO2leegop","Waal","RWS","BO2","leeg","op",0,null,null,null,0]
["WaalBO3geladenaf","Waal","RWS","BO3","geladen","af",0,null,null,null,0]
["WaalBO3geladenop","Waal","RWS","BO3","geladen","op",0,null,null,null,0]
["WaalBO3leegaf","Waal","RWS","BO3","leeg","af",0,null,null,null,0]
["WaalBO3leegop","Waal","RWS","BO3","leeg","op",0,null,null,null,0]
["WaalBO4geladenaf","Waal","RWS","BO4","geladen","af",0,null,null,null,0]
["WaalBO4geladenop","Waal","RWS","BO4","geladen","op",0,null,null,null,0]
["WaalBO4leegaf","Waal","RWS","BO4","leeg","af",0,null,null,null,0]
["WaalBO4leegop","Waal","RWS","BO4","leeg","op",0,null,null,null,0]
["WaalC1bgeladenaf","Waal","RWS","C1b","geladen","af",0,null,null,null,0]
["WaalC1bgeladenop","Waal","RWS","C1b","geladen","op",0,null,null,null,0]
["WaalC1bleegaf","Waal","RWS","C1b","leeg","af",0,null,null,null,0]
["WaalC1bleegop","Waal","RWS","C1b","leeg","op",0,null,null,null,0]
["WaalC1lgeladenaf","Waal","RWS","C1l","geladen","af",0,null,null,null,0]
["WaalC1lgeladenop","Waal","RWS","C1l","geladen","op",0,null,null,null,0]
["WaalC1lleegaf","Waal","RWS","C1l","leeg","af",0,null,null,null,0]
["WaalC1lleegop","Waal","RWS","C1l","leeg","op",0,null,null,null,0]
["WaalC2bgeladenaf","Waal","RWS","C2b","geladen","af",0,null,null,null,0]
["WaalC2bgeladenop","Waal","RWS","C2b","geladen","op",0,null,null,null,0]
["WaalC2bleegaf","Waal","RWS","C2b","leeg","af",0,null,null,null,0]
["WaalC2bleegop","Waal","RWS","C2b","leeg","op",0,null,null,null,0]
["WaalC2lgeladenaf","Waal","RWS","C2l","geladen","af",0,null,null,null,0]
["WaalC2lgeladenop","Waal","RWS","C2l","geladen","op",0,null,null,null,0]
["WaalC2lleegaf","Waal","RWS","C2l","leeg","af",0,null,null,null,0]
["WaalC2lleegop","Waal","RWS","C2l","leeg","op",0,null,null,null,0]
["WaalC3bgeladenaf","Waal","RWS","C3b","geladen","af",0,null,null,null,0]
["WaalC3bgeladenop","Waal","RWS","C3b","geladen","op",0,null,null,null,0]
["WaalC3bleegaf","Waal","RWS","C3b","leeg","af",0,null,null,null,0]
["WaalC3bleegop","Waal","RWS","C3b","leeg","op",0,null,null,null,0]
["WaalC3lgeladenaf","Waal","RWS","C3l","geladen","af",0,null,null,null,0]
["WaalC3lgeladenop","Waal","RWS","C3l","geladen","op",0,null,null,null,0]
["WaalC3lleegaf","Waal","RWS","C3l","leeg","af",0,null,null,null,0]
["WaalC3lleegop","Waal","RWS","C3l","leeg","op",0,null,null,null,0]
["WaalC4geladenaf","Waal","RWS","C4","geladen","af",0,null,null,null,0]
[{"$f":"+B847&D847&E847&F847","v":"WaalC4geladenop"},"Waal","RWS","C4","geladen","op",0,null,null,null,0]
["WaalC4leegaf","Waal","RWS","C4","leeg","af",0,null,null,null,{"$f":"+G848*ROW()","v":0}]
["WaalC4leegop","Waal","RWS","C4","leeg","op",0,null,null,null,0]
["WaalM0geladenaf","Waal","RWS","M0","geladen","af",0,null,null,null,0]
["WaalM0geladenop","Waal","RWS","M0","geladen","op",0,null,null,null,0]
["WaalM0leegaf","Waal","RWS","M0","leeg","af",0,null,null,null,0]
["WaalM0leegop","Waal","RWS","M0","leeg","op",0,null,null,null,0]
["WaalM1geladenaf","Waal","RWS","M1","geladen","af",0,null,null,null,0]
["WaalM1geladenop","Waal","RWS","M1","geladen","op",0,null,null,null,0]
["WaalM1leegaf","Waal","RWS","M1","leeg","af",0,null,null,null,0]
["WaalM1leegop","Waal","RWS","M1","leeg","op",0,null,null,null,0]
["WaalM10geladenaf","Waal","RWS","M10","geladen","af",0,null,null,null,0]
["WaalM10geladenop","Waal","RWS","M10","geladen","op",0,null,null,null,0]
["WaalM10leegaf","Waal","RWS","M10","leeg","af",0,null,null,null,0]
["WaalM10leegop","Waal","RWS","M10","leeg","op",0,null,null,null,0]
["WaalM11geladenaf","Waal","RWS","M11","geladen","af",0,null,null,null,0]
["WaalM11geladenop","Waal","RWS","M11","geladen","op",0,null,null,null,0]
["WaalM11leegaf","Waal","RWS","M11","leeg","af",0,null,null,null,0]
["WaalM11leegop","Waal","RWS","M11","leeg","op",0,null,null,null,0]
["WaalM12geladenaf","Waal","RWS","M12","geladen","af",0,null,null,null,0]
["WaalM12geladenop","Waal","RWS","M12","geladen","op",0,null,null,null,0]
["WaalM12leegaf","Waal","RWS","M12","leeg","af",0,null,null,null,0]
["WaalM12leegop","Waal","RWS","M12","leeg","op",0,null,null,null,0]
["WaalM2geladenaf","Waal","RWS","M2","geladen","af",0,null,null,null,0]
["WaalM2geladenop","Waal","RWS","M2","geladen","op",0,null,null,null,0]
["WaalM2leegaf","Waal","RWS","M2","leeg","af",0,null,null,null,0]
["WaalM2leegop","Waal","RWS","M2","leeg","op",0,null,null,null,0]
["WaalM3geladenaf","Waal","RWS","M3","geladen","af",0,null,null,null,0]
["WaalM3geladenop","Waal","RWS","M3","geladen","op",0,null,null,null,0]
["WaalM3leegaf","Waal","RWS","M3","leeg","af",0,null,null,null,0]
["WaalM3leegop","Waal","RWS","M3","leeg","op",0,null,null,null,0]
["WaalM4geladenaf","Waal","RWS","M4","geladen","af",0,null,null,null,0]
["WaalM4geladenop","Waal","RWS","M4","geladen","op",0,null,null,null,0]
["WaalM4leegaf","Waal","RWS","M4","leeg","af",0,null,null,null,0]
["WaalM4leegop","Waal","RWS","M4","leeg","op",0,null,null,null,0]
["WaalM5geladenaf","Waal","RWS","M5","geladen","af",0,null,null,null,0]
["WaalM5geladenop","Waal","RWS","M5","geladen","op",0,null,null,null,0]
["WaalM5leegaf","Waal","RWS","M5","leeg","af",0,null,null,null,0]
["WaalM5leegop","Waal","RWS","M5","leeg","op",0,null,null,null,0]
["WaalM6geladenaf","Waal","RWS","M6","geladen","af",0,null,null,null,0]
["WaalM6geladenop","Waal","RWS","M6","geladen","op",0,null,null,null,0]
["WaalM6leegaf","Waal","RWS","M6","leeg","af",0,null,null,null,0]
["WaalM6leegop","Waal","RWS","M6","leeg","op",0,null,null,null,0]
["WaalM7geladenaf","Waal","RWS","M7","geladen","af",0,null,null,null,0]
["WaalM7geladenop","Waal","RWS","M7","geladen","op",0,null,null,null,0]
["WaalM7leegaf","Waal","RWS","M7","leeg","af",0,null,null,null,0]
["WaalM7leegop","Waal","RWS","M7","leeg","op",0,null,null,null,0]
["WaalM8geladenaf","Waal","RWS","M8","geladen","af",0,null,null,null,0]
["WaalM8geladenop","Waal","RWS","M8","geladen","op",0,null,null,null,0]
["WaalM8leegaf","Waal","RWS","M8","leeg","af",0,null,null,null,0]
["WaalM8leegop","Waal","RWS","M8","leeg","op",0,null,null,null,0]
["WaalM9geladenaf","Waal","RWS","M9","geladen","af",0,null,null,null,0]
["WaalM9geladenop","Waal","RWS","M9","geladen","op",0,null,null,null,0]
["WaalM9leegaf","Waal","RWS","M9","leeg","af",0,null,null,null,0]
["WaalM9leegop","Waal","RWS","M9","leeg","op",0,null,null,null,0]

{"sheet":"UITVOER","index":2,"n_rows":30,"n_cols":7,"rows_kept":30,"cut":false,"hidden":false,"merged":[[27,1,27,3],[15,1,15,3],[22,1,22,3]]}
[{"$f":"VERSIE!A1","v":"PRELUDE (© TNO)"}]
["Versie",{"$f":"VERSIE","v":"1.11"}]
[{"$f":"'Invulblad (INVOER)'!B1","v":"Gebruiker"},{"$f":"+GEBRUIKER","v":"Calco Rekenaar"}]
[{"$f":"'Invulblad (INVOER)'!B2","v":"Datum veranderd"},{"$f":"+INVOERDATUM","v":"2016-03-10"}]
[{"$f":"'Invulblad (INVOER)'!B3","v":"Naam van het vaartraject"},{"$f":"+TRAJECTNAAM","v":"Kikkerlandse Bocht"}]
[{"$f":"'Invulblad (INVOER)'!B4","v":"Afstand van het vaartraject"},{"$f":"+Afstand","v":1},{"$f":"'Invulblad (INVOER)'!D4","v":"km"},{"$f":"+IF(OR((ISNUMBER(B6)=FALSE),B6=0),\"Voer traject lengte in Invulblad\",\"\")","v":""}]
["Traject intensiteit",{"$f":"+AANTALINV","v":0},"schepen/periode"]
[null,{"$f":"'Invulblad (INVOER)'!C5","v":2016}]
["Invoercontrole",{"$f":"+IF(AANTALINV=AANTALNOX,\"ok\",\"FOUT\")","v":"ok"}]
["Intern",{"$f":"+IF(AANTALNOX<>AANTALPM10,\"Interne fout Emissieberekening: Controleer verwijzingen!\",\"ok\")","v":"ok"}]
["Sluisemissies",{"$f":"+Sluis","v":"nee"}]
[{"$f":"+IF(Sluis=\"ja\",\"Schuttijd\",\"\")","v":""},{"$f":"+IF(Sluis=\"ja\",Schuttijd,\"\")","v":""},{"$f":"+IF(Sluis=\"ja\",\"Minuten\",\"\")","v":""}]
[]
["Emissie per kilometer (gram/periode)",null,null,null,null,null,{"$f":"+IF(Checksum=Checksumcopy,\"\",\"!\")","v":""}]
[]
[null,"Vaarrichting"]
[{"$f":"+Optellingen!B4","v":"Stof"},{"$f":"+Optellingen!C4","v":"af"},{"$f":"+Optellingen!D4","v":"beide"},{"$f":"+Optellingen!E4","v":"op"},"Totaal"]
[{"$f":"+Optellingen!B5","v":"NOx"},{"$f":"+IF(Sluis=\"ja\",+IF(Optellingen!$C$22>0,(Schuttijd/60)/(Afstand/(Optellingen!$C$17/Optellingen!$C$22))*Optellingen!$C$5/Afstand*Standbyvermogen*Noxfactor,0),Optellingen!$C$5/Afstand)","v":0},{"$f":"+IF(Sluis=\"ja\",+IF(Optellingen!D22>0,(Schuttijd/60)/(Afstand/(Optellingen!D17/Optellingen!D22))*Optellingen!D5/Afstand*Standbyvermogen*Noxfactor,0),Optellingen!D5/Afstand)","v":0},{"$f":"+IF(Sluis=\"ja\",+IF(Optellingen!E22>0,(Schuttijd/60)/(Afstand/(Optellingen!E17/Optellingen!E22))*Optellingen!E5/Afstand*Standbyvermogen*Noxfactor,0),Optellingen!E5/Afstand)","v":0},{"$f":"+IF(Sluis=\"ja\",+IF(Optellingen!F22>0,(Schuttijd/60)/(Afstand/(Optellingen!F17/Optellingen!F22))*Optellingen!F5/Afstand*Standbyvermogen*Noxfactor,0),Optellingen!F5/Afstand)","v":0}]
[{"$f":"+Optellingen!B6","v":"Fijn Stof"},{"$f":"+IF(Sluis=\"ja\",+IF(Optellingen!C22>0,(Schuttijd/60)/(Afstand/(Optellingen!C17/Optellingen!C22))*Optellingen!C6/Afstand*Standbyvermogen*Pmfactor,0),Optellingen!C6/Afstand)","v":0},{"$f":"+IF(Sluis=\"ja\",+IF(Optellingen!D22>0,(Schuttijd/60)/(Afstand/(Optellingen!D17/Optellingen!D22))*Optellingen!D6/Afstand*Standbyvermogen*Pmfactor,0),Optellingen!D6/Afstand)","v":0},{"$f":"+IF(Sluis=\"ja\",+IF(Optellingen!E22>0,(Schuttijd/60)/(Afstand/(Optellingen!E17/Optellingen!E22))*Optellingen!E6/Afstand*Standbyvermogen*Pmfactor,0),Optellingen!E6/Afstand)","v":0},{"$f":"+IF(Sluis=\"ja\",+IF(Optellingen!F22>0,(Schuttijd/60)/(Afstand/(Optellingen!F17/Optellingen!F22))*Optellingen!F6/Afstand*Standbyvermogen*Pmfactor,0),Optellingen!F6/Afstand)","v":0}]
[]
[null,{"$f":"+#REF!/Afstand","v":{"$error":"#REF!"}}]
[]
["Warmte-output (MW)","Vaarrichting"]
[null,{"$f":"Optellingen!C11","v":"af"},{"$f":"Optellingen!D11","v":"beide"},{"$f":"Optellingen!E11","v":"op"},"Totaal"]
[{"$f":"+Optellingen!B12","v":"Total"},{"$f":"+IF(Sluis=\"nee\",+MW_af,IF(MW_af=\"-\",\"-\",+Standbyvermogen*MW_af))","v":"-"},{"$f":"+IF(Sluis=\"nee\",+MW_beide,IF(MW_beide=\"-\",\"-\",+Standbyvermogen*MW_beide))","v":"-"},{"$f":"+IF(Sluis=\"nee\",+MW_op,IF(MW_op=\"-\",\"-\",+Standbyvermogen*MW_op))","v":"-"},{"$f":"+IF(Sluis=\"nee\",+MW_totaal,IF(MW_totaal=\"-\",\"-\",+Standbyvermogen*MW_totaal))","v":"-"}]
[]
[]
["Snelheid (km/u)","Vaarrichting"]
[null,{"$f":"Optellingen!C11","v":"af"},{"$f":"Optellingen!D11","v":"beide"},{"$f":"Optellingen!E11","v":"op"},"Totaal"]
[{"$f":"Optellingen!B12","v":"Total"},{"$f":"+IF(Sluis=\"nee\",IF(Optellingen!C22>0,Optellingen!C17/Optellingen!C22,\"-\"),\"sluis\")","v":"-"},{"$f":"+IF(Sluis=\"nee\",IF(Optellingen!D22>0,Optellingen!D17/Optellingen!D22,\"-\"),\"sluis\")","v":"-"},{"$f":"+IF(Sluis=\"nee\",IF(Optellingen!E22>0,Optellingen!E17/Optellingen!E22,\"-\"),\"sluis\")","v":"-"},{"$f":"+IF(Sluis=\"nee\",IF(Optellingen!F22>0,Optellingen!F17/Optellingen!F22,\"-\"),\"sluis\")","v":"-"}]

{"sheet":"Trendfactoren","index":3,"n_rows":26,"n_cols":4,"rows_kept":26,"cut":false,"hidden":false,"merged":[]}
["Stofnr","Fijn stof","NOx","CO2"]
["Jaar",{"$f":"+COLUMN()","v":2},{"$f":"+COLUMN()","v":3},4]
[2010,1,1,1]
[{"$f":"+A3+1","v":2011},0.91,0.98,1]
[{"$f":"+A4+1","v":2012},0.88,0.95,0.99]
[2013,0.85,0.93,0.99]
[2014,0.82,0.91,0.99]
[2015,0.79,0.89,0.99]
[2016,0.76,0.87,0.98]
[2017,0.74,0.85,0.98]
[2018,0.72,0.84,0.97]
[2019,0.7,0.82,0.97]
[2020,0.68,0.81,0.97]
[2021,0.66,0.79,0.96]
[2022,0.65,0.78,0.96]
[2023,0.63,0.77,0.96]
[2024,0.62,0.76,0.95]
[2025,0.61,0.75,0.95]
[2026,0.6,0.74,0.95]
[2027,0.59,0.73,0.94]
[2028,0.57999999999999996,0.73,0.94]
[2029,0.56999999999999995,0.72,0.93]
[2030,0.56999999999999995,0.71,0.93]
[]
[]
["NB: Op 17 februari 2014 zijn de trendfactoren voor de jaren 2028, 2029 en 2030 aangepast (correctie van een fout)."]

{"sheet":"Emissieberekening","index":4,"n_rows":1788,"n_cols":11,"rows_kept":1788,"cut":false,"hidden":false,"merged":[]}
["Zoekwaarde","Pluimvaarweg","Scheepstype","Ladingstoestand","Richting","Stof","Emissiefactor(g/km)","Aantal","Afstand","trendfactor",{"$f":"+\"Emissie (gram)\"","v":"Emissie (gram)"}]
[{"$f":"+B2&C2&D2&E2","v":"CEMT ICBS_1geladenbeide"},"CEMT I","CBS_1","geladen","beide","Fijn Stof",1.7590907055080063,{"$f":"VLOOKUP(A2,Begin:Einde,7,FALSE)","v":0},{"$f":"+Afstand","v":1},{"$f":"VLOOKUP(Jaar,Trendfactoren!$A$2:$D$43,(HLOOKUP(Emissieberekening!F2,Trendfactoren!$A$1:$C$2,2,FALSE)))","v":0.76},{"$f":"+G2*H2*I2*J2","v":0}]
["CEMT ICBS_1geladenbeide","CEMT I","CBS_1","geladen","beide","NOx",51.969275291585902,{"$f":"VLOOKUP(A3,Begin:Einde,7,FALSE)","v":0},1,{"$f":"VLOOKUP(Jaar,Trendfactoren!$A$2:$D$43,(HLOOKUP(Emissieberekening!F3,Trendfactoren!$A$1:$C$2,2,FALSE)))","v":0.87},0]
["CEMT ICBS_1leegbeide","CEMT I","CBS_1","leeg","beide","Fijn Stof",1.1407222360371487,{"$f":"VLOOKUP(A4,Begin:Einde,7,FALSE)","v":0},1,{"$f":"VLOOKUP(Jaar,Trendfactoren!$A$2:$D$43,(HLOOKUP(Emissieberekening!F4,Trendfactoren!$A$1:$C$2,2,FALSE)))","v":0.76},0]
["CEMT ICBS_1leegbeide","CEMT I","CBS_1","leeg","beide","NOx",33.70065439503751,{"$f":"VLOOKUP(A5,Begin:Einde,7,FALSE)","v":0},1,{"$f":"VLOOKUP(Jaar,Trendfactoren!$A$2:$D$43,(HLOOKUP(Emissieberekening!F5,Trendfactoren!$A$1:$C$2,2,FALSE)))","v":0.87},0]
["CEMT ICBS_2geladenbeide","CEMT I","CBS_2","geladen","beide","Fijn Stof",6.0277860446305862,{"$f":"VLOOKUP(A6,Begin:Einde,7,FALSE)","v":0},1,{"$f":"VLOOKUP(Jaar,Trendfactoren!$A$2:$D$43,(HLOOKUP(Emissieberekening!F6,Trendfactoren!$A$1:$C$2,2,FALSE)))","v":0.76},0]
["CEMT ICBS_2geladenbeide","CEMT I","CBS_2","geladen","beide","NOx",178.08045450488652,{"$f":"VLOOKUP(A7,Begin:Einde,7,FALSE)","v":0},1,{"$f":"VLOOKUP(Jaar,Trendfactoren!$A$2:$D$43,(HLOOKUP(Emissieberekening!F7,Trendfactoren!$A$1:$C$2,2,FALSE)))","v":0.87},0]
["CEMT ICBS_2leegbeide","CEMT I","CBS_2","leeg","beide","Fijn Stof",3.6823759796522553,{"$f":"VLOOKUP(A8,Begin:Einde,7,FALSE)","v":0},1,{"$f":"VLOOKUP(Jaar,Trendfactoren!$A$2:$D$43,(HLOOKUP(Emissieberekening!F8,Trendfactoren!$A$1:$C$2,2,FALSE)))","v":0.76},0]
["CEMT ICBS_2leegbeide","CEMT I","CBS_2","leeg","beide","NOx",108.78939352840602,{"$f":"VLOOKUP(A9,Begin:Einde,7,FALSE)","v":0},1,{"$f":"VLOOKUP(Jaar,Trendfactoren!$A$2:$D$43,(HLOOKUP(Emissieberekening!F9,Trendfactoren!$A$1:$C$2,2,FALSE)))","v":0.87},0]
["CEMT ICBS_3geladenbeide","CEMT I","CBS_3","geladen","beide","Fijn Stof",5.4854739444510452,{"$f":"VLOOKUP(A10,Begin:Einde,7,FALSE)","v":0},1,{"$f":"VLOOKUP(Jaar,Trendfactoren!$A$2:$D$43,(HLOOKUP(Emissieberekening!F10,Trendfactoren!$A$1:$C$2,2,FALSE)))","v":0.76},0]
["CEMT ICBS_3geladenbeide","CEMT I","CBS_3","geladen","beide","NOx",162.05878675350712,{"$f":"VLOOKUP(A11,Begin:Einde,7,FALSE)","v":0},1,{"$f":"VLOOKUP(Jaar,Trendfactoren!$A$2:$D$43,(HLOOKUP(Emissieberekening!F11,Trendfactoren!$A$1:$C$2,2,FALSE)))","v":0.87},0]
["CEMT ICBS_3leegbeide","CEMT I","CBS_3","leeg","beide","Fijn Stof",3.3272640331966223,{"$f":"VLOOKUP(A12,Begin:Einde,7,FALSE)","v":0},1,{"$f":"VLOOKUP(Jaar,Trendfactoren!$A$2:$D$43,(HLOOKUP(Emissieberekening!F12,Trendfactoren!$A$1:$C$2,2,FALSE)))","v":0.76},0]
["CEMT ICBS_3leegbeide","CEMT I","CBS_3","leeg","beide","NOx",98.298228719849703,{"$f":"VLOOKUP(A13,Begin:Einde,7,FALSE)","v":0},1,{"$f":"VLOOKUP(Jaar,Trendfactoren!$A$2:$D$43,(HLOOKUP(Emissieberekening!F13,Trendfactoren!$A$1:$C$2,2,FALSE)))","v":0.87},0]
["CEMT ICBS_4geladenbeide","CEMT I","CBS_4","geladen","beide","Fijn Stof",6.2648124765088289,{"$f":"VLOOKUP(A14,Begin:Einde,7,FALSE)","v":0},1,{"$f":"VLOOKUP(Jaar,Trendfactoren!$A$2:$D$43,(HLOOKUP(Emissieberekening!F14,Trendfactoren!$A$1:$C$2,2,FALSE)))","v":0.76},0]
["CEMT ICBS_4geladenbeide","CEMT I","CBS_4","geladen","beide","NOx",185.08298817247496,{"$f":"VLOOKUP(A15,Begin:Einde,7,FALSE)","v":0},1,{"$f":"VLOOKUP(Jaar,Trendfactoren!$A$2:$D$43,(HLOOKUP(Emissieberekening!F15,Trendfactoren!$A$1:$C$2,2,FALSE)))","v":0.87},0]
["CEMT ICBS_4leegbeide","CEMT I","CBS_4","leeg","beide","Fijn Stof",2.3639600883656842,{"$f":"VLOOKUP(A16,Begin:Einde,7,FALSE)","v":0},1,{"$f":"VLOOKUP(Jaar,Trendfactoren!$A$2:$D$43,(HLOOKUP(Emissieberekening!F16,Trendfactoren!$A$1:$C$2,2,FALSE)))","v":0.76},0]
["CEMT ICBS_4leegbeide","CEMT I","CBS_4","leeg","beide","NOx",69.839089153233672,{"$f":"VLOOKUP(A17,Begin:Einde,7,FALSE)","v":0},1,{"$f":"VLOOKUP(Jaar,Trendfactoren!$A$2:$D$43,(HLOOKUP(Emissieberekening!F17,Trendfactoren!$A$1:$C$2,2,FALSE)))","v":0.87},0]
["CEMT ICBS_5geladenbeide","CEMT I","CBS_5","geladen","beide","Fijn Stof",6.7582394178310645,{"$f":"VLOOKUP(A18,Begin:Einde,7,FALSE)","v":0},1,{"$f":"VLOOKUP(Jaar,Trendfactoren!$A$2:$D$43,(HLOOKUP(Emissieberekening!F18,Trendfactoren!$A$1:$C$2,2,FALSE)))","v":0.76},0]
["CEMT ICBS_5geladenbeide","CEMT I","CBS_5","geladen","beide","NOx",199.66042893182234,{"$f":"VLOOKUP(A19,Begin:Einde,7,FALSE)","v":0},1,{"$f":"VLOOKUP(Jaar,Trendfactoren!$A$2:$D$43,(HLOOKUP(Emissieberekening!F19,Trendfactoren!$A$1:$C$2,2,FALSE)))","v":0.87},0]
["CEMT ICBS_5leegbeide","CEMT I","CBS_5","leeg","beide","Fijn Stof",4.4607883313373664,{"$f":"VLOOKUP(A20,Begin:Einde,7,FALSE)","v":0},1,{"$f":"VLOOKUP(Jaar,Trendfactoren!$A$2:$D$43,(HLOOKUP(Emissieberekening!F20,Trendfactoren!$A$1:$C$2,2,FALSE)))","v":0.76},0]
["CEMT ICBS_5leegbeide","CEMT I","CBS_5","leeg","beide","NOx",131.78623255917748,{"$f":"VLOOKUP(A21,Begin:Einde,7,FALSE)","v":0},1,{"$f":"VLOOKUP(Jaar,Trendfactoren!$A$2:$D$43,(HLOOKUP(Emissieberekening!F21,Trendfactoren!$A$1:$C$2,2,FALSE)))","v":0.87},0]
["CEMT ICBS_6geladenbeide","CEMT I","CBS_6","geladen","beide","Fijn Stof",7.7389403230994915,{"$f":"VLOOKUP(A22,Begin:Einde,7,FALSE)","v":0},1,{"$f":"VLOOKUP(Jaar,Trendfactoren!$A$2:$D$43,(HLOOKUP(Emissieberekening!F22,Trendfactoren!$A$1:$C$2,2,FALSE)))","v":0.76},0]
["CEMT ICBS_6geladenbeide","CEMT I","CBS_6","geladen","beide","NOx",228.63353143587045,{"$f":"VLOOKUP(A23,Begin:Einde,7,FALSE)","v":0},1,{"$f":"VLOOKUP(Jaar,Trendfactoren!$A$2:$D$43,(HLOOKUP(Emissieberekening!F23,Trendfactoren!$A$1:$C$2,2,FALSE)))","v":0.87},0]
["CEMT ICBS_6leegbeide","CEMT I","CBS_6","leeg","beide","Fijn Stof",5.4400478550455915,{"$f":"VLOOKUP(A24,Begin:Einde,7,FALSE)","v":0},1,{"$f":"VLOOKUP(Jaar,Trendfactoren!$A$2:$D$43,(HLOOKUP(Emissieberekening!F24,Trendfactoren!$A$1:$C$2,2,FALSE)))","v":0.76},0]
["CEMT ICBS_6leegbeide","CEMT I","CBS_6","leeg","beide","NOx",160.71675195203798,{"$f":"VLOOKUP(A25,Begin:Einde,7,FALSE)","v":0},1,{"$f":"VLOOKUP(Jaar,Trendfactoren!$A$2:$D$43,(HLOOKUP(Emissieberekening!F25,Trendfactoren!$A$1:$C$2,2,FALSE)))","v":0.87},0]
["CEMT IICBS_1geladenbeide","CEMT II","CBS_1","geladen","beide","Fijn Stof",3.0482459627852165,{"$f":"VLOOKUP(A26,Begin:Einde,7,FALSE)","v":0},1,{"$f":"VLOOKUP(Jaar,Trendfactoren!$A$2:$D$43,(HLOOKUP(Emissieberekening!F26,Trendfactoren!$A$1:$C$2,2,FALSE)))","v":0.76},0]
["CEMT IICBS_1geladenbeide","CEMT II","CBS_1","geladen","beide","NOx",90.055125128241542,{"$f":"VLOOKUP(A27,Begin:Einde,7,FALSE)","v":0},1,{"$f":"VLOOKUP(Jaar,Trendfactoren!$A$2:$D$43,(HLOOKUP(Emissieberekening!F27,Trendfactoren!$A$1:$C$2,2,FALSE)))","v":0.87},0]
["CEMT IICBS_1leegbeide","CEMT II","CBS_1","leeg","beide","Fijn Stof",1.4763467555812422,{"$f":"VLOOKUP(A28,Begin:Einde,7,FALSE)","v":0},1,{"$f":"VLOOKUP(Jaar,Trendfactoren!$A$2:$D$43,(HLOOKUP(Emissieberekening!F28,Trendfactoren!$A$1:$C$2,2,FALSE)))","v":0.76},0]
["CEMT IICBS_1leegbeide","CEMT II","CBS_1","leeg","beide","NOx",43.616097070153067,{"$f":"VLOOKUP(A29,Begin:Einde,7,FALSE)","v":0},1,{"$f":"VLOOKUP(Jaar,Trendfactoren!$A$2:$D$43,(HLOOKUP(Emissieberekening!F29,Trendfactoren!$A$1:$C$2,2,FALSE)))","v":0.87},0]
["CEMT IICBS_2geladenbeide","CEMT II","CBS_2","geladen","beide","Fijn Stof",4.8715442586110376,{"$f":"VLOOKUP(A30,Begin:Einde,7,FALSE)","v":0},1,{"$f":"VLOOKUP(Jaar,Trendfactoren!$A$2:$D$43,(HLOOKUP(Emissieberekening!F30,Trendfactoren!$A$1:$C$2,2,FALSE)))","v":0.76},0]
["CEMT IICBS_2geladenbeide","CEMT II","CBS_2","geladen","beide","NOx",143.92130199891486,{"$f":"VLOOKUP(A31,Begin:Einde,7,FALSE)","v":0},1,{"$f":"VLOOKUP(Jaar,Trendfactoren!$A$2:$D$43,(HLOOKUP(Emissieberekening!F31,Trendfactoren!$A$1:$C$2,2,FALSE)))","v":0.87},0]
["CEMT IICBS_2leegbeide","CEMT II","CBS_2","leeg","beide","Fijn Stof",3.0768297199682606,{"$f":"VLOOKUP(A32,Begin:Einde,7,FALSE)","v":0},1,{"$f":"VLOOKUP(Jaar,Trendfactoren!$A$2:$D$43,(HLOOKUP(Emissieberekening!F32,Trendfactoren!$A$1:$C$2,2,FALSE)))","v":0.76},0]
["CEMT IICBS_2leegbeide","CEMT II","CBS_2","leeg","beide","NOx",90.899582518222374,{"$f":"VLOOKUP(A33,Begin:Einde,7,FALSE)","v":0},1,{"$f":"VLOOKUP(Jaar,Trendfactoren!$A$2:$D$43,(HLOOKUP(Emissieberekening!F33,Trendfactoren!$A$1:$C$2,2,FALSE)))","v":0.87},0]
["CEMT IICBS_3geladenbeide","CEMT II","CBS_3","geladen","beide","Fijn Stof",6.4675440219519951,{"$f":"VLOOKUP(A34,Begin:Einde,7,FALSE)","v":0},1,{"$f":"VLOOKUP(Jaar,Trendfactoren!$A$2:$D$43,(HLOOKUP(Emissieberekening!F34,Trendfactoren!$A$1:$C$2,2,FALSE)))","v":0.76},0]
["CEMT IICBS_3geladenbeide","CEMT II","CBS_3","geladen","beide","NOx",191.07233906975137,{"$f":"VLOOKUP(A35,Begin:Einde,7,FALSE)","v":0},1,{"$f":"VLOOKUP(Jaar,Trendfactoren!$A$2:$D$43,(HLOOKUP(Emissieberekening!F35,Trendfactoren!$A$1:$C$2,2,FALSE)))","v":0.87},0]
["CEMT IICBS_3leegbeide","CEMT II","CBS_3","leeg","beide","Fijn Stof",4.4833764631525765,{"$f":"VLOOKUP(A36,Begin:Einde,7,FALSE)","v":0},1,{"$f":"VLOOKUP(Jaar,Trendfactoren!$A$2:$D$43,(HLOOKUP(Emissieberekening!F36,Trendfactoren!$A$1:$C$2,2,FALSE)))","v":0.76},0]
["CEMT IICBS_3leegbeide","CEMT II","CBS_3","leeg","beide","NOx",132.45355962591216,{"$f":"VLOOKUP(A37,Begin:Einde,7,FALSE)","v":0},1,{"$f":"VLOOKUP(Jaar,Trendfactoren!$A$2:$D$43,(HLOOKUP(Emissieberekening!F37,Trendfactoren!$A$1:$C$2,2,FALSE)))","v":0.87},0]
["CEMT IICBS_4geladenbeide","CEMT II","CBS_4","geladen","beide","Fijn Stof",8.1978623880157038,{"$f":"VLOOKUP(A38,Begin:Einde,7,FALSE)","v":0},1,{"$f":"VLOOKUP(Jaar,Trendfactoren!$A$2:$D$43,(HLOOKUP(Emissieberekening!F38,Trendfactoren!$A$1:$C$2,2,FALSE)))","v":0.76},0]
["CEMT IICBS_4geladenbeide","CEMT II","CBS_4","geladen","beide","NOx",242.19158563644902,{"$f":"VLOOKUP(A39,Begin:Einde,7,FALSE)","v":0},1,{"$f":"VLOOKUP(Jaar,Trendfactoren!$A$2:$D$43,(HLOOKUP(Emissieberekening!F39,Trendfactoren!$A$1:$C$2,2,FALSE)))","v":0.87},0]
["CEMT IICBS_4leegbeide","CEMT II","CBS_4","leeg","beide","Fijn Stof",3.3279293716170244,{"$f":"VLOOKUP(A40,Begin:Einde,7,FALSE)","v":0},1,{"$f":"VLOOKUP(Jaar,Trendfactoren!$A$2:$D$43,(HLOOKUP(Emissieberekening!F40,Trendfactoren!$A$1:$C$2,2,FALSE)))","v":0.76},0]
["CEMT IICBS_4leegbeide","CEMT II","CBS_4","leeg","beide","NOx",98.317884986251698,{"$f":"VLOOKUP(A41,Begin:Einde,7,FALSE)","v":0},1,{"$f":"VLOOKUP(Jaar,Trendfactoren!$A$2:$D$43,(HLOOKUP(Emissieberekening!F41,Trendfactoren!$A$1:$C$2,2,FALSE)))","v":0.87},0]
["CEMT IICBS_5geladenbeide","CEMT II","CBS_5","geladen","beide","Fijn Stof",12.289813916313472,{"$f":"VLOOKUP(A42,Begin:Einde,7,FALSE)","v":0},1,{"$f":"VLOOKUP(Jaar,Trendfactoren!$A$2:$D$43,(HLOOKUP(Emissieberekening!F42,Trendfactoren!$A$1:$C$2,2,FALSE)))","v":0.76},0]
["CEMT IICBS_5geladenbeide","CEMT II","CBS_5","geladen","beide","NOx",363.08117637106614,{"$f":"VLOOKUP(A43,Begin:Einde,7,FALSE)","v":0},1,{"$f":"VLOOKUP(Jaar,Trendfactoren!$A$2:$D$43,(HLOOKUP(Emissieberekening!F43,Trendfactoren!$A$1:$C$2,2,FALSE)))","v":0.87},0]
["CEMT IICBS_5leegbeide","CEMT II","CBS_5","leeg","beide","Fijn Stof",3.926289937129098,{"$f":"VLOOKUP(A44,Begin:Einde,7,FALSE)","v":0},1,{"$f":"VLOOKUP(Jaar,Trendfactoren!$A$2:$D$43,(HLOOKUP(Emissieberekening!F44,Trendfactoren!$A$1:$C$2,2,FALSE)))","v":0.76},0]
["CEMT IICBS_5leegbeide","CEMT II","CBS_5","leeg","beide","NOx",115.9954071602689,{"$f":"VLOOKUP(A45,Begin:Einde,7,FALSE)","v":0},1,{"$f":"VLOOKUP(Jaar,Trendfactoren!$A$2:$D$43,(HLOOKUP(Emissieberekening!F45,Trendfactoren!$A$1:$C$2,2,FALSE)))","v":0.87},0]
["CEMT IICBS_6geladenbeide","CEMT II","CBS_6","geladen","beide","Fijn Stof",12.629742388681015,{"$f":"VLOOKUP(A46,Begin:Einde,7,FALSE)","v":0},1,{"$f":"VLOOKUP(Jaar,Trendfactoren!$A$2:$D$43,(HLOOKUP(Emissieberekening!F46,Trendfactoren!$A$1:$C$2,2,FALSE)))","v":0.76},0]
["CEMT IICBS_6geladenbeide","CEMT II","CBS_6","geladen","beide","NOx",373.12377184644731,{"$f":"VLOOKUP(A47,Begin:Einde,7,FALSE)","v":0},1,{"$f":"VLOOKUP(Jaar,Trendfactoren!$A$2:$D$43,(HLOOKUP(Emissieberekening!F47,Trendfactoren!$A$1:$C$2,2,FALSE)))","v":0.87},0]
["CEMT IICBS_6leegbeide","CEMT II","CBS_6","leeg","beide","Fijn Stof",14.235830525541951,{"$f":"VLOOKUP(A48,Begin:Einde,7,FALSE)","v":0},1,{"$f":"VLOOKUP(Jaar,Trendfactoren!$A$2:$D$43,(HLOOKUP(Emissieberekening!F48,Trendfactoren!$A$1:$C$2,2,FALSE)))","v":0.76},0]
["CEMT IICBS_6leegbeide","CEMT II","CBS_6","leeg","beide","NOx",420.57285236613075,{"$f":"VLOOKUP(A49,Begin:Einde,7,FALSE)","v":0},1,{"$f":"VLOOKUP(Jaar,Trendfactoren!$A$2:$D$43,(HLOOKUP(Emissieberekening!F49,Trendfactoren!$A$1:$C$2,2,FALSE)))","v":0.87},0]
["CEMT IICBS_7geladenbeide","CEMT II","CBS_7","geladen","beide","Fijn Stof",13.111710041638185,{"$f":"VLOOKUP(A50,Begin:Einde,7,FALSE)","v":0},1,{"$f":"VLOOKUP(Jaar,Trendfactoren!$A$2:$D$43,(HLOOKUP(Emissieberekening!F50,Trendfactoren!$A$1:$C$2,2,FALSE)))","v":0.76},0]
["CEMT IICBS_7geladenbeide","CEMT II","CBS_7","geladen","beide","NOx",387.3626678622939,{"$f":"VLOOKUP(A51,Begin:Einde,7,FALSE)","v":0},1,{"$f":"VLOOKUP(Jaar,Trendfactoren!$A$2:$D$43,(HLOOKUP(Emissieberekening!F51,Trendfactoren!$A$1:$C$2,2,FALSE)))","v":0.87},0]
["CEMT IICBS_7leegbeide","CEMT II","CBS_7","leeg","beide","Fijn Stof",13.983233985205594,{"$f":"VLOOKUP(A52,Begin:Einde,7,FALSE)","v":0},1,{"$f":"VLOOKUP(Jaar,Trendfactoren!$A$2:$D$43,(HLOOKUP(Emissieberekening!F52,Trendfactoren!$A$1:$C$2,2,FALSE)))","v":0.76},0]
["CEMT IICBS_7leegbeide","CEMT II","CBS_7","leeg","beide","NOx",413.11032692537964,{"$f":"VLOOKUP(A53,Begin:Einde,7,FALSE)","v":0},1,{"$f":"VLOOKUP(Jaar,Trendfactoren!$A$2:$D$43,(HLOOKUP(Emissieberekening!F53,Trendfactoren!$A$1:$C$2,2,FALSE)))","v":0.87},0]
["CEMT IIICBS_1geladenbeide","CEMT III","CBS_1","geladen","beide","Fijn Stof",2.1560265608720415,{"$f":"VLOOKUP(A54,Begin:Einde,7,FALSE)","v":0},1,{"$f":"VLOOKUP(Jaar,Trendfactoren!$A$2:$D$43,(HLOOKUP(Emissieberekening!F54,Trendfactoren!$A$1:$C$2,2,FALSE)))","v":0.76},0]
["CEMT IIICBS_1geladenbeide","CEMT III","CBS_1","geladen","beide","NOx",63.696054744131189,{"$f":"VLOOKUP(A55,Begin:Einde,7,FALSE)","v":0},1,{"$f":"VLOOKUP(Jaar,Trendfactoren!$A$2:$D$43,(HLOOKUP(Emissieberekening!F55,Trendfactoren!$A$1:$C$2,2,FALSE)))","v":0.87},0]
["CEMT IIICBS_1leegbeide","CEMT III","CBS_1","leeg","beide","Fijn Stof",1.2759320317073166,{"$f":"VLOOKUP(A56,Begin:Einde,7,FALSE)","v":0},1,{"$f":"VLOOKUP(Jaar,Trendfactoren!$A$2:$D$43,(HLOOKUP(Emissieberekening!F56,Trendfactoren!$A$1:$C$2,2,FALSE)))","v":0.76},0]
["CEMT IIICBS_1leegbeide","CEMT III","CBS_1","leeg","beide","NOx",37.695192636471056,{"$f":"VLOOKUP(A57,Begin:Einde,7,FALSE)","v":0},1,{"$f":"VLOOKUP(Jaar,Trendfactoren!$A$2:$D$43,(HLOOKUP(Emissieberekening!F57,Trendfactoren!$A$1:$C$2,2,FALSE)))","v":0.87},0]
["CEMT IIICBS_2geladenbeide","CEMT III","CBS_2","geladen","beide","Fijn Stof",5.7139105528550758,{"$f":"VLOOKUP(A58,Begin:Einde,7,FALSE)","v":0},1,{"$f":"VLOOKUP(Jaar,Trendfactoren!$A$2:$D$43,(HLOOKUP(Emissieberekening!F58,Trendfactoren!$A$1:$C$2,2,FALSE)))","v":0.76},0]
["CEMT IIICBS_2geladenbeide","CEMT III","CBS_2","geladen","beide","NOx",168.80754902690882,{"$f":"VLOOKUP(A59,Begin:Einde,7,FALSE)","v":0},1,{"$f":"VLOOKUP(Jaar,Trendfactoren!$A$2:$D$43,(HLOOKUP(Emissieberekening!F59,Trendfactoren!$A$1:$C$2,2,FALSE)))","v":0.87},0]
["CEMT IIICBS_2leegbeide","CEMT III","CBS_2","leeg","beide","Fijn Stof",4.0866952988788299,{"$f":"VLOOKUP(A60,Begin:Einde,7,FALSE)","v":0},1,{"$f":"VLOOKUP(Jaar,Trendfactoren!$A$2:$D$43,(HLOOKUP(Emissieberekening!F60,Trendfactoren!$A$1:$C$2,2,FALSE)))","v":0.76},0]
["CEMT IIICBS_2leegbeide","CEMT III","CBS_2","leeg","beide","NOx",120.73430457864349,{"$f":"VLOOKUP(A61,Begin:Einde,7,FALSE)","v":0},1,{"$f":"VLOOKUP(Jaar,Trendfactoren!$A$2:$D$43,(HLOOKUP(Emissieberekening!F61,Trendfactoren!$A$1:$C$2,2,FALSE)))","v":0.87},0]
["CEMT IIICBS_3geladenbeide","CEMT III","CBS_3","geladen","beide","Fijn Stof",6.8050630824250566,{"$f":"VLOOKUP(A62,Begin:Einde,7,FALSE)","v":0},1,{"$f":"VLOOKUP(Jaar,Trendfactoren!$A$2:$D$43,(HLOOKUP(Emissieberekening!F62,Trendfactoren!$A$1:$C$2,2,FALSE)))","v":0.76},0]
["CEMT IIICBS_3geladenbeide","CEMT III","CBS_3","geladen","beide","NOx",201.04375266142083,{"$f":"VLOOKUP(A63,Begin:Einde,7,FALSE)","v":0},1,{"$f":"VLOOKUP(Jaar,Trendfactoren!$A$2:$D$43,(HLOOKUP(Emissieberekening!F63,Trendfactoren!$A$1:$C$2,2,FALSE)))","v":0.87},0]
["CEMT IIICBS_3leegbeide","CEMT III","CBS_3","leeg","beide","Fijn Stof",4.1843246306572679,{"$f":"VLOOKUP(A64,Begin:Einde,7,FALSE)","v":0},1,{"$f":"VLOOKUP(Jaar,Trendfactoren!$A$2:$D$43,(HLOOKUP(Emissieberekening!F64,Trendfactoren!$A$1:$C$2,2,FALSE)))","v":0.76},0]
["CEMT IIICBS_3leegbeide","CEMT III","CBS_3","leeg","beide","NOx",123.61859337844214,{"$f":"VLOOKUP(A65,Begin:Einde,7,FALSE)","v":0},1,{"$f":"VLOOKUP(Jaar,Trendfactoren!$A$2:$D$43,(HLOOKUP(Emissieberekening!F65,Trendfactoren!$A$1:$C$2,2,FALSE)))","v":0.87},0]
[{"$f":"+B66&C66&D66&E66","v":"CEMT IIICBS_4geladenbeide"},"CEMT III","CBS_4","geladen","beide","Fijn Stof",8.7273485314179293,{"$f":"VLOOKUP(A66,Begin:Einde,7,FALSE)","v":0},{"$f":"+Afstand","v":1},{"$f":"VLOOKUP(Jaar,Trendfactoren!$A$2:$D$43,(HLOOKUP(Emissieberekening!F66,Trendfactoren!$A$1:$C$2,2,FALSE)))","v":0.76},{"$f":"+G66*H66*I66*J66","v":0}]
["CEMT IIICBS_4geladenbeide","CEMT III","CBS_4","geladen","beide","NOx",257.83433280314904,{"$f":"VLOOKUP(A67,Begin:Einde,7,FALSE)","v":0},1,{"$f":"VLOOKUP(Jaar,Trendfactoren!$A$2:$D$43,(HLOOKUP(Emissieberekening!F67,Trendfactoren!$A$1:$C$2,2,FALSE)))","v":0.87},0]
["CEMT IIICBS_4leegbeide","CEMT III","CBS_4","leeg","beide","Fijn Stof",5.6114692599092013,{"$f":"VLOOKUP(A68,Begin:Einde,7,FALSE)","v":0},1,{"$f":"VLOOKUP(Jaar,Trendfactoren!$A$2:$D$43,(HLOOKUP(Emissieberekening!F68,Trendfactoren!$A$1:$C$2,2,FALSE)))","v":0.76},0]
["CEMT IIICBS_4leegbeide","CEMT III","CBS_4","leeg","beide","NOx",165.78109920390722,{"$f":"VLOOKUP(A69,Begin:Einde,7,FALSE)","v":0},1,{"$f":"VLOOKUP(Jaar,Trendfactoren!$A$2:$D$43,(HLOOKUP(Emissieberekening!F69,Trendfactoren!$A$1:$C$2,2,FALSE)))","v":0.87},0]
["CEMT IIICBS_5geladenbeide","CEMT III","CBS_5","geladen","beide","Fijn Stof",8.2733537856926276,{"$f":"VLOOKUP(A70,Begin:Einde,7,FALSE)","v":0},1,{"$f":"VLOOKUP(Jaar,Trendfactoren!$A$2:$D$43,(HLOOKUP(Emissieberekening!F70,Trendfactoren!$A$1:$C$2,2,FALSE)))","v":0.76},0]
["CEMT IIICBS_5geladenbeide","CEMT III","CBS_5","geladen","beide","NOx",244.42184767793273,{"$f":"VLOOKUP(A71,Begin:Einde,7,FALSE)","v":0},1,{"$f":"VLOOKUP(Jaar,Trendfactoren!$A$2:$D$43,(HLOOKUP(Emissieberekening!F71,Trendfactoren!$A$1:$C$2,2,FALSE)))","v":0.87},0]
["CEMT IIICBS_5leegbeide","CEMT III","CBS_5","leeg","beide","Fijn Stof",6.1010848634121571,{"$f":"VLOOKUP(A72,Begin:Einde,7,FALSE)","v":0},1,{"$f":"VLOOKUP(Jaar,Trendfactoren!$A$2:$D$43,(HLOOKUP(Emissieberekening!F72,Trendfactoren!$A$1:$C$2,2,FALSE)))","v":0.76},0]
["CEMT IIICBS_5leegbeide","CEMT III","CBS_5","leeg","beide","NOx",180.24594061647764,{"$f":"VLOOKUP(A73,Begin:Einde,7,FALSE)","v":0},1,{"$f":"VLOOKUP(Jaar,Trendfactoren!$A$2:$D$43,(HLOOKUP(Emissieberekening!F73,Trendfactoren!$A$1:$C$2,2,FALSE)))","v":0.87},0]
["CEMT IIICBS_6geladenbeide","CEMT III","CBS_6","geladen","beide","Fijn Stof",14.565479474406526,{"$f":"VLOOKUP(A74,Begin:Einde,7,FALSE)","v":0},1,{"$f":"VLOOKUP(Jaar,Trendfactoren!$A$2:$D$43,(HLOOKUP(Emissieberekening!F74,Trendfactoren!$A$1:$C$2,2,FALSE)))","v":0.76},0]
["CEMT IIICBS_6geladenbeide","CEMT III","CBS_6","geladen","beide","NOx",430.31175719888512,{"$f":"VLOOKUP(A75,Begin:Einde,7,FALSE)","v":0},1,{"$f":"VLOOKUP(Jaar,Trendfactoren!$A$2:$D$43,(HLOOKUP(Emissieberekening!F75,Trendfactoren!$A$1:$C$2,2,FALSE)))","v":0.87},0]
["CEMT IIICBS_6leegbeide","CEMT III","CBS_6","leeg","beide","Fijn Stof",9.3289799007823593,{"$f":"VLOOKUP(A76,Begin:Einde,7,FALSE)","v":0},1,{"$f":"VLOOKUP(Jaar,Trendfactoren!$A$2:$D$43,(HLOOKUP(Emissieberekening!F76,Trendfactoren!$A$1:$C$2,2,FALSE)))","v":0.76},0]
["CEMT IIICBS_6leegbeide","CEMT III","CBS_6","leeg","beide","NOx",275.60848518804454,{"$f":"VLOOKUP(A77,Begin:Einde,7,FALSE)","v":0},1,{"$f":"VLOOKUP(Jaar,Trendfactoren!$A$2:$D$43,(HLOOKUP(Emissieberekening!F77,Trendfactoren!$A$1:$C$2,2,FALSE)))","v":0.87},0]
["CEMT IVCBS_1geladenbeide","CEMT IV","CBS_1","geladen","beide","Fijn Stof",2.0595586315356145,{"$f":"VLOOKUP(A78,Begin:Einde,7,FALSE)","v":0},1,{"$f":"VLOOKUP(Jaar,Trendfactoren!$A$2:$D$43,(HLOOKUP(Emissieberekening!F78,Trendfactoren!$A$1:$C$2,2,FALSE)))","v":0.76},0]
["CEMT IVCBS_1geladenbeide","CEMT IV","CBS_1","geladen","beide","NOx",60.846077559443465,{"$f":"VLOOKUP(A79,Begin:Einde,7,FALSE)","v":0},1,{"$f":"VLOOKUP(Jaar,Trendfactoren!$A$2:$D$43,(HLOOKUP(Emissieberekening!F79,Trendfactoren!$A$1:$C$2,2,FALSE)))","v":0.87},0]
["CEMT IVCBS_1leegbeide","CEMT IV","CBS_1","leeg","beide","Fijn Stof",1.2869429679942233,{"$f":"VLOOKUP(A80,Begin:Einde,7,FALSE)","v":0},1,{"$f":"VLOOKUP(Jaar,Trendfactoren!$A$2:$D$43,(HLOOKUP(Emissieberekening!F80,Trendfactoren!$A$1:$C$2,2,FALSE)))","v":0.76},0]
["CEMT IVCBS_1leegbeide","CEMT IV","CBS_1","leeg","beide","NOx",38.020491597644913,{"$f":"VLOOKUP(A81,Begin:Einde,7,FALSE)","v":0},1,{"$f":"VLOOKUP(Jaar,Trendfactoren!$A$2:$D$43,(HLOOKUP(Emissieberekening!F81,Trendfactoren!$A$1:$C$2,2,FALSE)))","v":0.87},0]
["CEMT IVCBS_2geladenbeide","CEMT IV","CBS_2","geladen","beide","Fijn Stof",4.574893298086061,{"$f":"VLOOKUP(A82,Begin:Einde,7,FALSE)","v":0},1,{"$f":"VLOOKUP(Jaar,Trendfactoren!$A$2:$D$43,(HLOOKUP(Emissieberekening!F82,Trendfactoren!$A$1:$C$2,2,FALSE)))","v":0.76},0]
["CEMT IVCBS_2geladenbeide","CEMT IV","CBS_2","geladen","beide","NOx",135.15726533794947,{"$f":"VLOOKUP(A83,Begin:Einde,7,FALSE)","v":0},1,{"$f":"VLOOKUP(Jaar,Trendfactoren!$A$2:$D$43,(HLOOKUP(Emissieberekening!F83,Trendfactoren!$A$1:$C$2,2,FALSE)))","v":0.87},0]
["CEMT IVCBS_2leegbeide","CEMT IV","CBS_2","leeg","beide","Fijn Stof",2.4548394433483138,{"$f":"VLOOKUP(A84,Begin:Einde,7,FALSE)","v":0},1,{"$f":"VLOOKUP(Jaar,Trendfactoren!$A$2:$D$43,(HLOOKUP(Emissieberekening!F84,Trendfactoren!$A$1:$C$2,2,FALSE)))","v":0.76},0]
["CEMT IVCBS_2leegbeide","CEMT IV","CBS_2","leeg","beide","NOx",72.523961628896956,{"$f":"VLOOKUP(A85,Begin:Einde,7,FALSE)","v":0},1,{"$f":"VLOOKUP(Jaar,Trendfactoren!$A$2:$D$43,(HLOOKUP(Emissieberekening!F85,Trendfactoren!$A$1:$C$2,2,FALSE)))","v":0.87},0]
["CEMT IVCBS_3geladenbeide","CEMT IV","CBS_3","geladen","beide","Fijn Stof",6.4502043445521897,{"$f":"VLOOKUP(A86,Begin:Einde,7,FALSE)","v":0},1,{"$f":"VLOOKUP(Jaar,Trendfactoren!$A$2:$D$43,(HLOOKUP(Emissieberekening!F86,Trendfactoren!$A$1:$C$2,2,FALSE)))","v":0.76},0]
["CEMT IVCBS_3geladenbeide","CEMT IV","CBS_3","geladen","beide","NOx",190.56006846003447,{"$f":"VLOOKUP(A87,Begin:Einde,7,FALSE)","v":0},1,{"$f":"VLOOKUP(Jaar,Trendfactoren!$A$2:$D$43,(HLOOKUP(Emissieberekening!F87,Trendfactoren!$A$1:$C$2,2,FALSE)))","v":0.87},0]
["CEMT IVCBS_3leegbeide","CEMT IV","CBS_3","leeg","beide","Fijn Stof",4.6409769855792682,{"$f":"VLOOKUP(A88,Begin:Einde,7,FALSE)","v":0},1,{"$f":"VLOOKUP(Jaar,Trendfactoren!$A$2:$D$43,(HLOOKUP(Emissieberekening!F88,Trendfactoren!$A$1:$C$2,2,FALSE)))","v":0.76},0]
["CEMT IVCBS_3leegbeide","CEMT IV","CBS_3","leeg","beide","NOx",137.10959294497076,{"$f":"VLOOKUP(A89,Begin:Einde,7,FALSE)","v":0},1,{"$f":"VLOOKUP(Jaar,Trendfactoren!$A$2:$D$43,(HLOOKUP(Emissieberekening!F89,Trendfactoren!$A$1:$C$2,2,FALSE)))","v":0.87},0]
["CEMT IVCBS_4geladenbeide","CEMT IV","CBS_4","geladen","beide","Fijn Stof",8.5967201463071827,{"$f":"VLOOKUP(A90,Begin:Einde,7,FALSE)","v":0},1,{"$f":"VLOOKUP(Jaar,Trendfactoren!$A$2:$D$43,(HLOOKUP(Emissieberekening!F90,Trendfactoren!$A$1:$C$2,2,FALSE)))","v":0.76},0]
["CEMT IVCBS_4geladenbeide","CEMT IV","CBS_4","geladen","beide","NOx",253.97514436820327,{"$f":"VLOOKUP(A91,Begin:Einde,7,FALSE)","v":0},1,{"$f":"VLOOKUP(Jaar,Trendfactoren!$A$2:$D$43,(HLOOKUP(Emissieberekening!F91,Trendfactoren!$A$1:$C$2,2,FALSE)))","v":0.87},0]
["CEMT IVCBS_4leegbeide","CEMT IV","CBS_4","leeg","beide","Fijn Stof",6.1773010979607141,{"$f":"VLOOKUP(A92,Begin:Einde,7,FALSE)","v":0},1,{"$f":"VLOOKUP(Jaar,Trendfactoren!$A$2:$D$43,(HLOOKUP(Emissieberekening!F92,Trendfactoren!$A$1:$C$2,2,FALSE)))","v":0.76},0]
["CEMT IVCBS_4leegbeide","CEMT IV","CBS_4","leeg","beide","NOx",182.49761670261648,{"$f":"VLOOKUP(A93,Begin:Einde,7,FALSE)","v":0},1,{"$f":"VLOOKUP(Jaar,Trendfactoren!$A$2:$D$43,(HLOOKUP(Emissieberekening!F93,Trendfactoren!$A$1:$C$2,2,FALSE)))","v":0.87},0]
["CEMT IVCBS_5geladenbeide","CEMT IV","CBS_5","geladen","beide","Fijn Stof",10.470112256722185,{"$f":"VLOOKUP(A94,Begin:Einde,7,FALSE)","v":0},1,{"$f":"VLOOKUP(Jaar,Trendfactoren!$A$2:$D$43,(HLOOKUP(Emissieberekening!F94,Trendfactoren!$A$1:$C$2,2,FALSE)))","v":0.76},0]
["CEMT IVCBS_5geladenbeide","CEMT IV","CBS_5","geladen","beide","NOx",309.32125586228125,{"$f":"VLOOKUP(A95,Begin:Einde,7,FALSE)","v":0},1,{"$f":"VLOOKUP(Jaar,Trendfactoren!$A$2:$D$43,(HLOOKUP(Emissieberekening!F95,Trendfactoren!$A$1:$C$2,2,FALSE)))","v":0.87},0]
["CEMT IVCBS_5leegbeide","CEMT IV","CBS_5","leeg","beide","Fijn Stof",7.4504236291016168,{"$f":"VLOOKUP(A96,Begin:Einde,7,FALSE)","v":0},1,{"$f":"VLOOKUP(Jaar,Trendfactoren!$A$2:$D$43,(HLOOKUP(Emissieberekening!F96,Trendfactoren!$A$1:$C$2,2,FALSE)))","v":0.76},0]
["CEMT IVCBS_5leegbeide","CEMT IV","CBS_5","leeg","beide","NOx",220.10980753144426,{"$f":"VLOOKUP(A97,Begin:Einde,7,FALSE)","v":0},1,{"$f":"VLOOKUP(Jaar,Trendfactoren!$A$2:$D$43,(HLOOKUP(Emissieberekening!F97,Trendfactoren!$A$1:$C$2,2,FALSE)))","v":0.87},0]
["CEMT IVCBS_6geladenbeide","CEMT IV","CBS_6","geladen","beide","Fijn Stof",10.913411869584147,{"$f":"VLOOKUP(A98,Begin:Einde,7,FALSE)","v":0},1,{"$f":"VLOOKUP(Jaar,Trendfactoren!$A$2:$D$43,(HLOOKUP(Emissieberekening!F98,Trendfactoren!$A$1:$C$2,2,FALSE)))","v":0.76},0]
["CEMT IVCBS_6geladenbeide","CEMT IV","CBS_6","geladen","beide","NOx",322.41777188919292,{"$f":"VLOOKUP(A99,Begin:Einde,7,FALSE)","v":0},1,{"$f":"VLOOKUP(Jaar,Trendfactoren!$A$2:$D$43,(HLOOKUP(Emissieberekening!F99,Trendfactoren!$A$1:$C$2,2,FALSE)))","v":0.87},0]
["CEMT IVCBS_6leegbeide","CEMT IV","CBS_6","leeg","beide","Fijn Stof",8.2408750078866628,{"$f":"VLOOKUP(A100,Begin:Einde,7,FALSE)","v":0},1,{"$f":"VLOOKUP(Jaar,Trendfactoren!$A$2:$D$43,(HLOOKUP(Emissieberekening!F100,Trendfactoren!$A$1:$C$2,2,FALSE)))","v":0.76},0]
["CEMT IVCBS_6leegbeide","CEMT IV","CBS_6","leeg","beide","NOx",243.46231867829229,{"$f":"VLOOKUP(A101,Begin:Einde,7,FALSE)","v":0},1,{"$f":"VLOOKUP(Jaar,Trendfactoren!$A$2:$D$43,(HLOOKUP(Emissieberekening!F101,Trendfactoren!$A$1:$C$2,2,FALSE)))","v":0.87},0]
["CEMT IVCBS_7geladenbeide","CEMT IV","CBS_7","geladen","beide","Fijn Stof",8.6916648127147536,{"$f":"VLOOKUP(A102,Begin:Einde,7,FALSE)","v":0},1,{"$f":"VLOOKUP(Jaar,Trendfactoren!$A$2:$D$43,(HLOOKUP(Emissieberekening!F102,Trendfactoren!$A$1:$C$2,2,FALSE)))","v":0.76},0]
["CEMT IVCBS_7geladenbeide","CEMT IV","CBS_7","geladen","beide","NOx",256.78011939908373,{"$f":"VLOOKUP(A103,Begin:Einde,7,FALSE)","v":0},1,{"$f":"VLOOKUP(Jaar,Trendfactoren!$A$2:$D$43,(HLOOKUP(Emissieberekening!F103,Trendfactoren!$A$1:$C$2,2,FALSE)))","v":0.87},0]
["CEMT IVCBS_7leegbeide","CEMT IV","CBS_7","leeg","beide","Fijn Stof",6.2469991433704344,{"$f":"VLOOKUP(A104,Begin:Einde,7,FALSE)","v":0},1,{"$f":"VLOOKUP(Jaar,Trendfactoren!$A$2:$D$43,(HLOOKUP(Emissieberekening!F104,Trendfactoren!$A$1:$C$2,2,FALSE)))","v":0.76},0]
["CEMT IVCBS_7leegbeide","CEMT IV","CBS_7","leeg","beide","NOx",184.55672422779551,{"$f":"VLOOKUP(A105,Begin:Einde,7,FALSE)","v":0},1,{"$f":"VLOOKUP(Jaar,Trendfactoren!$A$2:$D$43,(HLOOKUP(Emissieberekening!F105,Trendfactoren!$A$1:$C$2,2,FALSE)))","v":0.87},0]
["CEMT VaCBS_1geladenbeide","CEMT Va","CBS_1","geladen","beide","Fijn Stof",2.2789144938857584,{"$f":"VLOOKUP(A106,Begin:Einde,7,FALSE)","v":0},1,{"$f":"VLOOKUP(Jaar,Trendfactoren!$A$2:$D$43,(HLOOKUP(Emissieberekening!F106,Trendfactoren!$A$1:$C$2,2,FALSE)))","v":0.76},0]
["CEMT VaCBS_1geladenbeide","CEMT Va","CBS_1","geladen","beide","NOx",67.32656498490897,{"$f":"VLOOKUP(A107,Begin:Einde,7,FALSE)","v":0},1,{"$f":"VLOOKUP(Jaar,Trendfactoren!$A$2:$D$43,(HLOOKUP(Emissieberekening!F107,Trendfactoren!$A$1:$C$2,2,FALSE)))","v":0.87},0]
["CEMT VaCBS_1leegbeide","CEMT Va","CBS_1","leeg","beide","Fijn Stof",1.3135433577354718,{"$f":"VLOOKUP(A108,Begin:Einde,7,FALSE)","v":0},1,{"$f":"VLOOKUP(Jaar,Trendfactoren!$A$2:$D$43,(HLOOKUP(Emissieberekening!F108,Trendfactoren!$A$1:$C$2,2,FALSE)))","v":0.76},0]
["CEMT VaCBS_1leegbeide","CEMT Va","CBS_1","leeg","beide","NOx",38.806353846247497,{"$f":"VLOOKUP(A109,Begin:Einde,7,FALSE)","v":0},1,{"$f":"VLOOKUP(Jaar,Trendfactoren!$A$2:$D$43,(HLOOKUP(Emissieberekening!F109,Trendfactoren!$A$1:$C$2,2,FALSE)))","v":0.87},0]
["CEMT VaCBS_10geladenbeide","CEMT Va","CBS_10","geladen","beide","Fijn Stof",39.095585350060887,{"$f":"VLOOKUP(A110,Begin:Einde,7,FALSE)","v":0},1,{"$f":"VLOOKUP(Jaar,Trendfactoren!$A$2:$D$43,(HLOOKUP(Emissieberekening!F110,Trendfactoren!$A$1:$C$2,2,FALSE)))","v":0.76},0]
["CEMT VaCBS_10geladenbeide","CEMT Va","CBS_10","geladen","beide","NOx",1155.011069856261,{"$f":"VLOOKUP(A111,Begin:Einde,7,FALSE)","v":0},1,{"$f":"VLOOKUP(Jaar,Trendfactoren!$A$2:$D$43,(HLOOKUP(Emissieberekening!F111,Trendfactoren!$A$1:$C$2,2,FALSE)))","v":0.87},0]
["CEMT VaCBS_10leegbeide","CEMT Va","CBS_10","leeg","beide","Fijn Stof",22.436604480822488,{"$f":"VLOOKUP(A112,Begin:Einde,7,FALSE)","v":0},1,{"$f":"VLOOKUP(Jaar,Trendfactoren!$A$2:$D$43,(HLOOKUP(Emissieberekening!F112,Trendfactoren!$A$1:$C$2,2,FALSE)))","v":0.76},0]
["CEMT VaCBS_10leegbeide","CEMT Va","CBS_10","leeg","beide","NOx",662.85045519330481,{"$f":"VLOOKUP(A113,Begin:Einde,7,FALSE)","v":0},1,{"$f":"VLOOKUP(Jaar,Trendfactoren!$A$2:$D$43,(HLOOKUP(Emissieberekening!F113,Trendfactoren!$A$1:$C$2,2,FALSE)))","v":0.87},0]
["CEMT VaCBS_2geladenbeide","CEMT Va","CBS_2","geladen","beide","Fijn Stof",4.0327028659213582,{"$f":"VLOOKUP(A114,Begin:Einde,7,FALSE)","v":0},1,{"$f":"VLOOKUP(Jaar,Trendfactoren!$A$2:$D$43,(HLOOKUP(Emissieberekening!F114,Trendfactoren!$A$1:$C$2,2,FALSE)))","v":0.76},0]
["CEMT VaCBS_2geladenbeide","CEMT Va","CBS_2","geladen","beide","NOx",119.13919205644964,{"$f":"VLOOKUP(A115,Begin:Einde,7,FALSE)","v":0},1,{"$f":"VLOOKUP(Jaar,Trendfactoren!$A$2:$D$43,(HLOOKUP(Emissieberekening!F115,Trendfactoren!$A$1:$C$2,2,FALSE)))","v":0.87},0]
["CEMT VaCBS_2leegbeide","CEMT Va","CBS_2","leeg","beide","Fijn Stof",2.4443685331306741,{"$f":"VLOOKUP(A116,Begin:Einde,7,FALSE)","v":0},1,{"$f":"VLOOKUP(Jaar,Trendfactoren!$A$2:$D$43,(HLOOKUP(Emissieberekening!F116,Trendfactoren!$A$1:$C$2,2,FALSE)))","v":0.76},0]
["CEMT VaCBS_2leegbeide","CEMT Va","CBS_2","leeg","beide","NOx",72.214616798667294,{"$f":"VLOOKUP(A117,Begin:Einde,7,FALSE)","v":0},1,{"$f":"VLOOKUP(Jaar,Trendfactoren!$A$2:$D$43,(HLOOKUP(Emissieberekening!F117,Trendfactoren!$A$1:$C$2,2,FALSE)))","v":0.87},0]
["CEMT VaCBS_3geladenbeide","CEMT Va","CBS_3","geladen","beide","Fijn Stof",6.425825096786987,{"$f":"VLOOKUP(A118,Begin:Einde,7,FALSE)","v":0},1,{"$f":"VLOOKUP(Jaar,Trendfactoren!$A$2:$D$43,(HLOOKUP(Emissieberekening!F118,Trendfactoren!$A$1:$C$2,2,FALSE)))","v":0.76},0]
["CEMT VaCBS_3geladenbeide","CEMT Va","CBS_3","geladen","beide","NOx",189.83982598786108,{"$f":"VLOOKUP(A119,Begin:Einde,7,FALSE)","v":0},1,{"$f":"VLOOKUP(Jaar,Trendfactoren!$A$2:$D$43,(HLOOKUP(Emissieberekening!F119,Trendfactoren!$A$1:$C$2,2,FALSE)))","v":0.87},0]
["CEMT VaCBS_3leegbeide","CEMT Va","CBS_3","leeg","beide","Fijn Stof",4.2780739751022123,{"$f":"VLOOKUP(A120,Begin:Einde,7,FALSE)","v":0},1,{"$f":"VLOOKUP(Jaar,Trendfactoren!$A$2:$D$43,(HLOOKUP(Emissieberekening!F120,Trendfactoren!$A$1:$C$2,2,FALSE)))","v":0.76},0]
["CEMT VaCBS_3leegbeide","CEMT Va","CBS_3","leeg","beide","NOx",126.38825470097098,{"$f":"VLOOKUP(A121,Begin:Einde,7,FALSE)","v":0},1,{"$f":"VLOOKUP(Jaar,Trendfactoren!$A$2:$D$43,(HLOOKUP(Emissieberekening!F121,Trendfactoren!$A$1:$C$2,2,FALSE)))","v":0.87},0]
["CEMT VaCBS_4geladenbeide","CEMT Va","CBS_4","geladen","beide","Fijn Stof",9.7969336604092696,{"$f":"VLOOKUP(A122,Begin:Einde,7,FALSE)","v":0},1,{"$f":"VLOOKUP(Jaar,Trendfactoren!$A$2:$D$43,(HLOOKUP(Emissieberekening!F122,Trendfactoren!$A$1:$C$2,2,FALSE)))","v":0.76},0]
["CEMT VaCBS_4geladenbeide","CEMT Va","CBS_4","geladen","beide","NOx",289.43336509994123,{"$f":"VLOOKUP(A123,Begin:Einde,7,FALSE)","v":0},1,{"$f":"VLOOKUP(Jaar,Trendfactoren!$A$2:$D$43,(HLOOKUP(Emissieberekening!F123,Trendfactoren!$A$1:$C$2,2,FALSE)))","v":0.87},0]
["CEMT VaCBS_4leegbeide","CEMT Va","CBS_4","leeg","beide","Fijn Stof",6.5904157621611574,{"$f":"VLOOKUP(A124,Begin:Einde,7,FALSE)","v":0},1,{"$f":"VLOOKUP(Jaar,Trendfactoren!$A$2:$D$43,(HLOOKUP(Emissieberekening!F124,Trendfactoren!$A$1:$C$2,2,FALSE)))","v":0.76},0]
["CEMT VaCBS_4leegbeide","CEMT Va","CBS_4","leeg","beide","NOx",194.7023709222828,{"$f":"VLOOKUP(A125,Begin:Einde,7,FALSE)","v":0},1,{"$f":"VLOOKUP(Jaar,Trendfactoren!$A$2:$D$43,(HLOOKUP(Emissieberekening!F125,Trendfactoren!$A$1:$C$2,2,FALSE)))","v":0.87},0]
["CEMT VaCBS_5geladenbeide","CEMT Va","CBS_5","geladen","beide","Fijn Stof",15.762158416548916,{"$f":"VLOOKUP(A126,Begin:Einde,7,FALSE)","v":0},1,{"$f":"VLOOKUP(Jaar,Trendfactoren!$A$2:$D$43,(HLOOKUP(Emissieberekening!F126,Trendfactoren!$A$1:$C$2,2,FALSE)))","v":0.76},0]
["CEMT VaCBS_5geladenbeide","CEMT Va","CBS_5","geladen","beide","NOx",465.66555514978961,{"$f":"VLOOKUP(A127,Begin:Einde,7,FALSE)","v":0},1,{"$f":"VLOOKUP(Jaar,Trendfactoren!$A$2:$D$43,(HLOOKUP(Emissieberekening!F127,Trendfactoren!$A$1:$C$2,2,FALSE)))","v":0.87},0]
["CEMT VaCBS_5leegbeide","CEMT Va","CBS_5","leeg","beide","Fijn Stof",8.6638576064555402,{"$f":"VLOOKUP(A128,Begin:Einde,7,FALSE)","v":0},1,{"$f":"VLOOKUP(Jaar,Trendfactoren!$A$2:$D$43,(HLOOKUP(Emissieberekening!F128,Trendfactoren!$A$1:$C$2,2,FALSE)))","v":0.76},0]
["CEMT VaCBS_5leegbeide","CEMT Va","CBS_5","leeg","beide","NOx",255.95860385548522,{"$f":"VLOOKUP(A129,Begin:Einde,7,FALSE)","v":0},1,{"$f":"VLOOKUP(Jaar,Trendfactoren!$A$2:$D$43,(HLOOKUP(Emissieberekening!F129,Trendfactoren!$A$1:$C$2,2,FALSE)))","v":0.87},0]
[{"$f":"+B130&C130&D130&E130","v":"CEMT VaCBS_6geladenbeide"},"CEMT Va","CBS_6","geladen","beide","Fijn Stof",14.835457671043178,{"$f":"VLOOKUP(A130,Begin:Einde,7,FALSE)","v":0},{"$f":"+Afstand","v":1},{"$f":"VLOOKUP(Jaar,Trendfactoren!$A$2:$D$43,(HLOOKUP(Emissieberekening!F130,Trendfactoren!$A$1:$C$2,2,FALSE)))","v":0.76},{"$f":"+G130*H130*I130*J130","v":0}]
["CEMT VaCBS_6geladenbeide","CEMT Va","CBS_6","geladen","beide","NOx",438.28779344295378,{"$f":"VLOOKUP(A131,Begin:Einde,7,FALSE)","v":0},1,{"$f":"VLOOKUP(Jaar,Trendfactoren!$A$2:$D$43,(HLOOKUP(Emissieberekening!F131,Trendfactoren!$A$1:$C$2,2,FALSE)))","v":0.87},0]
["CEMT VaCBS_6leegbeide","CEMT Va","CBS_6","leeg","beide","Fijn Stof",10.72525627845261,{"$f":"VLOOKUP(A132,Begin:Einde,7,FALSE)","v":0},1,{"$f":"VLOOKUP(Jaar,Trendfactoren!$A$2:$D$43,(HLOOKUP(Emissieberekening!F132,Trendfactoren!$A$1:$C$2,2,FALSE)))","v":0.76},0]
["CEMT VaCBS_6leegbeide","CEMT Va","CBS_6","leeg","beide","NOx",316.85904220996241,{"$f":"VLOOKUP(A133,Begin:Einde,7,FALSE)","v":0},1,{"$f":"VLOOKUP(Jaar,Trendfactoren!$A$2:$D$43,(HLOOKUP(Emissieberekening!F133,Trendfactoren!$A$1:$C$2,2,FALSE)))","v":0.87},0]
["CEMT VaCBS_7geladenbeide","CEMT Va","CBS_7","geladen","beide","Fijn Stof",16.918395200393292,{"$f":"VLOOKUP(A134,Begin:Einde,7,FALSE)","v":0},1,{"$f":"VLOOKUP(Jaar,Trendfactoren!$A$2:$D$43,(HLOOKUP(Emissieberekening!F134,Trendfactoren!$A$1:$C$2,2,FALSE)))","v":0.76},0]
["CEMT VaCBS_7geladenbeide","CEMT Va","CBS_7","geladen","beide","NOx",499.8245598751966,{"$f":"VLOOKUP(A135,Begin:Einde,7,FALSE)","v":0},1,{"$f":"VLOOKUP(Jaar,Trendfactoren!$A$2:$D$43,(HLOOKUP(Emissieberekening!F135,Trendfactoren!$A$1:$C$2,2,FALSE)))","v":0.87},0]
["CEMT VaCBS_7leegbeide","CEMT Va","CBS_7","leeg","beide","Fijn Stof",14.079748961452493,{"$f":"VLOOKUP(A136,Begin:Einde,7,FALSE)","v":0},1,{"$f":"VLOOKUP(Jaar,Trendfactoren!$A$2:$D$43,(HLOOKUP(Emissieberekening!F136,Trendfactoren!$A$1:$C$2,2,FALSE)))","v":0.76},0]
["CEMT VaCBS_7leegbeide","CEMT Va","CBS_7","leeg","beide","NOx",415.96169402921066,{"$f":"VLOOKUP(A137,Begin:Einde,7,FALSE)","v":0},1,{"$f":"VLOOKUP(Jaar,Trendfactoren!$A$2:$D$43,(HLOOKUP(Emissieberekening!F137,Trendfactoren!$A$1:$C$2,2,FALSE)))","v":0.87},0]
["CEMT VaCBS_9geladenbeide","CEMT Va","CBS_9","geladen","beide","Fijn Stof",27.579676595343745,{"$f":"VLOOKUP(A138,Begin:Einde,7,FALSE)","v":0},1,{"$f":"VLOOKUP(Jaar,Trendfactoren!$A$2:$D$43,(HLOOKUP(Emissieberekening!F138,Trendfactoren!$A$1:$C$2,2,FALSE)))","v":0.76},0]
["CEMT VaCBS_9geladenbeide","CEMT Va","CBS_9","geladen","beide","NOx",814.79357542418938,{"$f":"VLOOKUP(A139,Begin:Einde,7,FALSE)","v":0},1,{"$f":"VLOOKUP(Jaar,Trendfactoren!$A$2:$D$43,(HLOOKUP(Emissieberekening!F139,Trendfactoren!$A$1:$C$2,2,FALSE)))","v":0.87},0]
["CEMT VaCBS_9leegbeide","CEMT Va","CBS_9","leeg","beide","Fijn Stof",21.761176442907768,{"$f":"VLOOKUP(A140,Begin:Einde,7,FALSE)","v":0},1,{"$f":"VLOOKUP(Jaar,Trendfactoren!$A$2:$D$43,(HLOOKUP(Emissieberekening!F140,Trendfactoren!$A$1:$C$2,2,FALSE)))","v":0.76},0]
["CEMT VaCBS_9leegbeide","CEMT Va","CBS_9","leeg","beide","NOx",642.89610859131619,{"$f":"VLOOKUP(A141,Begin:Einde,7,FALSE)","v":0},1,{"$f":"VLOOKUP(Jaar,Trendfactoren!$A$2:$D$43,(HLOOKUP(Emissieberekening!F141,Trendfactoren!$A$1:$C$2,2,FALSE)))","v":0.87},0]
["CEMT VbCBS_1geladenbeide","CEMT Vb","CBS_1","geladen","beide","Fijn Stof",2.0814771665296652,{"$f":"VLOOKUP(A142,Begin:Einde,7,FALSE)","v":0},1,{"$f":"VLOOKUP(Jaar,Trendfactoren!$A$2:$D$43,(HLOOKUP(Emissieberekening!F142,Trendfactoren!$A$1:$C$2,2,FALSE)))","v":0.76},0]
["CEMT VbCBS_1geladenbeide","CEMT Vb","CBS_1","geladen","beide","NOx",61.493622552733143,{"$f":"VLOOKUP(A143,Begin:Einde,7,FALSE)","v":0},1,{"$f":"VLOOKUP(Jaar,Trendfactoren!$A$2:$D$43,(HLOOKUP(Emissieberekening!F143,Trendfactoren!$A$1:$C$2,2,FALSE)))","v":0.87},0]
["CEMT VbCBS_1leegbeide","CEMT Vb","CBS_1","leeg","beide","Fijn Stof",1.1471528551100547,{"$f":"VLOOKUP(A144,Begin:Einde,7,FALSE)","v":0},1,{"$f":"VLOOKUP(Jaar,Trendfactoren!$A$2:$D$43,(HLOOKUP(Emissieberekening!F144,Trendfactoren!$A$1:$C$2,2,FALSE)))","v":0.76},0]
["CEMT VbCBS_1leegbeide","CEMT Vb","CBS_1","leeg","beide","NOx",33.890635850711597,{"$f":"VLOOKUP(A145,Begin:Einde,7,FALSE)","v":0},1,{"$f":"VLOOKUP(Jaar,Trendfactoren!$A$2:$D$43,(HLOOKUP(Emissieberekening!F145,Trendfactoren!$A$1:$C$2,2,FALSE)))","v":0.87},0]
["CEMT VbCBS_2geladenbeide","CEMT Vb","CBS_2","geladen","beide","Fijn Stof",3.7461531616336003,{"$f":"VLOOKUP(A146,Begin:Einde,7,FALSE)","v":0},1,{"$f":"VLOOKUP(Jaar,Trendfactoren!$A$2:$D$43,(HLOOKUP(Emissieberekening!F146,Trendfactoren!$A$1:$C$2,2,FALSE)))","v":0.76},0]
["CEMT VbCBS_2geladenbeide","CEMT Vb","CBS_2","geladen","beide","NOx",110.67357944180506,{"$f":"VLOOKUP(A147,Begin:Einde,7,FALSE)","v":0},1,{"$f":"VLOOKUP(Jaar,Trendfactoren!$A$2:$D$43,(HLOOKUP(Emissieberekening!F147,Trendfactoren!$A$1:$C$2,2,FALSE)))","v":0.87},0]
["CEMT VbCBS_2leegbeide","CEMT Vb","CBS_2","leeg","beide","Fijn Stof",2.1574808514118393,{"$f":"VLOOKUP(A148,Begin:Einde,7,FALSE)","v":0},1,{"$f":"VLOOKUP(Jaar,Trendfactoren!$A$2:$D$43,(HLOOKUP(Emissieberekening!F148,Trendfactoren!$A$1:$C$2,2,FALSE)))","v":0.76},0]
["CEMT VbCBS_2leegbeide","CEMT Vb","CBS_2","leeg","beide","NOx",63.739019228668582,{"$f":"VLOOKUP(A149,Begin:Einde,7,FALSE)","v":0},1,{"$f":"VLOOKUP(Jaar,Trendfactoren!$A$2:$D$43,(HLOOKUP(Emissieberekening!F149,Trendfactoren!$A$1:$C$2,2,FALSE)))","v":0.87},0]
["CEMT VbCBS_3geladenbeide","CEMT Vb","CBS_3","geladen","beide","Fijn Stof",6.2967742008769152,{"$f":"VLOOKUP(A150,Begin:Einde,7,FALSE)","v":0},1,{"$f":"VLOOKUP(Jaar,Trendfactoren!$A$2:$D$43,(HLOOKUP(Emissieberekening!F150,Trendfactoren!$A$1:$C$2,2,FALSE)))","v":0.76},0]
["CEMT VbCBS_3geladenbeide","CEMT Vb","CBS_3","geladen","beide","NOx",186.02724172760938,{"$f":"VLOOKUP(A151,Begin:Einde,7,FALSE)","v":0},1,{"$f":"VLOOKUP(Jaar,Trendfactoren!$A$2:$D$43,(HLOOKUP(Emissieberekening!F151,Trendfactoren!$A$1:$C$2,2,FALSE)))","v":0.87},0]
["CEMT VbCBS_3leegbeide","CEMT Vb","CBS_3","leeg","beide","Fijn Stof",3.7327140056013484,{"$f":"VLOOKUP(A152,Begin:Einde,7,FALSE)","v":0},1,{"$f":"VLOOKUP(Jaar,Trendfactoren!$A$2:$D$43,(HLOOKUP(Emissieberekening!F152,Trendfactoren!$A$1:$C$2,2,FALSE)))","v":0.76},0]
["CEMT VbCBS_3leegbeide","CEMT Vb","CBS_3","leeg","beide","NOx",110.27654295167993,{"$f":"VLOOKUP(A153,Begin:Einde,7,FALSE)","v":0},1,{"$f":"VLOOKUP(Jaar,Trendfactoren!$A$2:$D$43,(HLOOKUP(Emissieberekening!F153,Trendfactoren!$A$1:$C$2,2,FALSE)))","v":0.87},0]
["CEMT VbCBS_4geladenbeide","CEMT Vb","CBS_4","geladen","beide","Fijn Stof",9.4407634814285402,{"$f":"VLOOKUP(A154,Begin:Einde,7,FALSE)","v":0},1,{"$f":"VLOOKUP(Jaar,Trendfactoren!$A$2:$D$43,(HLOOKUP(Emissieberekening!F154,Trendfactoren!$A$1:$C$2,2,FALSE)))","v":0.76},0]
["CEMT VbCBS_4geladenbeide","CEMT Vb","CBS_4","geladen","beide","NOx",278.91093665202584,{"$f":"VLOOKUP(A155,Begin:Einde,7,FALSE)","v":0},1,{"$f":"VLOOKUP(Jaar,Trendfactoren!$A$2:$D$43,(HLOOKUP(Emissieberekening!F155,Trendfactoren!$A$1:$C$2,2,FALSE)))","v":0.87},0]
["CEMT VbCBS_4leegbeide","CEMT Vb","CBS_4","leeg","beide","Fijn Stof",5.7661312010295172,{"$f":"VLOOKUP(A156,Begin:Einde,7,FALSE)","v":0},1,{"$f":"VLOOKUP(Jaar,Trendfactoren!$A$2:$D$43,(HLOOKUP(Emissieberekening!F156,Trendfactoren!$A$1:$C$2,2,FALSE)))","v":0.76},0]
["CEMT VbCBS_4leegbeide","CEMT Vb","CBS_4","leeg","beide","NOx",170.35031724937039,{"$f":"VLOOKUP(A157,Begin:Einde,7,FALSE)","v":0},1,{"$f":"VLOOKUP(Jaar,Trendfactoren!$A$2:$D$43,(HLOOKUP(Emissieberekening!F157,Trendfactoren!$A$1:$C$2,2,FALSE)))","v":0.87},0]
["CEMT VbCBS_5geladenbeide","CEMT Vb","CBS_5","geladen","beide","Fijn Stof",13.687613999888432,{"$f":"VLOOKUP(A158,Begin:Einde,7,FALSE)","v":0},1,{"$f":"VLOOKUP(Jaar,Trendfactoren!$A$2:$D$43,(HLOOKUP(Emissieberekening!F158,Trendfactoren!$A$1:$C$2,2,FALSE)))","v":0.76},0]
["CEMT VbCBS_5geladenbeide","CEMT Vb","CBS_5","geladen","beide","NOx",404.37674863374468,{"$f":"VLOOKUP(A159,Begin:Einde,7,FALSE)","v":0},1,{"$f":"VLOOKUP(Jaar,Trendfactoren!$A$2:$D$43,(HLOOKUP(Emissieberekening!F159,Trendfactoren!$A$1:$C$2,2,FALSE)))","v":0.87},0]
["CEMT VbCBS_5leegbeide","CEMT Vb","CBS_5","leeg","beide","Fijn Stof",7.2445812143999193,{"$f":"VLOOKUP(A160,Begin:Einde,7,FALSE)","v":0},1,{"$f":"VLOOKUP(Jaar,Trendfactoren!$A$2:$D$43,(HLOOKUP(Emissieberekening!F160,Trendfactoren!$A$1:$C$2,2,FALSE)))","v":0.76},0]
["CEMT VbCBS_5leegbeide","CEMT Vb","CBS_5","leeg","beide","NOx",214.02855141268827,{"$f":"VLOOKUP(A161,Begin:Einde,7,FALSE)","v":0},1,{"$f":"VLOOKUP(Jaar,Trendfactoren!$A$2:$D$43,(HLOOKUP(Emissieberekening!F161,Trendfactoren!$A$1:$C$2,2,FALSE)))","v":0.87},0]
["CEMT VbCBS_6geladenbeide","CEMT Vb","CBS_6","geladen","beide","Fijn Stof",13.206702108300391,{"$f":"VLOOKUP(A162,Begin:Einde,7,FALSE)","v":0},1,{"$f":"VLOOKUP(Jaar,Trendfactoren!$A$2:$D$43,(HLOOKUP(Emissieberekening!F162,Trendfactoren!$A$1:$C$2,2,FALSE)))","v":0.76},0]
["CEMT VbCBS_6geladenbeide","CEMT Vb","CBS_6","geladen","beide","NOx",390.16904325125341,{"$f":"VLOOKUP(A163,Begin:Einde,7,FALSE)","v":0},1,{"$f":"VLOOKUP(Jaar,Trendfactoren!$A$2:$D$43,(HLOOKUP(Emissieberekening!F163,Trendfactoren!$A$1:$C$2,2,FALSE)))","v":0.87},0]
["CEMT VbCBS_6leegbeide","CEMT Vb","CBS_6","leeg","beide","Fijn Stof",9.4965533878478521,{"$f":"VLOOKUP(A164,Begin:Einde,7,FALSE)","v":0},1,{"$f":"VLOOKUP(Jaar,Trendfactoren!$A$2:$D$43,(HLOOKUP(Emissieberekening!F164,Trendfactoren!$A$1:$C$2,2,FALSE)))","v":0.76},0]
["CEMT VbCBS_6leegbeide","CEMT Vb","CBS_6","leeg","beide","NOx",280.55915240128684,{"$f":"VLOOKUP(A165,Begin:Einde,7,FALSE)","v":0},1,{"$f":"VLOOKUP(Jaar,Trendfactoren!$A$2:$D$43,(HLOOKUP(Emissieberekening!F165,Trendfactoren!$A$1:$C$2,2,FALSE)))","v":0.87},0]
["CEMT VbCBS_7geladenbeide","CEMT Vb","CBS_7","geladen","beide","Fijn Stof",15.574343611192887,{"$f":"VLOOKUP(A166,Begin:Einde,7,FALSE)","v":0},1,{"$f":"VLOOKUP(Jaar,Trendfactoren!$A$2:$D$43,(HLOOKUP(Emissieberekening!F166,Trendfactoren!$A$1:$C$2,2,FALSE)))","v":0.76},0]
["CEMT VbCBS_7geladenbeide","CEMT Vb","CBS_7","geladen","beide","NOx",460.11689339356178,{"$f":"VLOOKUP(A167,Begin:Einde,7,FALSE)","v":0},1,{"$f":"VLOOKUP(Jaar,Trendfactoren!$A$2:$D$43,(HLOOKUP(Emissieberekening!F167,Trendfactoren!$A$1:$C$2,2,FALSE)))","v":0.87},0]
["CEMT VbCBS_7leegbeide","CEMT Vb","CBS_7","leeg","beide","Fijn Stof",12.573125783080382,{"$f":"VLOOKUP(A168,Begin:Einde,7,FALSE)","v":0},1,{"$f":"VLOOKUP(Jaar,Trendfactoren!$A$2:$D$43,(HLOOKUP(Emissieberekening!F168,Trendfactoren!$A$1:$C$2,2,FALSE)))","v":0.76},0]
["CEMT VbCBS_7leegbeide","CEMT Vb","CBS_7","leeg","beide","NOx",371.45113270776181,{"$f":"VLOOKUP(A169,Begin:Einde,7,FALSE)","v":0},1,{"$f":"VLOOKUP(Jaar,Trendfactoren!$A$2:$D$43,(HLOOKUP(Emissieberekening!F169,Trendfactoren!$A$1:$C$2,2,FALSE)))","v":0.87},0]
["CEMT VbCBS_9geladenbeide","CEMT Vb","CBS_9","geladen","beide","Fijn Stof",22.181643915448159,{"$f":"VLOOKUP(A170,Begin:Einde,7,FALSE)","v":0},1,{"$f":"VLOOKUP(Jaar,Trendfactoren!$A$2:$D$43,(HLOOKUP(Emissieberekening!F170,Trendfactoren!$A$1:$C$2,2,FALSE)))","v":0.76},0]
["CEMT VbCBS_9geladenbeide","CEMT Vb","CBS_9","geladen","beide","NOx",655.31808874457602,{"$f":"VLOOKUP(A171,Begin:Einde,7,FALSE)","v":0},1,{"$f":"VLOOKUP(Jaar,Trendfactoren!$A$2:$D$43,(HLOOKUP(Emissieberekening!F171,Trendfactoren!$A$1:$C$2,2,FALSE)))","v":0.87},0]
["CEMT VbCBS_9leegbeide","CEMT Vb","CBS_9","leeg","beide","Fijn Stof",19.137410516823898,{"$f":"VLOOKUP(A172,Begin:Einde,7,FALSE)","v":0},1,{"$f":"VLOOKUP(Jaar,Trendfactoren!$A$2:$D$43,(HLOOKUP(Emissieberekening!F172,Trendfactoren!$A$1:$C$2,2,FALSE)))","v":0.76},0]
["CEMT VbCBS_9leegbeide","CEMT Vb","CBS_9","leeg","beide","NOx",565.3815078453822,{"$f":"VLOOKUP(A173,Begin:Einde,7,FALSE)","v":0},1,{"$f":"VLOOKUP(Jaar,Trendfactoren!$A$2:$D$43,(HLOOKUP(Emissieberekening!F173,Trendfactoren!$A$1:$C$2,2,FALSE)))","v":0.87},0]
["CEMT VIaCBS_1geladenbeide","CEMT VIa","CBS_1","geladen","beide","Fijn Stof",2.1724525770088108,{"$f":"VLOOKUP(A174,Begin:Einde,7,FALSE)","v":0},1,{"$f":"VLOOKUP(Jaar,Trendfactoren!$A$2:$D$43,(HLOOKUP(Emissieberekening!F174,Trendfactoren!$A$1:$C$2,2,FALSE)))","v":0.76},0]
["CEMT VIaCBS_1geladenbeide","CEMT VIa","CBS_1","geladen","beide","NOx",64.181332820971051,{"$f":"VLOOKUP(A175,Begin:Einde,7,FALSE)","v":0},1,{"$f":"VLOOKUP(Jaar,Trendfactoren!$A$2:$D$43,(HLOOKUP(Emissieberekening!F175,Trendfactoren!$A$1:$C$2,2,FALSE)))","v":0.87},0]
["CEMT VIaCBS_1leegbeide","CEMT VIa","CBS_1","leeg","beide","Fijn Stof",1.202261704748977,{"$f":"VLOOKUP(A176,Begin:Einde,7,FALSE)","v":0},1,{"$f":"VLOOKUP(Jaar,Trendfactoren!$A$2:$D$43,(HLOOKUP(Emissieberekening!F176,Trendfactoren!$A$1:$C$2,2,FALSE)))","v":0.76},0]
["CEMT VIaCBS_1leegbeide","CEMT VIa","CBS_1","leeg","beide","NOx",35.518730961964359,{"$f":"VLOOKUP(A177,Begin:Einde,7,FALSE)","v":0},1,{"$f":"VLOOKUP(Jaar,Trendfactoren!$A$2:$D$43,(HLOOKUP(Emissieberekening!F177,Trendfactoren!$A$1:$C$2,2,FALSE)))","v":0.87},0]
["CEMT VIaCBS_2geladenbeide","CEMT VIa","CBS_2","geladen","beide","Fijn Stof",3.2709156963076187,{"$f":"VLOOKUP(A178,Begin:Einde,7,FALSE)","v":0},1,{"$f":"VLOOKUP(Jaar,Trendfactoren!$A$2:$D$43,(HLOOKUP(Emissieberekening!F178,Trendfactoren!$A$1:$C$2,2,FALSE)))","v":0.76},0]
["CEMT VIaCBS_2geladenbeide","CEMT VIa","CBS_2","geladen","beide","NOx",96.633515113644663,{"$f":"VLOOKUP(A179,Begin:Einde,7,FALSE)","v":0},1,{"$f":"VLOOKUP(Jaar,Trendfactoren!$A$2:$D$43,(HLOOKUP(Emissieberekening!F179,Trendfactoren!$A$1:$C$2,2,FALSE)))","v":0.87},0]
["CEMT VIaCBS_2leegbeide","CEMT VIa","CBS_2","leeg","beide","Fijn Stof",2.1431324795458035,{"$f":"VLOOKUP(A180,Begin:Einde,7,FALSE)","v":0},1,{"$f":"VLOOKUP(Jaar,Trendfactoren!$A$2:$D$43,(HLOOKUP(Emissieberekening!F180,Trendfactoren!$A$1:$C$2,2,FALSE)))","v":0.76},0]
["CEMT VIaCBS_2leegbeide","CEMT VIa","CBS_2","leeg","beide","NOx",63.315121538141689,{"$f":"VLOOKUP(A181,Begin:Einde,7,FALSE)","v":0},1,{"$f":"VLOOKUP(Jaar,Trendfactoren!$A$2:$D$43,(HLOOKUP(Emissieberekening!F181,Trendfactoren!$A$1:$C$2,2,FALSE)))","v":0.87},0]
["CEMT VIaCBS_3geladenbeide","CEMT VIa","CBS_3","geladen","beide","Fijn Stof",6.5074832428491947,{"$f":"VLOOKUP(A182,Begin:Einde,7,FALSE)","v":0},1,{"$f":"VLOOKUP(Jaar,Trendfactoren!$A$2:$D$43,(HLOOKUP(Emissieberekening!F182,Trendfactoren!$A$1:$C$2,2,FALSE)))","v":0.76},0]
["CEMT VIaCBS_3geladenbeide","CEMT VIa","CBS_3","geladen","beide","NOx",192.25227388450529,{"$f":"VLOOKUP(A183,Begin:Einde,7,FALSE)","v":0},1,{"$f":"VLOOKUP(Jaar,Trendfactoren!$A$2:$D$43,(HLOOKUP(Emissieberekening!F183,Trendfactoren!$A$1:$C$2,2,FALSE)))","v":0.87},0]
["CEMT VIaCBS_3leegbeide","CEMT VIa","CBS_3","leeg","beide","Fijn Stof",4.1893642778039499,{"$f":"VLOOKUP(A184,Begin:Einde,7,FALSE)","v":0},1,{"$f":"VLOOKUP(Jaar,Trendfactoren!$A$2:$D$43,(HLOOKUP(Emissieberekening!F184,Trendfactoren!$A$1:$C$2,2,FALSE)))","v":0.76},0]
["CEMT VIaCBS_3leegbeide","CEMT VIa","CBS_3","leeg","beide","NOx",123.767480987886,{"$f":"VLOOKUP(A185,Begin:Einde,7,FALSE)","v":0},1,{"$f":"VLOOKUP(Jaar,Trendfactoren!$A$2:$D$43,(HLOOKUP(Emissieberekening!F185,Trendfactoren!$A$1:$C$2,2,FALSE)))","v":0.87},0]
["CEMT VIaCBS_4geladenbeide","CEMT VIa","CBS_4","geladen","beide","Fijn Stof",11.041008981554707,{"$f":"VLOOKUP(A186,Begin:Einde,7,FALSE)","v":0},1,{"$f":"VLOOKUP(Jaar,Trendfactoren!$A$2:$D$43,(HLOOKUP(Emissieberekening!F186,Trendfactoren!$A$1:$C$2,2,FALSE)))","v":0.76},0]
["CEMT VIaCBS_4geladenbeide","CEMT VIa","CBS_4","geladen","beide","NOx",326.18740663153221,{"$f":"VLOOKUP(A187,Begin:Einde,7,FALSE)","v":0},1,{"$f":"VLOOKUP(Jaar,Trendfactoren!$A$2:$D$43,(HLOOKUP(Emissieberekening!F187,Trendfactoren!$A$1:$C$2,2,FALSE)))","v":0.87},0]
["CEMT VIaCBS_4leegbeide","CEMT VIa","CBS_4","leeg","beide","Fijn Stof",6.3780114938776613,{"$f":"VLOOKUP(A188,Begin:Einde,7,FALSE)","v":0},1,{"$f":"VLOOKUP(Jaar,Trendfactoren!$A$2:$D$43,(HLOOKUP(Emissieberekening!F188,Trendfactoren!$A$1:$C$2,2,FALSE)))","v":0.76},0]
["CEMT VIaCBS_4leegbeide","CEMT VIa","CBS_4","leeg","beide","NOx",188.42725625254516,{"$f":"VLOOKUP(A189,Begin:Einde,7,FALSE)","v":0},1,{"$f":"VLOOKUP(Jaar,Trendfactoren!$A$2:$D$43,(HLOOKUP(Emissieberekening!F189,Trendfactoren!$A$1:$C$2,2,FALSE)))","v":0.87},0]
["CEMT VIaCBS_5geladenbeide","CEMT VIa","CBS_5","geladen","beide","Fijn Stof",14.064537378880065,{"$f":"VLOOKUP(A190,Begin:Einde,7,FALSE)","v":0},1,{"$f":"VLOOKUP(Jaar,Trendfactoren!$A$2:$D$43,(HLOOKUP(Emissieberekening!F190,Trendfactoren!$A$1:$C$2,2,FALSE)))","v":0.76},0]
["CEMT VIaCBS_5geladenbeide","CEMT VIa","CBS_5","geladen","beide","NOx",415.51229427974977,{"$f":"VLOOKUP(A191,Begin:Einde,7,FALSE)","v":0},1,{"$f":"VLOOKUP(Jaar,Trendfactoren!$A$2:$D$43,(HLOOKUP(Emissieberekening!F191,Trendfactoren!$A$1:$C$2,2,FALSE)))","v":0.87},0]
["CEMT VIaCBS_5leegbeide","CEMT VIa","CBS_5","leeg","beide","Fijn Stof",7.453789991439348,{"$f":"VLOOKUP(A192,Begin:Einde,7,FALSE)","v":0},1,{"$f":"VLOOKUP(Jaar,Trendfactoren!$A$2:$D$43,(HLOOKUP(Emissieberekening!F192,Trendfactoren!$A$1:$C$2,2,FALSE)))","v":0.76},0]
["CEMT VIaCBS_5leegbeide","CEMT VIa","CBS_5","leeg","beide","NOx",220.209260851567,{"$f":"VLOOKUP(A193,Begin:Einde,7,FALSE)","v":0},1,{"$f":"VLOOKUP(Jaar,Trendfactoren!$A$2:$D$43,(HLOOKUP(Emissieberekening!F193,Trendfactoren!$A$1:$C$2,2,FALSE)))","v":0.87},0]
[{"$f":"+B194&C194&D194&E194","v":"CEMT VIaCBS_6geladenbeide"},"CEMT VIa","CBS_6","geladen","beide","Fijn Stof",14.816012515019501,{"$f":"VLOOKUP(A194,Begin:Einde,7,FALSE)","v":0},{"$f":"+Afstand","v":1},{"$f":"VLOOKUP(Jaar,Trendfactoren!$A$2:$D$43,(HLOOKUP(Emissieberekening!F194,Trendfactoren!$A$1:$C$2,2,FALSE)))","v":0.76},{"$f":"+G194*H194*I194*J194","v":0}]
["CEMT VIaCBS_6geladenbeide","CEMT VIa","CBS_6","geladen","beide","NOx",437.71332012937302,{"$f":"VLOOKUP(A195,Begin:Einde,7,FALSE)","v":0},1,{"$f":"VLOOKUP(Jaar,Trendfactoren!$A$2:$D$43,(HLOOKUP(Emissieberekening!F195,Trendfactoren!$A$1:$C$2,2,FALSE)))","v":0.87},0]
["CEMT VIaCBS_6leegbeide","CEMT VIa","CBS_6","leeg","beide","Fijn Stof",9.7691382296473801,{"$f":"VLOOKUP(A196,Begin:Einde,7,FALSE)","v":0},1,{"$f":"VLOOKUP(Jaar,Trendfactoren!$A$2:$D$43,(HLOOKUP(Emissieberekening!F196,Trendfactoren!$A$1:$C$2,2,FALSE)))","v":0.76},0]
["CEMT VIaCBS_6leegbeide","CEMT VIa","CBS_6","leeg","beide","NOx",288.61219744293066,{"$f":"VLOOKUP(A197,Begin:Einde,7,FALSE)","v":0},1,{"$f":"VLOOKUP(Jaar,Trendfactoren!$A$2:$D$43,(HLOOKUP(Emissieberekening!F197,Trendfactoren!$A$1:$C$2,2,FALSE)))","v":0.87},0]
["CEMT VIaCBS_7geladenbeide","CEMT VIa","CBS_7","geladen","beide","Fijn Stof",19.341098442500392,{"$f":"VLOOKUP(A198,Begin:Einde,7,FALSE)","v":0},1,{"$f":"VLOOKUP(Jaar,Trendfactoren!$A$2:$D$43,(HLOOKUP(Emissieberekening!F198,Trendfactoren!$A$1:$C$2,2,FALSE)))","v":0.76},0]
["CEMT VIaCBS_7geladenbeide","CEMT VIa","CBS_7","geladen","beide","NOx",571.39911333321072,{"$f":"VLOOKUP(A199,Begin:Einde,7,FALSE)","v":0},1,{"$f":"VLOOKUP(Jaar,Trendfactoren!$A$2:$D$43,(HLOOKUP(Emissieberekening!F199,Trendfactoren!$A$1:$C$2,2,FALSE)))","v":0.87},0]
["CEMT VIaCBS_7leegbeide","CEMT VIa","CBS_7","leeg","beide","Fijn Stof",12.37371026417453,{"$f":"VLOOKUP(A200,Begin:Einde,7,FALSE)","v":0},1,{"$f":"VLOOKUP(Jaar,Trendfactoren!$A$2:$D$43,(HLOOKUP(Emissieberekening!F200,Trendfactoren!$A$1:$C$2,2,FALSE)))","v":0.76},0]
["CEMT VIaCBS_7leegbeide","CEMT VIa","CBS_7","leeg","beide","NOx",365.55974804693284,{"$f":"VLOOKUP(A201,Begin:Einde,7,FALSE)","v":0},1,{"$f":"VLOOKUP(Jaar,Trendfactoren!$A$2:$D$43,(HLOOKUP(Emissieberekening!F201,Trendfactoren!$A$1:$C$2,2,FALSE)))","v":0.87},0]
["CEMT VIaCBS_9geladenbeide","CEMT VIa","CBS_9","geladen","beide","Fijn Stof",30.143912129424564,{"$f":"VLOOKUP(A202,Begin:Einde,7,FALSE)","v":0},1,{"$f":"VLOOKUP(Jaar,Trendfactoren!$A$2:$D$43,(HLOOKUP(Emissieberekening!F202,Trendfactoren!$A$1:$C$2,2,FALSE)))","v":0.76},0]
["CEMT VIaCBS_9geladenbeide","CEMT VIa","CBS_9","geladen","beide","NOx",890.54945428015071,{"$f":"VLOOKUP(A203,Begin:Einde,7,FALSE)","v":0},1,{"$f":"VLOOKUP(Jaar,Trendfactoren!$A$2:$D$43,(HLOOKUP(Emissieberekening!F203,Trendfactoren!$A$1:$C$2,2,FALSE)))","v":0.87},0]
["CEMT VIaCBS_9leegbeide","CEMT VIa","CBS_9","leeg","beide","Fijn Stof",18.297152242612444,{"$f":"VLOOKUP(A204,Begin:Einde,7,FALSE)","v":0},1,{"$f":"VLOOKUP(Jaar,Trendfactoren!$A$2:$D$43,(HLOOKUP(Emissieberekening!F204,Trendfactoren!$A$1:$C$2,2,FALSE)))","v":0.76},0]
["CEMT VIaCBS_9leegbeide","CEMT VIa","CBS_9","leeg","beide","NOx",540.5575386027524,{"$f":"VLOOKUP(A205,Begin:Einde,7,FALSE)","v":0},1,{"$f":"VLOOKUP(Jaar,Trendfactoren!$A$2:$D$43,(HLOOKUP(Emissieberekening!F205,Trendfactoren!$A$1:$C$2,2,FALSE)))","v":0.87},0]
["CEMT VIbCBS_1geladenbeide","CEMT VIb","CBS_1","geladen","beide","Fijn Stof",1.9059835742983191,{"$f":"VLOOKUP(A206,Begin:Einde,7,FALSE)","v":0},1,{"$f":"VLOOKUP(Jaar,Trendfactoren!$A$2:$D$43,(HLOOKUP(Emissieberekening!F206,Trendfactoren!$A$1:$C$2,2,FALSE)))","v":0.76},0]
["CEMT VIbCBS_1geladenbeide","CEMT VIb","CBS_1","geladen","beide","NOx",56.308969607877572,{"$f":"VLOOKUP(A207,Begin:Einde,7,FALSE)","v":0},1,{"$f":"VLOOKUP(Jaar,Trendfactoren!$A$2:$D$43,(HLOOKUP(Emissieberekening!F207,Trendfactoren!$A$1:$C$2,2,FALSE)))","v":0.87},0]
["CEMT VIbCBS_1leegbeide","CEMT VIb","CBS_1","leeg","beide","Fijn Stof",1.1593836183845956,{"$f":"VLOOKUP(A208,Begin:Einde,7,FALSE)","v":0},1,{"$f":"VLOOKUP(Jaar,Trendfactoren!$A$2:$D$43,(HLOOKUP(Emissieberekening!F208,Trendfactoren!$A$1:$C$2,2,FALSE)))","v":0.76},0]
["CEMT VIbCBS_1leegbeide","CEMT VIb","CBS_1","leeg","beide","NOx",34.251972478578814,{"$f":"VLOOKUP(A209,Begin:Einde,7,FALSE)","v":0},1,{"$f":"VLOOKUP(Jaar,Trendfactoren!$A$2:$D$43,(HLOOKUP(Emissieberekening!F209,Trendfactoren!$A$1:$C$2,2,FALSE)))","v":0.87},0]
["CEMT VIbCBS_10geladenbeide","CEMT VIb","CBS_10","geladen","beide","Fijn Stof",53.399189909443322,{"$f":"VLOOKUP(A210,Begin:Einde,7,FALSE)","v":0},1,{"$f":"VLOOKUP(Jaar,Trendfactoren!$A$2:$D$43,(HLOOKUP(Emissieberekening!F210,Trendfactoren!$A$1:$C$2,2,FALSE)))","v":0.76},0]
["CEMT VIbCBS_10geladenbeide","CEMT VIb","CBS_10","geladen","beide","NOx",1577.5861881722103,{"$f":"VLOOKUP(A211,Begin:Einde,7,FALSE)","v":0},1,{"$f":"VLOOKUP(Jaar,Trendfactoren!$A$2:$D$43,(HLOOKUP(Emissieberekening!F211,Trendfactoren!$A$1:$C$2,2,FALSE)))","v":0.87},0]
["CEMT VIbCBS_10leegbeide","CEMT VIb","CBS_10","leeg","beide","Fijn Stof",31.593366355601344,{"$f":"VLOOKUP(A212,Begin:Einde,7,FALSE)","v":0},1,{"$f":"VLOOKUP(Jaar,Trendfactoren!$A$2:$D$43,(HLOOKUP(Emissieberekening!F212,Trendfactoren!$A$1:$C$2,2,FALSE)))","v":0.76},0]
["CEMT VIbCBS_10leegbeide","CEMT VIb","CBS_10","leeg","beide","NOx",933.37105834347403,{"$f":"VLOOKUP(A213,Begin:Einde,7,FALSE)","v":0},1,{"$f":"VLOOKUP(Jaar,Trendfactoren!$A$2:$D$43,(HLOOKUP(Emissieberekening!F213,Trendfactoren!$A$1:$C$2,2,FALSE)))","v":0.87},0]
["CEMT VIbCBS_2geladenbeide","CEMT VIb","CBS_2","geladen","beide","Fijn Stof",3.3417745471523728,{"$f":"VLOOKUP(A214,Begin:Einde,7,FALSE)","v":0},1,{"$f":"VLOOKUP(Jaar,Trendfactoren!$A$2:$D$43,(HLOOKUP(Emissieberekening!F214,Trendfactoren!$A$1:$C$2,2,FALSE)))","v":0.76},0]
["CEMT VIbCBS_2geladenbeide","CEMT VIb","CBS_2","geladen","beide","NOx",98.726916616401681,{"$f":"VLOOKUP(A215,Begin:Einde,7,FALSE)","v":0},1,{"$f":"VLOOKUP(Jaar,Trendfactoren!$A$2:$D$43,(HLOOKUP(Emissieberekening!F215,Trendfactoren!$A$1:$C$2,2,FALSE)))","v":0.87},0]
["CEMT VIbCBS_2leegbeide","CEMT VIb","CBS_2","leeg","beide","Fijn Stof",2.0791548073628259,{"$f":"VLOOKUP(A216,Begin:Einde,7,FALSE)","v":0},1,{"$f":"VLOOKUP(Jaar,Trendfactoren!$A$2:$D$43,(HLOOKUP(Emissieberekening!F216,Trendfactoren!$A$1:$C$2,2,FALSE)))","v":0.76},0]
["CEMT VIbCBS_2leegbeide","CEMT VIb","CBS_2","leeg","beide","NOx",61.425012490449632,{"$f":"VLOOKUP(A217,Begin:Einde,7,FALSE)","v":0},1,{"$f":"VLOOKUP(Jaar,Trendfactoren!$A$2:$D$43,(HLOOKUP(Emissieberekening!F217,Trendfactoren!$A$1:$C$2,2,FALSE)))","v":0.87},0]
["CEMT VIbCBS_3geladenbeide","CEMT VIb","CBS_3","geladen","beide","Fijn Stof",5.6283118658792679,{"$f":"VLOOKUP(A218,Begin:Einde,7,FALSE)","v":0},1,{"$f":"VLOOKUP(Jaar,Trendfactoren!$A$2:$D$43,(HLOOKUP(Emissieberekening!F218,Trendfactoren!$A$1:$C$2,2,FALSE)))","v":0.76},0]
["CEMT VIbCBS_3geladenbeide","CEMT VIb","CBS_3","geladen","beide","NOx",166.27868470279304,{"$f":"VLOOKUP(A219,Begin:Einde,7,FALSE)","v":0},1,{"$f":"VLOOKUP(Jaar,Trendfactoren!$A$2:$D$43,(HLOOKUP(Emissieberekening!F219,Trendfactoren!$A$1:$C$2,2,FALSE)))","v":0.87},0]
["CEMT VIbCBS_3leegbeide","CEMT VIb","CBS_3","leeg","beide","Fijn Stof",3.5252488180063315,{"$f":"VLOOKUP(A220,Begin:Einde,7,FALSE)","v":0},1,{"$f":"VLOOKUP(Jaar,Trendfactoren!$A$2:$D$43,(HLOOKUP(Emissieberekening!F220,Trendfactoren!$A$1:$C$2,2,FALSE)))","v":0.76},0]
["CEMT VIbCBS_3leegbeide","CEMT VIb","CBS_3","leeg","beide","NOx",104.14734483029459,{"$f":"VLOOKUP(A221,Begin:Einde,7,FALSE)","v":0},1,{"$f":"VLOOKUP(Jaar,Trendfactoren!$A$2:$D$43,(HLOOKUP(Emissieberekening!F221,Trendfactoren!$A$1:$C$2,2,FALSE)))","v":0.87},0]
["CEMT VIbCBS_4geladenbeide","CEMT VIb","CBS_4","geladen","beide","Fijn Stof",9.687256287945134,{"$f":"VLOOKUP(A222,Begin:Einde,7,FALSE)","v":0},1,{"$f":"VLOOKUP(Jaar,Trendfactoren!$A$2:$D$43,(HLOOKUP(Emissieberekening!F222,Trendfactoren!$A$1:$C$2,2,FALSE)))","v":0.76},0]
["CEMT VIbCBS_4geladenbeide","CEMT VIb","CBS_4","geladen","beide","NOx",286.19313789335359,{"$f":"VLOOKUP(A223,Begin:Einde,7,FALSE)","v":0},1,{"$f":"VLOOKUP(Jaar,Trendfactoren!$A$2:$D$43,(HLOOKUP(Emissieberekening!F223,Trendfactoren!$A$1:$C$2,2,FALSE)))","v":0.87},0]
["CEMT VIbCBS_4leegbeide","CEMT VIb","CBS_4","leeg","beide","Fijn Stof",5.352805877270721,{"$f":"VLOOKUP(A224,Begin:Einde,7,FALSE)","v":0},1,{"$f":"VLOOKUP(Jaar,Trendfactoren!$A$2:$D$43,(HLOOKUP(Emissieberekening!F224,Trendfactoren!$A$1:$C$2,2,FALSE)))","v":0.76},0]
["CEMT VIbCBS_4leegbeide","CEMT VIb","CBS_4","leeg","beide","NOx",158.13933945945476,{"$f":"VLOOKUP(A225,Begin:Einde,7,FALSE)","v":0},1,{"$f":"VLOOKUP(Jaar,Trendfactoren!$A$2:$D$43,(HLOOKUP(Emissieberekening!F225,Trendfactoren!$A$1:$C$2,2,FALSE)))","v":0.87},0]
["CEMT VIbCBS_5geladenbeide","CEMT VIb","CBS_5","geladen","beide","Fijn Stof",11.679002491697482,{"$f":"VLOOKUP(A226,Begin:Einde,7,FALSE)","v":0},1,{"$f":"VLOOKUP(Jaar,Trendfactoren!$A$2:$D$43,(HLOOKUP(Emissieberekening!F226,Trendfactoren!$A$1:$C$2,2,FALSE)))","v":0.76},0]
["CEMT VIbCBS_5geladenbeide","CEMT VIb","CBS_5","geladen","beide","NOx",345.03581522071829,{"$f":"VLOOKUP(A227,Begin:Einde,7,FALSE)","v":0},1,{"$f":"VLOOKUP(Jaar,Trendfactoren!$A$2:$D$43,(HLOOKUP(Emissieberekening!F227,Trendfactoren!$A$1:$C$2,2,FALSE)))","v":0.87},0]
["CEMT VIbCBS_5leegbeide","CEMT VIb","CBS_5","leeg","beide","Fijn Stof",7.0733655400757707,{"$f":"VLOOKUP(A228,Begin:Einde,7,FALSE)","v":0},1,{"$f":"VLOOKUP(Jaar,Trendfactoren!$A$2:$D$43,(HLOOKUP(Emissieberekening!F228,Trendfactoren!$A$1:$C$2,2,FALSE)))","v":0.76},0]
["CEMT VIbCBS_5leegbeide","CEMT VIb","CBS_5","leeg","beide","NOx",208.97028211177798,{"$f":"VLOOKUP(A229,Begin:Einde,7,FALSE)","v":0},1,{"$f":"VLOOKUP(Jaar,Trendfactoren!$A$2:$D$43,(HLOOKUP(Emissieberekening!F229,Trendfactoren!$A$1:$C$2,2,FALSE)))","v":0.87},0]
["CEMT VIbCBS_6geladenbeide","CEMT VIb","CBS_6","geladen","beide","Fijn Stof",14.169497430262178,{"$f":"VLOOKUP(A230,Begin:Einde,7,FALSE)","v":0},1,{"$f":"VLOOKUP(Jaar,Trendfactoren!$A$2:$D$43,(HLOOKUP(Emissieberekening!F230,Trendfactoren!$A$1:$C$2,2,FALSE)))","v":0.76},0]
["CEMT VIbCBS_6geladenbeide","CEMT VIb","CBS_6","geladen","beide","NOx",418.6131564398529,{"$f":"VLOOKUP(A231,Begin:Einde,7,FALSE)","v":0},1,{"$f":"VLOOKUP(Jaar,Trendfactoren!$A$2:$D$43,(HLOOKUP(Emissieberekening!F231,Trendfactoren!$A$1:$C$2,2,FALSE)))","v":0.87},0]
["CEMT VIbCBS_6leegbeide","CEMT VIb","CBS_6","leeg","beide","Fijn Stof",9.2487562705031579,{"$f":"VLOOKUP(A232,Begin:Einde,7,FALSE)","v":0},1,{"$f":"VLOOKUP(Jaar,Trendfactoren!$A$2:$D$43,(HLOOKUP(Emissieberekening!F232,Trendfactoren!$A$1:$C$2,2,FALSE)))","v":0.76},0]
["CEMT VIbCBS_6leegbeide","CEMT VIb","CBS_6","leeg","beide","NOx",273.23841756514378,{"$f":"VLOOKUP(A233,Begin:Einde,7,FALSE)","v":0},1,{"$f":"VLOOKUP(Jaar,Trendfactoren!$A$2:$D$43,(HLOOKUP(Emissieberekening!F233,Trendfactoren!$A$1:$C$2,2,FALSE)))","v":0.87},0]
["CEMT VIbCBS_7geladenbeide","CEMT VIb","CBS_7","geladen","beide","Fijn Stof",18.054846052933936,{"$f":"VLOOKUP(A234,Begin:Einde,7,FALSE)","v":0},1,{"$f":"VLOOKUP(Jaar,Trendfactoren!$A$2:$D$43,(HLOOKUP(Emissieberekening!F234,Trendfactoren!$A$1:$C$2,2,FALSE)))","v":0.76},0]
["CEMT VIbCBS_7geladenbeide","CEMT VIb","CBS_7","geladen","beide","NOx",533.39902367408604,{"$f":"VLOOKUP(A235,Begin:Einde,7,FALSE)","v":0},1,{"$f":"VLOOKUP(Jaar,Trendfactoren!$A$2:$D$43,(HLOOKUP(Emissieberekening!F235,Trendfactoren!$A$1:$C$2,2,FALSE)))","v":0.87},0]
["CEMT VIbCBS_7leegbeide","CEMT VIb","CBS_7","leeg","beide","Fijn Stof",13.485172414983419,{"$f":"VLOOKUP(A236,Begin:Einde,7,FALSE)","v":0},1,{"$f":"VLOOKUP(Jaar,Trendfactoren!$A$2:$D$43,(HLOOKUP(Emissieberekening!F236,Trendfactoren!$A$1:$C$2,2,FALSE)))","v":0.76},0]
["CEMT VIbCBS_7leegbeide","CEMT VIb","CBS_7","leeg","beide","NOx",398.39596411623779,{"$f":"VLOOKUP(A237,Begin:Einde,7,FALSE)","v":0},1,{"$f":"VLOOKUP(Jaar,Trendfactoren!$A$2:$D$43,(HLOOKUP(Emissieberekening!F237,Trendfactoren!$A$1:$C$2,2,FALSE)))","v":0.87},0]
["CEMT VIbCBS_9geladenbeide","CEMT VIb","CBS_9","geladen","beide","Fijn Stof",31.335948195492342,{"$f":"VLOOKUP(A238,Begin:Einde,7,FALSE)","v":0},1,{"$f":"VLOOKUP(Jaar,Trendfactoren!$A$2:$D$43,(HLOOKUP(Emissieberekening!F238,Trendfactoren!$A$1:$C$2,2,FALSE)))","v":0.76},0]
["CEMT VIbCBS_9geladenbeide","CEMT VIb","CBS_9","geladen","beide","NOx",925.76608653282688,{"$f":"VLOOKUP(A239,Begin:Einde,7,FALSE)","v":0},1,{"$f":"VLOOKUP(Jaar,Trendfactoren!$A$2:$D$43,(HLOOKUP(Emissieberekening!F239,Trendfactoren!$A$1:$C$2,2,FALSE)))","v":0.87},0]
["CEMT VIbCBS_9leegbeide","CEMT VIb","CBS_9","leeg","beide","Fijn Stof",19.408198870712926,{"$f":"VLOOKUP(A240,Begin:Einde,7,FALSE)","v":0},1,{"$f":"VLOOKUP(Jaar,Trendfactoren!$A$2:$D$43,(HLOOKUP(Emissieberekening!F240,Trendfactoren!$A$1:$C$2,2,FALSE)))","v":0.76},0]
["CEMT VIbCBS_9leegbeide","CEMT VIb","CBS_9","leeg","beide","NOx",573.38147877635936,{"$f":"VLOOKUP(A241,Begin:Einde,7,FALSE)","v":0},1,{"$f":"VLOOKUP(Jaar,Trendfactoren!$A$2:$D$43,(HLOOKUP(Emissieberekening!F241,Trendfactoren!$A$1:$C$2,2,FALSE)))","v":0.87},0]
["CEMT VIcCBS_1geladenbeide","CEMT VIc","CBS_1","geladen","beide","Fijn Stof",1.7657424279619138,{"$f":"VLOOKUP(A242,Begin:Einde,7,FALSE)","v":0},1,{"$f":"VLOOKUP(Jaar,Trendfactoren!$A$2:$D$43,(HLOOKUP(Emissieberekening!F242,Trendfactoren!$A$1:$C$2,2,FALSE)))","v":0.76},0]
["CEMT VIcCBS_1geladenbeide","CEMT VIc","CBS_1","geladen","beide","NOx",52.16578886208454,{"$f":"VLOOKUP(A243,Begin:Einde,7,FALSE)","v":0},1,{"$f":"VLOOKUP(Jaar,Trendfactoren!$A$2:$D$43,(HLOOKUP(Emissieberekening!F243,Trendfactoren!$A$1:$C$2,2,FALSE)))","v":0.87},0]
["CEMT VIcCBS_1leegbeide","CEMT VIc","CBS_1","leeg","beide","Fijn Stof",1.0488658080197579,{"$f":"VLOOKUP(A244,Begin:Einde,7,FALSE)","v":0},1,{"$f":"VLOOKUP(Jaar,Trendfactoren!$A$2:$D$43,(HLOOKUP(Emissieberekening!F244,Trendfactoren!$A$1:$C$2,2,FALSE)))","v":0.76},0]
["CEMT VIcCBS_1leegbeide","CEMT VIc","CBS_1","leeg","beide","NOx",30.986915995994039,{"$f":"VLOOKUP(A245,Begin:Einde,7,FALSE)","v":0},1,{"$f":"VLOOKUP(Jaar,Trendfactoren!$A$2:$D$43,(HLOOKUP(Emissieberekening!F245,Trendfactoren!$A$1:$C$2,2,FALSE)))","v":0.87},0]
["CEMT VIcCBS_10geladenbeide","CEMT VIc","CBS_10","geladen","beide","Fijn Stof",54.259828379341037,{"$f":"VLOOKUP(A246,Begin:Einde,7,FALSE)","v":0},1,{"$f":"VLOOKUP(Jaar,Trendfactoren!$A$2:$D$43,(HLOOKUP(Emissieberekening!F246,Trendfactoren!$A$1:$C$2,2,FALSE)))","v":0.76},0]
["CEMT VIcCBS_10geladenbeide","CEMT VIc","CBS_10","geladen","beide","NOx",1603.0122548489262,{"$f":"VLOOKUP(A247,Begin:Einde,7,FALSE)","v":0},1,{"$f":"VLOOKUP(Jaar,Trendfactoren!$A$2:$D$43,(HLOOKUP(Emissieberekening!F247,Trendfactoren!$A$1:$C$2,2,FALSE)))","v":0.87},0]
["CEMT VIcCBS_10leegbeide","CEMT VIc","CBS_10","leeg","beide","Fijn Stof",35.083042043129517,{"$f":"VLOOKUP(A248,Begin:Einde,7,FALSE)","v":0},1,{"$f":"VLOOKUP(Jaar,Trendfactoren!$A$2:$D$43,(HLOOKUP(Emissieberekening!F248,Trendfactoren!$A$1:$C$2,2,FALSE)))","v":0.76},0]
["CEMT VIcCBS_10leegbeide","CEMT VIc","CBS_10","leeg","beide","NOx",1036.4674569064675,{"$f":"VLOOKUP(A249,Begin:Einde,7,FALSE)","v":0},1,{"$f":"VLOOKUP(Jaar,Trendfactoren!$A$2:$D$43,(HLOOKUP(Emissieberekening!F249,Trendfactoren!$A$1:$C$2,2,FALSE)))","v":0.87},0]
["CEMT VIcCBS_2geladenbeide","CEMT VIc","CBS_2","geladen","beide","Fijn Stof",3.0489178984177259,{"$f":"VLOOKUP(A250,Begin:Einde,7,FALSE)","v":0},1,{"$f":"VLOOKUP(Jaar,Trendfactoren!$A$2:$D$43,(HLOOKUP(Emissieberekening!F250,Trendfactoren!$A$1:$C$2,2,FALSE)))","v":0.76},0]
["CEMT VIcCBS_2geladenbeide","CEMT VIc","CBS_2","geladen","beide","NOx",90.074976297800461,{"$f":"VLOOKUP(A251,Begin:Einde,7,FALSE)","v":0},1,{"$f":"VLOOKUP(Jaar,Trendfactoren!$A$2:$D$43,(HLOOKUP(Emissieberekening!F251,Trendfactoren!$A$1:$C$2,2,FALSE)))","v":0.87},0]
["CEMT VIcCBS_2leegbeide","CEMT VIc","CBS_2","leeg","beide","Fijn Stof",1.8032784511075632,{"$f":"VLOOKUP(A252,Begin:Einde,7,FALSE)","v":0},1,{"$f":"VLOOKUP(Jaar,Trendfactoren!$A$2:$D$43,(HLOOKUP(Emissieberekening!F252,Trendfactoren!$A$1:$C$2,2,FALSE)))","v":0.76},0]
["CEMT VIcCBS_2leegbeide","CEMT VIc","CBS_2","leeg","beide","NOx",53.274725379172367,{"$f":"VLOOKUP(A253,Begin:Einde,7,FALSE)","v":0},1,{"$f":"VLOOKUP(Jaar,Trendfactoren!$A$2:$D$43,(HLOOKUP(Emissieberekening!F253,Trendfactoren!$A$1:$C$2,2,FALSE)))","v":0.87},0]
["CEMT VIcCBS_3geladenbeide","CEMT VIc","CBS_3","geladen","beide","Fijn Stof",5.0794605614423958,{"$f":"VLOOKUP(A254,Begin:Einde,7,FALSE)","v":0},1,{"$f":"VLOOKUP(Jaar,Trendfactoren!$A$2:$D$43,(HLOOKUP(Emissieberekening!F254,Trendfactoren!$A$1:$C$2,2,FALSE)))","v":0.76},0]
["CEMT VIcCBS_3geladenbeide","CEMT VIc","CBS_3","geladen","beide","NOx",150.06382753532915,{"$f":"VLOOKUP(A255,Begin:Einde,7,FALSE)","v":0},1,{"$f":"VLOOKUP(Jaar,Trendfactoren!$A$2:$D$43,(HLOOKUP(Emissieberekening!F255,Trendfactoren!$A$1:$C$2,2,FALSE)))","v":0.87},0]
["CEMT VIcCBS_3leegbeide","CEMT VIc","CBS_3","leeg","beide","Fijn Stof",3.3243660521528993,{"$f":"VLOOKUP(A256,Begin:Einde,7,FALSE)","v":0},1,{"$f":"VLOOKUP(Jaar,Trendfactoren!$A$2:$D$43,(HLOOKUP(Emissieberekening!F256,Trendfactoren!$A$1:$C$2,2,FALSE)))","v":0.76},0]
["CEMT VIcCBS_3leegbeide","CEMT VIc","CBS_3","leeg","beide","NOx",98.212612910397539,{"$f":"VLOOKUP(A257,Begin:Einde,7,FALSE)","v":0},1,{"$f":"VLOOKUP(Jaar,Trendfactoren!$A$2:$D$43,(HLOOKUP(Emissieberekening!F257,Trendfactoren!$A$1:$C$2,2,FALSE)))","v":0.87},0]
[{"$f":"+B258&C258&D258&E258","v":"CEMT VIcCBS_4geladenbeide"},"CEMT VIc","CBS_4","geladen","beide","Fijn Stof",9.0700416729235194,{"$f":"VLOOKUP(A258,Begin:Einde,7,FALSE)","v":0},{"$f":"+Afstand","v":1},{"$f":"VLOOKUP(Jaar,Trendfactoren!$A$2:$D$43,(HLOOKUP(Emissieberekening!F258,Trendfactoren!$A$1:$C$2,2,FALSE)))","v":0.76},{"$f":"+G258*H258*I258*J258","v":0}]
["CEMT VIcCBS_4geladenbeide","CEMT VIc","CBS_4","geladen","beide","NOx",267.95860561959745,{"$f":"VLOOKUP(A259,Begin:Einde,7,FALSE)","v":0},1,{"$f":"VLOOKUP(Jaar,Trendfactoren!$A$2:$D$43,(HLOOKUP(Emissieberekening!F259,Trendfactoren!$A$1:$C$2,2,FALSE)))","v":0.87},0]
["CEMT VIcCBS_4leegbeide","CEMT VIc","CBS_4","leeg","beide","Fijn Stof",5.0646656335284659,{"$f":"VLOOKUP(A260,Begin:Einde,7,FALSE)","v":0},1,{"$f":"VLOOKUP(Jaar,Trendfactoren!$A$2:$D$43,(HLOOKUP(Emissieberekening!F260,Trendfactoren!$A$1:$C$2,2,FALSE)))","v":0.76},0]
["CEMT VIcCBS_4leegbeide","CEMT VIc","CBS_4","leeg","beide","NOx",149.62673712306582,{"$f":"VLOOKUP(A261,Begin:Einde,7,FALSE)","v":0},1,{"$f":"VLOOKUP(Jaar,Trendfactoren!$A$2:$D$43,(HLOOKUP(Emissieberekening!F261,Trendfactoren!$A$1:$C$2,2,FALSE)))","v":0.87},0]
["CEMT VIcCBS_5geladenbeide","CEMT VIc","CBS_5","geladen","beide","Fijn Stof",11.727937554909783,{"$f":"VLOOKUP(A262,Begin:Einde,7,FALSE)","v":0},1,{"$f":"VLOOKUP(Jaar,Trendfactoren!$A$2:$D$43,(HLOOKUP(Emissieberekening!F262,Trendfactoren!$A$1:$C$2,2,FALSE)))","v":0.76},0]
["CEMT VIcCBS_5geladenbeide","CEMT VIc","CBS_5","geladen","beide","NOx",346.48151655012089,{"$f":"VLOOKUP(A263,Begin:Einde,7,FALSE)","v":0},1,{"$f":"VLOOKUP(Jaar,Trendfactoren!$A$2:$D$43,(HLOOKUP(Emissieberekening!F263,Trendfactoren!$A$1:$C$2,2,FALSE)))","v":0.87},0]
["CEMT VIcCBS_5leegbeide","CEMT VIc","CBS_5","leeg","beide","Fijn Stof",6.3320763696474298,{"$f":"VLOOKUP(A264,Begin:Einde,7,FALSE)","v":0},1,{"$f":"VLOOKUP(Jaar,Trendfactoren!$A$2:$D$43,(HLOOKUP(Emissieberekening!F264,Trendfactoren!$A$1:$C$2,2,FALSE)))","v":0.76},0]
["CEMT VIcCBS_5leegbeide","CEMT VIc","CBS_5","leeg","beide","NOx",187.07018290254686,{"$f":"VLOOKUP(A265,Begin:Einde,7,FALSE)","v":0},1,{"$f":"VLOOKUP(Jaar,Trendfactoren!$A$2:$D$43,(HLOOKUP(Emissieberekening!F265,Trendfactoren!$A$1:$C$2,2,FALSE)))","v":0.87},0]
["CEMT VIcCBS_6geladenbeide","CEMT VIc","CBS_6","geladen","beide","Fijn Stof",13.54167714586101,{"$f":"VLOOKUP(A266,Begin:Einde,7,FALSE)","v":0},1,{"$f":"VLOOKUP(Jaar,Trendfactoren!$A$2:$D$43,(HLOOKUP(Emissieberekening!F266,Trendfactoren!$A$1:$C$2,2,FALSE)))","v":0.76},0]
["CEMT VIcCBS_6geladenbeide","CEMT VIc","CBS_6","geladen","beide","NOx",400.06529811081708,{"$f":"VLOOKUP(A267,Begin:Einde,7,FALSE)","v":0},1,{"$f":"VLOOKUP(Jaar,Trendfactoren!$A$2:$D$43,(HLOOKUP(Emissieberekening!F267,Trendfactoren!$A$1:$C$2,2,FALSE)))","v":0.87},0]
["CEMT VIcCBS_6leegbeide","CEMT VIc","CBS_6","leeg","beide","Fijn Stof",8.74801046305803,{"$f":"VLOOKUP(A268,Begin:Einde,7,FALSE)","v":0},1,{"$f":"VLOOKUP(Jaar,Trendfactoren!$A$2:$D$43,(HLOOKUP(Emissieberekening!F268,Trendfactoren!$A$1:$C$2,2,FALSE)))","v":0.76},0]
["CEMT VIcCBS_6leegbeide","CEMT VIc","CBS_6","leeg","beide","NOx",258.4447536359674,{"$f":"VLOOKUP(A269,Begin:Einde,7,FALSE)","v":0},1,{"$f":"VLOOKUP(Jaar,Trendfactoren!$A$2:$D$43,(HLOOKUP(Emissieberekening!F269,Trendfactoren!$A$1:$C$2,2,FALSE)))","v":0.87},0]
["CEMT VIcCBS_7geladenbeide","CEMT VIc","CBS_7","geladen","beide","Fijn Stof",16.940449921538811,{"$f":"VLOOKUP(A270,Begin:Einde,7,FALSE)","v":0},1,{"$f":"VLOOKUP(Jaar,Trendfactoren!$A$2:$D$43,(HLOOKUP(Emissieberekening!F270,Trendfactoren!$A$1:$C$2,2,FALSE)))","v":0.76},0]
["CEMT VIcCBS_7geladenbeide","CEMT VIc","CBS_7","geladen","beide","NOx",500.47612825146007,{"$f":"VLOOKUP(A271,Begin:Einde,7,FALSE)","v":0},1,{"$f":"VLOOKUP(Jaar,Trendfactoren!$A$2:$D$43,(HLOOKUP(Emissieberekening!F271,Trendfactoren!$A$1:$C$2,2,FALSE)))","v":0.87},0]
["CEMT VIcCBS_7leegbeide","CEMT VIc","CBS_7","leeg","beide","Fijn Stof",11.895990174425046,{"$f":"VLOOKUP(A272,Begin:Einde,7,FALSE)","v":0},1,{"$f":"VLOOKUP(Jaar,Trendfactoren!$A$2:$D$43,(HLOOKUP(Emissieberekening!F272,Trendfactoren!$A$1:$C$2,2,FALSE)))","v":0.76},0]
["CEMT VIcCBS_7leegbeide","CEMT VIc","CBS_7","leeg","beide","NOx",351.44633889823393,{"$f":"VLOOKUP(A273,Begin:Einde,7,FALSE)","v":0},1,{"$f":"VLOOKUP(Jaar,Trendfactoren!$A$2:$D$43,(HLOOKUP(Emissieberekening!F273,Trendfactoren!$A$1:$C$2,2,FALSE)))","v":0.87},0]
["CEMT VIcCBS_9geladenbeide","CEMT VIc","CBS_9","geladen","beide","Fijn Stof",29.834961172758664,{"$f":"VLOOKUP(A274,Begin:Einde,7,FALSE)","v":0},1,{"$f":"VLOOKUP(Jaar,Trendfactoren!$A$2:$D$43,(HLOOKUP(Emissieberekening!F274,Trendfactoren!$A$1:$C$2,2,FALSE)))","v":0.76},0]
["CEMT VIcCBS_9geladenbeide","CEMT VIc","CBS_9","geladen","beide","NOx",881.42203562669545,{"$f":"VLOOKUP(A275,Begin:Einde,7,FALSE)","v":0},1,{"$f":"VLOOKUP(Jaar,Trendfactoren!$A$2:$D$43,(HLOOKUP(Emissieberekening!F275,Trendfactoren!$A$1:$C$2,2,FALSE)))","v":0.87},0]
["CEMT VIcCBS_9leegbeide","CEMT VIc","CBS_9","leeg","beide","Fijn Stof",17.823128451702303,{"$f":"VLOOKUP(A276,Begin:Einde,7,FALSE)","v":0},1,{"$f":"VLOOKUP(Jaar,Trendfactoren!$A$2:$D$43,(HLOOKUP(Emissieberekening!F276,Trendfactoren!$A$1:$C$2,2,FALSE)))","v":0.76},0]
["CEMT VIcCBS_9leegbeide","CEMT VIc","CBS_9","leeg","beide","NOx",526.55333017425039,{"$f":"VLOOKUP(A277,Begin:Einde,7,FALSE)","v":0},1,{"$f":"VLOOKUP(Jaar,Trendfactoren!$A$2:$D$43,(HLOOKUP(Emissieberekening!F277,Trendfactoren!$A$1:$C$2,2,FALSE)))","v":0.87},0]
["IJsselCBS_1geladenaf","IJssel","CBS_1","geladen","af","Fijn Stof",2.1545543886340965,{"$f":"VLOOKUP(A278,Begin:Einde,7,FALSE)","v":0},1,{"$f":"VLOOKUP(Jaar,Trendfactoren!$A$2:$D$43,(HLOOKUP(Emissieberekening!F278,Trendfactoren!$A$1:$C$2,2,FALSE)))","v":0.76},0]
["IJsselCBS_1geladenaf","IJssel","CBS_1","geladen","af","NOx",63.652561975923824,{"$f":"VLOOKUP(A279,Begin:Einde,7,FALSE)","v":0},1,{"$f":"VLOOKUP(Jaar,Trendfactoren!$A$2:$D$43,(HLOOKUP(Emissieberekening!F279,Trendfactoren!$A$1:$C$2,2,FALSE)))","v":0.87},0]
["IJsselCBS_1geladenop","IJssel","CBS_1","geladen","op","Fijn Stof",1.8132603760818717,{"$f":"VLOOKUP(A280,Begin:Einde,7,FALSE)","v":0},1,{"$f":"VLOOKUP(Jaar,Trendfactoren!$A$2:$D$43,(HLOOKUP(Emissieberekening!F280,Trendfactoren!$A$1:$C$2,2,FALSE)))","v":0.76},0]
["IJsselCBS_1geladenop","IJssel","CBS_1","geladen","op","NOx",53.569623990884374,{"$f":"VLOOKUP(A281,Begin:Einde,7,FALSE)","v":0},1,{"$f":"VLOOKUP(Jaar,Trendfactoren!$A$2:$D$43,(HLOOKUP(Emissieberekening!F281,Trendfactoren!$A$1:$C$2,2,FALSE)))","v":0.87},0]
["IJsselCBS_1leegaf","IJssel","CBS_1","leeg","af","Fijn Stof",0.96836763933787973,{"$f":"VLOOKUP(A282,Begin:Einde,7,FALSE)","v":0},1,{"$f":"VLOOKUP(Jaar,Trendfactoren!$A$2:$D$43,(HLOOKUP(Emissieberekening!F282,Trendfactoren!$A$1:$C$2,2,FALSE)))","v":0.76},0]
["IJsselCBS_1leegaf","IJssel","CBS_1","leeg","af","NOx",28.608737613493343,{"$f":"VLOOKUP(A283,Begin:Einde,7,FALSE)","v":0},1,{"$f":"VLOOKUP(Jaar,Trendfactoren!$A$2:$D$43,(HLOOKUP(Emissieberekening!F283,Trendfactoren!$A$1:$C$2,2,FALSE)))","v":0.87},0]
["IJsselCBS_1leegop","IJssel","CBS_1","leeg","op","Fijn Stof",1.286063340809156,{"$f":"VLOOKUP(A284,Begin:Einde,7,FALSE)","v":0},1,{"$f":"VLOOKUP(Jaar,Trendfactoren!$A$2:$D$43,(HLOOKUP(Emissieberekening!F284,Trendfactoren!$A$1:$C$2,2,FALSE)))","v":0.76},0]
["IJsselCBS_1leegop","IJssel","CBS_1","leeg","op","NOx",37.994504542405764,{"$f":"VLOOKUP(A285,Begin:Einde,7,FALSE)","v":0},1,{"$f":"VLOOKUP(Jaar,Trendfactoren!$A$2:$D$43,(HLOOKUP(Emissieberekening!F285,Trendfactoren!$A$1:$C$2,2,FALSE)))","v":0.87},0]
["IJsselCBS_2geladenaf","IJssel","CBS_2","geladen","af","Fijn Stof",2.7940560610437517,{"$f":"VLOOKUP(A286,Begin:Einde,7,FALSE)","v":0},1,{"$f":"VLOOKUP(Jaar,Trendfactoren!$A$2:$D$43,(HLOOKUP(Emissieberekening!F286,Trendfactoren!$A$1:$C$2,2,FALSE)))","v":0.76},0]
["IJsselCBS_2geladenaf","IJssel","CBS_2","geladen","af","NOx",82.545526596124517,{"$f":"VLOOKUP(A287,Begin:Einde,7,FALSE)","v":0},1,{"$f":"VLOOKUP(Jaar,Trendfactoren!$A$2:$D$43,(HLOOKUP(Emissieberekening!F287,Trendfactoren!$A$1:$C$2,2,FALSE)))","v":0.87},0]
["IJsselCBS_2geladenop","IJssel","CBS_2","geladen","op","Fijn Stof",4.1382197128056966,{"$f":"VLOOKUP(A288,Begin:Einde,7,FALSE)","v":0},1,{"$f":"VLOOKUP(Jaar,Trendfactoren!$A$2:$D$43,(HLOOKUP(Emissieberekening!F288,Trendfactoren!$A$1:$C$2,2,FALSE)))","v":0.76},0]
["IJsselCBS_2geladenop","IJssel","CBS_2","geladen","op","NOx",122.25650377122513,{"$f":"VLOOKUP(A289,Begin:Einde,7,FALSE)","v":0},1,{"$f":"VLOOKUP(Jaar,Trendfactoren!$A$2:$D$43,(HLOOKUP(Emissieberekening!F289,Trendfactoren!$A$1:$C$2,2,FALSE)))","v":0.87},0]
["IJsselCBS_2leegaf","IJssel","CBS_2","leeg","af","Fijn Stof",1.8378798468233466,{"$f":"VLOOKUP(A290,Begin:Einde,7,FALSE)","v":0},1,{"$f":"VLOOKUP(Jaar,Trendfactoren!$A$2:$D$43,(HLOOKUP(Emissieberekening!F290,Trendfactoren!$A$1:$C$2,2,FALSE)))","v":0.76},0]
["IJsselCBS_2leegaf","IJssel","CBS_2","leeg","af","NOx",54.29696343306918,{"$f":"VLOOKUP(A291,Begin:Einde,7,FALSE)","v":0},1,{"$f":"VLOOKUP(Jaar,Trendfactoren!$A$2:$D$43,(HLOOKUP(Emissieberekening!F291,Trendfactoren!$A$1:$C$2,2,FALSE)))","v":0.87},0]
["IJsselCBS_2leegop","IJssel","CBS_2","leeg","op","Fijn Stof",2.2465227478971035,{"$f":"VLOOKUP(A292,Begin:Einde,7,FALSE)","v":0},1,{"$f":"VLOOKUP(Jaar,Trendfactoren!$A$2:$D$43,(HLOOKUP(Emissieberekening!F292,Trendfactoren!$A$1:$C$2,2,FALSE)))","v":0.76},0]
["IJsselCBS_2leegop","IJssel","CBS_2","leeg","op","NOx",66.369607188935888,{"$f":"VLOOKUP(A293,Begin:Einde,7,FALSE)","v":0},1,{"$f":"VLOOKUP(Jaar,Trendfactoren!$A$2:$D$43,(HLOOKUP(Emissieberekening!F293,Trendfactoren!$A$1:$C$2,2,FALSE)))","v":0.87},0]
["IJsselCBS_3geladenaf","IJssel","CBS_3","geladen","af","Fijn Stof",4.9492078293555561,{"$f":"VLOOKUP(A294,Begin:Einde,7,FALSE)","v":0},1,{"$f":"VLOOKUP(Jaar,Trendfactoren!$A$2:$D$43,(HLOOKUP(Emissieberekening!F294,Trendfactoren!$A$1:$C$2,2,FALSE)))","v":0.76},0]
["IJsselCBS_3geladenaf","IJssel","CBS_3","geladen","af","NOx",146.21573711559842,{"$f":"VLOOKUP(A295,Begin:Einde,7,FALSE)","v":0},1,{"$f":"VLOOKUP(Jaar,Trendfactoren!$A$2:$D$43,(HLOOKUP(Emissieberekening!F295,Trendfactoren!$A$1:$C$2,2,FALSE)))","v":0.87},0]
["IJsselCBS_3geladenop","IJssel","CBS_3","geladen","op","Fijn Stof",6.5509586276014344,{"$f":"VLOOKUP(A296,Begin:Einde,7,FALSE)","v":0},1,{"$f":"VLOOKUP(Jaar,Trendfactoren!$A$2:$D$43,(HLOOKUP(Emissieberekening!F296,Trendfactoren!$A$1:$C$2,2,FALSE)))","v":0.76},0]
["IJsselCBS_3geladenop","IJssel","CBS_3","geladen","op","NOx",193.53667850987262,{"$f":"VLOOKUP(A297,Begin:Einde,7,FALSE)","v":0},1,{"$f":"VLOOKUP(Jaar,Trendfactoren!$A$2:$D$43,(HLOOKUP(Emissieberekening!F297,Trendfactoren!$A$1:$C$2,2,FALSE)))","v":0.87},0]
["IJsselCBS_3leegaf","IJssel","CBS_3","leeg","af","Fijn Stof",3.3313864805274029,{"$f":"VLOOKUP(A298,Begin:Einde,7,FALSE)","v":0},1,{"$f":"VLOOKUP(Jaar,Trendfactoren!$A$2:$D$43,(HLOOKUP(Emissieberekening!F298,Trendfactoren!$A$1:$C$2,2,FALSE)))","v":0.76},0]
["IJsselCBS_3leegaf","IJssel","CBS_3","leeg","af","NOx",98.420019256027118,{"$f":"VLOOKUP(A299,Begin:Einde,7,FALSE)","v":0},1,{"$f":"VLOOKUP(Jaar,Trendfactoren!$A$2:$D$43,(HLOOKUP(Emissieberekening!F299,Trendfactoren!$A$1:$C$2,2,FALSE)))","v":0.87},0]
["IJsselCBS_3leegop","IJssel","CBS_3","leeg","op","Fijn Stof",4.1180685568667581,{"$f":"VLOOKUP(A300,Begin:Einde,7,FALSE)","v":0},1,{"$f":"VLOOKUP(Jaar,Trendfactoren!$A$2:$D$43,(HLOOKUP(Emissieberekening!F300,Trendfactoren!$A$1:$C$2,2,FALSE)))","v":0.76},0]
["IJsselCBS_3leegop","IJssel","CBS_3","leeg","op","NOx",121.66117291810001,{"$f":"VLOOKUP(A301,Begin:Einde,7,FALSE)","v":0},1,{"$f":"VLOOKUP(Jaar,Trendfactoren!$A$2:$D$43,(HLOOKUP(Emissieberekening!F301,Trendfactoren!$A$1:$C$2,2,FALSE)))","v":0.87},0]
["IJsselCBS_4geladenaf","IJssel","CBS_4","geladen","af","Fijn Stof",6.0177407788362798,{"$f":"VLOOKUP(A302,Begin:Einde,7,FALSE)","v":0},1,{"$f":"VLOOKUP(Jaar,Trendfactoren!$A$2:$D$43,(HLOOKUP(Emissieberekening!F302,Trendfactoren!$A$1:$C$2,2,FALSE)))","v":0.76},0]
["IJsselCBS_4geladenaf","IJssel","CBS_4","geladen","af","NOx",177.78368459881716,{"$f":"VLOOKUP(A303,Begin:Einde,7,FALSE)","v":0},1,{"$f":"VLOOKUP(Jaar,Trendfactoren!$A$2:$D$43,(HLOOKUP(Emissieberekening!F303,Trendfactoren!$A$1:$C$2,2,FALSE)))","v":0.87},0]
["IJsselCBS_4geladenop","IJssel","CBS_4","geladen","op","Fijn Stof",8.1941757071549226,{"$f":"VLOOKUP(A304,Begin:Einde,7,FALSE)","v":0},1,{"$f":"VLOOKUP(Jaar,Trendfactoren!$A$2:$D$43,(HLOOKUP(Emissieberekening!F304,Trendfactoren!$A$1:$C$2,2,FALSE)))","v":0.76},0]
["IJsselCBS_4geladenop","IJssel","CBS_4","geladen","op","NOx",242.08266906269714,{"$f":"VLOOKUP(A305,Begin:Einde,7,FALSE)","v":0},1,{"$f":"VLOOKUP(Jaar,Trendfactoren!$A$2:$D$43,(HLOOKUP(Emissieberekening!F305,Trendfactoren!$A$1:$C$2,2,FALSE)))","v":0.87},0]
["IJsselCBS_4leegaf","IJssel","CBS_4","leeg","af","Fijn Stof",4.5549695222292241,{"$f":"VLOOKUP(A306,Begin:Einde,7,FALSE)","v":0},1,{"$f":"VLOOKUP(Jaar,Trendfactoren!$A$2:$D$43,(HLOOKUP(Emissieberekening!F306,Trendfactoren!$A$1:$C$2,2,FALSE)))","v":0.76},0]
["IJsselCBS_4leegaf","IJssel","CBS_4","leeg","af","NOx",134.5686520338659,{"$f":"VLOOKUP(A307,Begin:Einde,7,FALSE)","v":0},1,{"$f":"VLOOKUP(Jaar,Trendfactoren!$A$2:$D$43,(HLOOKUP(Emissieberekening!F307,Trendfactoren!$A$1:$C$2,2,FALSE)))","v":0.87},0]
["IJsselCBS_4leegop","IJssel","CBS_4","leeg","op","Fijn Stof",5.6228353039500556,{"$f":"VLOOKUP(A308,Begin:Einde,7,FALSE)","v":0},1,{"$f":"VLOOKUP(Jaar,Trendfactoren!$A$2:$D$43,(HLOOKUP(Emissieberekening!F308,Trendfactoren!$A$1:$C$2,2,FALSE)))","v":0.76},0]
["IJsselCBS_4leegop","IJssel","CBS_4","leeg","op","NOx",166.1168892060285,{"$f":"VLOOKUP(A309,Begin:Einde,7,FALSE)","v":0},1,{"$f":"VLOOKUP(Jaar,Trendfactoren!$A$2:$D$43,(HLOOKUP(Emissieberekening!F309,Trendfactoren!$A$1:$C$2,2,FALSE)))","v":0.87},0]
["IJsselCBS_5geladenaf","IJssel","CBS_5","geladen","af","Fijn Stof",7.5438616745769913,{"$f":"VLOOKUP(A310,Begin:Einde,7,FALSE)","v":0},1,{"$f":"VLOOKUP(Jaar,Trendfactoren!$A$2:$D$43,(HLOOKUP(Emissieberekening!F310,Trendfactoren!$A$1:$C$2,2,FALSE)))","v":0.76},0]
["IJsselCBS_5geladenaf","IJssel","CBS_5","geladen","af","NOx",222.87027206736167,{"$f":"VLOOKUP(A311,Begin:Einde,7,FALSE)","v":0},1,{"$f":"VLOOKUP(Jaar,Trendfactoren!$A$2:$D$43,(HLOOKUP(Emissieberekening!F311,Trendfactoren!$A$1:$C$2,2,FALSE)))","v":0.87},0]
["IJsselCBS_5geladenop","IJssel","CBS_5","geladen","op","Fijn Stof",10.814161472028863,{"$f":"VLOOKUP(A312,Begin:Einde,7,FALSE)","v":0},1,{"$f":"VLOOKUP(Jaar,Trendfactoren!$A$2:$D$43,(HLOOKUP(Emissieberekening!F312,Trendfactoren!$A$1:$C$2,2,FALSE)))","v":0.76},0]
["IJsselCBS_5geladenop","IJssel","CBS_5","geladen","op","NOx",319.48559152055213,{"$f":"VLOOKUP(A313,Begin:Einde,7,FALSE)","v":0},1,{"$f":"VLOOKUP(Jaar,Trendfactoren!$A$2:$D$43,(HLOOKUP(Emissieberekening!F313,Trendfactoren!$A$1:$C$2,2,FALSE)))","v":0.87},0]
["IJsselCBS_5leegaf","IJssel","CBS_5","leeg","af","Fijn Stof",5.5558376843882122,{"$f":"VLOOKUP(A314,Begin:Einde,7,FALSE)","v":0},1,{"$f":"VLOOKUP(Jaar,Trendfactoren!$A$2:$D$43,(HLOOKUP(Emissieberekening!F314,Trendfactoren!$A$1:$C$2,2,FALSE)))","v":0.76},0]
["IJsselCBS_5leegaf","IJssel","CBS_5","leeg","af","NOx",164.13756106564986,{"$f":"VLOOKUP(A315,Begin:Einde,7,FALSE)","v":0},1,{"$f":"VLOOKUP(Jaar,Trendfactoren!$A$2:$D$43,(HLOOKUP(Emissieberekening!F315,Trendfactoren!$A$1:$C$2,2,FALSE)))","v":0.87},0]
["IJsselCBS_5leegop","IJssel","CBS_5","leeg","op","Fijn Stof",7.0164836292183574,{"$f":"VLOOKUP(A316,Begin:Einde,7,FALSE)","v":0},1,{"$f":"VLOOKUP(Jaar,Trendfactoren!$A$2:$D$43,(HLOOKUP(Emissieberekening!F316,Trendfactoren!$A$1:$C$2,2,FALSE)))","v":0.76},0]
["IJsselCBS_5leegop","IJssel","CBS_5","leeg","op","NOx",207.28980499072708,{"$f":"VLOOKUP(A317,Begin:Einde,7,FALSE)","v":0},1,{"$f":"VLOOKUP(Jaar,Trendfactoren!$A$2:$D$43,(HLOOKUP(Emissieberekening!F317,Trendfactoren!$A$1:$C$2,2,FALSE)))","v":0.87},0]
["IJsselCBS_6geladenaf","IJssel","CBS_6","geladen","af","Fijn Stof",5.8311131161046248,{"$f":"VLOOKUP(A318,Begin:Einde,7,FALSE)","v":0},1,{"$f":"VLOOKUP(Jaar,Trendfactoren!$A$2:$D$43,(HLOOKUP(Emissieberekening!F318,Trendfactoren!$A$1:$C$2,2,FALSE)))","v":0.76},0]
["IJsselCBS_6geladenaf","IJssel","CBS_6","geladen","af","NOx",172.27009490662073,{"$f":"VLOOKUP(A319,Begin:Einde,7,FALSE)","v":0},1,{"$f":"VLOOKUP(Jaar,Trendfactoren!$A$2:$D$43,(HLOOKUP(Emissieberekening!F319,Trendfactoren!$A$1:$C$2,2,FALSE)))","v":0.87},0]
["IJsselCBS_6geladenop","IJssel","CBS_6","geladen","op","Fijn Stof",9.1721841006193063,{"$f":"VLOOKUP(A320,Begin:Einde,7,FALSE)","v":0},1,{"$f":"VLOOKUP(Jaar,Trendfactoren!$A$2:$D$43,(HLOOKUP(Emissieberekening!F320,Trendfactoren!$A$1:$C$2,2,FALSE)))","v":0.76},0]
["IJsselCBS_6geladenop","IJssel","CBS_6","geladen","op","NOx",270.97622598860499,{"$f":"VLOOKUP(A321,Begin:Einde,7,FALSE)","v":0},1,{"$f":"VLOOKUP(Jaar,Trendfactoren!$A$2:$D$43,(HLOOKUP(Emissieberekening!F321,Trendfactoren!$A$1:$C$2,2,FALSE)))","v":0.87},0]
[{"$f":"+B322&C322&D322&E322","v":"IJsselCBS_6leegaf"},"IJssel","CBS_6","leeg","af","Fijn Stof",6.1267423376146883,{"$f":"VLOOKUP(A322,Begin:Einde,7,FALSE)","v":0},{"$f":"+Afstand","v":1},{"$f":"VLOOKUP(Jaar,Trendfactoren!$A$2:$D$43,(HLOOKUP(Emissieberekening!F322,Trendfactoren!$A$1:$C$2,2,FALSE)))","v":0.76},{"$f":"+G322*H322*I322*J322","v":0}]
["IJsselCBS_6leegaf","IJssel","CBS_6","leeg","af","NOx",181.00394606551072,{"$f":"VLOOKUP(A323,Begin:Einde,7,FALSE)","v":0},1,{"$f":"VLOOKUP(Jaar,Trendfactoren!$A$2:$D$43,(HLOOKUP(Emissieberekening!F323,Trendfactoren!$A$1:$C$2,2,FALSE)))","v":0.87},0]
["IJsselCBS_6leegop","IJssel","CBS_6","leeg","op","Fijn Stof",7.7026413738594615,{"$f":"VLOOKUP(A324,Begin:Einde,7,FALSE)","v":0},1,{"$f":"VLOOKUP(Jaar,Trendfactoren!$A$2:$D$43,(HLOOKUP(Emissieberekening!F324,Trendfactoren!$A$1:$C$2,2,FALSE)))","v":0.76},0]
["IJsselCBS_6leegop","IJssel","CBS_6","leeg","op","NOx",227.56114211567009,{"$f":"VLOOKUP(A325,Begin:Einde,7,FALSE)","v":0},1,{"$f":"VLOOKUP(Jaar,Trendfactoren!$A$2:$D$43,(HLOOKUP(Emissieberekening!F325,Trendfactoren!$A$1:$C$2,2,FALSE)))","v":0.87},0]
["IJsselCBS_7geladenaf","IJssel","CBS_7","geladen","af","Fijn Stof",11.116291245797804,{"$f":"VLOOKUP(A326,Begin:Einde,7,FALSE)","v":0},1,{"$f":"VLOOKUP(Jaar,Trendfactoren!$A$2:$D$43,(HLOOKUP(Emissieberekening!F326,Trendfactoren!$A$1:$C$2,2,FALSE)))","v":0.76},0]
["IJsselCBS_7geladenaf","IJssel","CBS_7","geladen","af","NOx",328.41149018946027,{"$f":"VLOOKUP(A327,Begin:Einde,7,FALSE)","v":0},1,{"$f":"VLOOKUP(Jaar,Trendfactoren!$A$2:$D$43,(HLOOKUP(Emissieberekening!F327,Trendfactoren!$A$1:$C$2,2,FALSE)))","v":0.87},0]
["IJsselCBS_7geladenop","IJssel","CBS_7","geladen","op","Fijn Stof",13.152124771606573,{"$f":"VLOOKUP(A328,Begin:Einde,7,FALSE)","v":0},1,{"$f":"VLOOKUP(Jaar,Trendfactoren!$A$2:$D$43,(HLOOKUP(Emissieberekening!F328,Trendfactoren!$A$1:$C$2,2,FALSE)))","v":0.76},0]
["IJsselCBS_7geladenop","IJssel","CBS_7","geladen","op","NOx",388.55665076549826,{"$f":"VLOOKUP(A329,Begin:Einde,7,FALSE)","v":0},1,{"$f":"VLOOKUP(Jaar,Trendfactoren!$A$2:$D$43,(HLOOKUP(Emissieberekening!F329,Trendfactoren!$A$1:$C$2,2,FALSE)))","v":0.87},0]
["IJsselCBS_7leegaf","IJssel","CBS_7","leeg","af","Fijn Stof",7.7812621808010185,{"$f":"VLOOKUP(A330,Begin:Einde,7,FALSE)","v":0},1,{"$f":"VLOOKUP(Jaar,Trendfactoren!$A$2:$D$43,(HLOOKUP(Emissieberekening!F330,Trendfactoren!$A$1:$C$2,2,FALSE)))","v":0.76},0]
["IJsselCBS_7leegaf","IJssel","CBS_7","leeg","af","NOx",229.88385711086556,{"$f":"VLOOKUP(A331,Begin:Einde,7,FALSE)","v":0},1,{"$f":"VLOOKUP(Jaar,Trendfactoren!$A$2:$D$43,(HLOOKUP(Emissieberekening!F331,Trendfactoren!$A$1:$C$2,2,FALSE)))","v":0.87},0]
["IJsselCBS_7leegop","IJssel","CBS_7","leeg","op","Fijn Stof",9.6572393214603753,{"$f":"VLOOKUP(A332,Begin:Einde,7,FALSE)","v":0},1,{"$f":"VLOOKUP(Jaar,Trendfactoren!$A$2:$D$43,(HLOOKUP(Emissieberekening!F332,Trendfactoren!$A$1:$C$2,2,FALSE)))","v":0.76},0]
["IJsselCBS_7leegop","IJssel","CBS_7","leeg","op","NOx",285.30633882734566,{"$f":"VLOOKUP(A333,Begin:Einde,7,FALSE)","v":0},1,{"$f":"VLOOKUP(Jaar,Trendfactoren!$A$2:$D$43,(HLOOKUP(Emissieberekening!F333,Trendfactoren!$A$1:$C$2,2,FALSE)))","v":0.87},0]
["LekCBS_1geladenaf","Lek","CBS_1","geladen","af","Fijn Stof",1.6410065127582325,{"$f":"VLOOKUP(A334,Begin:Einde,7,FALSE)","v":0},1,{"$f":"VLOOKUP(Jaar,Trendfactoren!$A$2:$D$43,(HLOOKUP(Emissieberekening!F334,Trendfactoren!$A$1:$C$2,2,FALSE)))","v":0.76},0]
["LekCBS_1geladenaf","Lek","CBS_1","geladen","af","NOx",48.480683201716687,{"$f":"VLOOKUP(A335,Begin:Einde,7,FALSE)","v":0},1,{"$f":"VLOOKUP(Jaar,Trendfactoren!$A$2:$D$43,(HLOOKUP(Emissieberekening!F335,Trendfactoren!$A$1:$C$2,2,FALSE)))","v":0.87},0]
["LekCBS_1geladenop","Lek","CBS_1","geladen","op","Fijn Stof",1.7787133241587314,{"$f":"VLOOKUP(A336,Begin:Einde,7,FALSE)","v":0},1,{"$f":"VLOOKUP(Jaar,Trendfactoren!$A$2:$D$43,(HLOOKUP(Emissieberekening!F336,Trendfactoren!$A$1:$C$2,2,FALSE)))","v":0.76},0]
["LekCBS_1geladenop","Lek","CBS_1","geladen","op","NOx",52.548991429820433,{"$f":"VLOOKUP(A337,Begin:Einde,7,FALSE)","v":0},1,{"$f":"VLOOKUP(Jaar,Trendfactoren!$A$2:$D$43,(HLOOKUP(Emissieberekening!F337,Trendfactoren!$A$1:$C$2,2,FALSE)))","v":0.87},0]
["LekCBS_1leegaf","Lek","CBS_1","leeg","af","Fijn Stof",0.96633370357475878,{"$f":"VLOOKUP(A338,Begin:Einde,7,FALSE)","v":0},1,{"$f":"VLOOKUP(Jaar,Trendfactoren!$A$2:$D$43,(HLOOKUP(Emissieberekening!F338,Trendfactoren!$A$1:$C$2,2,FALSE)))","v":0.76},0]
["LekCBS_1leegaf","Lek","CBS_1","leeg","af","NOx",28.548648519015117,{"$f":"VLOOKUP(A339,Begin:Einde,7,FALSE)","v":0},1,{"$f":"VLOOKUP(Jaar,Trendfactoren!$A$2:$D$43,(HLOOKUP(Emissieberekening!F339,Trendfactoren!$A$1:$C$2,2,FALSE)))","v":0.87},0]
["LekCBS_1leegop","Lek","CBS_1","leeg","op","Fijn Stof",1.2017295174121603,{"$f":"VLOOKUP(A340,Begin:Einde,7,FALSE)","v":0},1,{"$f":"VLOOKUP(Jaar,Trendfactoren!$A$2:$D$43,(HLOOKUP(Emissieberekening!F340,Trendfactoren!$A$1:$C$2,2,FALSE)))","v":0.76},0]
["LekCBS_1leegop","Lek","CBS_1","leeg","op","NOx",35.503008412736449,{"$f":"VLOOKUP(A341,Begin:Einde,7,FALSE)","v":0},1,{"$f":"VLOOKUP(Jaar,Trendfactoren!$A$2:$D$43,(HLOOKUP(Emissieberekening!F341,Trendfactoren!$A$1:$C$2,2,FALSE)))","v":0.87},0]
["LekCBS_2geladenaf","Lek","CBS_2","geladen","af","Fijn Stof",2.6953230697340551,{"$f":"VLOOKUP(A342,Begin:Einde,7,FALSE)","v":0},1,{"$f":"VLOOKUP(Jaar,Trendfactoren!$A$2:$D$43,(HLOOKUP(Emissieberekening!F342,Trendfactoren!$A$1:$C$2,2,FALSE)))","v":0.76},0]
["LekCBS_2geladenaf","Lek","CBS_2","geladen","af","NOx",79.628632095079737,{"$f":"VLOOKUP(A343,Begin:Einde,7,FALSE)","v":0},1,{"$f":"VLOOKUP(Jaar,Trendfactoren!$A$2:$D$43,(HLOOKUP(Emissieberekening!F343,Trendfactoren!$A$1:$C$2,2,FALSE)))","v":0.87},0]
["LekCBS_2geladenop","Lek","CBS_2","geladen","op","Fijn Stof",3.3723027108324328,{"$f":"VLOOKUP(A344,Begin:Einde,7,FALSE)","v":0},1,{"$f":"VLOOKUP(Jaar,Trendfactoren!$A$2:$D$43,(HLOOKUP(Emissieberekening!F344,Trendfactoren!$A$1:$C$2,2,FALSE)))","v":0.76},0]
["LekCBS_2geladenop","Lek","CBS_2","geladen","op","NOx",99.628818114413136,{"$f":"VLOOKUP(A345,Begin:Einde,7,FALSE)","v":0},1,{"$f":"VLOOKUP(Jaar,Trendfactoren!$A$2:$D$43,(HLOOKUP(Emissieberekening!F345,Trendfactoren!$A$1:$C$2,2,FALSE)))","v":0.87},0]
["LekCBS_2leegaf","Lek","CBS_2","leeg","af","Fijn Stof",1.8184281767107509,{"$f":"VLOOKUP(A346,Begin:Einde,7,FALSE)","v":0},1,{"$f":"VLOOKUP(Jaar,Trendfactoren!$A$2:$D$43,(HLOOKUP(Emissieberekening!F346,Trendfactoren!$A$1:$C$2,2,FALSE)))","v":0.76},0]
["LekCBS_2leegaf","Lek","CBS_2","leeg","af","NOx",53.722297672061543,{"$f":"VLOOKUP(A347,Begin:Einde,7,FALSE)","v":0},1,{"$f":"VLOOKUP(Jaar,Trendfactoren!$A$2:$D$43,(HLOOKUP(Emissieberekening!F347,Trendfactoren!$A$1:$C$2,2,FALSE)))","v":0.87},0]
["LekCBS_2leegop","Lek","CBS_2","leeg","op","Fijn Stof",2.1499209529324506,{"$f":"VLOOKUP(A348,Begin:Einde,7,FALSE)","v":0},1,{"$f":"VLOOKUP(Jaar,Trendfactoren!$A$2:$D$43,(HLOOKUP(Emissieberekening!F348,Trendfactoren!$A$1:$C$2,2,FALSE)))","v":0.76},0]
["LekCBS_2leegop","Lek","CBS_2","leeg","op","NOx",63.515675177096128,{"$f":"VLOOKUP(A349,Begin:Einde,7,FALSE)","v":0},1,{"$f":"VLOOKUP(Jaar,Trendfactoren!$A$2:$D$43,(HLOOKUP(Emissieberekening!F349,Trendfactoren!$A$1:$C$2,2,FALSE)))","v":0.87},0]
["LekCBS_3geladenaf","Lek","CBS_3","geladen","af","Fijn Stof",4.8189173492163109,{"$f":"VLOOKUP(A350,Begin:Einde,7,FALSE)","v":0},1,{"$f":"VLOOKUP(Jaar,Trendfactoren!$A$2:$D$43,(HLOOKUP(Emissieberekening!F350,Trendfactoren!$A$1:$C$2,2,FALSE)))","v":0.76},0]
["LekCBS_3geladenaf","Lek","CBS_3","geladen","af","NOx",142.36653149531537,{"$f":"VLOOKUP(A351,Begin:Einde,7,FALSE)","v":0},1,{"$f":"VLOOKUP(Jaar,Trendfactoren!$A$2:$D$43,(HLOOKUP(Emissieberekening!F351,Trendfactoren!$A$1:$C$2,2,FALSE)))","v":0.87},0]
["LekCBS_3geladenop","Lek","CBS_3","geladen","op","Fijn Stof",6.1758231047354375,{"$f":"VLOOKUP(A352,Begin:Einde,7,FALSE)","v":0},1,{"$f":"VLOOKUP(Jaar,Trendfactoren!$A$2:$D$43,(HLOOKUP(Emissieberekening!F352,Trendfactoren!$A$1:$C$2,2,FALSE)))","v":0.76},0]
["LekCBS_3geladenop","Lek","CBS_3","geladen","op","NOx",182.45395196346374,{"$f":"VLOOKUP(A353,Begin:Einde,7,FALSE)","v":0},1,{"$f":"VLOOKUP(Jaar,Trendfactoren!$A$2:$D$43,(HLOOKUP(Emissieberekening!F353,Trendfactoren!$A$1:$C$2,2,FALSE)))","v":0.87},0]
["LekCBS_3leegaf","Lek","CBS_3","leeg","af","Fijn Stof",3.2138027738467749,{"$f":"VLOOKUP(A354,Begin:Einde,7,FALSE)","v":0},1,{"$f":"VLOOKUP(Jaar,Trendfactoren!$A$2:$D$43,(HLOOKUP(Emissieberekening!F354,Trendfactoren!$A$1:$C$2,2,FALSE)))","v":0.76},0]
["LekCBS_3leegaf","Lek","CBS_3","leeg","af","NOx",94.946213156570366,{"$f":"VLOOKUP(A355,Begin:Einde,7,FALSE)","v":0},1,{"$f":"VLOOKUP(Jaar,Trendfactoren!$A$2:$D$43,(HLOOKUP(Emissieberekening!F355,Trendfactoren!$A$1:$C$2,2,FALSE)))","v":0.87},0]
["LekCBS_3leegop","Lek","CBS_3","leeg","op","Fijn Stof",3.7526620106572253,{"$f":"VLOOKUP(A356,Begin:Einde,7,FALSE)","v":0},1,{"$f":"VLOOKUP(Jaar,Trendfactoren!$A$2:$D$43,(HLOOKUP(Emissieberekening!F356,Trendfactoren!$A$1:$C$2,2,FALSE)))","v":0.76},0]
["LekCBS_3leegop","Lek","CBS_3","leeg","op","NOx",110.8658720653069,{"$f":"VLOOKUP(A357,Begin:Einde,7,FALSE)","v":0},1,{"$f":"VLOOKUP(Jaar,Trendfactoren!$A$2:$D$43,(HLOOKUP(Emissieberekening!F357,Trendfactoren!$A$1:$C$2,2,FALSE)))","v":0.87},0]
["LekCBS_4geladenaf","Lek","CBS_4","geladen","af","Fijn Stof",7.1968280964171809,{"$f":"VLOOKUP(A358,Begin:Einde,7,FALSE)","v":0},1,{"$f":"VLOOKUP(Jaar,Trendfactoren!$A$2:$D$43,(HLOOKUP(Emissieberekening!F358,Trendfactoren!$A$1:$C$2,2,FALSE)))","v":0.76},0]
["LekCBS_4geladenaf","Lek","CBS_4","geladen","af","NOx",212.61776859932536,{"$f":"VLOOKUP(A359,Begin:Einde,7,FALSE)","v":0},1,{"$f":"VLOOKUP(Jaar,Trendfactoren!$A$2:$D$43,(HLOOKUP(Emissieberekening!F359,Trendfactoren!$A$1:$C$2,2,FALSE)))","v":0.87},0]
["LekCBS_4geladenop","Lek","CBS_4","geladen","op","Fijn Stof",10.078224001268753,{"$f":"VLOOKUP(A360,Begin:Einde,7,FALSE)","v":0},1,{"$f":"VLOOKUP(Jaar,Trendfactoren!$A$2:$D$43,(HLOOKUP(Emissieberekening!F360,Trendfactoren!$A$1:$C$2,2,FALSE)))","v":0.76},0]
["LekCBS_4geladenop","Lek","CBS_4","geladen","op","NOx",297.74359896975756,{"$f":"VLOOKUP(A361,Begin:Einde,7,FALSE)","v":0},1,{"$f":"VLOOKUP(Jaar,Trendfactoren!$A$2:$D$43,(HLOOKUP(Emissieberekening!F361,Trendfactoren!$A$1:$C$2,2,FALSE)))","v":0.87},0]
["LekCBS_4leegaf","Lek","CBS_4","leeg","af","Fijn Stof",5.5884404509306549,{"$f":"VLOOKUP(A362,Begin:Einde,7,FALSE)","v":0},1,{"$f":"VLOOKUP(Jaar,Trendfactoren!$A$2:$D$43,(HLOOKUP(Emissieberekening!F362,Trendfactoren!$A$1:$C$2,2,FALSE)))","v":0.76},0]
["LekCBS_4leegaf","Lek","CBS_4","leeg","af","NOx",165.10075309685513,{"$f":"VLOOKUP(A363,Begin:Einde,7,FALSE)","v":0},1,{"$f":"VLOOKUP(Jaar,Trendfactoren!$A$2:$D$43,(HLOOKUP(Emissieberekening!F363,Trendfactoren!$A$1:$C$2,2,FALSE)))","v":0.87},0]
["LekCBS_4leegop","Lek","CBS_4","leeg","op","Fijn Stof",6.5511590734100187,{"$f":"VLOOKUP(A364,Begin:Einde,7,FALSE)","v":0},1,{"$f":"VLOOKUP(Jaar,Trendfactoren!$A$2:$D$43,(HLOOKUP(Emissieberekening!F364,Trendfactoren!$A$1:$C$2,2,FALSE)))","v":0.76},0]
["LekCBS_4leegop","Lek","CBS_4","leeg","op","NOx",193.54260033265072,{"$f":"VLOOKUP(A365,Begin:Einde,7,FALSE)","v":0},1,{"$f":"VLOOKUP(Jaar,Trendfactoren!$A$2:$D$43,(HLOOKUP(Emissieberekening!F365,Trendfactoren!$A$1:$C$2,2,FALSE)))","v":0.87},0]
["LekCBS_5geladenaf","Lek","CBS_5","geladen","af","Fijn Stof",8.8905259701350925,{"$f":"VLOOKUP(A366,Begin:Einde,7,FALSE)","v":0},1,{"$f":"VLOOKUP(Jaar,Trendfactoren!$A$2:$D$43,(HLOOKUP(Emissieberekening!F366,Trendfactoren!$A$1:$C$2,2,FALSE)))","v":0.76},0]
["LekCBS_5geladenaf","Lek","CBS_5","geladen","af","NOx",262.65512641402717,{"$f":"VLOOKUP(A367,Begin:Einde,7,FALSE)","v":0},1,{"$f":"VLOOKUP(Jaar,Trendfactoren!$A$2:$D$43,(HLOOKUP(Emissieberekening!F367,Trendfactoren!$A$1:$C$2,2,FALSE)))","v":0.87},0]
["LekCBS_5geladenop","Lek","CBS_5","geladen","op","Fijn Stof",14.19517865149284,{"$f":"VLOOKUP(A368,Begin:Einde,7,FALSE)","v":0},1,{"$f":"VLOOKUP(Jaar,Trendfactoren!$A$2:$D$43,(HLOOKUP(Emissieberekening!F368,Trendfactoren!$A$1:$C$2,2,FALSE)))","v":0.76},0]
["LekCBS_5geladenop","Lek","CBS_5","geladen","op","NOx",419.37186345352819,{"$f":"VLOOKUP(A369,Begin:Einde,7,FALSE)","v":0},1,{"$f":"VLOOKUP(Jaar,Trendfactoren!$A$2:$D$43,(HLOOKUP(Emissieberekening!F369,Trendfactoren!$A$1:$C$2,2,FALSE)))","v":0.87},0]
["LekCBS_5leegaf","Lek","CBS_5","leeg","af","Fijn Stof",6.1202008107622436,{"$f":"VLOOKUP(A370,Begin:Einde,7,FALSE)","v":0},1,{"$f":"VLOOKUP(Jaar,Trendfactoren!$A$2:$D$43,(HLOOKUP(Emissieberekening!F370,Trendfactoren!$A$1:$C$2,2,FALSE)))","v":0.76},0]
["LekCBS_5leegaf","Lek","CBS_5","leeg","af","NOx",180.8106880323931,{"$f":"VLOOKUP(A371,Begin:Einde,7,FALSE)","v":0},1,{"$f":"VLOOKUP(Jaar,Trendfactoren!$A$2:$D$43,(HLOOKUP(Emissieberekening!F371,Trendfactoren!$A$1:$C$2,2,FALSE)))","v":0.87},0]
["LekCBS_5leegop","Lek","CBS_5","leeg","op","Fijn Stof",7.2694190193423491,{"$f":"VLOOKUP(A372,Begin:Einde,7,FALSE)","v":0},1,{"$f":"VLOOKUP(Jaar,Trendfactoren!$A$2:$D$43,(HLOOKUP(Emissieberekening!F372,Trendfactoren!$A$1:$C$2,2,FALSE)))","v":0.76},0]
["LekCBS_5leegop","Lek","CBS_5","leeg","op","NOx",214.76234115908863,{"$f":"VLOOKUP(A373,Begin:Einde,7,FALSE)","v":0},1,{"$f":"VLOOKUP(Jaar,Trendfactoren!$A$2:$D$43,(HLOOKUP(Emissieberekening!F373,Trendfactoren!$A$1:$C$2,2,FALSE)))","v":0.87},0]
["LekCBS_6geladenaf","Lek","CBS_6","geladen","af","Fijn Stof",11.195543165006191,{"$f":"VLOOKUP(A374,Begin:Einde,7,FALSE)","v":0},1,{"$f":"VLOOKUP(Jaar,Trendfactoren!$A$2:$D$43,(HLOOKUP(Emissieberekening!F374,Trendfactoren!$A$1:$C$2,2,FALSE)))","v":0.76},0]
["LekCBS_6geladenaf","Lek","CBS_6","geladen","af","NOx",330.75285029887942,{"$f":"VLOOKUP(A375,Begin:Einde,7,FALSE)","v":0},1,{"$f":"VLOOKUP(Jaar,Trendfactoren!$A$2:$D$43,(HLOOKUP(Emissieberekening!F375,Trendfactoren!$A$1:$C$2,2,FALSE)))","v":0.87},0]
["LekCBS_6geladenop","Lek","CBS_6","geladen","op","Fijn Stof",14.148202510265259,{"$f":"VLOOKUP(A376,Begin:Einde,7,FALSE)","v":0},1,{"$f":"VLOOKUP(Jaar,Trendfactoren!$A$2:$D$43,(HLOOKUP(Emissieberekening!F376,Trendfactoren!$A$1:$C$2,2,FALSE)))","v":0.76},0]
["LekCBS_6geladenop","Lek","CBS_6","geladen","op","NOx",417.98403506699418,{"$f":"VLOOKUP(A377,Begin:Einde,7,FALSE)","v":0},1,{"$f":"VLOOKUP(Jaar,Trendfactoren!$A$2:$D$43,(HLOOKUP(Emissieberekening!F377,Trendfactoren!$A$1:$C$2,2,FALSE)))","v":0.87},0]
["LekCBS_6leegaf","Lek","CBS_6","leeg","af","Fijn Stof",8.7256678961518936,{"$f":"VLOOKUP(A378,Begin:Einde,7,FALSE)","v":0},1,{"$f":"VLOOKUP(Jaar,Trendfactoren!$A$2:$D$43,(HLOOKUP(Emissieberekening!F378,Trendfactoren!$A$1:$C$2,2,FALSE)))","v":0.76},0]
["LekCBS_6leegaf","Lek","CBS_6","leeg","af","NOx",257.78468135735773,{"$f":"VLOOKUP(A379,Begin:Einde,7,FALSE)","v":0},1,{"$f":"VLOOKUP(Jaar,Trendfactoren!$A$2:$D$43,(HLOOKUP(Emissieberekening!F379,Trendfactoren!$A$1:$C$2,2,FALSE)))","v":0.87},0]
["LekCBS_6leegop","Lek","CBS_6","leeg","op","Fijn Stof",10.255091725494873,{"$f":"VLOOKUP(A380,Begin:Einde,7,FALSE)","v":0},1,{"$f":"VLOOKUP(Jaar,Trendfactoren!$A$2:$D$43,(HLOOKUP(Emissieberekening!F380,Trendfactoren!$A$1:$C$2,2,FALSE)))","v":0.76},0]
["LekCBS_6leegop","Lek","CBS_6","leeg","op","NOx",302.96884825435865,{"$f":"VLOOKUP(A381,Begin:Einde,7,FALSE)","v":0},1,{"$f":"VLOOKUP(Jaar,Trendfactoren!$A$2:$D$43,(HLOOKUP(Emissieberekening!F381,Trendfactoren!$A$1:$C$2,2,FALSE)))","v":0.87},0]
["LekCBS_7geladenaf","Lek","CBS_7","geladen","af","Fijn Stof",11.609499685872887,{"$f":"VLOOKUP(A382,Begin:Einde,7,FALSE)","v":0},1,{"$f":"VLOOKUP(Jaar,Trendfactoren!$A$2:$D$43,(HLOOKUP(Emissieberekening!F382,Trendfactoren!$A$1:$C$2,2,FALSE)))","v":0.76},0]
["LekCBS_7geladenaf","Lek","CBS_7","geladen","af","NOx",342.98247570950014,{"$f":"VLOOKUP(A383,Begin:Einde,7,FALSE)","v":0},1,{"$f":"VLOOKUP(Jaar,Trendfactoren!$A$2:$D$43,(HLOOKUP(Emissieberekening!F383,Trendfactoren!$A$1:$C$2,2,FALSE)))","v":0.87},0]
["LekCBS_7geladenop","Lek","CBS_7","geladen","op","Fijn Stof",15.378633323284919,{"$f":"VLOOKUP(A384,Begin:Einde,7,FALSE)","v":0},1,{"$f":"VLOOKUP(Jaar,Trendfactoren!$A$2:$D$43,(HLOOKUP(Emissieberekening!F384,Trendfactoren!$A$1:$C$2,2,FALSE)))","v":0.76},0]
["LekCBS_7geladenop","Lek","CBS_7","geladen","op","NOx",454.33497333802705,{"$f":"VLOOKUP(A385,Begin:Einde,7,FALSE)","v":0},1,{"$f":"VLOOKUP(Jaar,Trendfactoren!$A$2:$D$43,(HLOOKUP(Emissieberekening!F385,Trendfactoren!$A$1:$C$2,2,FALSE)))","v":0.87},0]
[{"$f":"+B386&C386&D386&E386","v":"LekCBS_7leegaf"},"Lek","CBS_7","leeg","af","Fijn Stof",11.249985106626385,{"$f":"VLOOKUP(A386,Begin:Einde,7,FALSE)","v":0},{"$f":"+Afstand","v":1},{"$f":"VLOOKUP(Jaar,Trendfactoren!$A$2:$D$43,(HLOOKUP(Emissieberekening!F386,Trendfactoren!$A$1:$C$2,2,FALSE)))","v":0.76},{"$f":"+G386*H386*I386*J386","v":0}]
["LekCBS_7leegaf","Lek","CBS_7","leeg","af","NOx",332.36124277267703,{"$f":"VLOOKUP(A387,Begin:Einde,7,FALSE)","v":0},1,{"$f":"VLOOKUP(Jaar,Trendfactoren!$A$2:$D$43,(HLOOKUP(Emissieberekening!F387,Trendfactoren!$A$1:$C$2,2,FALSE)))","v":0.87},0]
["LekCBS_7leegop","Lek","CBS_7","leeg","op","Fijn Stof",12.370241860622464,{"$f":"VLOOKUP(A388,Begin:Einde,7,FALSE)","v":0},1,{"$f":"VLOOKUP(Jaar,Trendfactoren!$A$2:$D$43,(HLOOKUP(Emissieberekening!F388,Trendfactoren!$A$1:$C$2,2,FALSE)))","v":0.76},0]
["LekCBS_7leegop","Lek","CBS_7","leeg","op","NOx",365.4572800966136,{"$f":"VLOOKUP(A389,Begin:Einde,7,FALSE)","v":0},1,{"$f":"VLOOKUP(Jaar,Trendfactoren!$A$2:$D$43,(HLOOKUP(Emissieberekening!F389,Trendfactoren!$A$1:$C$2,2,FALSE)))","v":0.87},0]
["LekCBS_9geladenaf","Lek","CBS_9","geladen","af","Fijn Stof",30.081749048792414,{"$f":"VLOOKUP(A390,Begin:Einde,7,FALSE)","v":0},1,{"$f":"VLOOKUP(Jaar,Trendfactoren!$A$2:$D$43,(HLOOKUP(Emissieberekening!F390,Trendfactoren!$A$1:$C$2,2,FALSE)))","v":0.76},0]
["LekCBS_9geladenaf","Lek","CBS_9","geladen","af","NOx",888.7129541836938,{"$f":"VLOOKUP(A391,Begin:Einde,7,FALSE)","v":0},1,{"$f":"VLOOKUP(Jaar,Trendfactoren!$A$2:$D$43,(HLOOKUP(Emissieberekening!F391,Trendfactoren!$A$1:$C$2,2,FALSE)))","v":0.87},0]
["LekCBS_9geladenop","Lek","CBS_9","geladen","op","Fijn Stof",39.026187808578868,{"$f":"VLOOKUP(A392,Begin:Einde,7,FALSE)","v":0},1,{"$f":"VLOOKUP(Jaar,Trendfactoren!$A$2:$D$43,(HLOOKUP(Emissieberekening!F392,Trendfactoren!$A$1:$C$2,2,FALSE)))","v":0.76},0]
["LekCBS_9geladenop","Lek","CBS_9","geladen","op","NOx",1152.960840196956,{"$f":"VLOOKUP(A393,Begin:Einde,7,FALSE)","v":0},1,{"$f":"VLOOKUP(Jaar,Trendfactoren!$A$2:$D$43,(HLOOKUP(Emissieberekening!F393,Trendfactoren!$A$1:$C$2,2,FALSE)))","v":0.87},0]
["LekCBS_9leegaf","Lek","CBS_9","leeg","af","Fijn Stof",16.180680722746288,{"$f":"VLOOKUP(A394,Begin:Einde,7,FALSE)","v":0},1,{"$f":"VLOOKUP(Jaar,Trendfactoren!$A$2:$D$43,(HLOOKUP(Emissieberekening!F394,Trendfactoren!$A$1:$C$2,2,FALSE)))","v":0.76},0]
["LekCBS_9leegaf","Lek","CBS_9","leeg","af","NOx",478.03006874669217,{"$f":"VLOOKUP(A395,Begin:Einde,7,FALSE)","v":0},1,{"$f":"VLOOKUP(Jaar,Trendfactoren!$A$2:$D$43,(HLOOKUP(Emissieberekening!F395,Trendfactoren!$A$1:$C$2,2,FALSE)))","v":0.87},0]
["LekCBS_9leegop","Lek","CBS_9","leeg","op","Fijn Stof",19.03873907624072,{"$f":"VLOOKUP(A396,Begin:Einde,7,FALSE)","v":0},1,{"$f":"VLOOKUP(Jaar,Trendfactoren!$A$2:$D$43,(HLOOKUP(Emissieberekening!F396,Trendfactoren!$A$1:$C$2,2,FALSE)))","v":0.76},0]
["LekCBS_9leegop","Lek","CBS_9","leeg","op","NOx",562.46643175349755,{"$f":"VLOOKUP(A397,Begin:Einde,7,FALSE)","v":0},1,{"$f":"VLOOKUP(Jaar,Trendfactoren!$A$2:$D$43,(HLOOKUP(Emissieberekening!F397,Trendfactoren!$A$1:$C$2,2,FALSE)))","v":0.87},0]
["WaalCBS_1geladenaf","Waal","CBS_1","geladen","af","Fijn Stof",1.4075630213724841,{"$f":"VLOOKUP(A398,Begin:Einde,7,FALSE)","v":0},1,{"$f":"VLOOKUP(Jaar,Trendfactoren!$A$2:$D$43,(HLOOKUP(Emissieberekening!F398,Trendfactoren!$A$1:$C$2,2,FALSE)))","v":0.76},0]
["WaalCBS_1geladenaf","Waal","CBS_1","geladen","af","NOx",41.584001279137063,{"$f":"VLOOKUP(A399,Begin:Einde,7,FALSE)","v":0},1,{"$f":"VLOOKUP(Jaar,Trendfactoren!$A$2:$D$43,(HLOOKUP(Emissieberekening!F399,Trendfactoren!$A$1:$C$2,2,FALSE)))","v":0.87},0]
["WaalCBS_1geladenop","Waal","CBS_1","geladen","op","Fijn Stof",2.3794618069768405,{"$f":"VLOOKUP(A400,Begin:Einde,7,FALSE)","v":0},1,{"$f":"VLOOKUP(Jaar,Trendfactoren!$A$2:$D$43,(HLOOKUP(Emissieberekening!F400,Trendfactoren!$A$1:$C$2,2,FALSE)))","v":0.76},0]
["WaalCBS_1geladenop","Waal","CBS_1","geladen","op","NOx",70.297060467318261,{"$f":"VLOOKUP(A401,Begin:Einde,7,FALSE)","v":0},1,{"$f":"VLOOKUP(Jaar,Trendfactoren!$A$2:$D$43,(HLOOKUP(Emissieberekening!F401,Trendfactoren!$A$1:$C$2,2,FALSE)))","v":0.87},0]
["WaalCBS_1leegaf","Waal","CBS_1","leeg","af","Fijn Stof",0.84476081808642089,{"$f":"VLOOKUP(A402,Begin:Einde,7,FALSE)","v":0},1,{"$f":"VLOOKUP(Jaar,Trendfactoren!$A$2:$D$43,(HLOOKUP(Emissieberekening!F402,Trendfactoren!$A$1:$C$2,2,FALSE)))","v":0.76},0]
["WaalCBS_1leegaf","Waal","CBS_1","leeg","af","NOx",24.956989070100406,{"$f":"VLOOKUP(A403,Begin:Einde,7,FALSE)","v":0},1,{"$f":"VLOOKUP(Jaar,Trendfactoren!$A$2:$D$43,(HLOOKUP(Emissieberekening!F403,Trendfactoren!$A$1:$C$2,2,FALSE)))","v":0.87},0]
["WaalCBS_1leegop","Waal","CBS_1","leeg","op","Fijn Stof",1.3523289860384935,{"$f":"VLOOKUP(A404,Begin:Einde,7,FALSE)","v":0},1,{"$f":"VLOOKUP(Jaar,Trendfactoren!$A$2:$D$43,(HLOOKUP(Emissieberekening!F404,Trendfactoren!$A$1:$C$2,2,FALSE)))","v":0.76},0]
["WaalCBS_1leegop","Waal","CBS_1","leeg","op","NOx",39.952207774260124,{"$f":"VLOOKUP(A405,Begin:Einde,7,FALSE)","v":0},1,{"$f":"VLOOKUP(Jaar,Trendfactoren!$A$2:$D$43,(HLOOKUP(Emissieberekening!F405,Trendfactoren!$A$1:$C$2,2,FALSE)))","v":0.87},0]
["WaalCBS_10geladenaf","Waal","CBS_10","geladen","af","Fijn Stof",29.183762042197817,{"$f":"VLOOKUP(A406,Begin:Einde,7,FALSE)","v":0},1,{"$f":"VLOOKUP(Jaar,Trendfactoren!$A$2:$D$43,(HLOOKUP(Emissieberekening!F406,Trendfactoren!$A$1:$C$2,2,FALSE)))","v":0.76},0]
["WaalCBS_10geladenaf","Waal","CBS_10","geladen","af","NOx",862.18348995091628,{"$f":"VLOOKUP(A407,Begin:Einde,7,FALSE)","v":0},1,{"$f":"VLOOKUP(Jaar,Trendfactoren!$A$2:$D$43,(HLOOKUP(Emissieberekening!F407,Trendfactoren!$A$1:$C$2,2,FALSE)))","v":0.87},0]
["WaalCBS_10geladenop","Waal","CBS_10","geladen","op","Fijn Stof",69.149631576138859,{"$f":"VLOOKUP(A408,Begin:Einde,7,FALSE)","v":0},1,{"$f":"VLOOKUP(Jaar,Trendfactoren!$A$2:$D$43,(HLOOKUP(Emissieberekening!F408,Trendfactoren!$A$1:$C$2,2,FALSE)))","v":0.76},0]
["WaalCBS_10geladenop","Waal","CBS_10","geladen","op","NOx",2042.9055923266317,{"$f":"VLOOKUP(A409,Begin:Einde,7,FALSE)","v":0},1,{"$f":"VLOOKUP(Jaar,Trendfactoren!$A$2:$D$43,(HLOOKUP(Emissieberekening!F409,Trendfactoren!$A$1:$C$2,2,FALSE)))","v":0.87},0]
["WaalCBS_10leegaf","Waal","CBS_10","leeg","af","Fijn Stof",25.251310622096543,{"$f":"VLOOKUP(A410,Begin:Einde,7,FALSE)","v":0},1,{"$f":"VLOOKUP(Jaar,Trendfactoren!$A$2:$D$43,(HLOOKUP(Emissieberekening!F410,Trendfactoren!$A$1:$C$2,2,FALSE)))","v":0.76},0]
["WaalCBS_10leegaf","Waal","CBS_10","leeg","af","NOx",746.00605249295859,{"$f":"VLOOKUP(A411,Begin:Einde,7,FALSE)","v":0},1,{"$f":"VLOOKUP(Jaar,Trendfactoren!$A$2:$D$43,(HLOOKUP(Emissieberekening!F411,Trendfactoren!$A$1:$C$2,2,FALSE)))","v":0.87},0]
["WaalCBS_10leegop","Waal","CBS_10","leeg","op","Fijn Stof",34.377315582889793,{"$f":"VLOOKUP(A412,Begin:Einde,7,FALSE)","v":0},1,{"$f":"VLOOKUP(Jaar,Trendfactoren!$A$2:$D$43,(HLOOKUP(Emissieberekening!F412,Trendfactoren!$A$1:$C$2,2,FALSE)))","v":0.76},0]
["WaalCBS_10leegop","Waal","CBS_10","leeg","op","NOx",1015.6179961152092,{"$f":"VLOOKUP(A413,Begin:Einde,7,FALSE)","v":0},1,{"$f":"VLOOKUP(Jaar,Trendfactoren!$A$2:$D$43,(HLOOKUP(Emissieberekening!F413,Trendfactoren!$A$1:$C$2,2,FALSE)))","v":0.87},0]
["WaalCBS_2geladenaf","Waal","CBS_2","geladen","af","Fijn Stof",2.391486642919467,{"$f":"VLOOKUP(A414,Begin:Einde,7,FALSE)","v":0},1,{"$f":"VLOOKUP(Jaar,Trendfactoren!$A$2:$D$43,(HLOOKUP(Emissieberekening!F414,Trendfactoren!$A$1:$C$2,2,FALSE)))","v":0.76},0]
["WaalCBS_2geladenaf","Waal","CBS_2","geladen","af","NOx",70.652313330335332,{"$f":"VLOOKUP(A415,Begin:Einde,7,FALSE)","v":0},1,{"$f":"VLOOKUP(Jaar,Trendfactoren!$A$2:$D$43,(HLOOKUP(Emissieberekening!F415,Trendfactoren!$A$1:$C$2,2,FALSE)))","v":0.87},0]
["WaalCBS_2geladenop","Waal","CBS_2","geladen","op","Fijn Stof",4.2013059952302898,{"$f":"VLOOKUP(A416,Begin:Einde,7,FALSE)","v":0},1,{"$f":"VLOOKUP(Jaar,Trendfactoren!$A$2:$D$43,(HLOOKUP(Emissieberekening!F416,Trendfactoren!$A$1:$C$2,2,FALSE)))","v":0.76},0]
["WaalCBS_2geladenop","Waal","CBS_2","geladen","op","NOx",124.12027825890831,{"$f":"VLOOKUP(A417,Begin:Einde,7,FALSE)","v":0},1,{"$f":"VLOOKUP(Jaar,Trendfactoren!$A$2:$D$43,(HLOOKUP(Emissieberekening!F417,Trendfactoren!$A$1:$C$2,2,FALSE)))","v":0.87},0]
["WaalCBS_2leegaf","Waal","CBS_2","leeg","af","Fijn Stof",1.472831522188524,{"$f":"VLOOKUP(A418,Begin:Einde,7,FALSE)","v":0},1,{"$f":"VLOOKUP(Jaar,Trendfactoren!$A$2:$D$43,(HLOOKUP(Emissieberekening!F418,Trendfactoren!$A$1:$C$2,2,FALSE)))","v":0.76},0]
["WaalCBS_2leegaf","Waal","CBS_2","leeg","af","NOx",43.512245613642953,{"$f":"VLOOKUP(A419,Begin:Einde,7,FALSE)","v":0},1,{"$f":"VLOOKUP(Jaar,Trendfactoren!$A$2:$D$43,(HLOOKUP(Emissieberekening!F419,Trendfactoren!$A$1:$C$2,2,FALSE)))","v":0.87},0]
["WaalCBS_2leegop","Waal","CBS_2","leeg","op","Fijn Stof",2.318575431728048,{"$f":"VLOOKUP(A420,Begin:Einde,7,FALSE)","v":0},1,{"$f":"VLOOKUP(Jaar,Trendfactoren!$A$2:$D$43,(HLOOKUP(Emissieberekening!F420,Trendfactoren!$A$1:$C$2,2,FALSE)))","v":0.76},0]
["WaalCBS_2leegop","Waal","CBS_2","leeg","op","NOx",68.498278410825222,{"$f":"VLOOKUP(A421,Begin:Einde,7,FALSE)","v":0},1,{"$f":"VLOOKUP(Jaar,Trendfactoren!$A$2:$D$43,(HLOOKUP(Emissieberekening!F421,Trendfactoren!$A$1:$C$2,2,FALSE)))","v":0.87},0]
["WaalCBS_3geladenaf","Waal","CBS_3","geladen","af","Fijn Stof",4.7121346828208184,{"$f":"VLOOKUP(A422,Begin:Einde,7,FALSE)","v":0},1,{"$f":"VLOOKUP(Jaar,Trendfactoren!$A$2:$D$43,(HLOOKUP(Emissieberekening!F422,Trendfactoren!$A$1:$C$2,2,FALSE)))","v":0.76},0]
["WaalCBS_3geladenaf","Waal","CBS_3","geladen","af","NOx",139.21182334473448,{"$f":"VLOOKUP(A423,Begin:Einde,7,FALSE)","v":0},1,{"$f":"VLOOKUP(Jaar,Trendfactoren!$A$2:$D$43,(HLOOKUP(Emissieberekening!F423,Trendfactoren!$A$1:$C$2,2,FALSE)))","v":0.87},0]
["WaalCBS_3geladenop","Waal","CBS_3","geladen","op","Fijn Stof",7.3403302568844211,{"$f":"VLOOKUP(A424,Begin:Einde,7,FALSE)","v":0},1,{"$f":"VLOOKUP(Jaar,Trendfactoren!$A$2:$D$43,(HLOOKUP(Emissieberekening!F424,Trendfactoren!$A$1:$C$2,2,FALSE)))","v":0.76},0]
["WaalCBS_3geladenop","Waal","CBS_3","geladen","op","NOx",216.85729033570212,{"$f":"VLOOKUP(A425,Begin:Einde,7,FALSE)","v":0},1,{"$f":"VLOOKUP(Jaar,Trendfactoren!$A$2:$D$43,(HLOOKUP(Emissieberekening!F425,Trendfactoren!$A$1:$C$2,2,FALSE)))","v":0.87},0]
["WaalCBS_3leegaf","Waal","CBS_3","leeg","af","Fijn Stof",2.6664925212246708,{"$f":"VLOOKUP(A426,Begin:Einde,7,FALSE)","v":0},1,{"$f":"VLOOKUP(Jaar,Trendfactoren!$A$2:$D$43,(HLOOKUP(Emissieberekening!F426,Trendfactoren!$A$1:$C$2,2,FALSE)))","v":0.76},0]
["WaalCBS_3leegaf","Waal","CBS_3","leeg","af","NOx",78.776883684608464,{"$f":"VLOOKUP(A427,Begin:Einde,7,FALSE)","v":0},1,{"$f":"VLOOKUP(Jaar,Trendfactoren!$A$2:$D$43,(HLOOKUP(Emissieberekening!F427,Trendfactoren!$A$1:$C$2,2,FALSE)))","v":0.87},0]
["WaalCBS_3leegop","Waal","CBS_3","leeg","op","Fijn Stof",4.0493422635711198,{"$f":"VLOOKUP(A428,Begin:Einde,7,FALSE)","v":0},1,{"$f":"VLOOKUP(Jaar,Trendfactoren!$A$2:$D$43,(HLOOKUP(Emissieberekening!F428,Trendfactoren!$A$1:$C$2,2,FALSE)))","v":0.76},0]
["WaalCBS_3leegop","Waal","CBS_3","leeg","op","NOx",119.63077411895505,{"$f":"VLOOKUP(A429,Begin:Einde,7,FALSE)","v":0},1,{"$f":"VLOOKUP(Jaar,Trendfactoren!$A$2:$D$43,(HLOOKUP(Emissieberekening!F429,Trendfactoren!$A$1:$C$2,2,FALSE)))","v":0.87},0]
["WaalCBS_4geladenaf","Waal","CBS_4","geladen","af","Fijn Stof",6.5975660295936995,{"$f":"VLOOKUP(A430,Begin:Einde,7,FALSE)","v":0},1,{"$f":"VLOOKUP(Jaar,Trendfactoren!$A$2:$D$43,(HLOOKUP(Emissieberekening!F430,Trendfactoren!$A$1:$C$2,2,FALSE)))","v":0.76},0]
["WaalCBS_4geladenaf","Waal","CBS_4","geladen","af","NOx",194.91361313704988,{"$f":"VLOOKUP(A431,Begin:Einde,7,FALSE)","v":0},1,{"$f":"VLOOKUP(Jaar,Trendfactoren!$A$2:$D$43,(HLOOKUP(Emissieberekening!F431,Trendfactoren!$A$1:$C$2,2,FALSE)))","v":0.87},0]
["WaalCBS_4geladenop","Waal","CBS_4","geladen","op","Fijn Stof",10.24142322261552,{"$f":"VLOOKUP(A432,Begin:Einde,7,FALSE)","v":0},1,{"$f":"VLOOKUP(Jaar,Trendfactoren!$A$2:$D$43,(HLOOKUP(Emissieberekening!F432,Trendfactoren!$A$1:$C$2,2,FALSE)))","v":0.76},0]
["WaalCBS_4geladenop","Waal","CBS_4","geladen","op","NOx",302.56503611053989,{"$f":"VLOOKUP(A433,Begin:Einde,7,FALSE)","v":0},1,{"$f":"VLOOKUP(Jaar,Trendfactoren!$A$2:$D$43,(HLOOKUP(Emissieberekening!F433,Trendfactoren!$A$1:$C$2,2,FALSE)))","v":0.87},0]
["WaalCBS_4leegaf","Waal","CBS_4","leeg","af","Fijn Stof",4.3979852412527114,{"$f":"VLOOKUP(A434,Begin:Einde,7,FALSE)","v":0},1,{"$f":"VLOOKUP(Jaar,Trendfactoren!$A$2:$D$43,(HLOOKUP(Emissieberekening!F434,Trendfactoren!$A$1:$C$2,2,FALSE)))","v":0.76},0]
["WaalCBS_4leegaf","Waal","CBS_4","leeg","af","NOx",129.93082449661856,{"$f":"VLOOKUP(A435,Begin:Einde,7,FALSE)","v":0},1,{"$f":"VLOOKUP(Jaar,Trendfactoren!$A$2:$D$43,(HLOOKUP(Emissieberekening!F435,Trendfactoren!$A$1:$C$2,2,FALSE)))","v":0.87},0]
["WaalCBS_4leegop","Waal","CBS_4","leeg","op","Fijn Stof",6.4946012453751445,{"$f":"VLOOKUP(A436,Begin:Einde,7,FALSE)","v":0},1,{"$f":"VLOOKUP(Jaar,Trendfactoren!$A$2:$D$43,(HLOOKUP(Emissieberekening!F436,Trendfactoren!$A$1:$C$2,2,FALSE)))","v":0.76},0]
["WaalCBS_4leegop","Waal","CBS_4","leeg","op","NOx",191.87169767491113,{"$f":"VLOOKUP(A437,Begin:Einde,7,FALSE)","v":0},1,{"$f":"VLOOKUP(Jaar,Trendfactoren!$A$2:$D$43,(HLOOKUP(Emissieberekening!F437,Trendfactoren!$A$1:$C$2,2,FALSE)))","v":0.87},0]
["WaalCBS_5geladenaf","Waal","CBS_5","geladen","af","Fijn Stof",7.635708355024815,{"$f":"VLOOKUP(A438,Begin:Einde,7,FALSE)","v":0},1,{"$f":"VLOOKUP(Jaar,Trendfactoren!$A$2:$D$43,(HLOOKUP(Emissieberekening!F438,Trendfactoren!$A$1:$C$2,2,FALSE)))","v":0.76},0]
["WaalCBS_5geladenaf","Waal","CBS_5","geladen","af","NOx",225.58372249141632,{"$f":"VLOOKUP(A439,Begin:Einde,7,FALSE)","v":0},1,{"$f":"VLOOKUP(Jaar,Trendfactoren!$A$2:$D$43,(HLOOKUP(Emissieberekening!F439,Trendfactoren!$A$1:$C$2,2,FALSE)))","v":0.87},0]
["WaalCBS_5geladenop","Waal","CBS_5","geladen","op","Fijn Stof",13.758696305472416,{"$f":"VLOOKUP(A440,Begin:Einde,7,FALSE)","v":0},1,{"$f":"VLOOKUP(Jaar,Trendfactoren!$A$2:$D$43,(HLOOKUP(Emissieberekening!F440,Trendfactoren!$A$1:$C$2,2,FALSE)))","v":0.76},0]
["WaalCBS_5geladenop","Waal","CBS_5","geladen","op","NOx",406.47675171811539,{"$f":"VLOOKUP(A441,Begin:Einde,7,FALSE)","v":0},1,{"$f":"VLOOKUP(Jaar,Trendfactoren!$A$2:$D$43,(HLOOKUP(Emissieberekening!F441,Trendfactoren!$A$1:$C$2,2,FALSE)))","v":0.87},0]
["WaalCBS_5leegaf","Waal","CBS_5","leeg","af","Fijn Stof",5.0248327497412335,{"$f":"VLOOKUP(A442,Begin:Einde,7,FALSE)","v":0},1,{"$f":"VLOOKUP(Jaar,Trendfactoren!$A$2:$D$43,(HLOOKUP(Emissieberekening!F442,Trendfactoren!$A$1:$C$2,2,FALSE)))","v":0.76},0]
["WaalCBS_5leegaf","Waal","CBS_5","leeg","af","NOx",148.44994385327391,{"$f":"VLOOKUP(A443,Begin:Einde,7,FALSE)","v":0},1,{"$f":"VLOOKUP(Jaar,Trendfactoren!$A$2:$D$43,(HLOOKUP(Emissieberekening!F443,Trendfactoren!$A$1:$C$2,2,FALSE)))","v":0.87},0]
["WaalCBS_5leegop","Waal","CBS_5","leeg","op","Fijn Stof",7.6384609371537184,{"$f":"VLOOKUP(A444,Begin:Einde,7,FALSE)","v":0},1,{"$f":"VLOOKUP(Jaar,Trendfactoren!$A$2:$D$43,(HLOOKUP(Emissieberekening!F444,Trendfactoren!$A$1:$C$2,2,FALSE)))","v":0.76},0]
["WaalCBS_5leegop","Waal","CBS_5","leeg","op","NOx",225.66504274282318,{"$f":"VLOOKUP(A445,Begin:Einde,7,FALSE)","v":0},1,{"$f":"VLOOKUP(Jaar,Trendfactoren!$A$2:$D$43,(HLOOKUP(Emissieberekening!F445,Trendfactoren!$A$1:$C$2,2,FALSE)))","v":0.87},0]
["WaalCBS_6geladenaf","Waal","CBS_6","geladen","af","Fijn Stof",9.021464933946115,{"$f":"VLOOKUP(A446,Begin:Einde,7,FALSE)","v":0},1,{"$f":"VLOOKUP(Jaar,Trendfactoren!$A$2:$D$43,(HLOOKUP(Emissieberekening!F446,Trendfactoren!$A$1:$C$2,2,FALSE)))","v":0.76},0]
["WaalCBS_6geladenaf","Waal","CBS_6","geladen","af","NOx",266.52349035647882,{"$f":"VLOOKUP(A447,Begin:Einde,7,FALSE)","v":0},1,{"$f":"VLOOKUP(Jaar,Trendfactoren!$A$2:$D$43,(HLOOKUP(Emissieberekening!F447,Trendfactoren!$A$1:$C$2,2,FALSE)))","v":0.87},0]
["WaalCBS_6geladenop","Waal","CBS_6","geladen","op","Fijn Stof",15.672680828468751,{"$f":"VLOOKUP(A448,Begin:Einde,7,FALSE)","v":0},1,{"$f":"VLOOKUP(Jaar,Trendfactoren!$A$2:$D$43,(HLOOKUP(Emissieberekening!F448,Trendfactoren!$A$1:$C$2,2,FALSE)))","v":0.76},0]
["WaalCBS_6geladenop","Waal","CBS_6","geladen","op","NOx",463.022095439152,{"$f":"VLOOKUP(A449,Begin:Einde,7,FALSE)","v":0},1,{"$f":"VLOOKUP(Jaar,Trendfactoren!$A$2:$D$43,(HLOOKUP(Emissieberekening!F449,Trendfactoren!$A$1:$C$2,2,FALSE)))","v":0.87},0]
[{"$f":"+B450&C450&D450&E450","v":"WaalCBS_6leegaf"},"Waal","CBS_6","leeg","af","Fijn Stof",6.8737515880806033,{"$f":"VLOOKUP(A450,Begin:Einde,7,FALSE)","v":0},{"$f":"+Afstand","v":1},{"$f":"VLOOKUP(Jaar,Trendfactoren!$A$2:$D$43,(HLOOKUP(Emissieberekening!F450,Trendfactoren!$A$1:$C$2,2,FALSE)))","v":0.76},{"$f":"+G450*H450*I450*J450","v":0}]
["WaalCBS_6leegaf","Waal","CBS_6","leeg","af","NOx",203.07303509046417,{"$f":"VLOOKUP(A451,Begin:Einde,7,FALSE)","v":0},1,{"$f":"VLOOKUP(Jaar,Trendfactoren!$A$2:$D$43,(HLOOKUP(Emissieberekening!F451,Trendfactoren!$A$1:$C$2,2,FALSE)))","v":0.87},0]
["WaalCBS_6leegop","Waal","CBS_6","leeg","op","Fijn Stof",10.213211961569183,{"$f":"VLOOKUP(A452,Begin:Einde,7,FALSE)","v":0},1,{"$f":"VLOOKUP(Jaar,Trendfactoren!$A$2:$D$43,(HLOOKUP(Emissieberekening!F452,Trendfactoren!$A$1:$C$2,2,FALSE)))","v":0.76},0]
["WaalCBS_6leegop","Waal","CBS_6","leeg","op","NOx",301.73158347103288,{"$f":"VLOOKUP(A453,Begin:Einde,7,FALSE)","v":0},1,{"$f":"VLOOKUP(Jaar,Trendfactoren!$A$2:$D$43,(HLOOKUP(Emissieberekening!F453,Trendfactoren!$A$1:$C$2,2,FALSE)))","v":0.87},0]
["WaalCBS_7geladenaf","Waal","CBS_7","geladen","af","Fijn Stof",10.251441235498531,{"$f":"VLOOKUP(A454,Begin:Einde,7,FALSE)","v":0},1,{"$f":"VLOOKUP(Jaar,Trendfactoren!$A$2:$D$43,(HLOOKUP(Emissieberekening!F454,Trendfactoren!$A$1:$C$2,2,FALSE)))","v":0.76},0]
["WaalCBS_7geladenaf","Waal","CBS_7","geladen","af","NOx",302.86100087674976,{"$f":"VLOOKUP(A455,Begin:Einde,7,FALSE)","v":0},1,{"$f":"VLOOKUP(Jaar,Trendfactoren!$A$2:$D$43,(HLOOKUP(Emissieberekening!F455,Trendfactoren!$A$1:$C$2,2,FALSE)))","v":0.87},0]
["WaalCBS_7geladenop","Waal","CBS_7","geladen","op","Fijn Stof",17.44135695811126,{"$f":"VLOOKUP(A456,Begin:Einde,7,FALSE)","v":0},1,{"$f":"VLOOKUP(Jaar,Trendfactoren!$A$2:$D$43,(HLOOKUP(Emissieberekening!F456,Trendfactoren!$A$1:$C$2,2,FALSE)))","v":0.76},0]
["WaalCBS_7geladenop","Waal","CBS_7","geladen","op","NOx",515.27455541477752,{"$f":"VLOOKUP(A457,Begin:Einde,7,FALSE)","v":0},1,{"$f":"VLOOKUP(Jaar,Trendfactoren!$A$2:$D$43,(HLOOKUP(Emissieberekening!F457,Trendfactoren!$A$1:$C$2,2,FALSE)))","v":0.87},0]
["WaalCBS_7leegaf","Waal","CBS_7","leeg","af","Fijn Stof",8.9215371241063739,{"$f":"VLOOKUP(A458,Begin:Einde,7,FALSE)","v":0},1,{"$f":"VLOOKUP(Jaar,Trendfactoren!$A$2:$D$43,(HLOOKUP(Emissieberekening!F458,Trendfactoren!$A$1:$C$2,2,FALSE)))","v":0.76},0]
["WaalCBS_7leegaf","Waal","CBS_7","leeg","af","NOx",263.57129702012327,{"$f":"VLOOKUP(A459,Begin:Einde,7,FALSE)","v":0},1,{"$f":"VLOOKUP(Jaar,Trendfactoren!$A$2:$D$43,(HLOOKUP(Emissieberekening!F459,Trendfactoren!$A$1:$C$2,2,FALSE)))","v":0.87},0]
["WaalCBS_7leegop","Waal","CBS_7","leeg","op","Fijn Stof",13.532740844525042,{"$f":"VLOOKUP(A460,Begin:Einde,7,FALSE)","v":0},1,{"$f":"VLOOKUP(Jaar,Trendfactoren!$A$2:$D$43,(HLOOKUP(Emissieberekening!F460,Trendfactoren!$A$1:$C$2,2,FALSE)))","v":0.76},0]
["WaalCBS_7leegop","Waal","CBS_7","leeg","op","NOx",399.80129063083552,{"$f":"VLOOKUP(A461,Begin:Einde,7,FALSE)","v":0},1,{"$f":"VLOOKUP(Jaar,Trendfactoren!$A$2:$D$43,(HLOOKUP(Emissieberekening!F461,Trendfactoren!$A$1:$C$2,2,FALSE)))","v":0.87},0]
["WaalCBS_9geladenaf","Waal","CBS_9","geladen","af","Fijn Stof",21.239001791017493,{"$f":"VLOOKUP(A462,Begin:Einde,7,FALSE)","v":0},1,{"$f":"VLOOKUP(Jaar,Trendfactoren!$A$2:$D$43,(HLOOKUP(Emissieberekening!F462,Trendfactoren!$A$1:$C$2,2,FALSE)))","v":0.76},0]
["WaalCBS_9geladenaf","Waal","CBS_9","geladen","af","NOx",627.46936672439381,{"$f":"VLOOKUP(A463,Begin:Einde,7,FALSE)","v":0},1,{"$f":"VLOOKUP(Jaar,Trendfactoren!$A$2:$D$43,(HLOOKUP(Emissieberekening!F463,Trendfactoren!$A$1:$C$2,2,FALSE)))","v":0.87},0]
["WaalCBS_9geladenop","Waal","CBS_9","geladen","op","Fijn Stof",29.299757142651725,{"$f":"VLOOKUP(A464,Begin:Einde,7,FALSE)","v":0},1,{"$f":"VLOOKUP(Jaar,Trendfactoren!$A$2:$D$43,(HLOOKUP(Emissieberekening!F464,Trendfactoren!$A$1:$C$2,2,FALSE)))","v":0.76},0]
["WaalCBS_9geladenop","Waal","CBS_9","geladen","op","NOx",865.61036344248294,{"$f":"VLOOKUP(A465,Begin:Einde,7,FALSE)","v":0},1,{"$f":"VLOOKUP(Jaar,Trendfactoren!$A$2:$D$43,(HLOOKUP(Emissieberekening!F465,Trendfactoren!$A$1:$C$2,2,FALSE)))","v":0.87},0]
["WaalCBS_9leegaf","Waal","CBS_9","leeg","af","Fijn Stof",13.430874832667264,{"$f":"VLOOKUP(A466,Begin:Einde,7,FALSE)","v":0},1,{"$f":"VLOOKUP(Jaar,Trendfactoren!$A$2:$D$43,(HLOOKUP(Emissieberekening!F466,Trendfactoren!$A$1:$C$2,2,FALSE)))","v":0.76},0]
["WaalCBS_9leegaf","Waal","CBS_9","leeg","af","NOx",396.79183648699166,{"$f":"VLOOKUP(A467,Begin:Einde,7,FALSE)","v":0},1,{"$f":"VLOOKUP(Jaar,Trendfactoren!$A$2:$D$43,(HLOOKUP(Emissieberekening!F467,Trendfactoren!$A$1:$C$2,2,FALSE)))","v":0.87},0]
["WaalCBS_9leegop","Waal","CBS_9","leeg","op","Fijn Stof",18.411324563899353,{"$f":"VLOOKUP(A468,Begin:Einde,7,FALSE)","v":0},1,{"$f":"VLOOKUP(Jaar,Trendfactoren!$A$2:$D$43,(HLOOKUP(Emissieberekening!F468,Trendfactoren!$A$1:$C$2,2,FALSE)))","v":0.76},0]
["WaalCBS_9leegop","Waal","CBS_9","leeg","op","NOx",543.93056125420389,{"$f":"VLOOKUP(A469,Begin:Einde,7,FALSE)","v":0},1,{"$f":"VLOOKUP(Jaar,Trendfactoren!$A$2:$D$43,(HLOOKUP(Emissieberekening!F469,Trendfactoren!$A$1:$C$2,2,FALSE)))","v":0.87},0]
["CEMT IBO1geladenbeide","CEMT I","BO1","geladen","beide","Fijn Stof",9.1039907834138525,{"$f":"VLOOKUP(A470,Begin:Einde,7,FALSE)","v":0},1,{"$f":"VLOOKUP(Jaar,Trendfactoren!$A$2:$D$43,(HLOOKUP(Emissieberekening!F470,Trendfactoren!$A$1:$C$2,2,FALSE)))","v":0.76},0]
["CEMT IBO1geladenbeide","CEMT I","BO1","geladen","beide","NOx",268.96157304103377,{"$f":"VLOOKUP(A471,Begin:Einde,7,FALSE)","v":0},1,{"$f":"VLOOKUP(Jaar,Trendfactoren!$A$2:$D$43,(HLOOKUP(Emissieberekening!F471,Trendfactoren!$A$1:$C$2,2,FALSE)))","v":0.87},0]
["CEMT IBO1leegbeide","CEMT I","BO1","leeg","beide","Fijn Stof",3.8408043745276657,{"$f":"VLOOKUP(A472,Begin:Einde,7,FALSE)","v":0},1,{"$f":"VLOOKUP(Jaar,Trendfactoren!$A$2:$D$43,(HLOOKUP(Emissieberekening!F472,Trendfactoren!$A$1:$C$2,2,FALSE)))","v":0.76},0]
["CEMT IBO1leegbeide","CEMT I","BO1","leeg","beide","NOx",113.46988489903494,{"$f":"VLOOKUP(A473,Begin:Einde,7,FALSE)","v":0},1,{"$f":"VLOOKUP(Jaar,Trendfactoren!$A$2:$D$43,(HLOOKUP(Emissieberekening!F473,Trendfactoren!$A$1:$C$2,2,FALSE)))","v":0.87},0]
["CEMT IBO2geladenbeide","CEMT I","BO2","geladen","beide","Fijn Stof",9.3161708354848027,{"$f":"VLOOKUP(A474,Begin:Einde,7,FALSE)","v":0},1,{"$f":"VLOOKUP(Jaar,Trendfactoren!$A$2:$D$43,(HLOOKUP(Emissieberekening!F474,Trendfactoren!$A$1:$C$2,2,FALSE)))","v":0.76},0]
["CEMT IBO2geladenbeide","CEMT I","BO2","geladen","beide","NOx",275.2300636327534,{"$f":"VLOOKUP(A475,Begin:Einde,7,FALSE)","v":0},1,{"$f":"VLOOKUP(Jaar,Trendfactoren!$A$2:$D$43,(HLOOKUP(Emissieberekening!F475,Trendfactoren!$A$1:$C$2,2,FALSE)))","v":0.87},0]
["CEMT IBO2leegbeide","CEMT I","BO2","leeg","beide","Fijn Stof",4.0511431365130717,{"$f":"VLOOKUP(A476,Begin:Einde,7,FALSE)","v":0},1,{"$f":"VLOOKUP(Jaar,Trendfactoren!$A$2:$D$43,(HLOOKUP(Emissieberekening!F476,Trendfactoren!$A$1:$C$2,2,FALSE)))","v":0.76},0]
["CEMT IBO2leegbeide","CEMT I","BO2","leeg","beide","NOx",119.68397777774989,{"$f":"VLOOKUP(A477,Begin:Einde,7,FALSE)","v":0},1,{"$f":"VLOOKUP(Jaar,Trendfactoren!$A$2:$D$43,(HLOOKUP(Emissieberekening!F477,Trendfactoren!$A$1:$C$2,2,FALSE)))","v":0.87},0]
["CEMT IBO3geladenbeide","CEMT I","BO3","geladen","beide","Fijn Stof",13.696599291275087,{"$f":"VLOOKUP(A478,Begin:Einde,7,FALSE)","v":0},1,{"$f":"VLOOKUP(Jaar,Trendfactoren!$A$2:$D$43,(HLOOKUP(Emissieberekening!F478,Trendfactoren!$A$1:$C$2,2,FALSE)))","v":0.76},0]
["CEMT IBO3geladenbeide","CEMT I","BO3","geladen","beide","NOx",404.64220343956322,{"$f":"VLOOKUP(A479,Begin:Einde,7,FALSE)","v":0},1,{"$f":"VLOOKUP(Jaar,Trendfactoren!$A$2:$D$43,(HLOOKUP(Emissieberekening!F479,Trendfactoren!$A$1:$C$2,2,FALSE)))","v":0.87},0]
["CEMT IBO3leegbeide","CEMT I","BO3","leeg","beide","Fijn Stof",5.0088434992309629,{"$f":"VLOOKUP(A480,Begin:Einde,7,FALSE)","v":0},1,{"$f":"VLOOKUP(Jaar,Trendfactoren!$A$2:$D$43,(HLOOKUP(Emissieberekening!F480,Trendfactoren!$A$1:$C$2,2,FALSE)))","v":0.76},0]
["CEMT IBO3leegbeide","CEMT I","BO3","leeg","beide","NOx",147.97756925719804,{"$f":"VLOOKUP(A481,Begin:Einde,7,FALSE)","v":0},1,{"$f":"VLOOKUP(Jaar,Trendfactoren!$A$2:$D$43,(HLOOKUP(Emissieberekening!F481,Trendfactoren!$A$1:$C$2,2,FALSE)))","v":0.87},0]
["CEMT IBO4geladenbeide","CEMT I","BO4","geladen","beide","Fijn Stof",25.377573763224735,{"$f":"VLOOKUP(A482,Begin:Einde,7,FALSE)","v":0},1,{"$f":"VLOOKUP(Jaar,Trendfactoren!$A$2:$D$43,(HLOOKUP(Emissieberekening!F482,Trendfactoren!$A$1:$C$2,2,FALSE)))","v":0.76},0]
["CEMT IBO4geladenbeide","CEMT I","BO4","geladen","beide","NOx",749.7362773869487,{"$f":"VLOOKUP(A483,Begin:Einde,7,FALSE)","v":0},1,{"$f":"VLOOKUP(Jaar,Trendfactoren!$A$2:$D$43,(HLOOKUP(Emissieberekening!F483,Trendfactoren!$A$1:$C$2,2,FALSE)))","v":0.87},0]
["CEMT IBO4leegbeide","CEMT I","BO4","leeg","beide","Fijn Stof",5.5896183049688775,{"$f":"VLOOKUP(A484,Begin:Einde,7,FALSE)","v":0},1,{"$f":"VLOOKUP(Jaar,Trendfactoren!$A$2:$D$43,(HLOOKUP(Emissieberekening!F484,Trendfactoren!$A$1:$C$2,2,FALSE)))","v":0.76},0]
["CEMT IBO4leegbeide","CEMT I","BO4","leeg","beide","NOx",165.1355507457618,{"$f":"VLOOKUP(A485,Begin:Einde,7,FALSE)","v":0},1,{"$f":"VLOOKUP(Jaar,Trendfactoren!$A$2:$D$43,(HLOOKUP(Emissieberekening!F485,Trendfactoren!$A$1:$C$2,2,FALSE)))","v":0.87},0]
["CEMT IC1lgeladenbeide","CEMT I","C1l","geladen","beide","Fijn Stof",6.8559345230282549,{"$f":"VLOOKUP(A486,Begin:Einde,7,FALSE)","v":0},1,{"$f":"VLOOKUP(Jaar,Trendfactoren!$A$2:$D$43,(HLOOKUP(Emissieberekening!F486,Trendfactoren!$A$1:$C$2,2,FALSE)))","v":0.76},0]
["CEMT IC1lgeladenbeide","CEMT I","C1l","geladen","beide","NOx",202.5466608928777,{"$f":"VLOOKUP(A487,Begin:Einde,7,FALSE)","v":0},1,{"$f":"VLOOKUP(Jaar,Trendfactoren!$A$2:$D$43,(HLOOKUP(Emissieberekening!F487,Trendfactoren!$A$1:$C$2,2,FALSE)))","v":0.87},0]
["CEMT IC1lleegbeide","CEMT I","C1l","leeg","beide","Fijn Stof",3.2055901517085736,{"$f":"VLOOKUP(A488,Begin:Einde,7,FALSE)","v":0},1,{"$f":"VLOOKUP(Jaar,Trendfactoren!$A$2:$D$43,(HLOOKUP(Emissieberekening!F488,Trendfactoren!$A$1:$C$2,2,FALSE)))","v":0.76},0]
["CEMT IC1lleegbeide","CEMT I","C1l","leeg","beide","NOx",94.70358551978677,{"$f":"VLOOKUP(A489,Begin:Einde,7,FALSE)","v":0},1,{"$f":"VLOOKUP(Jaar,Trendfactoren!$A$2:$D$43,(HLOOKUP(Emissieberekening!F489,Trendfactoren!$A$1:$C$2,2,FALSE)))","v":0.87},0]
["CEMT IM0geladenbeide","CEMT I","M0","geladen","beide","Fijn Stof",1.7590907055080063,{"$f":"VLOOKUP(A490,Begin:Einde,7,FALSE)","v":0},1,{"$f":"VLOOKUP(Jaar,Trendfactoren!$A$2:$D$43,(HLOOKUP(Emissieberekening!F490,Trendfactoren!$A$1:$C$2,2,FALSE)))","v":0.76},0]
["CEMT IM0geladenbeide","CEMT I","M0","geladen","beide","NOx",51.969275291585902,{"$f":"VLOOKUP(A491,Begin:Einde,7,FALSE)","v":0},1,{"$f":"VLOOKUP(Jaar,Trendfactoren!$A$2:$D$43,(HLOOKUP(Emissieberekening!F491,Trendfactoren!$A$1:$C$2,2,FALSE)))","v":0.87},0]
["CEMT IM0leegbeide","CEMT I","M0","leeg","beide","Fijn Stof",1.1407222360371487,{"$f":"VLOOKUP(A492,Begin:Einde,7,FALSE)","v":0},1,{"$f":"VLOOKUP(Jaar,Trendfactoren!$A$2:$D$43,(HLOOKUP(Emissieberekening!F492,Trendfactoren!$A$1:$C$2,2,FALSE)))","v":0.76},0]
["CEMT IM0leegbeide","CEMT I","M0","leeg","beide","NOx",33.70065439503751,{"$f":"VLOOKUP(A493,Begin:Einde,7,FALSE)","v":0},1,{"$f":"VLOOKUP(Jaar,Trendfactoren!$A$2:$D$43,(HLOOKUP(Emissieberekening!F493,Trendfactoren!$A$1:$C$2,2,FALSE)))","v":0.87},0]
["CEMT IM1geladenbeide","CEMT I","M1","geladen","beide","Fijn Stof",6.027482221940339,{"$f":"VLOOKUP(A494,Begin:Einde,7,FALSE)","v":0},1,{"$f":"VLOOKUP(Jaar,Trendfactoren!$A$2:$D$43,(HLOOKUP(Emissieberekening!F494,Trendfactoren!$A$1:$C$2,2,FALSE)))","v":0.76},0]
["CEMT IM1geladenbeide","CEMT I","M1","geladen","beide","NOx",178.07147859194441,{"$f":"VLOOKUP(A495,Begin:Einde,7,FALSE)","v":0},1,{"$f":"VLOOKUP(Jaar,Trendfactoren!$A$2:$D$43,(HLOOKUP(Emissieberekening!F495,Trendfactoren!$A$1:$C$2,2,FALSE)))","v":0.87},0]
["CEMT IM1leegbeide","CEMT I","M1","leeg","beide","Fijn Stof",3.6748482819855579,{"$f":"VLOOKUP(A496,Begin:Einde,7,FALSE)","v":0},1,{"$f":"VLOOKUP(Jaar,Trendfactoren!$A$2:$D$43,(HLOOKUP(Emissieberekening!F496,Trendfactoren!$A$1:$C$2,2,FALSE)))","v":0.76},0]
["CEMT IM1leegbeide","CEMT I","M1","leeg","beide","NOx",108.56700079383698,{"$f":"VLOOKUP(A497,Begin:Einde,7,FALSE)","v":0},1,{"$f":"VLOOKUP(Jaar,Trendfactoren!$A$2:$D$43,(HLOOKUP(Emissieberekening!F497,Trendfactoren!$A$1:$C$2,2,FALSE)))","v":0.87},0]
["CEMT IM2geladenbeide","CEMT I","M2","geladen","beide","Fijn Stof",5.4831509020671581,{"$f":"VLOOKUP(A498,Begin:Einde,7,FALSE)","v":0},1,{"$f":"VLOOKUP(Jaar,Trendfactoren!$A$2:$D$43,(HLOOKUP(Emissieberekening!F498,Trendfactoren!$A$1:$C$2,2,FALSE)))","v":0.76},0]
["CEMT IM2geladenbeide","CEMT I","M2","geladen","beide","NOx",161.99015650676392,{"$f":"VLOOKUP(A499,Begin:Einde,7,FALSE)","v":0},1,{"$f":"VLOOKUP(Jaar,Trendfactoren!$A$2:$D$43,(HLOOKUP(Emissieberekening!F499,Trendfactoren!$A$1:$C$2,2,FALSE)))","v":0.87},0]
["CEMT IM2leegbeide","CEMT I","M2","leeg","beide","Fijn Stof",3.2077266259414374,{"$f":"VLOOKUP(A500,Begin:Einde,7,FALSE)","v":0},1,{"$f":"VLOOKUP(Jaar,Trendfactoren!$A$2:$D$43,(HLOOKUP(Emissieberekening!F500,Trendfactoren!$A$1:$C$2,2,FALSE)))","v":0.76},0]
["CEMT IM2leegbeide","CEMT I","M2","leeg","beide","NOx",94.766703935007428,{"$f":"VLOOKUP(A501,Begin:Einde,7,FALSE)","v":0},1,{"$f":"VLOOKUP(Jaar,Trendfactoren!$A$2:$D$43,(HLOOKUP(Emissieberekening!F501,Trendfactoren!$A$1:$C$2,2,FALSE)))","v":0.87},0]
["CEMT IM3geladenbeide","CEMT I","M3","geladen","beide","Fijn Stof",6.2356439077932029,{"$f":"VLOOKUP(A502,Begin:Einde,7,FALSE)","v":0},1,{"$f":"VLOOKUP(Jaar,Trendfactoren!$A$2:$D$43,(HLOOKUP(Emissieberekening!F502,Trendfactoren!$A$1:$C$2,2,FALSE)))","v":0.76},0]
["CEMT IM3geladenbeide","CEMT I","M3","geladen","beide","NOx",184.22125354293195,{"$f":"VLOOKUP(A503,Begin:Einde,7,FALSE)","v":0},1,{"$f":"VLOOKUP(Jaar,Trendfactoren!$A$2:$D$43,(HLOOKUP(Emissieberekening!F503,Trendfactoren!$A$1:$C$2,2,FALSE)))","v":0.87},0]
["CEMT IM3leegbeide","CEMT I","M3","leeg","beide","Fijn Stof",1.6885890716336573,{"$f":"VLOOKUP(A504,Begin:Einde,7,FALSE)","v":0},1,{"$f":"VLOOKUP(Jaar,Trendfactoren!$A$2:$D$43,(HLOOKUP(Emissieberekening!F504,Trendfactoren!$A$1:$C$2,2,FALSE)))","v":0.76},0]
["CEMT IM3leegbeide","CEMT I","M3","leeg","beide","NOx",49.886427142908694,{"$f":"VLOOKUP(A505,Begin:Einde,7,FALSE)","v":0},1,{"$f":"VLOOKUP(Jaar,Trendfactoren!$A$2:$D$43,(HLOOKUP(Emissieberekening!F505,Trendfactoren!$A$1:$C$2,2,FALSE)))","v":0.87},0]
["CEMT IM4geladenbeide","CEMT I","M4","geladen","beide","Fijn Stof",6.24165318820096,{"$f":"VLOOKUP(A506,Begin:Einde,7,FALSE)","v":0},1,{"$f":"VLOOKUP(Jaar,Trendfactoren!$A$2:$D$43,(HLOOKUP(Emissieberekening!F506,Trendfactoren!$A$1:$C$2,2,FALSE)))","v":0.76},0]
["CEMT IM4geladenbeide","CEMT I","M4","geladen","beide","NOx",184.39878728058247,{"$f":"VLOOKUP(A507,Begin:Einde,7,FALSE)","v":0},1,{"$f":"VLOOKUP(Jaar,Trendfactoren!$A$2:$D$43,(HLOOKUP(Emissieberekening!F507,Trendfactoren!$A$1:$C$2,2,FALSE)))","v":0.87},0]
["CEMT IM4leegbeide","CEMT I","M4","leeg","beide","Fijn Stof",1.947297820774148,{"$f":"VLOOKUP(A508,Begin:Einde,7,FALSE)","v":0},1,{"$f":"VLOOKUP(Jaar,Trendfactoren!$A$2:$D$43,(HLOOKUP(Emissieberekening!F508,Trendfactoren!$A$1:$C$2,2,FALSE)))","v":0.76},0]
["CEMT IM4leegbeide","CEMT I","M4","leeg","beide","NOx",57.529527161756938,{"$f":"VLOOKUP(A509,Begin:Einde,7,FALSE)","v":0},1,{"$f":"VLOOKUP(Jaar,Trendfactoren!$A$2:$D$43,(HLOOKUP(Emissieberekening!F509,Trendfactoren!$A$1:$C$2,2,FALSE)))","v":0.87},0]
["CEMT IM5geladenbeide","CEMT I","M5","geladen","beide","Fijn Stof",6.747426796260009,{"$f":"VLOOKUP(A510,Begin:Einde,7,FALSE)","v":0},1,{"$f":"VLOOKUP(Jaar,Trendfactoren!$A$2:$D$43,(HLOOKUP(Emissieberekening!F510,Trendfactoren!$A$1:$C$2,2,FALSE)))","v":0.76},0]
["CEMT IM5geladenbeide","CEMT I","M5","geladen","beide","NOx",199.34098883399733,{"$f":"VLOOKUP(A511,Begin:Einde,7,FALSE)","v":0},1,{"$f":"VLOOKUP(Jaar,Trendfactoren!$A$2:$D$43,(HLOOKUP(Emissieberekening!F511,Trendfactoren!$A$1:$C$2,2,FALSE)))","v":0.87},0]
["CEMT IM5leegbeide","CEMT I","M5","leeg","beide","Fijn Stof",2.4119775928868337,{"$f":"VLOOKUP(A512,Begin:Einde,7,FALSE)","v":0},1,{"$f":"VLOOKUP(Jaar,Trendfactoren!$A$2:$D$43,(HLOOKUP(Emissieberekening!F512,Trendfactoren!$A$1:$C$2,2,FALSE)))","v":0.76},0]
["CEMT IM5leegbeide","CEMT I","M5","leeg","beide","NOx",71.257682807023414,{"$f":"VLOOKUP(A513,Begin:Einde,7,FALSE)","v":0},1,{"$f":"VLOOKUP(Jaar,Trendfactoren!$A$2:$D$43,(HLOOKUP(Emissieberekening!F513,Trendfactoren!$A$1:$C$2,2,FALSE)))","v":0.87},0]
[{"$f":"+B514&C514&D514&E514","v":"CEMT IM6geladenbeide"},"CEMT I","M6","geladen","beide","Fijn Stof",7.7389403230994915,{"$f":"VLOOKUP(A514,Begin:Einde,7,FALSE)","v":0},{"$f":"+Afstand","v":1},{"$f":"VLOOKUP(Jaar,Trendfactoren!$A$2:$D$43,(HLOOKUP(Emissieberekening!F514,Trendfactoren!$A$1:$C$2,2,FALSE)))","v":0.76},{"$f":"+G514*H514*I514*J514","v":0}]
["CEMT IM6geladenbeide","CEMT I","M6","geladen","beide","NOx",228.63353143587045,{"$f":"VLOOKUP(A515,Begin:Einde,7,FALSE)","v":0},1,{"$f":"VLOOKUP(Jaar,Trendfactoren!$A$2:$D$43,(HLOOKUP(Emissieberekening!F515,Trendfactoren!$A$1:$C$2,2,FALSE)))","v":0.87},0]
["CEMT IM6leegbeide","CEMT I","M6","leeg","beide","Fijn Stof",5.4400478550455915,{"$f":"VLOOKUP(A516,Begin:Einde,7,FALSE)","v":0},1,{"$f":"VLOOKUP(Jaar,Trendfactoren!$A$2:$D$43,(HLOOKUP(Emissieberekening!F516,Trendfactoren!$A$1:$C$2,2,FALSE)))","v":0.76},0]
["CEMT IM6leegbeide","CEMT I","M6","leeg","beide","NOx",160.71675195203798,{"$f":"VLOOKUP(A517,Begin:Einde,7,FALSE)","v":0},1,{"$f":"VLOOKUP(Jaar,Trendfactoren!$A$2:$D$43,(HLOOKUP(Emissieberekening!F517,Trendfactoren!$A$1:$C$2,2,FALSE)))","v":0.87},0]
["CEMT IIBIgeladenbeide","CEMT II","BI","geladen","beide","Fijn Stof",19.56988938242435,{"$f":"VLOOKUP(A518,Begin:Einde,7,FALSE)","v":0},1,{"$f":"VLOOKUP(Jaar,Trendfactoren!$A$2:$D$43,(HLOOKUP(Emissieberekening!F518,Trendfactoren!$A$1:$C$2,2,FALSE)))","v":0.76},0]
["CEMT IIBIgeladenbeide","CEMT II","BI","geladen","beide","NOx",578.15834371507697,{"$f":"VLOOKUP(A519,Begin:Einde,7,FALSE)","v":0},1,{"$f":"VLOOKUP(Jaar,Trendfactoren!$A$2:$D$43,(HLOOKUP(Emissieberekening!F519,Trendfactoren!$A$1:$C$2,2,FALSE)))","v":0.87},0]
["CEMT IIBIleegbeide","CEMT II","BI","leeg","beide","Fijn Stof",7.8383635982307682,{"$f":"VLOOKUP(A520,Begin:Einde,7,FALSE)","v":0},1,{"$f":"VLOOKUP(Jaar,Trendfactoren!$A$2:$D$43,(HLOOKUP(Emissieberekening!F520,Trendfactoren!$A$1:$C$2,2,FALSE)))","v":0.76},0]
["CEMT IIBIleegbeide","CEMT II","BI","leeg","beide","NOx",231.57081917180685,{"$f":"VLOOKUP(A521,Begin:Einde,7,FALSE)","v":0},1,{"$f":"VLOOKUP(Jaar,Trendfactoren!$A$2:$D$43,(HLOOKUP(Emissieberekening!F521,Trendfactoren!$A$1:$C$2,2,FALSE)))","v":0.87},0]
["CEMT IIBO1geladenbeide","CEMT II","BO1","geladen","beide","Fijn Stof",7.7417367661836796,{"$f":"VLOOKUP(A522,Begin:Einde,7,FALSE)","v":0},1,{"$f":"VLOOKUP(Jaar,Trendfactoren!$A$2:$D$43,(HLOOKUP(Emissieberekening!F522,Trendfactoren!$A$1:$C$2,2,FALSE)))","v":0.76},0]
["CEMT IIBO1geladenbeide","CEMT II","BO1","geladen","beide","NOx",228.71614748291358,{"$f":"VLOOKUP(A523,Begin:Einde,7,FALSE)","v":0},1,{"$f":"VLOOKUP(Jaar,Trendfactoren!$A$2:$D$43,(HLOOKUP(Emissieberekening!F523,Trendfactoren!$A$1:$C$2,2,FALSE)))","v":0.87},0]
["CEMT IIBO1leegbeide","CEMT II","BO1","leeg","beide","Fijn Stof",3.5517490707523156,{"$f":"VLOOKUP(A524,Begin:Einde,7,FALSE)","v":0},1,{"$f":"VLOOKUP(Jaar,Trendfactoren!$A$2:$D$43,(HLOOKUP(Emissieberekening!F524,Trendfactoren!$A$1:$C$2,2,FALSE)))","v":0.76},0]
["CEMT IIBO1leegbeide","CEMT II","BO1","leeg","beide","NOx",104.9302487055415,{"$f":"VLOOKUP(A525,Begin:Einde,7,FALSE)","v":0},1,{"$f":"VLOOKUP(Jaar,Trendfactoren!$A$2:$D$43,(HLOOKUP(Emissieberekening!F525,Trendfactoren!$A$1:$C$2,2,FALSE)))","v":0.87},0]
["CEMT IIBO2geladenbeide","CEMT II","BO2","geladen","beide","Fijn Stof",9.524704851973425,{"$f":"VLOOKUP(A526,Begin:Einde,7,FALSE)","v":0},1,{"$f":"VLOOKUP(Jaar,Trendfactoren!$A$2:$D$43,(HLOOKUP(Emissieberekening!F526,Trendfactoren!$A$1:$C$2,2,FALSE)))","v":0.76},0]
["CEMT IIBO2geladenbeide","CEMT II","BO2","geladen","beide","NOx",281.39083844477636,{"$f":"VLOOKUP(A527,Begin:Einde,7,FALSE)","v":0},1,{"$f":"VLOOKUP(Jaar,Trendfactoren!$A$2:$D$43,(HLOOKUP(Emissieberekening!F527,Trendfactoren!$A$1:$C$2,2,FALSE)))","v":0.87},0]
["CEMT IIBO2leegbeide","CEMT II","BO2","leeg","beide","Fijn Stof",4.8871157001958911,{"$f":"VLOOKUP(A528,Begin:Einde,7,FALSE)","v":0},1,{"$f":"VLOOKUP(Jaar,Trendfactoren!$A$2:$D$43,(HLOOKUP(Emissieberekening!F528,Trendfactoren!$A$1:$C$2,2,FALSE)))","v":0.76},0]
["CEMT IIBO2leegbeide","CEMT II","BO2","leeg","beide","NOx",144.38133315698767,{"$f":"VLOOKUP(A529,Begin:Einde,7,FALSE)","v":0},1,{"$f":"VLOOKUP(Jaar,Trendfactoren!$A$2:$D$43,(HLOOKUP(Emissieberekening!F529,Trendfactoren!$A$1:$C$2,2,FALSE)))","v":0.87},0]
["CEMT IIBO3geladenbeide","CEMT II","BO3","geladen","beide","Fijn Stof",9.6858183959199291,{"$f":"VLOOKUP(A530,Begin:Einde,7,FALSE)","v":0},1,{"$f":"VLOOKUP(Jaar,Trendfactoren!$A$2:$D$43,(HLOOKUP(Emissieberekening!F530,Trendfactoren!$A$1:$C$2,2,FALSE)))","v":0.76},0]
["CEMT IIBO3geladenbeide","CEMT II","BO3","geladen","beide","NOx",286.15065787440642,{"$f":"VLOOKUP(A531,Begin:Einde,7,FALSE)","v":0},1,{"$f":"VLOOKUP(Jaar,Trendfactoren!$A$2:$D$43,(HLOOKUP(Emissieberekening!F531,Trendfactoren!$A$1:$C$2,2,FALSE)))","v":0.87},0]
["CEMT IIBO3leegbeide","CEMT II","BO3","leeg","beide","Fijn Stof",5.9359721760286339,{"$f":"VLOOKUP(A532,Begin:Einde,7,FALSE)","v":0},1,{"$f":"VLOOKUP(Jaar,Trendfactoren!$A$2:$D$43,(HLOOKUP(Emissieberekening!F532,Trendfactoren!$A$1:$C$2,2,FALSE)))","v":0.76},0]
["CEMT IIBO3leegbeide","CEMT II","BO3","leeg","beide","NOx",175.36797344974786,{"$f":"VLOOKUP(A533,Begin:Einde,7,FALSE)","v":0},1,{"$f":"VLOOKUP(Jaar,Trendfactoren!$A$2:$D$43,(HLOOKUP(Emissieberekening!F533,Trendfactoren!$A$1:$C$2,2,FALSE)))","v":0.87},0]
["CEMT IIBO4geladenbeide","CEMT II","BO4","geladen","beide","Fijn Stof",18.137778768719677,{"$f":"VLOOKUP(A534,Begin:Einde,7,FALSE)","v":0},1,{"$f":"VLOOKUP(Jaar,Trendfactoren!$A$2:$D$43,(HLOOKUP(Emissieberekening!F534,Trendfactoren!$A$1:$C$2,2,FALSE)))","v":0.76},0]
["CEMT IIBO4geladenbeide","CEMT II","BO4","geladen","beide","NOx",535.84912651633863,{"$f":"VLOOKUP(A535,Begin:Einde,7,FALSE)","v":0},1,{"$f":"VLOOKUP(Jaar,Trendfactoren!$A$2:$D$43,(HLOOKUP(Emissieberekening!F535,Trendfactoren!$A$1:$C$2,2,FALSE)))","v":0.87},0]
["CEMT IIBO4leegbeide","CEMT II","BO4","leeg","beide","Fijn Stof",9.5574674074323855,{"$f":"VLOOKUP(A536,Begin:Einde,7,FALSE)","v":0},1,{"$f":"VLOOKUP(Jaar,Trendfactoren!$A$2:$D$43,(HLOOKUP(Emissieberekening!F536,Trendfactoren!$A$1:$C$2,2,FALSE)))","v":0.76},0]
["CEMT IIBO4leegbeide","CEMT II","BO4","leeg","beide","NOx",282.35875116159713,{"$f":"VLOOKUP(A537,Begin:Einde,7,FALSE)","v":0},1,{"$f":"VLOOKUP(Jaar,Trendfactoren!$A$2:$D$43,(HLOOKUP(Emissieberekening!F537,Trendfactoren!$A$1:$C$2,2,FALSE)))","v":0.87},0]
["CEMT IIC1lgeladenbeide","CEMT II","C1l","geladen","beide","Fijn Stof",7.3466989000220781,{"$f":"VLOOKUP(A538,Begin:Einde,7,FALSE)","v":0},1,{"$f":"VLOOKUP(Jaar,Trendfactoren!$A$2:$D$43,(HLOOKUP(Emissieberekening!F538,Trendfactoren!$A$1:$C$2,2,FALSE)))","v":0.76},0]
["CEMT IIC1lgeladenbeide","CEMT II","C1l","geladen","beide","NOx",217.04544082016412,{"$f":"VLOOKUP(A539,Begin:Einde,7,FALSE)","v":0},1,{"$f":"VLOOKUP(Jaar,Trendfactoren!$A$2:$D$43,(HLOOKUP(Emissieberekening!F539,Trendfactoren!$A$1:$C$2,2,FALSE)))","v":0.87},0]
["CEMT IIC1lleegbeide","CEMT II","C1l","leeg","beide","Fijn Stof",4.8381213325402763,{"$f":"VLOOKUP(A540,Begin:Einde,7,FALSE)","v":0},1,{"$f":"VLOOKUP(Jaar,Trendfactoren!$A$2:$D$43,(HLOOKUP(Emissieberekening!F540,Trendfactoren!$A$1:$C$2,2,FALSE)))","v":0.76},0]
["CEMT IIC1lleegbeide","CEMT II","C1l","leeg","beide","NOx",142.93387978095691,{"$f":"VLOOKUP(A541,Begin:Einde,7,FALSE)","v":0},1,{"$f":"VLOOKUP(Jaar,Trendfactoren!$A$2:$D$43,(HLOOKUP(Emissieberekening!F541,Trendfactoren!$A$1:$C$2,2,FALSE)))","v":0.87},0]
["CEMT IIM0geladenbeide","CEMT II","M0","geladen","beide","Fijn Stof",3.0482459627852165,{"$f":"VLOOKUP(A542,Begin:Einde,7,FALSE)","v":0},1,{"$f":"VLOOKUP(Jaar,Trendfactoren!$A$2:$D$43,(HLOOKUP(Emissieberekening!F542,Trendfactoren!$A$1:$C$2,2,FALSE)))","v":0.76},0]
["CEMT IIM0geladenbeide","CEMT II","M0","geladen","beide","NOx",90.055125128241542,{"$f":"VLOOKUP(A543,Begin:Einde,7,FALSE)","v":0},1,{"$f":"VLOOKUP(Jaar,Trendfactoren!$A$2:$D$43,(HLOOKUP(Emissieberekening!F543,Trendfactoren!$A$1:$C$2,2,FALSE)))","v":0.87},0]
["CEMT IIM0leegbeide","CEMT II","M0","leeg","beide","Fijn Stof",1.4763467555812422,{"$f":"VLOOKUP(A544,Begin:Einde,7,FALSE)","v":0},1,{"$f":"VLOOKUP(Jaar,Trendfactoren!$A$2:$D$43,(HLOOKUP(Emissieberekening!F544,Trendfactoren!$A$1:$C$2,2,FALSE)))","v":0.76},0]
["CEMT IIM0leegbeide","CEMT II","M0","leeg","beide","NOx",43.616097070153067,{"$f":"VLOOKUP(A545,Begin:Einde,7,FALSE)","v":0},1,{"$f":"VLOOKUP(Jaar,Trendfactoren!$A$2:$D$43,(HLOOKUP(Emissieberekening!F545,Trendfactoren!$A$1:$C$2,2,FALSE)))","v":0.87},0]
["CEMT IIM1geladenbeide","CEMT II","M1","geladen","beide","Fijn Stof",4.866657677302463,{"$f":"VLOOKUP(A546,Begin:Einde,7,FALSE)","v":0},1,{"$f":"VLOOKUP(Jaar,Trendfactoren!$A$2:$D$43,(HLOOKUP(Emissieberekening!F546,Trendfactoren!$A$1:$C$2,2,FALSE)))","v":0.76},0]
["CEMT IIM1geladenbeide","CEMT II","M1","geladen","beide","NOx",143.77693645342876,{"$f":"VLOOKUP(A547,Begin:Einde,7,FALSE)","v":0},1,{"$f":"VLOOKUP(Jaar,Trendfactoren!$A$2:$D$43,(HLOOKUP(Emissieberekening!F547,Trendfactoren!$A$1:$C$2,2,FALSE)))","v":0.87},0]
["CEMT IIM1leegbeide","CEMT II","M1","leeg","beide","Fijn Stof",3.0689282400100324,{"$f":"VLOOKUP(A548,Begin:Einde,7,FALSE)","v":0},1,{"$f":"VLOOKUP(Jaar,Trendfactoren!$A$2:$D$43,(HLOOKUP(Emissieberekening!F548,Trendfactoren!$A$1:$C$2,2,FALSE)))","v":0.76},0]
["CEMT IIM1leegbeide","CEMT II","M1","leeg","beide","NOx",90.666147035973694,{"$f":"VLOOKUP(A549,Begin:Einde,7,FALSE)","v":0},1,{"$f":"VLOOKUP(Jaar,Trendfactoren!$A$2:$D$43,(HLOOKUP(Emissieberekening!F549,Trendfactoren!$A$1:$C$2,2,FALSE)))","v":0.87},0]
["CEMT IIM2geladenbeide","CEMT II","M2","geladen","beide","Fijn Stof",6.4511528460634109,{"$f":"VLOOKUP(A550,Begin:Einde,7,FALSE)","v":0},1,{"$f":"VLOOKUP(Jaar,Trendfactoren!$A$2:$D$43,(HLOOKUP(Emissieberekening!F550,Trendfactoren!$A$1:$C$2,2,FALSE)))","v":0.76},0]
["CEMT IIM2geladenbeide","CEMT II","M2","geladen","beide","NOx",190.58809028744622,{"$f":"VLOOKUP(A551,Begin:Einde,7,FALSE)","v":0},1,{"$f":"VLOOKUP(Jaar,Trendfactoren!$A$2:$D$43,(HLOOKUP(Emissieberekening!F551,Trendfactoren!$A$1:$C$2,2,FALSE)))","v":0.87},0]
["CEMT IIM2leegbeide","CEMT II","M2","leeg","beide","Fijn Stof",4.4786997677913662,{"$f":"VLOOKUP(A552,Begin:Einde,7,FALSE)","v":0},1,{"$f":"VLOOKUP(Jaar,Trendfactoren!$A$2:$D$43,(HLOOKUP(Emissieberekening!F552,Trendfactoren!$A$1:$C$2,2,FALSE)))","v":0.76},0]
["CEMT IIM2leegbeide","CEMT II","M2","leeg","beide","NOx",132.31539479568471,{"$f":"VLOOKUP(A553,Begin:Einde,7,FALSE)","v":0},1,{"$f":"VLOOKUP(Jaar,Trendfactoren!$A$2:$D$43,(HLOOKUP(Emissieberekening!F553,Trendfactoren!$A$1:$C$2,2,FALSE)))","v":0.87},0]
["CEMT IIM3geladenbeide","CEMT II","M3","geladen","beide","Fijn Stof",8.1070336245195289,{"$f":"VLOOKUP(A554,Begin:Einde,7,FALSE)","v":0},1,{"$f":"VLOOKUP(Jaar,Trendfactoren!$A$2:$D$43,(HLOOKUP(Emissieberekening!F554,Trendfactoren!$A$1:$C$2,2,FALSE)))","v":0.76},0]
["CEMT IIM3geladenbeide","CEMT II","M3","geladen","beide","NOx",239.50820779825972,{"$f":"VLOOKUP(A555,Begin:Einde,7,FALSE)","v":0},1,{"$f":"VLOOKUP(Jaar,Trendfactoren!$A$2:$D$43,(HLOOKUP(Emissieberekening!F555,Trendfactoren!$A$1:$C$2,2,FALSE)))","v":0.87},0]
["CEMT IIM3leegbeide","CEMT II","M3","leeg","beide","Fijn Stof",2.8238266806744043,{"$f":"VLOOKUP(A556,Begin:Einde,7,FALSE)","v":0},1,{"$f":"VLOOKUP(Jaar,Trendfactoren!$A$2:$D$43,(HLOOKUP(Emissieberekening!F556,Trendfactoren!$A$1:$C$2,2,FALSE)))","v":0.76},0]
["CEMT IIM3leegbeide","CEMT II","M3","leeg","beide","NOx",83.425047772799701,{"$f":"VLOOKUP(A557,Begin:Einde,7,FALSE)","v":0},1,{"$f":"VLOOKUP(Jaar,Trendfactoren!$A$2:$D$43,(HLOOKUP(Emissieberekening!F557,Trendfactoren!$A$1:$C$2,2,FALSE)))","v":0.87},0]
["CEMT IIM4geladenbeide","CEMT II","M4","geladen","beide","Fijn Stof",9.2961842983045972,{"$f":"VLOOKUP(A558,Begin:Einde,7,FALSE)","v":0},1,{"$f":"VLOOKUP(Jaar,Trendfactoren!$A$2:$D$43,(HLOOKUP(Emissieberekening!F558,Trendfactoren!$A$1:$C$2,2,FALSE)))","v":0.76},0]
["CEMT IIM4geladenbeide","CEMT II","M4","geladen","beide","NOx",274.63959615453217,{"$f":"VLOOKUP(A559,Begin:Einde,7,FALSE)","v":0},1,{"$f":"VLOOKUP(Jaar,Trendfactoren!$A$2:$D$43,(HLOOKUP(Emissieberekening!F559,Trendfactoren!$A$1:$C$2,2,FALSE)))","v":0.87},0]
["CEMT IIM4leegbeide","CEMT II","M4","leeg","beide","Fijn Stof",4.6579680371086205,{"$f":"VLOOKUP(A560,Begin:Einde,7,FALSE)","v":0},1,{"$f":"VLOOKUP(Jaar,Trendfactoren!$A$2:$D$43,(HLOOKUP(Emissieberekening!F560,Trendfactoren!$A$1:$C$2,2,FALSE)))","v":0.76},0]
["CEMT IIM4leegbeide","CEMT II","M4","leeg","beide","NOx",137.61156400971288,{"$f":"VLOOKUP(A561,Begin:Einde,7,FALSE)","v":0},1,{"$f":"VLOOKUP(Jaar,Trendfactoren!$A$2:$D$43,(HLOOKUP(Emissieberekening!F561,Trendfactoren!$A$1:$C$2,2,FALSE)))","v":0.87},0]
["CEMT IIM5geladenbeide","CEMT II","M5","geladen","beide","Fijn Stof",11.668961510712608,{"$f":"VLOOKUP(A562,Begin:Einde,7,FALSE)","v":0},1,{"$f":"VLOOKUP(Jaar,Trendfactoren!$A$2:$D$43,(HLOOKUP(Emissieberekening!F562,Trendfactoren!$A$1:$C$2,2,FALSE)))","v":0.76},0]
["CEMT IIM5geladenbeide","CEMT II","M5","geladen","beide","NOx",344.73917190189121,{"$f":"VLOOKUP(A563,Begin:Einde,7,FALSE)","v":0},1,{"$f":"VLOOKUP(Jaar,Trendfactoren!$A$2:$D$43,(HLOOKUP(Emissieberekening!F563,Trendfactoren!$A$1:$C$2,2,FALSE)))","v":0.87},0]
["CEMT IIM5leegbeide","CEMT II","M5","leeg","beide","Fijn Stof",2.8400230935273871,{"$f":"VLOOKUP(A564,Begin:Einde,7,FALSE)","v":0},1,{"$f":"VLOOKUP(Jaar,Trendfactoren!$A$2:$D$43,(HLOOKUP(Emissieberekening!F564,Trendfactoren!$A$1:$C$2,2,FALSE)))","v":0.76},0]
["CEMT IIM5leegbeide","CEMT II","M5","leeg","beide","NOx",83.903542619971219,{"$f":"VLOOKUP(A565,Begin:Einde,7,FALSE)","v":0},1,{"$f":"VLOOKUP(Jaar,Trendfactoren!$A$2:$D$43,(HLOOKUP(Emissieberekening!F565,Trendfactoren!$A$1:$C$2,2,FALSE)))","v":0.87},0]
["CEMT IIM6geladenbeide","CEMT II","M6","geladen","beide","Fijn Stof",12.629742388681015,{"$f":"VLOOKUP(A566,Begin:Einde,7,FALSE)","v":0},1,{"$f":"VLOOKUP(Jaar,Trendfactoren!$A$2:$D$43,(HLOOKUP(Emissieberekening!F566,Trendfactoren!$A$1:$C$2,2,FALSE)))","v":0.76},0]
["CEMT IIM6geladenbeide","CEMT II","M6","geladen","beide","NOx",373.12377184644731,{"$f":"VLOOKUP(A567,Begin:Einde,7,FALSE)","v":0},1,{"$f":"VLOOKUP(Jaar,Trendfactoren!$A$2:$D$43,(HLOOKUP(Emissieberekening!F567,Trendfactoren!$A$1:$C$2,2,FALSE)))","v":0.87},0]
["CEMT IIM6leegbeide","CEMT II","M6","leeg","beide","Fijn Stof",14.235830525541951,{"$f":"VLOOKUP(A568,Begin:Einde,7,FALSE)","v":0},1,{"$f":"VLOOKUP(Jaar,Trendfactoren!$A$2:$D$43,(HLOOKUP(Emissieberekening!F568,Trendfactoren!$A$1:$C$2,2,FALSE)))","v":0.76},0]
["CEMT IIM6leegbeide","CEMT II","M6","leeg","beide","NOx",420.57285236613075,{"$f":"VLOOKUP(A569,Begin:Einde,7,FALSE)","v":0},1,{"$f":"VLOOKUP(Jaar,Trendfactoren!$A$2:$D$43,(HLOOKUP(Emissieberekening!F569,Trendfactoren!$A$1:$C$2,2,FALSE)))","v":0.87},0]
["CEMT IIM7geladenbeide","CEMT II","M7","geladen","beide","Fijn Stof",13.111710041638185,{"$f":"VLOOKUP(A570,Begin:Einde,7,FALSE)","v":0},1,{"$f":"VLOOKUP(Jaar,Trendfactoren!$A$2:$D$43,(HLOOKUP(Emissieberekening!F570,Trendfactoren!$A$1:$C$2,2,FALSE)))","v":0.76},0]
["CEMT IIM7geladenbeide","CEMT II","M7","geladen","beide","NOx",387.3626678622939,{"$f":"VLOOKUP(A571,Begin:Einde,7,FALSE)","v":0},1,{"$f":"VLOOKUP(Jaar,Trendfactoren!$A$2:$D$43,(HLOOKUP(Emissieberekening!F571,Trendfactoren!$A$1:$C$2,2,FALSE)))","v":0.87},0]
["CEMT IIM7leegbeide","CEMT II","M7","leeg","beide","Fijn Stof",13.983233985205594,{"$f":"VLOOKUP(A572,Begin:Einde,7,FALSE)","v":0},1,{"$f":"VLOOKUP(Jaar,Trendfactoren!$A$2:$D$43,(HLOOKUP(Emissieberekening!F572,Trendfactoren!$A$1:$C$2,2,FALSE)))","v":0.76},0]
["CEMT IIM7leegbeide","CEMT II","M7","leeg","beide","NOx",413.11032692537964,{"$f":"VLOOKUP(A573,Begin:Einde,7,FALSE)","v":0},1,{"$f":"VLOOKUP(Jaar,Trendfactoren!$A$2:$D$43,(HLOOKUP(Emissieberekening!F573,Trendfactoren!$A$1:$C$2,2,FALSE)))","v":0.87},0]
["CEMT IIIBO1geladenbeide","CEMT III","BO1","geladen","beide","Fijn Stof",9.5470708522216228,{"$f":"VLOOKUP(A574,Begin:Einde,7,FALSE)","v":0},1,{"$f":"VLOOKUP(Jaar,Trendfactoren!$A$2:$D$43,(HLOOKUP(Emissieberekening!F574,Trendfactoren!$A$1:$C$2,2,FALSE)))","v":0.76},0]
["CEMT IIIBO1geladenbeide","CEMT III","BO1","geladen","beide","NOx",282.05160302071926,{"$f":"VLOOKUP(A575,Begin:Einde,7,FALSE)","v":0},1,{"$f":"VLOOKUP(Jaar,Trendfactoren!$A$2:$D$43,(HLOOKUP(Emissieberekening!F575,Trendfactoren!$A$1:$C$2,2,FALSE)))","v":0.87},0]
["CEMT IIIBO1leegbeide","CEMT III","BO1","leeg","beide","Fijn Stof",4.0112252520146825,{"$f":"VLOOKUP(A576,Begin:Einde,7,FALSE)","v":0},1,{"$f":"VLOOKUP(Jaar,Trendfactoren!$A$2:$D$43,(HLOOKUP(Emissieberekening!F576,Trendfactoren!$A$1:$C$2,2,FALSE)))","v":0.76},0]
["CEMT IIIBO1leegbeide","CEMT III","BO1","leeg","beide","NOx",118.50467330978874,{"$f":"VLOOKUP(A577,Begin:Einde,7,FALSE)","v":0},1,{"$f":"VLOOKUP(Jaar,Trendfactoren!$A$2:$D$43,(HLOOKUP(Emissieberekening!F577,Trendfactoren!$A$1:$C$2,2,FALSE)))","v":0.87},0]
[{"$f":"+B578&C578&D578&E578","v":"CEMT IIIBO2geladenbeide"},"CEMT III","BO2","geladen","beide","Fijn Stof",9.2890866775271022,{"$f":"VLOOKUP(A578,Begin:Einde,7,FALSE)","v":0},{"$f":"+Afstand","v":1},{"$f":"VLOOKUP(Jaar,Trendfactoren!$A$2:$D$43,(HLOOKUP(Emissieberekening!F578,Trendfactoren!$A$1:$C$2,2,FALSE)))","v":0.76},{"$f":"+G578*H578*I578*J578","v":0}]
["CEMT IIIBO2geladenbeide","CEMT III","BO2","geladen","beide","NOx",274.42990929361821,{"$f":"VLOOKUP(A579,Begin:Einde,7,FALSE)","v":0},1,{"$f":"VLOOKUP(Jaar,Trendfactoren!$A$2:$D$43,(HLOOKUP(Emissieberekening!F579,Trendfactoren!$A$1:$C$2,2,FALSE)))","v":0.87},0]
["CEMT IIIBO2leegbeide","CEMT III","BO2","leeg","beide","Fijn Stof",5.5586005843899251,{"$f":"VLOOKUP(A580,Begin:Einde,7,FALSE)","v":0},1,{"$f":"VLOOKUP(Jaar,Trendfactoren!$A$2:$D$43,(HLOOKUP(Emissieberekening!F580,Trendfactoren!$A$1:$C$2,2,FALSE)))","v":0.76},0]
["CEMT IIIBO2leegbeide","CEMT III","BO2","leeg","beide","NOx",164.21918614066348,{"$f":"VLOOKUP(A581,Begin:Einde,7,FALSE)","v":0},1,{"$f":"VLOOKUP(Jaar,Trendfactoren!$A$2:$D$43,(HLOOKUP(Emissieberekening!F581,Trendfactoren!$A$1:$C$2,2,FALSE)))","v":0.87},0]
["CEMT IIIBO3geladenbeide","CEMT III","BO3","geladen","beide","Fijn Stof",10.776640261425614,{"$f":"VLOOKUP(A582,Begin:Einde,7,FALSE)","v":0},1,{"$f":"VLOOKUP(Jaar,Trendfactoren!$A$2:$D$43,(HLOOKUP(Emissieberekening!F582,Trendfactoren!$A$1:$C$2,2,FALSE)))","v":0.76},0]
["CEMT IIIBO3geladenbeide","CEMT III","BO3","geladen","beide","NOx",318.37709261426539,{"$f":"VLOOKUP(A583,Begin:Einde,7,FALSE)","v":0},1,{"$f":"VLOOKUP(Jaar,Trendfactoren!$A$2:$D$43,(HLOOKUP(Emissieberekening!F583,Trendfactoren!$A$1:$C$2,2,FALSE)))","v":0.87},0]
["CEMT IIIBO3leegbeide","CEMT III","BO3","leeg","beide","Fijn Stof",6.2327985231381806,{"$f":"VLOOKUP(A584,Begin:Einde,7,FALSE)","v":0},1,{"$f":"VLOOKUP(Jaar,Trendfactoren!$A$2:$D$43,(HLOOKUP(Emissieberekening!F584,Trendfactoren!$A$1:$C$2,2,FALSE)))","v":0.76},0]
["CEMT IIIBO3leegbeide","CEMT III","BO3","leeg","beide","NOx",184.13719160230303,{"$f":"VLOOKUP(A585,Begin:Einde,7,FALSE)","v":0},1,{"$f":"VLOOKUP(Jaar,Trendfactoren!$A$2:$D$43,(HLOOKUP(Emissieberekening!F585,Trendfactoren!$A$1:$C$2,2,FALSE)))","v":0.87},0]
["CEMT IIIBO4geladenbeide","CEMT III","BO4","geladen","beide","Fijn Stof",11.895888001277509,{"$f":"VLOOKUP(A586,Begin:Einde,7,FALSE)","v":0},1,{"$f":"VLOOKUP(Jaar,Trendfactoren!$A$2:$D$43,(HLOOKUP(Emissieberekening!F586,Trendfactoren!$A$1:$C$2,2,FALSE)))","v":0.76},0]
["CEMT IIIBO4geladenbeide","CEMT III","BO4","geladen","beide","NOx",351.44332037029841,{"$f":"VLOOKUP(A587,Begin:Einde,7,FALSE)","v":0},1,{"$f":"VLOOKUP(Jaar,Trendfactoren!$A$2:$D$43,(HLOOKUP(Emissieberekening!F587,Trendfactoren!$A$1:$C$2,2,FALSE)))","v":0.87},0]
["CEMT IIIBO4leegbeide","CEMT III","BO4","leeg","beide","Fijn Stof",9.5574674074323926,{"$f":"VLOOKUP(A588,Begin:Einde,7,FALSE)","v":0},1,{"$f":"VLOOKUP(Jaar,Trendfactoren!$A$2:$D$43,(HLOOKUP(Emissieberekening!F588,Trendfactoren!$A$1:$C$2,2,FALSE)))","v":0.76},0]
["CEMT IIIBO4leegbeide","CEMT III","BO4","leeg","beide","NOx",282.35875116159735,{"$f":"VLOOKUP(A589,Begin:Einde,7,FALSE)","v":0},1,{"$f":"VLOOKUP(Jaar,Trendfactoren!$A$2:$D$43,(HLOOKUP(Emissieberekening!F589,Trendfactoren!$A$1:$C$2,2,FALSE)))","v":0.87},0]
["CEMT IIIC1lgeladenbeide","CEMT III","C1l","geladen","beide","Fijn Stof",5.7712889087210648,{"$f":"VLOOKUP(A590,Begin:Einde,7,FALSE)","v":0},1,{"$f":"VLOOKUP(Jaar,Trendfactoren!$A$2:$D$43,(HLOOKUP(Emissieberekening!F590,Trendfactoren!$A$1:$C$2,2,FALSE)))","v":0.76},0]
["CEMT IIIC1lgeladenbeide","CEMT III","C1l","geladen","beide","NOx",170.50269275226768,{"$f":"VLOOKUP(A591,Begin:Einde,7,FALSE)","v":0},1,{"$f":"VLOOKUP(Jaar,Trendfactoren!$A$2:$D$43,(HLOOKUP(Emissieberekening!F591,Trendfactoren!$A$1:$C$2,2,FALSE)))","v":0.87},0]
["CEMT IIIC1lleegbeide","CEMT III","C1l","leeg","beide","Fijn Stof",3.6217162059859396,{"$f":"VLOOKUP(A592,Begin:Einde,7,FALSE)","v":0},1,{"$f":"VLOOKUP(Jaar,Trendfactoren!$A$2:$D$43,(HLOOKUP(Emissieberekening!F592,Trendfactoren!$A$1:$C$2,2,FALSE)))","v":0.76},0]
["CEMT IIIC1lleegbeide","CEMT III","C1l","leeg","beide","NOx",106.99730602153687,{"$f":"VLOOKUP(A593,Begin:Einde,7,FALSE)","v":0},1,{"$f":"VLOOKUP(Jaar,Trendfactoren!$A$2:$D$43,(HLOOKUP(Emissieberekening!F593,Trendfactoren!$A$1:$C$2,2,FALSE)))","v":0.87},0]
["CEMT IIIM0geladenbeide","CEMT III","M0","geladen","beide","Fijn Stof",2.1560265608720415,{"$f":"VLOOKUP(A594,Begin:Einde,7,FALSE)","v":0},1,{"$f":"VLOOKUP(Jaar,Trendfactoren!$A$2:$D$43,(HLOOKUP(Emissieberekening!F594,Trendfactoren!$A$1:$C$2,2,FALSE)))","v":0.76},0]
["CEMT IIIM0geladenbeide","CEMT III","M0","geladen","beide","NOx",63.696054744131189,{"$f":"VLOOKUP(A595,Begin:Einde,7,FALSE)","v":0},1,{"$f":"VLOOKUP(Jaar,Trendfactoren!$A$2:$D$43,(HLOOKUP(Emissieberekening!F595,Trendfactoren!$A$1:$C$2,2,FALSE)))","v":0.87},0]
["CEMT IIIM0leegbeide","CEMT III","M0","leeg","beide","Fijn Stof",1.2759320317073166,{"$f":"VLOOKUP(A596,Begin:Einde,7,FALSE)","v":0},1,{"$f":"VLOOKUP(Jaar,Trendfactoren!$A$2:$D$43,(HLOOKUP(Emissieberekening!F596,Trendfactoren!$A$1:$C$2,2,FALSE)))","v":0.76},0]
["CEMT IIIM0leegbeide","CEMT III","M0","leeg","beide","NOx",37.695192636471056,{"$f":"VLOOKUP(A597,Begin:Einde,7,FALSE)","v":0},1,{"$f":"VLOOKUP(Jaar,Trendfactoren!$A$2:$D$43,(HLOOKUP(Emissieberekening!F597,Trendfactoren!$A$1:$C$2,2,FALSE)))","v":0.87},0]
["CEMT IIIM1geladenbeide","CEMT III","M1","geladen","beide","Fijn Stof",5.7004780064093792,{"$f":"VLOOKUP(A598,Begin:Einde,7,FALSE)","v":0},1,{"$f":"VLOOKUP(Jaar,Trendfactoren!$A$2:$D$43,(HLOOKUP(Emissieberekening!F598,Trendfactoren!$A$1:$C$2,2,FALSE)))","v":0.76},0]
["CEMT IIIM1geladenbeide","CEMT III","M1","geladen","beide","NOx",168.41070780552278,{"$f":"VLOOKUP(A599,Begin:Einde,7,FALSE)","v":0},1,{"$f":"VLOOKUP(Jaar,Trendfactoren!$A$2:$D$43,(HLOOKUP(Emissieberekening!F599,Trendfactoren!$A$1:$C$2,2,FALSE)))","v":0.87},0]
["CEMT IIIM1leegbeide","CEMT III","M1","leeg","beide","Fijn Stof",4.0951824148756772,{"$f":"VLOOKUP(A600,Begin:Einde,7,FALSE)","v":0},1,{"$f":"VLOOKUP(Jaar,Trendfactoren!$A$2:$D$43,(HLOOKUP(Emissieberekening!F600,Trendfactoren!$A$1:$C$2,2,FALSE)))","v":0.76},0]
["CEMT IIIM1leegbeide","CEMT III","M1","leeg","beide","NOx",120.98504165905108,{"$f":"VLOOKUP(A601,Begin:Einde,7,FALSE)","v":0},1,{"$f":"VLOOKUP(Jaar,Trendfactoren!$A$2:$D$43,(HLOOKUP(Emissieberekening!F601,Trendfactoren!$A$1:$C$2,2,FALSE)))","v":0.87},0]
["CEMT IIIM2geladenbeide","CEMT III","M2","geladen","beide","Fijn Stof",6.7945473058615837,{"$f":"VLOOKUP(A602,Begin:Einde,7,FALSE)","v":0},1,{"$f":"VLOOKUP(Jaar,Trendfactoren!$A$2:$D$43,(HLOOKUP(Emissieberekening!F602,Trendfactoren!$A$1:$C$2,2,FALSE)))","v":0.76},0]
["CEMT IIIM2geladenbeide","CEMT III","M2","geladen","beide","NOx",200.73308233303996,{"$f":"VLOOKUP(A603,Begin:Einde,7,FALSE)","v":0},1,{"$f":"VLOOKUP(Jaar,Trendfactoren!$A$2:$D$43,(HLOOKUP(Emissieberekening!F603,Trendfactoren!$A$1:$C$2,2,FALSE)))","v":0.87},0]
["CEMT IIIM2leegbeide","CEMT III","M2","leeg","beide","Fijn Stof",4.1686177222198424,{"$f":"VLOOKUP(A604,Begin:Einde,7,FALSE)","v":0},1,{"$f":"VLOOKUP(Jaar,Trendfactoren!$A$2:$D$43,(HLOOKUP(Emissieberekening!F604,Trendfactoren!$A$1:$C$2,2,FALSE)))","v":0.76},0]
["CEMT IIIM2leegbeide","CEMT III","M2","leeg","beide","NOx",123.15456008782874,{"$f":"VLOOKUP(A605,Begin:Einde,7,FALSE)","v":0},1,{"$f":"VLOOKUP(Jaar,Trendfactoren!$A$2:$D$43,(HLOOKUP(Emissieberekening!F605,Trendfactoren!$A$1:$C$2,2,FALSE)))","v":0.87},0]
["CEMT IIIM3geladenbeide","CEMT III","M3","geladen","beide","Fijn Stof",8.3248698702725683,{"$f":"VLOOKUP(A606,Begin:Einde,7,FALSE)","v":0},1,{"$f":"VLOOKUP(Jaar,Trendfactoren!$A$2:$D$43,(HLOOKUP(Emissieberekening!F606,Trendfactoren!$A$1:$C$2,2,FALSE)))","v":0.76},0]
["CEMT IIIM3geladenbeide","CEMT III","M3","geladen","beide","NOx",245.9438007944469,{"$f":"VLOOKUP(A607,Begin:Einde,7,FALSE)","v":0},1,{"$f":"VLOOKUP(Jaar,Trendfactoren!$A$2:$D$43,(HLOOKUP(Emissieberekening!F607,Trendfactoren!$A$1:$C$2,2,FALSE)))","v":0.87},0]
["CEMT IIIM3leegbeide","CEMT III","M3","leeg","beide","Fijn Stof",5.3784371592154416,{"$f":"VLOOKUP(A608,Begin:Einde,7,FALSE)","v":0},1,{"$f":"VLOOKUP(Jaar,Trendfactoren!$A$2:$D$43,(HLOOKUP(Emissieberekening!F608,Trendfactoren!$A$1:$C$2,2,FALSE)))","v":0.76},0]
["CEMT IIIM3leegbeide","CEMT III","M3","leeg","beide","NOx",158.8965711037863,{"$f":"VLOOKUP(A609,Begin:Einde,7,FALSE)","v":0},1,{"$f":"VLOOKUP(Jaar,Trendfactoren!$A$2:$D$43,(HLOOKUP(Emissieberekening!F609,Trendfactoren!$A$1:$C$2,2,FALSE)))","v":0.87},0]
["CEMT IIIM4geladenbeide","CEMT III","M4","geladen","beide","Fijn Stof",9.2961842983046008,{"$f":"VLOOKUP(A610,Begin:Einde,7,FALSE)","v":0},1,{"$f":"VLOOKUP(Jaar,Trendfactoren!$A$2:$D$43,(HLOOKUP(Emissieberekening!F610,Trendfactoren!$A$1:$C$2,2,FALSE)))","v":0.76},0]
["CEMT IIIM4geladenbeide","CEMT III","M4","geladen","beide","NOx",274.63959615453234,{"$f":"VLOOKUP(A611,Begin:Einde,7,FALSE)","v":0},1,{"$f":"VLOOKUP(Jaar,Trendfactoren!$A$2:$D$43,(HLOOKUP(Emissieberekening!F611,Trendfactoren!$A$1:$C$2,2,FALSE)))","v":0.87},0]
["CEMT IIIM4leegbeide","CEMT III","M4","leeg","beide","Fijn Stof",5.9017680062968427,{"$f":"VLOOKUP(A612,Begin:Einde,7,FALSE)","v":0},1,{"$f":"VLOOKUP(Jaar,Trendfactoren!$A$2:$D$43,(HLOOKUP(Emissieberekening!F612,Trendfactoren!$A$1:$C$2,2,FALSE)))","v":0.76},0]
["CEMT IIIM4leegbeide","CEMT III","M4","leeg","beide","NOx",174.3574707466492,{"$f":"VLOOKUP(A613,Begin:Einde,7,FALSE)","v":0},1,{"$f":"VLOOKUP(Jaar,Trendfactoren!$A$2:$D$43,(HLOOKUP(Emissieberekening!F613,Trendfactoren!$A$1:$C$2,2,FALSE)))","v":0.87},0]
["CEMT IIIM5geladenbeide","CEMT III","M5","geladen","beide","Fijn Stof",8.0825474852177681,{"$f":"VLOOKUP(A614,Begin:Einde,7,FALSE)","v":0},1,{"$f":"VLOOKUP(Jaar,Trendfactoren!$A$2:$D$43,(HLOOKUP(Emissieberekening!F614,Trendfactoren!$A$1:$C$2,2,FALSE)))","v":0.76},0]
["CEMT IIIM5geladenbeide","CEMT III","M5","geladen","beide","NOx",238.78480740155658,{"$f":"VLOOKUP(A615,Begin:Einde,7,FALSE)","v":0},1,{"$f":"VLOOKUP(Jaar,Trendfactoren!$A$2:$D$43,(HLOOKUP(Emissieberekening!F615,Trendfactoren!$A$1:$C$2,2,FALSE)))","v":0.87},0]
["CEMT IIIM5leegbeide","CEMT III","M5","leeg","beide","Fijn Stof",5.9122649718912879,{"$f":"VLOOKUP(A616,Begin:Einde,7,FALSE)","v":0},1,{"$f":"VLOOKUP(Jaar,Trendfactoren!$A$2:$D$43,(HLOOKUP(Emissieberekening!F616,Trendfactoren!$A$1:$C$2,2,FALSE)))","v":0.76},0]
["CEMT IIIM5leegbeide","CEMT III","M5","leeg","beide","NOx",174.66758533766824,{"$f":"VLOOKUP(A617,Begin:Einde,7,FALSE)","v":0},1,{"$f":"VLOOKUP(Jaar,Trendfactoren!$A$2:$D$43,(HLOOKUP(Emissieberekening!F617,Trendfactoren!$A$1:$C$2,2,FALSE)))","v":0.87},0]
["CEMT IIIM6geladenbeide","CEMT III","M6","geladen","beide","Fijn Stof",14.565479474406526,{"$f":"VLOOKUP(A618,Begin:Einde,7,FALSE)","v":0},1,{"$f":"VLOOKUP(Jaar,Trendfactoren!$A$2:$D$43,(HLOOKUP(Emissieberekening!F618,Trendfactoren!$A$1:$C$2,2,FALSE)))","v":0.76},0]
["CEMT IIIM6geladenbeide","CEMT III","M6","geladen","beide","NOx",430.31175719888512,{"$f":"VLOOKUP(A619,Begin:Einde,7,FALSE)","v":0},1,{"$f":"VLOOKUP(Jaar,Trendfactoren!$A$2:$D$43,(HLOOKUP(Emissieberekening!F619,Trendfactoren!$A$1:$C$2,2,FALSE)))","v":0.87},0]
["CEMT IIIM6leegbeide","CEMT III","M6","leeg","beide","Fijn Stof",9.3289799007823593,{"$f":"VLOOKUP(A620,Begin:Einde,7,FALSE)","v":0},1,{"$f":"VLOOKUP(Jaar,Trendfactoren!$A$2:$D$43,(HLOOKUP(Emissieberekening!F620,Trendfactoren!$A$1:$C$2,2,FALSE)))","v":0.76},0]
["CEMT IIIM6leegbeide","CEMT III","M6","leeg","beide","NOx",275.60848518804454,{"$f":"VLOOKUP(A621,Begin:Einde,7,FALSE)","v":0},1,{"$f":"VLOOKUP(Jaar,Trendfactoren!$A$2:$D$43,(HLOOKUP(Emissieberekening!F621,Trendfactoren!$A$1:$C$2,2,FALSE)))","v":0.87},0]
["CEMT IVBIgeladenbeide","CEMT IV","BI","geladen","beide","Fijn Stof",17.628073270668153,{"$f":"VLOOKUP(A622,Begin:Einde,7,FALSE)","v":0},1,{"$f":"VLOOKUP(Jaar,Trendfactoren!$A$2:$D$43,(HLOOKUP(Emissieberekening!F622,Trendfactoren!$A$1:$C$2,2,FALSE)))","v":0.76},0]
["CEMT IVBIgeladenbeide","CEMT IV","BI","geladen","beide","NOx",520.79076411186861,{"$f":"VLOOKUP(A623,Begin:Einde,7,FALSE)","v":0},1,{"$f":"VLOOKUP(Jaar,Trendfactoren!$A$2:$D$43,(HLOOKUP(Emissieberekening!F623,Trendfactoren!$A$1:$C$2,2,FALSE)))","v":0.87},0]
["CEMT IVBIleegbeide","CEMT IV","BI","leeg","beide","Fijn Stof",9.2267874193305257,{"$f":"VLOOKUP(A624,Begin:Einde,7,FALSE)","v":0},1,{"$f":"VLOOKUP(Jaar,Trendfactoren!$A$2:$D$43,(HLOOKUP(Emissieberekening!F624,Trendfactoren!$A$1:$C$2,2,FALSE)))","v":0.76},0]
["CEMT IVBIleegbeide","CEMT IV","BI","leeg","beide","NOx",272.58938606787325,{"$f":"VLOOKUP(A625,Begin:Einde,7,FALSE)","v":0},1,{"$f":"VLOOKUP(Jaar,Trendfactoren!$A$2:$D$43,(HLOOKUP(Emissieberekening!F625,Trendfactoren!$A$1:$C$2,2,FALSE)))","v":0.87},0]
["CEMT IVBII-1geladenbeide","CEMT IV","BII-1","geladen","beide","Fijn Stof",19.196522878924885,{"$f":"VLOOKUP(A626,Begin:Einde,7,FALSE)","v":0},1,{"$f":"VLOOKUP(Jaar,Trendfactoren!$A$2:$D$43,(HLOOKUP(Emissieberekening!F626,Trendfactoren!$A$1:$C$2,2,FALSE)))","v":0.76},0]
["CEMT IVBII-1geladenbeide","CEMT IV","BII-1","geladen","beide","NOx",567.12787976897982,{"$f":"VLOOKUP(A627,Begin:Einde,7,FALSE)","v":0},1,{"$f":"VLOOKUP(Jaar,Trendfactoren!$A$2:$D$43,(HLOOKUP(Emissieberekening!F627,Trendfactoren!$A$1:$C$2,2,FALSE)))","v":0.87},0]
["CEMT IVBII-1leegbeide","CEMT IV","BII-1","leeg","beide","Fijn Stof",10.756378429507027,{"$f":"VLOOKUP(A628,Begin:Einde,7,FALSE)","v":0},1,{"$f":"VLOOKUP(Jaar,Trendfactoren!$A$2:$D$43,(HLOOKUP(Emissieberekening!F628,Trendfactoren!$A$1:$C$2,2,FALSE)))","v":0.76},0]
["CEMT IVBII-1leegbeide","CEMT IV","BII-1","leeg","beide","NOx",317.77849203182149,{"$f":"VLOOKUP(A629,Begin:Einde,7,FALSE)","v":0},1,{"$f":"VLOOKUP(Jaar,Trendfactoren!$A$2:$D$43,(HLOOKUP(Emissieberekening!F629,Trendfactoren!$A$1:$C$2,2,FALSE)))","v":0.87},0]
["CEMT IVBO1geladenbeide","CEMT IV","BO1","geladen","beide","Fijn Stof",8.7059925506945532,{"$f":"VLOOKUP(A630,Begin:Einde,7,FALSE)","v":0},1,{"$f":"VLOOKUP(Jaar,Trendfactoren!$A$2:$D$43,(HLOOKUP(Emissieberekening!F630,Trendfactoren!$A$1:$C$2,2,FALSE)))","v":0.76},0]
["CEMT IVBO1geladenbeide","CEMT IV","BO1","geladen","beide","NOx",257.20340749732992,{"$f":"VLOOKUP(A631,Begin:Einde,7,FALSE)","v":0},1,{"$f":"VLOOKUP(Jaar,Trendfactoren!$A$2:$D$43,(HLOOKUP(Emissieberekening!F631,Trendfactoren!$A$1:$C$2,2,FALSE)))","v":0.87},0]
["CEMT IVBO1leegbeide","CEMT IV","BO1","leeg","beide","Fijn Stof",3.5385466614605128,{"$f":"VLOOKUP(A632,Begin:Einde,7,FALSE)","v":0},1,{"$f":"VLOOKUP(Jaar,Trendfactoren!$A$2:$D$43,(HLOOKUP(Emissieberekening!F632,Trendfactoren!$A$1:$C$2,2,FALSE)))","v":0.76},0]
["CEMT IVBO1leegbeide","CEMT IV","BO1","leeg","beide","NOx",104.5402064860871,{"$f":"VLOOKUP(A633,Begin:Einde,7,FALSE)","v":0},1,{"$f":"VLOOKUP(Jaar,Trendfactoren!$A$2:$D$43,(HLOOKUP(Emissieberekening!F633,Trendfactoren!$A$1:$C$2,2,FALSE)))","v":0.87},0]
["CEMT IVBO2geladenbeide","CEMT IV","BO2","geladen","beide","Fijn Stof",11.879181645790394,{"$f":"VLOOKUP(A634,Begin:Einde,7,FALSE)","v":0},1,{"$f":"VLOOKUP(Jaar,Trendfactoren!$A$2:$D$43,(HLOOKUP(Emissieberekening!F634,Trendfactoren!$A$1:$C$2,2,FALSE)))","v":0.76},0]
["CEMT IVBO2geladenbeide","CEMT IV","BO2","geladen","beide","NOx",350.94976015494944,{"$f":"VLOOKUP(A635,Begin:Einde,7,FALSE)","v":0},1,{"$f":"VLOOKUP(Jaar,Trendfactoren!$A$2:$D$43,(HLOOKUP(Emissieberekening!F635,Trendfactoren!$A$1:$C$2,2,FALSE)))","v":0.87},0]
["CEMT IVBO2leegbeide","CEMT IV","BO2","leeg","beide","Fijn Stof",5.0976971602419745,{"$f":"VLOOKUP(A636,Begin:Einde,7,FALSE)","v":0},1,{"$f":"VLOOKUP(Jaar,Trendfactoren!$A$2:$D$43,(HLOOKUP(Emissieberekening!F636,Trendfactoren!$A$1:$C$2,2,FALSE)))","v":0.76},0]
["CEMT IVBO2leegbeide","CEMT IV","BO2","leeg","beide","NOx",150.60259612777833,{"$f":"VLOOKUP(A637,Begin:Einde,7,FALSE)","v":0},1,{"$f":"VLOOKUP(Jaar,Trendfactoren!$A$2:$D$43,(HLOOKUP(Emissieberekening!F637,Trendfactoren!$A$1:$C$2,2,FALSE)))","v":0.87},0]
["CEMT IVBO3geladenbeide","CEMT IV","BO3","geladen","beide","Fijn Stof",14.607011320157904,{"$f":"VLOOKUP(A638,Begin:Einde,7,FALSE)","v":0},1,{"$f":"VLOOKUP(Jaar,Trendfactoren!$A$2:$D$43,(HLOOKUP(Emissieberekening!F638,Trendfactoren!$A$1:$C$2,2,FALSE)))","v":0.76},0]
["CEMT IVBO3geladenbeide","CEMT IV","BO3","geladen","beide","NOx",431.53874334488825,{"$f":"VLOOKUP(A639,Begin:Einde,7,FALSE)","v":0},1,{"$f":"VLOOKUP(Jaar,Trendfactoren!$A$2:$D$43,(HLOOKUP(Emissieberekening!F639,Trendfactoren!$A$1:$C$2,2,FALSE)))","v":0.87},0]
["CEMT IVBO3leegbeide","CEMT IV","BO3","leeg","beide","Fijn Stof",7.1605030656413025,{"$f":"VLOOKUP(A640,Begin:Einde,7,FALSE)","v":0},1,{"$f":"VLOOKUP(Jaar,Trendfactoren!$A$2:$D$43,(HLOOKUP(Emissieberekening!F640,Trendfactoren!$A$1:$C$2,2,FALSE)))","v":0.76},0]
["CEMT IVBO3leegbeide","CEMT IV","BO3","leeg","beide","NOx",211.54460874551191,{"$f":"VLOOKUP(A641,Begin:Einde,7,FALSE)","v":0},1,{"$f":"VLOOKUP(Jaar,Trendfactoren!$A$2:$D$43,(HLOOKUP(Emissieberekening!F641,Trendfactoren!$A$1:$C$2,2,FALSE)))","v":0.87},0]
[{"$f":"+B642&C642&D642&E642","v":"CEMT IVBO4geladenbeide"},"CEMT IV","BO4","geladen","beide","Fijn Stof",14.919906000033089,{"$f":"VLOOKUP(A642,Begin:Einde,7,FALSE)","v":0},{"$f":"+Afstand","v":1},{"$f":"VLOOKUP(Jaar,Trendfactoren!$A$2:$D$43,(HLOOKUP(Emissieberekening!F642,Trendfactoren!$A$1:$C$2,2,FALSE)))","v":0.76},{"$f":"+G642*H642*I642*J642","v":0}]
["CEMT IVBO4geladenbeide","CEMT IV","BO4","geladen","beide","NOx",440.78267244120519,{"$f":"VLOOKUP(A643,Begin:Einde,7,FALSE)","v":0},1,{"$f":"VLOOKUP(Jaar,Trendfactoren!$A$2:$D$43,(HLOOKUP(Emissieberekening!F643,Trendfactoren!$A$1:$C$2,2,FALSE)))","v":0.87},0]
["CEMT IVBO4leegbeide","CEMT IV","BO4","leeg","beide","Fijn Stof",7.2093502616205392,{"$f":"VLOOKUP(A644,Begin:Einde,7,FALSE)","v":0},1,{"$f":"VLOOKUP(Jaar,Trendfactoren!$A$2:$D$43,(HLOOKUP(Emissieberekening!F644,Trendfactoren!$A$1:$C$2,2,FALSE)))","v":0.76},0]
["CEMT IVBO4leegbeide","CEMT IV","BO4","leeg","beide","NOx",212.98771419034108,{"$f":"VLOOKUP(A645,Begin:Einde,7,FALSE)","v":0},1,{"$f":"VLOOKUP(Jaar,Trendfactoren!$A$2:$D$43,(HLOOKUP(Emissieberekening!F645,Trendfactoren!$A$1:$C$2,2,FALSE)))","v":0.87},0]
["CEMT IVC1bgeladenbeide","CEMT IV","C1b","geladen","beide","Fijn Stof",10.443801341307578,{"$f":"VLOOKUP(A646,Begin:Einde,7,FALSE)","v":0},1,{"$f":"VLOOKUP(Jaar,Trendfactoren!$A$2:$D$43,(HLOOKUP(Emissieberekening!F646,Trendfactoren!$A$1:$C$2,2,FALSE)))","v":0.76},0]
["CEMT IVC1bgeladenbeide","CEMT IV","C1b","geladen","beide","NOx",308.54394562917406,{"$f":"VLOOKUP(A647,Begin:Einde,7,FALSE)","v":0},1,{"$f":"VLOOKUP(Jaar,Trendfactoren!$A$2:$D$43,(HLOOKUP(Emissieberekening!F647,Trendfactoren!$A$1:$C$2,2,FALSE)))","v":0.87},0]
["CEMT IVC1bleegbeide","CEMT IV","C1b","leeg","beide","Fijn Stof",3.6348099043826925,{"$f":"VLOOKUP(A648,Begin:Einde,7,FALSE)","v":0},1,{"$f":"VLOOKUP(Jaar,Trendfactoren!$A$2:$D$43,(HLOOKUP(Emissieberekening!F648,Trendfactoren!$A$1:$C$2,2,FALSE)))","v":0.76},0]
["CEMT IVC1bleegbeide","CEMT IV","C1b","leeg","beide","NOx",107.38413656667885,{"$f":"VLOOKUP(A649,Begin:Einde,7,FALSE)","v":0},1,{"$f":"VLOOKUP(Jaar,Trendfactoren!$A$2:$D$43,(HLOOKUP(Emissieberekening!F649,Trendfactoren!$A$1:$C$2,2,FALSE)))","v":0.87},0]
["CEMT IVC1lgeladenbeide","CEMT IV","C1l","geladen","beide","Fijn Stof",6.0611708519552394,{"$f":"VLOOKUP(A650,Begin:Einde,7,FALSE)","v":0},1,{"$f":"VLOOKUP(Jaar,Trendfactoren!$A$2:$D$43,(HLOOKUP(Emissieberekening!F650,Trendfactoren!$A$1:$C$2,2,FALSE)))","v":0.76},0]
["CEMT IVC1lgeladenbeide","CEMT IV","C1l","geladen","beide","NOx",179.06675057079053,{"$f":"VLOOKUP(A651,Begin:Einde,7,FALSE)","v":0},1,{"$f":"VLOOKUP(Jaar,Trendfactoren!$A$2:$D$43,(HLOOKUP(Emissieberekening!F651,Trendfactoren!$A$1:$C$2,2,FALSE)))","v":0.87},0]
["CEMT IVC1lleegbeide","CEMT IV","C1l","leeg","beide","Fijn Stof",4.2541872398454217,{"$f":"VLOOKUP(A652,Begin:Einde,7,FALSE)","v":0},1,{"$f":"VLOOKUP(Jaar,Trendfactoren!$A$2:$D$43,(HLOOKUP(Emissieberekening!F652,Trendfactoren!$A$1:$C$2,2,FALSE)))","v":0.76},0]
["CEMT IVC1lleegbeide","CEMT IV","C1l","leeg","beide","NOx",125.6825626542272,{"$f":"VLOOKUP(A653,Begin:Einde,7,FALSE)","v":0},1,{"$f":"VLOOKUP(Jaar,Trendfactoren!$A$2:$D$43,(HLOOKUP(Emissieberekening!F653,Trendfactoren!$A$1:$C$2,2,FALSE)))","v":0.87},0]
["CEMT IVM0geladenbeide","CEMT IV","M0","geladen","beide","Fijn Stof",2.0595586315356145,{"$f":"VLOOKUP(A654,Begin:Einde,7,FALSE)","v":0},1,{"$f":"VLOOKUP(Jaar,Trendfactoren!$A$2:$D$43,(HLOOKUP(Emissieberekening!F654,Trendfactoren!$A$1:$C$2,2,FALSE)))","v":0.76},0]
["CEMT IVM0geladenbeide","CEMT IV","M0","geladen","beide","NOx",60.846077559443465,{"$f":"VLOOKUP(A655,Begin:Einde,7,FALSE)","v":0},1,{"$f":"VLOOKUP(Jaar,Trendfactoren!$A$2:$D$43,(HLOOKUP(Emissieberekening!F655,Trendfactoren!$A$1:$C$2,2,FALSE)))","v":0.87},0]
["CEMT IVM0leegbeide","CEMT IV","M0","leeg","beide","Fijn Stof",1.2869429679942233,{"$f":"VLOOKUP(A656,Begin:Einde,7,FALSE)","v":0},1,{"$f":"VLOOKUP(Jaar,Trendfactoren!$A$2:$D$43,(HLOOKUP(Emissieberekening!F656,Trendfactoren!$A$1:$C$2,2,FALSE)))","v":0.76},0]
["CEMT IVM0leegbeide","CEMT IV","M0","leeg","beide","NOx",38.020491597644913,{"$f":"VLOOKUP(A657,Begin:Einde,7,FALSE)","v":0},1,{"$f":"VLOOKUP(Jaar,Trendfactoren!$A$2:$D$43,(HLOOKUP(Emissieberekening!F657,Trendfactoren!$A$1:$C$2,2,FALSE)))","v":0.87},0]
["CEMT IVM1geladenbeide","CEMT IV","M1","geladen","beide","Fijn Stof",4.557015126168789,{"$f":"VLOOKUP(A658,Begin:Einde,7,FALSE)","v":0},1,{"$f":"VLOOKUP(Jaar,Trendfactoren!$A$2:$D$43,(HLOOKUP(Emissieberekening!F658,Trendfactoren!$A$1:$C$2,2,FALSE)))","v":0.76},0]
["CEMT IVM1geladenbeide","CEMT IV","M1","geladen","beide","NOx",134.62908584432233,{"$f":"VLOOKUP(A659,Begin:Einde,7,FALSE)","v":0},1,{"$f":"VLOOKUP(Jaar,Trendfactoren!$A$2:$D$43,(HLOOKUP(Emissieberekening!F659,Trendfactoren!$A$1:$C$2,2,FALSE)))","v":0.87},0]
["CEMT IVM1leegbeide","CEMT IV","M1","leeg","beide","Fijn Stof",2.3268955025205149,{"$f":"VLOOKUP(A660,Begin:Einde,7,FALSE)","v":0},1,{"$f":"VLOOKUP(Jaar,Trendfactoren!$A$2:$D$43,(HLOOKUP(Emissieberekening!F660,Trendfactoren!$A$1:$C$2,2,FALSE)))","v":0.76},0]
["CEMT IVM1leegbeide","CEMT IV","M1","leeg","beide","NOx",68.744080431213092,{"$f":"VLOOKUP(A661,Begin:Einde,7,FALSE)","v":0},1,{"$f":"VLOOKUP(Jaar,Trendfactoren!$A$2:$D$43,(HLOOKUP(Emissieberekening!F661,Trendfactoren!$A$1:$C$2,2,FALSE)))","v":0.87},0]
["CEMT IVM2geladenbeide","CEMT IV","M2","geladen","beide","Fijn Stof",6.4386327518421069,{"$f":"VLOOKUP(A662,Begin:Einde,7,FALSE)","v":0},1,{"$f":"VLOOKUP(Jaar,Trendfactoren!$A$2:$D$43,(HLOOKUP(Emissieberekening!F662,Trendfactoren!$A$1:$C$2,2,FALSE)))","v":0.76},0]
["CEMT IVM2geladenbeide","CEMT IV","M2","geladen","beide","NOx",190.21820587999284,{"$f":"VLOOKUP(A663,Begin:Einde,7,FALSE)","v":0},1,{"$f":"VLOOKUP(Jaar,Trendfactoren!$A$2:$D$43,(HLOOKUP(Emissieberekening!F663,Trendfactoren!$A$1:$C$2,2,FALSE)))","v":0.87},0]
["CEMT IVM2leegbeide","CEMT IV","M2","leeg","beide","Fijn Stof",4.6308827982699938,{"$f":"VLOOKUP(A664,Begin:Einde,7,FALSE)","v":0},1,{"$f":"VLOOKUP(Jaar,Trendfactoren!$A$2:$D$43,(HLOOKUP(Emissieberekening!F664,Trendfactoren!$A$1:$C$2,2,FALSE)))","v":0.76},0]
["CEMT IVM2leegbeide","CEMT IV","M2","leeg","beide","NOx",136.81137773783075,{"$f":"VLOOKUP(A665,Begin:Einde,7,FALSE)","v":0},1,{"$f":"VLOOKUP(Jaar,Trendfactoren!$A$2:$D$43,(HLOOKUP(Emissieberekening!F665,Trendfactoren!$A$1:$C$2,2,FALSE)))","v":0.87},0]
["CEMT IVM3geladenbeide","CEMT IV","M3","geladen","beide","Fijn Stof",7.7647211749006786,{"$f":"VLOOKUP(A666,Begin:Einde,7,FALSE)","v":0},1,{"$f":"VLOOKUP(Jaar,Trendfactoren!$A$2:$D$43,(HLOOKUP(Emissieberekening!F666,Trendfactoren!$A$1:$C$2,2,FALSE)))","v":0.76},0]
["CEMT IVM3geladenbeide","CEMT IV","M3","geladen","beide","NOx",229.39518186146384,{"$f":"VLOOKUP(A667,Begin:Einde,7,FALSE)","v":0},1,{"$f":"VLOOKUP(Jaar,Trendfactoren!$A$2:$D$43,(HLOOKUP(Emissieberekening!F667,Trendfactoren!$A$1:$C$2,2,FALSE)))","v":0.87},0]
["CEMT IVM3leegbeide","CEMT IV","M3","leeg","beide","Fijn Stof",5.7861680523872163,{"$f":"VLOOKUP(A668,Begin:Einde,7,FALSE)","v":0},1,{"$f":"VLOOKUP(Jaar,Trendfactoren!$A$2:$D$43,(HLOOKUP(Emissieberekening!F668,Trendfactoren!$A$1:$C$2,2,FALSE)))","v":0.76},0]
["CEMT IVM3leegbeide","CEMT IV","M3","leeg","beide","NOx",170.94227117245268,{"$f":"VLOOKUP(A669,Begin:Einde,7,FALSE)","v":0},1,{"$f":"VLOOKUP(Jaar,Trendfactoren!$A$2:$D$43,(HLOOKUP(Emissieberekening!F669,Trendfactoren!$A$1:$C$2,2,FALSE)))","v":0.87},0]
["CEMT IVM4geladenbeide","CEMT IV","M4","geladen","beide","Fijn Stof",9.5467493799730008,{"$f":"VLOOKUP(A670,Begin:Einde,7,FALSE)","v":0},1,{"$f":"VLOOKUP(Jaar,Trendfactoren!$A$2:$D$43,(HLOOKUP(Emissieberekening!F670,Trendfactoren!$A$1:$C$2,2,FALSE)))","v":0.76},0]
["CEMT IVM4geladenbeide","CEMT IV","M4","geladen","beide","NOx",282.04210568227336,{"$f":"VLOOKUP(A671,Begin:Einde,7,FALSE)","v":0},1,{"$f":"VLOOKUP(Jaar,Trendfactoren!$A$2:$D$43,(HLOOKUP(Emissieberekening!F671,Trendfactoren!$A$1:$C$2,2,FALSE)))","v":0.87},0]
["CEMT IVM4leegbeide","CEMT IV","M4","leeg","beide","Fijn Stof",6.5290138096364929,{"$f":"VLOOKUP(A672,Begin:Einde,7,FALSE)","v":0},1,{"$f":"VLOOKUP(Jaar,Trendfactoren!$A$2:$D$43,(HLOOKUP(Emissieberekening!F672,Trendfactoren!$A$1:$C$2,2,FALSE)))","v":0.76},0]
["CEMT IVM4leegbeide","CEMT IV","M4","leeg","beide","NOx",192.88835703192262,{"$f":"VLOOKUP(A673,Begin:Einde,7,FALSE)","v":0},1,{"$f":"VLOOKUP(Jaar,Trendfactoren!$A$2:$D$43,(HLOOKUP(Emissieberekening!F673,Trendfactoren!$A$1:$C$2,2,FALSE)))","v":0.87},0]
["CEMT IVM5geladenbeide","CEMT IV","M5","geladen","beide","Fijn Stof",10.118249020911044,{"$f":"VLOOKUP(A674,Begin:Einde,7,FALSE)","v":0},1,{"$f":"VLOOKUP(Jaar,Trendfactoren!$A$2:$D$43,(HLOOKUP(Emissieberekening!F674,Trendfactoren!$A$1:$C$2,2,FALSE)))","v":0.76},0]
["CEMT IVM5geladenbeide","CEMT IV","M5","geladen","beide","NOx",298.92606855920445,{"$f":"VLOOKUP(A675,Begin:Einde,7,FALSE)","v":0},1,{"$f":"VLOOKUP(Jaar,Trendfactoren!$A$2:$D$43,(HLOOKUP(Emissieberekening!F675,Trendfactoren!$A$1:$C$2,2,FALSE)))","v":0.87},0]
["CEMT IVM5leegbeide","CEMT IV","M5","leeg","beide","Fijn Stof",7.3907067754000977,{"$f":"VLOOKUP(A676,Begin:Einde,7,FALSE)","v":0},1,{"$f":"VLOOKUP(Jaar,Trendfactoren!$A$2:$D$43,(HLOOKUP(Emissieberekening!F676,Trendfactoren!$A$1:$C$2,2,FALSE)))","v":0.76},0]
["CEMT IVM5leegbeide","CEMT IV","M5","leeg","beide","NOx",218.3455769549052,{"$f":"VLOOKUP(A677,Begin:Einde,7,FALSE)","v":0},1,{"$f":"VLOOKUP(Jaar,Trendfactoren!$A$2:$D$43,(HLOOKUP(Emissieberekening!F677,Trendfactoren!$A$1:$C$2,2,FALSE)))","v":0.87},0]
["CEMT IVM6geladenbeide","CEMT IV","M6","geladen","beide","Fijn Stof",10.913411869584147,{"$f":"VLOOKUP(A678,Begin:Einde,7,FALSE)","v":0},1,{"$f":"VLOOKUP(Jaar,Trendfactoren!$A$2:$D$43,(HLOOKUP(Emissieberekening!F678,Trendfactoren!$A$1:$C$2,2,FALSE)))","v":0.76},0]
["CEMT IVM6geladenbeide","CEMT IV","M6","geladen","beide","NOx",322.41777188919292,{"$f":"VLOOKUP(A679,Begin:Einde,7,FALSE)","v":0},1,{"$f":"VLOOKUP(Jaar,Trendfactoren!$A$2:$D$43,(HLOOKUP(Emissieberekening!F679,Trendfactoren!$A$1:$C$2,2,FALSE)))","v":0.87},0]
["CEMT IVM6leegbeide","CEMT IV","M6","leeg","beide","Fijn Stof",8.2408750078866628,{"$f":"VLOOKUP(A680,Begin:Einde,7,FALSE)","v":0},1,{"$f":"VLOOKUP(Jaar,Trendfactoren!$A$2:$D$43,(HLOOKUP(Emissieberekening!F680,Trendfactoren!$A$1:$C$2,2,FALSE)))","v":0.76},0]
["CEMT IVM6leegbeide","CEMT IV","M6","leeg","beide","NOx",243.46231867829229,{"$f":"VLOOKUP(A681,Begin:Einde,7,FALSE)","v":0},1,{"$f":"VLOOKUP(Jaar,Trendfactoren!$A$2:$D$43,(HLOOKUP(Emissieberekening!F681,Trendfactoren!$A$1:$C$2,2,FALSE)))","v":0.87},0]
["CEMT IVM7geladenbeide","CEMT IV","M7","geladen","beide","Fijn Stof",10.954358280986023,{"$f":"VLOOKUP(A682,Begin:Einde,7,FALSE)","v":0},1,{"$f":"VLOOKUP(Jaar,Trendfactoren!$A$2:$D$43,(HLOOKUP(Emissieberekening!F682,Trendfactoren!$A$1:$C$2,2,FALSE)))","v":0.76},0]
["CEMT IVM7geladenbeide","CEMT IV","M7","geladen","beide","NOx",323.62746239559124,{"$f":"VLOOKUP(A683,Begin:Einde,7,FALSE)","v":0},1,{"$f":"VLOOKUP(Jaar,Trendfactoren!$A$2:$D$43,(HLOOKUP(Emissieberekening!F683,Trendfactoren!$A$1:$C$2,2,FALSE)))","v":0.87},0]
["CEMT IVM7leegbeide","CEMT IV","M7","leeg","beide","Fijn Stof",8.9494932876663249,{"$f":"VLOOKUP(A684,Begin:Einde,7,FALSE)","v":0},1,{"$f":"VLOOKUP(Jaar,Trendfactoren!$A$2:$D$43,(HLOOKUP(Emissieberekening!F684,Trendfactoren!$A$1:$C$2,2,FALSE)))","v":0.76},0]
["CEMT IVM7leegbeide","CEMT IV","M7","leeg","beide","NOx",264.39721324808892,{"$f":"VLOOKUP(A685,Begin:Einde,7,FALSE)","v":0},1,{"$f":"VLOOKUP(Jaar,Trendfactoren!$A$2:$D$43,(HLOOKUP(Emissieberekening!F685,Trendfactoren!$A$1:$C$2,2,FALSE)))","v":0.87},0]
["CEMT IVM8geladenbeide","CEMT IV","M8","geladen","beide","Fijn Stof",7.2001923880093006,{"$f":"VLOOKUP(A686,Begin:Einde,7,FALSE)","v":0},1,{"$f":"VLOOKUP(Jaar,Trendfactoren!$A$2:$D$43,(HLOOKUP(Emissieberekening!F686,Trendfactoren!$A$1:$C$2,2,FALSE)))","v":0.76},0]
["CEMT IVM8geladenbeide","CEMT IV","M8","geladen","beide","NOx",212.71716074287093,{"$f":"VLOOKUP(A687,Begin:Einde,7,FALSE)","v":0},1,{"$f":"VLOOKUP(Jaar,Trendfactoren!$A$2:$D$43,(HLOOKUP(Emissieberekening!F687,Trendfactoren!$A$1:$C$2,2,FALSE)))","v":0.87},0]
["CEMT IVM8leegbeide","CEMT IV","M8","leeg","beide","Fijn Stof",4.3520950691203293,{"$f":"VLOOKUP(A688,Begin:Einde,7,FALSE)","v":0},1,{"$f":"VLOOKUP(Jaar,Trendfactoren!$A$2:$D$43,(HLOOKUP(Emissieberekening!F688,Trendfactoren!$A$1:$C$2,2,FALSE)))","v":0.76},0]
["CEMT IVM8leegbeide","CEMT IV","M8","leeg","beide","NOx",128.57507917816611,{"$f":"VLOOKUP(A689,Begin:Einde,7,FALSE)","v":0},1,{"$f":"VLOOKUP(Jaar,Trendfactoren!$A$2:$D$43,(HLOOKUP(Emissieberekening!F689,Trendfactoren!$A$1:$C$2,2,FALSE)))","v":0.87},0]
["CEMT VaBIgeladenbeide","CEMT Va","BI","geladen","beide","Fijn Stof",26.335234222920228,{"$f":"VLOOKUP(A690,Begin:Einde,7,FALSE)","v":0},1,{"$f":"VLOOKUP(Jaar,Trendfactoren!$A$2:$D$43,(HLOOKUP(Emissieberekening!F690,Trendfactoren!$A$1:$C$2,2,FALSE)))","v":0.76},0]
["CEMT VaBIgeladenbeide","CEMT Va","BI","geladen","beide","NOx",778.02869000100407,{"$f":"VLOOKUP(A691,Begin:Einde,7,FALSE)","v":0},1,{"$f":"VLOOKUP(Jaar,Trendfactoren!$A$2:$D$43,(HLOOKUP(Emissieberekening!F691,Trendfactoren!$A$1:$C$2,2,FALSE)))","v":0.87},0]
["CEMT VaBIleegbeide","CEMT Va","BI","leeg","beide","Fijn Stof",9.4941887419668767,{"$f":"VLOOKUP(A692,Begin:Einde,7,FALSE)","v":0},1,{"$f":"VLOOKUP(Jaar,Trendfactoren!$A$2:$D$43,(HLOOKUP(Emissieberekening!F692,Trendfactoren!$A$1:$C$2,2,FALSE)))","v":0.76},0]
["CEMT VaBIleegbeide","CEMT Va","BI","leeg","beide","NOx",280.48929305158367,{"$f":"VLOOKUP(A693,Begin:Einde,7,FALSE)","v":0},1,{"$f":"VLOOKUP(Jaar,Trendfactoren!$A$2:$D$43,(HLOOKUP(Emissieberekening!F693,Trendfactoren!$A$1:$C$2,2,FALSE)))","v":0.87},0]
["CEMT VaBII-1geladenbeide","CEMT Va","BII-1","geladen","beide","Fijn Stof",30.572112225991919,{"$f":"VLOOKUP(A694,Begin:Einde,7,FALSE)","v":0},1,{"$f":"VLOOKUP(Jaar,Trendfactoren!$A$2:$D$43,(HLOOKUP(Emissieberekening!F694,Trendfactoren!$A$1:$C$2,2,FALSE)))","v":0.76},0]
["CEMT VaBII-1geladenbeide","CEMT Va","BII-1","geladen","beide","NOx",903.1998813608659,{"$f":"VLOOKUP(A695,Begin:Einde,7,FALSE)","v":0},1,{"$f":"VLOOKUP(Jaar,Trendfactoren!$A$2:$D$43,(HLOOKUP(Emissieberekening!F695,Trendfactoren!$A$1:$C$2,2,FALSE)))","v":0.87},0]
["CEMT VaBII-1leegbeide","CEMT Va","BII-1","leeg","beide","Fijn Stof",13.903042118170122,{"$f":"VLOOKUP(A696,Begin:Einde,7,FALSE)","v":0},1,{"$f":"VLOOKUP(Jaar,Trendfactoren!$A$2:$D$43,(HLOOKUP(Emissieberekening!F696,Trendfactoren!$A$1:$C$2,2,FALSE)))","v":0.76},0]
["CEMT VaBII-1leegbeide","CEMT Va","BII-1","leeg","beide","NOx",410.74119769226894,{"$f":"VLOOKUP(A697,Begin:Einde,7,FALSE)","v":0},1,{"$f":"VLOOKUP(Jaar,Trendfactoren!$A$2:$D$43,(HLOOKUP(Emissieberekening!F697,Trendfactoren!$A$1:$C$2,2,FALSE)))","v":0.87},0]
["CEMT VaBII-2Bgeladenbeide","CEMT Va","BII-2B","geladen","beide","Fijn Stof",50.268849401963728,{"$f":"VLOOKUP(A698,Begin:Einde,7,FALSE)","v":0},1,{"$f":"VLOOKUP(Jaar,Trendfactoren!$A$2:$D$43,(HLOOKUP(Emissieberekening!F698,Trendfactoren!$A$1:$C$2,2,FALSE)))","v":0.76},0]
["CEMT VaBII-2Bgeladenbeide","CEMT Va","BII-2B","geladen","beide","NOx",1485.1057225087682,{"$f":"VLOOKUP(A699,Begin:Einde,7,FALSE)","v":0},1,{"$f":"VLOOKUP(Jaar,Trendfactoren!$A$2:$D$43,(HLOOKUP(Emissieberekening!F699,Trendfactoren!$A$1:$C$2,2,FALSE)))","v":0.87},0]
["CEMT VaBII-2Bleegbeide","CEMT Va","BII-2B","leeg","beide","Fijn Stof",19.017623648668916,{"$f":"VLOOKUP(A700,Begin:Einde,7,FALSE)","v":0},1,{"$f":"VLOOKUP(Jaar,Trendfactoren!$A$2:$D$43,(HLOOKUP(Emissieberekening!F700,Trendfactoren!$A$1:$C$2,2,FALSE)))","v":0.76},0]
["CEMT VaBII-2Bleegbeide","CEMT Va","BII-2B","leeg","beide","NOx",561.84261317214418,{"$f":"VLOOKUP(A701,Begin:Einde,7,FALSE)","v":0},1,{"$f":"VLOOKUP(Jaar,Trendfactoren!$A$2:$D$43,(HLOOKUP(Emissieberekening!F701,Trendfactoren!$A$1:$C$2,2,FALSE)))","v":0.87},0]
["CEMT VaBII-2Lgeladenbeide","CEMT Va","BII-2L","geladen","beide","Fijn Stof",44.126663073245339,{"$f":"VLOOKUP(A702,Begin:Einde,7,FALSE)","v":0},1,{"$f":"VLOOKUP(Jaar,Trendfactoren!$A$2:$D$43,(HLOOKUP(Emissieberekening!F702,Trendfactoren!$A$1:$C$2,2,FALSE)))","v":0.76},0]
["CEMT VaBII-2Lgeladenbeide","CEMT Va","BII-2L","geladen","beide","NOx",1303.6455105879743,{"$f":"VLOOKUP(A703,Begin:Einde,7,FALSE)","v":0},1,{"$f":"VLOOKUP(Jaar,Trendfactoren!$A$2:$D$43,(HLOOKUP(Emissieberekening!F703,Trendfactoren!$A$1:$C$2,2,FALSE)))","v":0.87},0]
["CEMT VaBII-2Lleegbeide","CEMT Va","BII-2L","leeg","beide","Fijn Stof",23.536737786584492,{"$f":"VLOOKUP(A704,Begin:Einde,7,FALSE)","v":0},1,{"$f":"VLOOKUP(Jaar,Trendfactoren!$A$2:$D$43,(HLOOKUP(Emissieberekening!F704,Trendfactoren!$A$1:$C$2,2,FALSE)))","v":0.76},0]
["CEMT VaBII-2Lleegbeide","CEMT Va","BII-2L","leeg","beide","NOx",695.35198024006297,{"$f":"VLOOKUP(A705,Begin:Einde,7,FALSE)","v":0},1,{"$f":"VLOOKUP(Jaar,Trendfactoren!$A$2:$D$43,(HLOOKUP(Emissieberekening!F705,Trendfactoren!$A$1:$C$2,2,FALSE)))","v":0.87},0]
[{"$f":"+B706&C706&D706&E706","v":"CEMT VaBO1geladenbeide"},"CEMT Va","BO1","geladen","beide","Fijn Stof",8.5063063562408789,{"$f":"VLOOKUP(A706,Begin:Einde,7,FALSE)","v":0},{"$f":"+Afstand","v":1},{"$f":"VLOOKUP(Jaar,Trendfactoren!$A$2:$D$43,(HLOOKUP(Emissieberekening!F706,Trendfactoren!$A$1:$C$2,2,FALSE)))","v":0.76},{"$f":"+G706*H706*I706*J706","v":0}]
["CEMT VaBO1geladenbeide","CEMT Va","BO1","geladen","beide","NOx",251.30402619823141,{"$f":"VLOOKUP(A707,Begin:Einde,7,FALSE)","v":0},1,{"$f":"VLOOKUP(Jaar,Trendfactoren!$A$2:$D$43,(HLOOKUP(Emissieberekening!F707,Trendfactoren!$A$1:$C$2,2,FALSE)))","v":0.87},0]
["CEMT VaBO1leegbeide","CEMT Va","BO1","leeg","beide","Fijn Stof",3.8697233399240294,{"$f":"VLOOKUP(A708,Begin:Einde,7,FALSE)","v":0},1,{"$f":"VLOOKUP(Jaar,Trendfactoren!$A$2:$D$43,(HLOOKUP(Emissieberekening!F708,Trendfactoren!$A$1:$C$2,2,FALSE)))","v":0.76},0]
["CEMT VaBO1leegbeide","CEMT Va","BO1","leeg","beide","NOx",114.32424543264793,{"$f":"VLOOKUP(A709,Begin:Einde,7,FALSE)","v":0},1,{"$f":"VLOOKUP(Jaar,Trendfactoren!$A$2:$D$43,(HLOOKUP(Emissieberekening!F709,Trendfactoren!$A$1:$C$2,2,FALSE)))","v":0.87},0]
["CEMT VaBO2geladenbeide","CEMT Va","BO2","geladen","beide","Fijn Stof",12.978485003210515,{"$f":"VLOOKUP(A710,Begin:Einde,7,FALSE)","v":0},1,{"$f":"VLOOKUP(Jaar,Trendfactoren!$A$2:$D$43,(HLOOKUP(Emissieberekening!F710,Trendfactoren!$A$1:$C$2,2,FALSE)))","v":0.76},0]
["CEMT VaBO2geladenbeide","CEMT Va","BO2","geladen","beide","NOx",383.42676582148351,{"$f":"VLOOKUP(A711,Begin:Einde,7,FALSE)","v":0},1,{"$f":"VLOOKUP(Jaar,Trendfactoren!$A$2:$D$43,(HLOOKUP(Emissieberekening!F711,Trendfactoren!$A$1:$C$2,2,FALSE)))","v":0.87},0]
["CEMT VaBO2leegbeide","CEMT Va","BO2","leeg","beide","Fijn Stof",5.1735588473328304,{"$f":"VLOOKUP(A712,Begin:Einde,7,FALSE)","v":0},1,{"$f":"VLOOKUP(Jaar,Trendfactoren!$A$2:$D$43,(HLOOKUP(Emissieberekening!F712,Trendfactoren!$A$1:$C$2,2,FALSE)))","v":0.76},0]
["CEMT VaBO2leegbeide","CEMT Va","BO2","leeg","beide","NOx",152.84379772594733,{"$f":"VLOOKUP(A713,Begin:Einde,7,FALSE)","v":0},1,{"$f":"VLOOKUP(Jaar,Trendfactoren!$A$2:$D$43,(HLOOKUP(Emissieberekening!F713,Trendfactoren!$A$1:$C$2,2,FALSE)))","v":0.87},0]
["CEMT VaBO3geladenbeide","CEMT Va","BO3","geladen","beide","Fijn Stof",19.14073469439683,{"$f":"VLOOKUP(A714,Begin:Einde,7,FALSE)","v":0},1,{"$f":"VLOOKUP(Jaar,Trendfactoren!$A$2:$D$43,(HLOOKUP(Emissieberekening!F714,Trendfactoren!$A$1:$C$2,2,FALSE)))","v":0.76},0]
["CEMT VaBO3geladenbeide","CEMT Va","BO3","geladen","beide","NOx",565.47971489000122,{"$f":"VLOOKUP(A715,Begin:Einde,7,FALSE)","v":0},1,{"$f":"VLOOKUP(Jaar,Trendfactoren!$A$2:$D$43,(HLOOKUP(Emissieberekening!F715,Trendfactoren!$A$1:$C$2,2,FALSE)))","v":0.87},0]
["CEMT VaBO3leegbeide","CEMT Va","BO3","leeg","beide","Fijn Stof",6.7855162204211688,{"$f":"VLOOKUP(A716,Begin:Einde,7,FALSE)","v":0},1,{"$f":"VLOOKUP(Jaar,Trendfactoren!$A$2:$D$43,(HLOOKUP(Emissieberekening!F716,Trendfactoren!$A$1:$C$2,2,FALSE)))","v":0.76},0]
["CEMT VaBO3leegbeide","CEMT Va","BO3","leeg","beide","NOx",200.46627462155291,{"$f":"VLOOKUP(A717,Begin:Einde,7,FALSE)","v":0},1,{"$f":"VLOOKUP(Jaar,Trendfactoren!$A$2:$D$43,(HLOOKUP(Emissieberekening!F717,Trendfactoren!$A$1:$C$2,2,FALSE)))","v":0.87},0]
["CEMT VaBO4geladenbeide","CEMT Va","BO4","geladen","beide","Fijn Stof",22.569691978373879,{"$f":"VLOOKUP(A718,Begin:Einde,7,FALSE)","v":0},1,{"$f":"VLOOKUP(Jaar,Trendfactoren!$A$2:$D$43,(HLOOKUP(Emissieberekening!F718,Trendfactoren!$A$1:$C$2,2,FALSE)))","v":0.76},0]
["CEMT VaBO4geladenbeide","CEMT Va","BO4","geladen","beide","NOx",666.78229382815186,{"$f":"VLOOKUP(A719,Begin:Einde,7,FALSE)","v":0},1,{"$f":"VLOOKUP(Jaar,Trendfactoren!$A$2:$D$43,(HLOOKUP(Emissieberekening!F719,Trendfactoren!$A$1:$C$2,2,FALSE)))","v":0.87},0]
["CEMT VaBO4leegbeide","CEMT Va","BO4","leeg","beide","Fijn Stof",7.7978180674809696,{"$f":"VLOOKUP(A720,Begin:Einde,7,FALSE)","v":0},1,{"$f":"VLOOKUP(Jaar,Trendfactoren!$A$2:$D$43,(HLOOKUP(Emissieberekening!F720,Trendfactoren!$A$1:$C$2,2,FALSE)))","v":0.76},0]
["CEMT VaBO4leegbeide","CEMT Va","BO4","leeg","beide","NOx",230.37297198701867,{"$f":"VLOOKUP(A721,Begin:Einde,7,FALSE)","v":0},1,{"$f":"VLOOKUP(Jaar,Trendfactoren!$A$2:$D$43,(HLOOKUP(Emissieberekening!F721,Trendfactoren!$A$1:$C$2,2,FALSE)))","v":0.87},0]
["CEMT VaC1bgeladenbeide","CEMT Va","C1b","geladen","beide","Fijn Stof",9.5733419385185456,{"$f":"VLOOKUP(A722,Begin:Einde,7,FALSE)","v":0},1,{"$f":"VLOOKUP(Jaar,Trendfactoren!$A$2:$D$43,(HLOOKUP(Emissieberekening!F722,Trendfactoren!$A$1:$C$2,2,FALSE)))","v":0.76},0]
["CEMT VaC1bgeladenbeide","CEMT Va","C1b","geladen","beide","NOx",282.8277365718198,{"$f":"VLOOKUP(A723,Begin:Einde,7,FALSE)","v":0},1,{"$f":"VLOOKUP(Jaar,Trendfactoren!$A$2:$D$43,(HLOOKUP(Emissieberekening!F723,Trendfactoren!$A$1:$C$2,2,FALSE)))","v":0.87},0]
["CEMT VaC1bleegbeide","CEMT Va","C1b","leeg","beide","Fijn Stof",4.265713024688977,{"$f":"VLOOKUP(A724,Begin:Einde,7,FALSE)","v":0},1,{"$f":"VLOOKUP(Jaar,Trendfactoren!$A$2:$D$43,(HLOOKUP(Emissieberekening!F724,Trendfactoren!$A$1:$C$2,2,FALSE)))","v":0.76},0]
["CEMT VaC1bleegbeide","CEMT Va","C1b","leeg","beide","NOx",126.02307192052643,{"$f":"VLOOKUP(A725,Begin:Einde,7,FALSE)","v":0},1,{"$f":"VLOOKUP(Jaar,Trendfactoren!$A$2:$D$43,(HLOOKUP(Emissieberekening!F725,Trendfactoren!$A$1:$C$2,2,FALSE)))","v":0.87},0]
["CEMT VaC1lgeladenbeide","CEMT Va","C1l","geladen","beide","Fijn Stof",5.2444680787919689,{"$f":"VLOOKUP(A726,Begin:Einde,7,FALSE)","v":0},1,{"$f":"VLOOKUP(Jaar,Trendfactoren!$A$2:$D$43,(HLOOKUP(Emissieberekening!F726,Trendfactoren!$A$1:$C$2,2,FALSE)))","v":0.76},0]
["CEMT VaC1lgeladenbeide","CEMT Va","C1l","geladen","beide","NOx",154.93868763632895,{"$f":"VLOOKUP(A727,Begin:Einde,7,FALSE)","v":0},1,{"$f":"VLOOKUP(Jaar,Trendfactoren!$A$2:$D$43,(HLOOKUP(Emissieberekening!F727,Trendfactoren!$A$1:$C$2,2,FALSE)))","v":0.87},0]
["CEMT VaC1lleegbeide","CEMT Va","C1l","leeg","beide","Fijn Stof",3.9420320799202235,{"$f":"VLOOKUP(A728,Begin:Einde,7,FALSE)","v":0},1,{"$f":"VLOOKUP(Jaar,Trendfactoren!$A$2:$D$43,(HLOOKUP(Emissieberekening!F728,Trendfactoren!$A$1:$C$2,2,FALSE)))","v":0.76},0]
["CEMT VaC1lleegbeide","CEMT Va","C1l","leeg","beide","NOx",116.46048138857877,{"$f":"VLOOKUP(A729,Begin:Einde,7,FALSE)","v":0},1,{"$f":"VLOOKUP(Jaar,Trendfactoren!$A$2:$D$43,(HLOOKUP(Emissieberekening!F729,Trendfactoren!$A$1:$C$2,2,FALSE)))","v":0.87},0]
["CEMT VaC2bgeladenbeide","CEMT Va","C2b","geladen","beide","Fijn Stof",29.586953121679848,{"$f":"VLOOKUP(A730,Begin:Einde,7,FALSE)","v":0},1,{"$f":"VLOOKUP(Jaar,Trendfactoren!$A$2:$D$43,(HLOOKUP(Emissieberekening!F730,Trendfactoren!$A$1:$C$2,2,FALSE)))","v":0.76},0]
["CEMT VaC2bgeladenbeide","CEMT Va","C2b","geladen","beide","NOx",874.09506912025961,{"$f":"VLOOKUP(A731,Begin:Einde,7,FALSE)","v":0},1,{"$f":"VLOOKUP(Jaar,Trendfactoren!$A$2:$D$43,(HLOOKUP(Emissieberekening!F731,Trendfactoren!$A$1:$C$2,2,FALSE)))","v":0.87},0]
["CEMT VaC2bleegbeide","CEMT Va","C2b","leeg","beide","Fijn Stof",18.66049600421848,{"$f":"VLOOKUP(A732,Begin:Einde,7,FALSE)","v":0},1,{"$f":"VLOOKUP(Jaar,Trendfactoren!$A$2:$D$43,(HLOOKUP(Emissieberekening!F732,Trendfactoren!$A$1:$C$2,2,FALSE)))","v":0.76},0]
["CEMT VaC2bleegbeide","CEMT Va","C2b","leeg","beide","NOx",551.29189807225384,{"$f":"VLOOKUP(A733,Begin:Einde,7,FALSE)","v":0},1,{"$f":"VLOOKUP(Jaar,Trendfactoren!$A$2:$D$43,(HLOOKUP(Emissieberekening!F733,Trendfactoren!$A$1:$C$2,2,FALSE)))","v":0.87},0]
["CEMT VaC2lgeladenbeide","CEMT Va","C2l","geladen","beide","Fijn Stof",18.143929809126224,{"$f":"VLOOKUP(A734,Begin:Einde,7,FALSE)","v":0},1,{"$f":"VLOOKUP(Jaar,Trendfactoren!$A$2:$D$43,(HLOOKUP(Emissieberekening!F734,Trendfactoren!$A$1:$C$2,2,FALSE)))","v":0.76},0]
["CEMT VaC2lgeladenbeide","CEMT Va","C2l","geladen","beide","NOx",536.03084830658884,{"$f":"VLOOKUP(A735,Begin:Einde,7,FALSE)","v":0},1,{"$f":"VLOOKUP(Jaar,Trendfactoren!$A$2:$D$43,(HLOOKUP(Emissieberekening!F735,Trendfactoren!$A$1:$C$2,2,FALSE)))","v":0.87},0]
["CEMT VaC2lleegbeide","CEMT Va","C2l","leeg","beide","Fijn Stof",15.171247669767629,{"$f":"VLOOKUP(A736,Begin:Einde,7,FALSE)","v":0},1,{"$f":"VLOOKUP(Jaar,Trendfactoren!$A$2:$D$43,(HLOOKUP(Emissieberekening!F736,Trendfactoren!$A$1:$C$2,2,FALSE)))","v":0.76},0]
["CEMT VaC2lleegbeide","CEMT Va","C2l","leeg","beide","NOx",448.20812491263348,{"$f":"VLOOKUP(A737,Begin:Einde,7,FALSE)","v":0},1,{"$f":"VLOOKUP(Jaar,Trendfactoren!$A$2:$D$43,(HLOOKUP(Emissieberekening!F737,Trendfactoren!$A$1:$C$2,2,FALSE)))","v":0.87},0]
["CEMT VaC3lgeladenbeide","CEMT Va","C3l","geladen","beide","Fijn Stof",35.450455327994803,{"$f":"VLOOKUP(A738,Begin:Einde,7,FALSE)","v":0},1,{"$f":"VLOOKUP(Jaar,Trendfactoren!$A$2:$D$43,(HLOOKUP(Emissieberekening!F738,Trendfactoren!$A$1:$C$2,2,FALSE)))","v":0.76},0]
["CEMT VaC3lgeladenbeide","CEMT Va","C3l","geladen","beide","NOx",1047.322043362502,{"$f":"VLOOKUP(A739,Begin:Einde,7,FALSE)","v":0},1,{"$f":"VLOOKUP(Jaar,Trendfactoren!$A$2:$D$43,(HLOOKUP(Emissieberekening!F739,Trendfactoren!$A$1:$C$2,2,FALSE)))","v":0.87},0]
["CEMT VaC3lleegbeide","CEMT Va","C3l","leeg","beide","Fijn Stof",26.301571877504475,{"$f":"VLOOKUP(A740,Begin:Einde,7,FALSE)","v":0},1,{"$f":"VLOOKUP(Jaar,Trendfactoren!$A$2:$D$43,(HLOOKUP(Emissieberekening!F740,Trendfactoren!$A$1:$C$2,2,FALSE)))","v":0.76},0]
["CEMT VaC3lleegbeide","CEMT Va","C3l","leeg","beide","NOx",777.03419455492235,{"$f":"VLOOKUP(A741,Begin:Einde,7,FALSE)","v":0},1,{"$f":"VLOOKUP(Jaar,Trendfactoren!$A$2:$D$43,(HLOOKUP(Emissieberekening!F741,Trendfactoren!$A$1:$C$2,2,FALSE)))","v":0.87},0]
["CEMT VaC4geladenbeide","CEMT Va","C4","geladen","beide","Fijn Stof",39.095585350060887,{"$f":"VLOOKUP(A742,Begin:Einde,7,FALSE)","v":0},1,{"$f":"VLOOKUP(Jaar,Trendfactoren!$A$2:$D$43,(HLOOKUP(Emissieberekening!F742,Trendfactoren!$A$1:$C$2,2,FALSE)))","v":0.76},0]
["CEMT VaC4geladenbeide","CEMT Va","C4","geladen","beide","NOx",1155.011069856261,{"$f":"VLOOKUP(A743,Begin:Einde,7,FALSE)","v":0},1,{"$f":"VLOOKUP(Jaar,Trendfactoren!$A$2:$D$43,(HLOOKUP(Emissieberekening!F743,Trendfactoren!$A$1:$C$2,2,FALSE)))","v":0.87},0]
["CEMT VaC4leegbeide","CEMT Va","C4","leeg","beide","Fijn Stof",22.436604480822488,{"$f":"VLOOKUP(A744,Begin:Einde,7,FALSE)","v":0},1,{"$f":"VLOOKUP(Jaar,Trendfactoren!$A$2:$D$43,(HLOOKUP(Emissieberekening!F744,Trendfactoren!$A$1:$C$2,2,FALSE)))","v":0.76},0]
["CEMT VaC4leegbeide","CEMT Va","C4","leeg","beide","NOx",662.85045519330481,{"$f":"VLOOKUP(A745,Begin:Einde,7,FALSE)","v":0},1,{"$f":"VLOOKUP(Jaar,Trendfactoren!$A$2:$D$43,(HLOOKUP(Emissieberekening!F745,Trendfactoren!$A$1:$C$2,2,FALSE)))","v":0.87},0]
["CEMT VaM0geladenbeide","CEMT Va","M0","geladen","beide","Fijn Stof",2.2789144938857584,{"$f":"VLOOKUP(A746,Begin:Einde,7,FALSE)","v":0},1,{"$f":"VLOOKUP(Jaar,Trendfactoren!$A$2:$D$43,(HLOOKUP(Emissieberekening!F746,Trendfactoren!$A$1:$C$2,2,FALSE)))","v":0.76},0]
["CEMT VaM0geladenbeide","CEMT Va","M0","geladen","beide","NOx",67.32656498490897,{"$f":"VLOOKUP(A747,Begin:Einde,7,FALSE)","v":0},1,{"$f":"VLOOKUP(Jaar,Trendfactoren!$A$2:$D$43,(HLOOKUP(Emissieberekening!F747,Trendfactoren!$A$1:$C$2,2,FALSE)))","v":0.87},0]
["CEMT VaM0leegbeide","CEMT Va","M0","leeg","beide","Fijn Stof",1.3135433577354718,{"$f":"VLOOKUP(A748,Begin:Einde,7,FALSE)","v":0},1,{"$f":"VLOOKUP(Jaar,Trendfactoren!$A$2:$D$43,(HLOOKUP(Emissieberekening!F748,Trendfactoren!$A$1:$C$2,2,FALSE)))","v":0.76},0]
["CEMT VaM0leegbeide","CEMT Va","M0","leeg","beide","NOx",38.806353846247497,{"$f":"VLOOKUP(A749,Begin:Einde,7,FALSE)","v":0},1,{"$f":"VLOOKUP(Jaar,Trendfactoren!$A$2:$D$43,(HLOOKUP(Emissieberekening!F749,Trendfactoren!$A$1:$C$2,2,FALSE)))","v":0.87},0]
["CEMT VaM1geladenbeide","CEMT Va","M1","geladen","beide","Fijn Stof",4.0280204008811786,{"$f":"VLOOKUP(A750,Begin:Einde,7,FALSE)","v":0},1,{"$f":"VLOOKUP(Jaar,Trendfactoren!$A$2:$D$43,(HLOOKUP(Emissieberekening!F750,Trendfactoren!$A$1:$C$2,2,FALSE)))","v":0.76},0]
["CEMT VaM1geladenbeide","CEMT Va","M1","geladen","beide","NOx",119.00085677109246,{"$f":"VLOOKUP(A751,Begin:Einde,7,FALSE)","v":0},1,{"$f":"VLOOKUP(Jaar,Trendfactoren!$A$2:$D$43,(HLOOKUP(Emissieberekening!F751,Trendfactoren!$A$1:$C$2,2,FALSE)))","v":0.87},0]
["CEMT VaM1leegbeide","CEMT Va","M1","leeg","beide","Fijn Stof",2.3962249939467228,{"$f":"VLOOKUP(A752,Begin:Einde,7,FALSE)","v":0},1,{"$f":"VLOOKUP(Jaar,Trendfactoren!$A$2:$D$43,(HLOOKUP(Emissieberekening!F752,Trendfactoren!$A$1:$C$2,2,FALSE)))","v":0.76},0]
["CEMT VaM1leegbeide","CEMT Va","M1","leeg","beide","NOx",70.792299669978121,{"$f":"VLOOKUP(A753,Begin:Einde,7,FALSE)","v":0},1,{"$f":"VLOOKUP(Jaar,Trendfactoren!$A$2:$D$43,(HLOOKUP(Emissieberekening!F753,Trendfactoren!$A$1:$C$2,2,FALSE)))","v":0.87},0]
["CEMT VaM10geladenbeide","CEMT Va","M10","geladen","beide","Fijn Stof",28.70769440773784,{"$f":"VLOOKUP(A754,Begin:Einde,7,FALSE)","v":0},1,{"$f":"VLOOKUP(Jaar,Trendfactoren!$A$2:$D$43,(HLOOKUP(Emissieberekening!F754,Trendfactoren!$A$1:$C$2,2,FALSE)))","v":0.76},0]
["CEMT VaM10geladenbeide","CEMT Va","M10","geladen","beide","NOx",848.11889971961364,{"$f":"VLOOKUP(A755,Begin:Einde,7,FALSE)","v":0},1,{"$f":"VLOOKUP(Jaar,Trendfactoren!$A$2:$D$43,(HLOOKUP(Emissieberekening!F755,Trendfactoren!$A$1:$C$2,2,FALSE)))","v":0.87},0]
["CEMT VaM10leegbeide","CEMT Va","M10","leeg","beide","Fijn Stof",19.392574000838753,{"$f":"VLOOKUP(A756,Begin:Einde,7,FALSE)","v":0},1,{"$f":"VLOOKUP(Jaar,Trendfactoren!$A$2:$D$43,(HLOOKUP(Emissieberekening!F756,Trendfactoren!$A$1:$C$2,2,FALSE)))","v":0.76},0]
["CEMT VaM10leegbeide","CEMT Va","M10","leeg","beide","NOx",572.91986917240513,{"$f":"VLOOKUP(A757,Begin:Einde,7,FALSE)","v":0},1,{"$f":"VLOOKUP(Jaar,Trendfactoren!$A$2:$D$43,(HLOOKUP(Emissieberekening!F757,Trendfactoren!$A$1:$C$2,2,FALSE)))","v":0.87},0]
["CEMT VaM2geladenbeide","CEMT Va","M2","geladen","beide","Fijn Stof",6.4056934235906571,{"$f":"VLOOKUP(A758,Begin:Einde,7,FALSE)","v":0},1,{"$f":"VLOOKUP(Jaar,Trendfactoren!$A$2:$D$43,(HLOOKUP(Emissieberekening!F758,Trendfactoren!$A$1:$C$2,2,FALSE)))","v":0.76},0]
["CEMT VaM2geladenbeide","CEMT Va","M2","geladen","beide","NOx",189.24507071848046,{"$f":"VLOOKUP(A759,Begin:Einde,7,FALSE)","v":0},1,{"$f":"VLOOKUP(Jaar,Trendfactoren!$A$2:$D$43,(HLOOKUP(Emissieberekening!F759,Trendfactoren!$A$1:$C$2,2,FALSE)))","v":0.87},0]
["CEMT VaM2leegbeide","CEMT Va","M2","leeg","beide","Fijn Stof",4.2661244279920592,{"$f":"VLOOKUP(A760,Begin:Einde,7,FALSE)","v":0},1,{"$f":"VLOOKUP(Jaar,Trendfactoren!$A$2:$D$43,(HLOOKUP(Emissieberekening!F760,Trendfactoren!$A$1:$C$2,2,FALSE)))","v":0.76},0]
["CEMT VaM2leegbeide","CEMT Va","M2","leeg","beide","NOx",126.03522611555846,{"$f":"VLOOKUP(A761,Begin:Einde,7,FALSE)","v":0},1,{"$f":"VLOOKUP(Jaar,Trendfactoren!$A$2:$D$43,(HLOOKUP(Emissieberekening!F761,Trendfactoren!$A$1:$C$2,2,FALSE)))","v":0.87},0]
["CEMT VaM3geladenbeide","CEMT Va","M3","geladen","beide","Fijn Stof",8.5073263538988169,{"$f":"VLOOKUP(A762,Begin:Einde,7,FALSE)","v":0},1,{"$f":"VLOOKUP(Jaar,Trendfactoren!$A$2:$D$43,(HLOOKUP(Emissieberekening!F762,Trendfactoren!$A$1:$C$2,2,FALSE)))","v":0.76},0]
["CEMT VaM3geladenbeide","CEMT Va","M3","geladen","beide","NOx",251.33416025494384,{"$f":"VLOOKUP(A763,Begin:Einde,7,FALSE)","v":0},1,{"$f":"VLOOKUP(Jaar,Trendfactoren!$A$2:$D$43,(HLOOKUP(Emissieberekening!F763,Trendfactoren!$A$1:$C$2,2,FALSE)))","v":0.87},0]
["CEMT VaM3leegbeide","CEMT Va","M3","leeg","beide","Fijn Stof",5.5790062296994396,{"$f":"VLOOKUP(A764,Begin:Einde,7,FALSE)","v":0},1,{"$f":"VLOOKUP(Jaar,Trendfactoren!$A$2:$D$43,(HLOOKUP(Emissieberekening!F764,Trendfactoren!$A$1:$C$2,2,FALSE)))","v":0.76},0]
["CEMT VaM3leegbeide","CEMT Va","M3","leeg","beide","NOx",164.82203543960642,{"$f":"VLOOKUP(A765,Begin:Einde,7,FALSE)","v":0},1,{"$f":"VLOOKUP(Jaar,Trendfactoren!$A$2:$D$43,(HLOOKUP(Emissieberekening!F765,Trendfactoren!$A$1:$C$2,2,FALSE)))","v":0.87},0]
["CEMT VaM4geladenbeide","CEMT Va","M4","geladen","beide","Fijn Stof",11.220616386186903,{"$f":"VLOOKUP(A766,Begin:Einde,7,FALSE)","v":0},1,{"$f":"VLOOKUP(Jaar,Trendfactoren!$A$2:$D$43,(HLOOKUP(Emissieberekening!F766,Trendfactoren!$A$1:$C$2,2,FALSE)))","v":0.76},0]
["CEMT VaM4geladenbeide","CEMT Va","M4","geladen","beide","NOx",331.49359500857929,{"$f":"VLOOKUP(A767,Begin:Einde,7,FALSE)","v":0},1,{"$f":"VLOOKUP(Jaar,Trendfactoren!$A$2:$D$43,(HLOOKUP(Emissieberekening!F767,Trendfactoren!$A$1:$C$2,2,FALSE)))","v":0.87},0]
[{"$f":"+B768&C768&D768&E768","v":"CEMT VaM4leegbeide"},"CEMT Va","M4","leeg","beide","Fijn Stof",7.6137174973572401,{"$f":"VLOOKUP(A768,Begin:Einde,7,FALSE)","v":0},{"$f":"+Afstand","v":1},{"$f":"VLOOKUP(Jaar,Trendfactoren!$A$2:$D$43,(HLOOKUP(Emissieberekening!F768,Trendfactoren!$A$1:$C$2,2,FALSE)))","v":0.76},{"$f":"+G768*H768*I768*J768","v":0}]
["CEMT VaM4leegbeide","CEMT Va","M4","leeg","beide","NOx",224.93404085052848,{"$f":"VLOOKUP(A769,Begin:Einde,7,FALSE)","v":0},1,{"$f":"VLOOKUP(Jaar,Trendfactoren!$A$2:$D$43,(HLOOKUP(Emissieberekening!F769,Trendfactoren!$A$1:$C$2,2,FALSE)))","v":0.87},0]
["CEMT VaM5geladenbeide","CEMT Va","M5","geladen","beide","Fijn Stof",13.921651749516121,{"$f":"VLOOKUP(A770,Begin:Einde,7,FALSE)","v":0},1,{"$f":"VLOOKUP(Jaar,Trendfactoren!$A$2:$D$43,(HLOOKUP(Emissieberekening!F770,Trendfactoren!$A$1:$C$2,2,FALSE)))","v":0.76},0]
["CEMT VaM5geladenbeide","CEMT Va","M5","geladen","beide","NOx",411.29098688248342,{"$f":"VLOOKUP(A771,Begin:Einde,7,FALSE)","v":0},1,{"$f":"VLOOKUP(Jaar,Trendfactoren!$A$2:$D$43,(HLOOKUP(Emissieberekening!F771,Trendfactoren!$A$1:$C$2,2,FALSE)))","v":0.87},0]
["CEMT VaM5leegbeide","CEMT Va","M5","leeg","beide","Fijn Stof",8.5669348455699978,{"$f":"VLOOKUP(A772,Begin:Einde,7,FALSE)","v":0},1,{"$f":"VLOOKUP(Jaar,Trendfactoren!$A$2:$D$43,(HLOOKUP(Emissieberekening!F772,Trendfactoren!$A$1:$C$2,2,FALSE)))","v":0.76},0]
["CEMT VaM5leegbeide","CEMT Va","M5","leeg","beide","NOx",253.09518946377096,{"$f":"VLOOKUP(A773,Begin:Einde,7,FALSE)","v":0},1,{"$f":"VLOOKUP(Jaar,Trendfactoren!$A$2:$D$43,(HLOOKUP(Emissieberekening!F773,Trendfactoren!$A$1:$C$2,2,FALSE)))","v":0.87},0]
["CEMT VaM6geladenbeide","CEMT Va","M6","geladen","beide","Fijn Stof",14.835457671043178,{"$f":"VLOOKUP(A774,Begin:Einde,7,FALSE)","v":0},1,{"$f":"VLOOKUP(Jaar,Trendfactoren!$A$2:$D$43,(HLOOKUP(Emissieberekening!F774,Trendfactoren!$A$1:$C$2,2,FALSE)))","v":0.76},0]
["CEMT VaM6geladenbeide","CEMT Va","M6","geladen","beide","NOx",438.28779344295378,{"$f":"VLOOKUP(A775,Begin:Einde,7,FALSE)","v":0},1,{"$f":"VLOOKUP(Jaar,Trendfactoren!$A$2:$D$43,(HLOOKUP(Emissieberekening!F775,Trendfactoren!$A$1:$C$2,2,FALSE)))","v":0.87},0]
["CEMT VaM6leegbeide","CEMT Va","M6","leeg","beide","Fijn Stof",10.72525627845261,{"$f":"VLOOKUP(A776,Begin:Einde,7,FALSE)","v":0},1,{"$f":"VLOOKUP(Jaar,Trendfactoren!$A$2:$D$43,(HLOOKUP(Emissieberekening!F776,Trendfactoren!$A$1:$C$2,2,FALSE)))","v":0.76},0]
["CEMT VaM6leegbeide","CEMT Va","M6","leeg","beide","NOx",316.85904220996241,{"$f":"VLOOKUP(A777,Begin:Einde,7,FALSE)","v":0},1,{"$f":"VLOOKUP(Jaar,Trendfactoren!$A$2:$D$43,(HLOOKUP(Emissieberekening!F777,Trendfactoren!$A$1:$C$2,2,FALSE)))","v":0.87},0]
["CEMT VaM7geladenbeide","CEMT Va","M7","geladen","beide","Fijn Stof",14.141039155927166,{"$f":"VLOOKUP(A778,Begin:Einde,7,FALSE)","v":0},1,{"$f":"VLOOKUP(Jaar,Trendfactoren!$A$2:$D$43,(HLOOKUP(Emissieberekening!F778,Trendfactoren!$A$1:$C$2,2,FALSE)))","v":0.76},0]
["CEMT VaM7geladenbeide","CEMT Va","M7","geladen","beide","NOx",417.77240622236349,{"$f":"VLOOKUP(A779,Begin:Einde,7,FALSE)","v":0},1,{"$f":"VLOOKUP(Jaar,Trendfactoren!$A$2:$D$43,(HLOOKUP(Emissieberekening!F779,Trendfactoren!$A$1:$C$2,2,FALSE)))","v":0.87},0]
["CEMT VaM7leegbeide","CEMT Va","M7","leeg","beide","Fijn Stof",12.952457960041432,{"$f":"VLOOKUP(A780,Begin:Einde,7,FALSE)","v":0},1,{"$f":"VLOOKUP(Jaar,Trendfactoren!$A$2:$D$43,(HLOOKUP(Emissieberekening!F780,Trendfactoren!$A$1:$C$2,2,FALSE)))","v":0.76},0]
["CEMT VaM7leegbeide","CEMT Va","M7","leeg","beide","NOx",382.65784210012851,{"$f":"VLOOKUP(A781,Begin:Einde,7,FALSE)","v":0},1,{"$f":"VLOOKUP(Jaar,Trendfactoren!$A$2:$D$43,(HLOOKUP(Emissieberekening!F781,Trendfactoren!$A$1:$C$2,2,FALSE)))","v":0.87},0]
["CEMT VaM8geladenbeide","CEMT Va","M8","geladen","beide","Fijn Stof",16.314885807744144,{"$f":"VLOOKUP(A782,Begin:Einde,7,FALSE)","v":0},1,{"$f":"VLOOKUP(Jaar,Trendfactoren!$A$2:$D$43,(HLOOKUP(Emissieberekening!F782,Trendfactoren!$A$1:$C$2,2,FALSE)))","v":0.76},0]
["CEMT VaM8geladenbeide","CEMT Va","M8","geladen","beide","NOx",481.99492455881466,{"$f":"VLOOKUP(A783,Begin:Einde,7,FALSE)","v":0},1,{"$f":"VLOOKUP(Jaar,Trendfactoren!$A$2:$D$43,(HLOOKUP(Emissieberekening!F783,Trendfactoren!$A$1:$C$2,2,FALSE)))","v":0.87},0]
["CEMT VaM8leegbeide","CEMT Va","M8","leeg","beide","Fijn Stof",14.509793707310894,{"$f":"VLOOKUP(A784,Begin:Einde,7,FALSE)","v":0},1,{"$f":"VLOOKUP(Jaar,Trendfactoren!$A$2:$D$43,(HLOOKUP(Emissieberekening!F784,Trendfactoren!$A$1:$C$2,2,FALSE)))","v":0.76},0]
["CEMT VaM8leegbeide","CEMT Va","M8","leeg","beide","NOx",428.66661806481176,{"$f":"VLOOKUP(A785,Begin:Einde,7,FALSE)","v":0},1,{"$f":"VLOOKUP(Jaar,Trendfactoren!$A$2:$D$43,(HLOOKUP(Emissieberekening!F785,Trendfactoren!$A$1:$C$2,2,FALSE)))","v":0.87},0]
["CEMT VaM9geladenbeide","CEMT Va","M9","geladen","beide","Fijn Stof",21.388116207420303,{"$f":"VLOOKUP(A786,Begin:Einde,7,FALSE)","v":0},1,{"$f":"VLOOKUP(Jaar,Trendfactoren!$A$2:$D$43,(HLOOKUP(Emissieberekening!F786,Trendfactoren!$A$1:$C$2,2,FALSE)))","v":0.76},0]
["CEMT VaM9geladenbeide","CEMT Va","M9","geladen","beide","NOx",631.87469280093762,{"$f":"VLOOKUP(A787,Begin:Einde,7,FALSE)","v":0},1,{"$f":"VLOOKUP(Jaar,Trendfactoren!$A$2:$D$43,(HLOOKUP(Emissieberekening!F787,Trendfactoren!$A$1:$C$2,2,FALSE)))","v":0.87},0]
["CEMT VaM9leegbeide","CEMT Va","M9","leeg","beide","Fijn Stof",19.671523606173579,{"$f":"VLOOKUP(A788,Begin:Einde,7,FALSE)","v":0},1,{"$f":"VLOOKUP(Jaar,Trendfactoren!$A$2:$D$43,(HLOOKUP(Emissieberekening!F788,Trendfactoren!$A$1:$C$2,2,FALSE)))","v":0.76},0]
["CEMT VaM9leegbeide","CEMT Va","M9","leeg","beide","NOx",581.16095008240745,{"$f":"VLOOKUP(A789,Begin:Einde,7,FALSE)","v":0},1,{"$f":"VLOOKUP(Jaar,Trendfactoren!$A$2:$D$43,(HLOOKUP(Emissieberekening!F789,Trendfactoren!$A$1:$C$2,2,FALSE)))","v":0.87},0]
["CEMT VbBIgeladenbeide","CEMT Vb","BI","geladen","beide","Fijn Stof",23.557608434845374,{"$f":"VLOOKUP(A790,Begin:Einde,7,FALSE)","v":0},1,{"$f":"VLOOKUP(Jaar,Trendfactoren!$A$2:$D$43,(HLOOKUP(Emissieberekening!F790,Trendfactoren!$A$1:$C$2,2,FALSE)))","v":0.76},0]
["CEMT VbBIgeladenbeide","CEMT Vb","BI","geladen","beide","NOx",695.96856724242036,{"$f":"VLOOKUP(A791,Begin:Einde,7,FALSE)","v":0},1,{"$f":"VLOOKUP(Jaar,Trendfactoren!$A$2:$D$43,(HLOOKUP(Emissieberekening!F791,Trendfactoren!$A$1:$C$2,2,FALSE)))","v":0.87},0]
["CEMT VbBIleegbeide","CEMT Vb","BI","leeg","beide","Fijn Stof",7.8456715923699587,{"$f":"VLOOKUP(A792,Begin:Einde,7,FALSE)","v":0},1,{"$f":"VLOOKUP(Jaar,Trendfactoren!$A$2:$D$43,(HLOOKUP(Emissieberekening!F792,Trendfactoren!$A$1:$C$2,2,FALSE)))","v":0.76},0]
["CEMT VbBIleegbeide","CEMT Vb","BI","leeg","beide","NOx",231.78672114778774,{"$f":"VLOOKUP(A793,Begin:Einde,7,FALSE)","v":0},1,{"$f":"VLOOKUP(Jaar,Trendfactoren!$A$2:$D$43,(HLOOKUP(Emissieberekening!F793,Trendfactoren!$A$1:$C$2,2,FALSE)))","v":0.87},0]
["CEMT VbBII-1geladenbeide","CEMT Vb","BII-1","geladen","beide","Fijn Stof",26.850608931722437,{"$f":"VLOOKUP(A794,Begin:Einde,7,FALSE)","v":0},1,{"$f":"VLOOKUP(Jaar,Trendfactoren!$A$2:$D$43,(HLOOKUP(Emissieberekening!F794,Trendfactoren!$A$1:$C$2,2,FALSE)))","v":0.76},0]
["CEMT VbBII-1geladenbeide","CEMT Vb","BII-1","geladen","beide","NOx",793.25453937659267,{"$f":"VLOOKUP(A795,Begin:Einde,7,FALSE)","v":0},1,{"$f":"VLOOKUP(Jaar,Trendfactoren!$A$2:$D$43,(HLOOKUP(Emissieberekening!F795,Trendfactoren!$A$1:$C$2,2,FALSE)))","v":0.87},0]
["CEMT VbBII-1leegbeide","CEMT Vb","BII-1","leeg","beide","Fijn Stof",12.528186460567248,{"$f":"VLOOKUP(A796,Begin:Einde,7,FALSE)","v":0},1,{"$f":"VLOOKUP(Jaar,Trendfactoren!$A$2:$D$43,(HLOOKUP(Emissieberekening!F796,Trendfactoren!$A$1:$C$2,2,FALSE)))","v":0.76},0]
["CEMT VbBII-1leegbeide","CEMT Vb","BII-1","leeg","beide","NOx",370.12347858748632,{"$f":"VLOOKUP(A797,Begin:Einde,7,FALSE)","v":0},1,{"$f":"VLOOKUP(Jaar,Trendfactoren!$A$2:$D$43,(HLOOKUP(Emissieberekening!F797,Trendfactoren!$A$1:$C$2,2,FALSE)))","v":0.87},0]
["CEMT VbBII-2Lgeladenbeide","CEMT Vb","BII-2L","geladen","beide","Fijn Stof",35.069390550144256,{"$f":"VLOOKUP(A798,Begin:Einde,7,FALSE)","v":0},1,{"$f":"VLOOKUP(Jaar,Trendfactoren!$A$2:$D$43,(HLOOKUP(Emissieberekening!F798,Trendfactoren!$A$1:$C$2,2,FALSE)))","v":0.76},0]
["CEMT VbBII-2Lgeladenbeide","CEMT Vb","BII-2L","geladen","beide","NOx",1036.0641472903815,{"$f":"VLOOKUP(A799,Begin:Einde,7,FALSE)","v":0},1,{"$f":"VLOOKUP(Jaar,Trendfactoren!$A$2:$D$43,(HLOOKUP(Emissieberekening!F799,Trendfactoren!$A$1:$C$2,2,FALSE)))","v":0.87},0]
["CEMT VbBII-2Lleegbeide","CEMT Vb","BII-2L","leeg","beide","Fijn Stof",19.10266854029161,{"$f":"VLOOKUP(A800,Begin:Einde,7,FALSE)","v":0},1,{"$f":"VLOOKUP(Jaar,Trendfactoren!$A$2:$D$43,(HLOOKUP(Emissieberekening!F800,Trendfactoren!$A$1:$C$2,2,FALSE)))","v":0.76},0]
["CEMT VbBII-2Lleegbeide","CEMT Vb","BII-2L","leeg","beide","NOx",564.35511657577456,{"$f":"VLOOKUP(A801,Begin:Einde,7,FALSE)","v":0},1,{"$f":"VLOOKUP(Jaar,Trendfactoren!$A$2:$D$43,(HLOOKUP(Emissieberekening!F801,Trendfactoren!$A$1:$C$2,2,FALSE)))","v":0.87},0]
["CEMT VbBO1geladenbeide","CEMT Vb","BO1","geladen","beide","Fijn Stof",7.8513029563308327,{"$f":"VLOOKUP(A802,Begin:Einde,7,FALSE)","v":0},1,{"$f":"VLOOKUP(Jaar,Trendfactoren!$A$2:$D$43,(HLOOKUP(Emissieberekening!F802,Trendfactoren!$A$1:$C$2,2,FALSE)))","v":0.76},0]
["CEMT VbBO1geladenbeide","CEMT Vb","BO1","geladen","beide","NOx",231.95309000132866,{"$f":"VLOOKUP(A803,Begin:Einde,7,FALSE)","v":0},1,{"$f":"VLOOKUP(Jaar,Trendfactoren!$A$2:$D$43,(HLOOKUP(Emissieberekening!F803,Trendfactoren!$A$1:$C$2,2,FALSE)))","v":0.87},0]
["CEMT VbBO1leegbeide","CEMT Vb","BO1","leeg","beide","Fijn Stof",3.0090891970253919,{"$f":"VLOOKUP(A804,Begin:Einde,7,FALSE)","v":0},1,{"$f":"VLOOKUP(Jaar,Trendfactoren!$A$2:$D$43,(HLOOKUP(Emissieberekening!F804,Trendfactoren!$A$1:$C$2,2,FALSE)))","v":0.76},0]
["CEMT VbBO1leegbeide","CEMT Vb","BO1","leeg","beide","NOx",88.89830658959049,{"$f":"VLOOKUP(A805,Begin:Einde,7,FALSE)","v":0},1,{"$f":"VLOOKUP(Jaar,Trendfactoren!$A$2:$D$43,(HLOOKUP(Emissieberekening!F805,Trendfactoren!$A$1:$C$2,2,FALSE)))","v":0.87},0]
["CEMT VbBO2geladenbeide","CEMT Vb","BO2","geladen","beide","Fijn Stof",11.927613972673317,{"$f":"VLOOKUP(A806,Begin:Einde,7,FALSE)","v":0},1,{"$f":"VLOOKUP(Jaar,Trendfactoren!$A$2:$D$43,(HLOOKUP(Emissieberekening!F806,Trendfactoren!$A$1:$C$2,2,FALSE)))","v":0.76},0]
["CEMT VbBO2geladenbeide","CEMT Vb","BO2","geladen","beide","NOx",352.3806090139135,{"$f":"VLOOKUP(A807,Begin:Einde,7,FALSE)","v":0},1,{"$f":"VLOOKUP(Jaar,Trendfactoren!$A$2:$D$43,(HLOOKUP(Emissieberekening!F807,Trendfactoren!$A$1:$C$2,2,FALSE)))","v":0.87},0]
["CEMT VbBO2leegbeide","CEMT Vb","BO2","leeg","beide","Fijn Stof",4.2775656559648612,{"$f":"VLOOKUP(A808,Begin:Einde,7,FALSE)","v":0},1,{"$f":"VLOOKUP(Jaar,Trendfactoren!$A$2:$D$43,(HLOOKUP(Emissieberekening!F808,Trendfactoren!$A$1:$C$2,2,FALSE)))","v":0.76},0]
["CEMT VbBO2leegbeide","CEMT Vb","BO2","leeg","beide","NOx",126.37323729618178,{"$f":"VLOOKUP(A809,Begin:Einde,7,FALSE)","v":0},1,{"$f":"VLOOKUP(Jaar,Trendfactoren!$A$2:$D$43,(HLOOKUP(Emissieberekening!F809,Trendfactoren!$A$1:$C$2,2,FALSE)))","v":0.87},0]
["CEMT VbBO3geladenbeide","CEMT Vb","BO3","geladen","beide","Fijn Stof",17.07133534573267,{"$f":"VLOOKUP(A810,Begin:Einde,7,FALSE)","v":0},1,{"$f":"VLOOKUP(Jaar,Trendfactoren!$A$2:$D$43,(HLOOKUP(Emissieberekening!F810,Trendfactoren!$A$1:$C$2,2,FALSE)))","v":0.76},0]
["CEMT VbBO3geladenbeide","CEMT Vb","BO3","geladen","beide","NOx",504.34291045904467,{"$f":"VLOOKUP(A811,Begin:Einde,7,FALSE)","v":0},1,{"$f":"VLOOKUP(Jaar,Trendfactoren!$A$2:$D$43,(HLOOKUP(Emissieberekening!F811,Trendfactoren!$A$1:$C$2,2,FALSE)))","v":0.87},0]
["CEMT VbBO3leegbeide","CEMT Vb","BO3","leeg","beide","Fijn Stof",5.4089242150633403,{"$f":"VLOOKUP(A812,Begin:Einde,7,FALSE)","v":0},1,{"$f":"VLOOKUP(Jaar,Trendfactoren!$A$2:$D$43,(HLOOKUP(Emissieberekening!F812,Trendfactoren!$A$1:$C$2,2,FALSE)))","v":0.76},0]
["CEMT VbBO3leegbeide","CEMT Vb","BO3","leeg","beide","NOx",159.79725814239575,{"$f":"VLOOKUP(A813,Begin:Einde,7,FALSE)","v":0},1,{"$f":"VLOOKUP(Jaar,Trendfactoren!$A$2:$D$43,(HLOOKUP(Emissieberekening!F813,Trendfactoren!$A$1:$C$2,2,FALSE)))","v":0.87},0]
["CEMT VbBO4geladenbeide","CEMT Vb","BO4","geladen","beide","Fijn Stof",18.80179507049332,{"$f":"VLOOKUP(A814,Begin:Einde,7,FALSE)","v":0},1,{"$f":"VLOOKUP(Jaar,Trendfactoren!$A$2:$D$43,(HLOOKUP(Emissieberekening!F814,Trendfactoren!$A$1:$C$2,2,FALSE)))","v":0.76},0]
["CEMT VbBO4geladenbeide","CEMT Vb","BO4","geladen","beide","NOx",555.46633322257799,{"$f":"VLOOKUP(A815,Begin:Einde,7,FALSE)","v":0},1,{"$f":"VLOOKUP(Jaar,Trendfactoren!$A$2:$D$43,(HLOOKUP(Emissieberekening!F815,Trendfactoren!$A$1:$C$2,2,FALSE)))","v":0.87},0]
["CEMT VbBO4leegbeide","CEMT Vb","BO4","leeg","beide","Fijn Stof",6.1329927151823798,{"$f":"VLOOKUP(A816,Begin:Einde,7,FALSE)","v":0},1,{"$f":"VLOOKUP(Jaar,Trendfactoren!$A$2:$D$43,(HLOOKUP(Emissieberekening!F816,Trendfactoren!$A$1:$C$2,2,FALSE)))","v":0.76},0]
["CEMT VbBO4leegbeide","CEMT Vb","BO4","leeg","beide","NOx",181.18860259940891,{"$f":"VLOOKUP(A817,Begin:Einde,7,FALSE)","v":0},1,{"$f":"VLOOKUP(Jaar,Trendfactoren!$A$2:$D$43,(HLOOKUP(Emissieberekening!F817,Trendfactoren!$A$1:$C$2,2,FALSE)))","v":0.87},0]
["CEMT VbC1bgeladenbeide","CEMT Vb","C1b","geladen","beide","Fijn Stof",8.4860816777148198,{"$f":"VLOOKUP(A818,Begin:Einde,7,FALSE)","v":0},1,{"$f":"VLOOKUP(Jaar,Trendfactoren!$A$2:$D$43,(HLOOKUP(Emissieberekening!F818,Trendfactoren!$A$1:$C$2,2,FALSE)))","v":0.76},0]
["CEMT VbC1bgeladenbeide","CEMT Vb","C1b","geladen","beide","NOx",250.70652324814836,{"$f":"VLOOKUP(A819,Begin:Einde,7,FALSE)","v":0},1,{"$f":"VLOOKUP(Jaar,Trendfactoren!$A$2:$D$43,(HLOOKUP(Emissieberekening!F819,Trendfactoren!$A$1:$C$2,2,FALSE)))","v":0.87},0]
["CEMT VbC1bleegbeide","CEMT Vb","C1b","leeg","beide","Fijn Stof",3.7800951936157494,{"$f":"VLOOKUP(A820,Begin:Einde,7,FALSE)","v":0},1,{"$f":"VLOOKUP(Jaar,Trendfactoren!$A$2:$D$43,(HLOOKUP(Emissieberekening!F820,Trendfactoren!$A$1:$C$2,2,FALSE)))","v":0.76},0]
["CEMT VbC1bleegbeide","CEMT Vb","C1b","leeg","beide","NOx",111.67633774102929,{"$f":"VLOOKUP(A821,Begin:Einde,7,FALSE)","v":0},1,{"$f":"VLOOKUP(Jaar,Trendfactoren!$A$2:$D$43,(HLOOKUP(Emissieberekening!F821,Trendfactoren!$A$1:$C$2,2,FALSE)))","v":0.87},0]
["CEMT VbC1lgeladenbeide","CEMT Vb","C1l","geladen","beide","Fijn Stof",5.0573816563391327,{"$f":"VLOOKUP(A822,Begin:Einde,7,FALSE)","v":0},1,{"$f":"VLOOKUP(Jaar,Trendfactoren!$A$2:$D$43,(HLOOKUP(Emissieberekening!F822,Trendfactoren!$A$1:$C$2,2,FALSE)))","v":0.76},0]
["CEMT VbC1lgeladenbeide","CEMT Vb","C1l","geladen","beide","NOx",149.41154468609571,{"$f":"VLOOKUP(A823,Begin:Einde,7,FALSE)","v":0},1,{"$f":"VLOOKUP(Jaar,Trendfactoren!$A$2:$D$43,(HLOOKUP(Emissieberekening!F823,Trendfactoren!$A$1:$C$2,2,FALSE)))","v":0.87},0]
["CEMT VbC1lleegbeide","CEMT Vb","C1l","leeg","beide","Fijn Stof",3.3118959449355567,{"$f":"VLOOKUP(A824,Begin:Einde,7,FALSE)","v":0},1,{"$f":"VLOOKUP(Jaar,Trendfactoren!$A$2:$D$43,(HLOOKUP(Emissieberekening!F824,Trendfactoren!$A$1:$C$2,2,FALSE)))","v":0.76},0]
["CEMT VbC1lleegbeide","CEMT Vb","C1l","leeg","beide","NOx",97.844205282033755,{"$f":"VLOOKUP(A825,Begin:Einde,7,FALSE)","v":0},1,{"$f":"VLOOKUP(Jaar,Trendfactoren!$A$2:$D$43,(HLOOKUP(Emissieberekening!F825,Trendfactoren!$A$1:$C$2,2,FALSE)))","v":0.87},0]
["CEMT VbC2bgeladenbeide","CEMT Vb","C2b","geladen","beide","Fijn Stof",28.848240633177529,{"$f":"VLOOKUP(A826,Begin:Einde,7,FALSE)","v":0},1,{"$f":"VLOOKUP(Jaar,Trendfactoren!$A$2:$D$43,(HLOOKUP(Emissieberekening!F826,Trendfactoren!$A$1:$C$2,2,FALSE)))","v":0.76},0]
["CEMT VbC2bgeladenbeide","CEMT Vb","C2b","geladen","beide","NOx",852.27109349688624,{"$f":"VLOOKUP(A827,Begin:Einde,7,FALSE)","v":0},1,{"$f":"VLOOKUP(Jaar,Trendfactoren!$A$2:$D$43,(HLOOKUP(Emissieberekening!F827,Trendfactoren!$A$1:$C$2,2,FALSE)))","v":0.87},0]
["CEMT VbC2bleegbeide","CEMT Vb","C2b","leeg","beide","Fijn Stof",18.091470923526192,{"$f":"VLOOKUP(A828,Begin:Einde,7,FALSE)","v":0},1,{"$f":"VLOOKUP(Jaar,Trendfactoren!$A$2:$D$43,(HLOOKUP(Emissieberekening!F828,Trendfactoren!$A$1:$C$2,2,FALSE)))","v":0.76},0]
["CEMT VbC2bleegbeide","CEMT Vb","C2b","leeg","beide","NOx",534.48104177375819,{"$f":"VLOOKUP(A829,Begin:Einde,7,FALSE)","v":0},1,{"$f":"VLOOKUP(Jaar,Trendfactoren!$A$2:$D$43,(HLOOKUP(Emissieberekening!F829,Trendfactoren!$A$1:$C$2,2,FALSE)))","v":0.87},0]
["CEMT VbC2lgeladenbeide","CEMT Vb","C2l","geladen","beide","Fijn Stof",15.757932183110285,{"$f":"VLOOKUP(A830,Begin:Einde,7,FALSE)","v":0},1,{"$f":"VLOOKUP(Jaar,Trendfactoren!$A$2:$D$43,(HLOOKUP(Emissieberekening!F830,Trendfactoren!$A$1:$C$2,2,FALSE)))","v":0.76},0]
["CEMT VbC2lgeladenbeide","CEMT Vb","C2l","geladen","beide","NOx",465.54069843357058,{"$f":"VLOOKUP(A831,Begin:Einde,7,FALSE)","v":0},1,{"$f":"VLOOKUP(Jaar,Trendfactoren!$A$2:$D$43,(HLOOKUP(Emissieberekening!F831,Trendfactoren!$A$1:$C$2,2,FALSE)))","v":0.87},0]
[{"$f":"+B832&C832&D832&E832","v":"CEMT VbC2lleegbeide"},"CEMT Vb","C2l","leeg","beide","Fijn Stof",13.630760889270853,{"$f":"VLOOKUP(A832,Begin:Einde,7,FALSE)","v":0},{"$f":"+Afstand","v":1},{"$f":"VLOOKUP(Jaar,Trendfactoren!$A$2:$D$43,(HLOOKUP(Emissieberekening!F832,Trendfactoren!$A$1:$C$2,2,FALSE)))","v":0.76},{"$f":"+G832*H832*I832*J832","v":0}]
["CEMT VbC2lleegbeide","CEMT Vb","C2l","leeg","beide","NOx",402.69712236568654,{"$f":"VLOOKUP(A833,Begin:Einde,7,FALSE)","v":0},1,{"$f":"VLOOKUP(Jaar,Trendfactoren!$A$2:$D$43,(HLOOKUP(Emissieberekening!F833,Trendfactoren!$A$1:$C$2,2,FALSE)))","v":0.87},0]
["CEMT VbC3lgeladenbeide","CEMT Vb","C3l","geladen","beide","Fijn Stof",24.111601193909877,{"$f":"VLOOKUP(A834,Begin:Einde,7,FALSE)","v":0},1,{"$f":"VLOOKUP(Jaar,Trendfactoren!$A$2:$D$43,(HLOOKUP(Emissieberekening!F834,Trendfactoren!$A$1:$C$2,2,FALSE)))","v":0.76},0]
["CEMT VbC3lgeladenbeide","CEMT Vb","C3l","geladen","beide","NOx",712.33531974427819,{"$f":"VLOOKUP(A835,Begin:Einde,7,FALSE)","v":0},1,{"$f":"VLOOKUP(Jaar,Trendfactoren!$A$2:$D$43,(HLOOKUP(Emissieberekening!F835,Trendfactoren!$A$1:$C$2,2,FALSE)))","v":0.87},0]
["CEMT VbC3lleegbeide","CEMT Vb","C3l","leeg","beide","Fijn Stof",19.860230703790148,{"$f":"VLOOKUP(A836,Begin:Einde,7,FALSE)","v":0},1,{"$f":"VLOOKUP(Jaar,Trendfactoren!$A$2:$D$43,(HLOOKUP(Emissieberekening!F836,Trendfactoren!$A$1:$C$2,2,FALSE)))","v":0.76},0]
["CEMT VbC3lleegbeide","CEMT Vb","C3l","leeg","beide","NOx",586.73597306149782,{"$f":"VLOOKUP(A837,Begin:Einde,7,FALSE)","v":0},1,{"$f":"VLOOKUP(Jaar,Trendfactoren!$A$2:$D$43,(HLOOKUP(Emissieberekening!F837,Trendfactoren!$A$1:$C$2,2,FALSE)))","v":0.87},0]
["CEMT VbM0geladenbeide","CEMT Vb","M0","geladen","beide","Fijn Stof",2.0814771665296652,{"$f":"VLOOKUP(A838,Begin:Einde,7,FALSE)","v":0},1,{"$f":"VLOOKUP(Jaar,Trendfactoren!$A$2:$D$43,(HLOOKUP(Emissieberekening!F838,Trendfactoren!$A$1:$C$2,2,FALSE)))","v":0.76},0]
["CEMT VbM0geladenbeide","CEMT Vb","M0","geladen","beide","NOx",61.493622552733143,{"$f":"VLOOKUP(A839,Begin:Einde,7,FALSE)","v":0},1,{"$f":"VLOOKUP(Jaar,Trendfactoren!$A$2:$D$43,(HLOOKUP(Emissieberekening!F839,Trendfactoren!$A$1:$C$2,2,FALSE)))","v":0.87},0]
["CEMT VbM0leegbeide","CEMT Vb","M0","leeg","beide","Fijn Stof",1.1471528551100547,{"$f":"VLOOKUP(A840,Begin:Einde,7,FALSE)","v":0},1,{"$f":"VLOOKUP(Jaar,Trendfactoren!$A$2:$D$43,(HLOOKUP(Emissieberekening!F840,Trendfactoren!$A$1:$C$2,2,FALSE)))","v":0.76},0]
["CEMT VbM0leegbeide","CEMT Vb","M0","leeg","beide","NOx",33.890635850711597,{"$f":"VLOOKUP(A841,Begin:Einde,7,FALSE)","v":0},1,{"$f":"VLOOKUP(Jaar,Trendfactoren!$A$2:$D$43,(HLOOKUP(Emissieberekening!F841,Trendfactoren!$A$1:$C$2,2,FALSE)))","v":0.87},0]
["CEMT VbM1geladenbeide","CEMT Vb","M1","geladen","beide","Fijn Stof",3.7375124367843355,{"$f":"VLOOKUP(A842,Begin:Einde,7,FALSE)","v":0},1,{"$f":"VLOOKUP(Jaar,Trendfactoren!$A$2:$D$43,(HLOOKUP(Emissieberekening!F842,Trendfactoren!$A$1:$C$2,2,FALSE)))","v":0.76},0]
["CEMT VbM1geladenbeide","CEMT Vb","M1","geladen","beide","NOx",110.4183042550259,{"$f":"VLOOKUP(A843,Begin:Einde,7,FALSE)","v":0},1,{"$f":"VLOOKUP(Jaar,Trendfactoren!$A$2:$D$43,(HLOOKUP(Emissieberekening!F843,Trendfactoren!$A$1:$C$2,2,FALSE)))","v":0.87},0]
["CEMT VbM1leegbeide","CEMT Vb","M1","leeg","beide","Fijn Stof",2.0405386930986622,{"$f":"VLOOKUP(A844,Begin:Einde,7,FALSE)","v":0},1,{"$f":"VLOOKUP(Jaar,Trendfactoren!$A$2:$D$43,(HLOOKUP(Emissieberekening!F844,Trendfactoren!$A$1:$C$2,2,FALSE)))","v":0.76},0]
["CEMT VbM1leegbeide","CEMT Vb","M1","leeg","beide","NOx",60.284166559877626,{"$f":"VLOOKUP(A845,Begin:Einde,7,FALSE)","v":0},1,{"$f":"VLOOKUP(Jaar,Trendfactoren!$A$2:$D$43,(HLOOKUP(Emissieberekening!F845,Trendfactoren!$A$1:$C$2,2,FALSE)))","v":0.87},0]
["CEMT VbM10geladenbeide","CEMT Vb","M10","geladen","beide","Fijn Stof",25.469087158795777,{"$f":"VLOOKUP(A846,Begin:Einde,7,FALSE)","v":0},1,{"$f":"VLOOKUP(Jaar,Trendfactoren!$A$2:$D$43,(HLOOKUP(Emissieberekening!F846,Trendfactoren!$A$1:$C$2,2,FALSE)))","v":0.76},0]
["CEMT VbM10geladenbeide","CEMT Vb","M10","geladen","beide","NOx",752.43988148900428,{"$f":"VLOOKUP(A847,Begin:Einde,7,FALSE)","v":0},1,{"$f":"VLOOKUP(Jaar,Trendfactoren!$A$2:$D$43,(HLOOKUP(Emissieberekening!F847,Trendfactoren!$A$1:$C$2,2,FALSE)))","v":0.87},0]
["CEMT VbM10leegbeide","CEMT Vb","M10","leeg","beide","Fijn Stof",18.507404196808338,{"$f":"VLOOKUP(A848,Begin:Einde,7,FALSE)","v":0},1,{"$f":"VLOOKUP(Jaar,Trendfactoren!$A$2:$D$43,(HLOOKUP(Emissieberekening!F848,Trendfactoren!$A$1:$C$2,2,FALSE)))","v":0.76},0]
["CEMT VbM10leegbeide","CEMT Vb","M10","leeg","beide","NOx",546.76906689631016,{"$f":"VLOOKUP(A849,Begin:Einde,7,FALSE)","v":0},1,{"$f":"VLOOKUP(Jaar,Trendfactoren!$A$2:$D$43,(HLOOKUP(Emissieberekening!F849,Trendfactoren!$A$1:$C$2,2,FALSE)))","v":0.87},0]
["CEMT VbM2geladenbeide","CEMT Vb","M2","geladen","beide","Fijn Stof",6.2879811846811871,{"$f":"VLOOKUP(A850,Begin:Einde,7,FALSE)","v":0},1,{"$f":"VLOOKUP(Jaar,Trendfactoren!$A$2:$D$43,(HLOOKUP(Emissieberekening!F850,Trendfactoren!$A$1:$C$2,2,FALSE)))","v":0.76},0]
["CEMT VbM2geladenbeide","CEMT Vb","M2","geladen","beide","NOx",185.76746735788024,{"$f":"VLOOKUP(A851,Begin:Einde,7,FALSE)","v":0},1,{"$f":"VLOOKUP(Jaar,Trendfactoren!$A$2:$D$43,(HLOOKUP(Emissieberekening!F851,Trendfactoren!$A$1:$C$2,2,FALSE)))","v":0.87},0]
["CEMT VbM2leegbeide","CEMT Vb","M2","leeg","beide","Fijn Stof",3.7237468749077536,{"$f":"VLOOKUP(A852,Begin:Einde,7,FALSE)","v":0},1,{"$f":"VLOOKUP(Jaar,Trendfactoren!$A$2:$D$43,(HLOOKUP(Emissieberekening!F852,Trendfactoren!$A$1:$C$2,2,FALSE)))","v":0.76},0]
["CEMT VbM2leegbeide","CEMT Vb","M2","leeg","beide","NOx",110.01162467195071,{"$f":"VLOOKUP(A853,Begin:Einde,7,FALSE)","v":0},1,{"$f":"VLOOKUP(Jaar,Trendfactoren!$A$2:$D$43,(HLOOKUP(Emissieberekening!F853,Trendfactoren!$A$1:$C$2,2,FALSE)))","v":0.87},0]
["CEMT VbM3geladenbeide","CEMT Vb","M3","geladen","beide","Fijn Stof",8.5073263538988098,{"$f":"VLOOKUP(A854,Begin:Einde,7,FALSE)","v":0},1,{"$f":"VLOOKUP(Jaar,Trendfactoren!$A$2:$D$43,(HLOOKUP(Emissieberekening!F854,Trendfactoren!$A$1:$C$2,2,FALSE)))","v":0.76},0]
["CEMT VbM3geladenbeide","CEMT Vb","M3","geladen","beide","NOx",251.33416025494373,{"$f":"VLOOKUP(A855,Begin:Einde,7,FALSE)","v":0},1,{"$f":"VLOOKUP(Jaar,Trendfactoren!$A$2:$D$43,(HLOOKUP(Emissieberekening!F855,Trendfactoren!$A$1:$C$2,2,FALSE)))","v":0.87},0]
["CEMT VbM3leegbeide","CEMT Vb","M3","leeg","beide","Fijn Stof",4.9748762127228634,{"$f":"VLOOKUP(A856,Begin:Einde,7,FALSE)","v":0},1,{"$f":"VLOOKUP(Jaar,Trendfactoren!$A$2:$D$43,(HLOOKUP(Emissieberekening!F856,Trendfactoren!$A$1:$C$2,2,FALSE)))","v":0.76},0]
["CEMT VbM3leegbeide","CEMT Vb","M3","leeg","beide","NOx",146.9740648569302,{"$f":"VLOOKUP(A857,Begin:Einde,7,FALSE)","v":0},1,{"$f":"VLOOKUP(Jaar,Trendfactoren!$A$2:$D$43,(HLOOKUP(Emissieberekening!F857,Trendfactoren!$A$1:$C$2,2,FALSE)))","v":0.87},0]
["CEMT VbM4geladenbeide","CEMT Vb","M4","geladen","beide","Fijn Stof",10.438206589085404,{"$f":"VLOOKUP(A858,Begin:Einde,7,FALSE)","v":0},1,{"$f":"VLOOKUP(Jaar,Trendfactoren!$A$2:$D$43,(HLOOKUP(Emissieberekening!F858,Trendfactoren!$A$1:$C$2,2,FALSE)))","v":0.76},0]
["CEMT VbM4geladenbeide","CEMT Vb","M4","geladen","beide","NOx",308.37865840577393,{"$f":"VLOOKUP(A859,Begin:Einde,7,FALSE)","v":0},1,{"$f":"VLOOKUP(Jaar,Trendfactoren!$A$2:$D$43,(HLOOKUP(Emissieberekening!F859,Trendfactoren!$A$1:$C$2,2,FALSE)))","v":0.87},0]
["CEMT VbM4leegbeide","CEMT Vb","M4","leeg","beide","Fijn Stof",6.6131651327519112,{"$f":"VLOOKUP(A860,Begin:Einde,7,FALSE)","v":0},1,{"$f":"VLOOKUP(Jaar,Trendfactoren!$A$2:$D$43,(HLOOKUP(Emissieberekening!F860,Trendfactoren!$A$1:$C$2,2,FALSE)))","v":0.76},0]
["CEMT VbM4leegbeide","CEMT Vb","M4","leeg","beide","NOx",195.37446150819719,{"$f":"VLOOKUP(A861,Begin:Einde,7,FALSE)","v":0},1,{"$f":"VLOOKUP(Jaar,Trendfactoren!$A$2:$D$43,(HLOOKUP(Emissieberekening!F861,Trendfactoren!$A$1:$C$2,2,FALSE)))","v":0.87},0]
["CEMT VbM5geladenbeide","CEMT Vb","M5","geladen","beide","Fijn Stof",12.75559279236346,{"$f":"VLOOKUP(A862,Begin:Einde,7,FALSE)","v":0},1,{"$f":"VLOOKUP(Jaar,Trendfactoren!$A$2:$D$43,(HLOOKUP(Emissieberekening!F862,Trendfactoren!$A$1:$C$2,2,FALSE)))","v":0.76},0]
["CEMT VbM5geladenbeide","CEMT Vb","M5","geladen","beide","NOx",376.84180313048034,{"$f":"VLOOKUP(A863,Begin:Einde,7,FALSE)","v":0},1,{"$f":"VLOOKUP(Jaar,Trendfactoren!$A$2:$D$43,(HLOOKUP(Emissieberekening!F863,Trendfactoren!$A$1:$C$2,2,FALSE)))","v":0.87},0]
["CEMT VbM5leegbeide","CEMT Vb","M5","leeg","beide","Fijn Stof",7.2540168387934347,{"$f":"VLOOKUP(A864,Begin:Einde,7,FALSE)","v":0},1,{"$f":"VLOOKUP(Jaar,Trendfactoren!$A$2:$D$43,(HLOOKUP(Emissieberekening!F864,Trendfactoren!$A$1:$C$2,2,FALSE)))","v":0.76},0]
["CEMT VbM5leegbeide","CEMT Vb","M5","leeg","beide","NOx",214.30731052392571,{"$f":"VLOOKUP(A865,Begin:Einde,7,FALSE)","v":0},1,{"$f":"VLOOKUP(Jaar,Trendfactoren!$A$2:$D$43,(HLOOKUP(Emissieberekening!F865,Trendfactoren!$A$1:$C$2,2,FALSE)))","v":0.87},0]
["CEMT VbM6geladenbeide","CEMT Vb","M6","geladen","beide","Fijn Stof",13.206702108300391,{"$f":"VLOOKUP(A866,Begin:Einde,7,FALSE)","v":0},1,{"$f":"VLOOKUP(Jaar,Trendfactoren!$A$2:$D$43,(HLOOKUP(Emissieberekening!F866,Trendfactoren!$A$1:$C$2,2,FALSE)))","v":0.76},0]
["CEMT VbM6geladenbeide","CEMT Vb","M6","geladen","beide","NOx",390.16904325125341,{"$f":"VLOOKUP(A867,Begin:Einde,7,FALSE)","v":0},1,{"$f":"VLOOKUP(Jaar,Trendfactoren!$A$2:$D$43,(HLOOKUP(Emissieberekening!F867,Trendfactoren!$A$1:$C$2,2,FALSE)))","v":0.87},0]
["CEMT VbM6leegbeide","CEMT Vb","M6","leeg","beide","Fijn Stof",9.4965533878478521,{"$f":"VLOOKUP(A868,Begin:Einde,7,FALSE)","v":0},1,{"$f":"VLOOKUP(Jaar,Trendfactoren!$A$2:$D$43,(HLOOKUP(Emissieberekening!F868,Trendfactoren!$A$1:$C$2,2,FALSE)))","v":0.76},0]
["CEMT VbM6leegbeide","CEMT Vb","M6","leeg","beide","NOx",280.55915240128684,{"$f":"VLOOKUP(A869,Begin:Einde,7,FALSE)","v":0},1,{"$f":"VLOOKUP(Jaar,Trendfactoren!$A$2:$D$43,(HLOOKUP(Emissieberekening!F869,Trendfactoren!$A$1:$C$2,2,FALSE)))","v":0.87},0]
["CEMT VbM7geladenbeide","CEMT Vb","M7","geladen","beide","Fijn Stof",13.058058639651536,{"$f":"VLOOKUP(A870,Begin:Einde,7,FALSE)","v":0},1,{"$f":"VLOOKUP(Jaar,Trendfactoren!$A$2:$D$43,(HLOOKUP(Emissieberekening!F870,Trendfactoren!$A$1:$C$2,2,FALSE)))","v":0.76},0]
["CEMT VbM7geladenbeide","CEMT Vb","M7","geladen","beide","NOx",385.77763050697547,{"$f":"VLOOKUP(A871,Begin:Einde,7,FALSE)","v":0},1,{"$f":"VLOOKUP(Jaar,Trendfactoren!$A$2:$D$43,(HLOOKUP(Emissieberekening!F871,Trendfactoren!$A$1:$C$2,2,FALSE)))","v":0.87},0]
["CEMT VbM7leegbeide","CEMT Vb","M7","leeg","beide","Fijn Stof",11.37584596128508,{"$f":"VLOOKUP(A872,Begin:Einde,7,FALSE)","v":0},1,{"$f":"VLOOKUP(Jaar,Trendfactoren!$A$2:$D$43,(HLOOKUP(Emissieberekening!F872,Trendfactoren!$A$1:$C$2,2,FALSE)))","v":0.76},0]
["CEMT VbM7leegbeide","CEMT Vb","M7","leeg","beide","NOx",336.07958281262677,{"$f":"VLOOKUP(A873,Begin:Einde,7,FALSE)","v":0},1,{"$f":"VLOOKUP(Jaar,Trendfactoren!$A$2:$D$43,(HLOOKUP(Emissieberekening!F873,Trendfactoren!$A$1:$C$2,2,FALSE)))","v":0.87},0]
["CEMT VbM8geladenbeide","CEMT Vb","M8","geladen","beide","Fijn Stof",15.585105768838732,{"$f":"VLOOKUP(A874,Begin:Einde,7,FALSE)","v":0},1,{"$f":"VLOOKUP(Jaar,Trendfactoren!$A$2:$D$43,(HLOOKUP(Emissieberekening!F874,Trendfactoren!$A$1:$C$2,2,FALSE)))","v":0.76},0]
["CEMT VbM8geladenbeide","CEMT Vb","M8","geladen","beide","NOx",460.43484262249001,{"$f":"VLOOKUP(A875,Begin:Einde,7,FALSE)","v":0},1,{"$f":"VLOOKUP(Jaar,Trendfactoren!$A$2:$D$43,(HLOOKUP(Emissieberekening!F875,Trendfactoren!$A$1:$C$2,2,FALSE)))","v":0.87},0]
["CEMT VbM8leegbeide","CEMT Vb","M8","leeg","beide","Fijn Stof",13.082394273531849,{"$f":"VLOOKUP(A876,Begin:Einde,7,FALSE)","v":0},1,{"$f":"VLOOKUP(Jaar,Trendfactoren!$A$2:$D$43,(HLOOKUP(Emissieberekening!F876,Trendfactoren!$A$1:$C$2,2,FALSE)))","v":0.76},0]
["CEMT VbM8leegbeide","CEMT Vb","M8","leeg","beide","NOx",386.49658448277745,{"$f":"VLOOKUP(A877,Begin:Einde,7,FALSE)","v":0},1,{"$f":"VLOOKUP(Jaar,Trendfactoren!$A$2:$D$43,(HLOOKUP(Emissieberekening!F877,Trendfactoren!$A$1:$C$2,2,FALSE)))","v":0.87},0]
["CEMT VbM9geladenbeide","CEMT Vb","M9","geladen","beide","Fijn Stof",17.420172236294601,{"$f":"VLOOKUP(A878,Begin:Einde,7,FALSE)","v":0},1,{"$f":"VLOOKUP(Jaar,Trendfactoren!$A$2:$D$43,(HLOOKUP(Emissieberekening!F878,Trendfactoren!$A$1:$C$2,2,FALSE)))","v":0.76},0]
["CEMT VbM9geladenbeide","CEMT Vb","M9","geladen","beide","NOx",514.64868965548362,{"$f":"VLOOKUP(A879,Begin:Einde,7,FALSE)","v":0},1,{"$f":"VLOOKUP(Jaar,Trendfactoren!$A$2:$D$43,(HLOOKUP(Emissieberekening!F879,Trendfactoren!$A$1:$C$2,2,FALSE)))","v":0.87},0]
["CEMT VbM9leegbeide","CEMT Vb","M9","leeg","beide","Fijn Stof",18.217620390493842,{"$f":"VLOOKUP(A880,Begin:Einde,7,FALSE)","v":0},1,{"$f":"VLOOKUP(Jaar,Trendfactoren!$A$2:$D$43,(HLOOKUP(Emissieberekening!F880,Trendfactoren!$A$1:$C$2,2,FALSE)))","v":0.76},0]
["CEMT VbM9leegbeide","CEMT Vb","M9","leeg","beide","NOx",538.20790836238893,{"$f":"VLOOKUP(A881,Begin:Einde,7,FALSE)","v":0},1,{"$f":"VLOOKUP(Jaar,Trendfactoren!$A$2:$D$43,(HLOOKUP(Emissieberekening!F881,Trendfactoren!$A$1:$C$2,2,FALSE)))","v":0.87},0]
["CEMT VIaBIgeladenbeide","CEMT VIa","BI","geladen","beide","Fijn Stof",22.12239038252563,{"$f":"VLOOKUP(A882,Begin:Einde,7,FALSE)","v":0},1,{"$f":"VLOOKUP(Jaar,Trendfactoren!$A$2:$D$43,(HLOOKUP(Emissieberekening!F882,Trendfactoren!$A$1:$C$2,2,FALSE)))","v":0.76},0]
["CEMT VIaBIgeladenbeide","CEMT VIa","BI","geladen","beide","NOx",653.56754617459603,{"$f":"VLOOKUP(A883,Begin:Einde,7,FALSE)","v":0},1,{"$f":"VLOOKUP(Jaar,Trendfactoren!$A$2:$D$43,(HLOOKUP(Emissieberekening!F883,Trendfactoren!$A$1:$C$2,2,FALSE)))","v":0.87},0]
["CEMT VIaBIleegbeide","CEMT VIa","BI","leeg","beide","Fijn Stof",8.3956867151416272,{"$f":"VLOOKUP(A884,Begin:Einde,7,FALSE)","v":0},1,{"$f":"VLOOKUP(Jaar,Trendfactoren!$A$2:$D$43,(HLOOKUP(Emissieberekening!F884,Trendfactoren!$A$1:$C$2,2,FALSE)))","v":0.76},0]
["CEMT VIaBIleegbeide","CEMT VIa","BI","leeg","beide","NOx",248.03596130371338,{"$f":"VLOOKUP(A885,Begin:Einde,7,FALSE)","v":0},1,{"$f":"VLOOKUP(Jaar,Trendfactoren!$A$2:$D$43,(HLOOKUP(Emissieberekening!F885,Trendfactoren!$A$1:$C$2,2,FALSE)))","v":0.87},0]
["CEMT VIaBII-1geladenbeide","CEMT VIa","BII-1","geladen","beide","Fijn Stof",23.319840979160826,{"$f":"VLOOKUP(A886,Begin:Einde,7,FALSE)","v":0},1,{"$f":"VLOOKUP(Jaar,Trendfactoren!$A$2:$D$43,(HLOOKUP(Emissieberekening!F886,Trendfactoren!$A$1:$C$2,2,FALSE)))","v":0.76},0]
["CEMT VIaBII-1geladenbeide","CEMT VIa","BII-1","geladen","beide","NOx",688.94414131534347,{"$f":"VLOOKUP(A887,Begin:Einde,7,FALSE)","v":0},1,{"$f":"VLOOKUP(Jaar,Trendfactoren!$A$2:$D$43,(HLOOKUP(Emissieberekening!F887,Trendfactoren!$A$1:$C$2,2,FALSE)))","v":0.87},0]
["CEMT VIaBII-1leegbeide","CEMT VIa","BII-1","leeg","beide","Fijn Stof",10.761920780052851,{"$f":"VLOOKUP(A888,Begin:Einde,7,FALSE)","v":0},1,{"$f":"VLOOKUP(Jaar,Trendfactoren!$A$2:$D$43,(HLOOKUP(Emissieberekening!F888,Trendfactoren!$A$1:$C$2,2,FALSE)))","v":0.76},0]
["CEMT VIaBII-1leegbeide","CEMT VIa","BII-1","leeg","beide","NOx",317.94223113883652,{"$f":"VLOOKUP(A889,Begin:Einde,7,FALSE)","v":0},1,{"$f":"VLOOKUP(Jaar,Trendfactoren!$A$2:$D$43,(HLOOKUP(Emissieberekening!F889,Trendfactoren!$A$1:$C$2,2,FALSE)))","v":0.87},0]
["CEMT VIaBO1geladenbeide","CEMT VIa","BO1","geladen","beide","Fijn Stof",8.7383031038484607,{"$f":"VLOOKUP(A890,Begin:Einde,7,FALSE)","v":0},1,{"$f":"VLOOKUP(Jaar,Trendfactoren!$A$2:$D$43,(HLOOKUP(Emissieberekening!F890,Trendfactoren!$A$1:$C$2,2,FALSE)))","v":0.76},0]
["CEMT VIaBO1geladenbeide","CEMT VIa","BO1","geladen","beide","NOx",258.15796659221979,{"$f":"VLOOKUP(A891,Begin:Einde,7,FALSE)","v":0},1,{"$f":"VLOOKUP(Jaar,Trendfactoren!$A$2:$D$43,(HLOOKUP(Emissieberekening!F891,Trendfactoren!$A$1:$C$2,2,FALSE)))","v":0.87},0]
["CEMT VIaBO1leegbeide","CEMT VIa","BO1","leeg","beide","Fijn Stof",4.3058032425299331,{"$f":"VLOOKUP(A892,Begin:Einde,7,FALSE)","v":0},1,{"$f":"VLOOKUP(Jaar,Trendfactoren!$A$2:$D$43,(HLOOKUP(Emissieberekening!F892,Trendfactoren!$A$1:$C$2,2,FALSE)))","v":0.76},0]
["CEMT VIaBO1leegbeide","CEMT VIa","BO1","leeg","beide","NOx",127.20746767735268,{"$f":"VLOOKUP(A893,Begin:Einde,7,FALSE)","v":0},1,{"$f":"VLOOKUP(Jaar,Trendfactoren!$A$2:$D$43,(HLOOKUP(Emissieberekening!F893,Trendfactoren!$A$1:$C$2,2,FALSE)))","v":0.87},0]
["CEMT VIaBO2geladenbeide","CEMT VIa","BO2","geladen","beide","Fijn Stof",11.735845672809113,{"$f":"VLOOKUP(A894,Begin:Einde,7,FALSE)","v":0},1,{"$f":"VLOOKUP(Jaar,Trendfactoren!$A$2:$D$43,(HLOOKUP(Emissieberekening!F894,Trendfactoren!$A$1:$C$2,2,FALSE)))","v":0.76},0]
["CEMT VIaBO2geladenbeide","CEMT VIa","BO2","geladen","beide","NOx",346.71514813879395,{"$f":"VLOOKUP(A895,Begin:Einde,7,FALSE)","v":0},1,{"$f":"VLOOKUP(Jaar,Trendfactoren!$A$2:$D$43,(HLOOKUP(Emissieberekening!F895,Trendfactoren!$A$1:$C$2,2,FALSE)))","v":0.87},0]
[{"$f":"+B896&C896&D896&E896","v":"CEMT VIaBO2leegbeide"},"CEMT VIa","BO2","leeg","beide","Fijn Stof",5.7660965809065239,{"$f":"VLOOKUP(A896,Begin:Einde,7,FALSE)","v":0},{"$f":"+Afstand","v":1},{"$f":"VLOOKUP(Jaar,Trendfactoren!$A$2:$D$43,(HLOOKUP(Emissieberekening!F896,Trendfactoren!$A$1:$C$2,2,FALSE)))","v":0.76},{"$f":"+G896*H896*I896*J896","v":0}]
["CEMT VIaBO2leegbeide","CEMT VIa","BO2","leeg","beide","NOx",170.34929445805062,{"$f":"VLOOKUP(A897,Begin:Einde,7,FALSE)","v":0},1,{"$f":"VLOOKUP(Jaar,Trendfactoren!$A$2:$D$43,(HLOOKUP(Emissieberekening!F897,Trendfactoren!$A$1:$C$2,2,FALSE)))","v":0.87},0]
["CEMT VIaBO3geladenbeide","CEMT VIa","BO3","geladen","beide","Fijn Stof",16.006147432689669,{"$f":"VLOOKUP(A898,Begin:Einde,7,FALSE)","v":0},1,{"$f":"VLOOKUP(Jaar,Trendfactoren!$A$2:$D$43,(HLOOKUP(Emissieberekening!F898,Trendfactoren!$A$1:$C$2,2,FALSE)))","v":0.76},0]
["CEMT VIaBO3geladenbeide","CEMT VIa","BO3","geladen","beide","NOx",472.87378625932615,{"$f":"VLOOKUP(A899,Begin:Einde,7,FALSE)","v":0},1,{"$f":"VLOOKUP(Jaar,Trendfactoren!$A$2:$D$43,(HLOOKUP(Emissieberekening!F899,Trendfactoren!$A$1:$C$2,2,FALSE)))","v":0.87},0]
["CEMT VIaBO3leegbeide","CEMT VIa","BO3","leeg","beide","Fijn Stof",7.465839997910483,{"$f":"VLOOKUP(A900,Begin:Einde,7,FALSE)","v":0},1,{"$f":"VLOOKUP(Jaar,Trendfactoren!$A$2:$D$43,(HLOOKUP(Emissieberekening!F900,Trendfactoren!$A$1:$C$2,2,FALSE)))","v":0.76},0]
["CEMT VIaBO3leegbeide","CEMT VIa","BO3","leeg","beide","NOx",220.56525733406932,{"$f":"VLOOKUP(A901,Begin:Einde,7,FALSE)","v":0},1,{"$f":"VLOOKUP(Jaar,Trendfactoren!$A$2:$D$43,(HLOOKUP(Emissieberekening!F901,Trendfactoren!$A$1:$C$2,2,FALSE)))","v":0.87},0]
["CEMT VIaBO4geladenbeide","CEMT VIa","BO4","geladen","beide","Fijn Stof",17.335018424920456,{"$f":"VLOOKUP(A902,Begin:Einde,7,FALSE)","v":0},1,{"$f":"VLOOKUP(Jaar,Trendfactoren!$A$2:$D$43,(HLOOKUP(Emissieberekening!F902,Trendfactoren!$A$1:$C$2,2,FALSE)))","v":0.76},0]
["CEMT VIaBO4geladenbeide","CEMT VIa","BO4","geladen","beide","NOx",512.13296840724217,{"$f":"VLOOKUP(A903,Begin:Einde,7,FALSE)","v":0},1,{"$f":"VLOOKUP(Jaar,Trendfactoren!$A$2:$D$43,(HLOOKUP(Emissieberekening!F903,Trendfactoren!$A$1:$C$2,2,FALSE)))","v":0.87},0]
["CEMT VIaBO4leegbeide","CEMT VIa","BO4","leeg","beide","Fijn Stof",8.4268241988556181,{"$f":"VLOOKUP(A904,Begin:Einde,7,FALSE)","v":0},1,{"$f":"VLOOKUP(Jaar,Trendfactoren!$A$2:$D$43,(HLOOKUP(Emissieberekening!F904,Trendfactoren!$A$1:$C$2,2,FALSE)))","v":0.76},0]
["CEMT VIaBO4leegbeide","CEMT VIa","BO4","leeg","beide","NOx",248.95586410233142,{"$f":"VLOOKUP(A905,Begin:Einde,7,FALSE)","v":0},1,{"$f":"VLOOKUP(Jaar,Trendfactoren!$A$2:$D$43,(HLOOKUP(Emissieberekening!F905,Trendfactoren!$A$1:$C$2,2,FALSE)))","v":0.87},0]
["CEMT VIaC1bgeladenbeide","CEMT VIa","C1b","geladen","beide","Fijn Stof",12.381789861182313,{"$f":"VLOOKUP(A906,Begin:Einde,7,FALSE)","v":0},1,{"$f":"VLOOKUP(Jaar,Trendfactoren!$A$2:$D$43,(HLOOKUP(Emissieberekening!F906,Trendfactoren!$A$1:$C$2,2,FALSE)))","v":0.76},0]
["CEMT VIaC1bgeladenbeide","CEMT VIa","C1b","geladen","beide","NOx",365.79844568761052,{"$f":"VLOOKUP(A907,Begin:Einde,7,FALSE)","v":0},1,{"$f":"VLOOKUP(Jaar,Trendfactoren!$A$2:$D$43,(HLOOKUP(Emissieberekening!F907,Trendfactoren!$A$1:$C$2,2,FALSE)))","v":0.87},0]
["CEMT VIaC1bleegbeide","CEMT VIa","C1b","leeg","beide","Fijn Stof",3.7355407374236789,{"$f":"VLOOKUP(A908,Begin:Einde,7,FALSE)","v":0},1,{"$f":"VLOOKUP(Jaar,Trendfactoren!$A$2:$D$43,(HLOOKUP(Emissieberekening!F908,Trendfactoren!$A$1:$C$2,2,FALSE)))","v":0.76},0]
["CEMT VIaC1bleegbeide","CEMT VIa","C1b","leeg","beide","NOx",110.36005382681014,{"$f":"VLOOKUP(A909,Begin:Einde,7,FALSE)","v":0},1,{"$f":"VLOOKUP(Jaar,Trendfactoren!$A$2:$D$43,(HLOOKUP(Emissieberekening!F909,Trendfactoren!$A$1:$C$2,2,FALSE)))","v":0.87},0]
["CEMT VIaC1lgeladenbeide","CEMT VIa","C1l","geladen","beide","Fijn Stof",3.5394911456768745,{"$f":"VLOOKUP(A910,Begin:Einde,7,FALSE)","v":0},1,{"$f":"VLOOKUP(Jaar,Trendfactoren!$A$2:$D$43,(HLOOKUP(Emissieberekening!F910,Trendfactoren!$A$1:$C$2,2,FALSE)))","v":0.76},0]
["CEMT VIaC1lgeladenbeide","CEMT VIa","C1l","geladen","beide","NOx",104.56810962950944,{"$f":"VLOOKUP(A911,Begin:Einde,7,FALSE)","v":0},1,{"$f":"VLOOKUP(Jaar,Trendfactoren!$A$2:$D$43,(HLOOKUP(Emissieberekening!F911,Trendfactoren!$A$1:$C$2,2,FALSE)))","v":0.87},0]
["CEMT VIaC1lleegbeide","CEMT VIa","C1l","leeg","beide","Fijn Stof",5.0899798033202011,{"$f":"VLOOKUP(A912,Begin:Einde,7,FALSE)","v":0},1,{"$f":"VLOOKUP(Jaar,Trendfactoren!$A$2:$D$43,(HLOOKUP(Emissieberekening!F912,Trendfactoren!$A$1:$C$2,2,FALSE)))","v":0.76},0]
["CEMT VIaC1lleegbeide","CEMT VIa","C1l","leeg","beide","NOx",150.37460024039439,{"$f":"VLOOKUP(A913,Begin:Einde,7,FALSE)","v":0},1,{"$f":"VLOOKUP(Jaar,Trendfactoren!$A$2:$D$43,(HLOOKUP(Emissieberekening!F913,Trendfactoren!$A$1:$C$2,2,FALSE)))","v":0.87},0]
["CEMT VIaC2lgeladenbeide","CEMT VIa","C2l","geladen","beide","Fijn Stof",19.713874364125761,{"$f":"VLOOKUP(A914,Begin:Einde,7,FALSE)","v":0},1,{"$f":"VLOOKUP(Jaar,Trendfactoren!$A$2:$D$43,(HLOOKUP(Emissieberekening!F914,Trendfactoren!$A$1:$C$2,2,FALSE)))","v":0.76},0]
["CEMT VIaC2lgeladenbeide","CEMT VIa","C2l","geladen","beide","NOx",582.41212956504171,{"$f":"VLOOKUP(A915,Begin:Einde,7,FALSE)","v":0},1,{"$f":"VLOOKUP(Jaar,Trendfactoren!$A$2:$D$43,(HLOOKUP(Emissieberekening!F915,Trendfactoren!$A$1:$C$2,2,FALSE)))","v":0.87},0]
["CEMT VIaC2lleegbeide","CEMT VIa","C2l","leeg","beide","Fijn Stof",16.810416471966025,{"$f":"VLOOKUP(A916,Begin:Einde,7,FALSE)","v":0},1,{"$f":"VLOOKUP(Jaar,Trendfactoren!$A$2:$D$43,(HLOOKUP(Emissieberekening!F916,Trendfactoren!$A$1:$C$2,2,FALSE)))","v":0.76},0]
["CEMT VIaC2lleegbeide","CEMT VIa","C2l","leeg","beide","NOx",496.63451615220674,{"$f":"VLOOKUP(A917,Begin:Einde,7,FALSE)","v":0},1,{"$f":"VLOOKUP(Jaar,Trendfactoren!$A$2:$D$43,(HLOOKUP(Emissieberekening!F917,Trendfactoren!$A$1:$C$2,2,FALSE)))","v":0.87},0]
["CEMT VIaM0geladenbeide","CEMT VIa","M0","geladen","beide","Fijn Stof",2.1724525770088108,{"$f":"VLOOKUP(A918,Begin:Einde,7,FALSE)","v":0},1,{"$f":"VLOOKUP(Jaar,Trendfactoren!$A$2:$D$43,(HLOOKUP(Emissieberekening!F918,Trendfactoren!$A$1:$C$2,2,FALSE)))","v":0.76},0]
["CEMT VIaM0geladenbeide","CEMT VIa","M0","geladen","beide","NOx",64.181332820971051,{"$f":"VLOOKUP(A919,Begin:Einde,7,FALSE)","v":0},1,{"$f":"VLOOKUP(Jaar,Trendfactoren!$A$2:$D$43,(HLOOKUP(Emissieberekening!F919,Trendfactoren!$A$1:$C$2,2,FALSE)))","v":0.87},0]
["CEMT VIaM0leegbeide","CEMT VIa","M0","leeg","beide","Fijn Stof",1.202261704748977,{"$f":"VLOOKUP(A920,Begin:Einde,7,FALSE)","v":0},1,{"$f":"VLOOKUP(Jaar,Trendfactoren!$A$2:$D$43,(HLOOKUP(Emissieberekening!F920,Trendfactoren!$A$1:$C$2,2,FALSE)))","v":0.76},0]
["CEMT VIaM0leegbeide","CEMT VIa","M0","leeg","beide","NOx",35.518730961964359,{"$f":"VLOOKUP(A921,Begin:Einde,7,FALSE)","v":0},1,{"$f":"VLOOKUP(Jaar,Trendfactoren!$A$2:$D$43,(HLOOKUP(Emissieberekening!F921,Trendfactoren!$A$1:$C$2,2,FALSE)))","v":0.87},0]
["CEMT VIaM1geladenbeide","CEMT VIa","M1","geladen","beide","Fijn Stof",3.2692816893119372,{"$f":"VLOOKUP(A922,Begin:Einde,7,FALSE)","v":0},1,{"$f":"VLOOKUP(Jaar,Trendfactoren!$A$2:$D$43,(HLOOKUP(Emissieberekening!F922,Trendfactoren!$A$1:$C$2,2,FALSE)))","v":0.76},0]
["CEMT VIaM1geladenbeide","CEMT VIa","M1","geladen","beide","NOx",96.585241219000793,{"$f":"VLOOKUP(A923,Begin:Einde,7,FALSE)","v":0},1,{"$f":"VLOOKUP(Jaar,Trendfactoren!$A$2:$D$43,(HLOOKUP(Emissieberekening!F923,Trendfactoren!$A$1:$C$2,2,FALSE)))","v":0.87},0]
["CEMT VIaM1leegbeide","CEMT VIa","M1","leeg","beide","Fijn Stof",2.0330184736649208,{"$f":"VLOOKUP(A924,Begin:Einde,7,FALSE)","v":0},1,{"$f":"VLOOKUP(Jaar,Trendfactoren!$A$2:$D$43,(HLOOKUP(Emissieberekening!F924,Trendfactoren!$A$1:$C$2,2,FALSE)))","v":0.76},0]
["CEMT VIaM1leegbeide","CEMT VIa","M1","leeg","beide","NOx",60.061994756694602,{"$f":"VLOOKUP(A925,Begin:Einde,7,FALSE)","v":0},1,{"$f":"VLOOKUP(Jaar,Trendfactoren!$A$2:$D$43,(HLOOKUP(Emissieberekening!F925,Trendfactoren!$A$1:$C$2,2,FALSE)))","v":0.87},0]
["CEMT VIaM10geladenbeide","CEMT VIa","M10","geladen","beide","Fijn Stof",25.875992955487295,{"$f":"VLOOKUP(A926,Begin:Einde,7,FALSE)","v":0},1,{"$f":"VLOOKUP(Jaar,Trendfactoren!$A$2:$D$43,(HLOOKUP(Emissieberekening!F926,Trendfactoren!$A$1:$C$2,2,FALSE)))","v":0.76},0]
["CEMT VIaM10geladenbeide","CEMT VIa","M10","geladen","beide","NOx",764.46120551725949,{"$f":"VLOOKUP(A927,Begin:Einde,7,FALSE)","v":0},1,{"$f":"VLOOKUP(Jaar,Trendfactoren!$A$2:$D$43,(HLOOKUP(Emissieberekening!F927,Trendfactoren!$A$1:$C$2,2,FALSE)))","v":0.87},0]
["CEMT VIaM10leegbeide","CEMT VIa","M10","leeg","beide","Fijn Stof",15.308098874168541,{"$f":"VLOOKUP(A928,Begin:Einde,7,FALSE)","v":0},1,{"$f":"VLOOKUP(Jaar,Trendfactoren!$A$2:$D$43,(HLOOKUP(Emissieberekening!F928,Trendfactoren!$A$1:$C$2,2,FALSE)))","v":0.76},0]
["CEMT VIaM10leegbeide","CEMT VIa","M10","leeg","beide","NOx",452.25115572009958,{"$f":"VLOOKUP(A929,Begin:Einde,7,FALSE)","v":0},1,{"$f":"VLOOKUP(Jaar,Trendfactoren!$A$2:$D$43,(HLOOKUP(Emissieberekening!F929,Trendfactoren!$A$1:$C$2,2,FALSE)))","v":0.87},0]
["CEMT VIaM11geladenbeide","CEMT VIa","M11","geladen","beide","Fijn Stof",31.302165512908957,{"$f":"VLOOKUP(A930,Begin:Einde,7,FALSE)","v":0},1,{"$f":"VLOOKUP(Jaar,Trendfactoren!$A$2:$D$43,(HLOOKUP(Emissieberekening!F930,Trendfactoren!$A$1:$C$2,2,FALSE)))","v":0.76},0]
["CEMT VIaM11geladenbeide","CEMT VIa","M11","geladen","beide","NOx",924.76803593443094,{"$f":"VLOOKUP(A931,Begin:Einde,7,FALSE)","v":0},1,{"$f":"VLOOKUP(Jaar,Trendfactoren!$A$2:$D$43,(HLOOKUP(Emissieberekening!F931,Trendfactoren!$A$1:$C$2,2,FALSE)))","v":0.87},0]
["CEMT VIaM11leegbeide","CEMT VIa","M11","leeg","beide","Fijn Stof",17.458998948122627,{"$f":"VLOOKUP(A932,Begin:Einde,7,FALSE)","v":0},1,{"$f":"VLOOKUP(Jaar,Trendfactoren!$A$2:$D$43,(HLOOKUP(Emissieberekening!F932,Trendfactoren!$A$1:$C$2,2,FALSE)))","v":0.76},0]
["CEMT VIaM11leegbeide","CEMT VIa","M11","leeg","beide","NOx",515.79575732478565,{"$f":"VLOOKUP(A933,Begin:Einde,7,FALSE)","v":0},1,{"$f":"VLOOKUP(Jaar,Trendfactoren!$A$2:$D$43,(HLOOKUP(Emissieberekening!F933,Trendfactoren!$A$1:$C$2,2,FALSE)))","v":0.87},0]
["CEMT VIaM12geladenbeide","CEMT VIa","M12","geladen","beide","Fijn Stof",38.372213669083038,{"$f":"VLOOKUP(A934,Begin:Einde,7,FALSE)","v":0},1,{"$f":"VLOOKUP(Jaar,Trendfactoren!$A$2:$D$43,(HLOOKUP(Emissieberekening!F934,Trendfactoren!$A$1:$C$2,2,FALSE)))","v":0.76},0]
["CEMT VIaM12geladenbeide","CEMT VIa","M12","geladen","beide","NOx",1133.6403117087905,{"$f":"VLOOKUP(A935,Begin:Einde,7,FALSE)","v":0},1,{"$f":"VLOOKUP(Jaar,Trendfactoren!$A$2:$D$43,(HLOOKUP(Emissieberekening!F935,Trendfactoren!$A$1:$C$2,2,FALSE)))","v":0.87},0]
["CEMT VIaM12leegbeide","CEMT VIa","M12","leeg","beide","Fijn Stof",21.223032221827342,{"$f":"VLOOKUP(A936,Begin:Einde,7,FALSE)","v":0},1,{"$f":"VLOOKUP(Jaar,Trendfactoren!$A$2:$D$43,(HLOOKUP(Emissieberekening!F936,Trendfactoren!$A$1:$C$2,2,FALSE)))","v":0.76},0]
["CEMT VIaM12leegbeide","CEMT VIa","M12","leeg","beide","NOx",626.99757357868862,{"$f":"VLOOKUP(A937,Begin:Einde,7,FALSE)","v":0},1,{"$f":"VLOOKUP(Jaar,Trendfactoren!$A$2:$D$43,(HLOOKUP(Emissieberekening!F937,Trendfactoren!$A$1:$C$2,2,FALSE)))","v":0.87},0]
["CEMT VIaM2geladenbeide","CEMT VIa","M2","geladen","beide","Fijn Stof",6.5043776410056688,{"$f":"VLOOKUP(A938,Begin:Einde,7,FALSE)","v":0},1,{"$f":"VLOOKUP(Jaar,Trendfactoren!$A$2:$D$43,(HLOOKUP(Emissieberekening!F938,Trendfactoren!$A$1:$C$2,2,FALSE)))","v":0.76},0]
["CEMT VIaM2geladenbeide","CEMT VIa","M2","geladen","beide","NOx",192.1605242796397,{"$f":"VLOOKUP(A939,Begin:Einde,7,FALSE)","v":0},1,{"$f":"VLOOKUP(Jaar,Trendfactoren!$A$2:$D$43,(HLOOKUP(Emissieberekening!F939,Trendfactoren!$A$1:$C$2,2,FALSE)))","v":0.87},0]
["CEMT VIaM2leegbeide","CEMT VIa","M2","leeg","beide","Fijn Stof",4.1672996554592485,{"$f":"VLOOKUP(A940,Begin:Einde,7,FALSE)","v":0},1,{"$f":"VLOOKUP(Jaar,Trendfactoren!$A$2:$D$43,(HLOOKUP(Emissieberekening!F940,Trendfactoren!$A$1:$C$2,2,FALSE)))","v":0.76},0]
["CEMT VIaM2leegbeide","CEMT VIa","M2","leeg","beide","NOx",123.11562009791261,{"$f":"VLOOKUP(A941,Begin:Einde,7,FALSE)","v":0},1,{"$f":"VLOOKUP(Jaar,Trendfactoren!$A$2:$D$43,(HLOOKUP(Emissieberekening!F941,Trendfactoren!$A$1:$C$2,2,FALSE)))","v":0.87},0]
["CEMT VIaM3geladenbeide","CEMT VIa","M3","geladen","beide","Fijn Stof",10.323038329038383,{"$f":"VLOOKUP(A942,Begin:Einde,7,FALSE)","v":0},1,{"$f":"VLOOKUP(Jaar,Trendfactoren!$A$2:$D$43,(HLOOKUP(Emissieberekening!F942,Trendfactoren!$A$1:$C$2,2,FALSE)))","v":0.76},0]
["CEMT VIaM3geladenbeide","CEMT VIa","M3","geladen","beide","NOx",304.97621247589899,{"$f":"VLOOKUP(A943,Begin:Einde,7,FALSE)","v":0},1,{"$f":"VLOOKUP(Jaar,Trendfactoren!$A$2:$D$43,(HLOOKUP(Emissieberekening!F943,Trendfactoren!$A$1:$C$2,2,FALSE)))","v":0.87},0]
["CEMT VIaM3leegbeide","CEMT VIa","M3","leeg","beide","Fijn Stof",5.5997905010079636,{"$f":"VLOOKUP(A944,Begin:Einde,7,FALSE)","v":0},1,{"$f":"VLOOKUP(Jaar,Trendfactoren!$A$2:$D$43,(HLOOKUP(Emissieberekening!F944,Trendfactoren!$A$1:$C$2,2,FALSE)))","v":0.76},0]
["CEMT VIaM3leegbeide","CEMT VIa","M3","leeg","beide","NOx",165.43607058514252,{"$f":"VLOOKUP(A945,Begin:Einde,7,FALSE)","v":0},1,{"$f":"VLOOKUP(Jaar,Trendfactoren!$A$2:$D$43,(HLOOKUP(Emissieberekening!F945,Trendfactoren!$A$1:$C$2,2,FALSE)))","v":0.87},0]
["CEMT VIaM4geladenbeide","CEMT VIa","M4","geladen","beide","Fijn Stof",12.198796470907661,{"$f":"VLOOKUP(A946,Begin:Einde,7,FALSE)","v":0},1,{"$f":"VLOOKUP(Jaar,Trendfactoren!$A$2:$D$43,(HLOOKUP(Emissieberekening!F946,Trendfactoren!$A$1:$C$2,2,FALSE)))","v":0.76},0]
["CEMT VIaM4geladenbeide","CEMT VIa","M4","geladen","beide","NOx",360.39222425403324,{"$f":"VLOOKUP(A947,Begin:Einde,7,FALSE)","v":0},1,{"$f":"VLOOKUP(Jaar,Trendfactoren!$A$2:$D$43,(HLOOKUP(Emissieberekening!F947,Trendfactoren!$A$1:$C$2,2,FALSE)))","v":0.87},0]
["CEMT VIaM4leegbeide","CEMT VIa","M4","leeg","beide","Fijn Stof",7.0677657529510203,{"$f":"VLOOKUP(A948,Begin:Einde,7,FALSE)","v":0},1,{"$f":"VLOOKUP(Jaar,Trendfactoren!$A$2:$D$43,(HLOOKUP(Emissieberekening!F948,Trendfactoren!$A$1:$C$2,2,FALSE)))","v":0.76},0]
["CEMT VIaM4leegbeide","CEMT VIa","M4","leeg","beide","NOx",208.80484614093871,{"$f":"VLOOKUP(A949,Begin:Einde,7,FALSE)","v":0},1,{"$f":"VLOOKUP(Jaar,Trendfactoren!$A$2:$D$43,(HLOOKUP(Emissieberekening!F949,Trendfactoren!$A$1:$C$2,2,FALSE)))","v":0.87},0]
["CEMT VIaM5geladenbeide","CEMT VIa","M5","geladen","beide","Fijn Stof",12.904039283097633,{"$f":"VLOOKUP(A950,Begin:Einde,7,FALSE)","v":0},1,{"$f":"VLOOKUP(Jaar,Trendfactoren!$A$2:$D$43,(HLOOKUP(Emissieberekening!F950,Trendfactoren!$A$1:$C$2,2,FALSE)))","v":0.76},0]
["CEMT VIaM5geladenbeide","CEMT VIa","M5","geladen","beide","NOx",381.22739650487438,{"$f":"VLOOKUP(A951,Begin:Einde,7,FALSE)","v":0},1,{"$f":"VLOOKUP(Jaar,Trendfactoren!$A$2:$D$43,(HLOOKUP(Emissieberekening!F951,Trendfactoren!$A$1:$C$2,2,FALSE)))","v":0.87},0]
["CEMT VIaM5leegbeide","CEMT VIa","M5","leeg","beide","Fijn Stof",7.2625693659450903,{"$f":"VLOOKUP(A952,Begin:Einde,7,FALSE)","v":0},1,{"$f":"VLOOKUP(Jaar,Trendfactoren!$A$2:$D$43,(HLOOKUP(Emissieberekening!F952,Trendfactoren!$A$1:$C$2,2,FALSE)))","v":0.76},0]
["CEMT VIaM5leegbeide","CEMT VIa","M5","leeg","beide","NOx",214.55998006313214,{"$f":"VLOOKUP(A953,Begin:Einde,7,FALSE)","v":0},1,{"$f":"VLOOKUP(Jaar,Trendfactoren!$A$2:$D$43,(HLOOKUP(Emissieberekening!F953,Trendfactoren!$A$1:$C$2,2,FALSE)))","v":0.87},0]
["CEMT VIaM6geladenbeide","CEMT VIa","M6","geladen","beide","Fijn Stof",14.816012515019501,{"$f":"VLOOKUP(A954,Begin:Einde,7,FALSE)","v":0},1,{"$f":"VLOOKUP(Jaar,Trendfactoren!$A$2:$D$43,(HLOOKUP(Emissieberekening!F954,Trendfactoren!$A$1:$C$2,2,FALSE)))","v":0.76},0]
["CEMT VIaM6geladenbeide","CEMT VIa","M6","geladen","beide","NOx",437.71332012937302,{"$f":"VLOOKUP(A955,Begin:Einde,7,FALSE)","v":0},1,{"$f":"VLOOKUP(Jaar,Trendfactoren!$A$2:$D$43,(HLOOKUP(Emissieberekening!F955,Trendfactoren!$A$1:$C$2,2,FALSE)))","v":0.87},0]
["CEMT VIaM6leegbeide","CEMT VIa","M6","leeg","beide","Fijn Stof",9.7691382296473801,{"$f":"VLOOKUP(A956,Begin:Einde,7,FALSE)","v":0},1,{"$f":"VLOOKUP(Jaar,Trendfactoren!$A$2:$D$43,(HLOOKUP(Emissieberekening!F956,Trendfactoren!$A$1:$C$2,2,FALSE)))","v":0.76},0]
["CEMT VIaM6leegbeide","CEMT VIa","M6","leeg","beide","NOx",288.61219744293066,{"$f":"VLOOKUP(A957,Begin:Einde,7,FALSE)","v":0},1,{"$f":"VLOOKUP(Jaar,Trendfactoren!$A$2:$D$43,(HLOOKUP(Emissieberekening!F957,Trendfactoren!$A$1:$C$2,2,FALSE)))","v":0.87},0]
["CEMT VIaM7geladenbeide","CEMT VIa","M7","geladen","beide","Fijn Stof",15.190737363077119,{"$f":"VLOOKUP(A958,Begin:Einde,7,FALSE)","v":0},1,{"$f":"VLOOKUP(Jaar,Trendfactoren!$A$2:$D$43,(HLOOKUP(Emissieberekening!F958,Trendfactoren!$A$1:$C$2,2,FALSE)))","v":0.76},0]
["CEMT VIaM7geladenbeide","CEMT VIa","M7","geladen","beide","NOx",448.78391400285949,{"$f":"VLOOKUP(A959,Begin:Einde,7,FALSE)","v":0},1,{"$f":"VLOOKUP(Jaar,Trendfactoren!$A$2:$D$43,(HLOOKUP(Emissieberekening!F959,Trendfactoren!$A$1:$C$2,2,FALSE)))","v":0.87},0]
[{"$f":"+B960&C960&D960&E960","v":"CEMT VIaM7leegbeide"},"CEMT VIa","M7","leeg","beide","Fijn Stof",11.832820784392785,{"$f":"VLOOKUP(A960,Begin:Einde,7,FALSE)","v":0},{"$f":"+Afstand","v":1},{"$f":"VLOOKUP(Jaar,Trendfactoren!$A$2:$D$43,(HLOOKUP(Emissieberekening!F960,Trendfactoren!$A$1:$C$2,2,FALSE)))","v":0.76},{"$f":"+G960*H960*I960*J960","v":0}]
["CEMT VIaM7leegbeide","CEMT VIa","M7","leeg","beide","NOx",349.58010914082985,{"$f":"VLOOKUP(A961,Begin:Einde,7,FALSE)","v":0},1,{"$f":"VLOOKUP(Jaar,Trendfactoren!$A$2:$D$43,(HLOOKUP(Emissieberekening!F961,Trendfactoren!$A$1:$C$2,2,FALSE)))","v":0.87},0]
["CEMT VIaM8geladenbeide","CEMT VIa","M8","geladen","beide","Fijn Stof",20.545902241137359,{"$f":"VLOOKUP(A962,Begin:Einde,7,FALSE)","v":0},1,{"$f":"VLOOKUP(Jaar,Trendfactoren!$A$2:$D$43,(HLOOKUP(Emissieberekening!F962,Trendfactoren!$A$1:$C$2,2,FALSE)))","v":0.76},0]
["CEMT VIaM8geladenbeide","CEMT VIa","M8","geladen","beide","NOx",606.99294603760814,{"$f":"VLOOKUP(A963,Begin:Einde,7,FALSE)","v":0},1,{"$f":"VLOOKUP(Jaar,Trendfactoren!$A$2:$D$43,(HLOOKUP(Emissieberekening!F963,Trendfactoren!$A$1:$C$2,2,FALSE)))","v":0.87},0]
["CEMT VIaM8leegbeide","CEMT VIa","M8","leeg","beide","Fijn Stof",13.468783466506986,{"$f":"VLOOKUP(A964,Begin:Einde,7,FALSE)","v":0},1,{"$f":"VLOOKUP(Jaar,Trendfactoren!$A$2:$D$43,(HLOOKUP(Emissieberekening!F964,Trendfactoren!$A$1:$C$2,2,FALSE)))","v":0.76},0]
["CEMT VIaM8leegbeide","CEMT VIa","M8","leeg","beide","NOx",397.91178113894966,{"$f":"VLOOKUP(A965,Begin:Einde,7,FALSE)","v":0},1,{"$f":"VLOOKUP(Jaar,Trendfactoren!$A$2:$D$43,(HLOOKUP(Emissieberekening!F965,Trendfactoren!$A$1:$C$2,2,FALSE)))","v":0.87},0]
["CEMT VIaM9geladenbeide","CEMT VIa","M9","geladen","beide","Fijn Stof",20.445444394087712,{"$f":"VLOOKUP(A966,Begin:Einde,7,FALSE)","v":0},1,{"$f":"VLOOKUP(Jaar,Trendfactoren!$A$2:$D$43,(HLOOKUP(Emissieberekening!F966,Trendfactoren!$A$1:$C$2,2,FALSE)))","v":0.76},0]
["CEMT VIaM9geladenbeide","CEMT VIa","M9","geladen","beide","NOx",604.02509367378389,{"$f":"VLOOKUP(A967,Begin:Einde,7,FALSE)","v":0},1,{"$f":"VLOOKUP(Jaar,Trendfactoren!$A$2:$D$43,(HLOOKUP(Emissieberekening!F967,Trendfactoren!$A$1:$C$2,2,FALSE)))","v":0.87},0]
["CEMT VIaM9leegbeide","CEMT VIa","M9","leeg","beide","Fijn Stof",21.54192830400013,{"$f":"VLOOKUP(A968,Begin:Einde,7,FALSE)","v":0},1,{"$f":"VLOOKUP(Jaar,Trendfactoren!$A$2:$D$43,(HLOOKUP(Emissieberekening!F968,Trendfactoren!$A$1:$C$2,2,FALSE)))","v":0.76},0]
["CEMT VIaM9leegbeide","CEMT VIa","M9","leeg","beide","NOx",636.41880366759369,{"$f":"VLOOKUP(A969,Begin:Einde,7,FALSE)","v":0},1,{"$f":"VLOOKUP(Jaar,Trendfactoren!$A$2:$D$43,(HLOOKUP(Emissieberekening!F969,Trendfactoren!$A$1:$C$2,2,FALSE)))","v":0.87},0]
["CEMT VIbBIgeladenbeide","CEMT VIb","BI","geladen","beide","Fijn Stof",20.792541429566615,{"$f":"VLOOKUP(A970,Begin:Einde,7,FALSE)","v":0},1,{"$f":"VLOOKUP(Jaar,Trendfactoren!$A$2:$D$43,(HLOOKUP(Emissieberekening!F970,Trendfactoren!$A$1:$C$2,2,FALSE)))","v":0.76},0]
["CEMT VIbBIgeladenbeide","CEMT VIb","BI","geladen","beide","NOx",614.27947187794098,{"$f":"VLOOKUP(A971,Begin:Einde,7,FALSE)","v":0},1,{"$f":"VLOOKUP(Jaar,Trendfactoren!$A$2:$D$43,(HLOOKUP(Emissieberekening!F971,Trendfactoren!$A$1:$C$2,2,FALSE)))","v":0.87},0]
["CEMT VIbBIleegbeide","CEMT VIb","BI","leeg","beide","Fijn Stof",7.627329299452021,{"$f":"VLOOKUP(A972,Begin:Einde,7,FALSE)","v":0},1,{"$f":"VLOOKUP(Jaar,Trendfactoren!$A$2:$D$43,(HLOOKUP(Emissieberekening!F972,Trendfactoren!$A$1:$C$2,2,FALSE)))","v":0.76},0]
["CEMT VIbBIleegbeide","CEMT VIb","BI","leeg","beide","NOx",225.33617786828623,{"$f":"VLOOKUP(A973,Begin:Einde,7,FALSE)","v":0},1,{"$f":"VLOOKUP(Jaar,Trendfactoren!$A$2:$D$43,(HLOOKUP(Emissieberekening!F973,Trendfactoren!$A$1:$C$2,2,FALSE)))","v":0.87},0]
["CEMT VIbBII-1geladenbeide","CEMT VIb","BII-1","geladen","beide","Fijn Stof",28.635942739972375,{"$f":"VLOOKUP(A974,Begin:Einde,7,FALSE)","v":0},1,{"$f":"VLOOKUP(Jaar,Trendfactoren!$A$2:$D$43,(HLOOKUP(Emissieberekening!F974,Trendfactoren!$A$1:$C$2,2,FALSE)))","v":0.76},0]
["CEMT VIbBII-1geladenbeide","CEMT VIb","BII-1","geladen","beide","NOx",845.99912149381885,{"$f":"VLOOKUP(A975,Begin:Einde,7,FALSE)","v":0},1,{"$f":"VLOOKUP(Jaar,Trendfactoren!$A$2:$D$43,(HLOOKUP(Emissieberekening!F975,Trendfactoren!$A$1:$C$2,2,FALSE)))","v":0.87},0]
["CEMT VIbBII-1leegbeide","CEMT VIb","BII-1","leeg","beide","Fijn Stof",12.126838105302745,{"$f":"VLOOKUP(A976,Begin:Einde,7,FALSE)","v":0},1,{"$f":"VLOOKUP(Jaar,Trendfactoren!$A$2:$D$43,(HLOOKUP(Emissieberekening!F976,Trendfactoren!$A$1:$C$2,2,FALSE)))","v":0.76},0]
["CEMT VIbBII-1leegbeide","CEMT VIb","BII-1","leeg","beide","NOx",358.26633950008335,{"$f":"VLOOKUP(A977,Begin:Einde,7,FALSE)","v":0},1,{"$f":"VLOOKUP(Jaar,Trendfactoren!$A$2:$D$43,(HLOOKUP(Emissieberekening!F977,Trendfactoren!$A$1:$C$2,2,FALSE)))","v":0.87},0]
["CEMT VIbBII-2Bgeladenbeide","CEMT VIb","BII-2B","geladen","beide","Fijn Stof",51.547490582181517,{"$f":"VLOOKUP(A978,Begin:Einde,7,FALSE)","v":0},1,{"$f":"VLOOKUP(Jaar,Trendfactoren!$A$2:$D$43,(HLOOKUP(Emissieberekening!F978,Trendfactoren!$A$1:$C$2,2,FALSE)))","v":0.76},0]
["CEMT VIbBII-2Bgeladenbeide","CEMT VIb","BII-2B","geladen","beide","NOx",1522.8809522259344,{"$f":"VLOOKUP(A979,Begin:Einde,7,FALSE)","v":0},1,{"$f":"VLOOKUP(Jaar,Trendfactoren!$A$2:$D$43,(HLOOKUP(Emissieberekening!F979,Trendfactoren!$A$1:$C$2,2,FALSE)))","v":0.87},0]
["CEMT VIbBII-2Bleegbeide","CEMT VIb","BII-2B","leeg","beide","Fijn Stof",25.291284410561694,{"$f":"VLOOKUP(A980,Begin:Einde,7,FALSE)","v":0},1,{"$f":"VLOOKUP(Jaar,Trendfactoren!$A$2:$D$43,(HLOOKUP(Emissieberekening!F980,Trendfactoren!$A$1:$C$2,2,FALSE)))","v":0.76},0]
["CEMT VIbBII-2Bleegbeide","CEMT VIb","BII-2B","leeg","beide","NOx",747.18700854638416,{"$f":"VLOOKUP(A981,Begin:Einde,7,FALSE)","v":0},1,{"$f":"VLOOKUP(Jaar,Trendfactoren!$A$2:$D$43,(HLOOKUP(Emissieberekening!F981,Trendfactoren!$A$1:$C$2,2,FALSE)))","v":0.87},0]
["CEMT VIbBII-2Lgeladenbeide","CEMT VIb","BII-2L","geladen","beide","Fijn Stof",34.592875478649468,{"$f":"VLOOKUP(A982,Begin:Einde,7,FALSE)","v":0},1,{"$f":"VLOOKUP(Jaar,Trendfactoren!$A$2:$D$43,(HLOOKUP(Emissieberekening!F982,Trendfactoren!$A$1:$C$2,2,FALSE)))","v":0.76},0]
["CEMT VIbBII-2Lgeladenbeide","CEMT VIb","BII-2L","geladen","beide","NOx",1021.9863383101163,{"$f":"VLOOKUP(A983,Begin:Einde,7,FALSE)","v":0},1,{"$f":"VLOOKUP(Jaar,Trendfactoren!$A$2:$D$43,(HLOOKUP(Emissieberekening!F983,Trendfactoren!$A$1:$C$2,2,FALSE)))","v":0.87},0]
["CEMT VIbBII-2Lleegbeide","CEMT VIb","BII-2L","leeg","beide","Fijn Stof",17.503182178989093,{"$f":"VLOOKUP(A984,Begin:Einde,7,FALSE)","v":0},1,{"$f":"VLOOKUP(Jaar,Trendfactoren!$A$2:$D$43,(HLOOKUP(Emissieberekening!F984,Trendfactoren!$A$1:$C$2,2,FALSE)))","v":0.76},0]
["CEMT VIbBII-2Lleegbeide","CEMT VIb","BII-2L","leeg","beide","NOx",517.10107403243558,{"$f":"VLOOKUP(A985,Begin:Einde,7,FALSE)","v":0},1,{"$f":"VLOOKUP(Jaar,Trendfactoren!$A$2:$D$43,(HLOOKUP(Emissieberekening!F985,Trendfactoren!$A$1:$C$2,2,FALSE)))","v":0.87},0]
["CEMT VIbBII-4geladenbeide","CEMT VIb","BII-4","geladen","beide","Fijn Stof",59.702011962962352,{"$f":"VLOOKUP(A986,Begin:Einde,7,FALSE)","v":0},1,{"$f":"VLOOKUP(Jaar,Trendfactoren!$A$2:$D$43,(HLOOKUP(Emissieberekening!F986,Trendfactoren!$A$1:$C$2,2,FALSE)))","v":0.76},0]
["CEMT VIbBII-4geladenbeide","CEMT VIb","BII-4","geladen","beide","NOx",1763.792103187043,{"$f":"VLOOKUP(A987,Begin:Einde,7,FALSE)","v":0},1,{"$f":"VLOOKUP(Jaar,Trendfactoren!$A$2:$D$43,(HLOOKUP(Emissieberekening!F987,Trendfactoren!$A$1:$C$2,2,FALSE)))","v":0.87},0]
["CEMT VIbBII-4leegbeide","CEMT VIb","BII-4","leeg","beide","Fijn Stof",31.958013482326333,{"$f":"VLOOKUP(A988,Begin:Einde,7,FALSE)","v":0},1,{"$f":"VLOOKUP(Jaar,Trendfactoren!$A$2:$D$43,(HLOOKUP(Emissieberekening!F988,Trendfactoren!$A$1:$C$2,2,FALSE)))","v":0.76},0]
["CEMT VIbBII-4leegbeide","CEMT VIb","BII-4","leeg","beide","NOx",944.14392346846046,{"$f":"VLOOKUP(A989,Begin:Einde,7,FALSE)","v":0},1,{"$f":"VLOOKUP(Jaar,Trendfactoren!$A$2:$D$43,(HLOOKUP(Emissieberekening!F989,Trendfactoren!$A$1:$C$2,2,FALSE)))","v":0.87},0]
["CEMT VIbBII-6Bgeladenbeide","CEMT VIb","BII-6B","geladen","beide","Fijn Stof",58.540323118603908,{"$f":"VLOOKUP(A990,Begin:Einde,7,FALSE)","v":0},1,{"$f":"VLOOKUP(Jaar,Trendfactoren!$A$2:$D$43,(HLOOKUP(Emissieberekening!F990,Trendfactoren!$A$1:$C$2,2,FALSE)))","v":0.76},0]
["CEMT VIbBII-6Bgeladenbeide","CEMT VIb","BII-6B","geladen","beide","NOx",1729.4720268165672,{"$f":"VLOOKUP(A991,Begin:Einde,7,FALSE)","v":0},1,{"$f":"VLOOKUP(Jaar,Trendfactoren!$A$2:$D$43,(HLOOKUP(Emissieberekening!F991,Trendfactoren!$A$1:$C$2,2,FALSE)))","v":0.87},0]
["CEMT VIbBII-6Bleegbeide","CEMT VIb","BII-6B","leeg","beide","Fijn Stof",47.074944978549063,{"$f":"VLOOKUP(A992,Begin:Einde,7,FALSE)","v":0},1,{"$f":"VLOOKUP(Jaar,Trendfactoren!$A$2:$D$43,(HLOOKUP(Emissieberekening!F992,Trendfactoren!$A$1:$C$2,2,FALSE)))","v":0.76},0]
["CEMT VIbBII-6Bleegbeide","CEMT VIb","BII-6B","leeg","beide","NOx",1390.7473715063304,{"$f":"VLOOKUP(A993,Begin:Einde,7,FALSE)","v":0},1,{"$f":"VLOOKUP(Jaar,Trendfactoren!$A$2:$D$43,(HLOOKUP(Emissieberekening!F993,Trendfactoren!$A$1:$C$2,2,FALSE)))","v":0.87},0]
["CEMT VIbBII-6Lgeladenbeide","CEMT VIb","BII-6L","geladen","beide","Fijn Stof",58.351820260047347,{"$f":"VLOOKUP(A994,Begin:Einde,7,FALSE)","v":0},1,{"$f":"VLOOKUP(Jaar,Trendfactoren!$A$2:$D$43,(HLOOKUP(Emissieberekening!F994,Trendfactoren!$A$1:$C$2,2,FALSE)))","v":0.76},0]
["CEMT VIbBII-6Lgeladenbeide","CEMT VIb","BII-6L","geladen","beide","NOx",1723.9030377252702,{"$f":"VLOOKUP(A995,Begin:Einde,7,FALSE)","v":0},1,{"$f":"VLOOKUP(Jaar,Trendfactoren!$A$2:$D$43,(HLOOKUP(Emissieberekening!F995,Trendfactoren!$A$1:$C$2,2,FALSE)))","v":0.87},0]
["CEMT VIbBII-6Lleegbeide","CEMT VIb","BII-6L","leeg","beide","Fijn Stof",37.068098843643313,{"$f":"VLOOKUP(A996,Begin:Einde,7,FALSE)","v":0},1,{"$f":"VLOOKUP(Jaar,Trendfactoren!$A$2:$D$43,(HLOOKUP(Emissieberekening!F996,Trendfactoren!$A$1:$C$2,2,FALSE)))","v":0.76},0]
["CEMT VIbBII-6Lleegbeide","CEMT VIb","BII-6L","leeg","beide","NOx",1095.1125074500874,{"$f":"VLOOKUP(A997,Begin:Einde,7,FALSE)","v":0},1,{"$f":"VLOOKUP(Jaar,Trendfactoren!$A$2:$D$43,(HLOOKUP(Emissieberekening!F997,Trendfactoren!$A$1:$C$2,2,FALSE)))","v":0.87},0]
["CEMT VIbBO1geladenbeide","CEMT VIb","BO1","geladen","beide","Fijn Stof",8.2556091110322161,{"$f":"VLOOKUP(A998,Begin:Einde,7,FALSE)","v":0},1,{"$f":"VLOOKUP(Jaar,Trendfactoren!$A$2:$D$43,(HLOOKUP(Emissieberekening!F998,Trendfactoren!$A$1:$C$2,2,FALSE)))","v":0.76},0]
["CEMT VIbBO1geladenbeide","CEMT VIb","BO1","geladen","beide","NOx",243.89761212856646,{"$f":"VLOOKUP(A999,Begin:Einde,7,FALSE)","v":0},1,{"$f":"VLOOKUP(Jaar,Trendfactoren!$A$2:$D$43,(HLOOKUP(Emissieberekening!F999,Trendfactoren!$A$1:$C$2,2,FALSE)))","v":0.87},0]
["CEMT VIbBO1leegbeide","CEMT VIb","BO1","leeg","beide","Fijn Stof",2.9159812147061825,{"$f":"VLOOKUP(A1000,Begin:Einde,7,FALSE)","v":0},1,{"$f":"VLOOKUP(Jaar,Trendfactoren!$A$2:$D$43,(HLOOKUP(Emissieberekening!F1000,Trendfactoren!$A$1:$C$2,2,FALSE)))","v":0.76},0]
["CEMT VIbBO1leegbeide","CEMT VIb","BO1","leeg","beide","NOx",86.147593195539713,{"$f":"VLOOKUP(A1001,Begin:Einde,7,FALSE)","v":0},1,{"$f":"VLOOKUP(Jaar,Trendfactoren!$A$2:$D$43,(HLOOKUP(Emissieberekening!F1001,Trendfactoren!$A$1:$C$2,2,FALSE)))","v":0.87},0]
["CEMT VIbBO2geladenbeide","CEMT VIb","BO2","geladen","beide","Fijn Stof",9.1109523265796017,{"$f":"VLOOKUP(A1002,Begin:Einde,7,FALSE)","v":0},1,{"$f":"VLOOKUP(Jaar,Trendfactoren!$A$2:$D$43,(HLOOKUP(Emissieberekening!F1002,Trendfactoren!$A$1:$C$2,2,FALSE)))","v":0.76},0]
["CEMT VIbBO2geladenbeide","CEMT VIb","BO2","geladen","beide","NOx",269.16723972558987,{"$f":"VLOOKUP(A1003,Begin:Einde,7,FALSE)","v":0},1,{"$f":"VLOOKUP(Jaar,Trendfactoren!$A$2:$D$43,(HLOOKUP(Emissieberekening!F1003,Trendfactoren!$A$1:$C$2,2,FALSE)))","v":0.87},0]
["CEMT VIbBO2leegbeide","CEMT VIb","BO2","leeg","beide","Fijn Stof",4.2040148422271617,{"$f":"VLOOKUP(A1004,Begin:Einde,7,FALSE)","v":0},1,{"$f":"VLOOKUP(Jaar,Trendfactoren!$A$2:$D$43,(HLOOKUP(Emissieberekening!F1004,Trendfactoren!$A$1:$C$2,2,FALSE)))","v":0.76},0]
["CEMT VIbBO2leegbeide","CEMT VIb","BO2","leeg","beide","NOx",124.20030643190847,{"$f":"VLOOKUP(A1005,Begin:Einde,7,FALSE)","v":0},1,{"$f":"VLOOKUP(Jaar,Trendfactoren!$A$2:$D$43,(HLOOKUP(Emissieberekening!F1005,Trendfactoren!$A$1:$C$2,2,FALSE)))","v":0.87},0]
["CEMT VIbBO3geladenbeide","CEMT VIb","BO3","geladen","beide","Fijn Stof",13.023513670312981,{"$f":"VLOOKUP(A1006,Begin:Einde,7,FALSE)","v":0},1,{"$f":"VLOOKUP(Jaar,Trendfactoren!$A$2:$D$43,(HLOOKUP(Emissieberekening!F1006,Trendfactoren!$A$1:$C$2,2,FALSE)))","v":0.76},0]
["CEMT VIbBO3geladenbeide","CEMT VIb","BO3","geladen","beide","NOx",384.75705947225077,{"$f":"VLOOKUP(A1007,Begin:Einde,7,FALSE)","v":0},1,{"$f":"VLOOKUP(Jaar,Trendfactoren!$A$2:$D$43,(HLOOKUP(Emissieberekening!F1007,Trendfactoren!$A$1:$C$2,2,FALSE)))","v":0.87},0]
["CEMT VIbBO3leegbeide","CEMT VIb","BO3","leeg","beide","Fijn Stof",5.1487850088006173,{"$f":"VLOOKUP(A1008,Begin:Einde,7,FALSE)","v":0},1,{"$f":"VLOOKUP(Jaar,Trendfactoren!$A$2:$D$43,(HLOOKUP(Emissieberekening!F1008,Trendfactoren!$A$1:$C$2,2,FALSE)))","v":0.76},0]
["CEMT VIbBO3leegbeide","CEMT VIb","BO3","leeg","beide","NOx",152.11189775587835,{"$f":"VLOOKUP(A1009,Begin:Einde,7,FALSE)","v":0},1,{"$f":"VLOOKUP(Jaar,Trendfactoren!$A$2:$D$43,(HLOOKUP(Emissieberekening!F1009,Trendfactoren!$A$1:$C$2,2,FALSE)))","v":0.87},0]
["CEMT VIbBO4geladenbeide","CEMT VIb","BO4","geladen","beide","Fijn Stof",15.41368138382936,{"$f":"VLOOKUP(A1010,Begin:Einde,7,FALSE)","v":0},1,{"$f":"VLOOKUP(Jaar,Trendfactoren!$A$2:$D$43,(HLOOKUP(Emissieberekening!F1010,Trendfactoren!$A$1:$C$2,2,FALSE)))","v":0.76},{"$f":"+G1010*H1010*I1010*J1010","v":0}]
["CEMT VIbBO4geladenbeide","CEMT VIb","BO4","geladen","beide","NOx",455.37040732739797,{"$f":"VLOOKUP(A1011,Begin:Einde,7,FALSE)","v":0},1,{"$f":"VLOOKUP(Jaar,Trendfactoren!$A$2:$D$43,(HLOOKUP(Emissieberekening!F1011,Trendfactoren!$A$1:$C$2,2,FALSE)))","v":0.87},0]
["CEMT VIbBO4leegbeide","CEMT VIb","BO4","leeg","beide","Fijn Stof",6.0324848485714053,{"$f":"VLOOKUP(A1012,Begin:Einde,7,FALSE)","v":0},1,{"$f":"VLOOKUP(Jaar,Trendfactoren!$A$2:$D$43,(HLOOKUP(Emissieberekening!F1012,Trendfactoren!$A$1:$C$2,2,FALSE)))","v":0.76},0]
["CEMT VIbBO4leegbeide","CEMT VIb","BO4","leeg","beide","NOx",178.21927249464477,{"$f":"VLOOKUP(A1013,Begin:Einde,7,FALSE)","v":0},1,{"$f":"VLOOKUP(Jaar,Trendfactoren!$A$2:$D$43,(HLOOKUP(Emissieberekening!F1013,Trendfactoren!$A$1:$C$2,2,FALSE)))","v":0.87},0]
["CEMT VIbC1bgeladenbeide","CEMT VIb","C1b","geladen","beide","Fijn Stof",6.3484527831504813,{"$f":"VLOOKUP(A1014,Begin:Einde,7,FALSE)","v":0},1,{"$f":"VLOOKUP(Jaar,Trendfactoren!$A$2:$D$43,(HLOOKUP(Emissieberekening!F1014,Trendfactoren!$A$1:$C$2,2,FALSE)))","v":0.76},0]
["CEMT VIbC1bgeladenbeide","CEMT VIb","C1b","geladen","beide","NOx",187.55399555584799,{"$f":"VLOOKUP(A1015,Begin:Einde,7,FALSE)","v":0},1,{"$f":"VLOOKUP(Jaar,Trendfactoren!$A$2:$D$43,(HLOOKUP(Emissieberekening!F1015,Trendfactoren!$A$1:$C$2,2,FALSE)))","v":0.87},0]
["CEMT VIbC1bleegbeide","CEMT VIb","C1b","leeg","beide","Fijn Stof",3.5949572801840444,{"$f":"VLOOKUP(A1016,Begin:Einde,7,FALSE)","v":0},1,{"$f":"VLOOKUP(Jaar,Trendfactoren!$A$2:$D$43,(HLOOKUP(Emissieberekening!F1016,Trendfactoren!$A$1:$C$2,2,FALSE)))","v":0.76},0]
["CEMT VIbC1bleegbeide","CEMT VIb","C1b","leeg","beide","NOx",106.20676010076572,{"$f":"VLOOKUP(A1017,Begin:Einde,7,FALSE)","v":0},1,{"$f":"VLOOKUP(Jaar,Trendfactoren!$A$2:$D$43,(HLOOKUP(Emissieberekening!F1017,Trendfactoren!$A$1:$C$2,2,FALSE)))","v":0.87},0]
["CEMT VIbC1lgeladenbeide","CEMT VIb","C1l","geladen","beide","Fijn Stof",4.7187081691578845,{"$f":"VLOOKUP(A1018,Begin:Einde,7,FALSE)","v":0},1,{"$f":"VLOOKUP(Jaar,Trendfactoren!$A$2:$D$43,(HLOOKUP(Emissieberekening!F1018,Trendfactoren!$A$1:$C$2,2,FALSE)))","v":0.76},0]
["CEMT VIbC1lgeladenbeide","CEMT VIb","C1l","geladen","beide","NOx",139.40602556523785,{"$f":"VLOOKUP(A1019,Begin:Einde,7,FALSE)","v":0},1,{"$f":"VLOOKUP(Jaar,Trendfactoren!$A$2:$D$43,(HLOOKUP(Emissieberekening!F1019,Trendfactoren!$A$1:$C$2,2,FALSE)))","v":0.87},0]
["CEMT VIbC1lleegbeide","CEMT VIb","C1l","leeg","beide","Fijn Stof",3.6910776205533731,{"$f":"VLOOKUP(A1020,Begin:Einde,7,FALSE)","v":0},1,{"$f":"VLOOKUP(Jaar,Trendfactoren!$A$2:$D$43,(HLOOKUP(Emissieberekening!F1020,Trendfactoren!$A$1:$C$2,2,FALSE)))","v":0.76},0]
["CEMT VIbC1lleegbeide","CEMT VIb","C1l","leeg","beide","NOx",109.04646837398518,{"$f":"VLOOKUP(A1021,Begin:Einde,7,FALSE)","v":0},1,{"$f":"VLOOKUP(Jaar,Trendfactoren!$A$2:$D$43,(HLOOKUP(Emissieberekening!F1021,Trendfactoren!$A$1:$C$2,2,FALSE)))","v":0.87},0]
["CEMT VIbC2bgeladenbeide","CEMT VIb","C2b","geladen","beide","Fijn Stof",14.135635007693249,{"$f":"VLOOKUP(A1022,Begin:Einde,7,FALSE)","v":0},1,{"$f":"VLOOKUP(Jaar,Trendfactoren!$A$2:$D$43,(HLOOKUP(Emissieberekening!F1022,Trendfactoren!$A$1:$C$2,2,FALSE)))","v":0.76},0]
["CEMT VIbC2bgeladenbeide","CEMT VIb","C2b","geladen","beide","NOx",417.61275006227709,{"$f":"VLOOKUP(A1023,Begin:Einde,7,FALSE)","v":0},1,{"$f":"VLOOKUP(Jaar,Trendfactoren!$A$2:$D$43,(HLOOKUP(Emissieberekening!F1023,Trendfactoren!$A$1:$C$2,2,FALSE)))","v":0.87},0]
[{"$f":"+B1024&C1024&D1024&E1024","v":"CEMT VIbC2bleegbeide"},"CEMT VIb","C2b","leeg","beide","Fijn Stof",12.275313537101924,{"$f":"VLOOKUP(A1024,Begin:Einde,7,FALSE)","v":0},{"$f":"+Afstand","v":1},{"$f":"VLOOKUP(Jaar,Trendfactoren!$A$2:$D$43,(HLOOKUP(Emissieberekening!F1024,Trendfactoren!$A$1:$C$2,2,FALSE)))","v":0.76},0]
["CEMT VIbC2bleegbeide","CEMT VIb","C2b","leeg","beide","NOx",362.6527878879055,{"$f":"VLOOKUP(A1025,Begin:Einde,7,FALSE)","v":0},1,{"$f":"VLOOKUP(Jaar,Trendfactoren!$A$2:$D$43,(HLOOKUP(Emissieberekening!F1025,Trendfactoren!$A$1:$C$2,2,FALSE)))","v":0.87},0]
["CEMT VIbC2lgeladenbeide","CEMT VIb","C2l","geladen","beide","Fijn Stof",16.139910249755786,{"$f":"VLOOKUP(A1026,Begin:Einde,7,FALSE)","v":0},1,{"$f":"VLOOKUP(Jaar,Trendfactoren!$A$2:$D$43,(HLOOKUP(Emissieberekening!F1026,Trendfactoren!$A$1:$C$2,2,FALSE)))","v":0.76},0]
["CEMT VIbC2lgeladenbeide","CEMT VIb","C2l","geladen","beide","NOx",476.82557603464642,{"$f":"VLOOKUP(A1027,Begin:Einde,7,FALSE)","v":0},1,{"$f":"VLOOKUP(Jaar,Trendfactoren!$A$2:$D$43,(HLOOKUP(Emissieberekening!F1027,Trendfactoren!$A$1:$C$2,2,FALSE)))","v":0.87},0]
["CEMT VIbC2lleegbeide","CEMT VIb","C2l","leeg","beide","Fijn Stof",11.678068157180817,{"$f":"VLOOKUP(A1028,Begin:Einde,7,FALSE)","v":0},1,{"$f":"VLOOKUP(Jaar,Trendfactoren!$A$2:$D$43,(HLOOKUP(Emissieberekening!F1028,Trendfactoren!$A$1:$C$2,2,FALSE)))","v":0.76},0]
["CEMT VIbC2lleegbeide","CEMT VIb","C2l","leeg","beide","NOx",345.00821193252057,{"$f":"VLOOKUP(A1029,Begin:Einde,7,FALSE)","v":0},1,{"$f":"VLOOKUP(Jaar,Trendfactoren!$A$2:$D$43,(HLOOKUP(Emissieberekening!F1029,Trendfactoren!$A$1:$C$2,2,FALSE)))","v":0.87},0]
["CEMT VIbC3bgeladenbeide","CEMT VIb","C3b","geladen","beide","Fijn Stof",23.980956524588411,{"$f":"VLOOKUP(A1030,Begin:Einde,7,FALSE)","v":0},1,{"$f":"VLOOKUP(Jaar,Trendfactoren!$A$2:$D$43,(HLOOKUP(Emissieberekening!F1030,Trendfactoren!$A$1:$C$2,2,FALSE)))","v":0.76},0]
["CEMT VIbC3bgeladenbeide","CEMT VIb","C3b","geladen","beide","NOx",708.47565022065112,{"$f":"VLOOKUP(A1031,Begin:Einde,7,FALSE)","v":0},1,{"$f":"VLOOKUP(Jaar,Trendfactoren!$A$2:$D$43,(HLOOKUP(Emissieberekening!F1031,Trendfactoren!$A$1:$C$2,2,FALSE)))","v":0.87},0]
["CEMT VIbC3bleegbeide","CEMT VIb","C3b","leeg","beide","Fijn Stof",18.502696227113141,{"$f":"VLOOKUP(A1032,Begin:Einde,7,FALSE)","v":0},1,{"$f":"VLOOKUP(Jaar,Trendfactoren!$A$2:$D$43,(HLOOKUP(Emissieberekening!F1032,Trendfactoren!$A$1:$C$2,2,FALSE)))","v":0.76},0]
["CEMT VIbC3bleegbeide","CEMT VIb","C3b","leeg","beide","NOx",546.62997812028073,{"$f":"VLOOKUP(A1033,Begin:Einde,7,FALSE)","v":0},1,{"$f":"VLOOKUP(Jaar,Trendfactoren!$A$2:$D$43,(HLOOKUP(Emissieberekening!F1033,Trendfactoren!$A$1:$C$2,2,FALSE)))","v":0.87},0]
["CEMT VIbC3lgeladenbeide","CEMT VIb","C3l","geladen","beide","Fijn Stof",23.370969221032158,{"$f":"VLOOKUP(A1034,Begin:Einde,7,FALSE)","v":0},1,{"$f":"VLOOKUP(Jaar,Trendfactoren!$A$2:$D$43,(HLOOKUP(Emissieberekening!F1034,Trendfactoren!$A$1:$C$2,2,FALSE)))","v":0.76},0]
["CEMT VIbC3lgeladenbeide","CEMT VIb","C3l","geladen","beide","NOx",690.45463629361063,{"$f":"VLOOKUP(A1035,Begin:Einde,7,FALSE)","v":0},1,{"$f":"VLOOKUP(Jaar,Trendfactoren!$A$2:$D$43,(HLOOKUP(Emissieberekening!F1035,Trendfactoren!$A$1:$C$2,2,FALSE)))","v":0.87},0]
["CEMT VIbC3lleegbeide","CEMT VIb","C3l","leeg","beide","Fijn Stof",16.967145198991393,{"$f":"VLOOKUP(A1036,Begin:Einde,7,FALSE)","v":0},1,{"$f":"VLOOKUP(Jaar,Trendfactoren!$A$2:$D$43,(HLOOKUP(Emissieberekening!F1036,Trendfactoren!$A$1:$C$2,2,FALSE)))","v":0.76},0]
["CEMT VIbC3lleegbeide","CEMT VIb","C3l","leeg","beide","NOx",501.26479379245444,{"$f":"VLOOKUP(A1037,Begin:Einde,7,FALSE)","v":0},1,{"$f":"VLOOKUP(Jaar,Trendfactoren!$A$2:$D$43,(HLOOKUP(Emissieberekening!F1037,Trendfactoren!$A$1:$C$2,2,FALSE)))","v":0.87},0]
["CEMT VIbC4geladenbeide","CEMT VIb","C4","geladen","beide","Fijn Stof",40.741045611818414,{"$f":"VLOOKUP(A1038,Begin:Einde,7,FALSE)","v":0},1,{"$f":"VLOOKUP(Jaar,Trendfactoren!$A$2:$D$43,(HLOOKUP(Emissieberekening!F1038,Trendfactoren!$A$1:$C$2,2,FALSE)))","v":0.76},0]
["CEMT VIbC4geladenbeide","CEMT VIb","C4","geladen","beide","NOx",1203.6233313257153,{"$f":"VLOOKUP(A1039,Begin:Einde,7,FALSE)","v":0},1,{"$f":"VLOOKUP(Jaar,Trendfactoren!$A$2:$D$43,(HLOOKUP(Emissieberekening!F1039,Trendfactoren!$A$1:$C$2,2,FALSE)))","v":0.87},0]
["CEMT VIbC4leegbeide","CEMT VIb","C4","leeg","beide","Fijn Stof",27.86666140789217,{"$f":"VLOOKUP(A1040,Begin:Einde,7,FALSE)","v":0},1,{"$f":"VLOOKUP(Jaar,Trendfactoren!$A$2:$D$43,(HLOOKUP(Emissieberekening!F1040,Trendfactoren!$A$1:$C$2,2,FALSE)))","v":0.76},0]
["CEMT VIbC4leegbeide","CEMT VIb","C4","leeg","beide","NOx",823.27204255560764,{"$f":"VLOOKUP(A1041,Begin:Einde,7,FALSE)","v":0},1,{"$f":"VLOOKUP(Jaar,Trendfactoren!$A$2:$D$43,(HLOOKUP(Emissieberekening!F1041,Trendfactoren!$A$1:$C$2,2,FALSE)))","v":0.87},0]
["CEMT VIbM0geladenbeide","CEMT VIb","M0","geladen","beide","Fijn Stof",1.9059835742983191,{"$f":"VLOOKUP(A1042,Begin:Einde,7,FALSE)","v":0},1,{"$f":"VLOOKUP(Jaar,Trendfactoren!$A$2:$D$43,(HLOOKUP(Emissieberekening!F1042,Trendfactoren!$A$1:$C$2,2,FALSE)))","v":0.76},0]
["CEMT VIbM0geladenbeide","CEMT VIb","M0","geladen","beide","NOx",56.308969607877572,{"$f":"VLOOKUP(A1043,Begin:Einde,7,FALSE)","v":0},1,{"$f":"VLOOKUP(Jaar,Trendfactoren!$A$2:$D$43,(HLOOKUP(Emissieberekening!F1043,Trendfactoren!$A$1:$C$2,2,FALSE)))","v":0.87},0]
["CEMT VIbM0leegbeide","CEMT VIb","M0","leeg","beide","Fijn Stof",1.1593836183845956,{"$f":"VLOOKUP(A1044,Begin:Einde,7,FALSE)","v":0},1,{"$f":"VLOOKUP(Jaar,Trendfactoren!$A$2:$D$43,(HLOOKUP(Emissieberekening!F1044,Trendfactoren!$A$1:$C$2,2,FALSE)))","v":0.76},0]
["CEMT VIbM0leegbeide","CEMT VIb","M0","leeg","beide","NOx",34.251972478578814,{"$f":"VLOOKUP(A1045,Begin:Einde,7,FALSE)","v":0},1,{"$f":"VLOOKUP(Jaar,Trendfactoren!$A$2:$D$43,(HLOOKUP(Emissieberekening!F1045,Trendfactoren!$A$1:$C$2,2,FALSE)))","v":0.87},0]
["CEMT VIbM1geladenbeide","CEMT VIb","M1","geladen","beide","Fijn Stof",3.3287254672727569,{"$f":"VLOOKUP(A1046,Begin:Einde,7,FALSE)","v":0},1,{"$f":"VLOOKUP(Jaar,Trendfactoren!$A$2:$D$43,(HLOOKUP(Emissieberekening!F1046,Trendfactoren!$A$1:$C$2,2,FALSE)))","v":0.76},0]
["CEMT VIbM1geladenbeide","CEMT VIb","M1","geladen","beide","NOx",98.341404247743341,{"$f":"VLOOKUP(A1047,Begin:Einde,7,FALSE)","v":0},1,{"$f":"VLOOKUP(Jaar,Trendfactoren!$A$2:$D$43,(HLOOKUP(Emissieberekening!F1047,Trendfactoren!$A$1:$C$2,2,FALSE)))","v":0.87},0]
["CEMT VIbM1leegbeide","CEMT VIb","M1","leeg","beide","Fijn Stof",2.0578089290070851,{"$f":"VLOOKUP(A1048,Begin:Einde,7,FALSE)","v":0},1,{"$f":"VLOOKUP(Jaar,Trendfactoren!$A$2:$D$43,(HLOOKUP(Emissieberekening!F1048,Trendfactoren!$A$1:$C$2,2,FALSE)))","v":0.76},0]
["CEMT VIbM1leegbeide","CEMT VIb","M1","leeg","beide","NOx",60.794385641511781,{"$f":"VLOOKUP(A1049,Begin:Einde,7,FALSE)","v":0},1,{"$f":"VLOOKUP(Jaar,Trendfactoren!$A$2:$D$43,(HLOOKUP(Emissieberekening!F1049,Trendfactoren!$A$1:$C$2,2,FALSE)))","v":0.87},0]
["CEMT VIbM10geladenbeide","CEMT VIb","M10","geladen","beide","Fijn Stof",26.329234474039865,{"$f":"VLOOKUP(A1050,Begin:Einde,7,FALSE)","v":0},1,{"$f":"VLOOKUP(Jaar,Trendfactoren!$A$2:$D$43,(HLOOKUP(Emissieberekening!F1050,Trendfactoren!$A$1:$C$2,2,FALSE)))","v":0.76},0]
["CEMT VIbM10geladenbeide","CEMT VIb","M10","geladen","beide","NOx",777.8514378557519,{"$f":"VLOOKUP(A1051,Begin:Einde,7,FALSE)","v":0},1,{"$f":"VLOOKUP(Jaar,Trendfactoren!$A$2:$D$43,(HLOOKUP(Emissieberekening!F1051,Trendfactoren!$A$1:$C$2,2,FALSE)))","v":0.87},0]
["CEMT VIbM10leegbeide","CEMT VIb","M10","leeg","beide","Fijn Stof",17.592000113453807,{"$f":"VLOOKUP(A1052,Begin:Einde,7,FALSE)","v":0},1,{"$f":"VLOOKUP(Jaar,Trendfactoren!$A$2:$D$43,(HLOOKUP(Emissieberekening!F1052,Trendfactoren!$A$1:$C$2,2,FALSE)))","v":0.76},0]
["CEMT VIbM10leegbeide","CEMT VIb","M10","leeg","beide","NOx",519.7250454243449,{"$f":"VLOOKUP(A1053,Begin:Einde,7,FALSE)","v":0},1,{"$f":"VLOOKUP(Jaar,Trendfactoren!$A$2:$D$43,(HLOOKUP(Emissieberekening!F1053,Trendfactoren!$A$1:$C$2,2,FALSE)))","v":0.87},0]
["CEMT VIbM11geladenbeide","CEMT VIb","M11","geladen","beide","Fijn Stof",33.945783437494441,{"$f":"VLOOKUP(A1054,Begin:Einde,7,FALSE)","v":0},1,{"$f":"VLOOKUP(Jaar,Trendfactoren!$A$2:$D$43,(HLOOKUP(Emissieberekening!F1054,Trendfactoren!$A$1:$C$2,2,FALSE)))","v":0.76},0]
["CEMT VIbM11geladenbeide","CEMT VIb","M11","geladen","beide","NOx",1002.8691294473313,{"$f":"VLOOKUP(A1055,Begin:Einde,7,FALSE)","v":0},1,{"$f":"VLOOKUP(Jaar,Trendfactoren!$A$2:$D$43,(HLOOKUP(Emissieberekening!F1055,Trendfactoren!$A$1:$C$2,2,FALSE)))","v":0.87},0]
["CEMT VIbM11leegbeide","CEMT VIb","M11","leeg","beide","Fijn Stof",19.157826606830348,{"$f":"VLOOKUP(A1056,Begin:Einde,7,FALSE)","v":0},1,{"$f":"VLOOKUP(Jaar,Trendfactoren!$A$2:$D$43,(HLOOKUP(Emissieberekening!F1056,Trendfactoren!$A$1:$C$2,2,FALSE)))","v":0.76},0]
["CEMT VIbM11leegbeide","CEMT VIb","M11","leeg","beide","NOx",565.98466571472886,{"$f":"VLOOKUP(A1057,Begin:Einde,7,FALSE)","v":0},1,{"$f":"VLOOKUP(Jaar,Trendfactoren!$A$2:$D$43,(HLOOKUP(Emissieberekening!F1057,Trendfactoren!$A$1:$C$2,2,FALSE)))","v":0.87},0]
["CEMT VIbM12geladenbeide","CEMT VIb","M12","geladen","beide","Fijn Stof",41.802206376323049,{"$f":"VLOOKUP(A1058,Begin:Einde,7,FALSE)","v":0},1,{"$f":"VLOOKUP(Jaar,Trendfactoren!$A$2:$D$43,(HLOOKUP(Emissieberekening!F1058,Trendfactoren!$A$1:$C$2,2,FALSE)))","v":0.76},0]
["CEMT VIbM12geladenbeide","CEMT VIb","M12","geladen","beide","NOx",1234.9734804263242,{"$f":"VLOOKUP(A1059,Begin:Einde,7,FALSE)","v":0},1,{"$f":"VLOOKUP(Jaar,Trendfactoren!$A$2:$D$43,(HLOOKUP(Emissieberekening!F1059,Trendfactoren!$A$1:$C$2,2,FALSE)))","v":0.87},0]
["CEMT VIbM12leegbeide","CEMT VIb","M12","leeg","beide","Fijn Stof",21.996350705769157,{"$f":"VLOOKUP(A1060,Begin:Einde,7,FALSE)","v":0},1,{"$f":"VLOOKUP(Jaar,Trendfactoren!$A$2:$D$43,(HLOOKUP(Emissieberekening!F1060,Trendfactoren!$A$1:$C$2,2,FALSE)))","v":0.76},0]
["CEMT VIbM12leegbeide","CEMT VIb","M12","leeg","beide","NOx",649.84392314679587,{"$f":"VLOOKUP(A1061,Begin:Einde,7,FALSE)","v":0},1,{"$f":"VLOOKUP(Jaar,Trendfactoren!$A$2:$D$43,(HLOOKUP(Emissieberekening!F1061,Trendfactoren!$A$1:$C$2,2,FALSE)))","v":0.87},0]
["CEMT VIbM2geladenbeide","CEMT VIb","M2","geladen","beide","Fijn Stof",5.6251906207798674,{"$f":"VLOOKUP(A1062,Begin:Einde,7,FALSE)","v":0},1,{"$f":"VLOOKUP(Jaar,Trendfactoren!$A$2:$D$43,(HLOOKUP(Emissieberekening!F1062,Trendfactoren!$A$1:$C$2,2,FALSE)))","v":0.76},0]
["CEMT VIbM2geladenbeide","CEMT VIb","M2","geladen","beide","NOx",166.18647294514145,{"$f":"VLOOKUP(A1063,Begin:Einde,7,FALSE)","v":0},1,{"$f":"VLOOKUP(Jaar,Trendfactoren!$A$2:$D$43,(HLOOKUP(Emissieberekening!F1063,Trendfactoren!$A$1:$C$2,2,FALSE)))","v":0.87},0]
["CEMT VIbM2leegbeide","CEMT VIb","M2","leeg","beide","Fijn Stof",3.5160357038887873,{"$f":"VLOOKUP(A1064,Begin:Einde,7,FALSE)","v":0},1,{"$f":"VLOOKUP(Jaar,Trendfactoren!$A$2:$D$43,(HLOOKUP(Emissieberekening!F1064,Trendfactoren!$A$1:$C$2,2,FALSE)))","v":0.76},0]
["CEMT VIbM2leegbeide","CEMT VIb","M2","leeg","beide","NOx",103.87515939814608,{"$f":"VLOOKUP(A1065,Begin:Einde,7,FALSE)","v":0},1,{"$f":"VLOOKUP(Jaar,Trendfactoren!$A$2:$D$43,(HLOOKUP(Emissieberekening!F1065,Trendfactoren!$A$1:$C$2,2,FALSE)))","v":0.87},0]
["CEMT VIbM3geladenbeide","CEMT VIb","M3","geladen","beide","Fijn Stof",8.6948980396464393,{"$f":"VLOOKUP(A1066,Begin:Einde,7,FALSE)","v":0},1,{"$f":"VLOOKUP(Jaar,Trendfactoren!$A$2:$D$43,(HLOOKUP(Emissieberekening!F1066,Trendfactoren!$A$1:$C$2,2,FALSE)))","v":0.76},0]
["CEMT VIbM3geladenbeide","CEMT VIb","M3","geladen","beide","NOx",256.87563946519867,{"$f":"VLOOKUP(A1067,Begin:Einde,7,FALSE)","v":0},1,{"$f":"VLOOKUP(Jaar,Trendfactoren!$A$2:$D$43,(HLOOKUP(Emissieberekening!F1067,Trendfactoren!$A$1:$C$2,2,FALSE)))","v":0.87},0]
["CEMT VIbM3leegbeide","CEMT VIb","M3","leeg","beide","Fijn Stof",4.6675155962871768,{"$f":"VLOOKUP(A1068,Begin:Einde,7,FALSE)","v":0},1,{"$f":"VLOOKUP(Jaar,Trendfactoren!$A$2:$D$43,(HLOOKUP(Emissieberekening!F1068,Trendfactoren!$A$1:$C$2,2,FALSE)))","v":0.76},0]
["CEMT VIbM3leegbeide","CEMT VIb","M3","leeg","beide","NOx",137.8936300394858,{"$f":"VLOOKUP(A1069,Begin:Einde,7,FALSE)","v":0},1,{"$f":"VLOOKUP(Jaar,Trendfactoren!$A$2:$D$43,(HLOOKUP(Emissieberekening!F1069,Trendfactoren!$A$1:$C$2,2,FALSE)))","v":0.87},0]
["CEMT VIbM4geladenbeide","CEMT VIb","M4","geladen","beide","Fijn Stof",10.888957283501478,{"$f":"VLOOKUP(A1070,Begin:Einde,7,FALSE)","v":0},1,{"$f":"VLOOKUP(Jaar,Trendfactoren!$A$2:$D$43,(HLOOKUP(Emissieberekening!F1070,Trendfactoren!$A$1:$C$2,2,FALSE)))","v":0.76},0]
["CEMT VIbM4geladenbeide","CEMT VIb","M4","geladen","beide","NOx",321.69530367746694,{"$f":"VLOOKUP(A1071,Begin:Einde,7,FALSE)","v":0},1,{"$f":"VLOOKUP(Jaar,Trendfactoren!$A$2:$D$43,(HLOOKUP(Emissieberekening!F1071,Trendfactoren!$A$1:$C$2,2,FALSE)))","v":0.87},0]
["CEMT VIbM4leegbeide","CEMT VIb","M4","leeg","beide","Fijn Stof",6.0560662040910529,{"$f":"VLOOKUP(A1072,Begin:Einde,7,FALSE)","v":0},1,{"$f":"VLOOKUP(Jaar,Trendfactoren!$A$2:$D$43,(HLOOKUP(Emissieberekening!F1072,Trendfactoren!$A$1:$C$2,2,FALSE)))","v":0.76},0]
["CEMT VIbM4leegbeide","CEMT VIb","M4","leeg","beide","NOx",178.91594262820419,{"$f":"VLOOKUP(A1073,Begin:Einde,7,FALSE)","v":0},1,{"$f":"VLOOKUP(Jaar,Trendfactoren!$A$2:$D$43,(HLOOKUP(Emissieberekening!F1073,Trendfactoren!$A$1:$C$2,2,FALSE)))","v":0.87},0]
["CEMT VIbM5geladenbeide","CEMT VIb","M5","geladen","beide","Fijn Stof",11.027996066183288,{"$f":"VLOOKUP(A1074,Begin:Einde,7,FALSE)","v":0},1,{"$f":"VLOOKUP(Jaar,Trendfactoren!$A$2:$D$43,(HLOOKUP(Emissieberekening!F1074,Trendfactoren!$A$1:$C$2,2,FALSE)))","v":0.76},{"$f":"+G1074*H1074*I1074*J1074","v":0}]
["CEMT VIbM5geladenbeide","CEMT VIb","M5","geladen","beide","NOx",325.80296268036722,{"$f":"VLOOKUP(A1075,Begin:Einde,7,FALSE)","v":0},1,{"$f":"VLOOKUP(Jaar,Trendfactoren!$A$2:$D$43,(HLOOKUP(Emissieberekening!F1075,Trendfactoren!$A$1:$C$2,2,FALSE)))","v":0.87},0]
["CEMT VIbM5leegbeide","CEMT VIb","M5","leeg","beide","Fijn Stof",7.0262369410847167,{"$f":"VLOOKUP(A1076,Begin:Einde,7,FALSE)","v":0},1,{"$f":"VLOOKUP(Jaar,Trendfactoren!$A$2:$D$43,(HLOOKUP(Emissieberekening!F1076,Trendfactoren!$A$1:$C$2,2,FALSE)))","v":0.76},0]
["CEMT VIbM5leegbeide","CEMT VIb","M5","leeg","beide","NOx",207.57794962579328,{"$f":"VLOOKUP(A1077,Begin:Einde,7,FALSE)","v":0},1,{"$f":"VLOOKUP(Jaar,Trendfactoren!$A$2:$D$43,(HLOOKUP(Emissieberekening!F1077,Trendfactoren!$A$1:$C$2,2,FALSE)))","v":0.87},0]
["CEMT VIbM6geladenbeide","CEMT VIb","M6","geladen","beide","Fijn Stof",14.169497430262178,{"$f":"VLOOKUP(A1078,Begin:Einde,7,FALSE)","v":0},1,{"$f":"VLOOKUP(Jaar,Trendfactoren!$A$2:$D$43,(HLOOKUP(Emissieberekening!F1078,Trendfactoren!$A$1:$C$2,2,FALSE)))","v":0.76},0]
["CEMT VIbM6geladenbeide","CEMT VIb","M6","geladen","beide","NOx",418.6131564398529,{"$f":"VLOOKUP(A1079,Begin:Einde,7,FALSE)","v":0},1,{"$f":"VLOOKUP(Jaar,Trendfactoren!$A$2:$D$43,(HLOOKUP(Emissieberekening!F1079,Trendfactoren!$A$1:$C$2,2,FALSE)))","v":0.87},0]
["CEMT VIbM6leegbeide","CEMT VIb","M6","leeg","beide","Fijn Stof",9.2487562705031579,{"$f":"VLOOKUP(A1080,Begin:Einde,7,FALSE)","v":0},1,{"$f":"VLOOKUP(Jaar,Trendfactoren!$A$2:$D$43,(HLOOKUP(Emissieberekening!F1080,Trendfactoren!$A$1:$C$2,2,FALSE)))","v":0.76},0]
["CEMT VIbM6leegbeide","CEMT VIb","M6","leeg","beide","NOx",273.23841756514378,{"$f":"VLOOKUP(A1081,Begin:Einde,7,FALSE)","v":0},1,{"$f":"VLOOKUP(Jaar,Trendfactoren!$A$2:$D$43,(HLOOKUP(Emissieberekening!F1081,Trendfactoren!$A$1:$C$2,2,FALSE)))","v":0.87},0]
["CEMT VIbM7geladenbeide","CEMT VIb","M7","geladen","beide","Fijn Stof",12.874064962224562,{"$f":"VLOOKUP(A1082,Begin:Einde,7,FALSE)","v":0},1,{"$f":"VLOOKUP(Jaar,Trendfactoren!$A$2:$D$43,(HLOOKUP(Emissieberekening!F1082,Trendfactoren!$A$1:$C$2,2,FALSE)))","v":0.76},0]
["CEMT VIbM7geladenbeide","CEMT VIb","M7","geladen","beide","NOx",380.34185732929149,{"$f":"VLOOKUP(A1083,Begin:Einde,7,FALSE)","v":0},1,{"$f":"VLOOKUP(Jaar,Trendfactoren!$A$2:$D$43,(HLOOKUP(Emissieberekening!F1083,Trendfactoren!$A$1:$C$2,2,FALSE)))","v":0.87},0]
["CEMT VIbM7leegbeide","CEMT VIb","M7","leeg","beide","Fijn Stof",11.832820784392766,{"$f":"VLOOKUP(A1084,Begin:Einde,7,FALSE)","v":0},1,{"$f":"VLOOKUP(Jaar,Trendfactoren!$A$2:$D$43,(HLOOKUP(Emissieberekening!F1084,Trendfactoren!$A$1:$C$2,2,FALSE)))","v":0.76},0]
["CEMT VIbM7leegbeide","CEMT VIb","M7","leeg","beide","NOx",349.58010914082922,{"$f":"VLOOKUP(A1085,Begin:Einde,7,FALSE)","v":0},1,{"$f":"VLOOKUP(Jaar,Trendfactoren!$A$2:$D$43,(HLOOKUP(Emissieberekening!F1085,Trendfactoren!$A$1:$C$2,2,FALSE)))","v":0.87},0]
["CEMT VIbM8geladenbeide","CEMT VIb","M8","geladen","beide","Fijn Stof",18.406657512759001,{"$f":"VLOOKUP(A1086,Begin:Einde,7,FALSE)","v":0},1,{"$f":"VLOOKUP(Jaar,Trendfactoren!$A$2:$D$43,(HLOOKUP(Emissieberekening!F1086,Trendfactoren!$A$1:$C$2,2,FALSE)))","v":0.76},0]
["CEMT VIbM8geladenbeide","CEMT VIb","M8","geladen","beide","NOx",543.79268134570714,{"$f":"VLOOKUP(A1087,Begin:Einde,7,FALSE)","v":0},1,{"$f":"VLOOKUP(Jaar,Trendfactoren!$A$2:$D$43,(HLOOKUP(Emissieberekening!F1087,Trendfactoren!$A$1:$C$2,2,FALSE)))","v":0.87},0]
[{"$f":"+B1088&C1088&D1088&E1088","v":"CEMT VIbM8leegbeide"},"CEMT VIb","M8","leeg","beide","Fijn Stof",14.260102120230272,{"$f":"VLOOKUP(A1088,Begin:Einde,7,FALSE)","v":0},{"$f":"+Afstand","v":1},{"$f":"VLOOKUP(Jaar,Trendfactoren!$A$2:$D$43,(HLOOKUP(Emissieberekening!F1088,Trendfactoren!$A$1:$C$2,2,FALSE)))","v":0.76},0]
["CEMT VIbM8leegbeide","CEMT VIb","M8","leeg","beide","NOx",421.28991441538938,{"$f":"VLOOKUP(A1089,Begin:Einde,7,FALSE)","v":0},1,{"$f":"VLOOKUP(Jaar,Trendfactoren!$A$2:$D$43,(HLOOKUP(Emissieberekening!F1089,Trendfactoren!$A$1:$C$2,2,FALSE)))","v":0.87},0]
["CEMT VIbM9geladenbeide","CEMT VIb","M9","geladen","beide","Fijn Stof",21.451759640757484,{"$f":"VLOOKUP(A1090,Begin:Einde,7,FALSE)","v":0},1,{"$f":"VLOOKUP(Jaar,Trendfactoren!$A$2:$D$43,(HLOOKUP(Emissieberekening!F1090,Trendfactoren!$A$1:$C$2,2,FALSE)))","v":0.76},0]
["CEMT VIbM9geladenbeide","CEMT VIb","M9","geladen","beide","NOx",633.75492734327543,{"$f":"VLOOKUP(A1091,Begin:Einde,7,FALSE)","v":0},1,{"$f":"VLOOKUP(Jaar,Trendfactoren!$A$2:$D$43,(HLOOKUP(Emissieberekening!F1091,Trendfactoren!$A$1:$C$2,2,FALSE)))","v":0.87},0]
["CEMT VIbM9leegbeide","CEMT VIb","M9","leeg","beide","Fijn Stof",17.166918225641158,{"$f":"VLOOKUP(A1092,Begin:Einde,7,FALSE)","v":0},1,{"$f":"VLOOKUP(Jaar,Trendfactoren!$A$2:$D$43,(HLOOKUP(Emissieberekening!F1092,Trendfactoren!$A$1:$C$2,2,FALSE)))","v":0.76},0]
["CEMT VIbM9leegbeide","CEMT VIb","M9","leeg","beide","NOx",507.16674039775853,{"$f":"VLOOKUP(A1093,Begin:Einde,7,FALSE)","v":0},1,{"$f":"VLOOKUP(Jaar,Trendfactoren!$A$2:$D$43,(HLOOKUP(Emissieberekening!F1093,Trendfactoren!$A$1:$C$2,2,FALSE)))","v":0.87},0]
["CEMT VIcBIgeladenbeide","CEMT VIc","BI","geladen","beide","Fijn Stof",21.120355061372045,{"$f":"VLOOKUP(A1094,Begin:Einde,7,FALSE)","v":0},1,{"$f":"VLOOKUP(Jaar,Trendfactoren!$A$2:$D$43,(HLOOKUP(Emissieberekening!F1094,Trendfactoren!$A$1:$C$2,2,FALSE)))","v":0.76},0]
["CEMT VIcBIgeladenbeide","CEMT VIc","BI","geladen","beide","NOx",623.96415546036678,{"$f":"VLOOKUP(A1095,Begin:Einde,7,FALSE)","v":0},1,{"$f":"VLOOKUP(Jaar,Trendfactoren!$A$2:$D$43,(HLOOKUP(Emissieberekening!F1095,Trendfactoren!$A$1:$C$2,2,FALSE)))","v":0.87},0]
["CEMT VIcBIleegbeide","CEMT VIc","BI","leeg","beide","Fijn Stof",6.8095435378105709,{"$f":"VLOOKUP(A1096,Begin:Einde,7,FALSE)","v":0},1,{"$f":"VLOOKUP(Jaar,Trendfactoren!$A$2:$D$43,(HLOOKUP(Emissieberekening!F1096,Trendfactoren!$A$1:$C$2,2,FALSE)))","v":0.76},0]
["CEMT VIcBIleegbeide","CEMT VIc","BI","leeg","beide","NOx",201.17611992288866,{"$f":"VLOOKUP(A1097,Begin:Einde,7,FALSE)","v":0},1,{"$f":"VLOOKUP(Jaar,Trendfactoren!$A$2:$D$43,(HLOOKUP(Emissieberekening!F1097,Trendfactoren!$A$1:$C$2,2,FALSE)))","v":0.87},0]
["CEMT VIcBII-1geladenbeide","CEMT VIc","BII-1","geladen","beide","Fijn Stof",27.244658748295556,{"$f":"VLOOKUP(A1098,Begin:Einde,7,FALSE)","v":0},1,{"$f":"VLOOKUP(Jaar,Trendfactoren!$A$2:$D$43,(HLOOKUP(Emissieberekening!F1098,Trendfactoren!$A$1:$C$2,2,FALSE)))","v":0.76},0]
["CEMT VIcBII-1geladenbeide","CEMT VIc","BII-1","geladen","beide","NOx",804.89605583277421,{"$f":"VLOOKUP(A1099,Begin:Einde,7,FALSE)","v":0},1,{"$f":"VLOOKUP(Jaar,Trendfactoren!$A$2:$D$43,(HLOOKUP(Emissieberekening!F1099,Trendfactoren!$A$1:$C$2,2,FALSE)))","v":0.87},0]
["CEMT VIcBII-1leegbeide","CEMT VIc","BII-1","leeg","beide","Fijn Stof",10.630462153894154,{"$f":"VLOOKUP(A1100,Begin:Einde,7,FALSE)","v":0},1,{"$f":"VLOOKUP(Jaar,Trendfactoren!$A$2:$D$43,(HLOOKUP(Emissieberekening!F1100,Trendfactoren!$A$1:$C$2,2,FALSE)))","v":0.76},0]
["CEMT VIcBII-1leegbeide","CEMT VIc","BII-1","leeg","beide","NOx",314.05851467617572,{"$f":"VLOOKUP(A1101,Begin:Einde,7,FALSE)","v":0},1,{"$f":"VLOOKUP(Jaar,Trendfactoren!$A$2:$D$43,(HLOOKUP(Emissieberekening!F1101,Trendfactoren!$A$1:$C$2,2,FALSE)))","v":0.87},0]
["CEMT VIcBII-2Bgeladenbeide","CEMT VIc","BII-2B","geladen","beide","Fijn Stof",48.563836716572176,{"$f":"VLOOKUP(A1102,Begin:Einde,7,FALSE)","v":0},1,{"$f":"VLOOKUP(Jaar,Trendfactoren!$A$2:$D$43,(HLOOKUP(Emissieberekening!F1102,Trendfactoren!$A$1:$C$2,2,FALSE)))","v":0.76},0]
["CEMT VIcBII-2Bgeladenbeide","CEMT VIc","BII-2B","geladen","beide","NOx",1434.7340882631252,{"$f":"VLOOKUP(A1103,Begin:Einde,7,FALSE)","v":0},1,{"$f":"VLOOKUP(Jaar,Trendfactoren!$A$2:$D$43,(HLOOKUP(Emissieberekening!F1103,Trendfactoren!$A$1:$C$2,2,FALSE)))","v":0.87},0]
["CEMT VIcBII-2Bleegbeide","CEMT VIc","BII-2B","leeg","beide","Fijn Stof",22.618115007657369,{"$f":"VLOOKUP(A1104,Begin:Einde,7,FALSE)","v":0},1,{"$f":"VLOOKUP(Jaar,Trendfactoren!$A$2:$D$43,(HLOOKUP(Emissieberekening!F1104,Trendfactoren!$A$1:$C$2,2,FALSE)))","v":0.76},0]
["CEMT VIcBII-2Bleegbeide","CEMT VIc","BII-2B","leeg","beide","NOx",668.21286800571227,{"$f":"VLOOKUP(A1105,Begin:Einde,7,FALSE)","v":0},1,{"$f":"VLOOKUP(Jaar,Trendfactoren!$A$2:$D$43,(HLOOKUP(Emissieberekening!F1105,Trendfactoren!$A$1:$C$2,2,FALSE)))","v":0.87},0]
["CEMT VIcBII-2Lgeladenbeide","CEMT VIc","BII-2L","geladen","beide","Fijn Stof",31.877314659771809,{"$f":"VLOOKUP(A1106,Begin:Einde,7,FALSE)","v":0},1,{"$f":"VLOOKUP(Jaar,Trendfactoren!$A$2:$D$43,(HLOOKUP(Emissieberekening!F1106,Trendfactoren!$A$1:$C$2,2,FALSE)))","v":0.76},0]
["CEMT VIcBII-2Lgeladenbeide","CEMT VIc","BII-2L","geladen","beide","NOx",941.75981711629163,{"$f":"VLOOKUP(A1107,Begin:Einde,7,FALSE)","v":0},1,{"$f":"VLOOKUP(Jaar,Trendfactoren!$A$2:$D$43,(HLOOKUP(Emissieberekening!F1107,Trendfactoren!$A$1:$C$2,2,FALSE)))","v":0.87},0]
["CEMT VIcBII-2Lleegbeide","CEMT VIc","BII-2L","leeg","beide","Fijn Stof",14.002175111415639,{"$f":"VLOOKUP(A1108,Begin:Einde,7,FALSE)","v":0},1,{"$f":"VLOOKUP(Jaar,Trendfactoren!$A$2:$D$43,(HLOOKUP(Emissieberekening!F1108,Trendfactoren!$A$1:$C$2,2,FALSE)))","v":0.76},0]
["CEMT VIcBII-2Lleegbeide","CEMT VIc","BII-2L","leeg","beide","NOx",413.66990955478047,{"$f":"VLOOKUP(A1109,Begin:Einde,7,FALSE)","v":0},1,{"$f":"VLOOKUP(Jaar,Trendfactoren!$A$2:$D$43,(HLOOKUP(Emissieberekening!F1109,Trendfactoren!$A$1:$C$2,2,FALSE)))","v":0.87},0]
["CEMT VIcBII-4geladenbeide","CEMT VIc","BII-4","geladen","beide","Fijn Stof",58.450795625629581,{"$f":"VLOOKUP(A1110,Begin:Einde,7,FALSE)","v":0},1,{"$f":"VLOOKUP(Jaar,Trendfactoren!$A$2:$D$43,(HLOOKUP(Emissieberekening!F1110,Trendfactoren!$A$1:$C$2,2,FALSE)))","v":0.76},0]
["CEMT VIcBII-4geladenbeide","CEMT VIc","BII-4","geladen","beide","NOx",1726.8270927526337,{"$f":"VLOOKUP(A1111,Begin:Einde,7,FALSE)","v":0},1,{"$f":"VLOOKUP(Jaar,Trendfactoren!$A$2:$D$43,(HLOOKUP(Emissieberekening!F1111,Trendfactoren!$A$1:$C$2,2,FALSE)))","v":0.87},0]
["CEMT VIcBII-4leegbeide","CEMT VIc","BII-4","leeg","beide","Fijn Stof",29.647212133317922,{"$f":"VLOOKUP(A1112,Begin:Einde,7,FALSE)","v":0},1,{"$f":"VLOOKUP(Jaar,Trendfactoren!$A$2:$D$43,(HLOOKUP(Emissieberekening!F1112,Trendfactoren!$A$1:$C$2,2,FALSE)))","v":0.76},0]
["CEMT VIcBII-4leegbeide","CEMT VIc","BII-4","leeg","beide","NOx",875.87531681005328,{"$f":"VLOOKUP(A1113,Begin:Einde,7,FALSE)","v":0},1,{"$f":"VLOOKUP(Jaar,Trendfactoren!$A$2:$D$43,(HLOOKUP(Emissieberekening!F1113,Trendfactoren!$A$1:$C$2,2,FALSE)))","v":0.87},0]
["CEMT VIcBII-6Bgeladenbeide","CEMT VIc","BII-6B","geladen","beide","Fijn Stof",61.96835000308841,{"$f":"VLOOKUP(A1114,Begin:Einde,7,FALSE)","v":0},1,{"$f":"VLOOKUP(Jaar,Trendfactoren!$A$2:$D$43,(HLOOKUP(Emissieberekening!F1114,Trendfactoren!$A$1:$C$2,2,FALSE)))","v":0.76},0]
["CEMT VIcBII-6Bgeladenbeide","CEMT VIc","BII-6B","geladen","beide","NOx",1830.7471187199635,{"$f":"VLOOKUP(A1115,Begin:Einde,7,FALSE)","v":0},1,{"$f":"VLOOKUP(Jaar,Trendfactoren!$A$2:$D$43,(HLOOKUP(Emissieberekening!F1115,Trendfactoren!$A$1:$C$2,2,FALSE)))","v":0.87},0]
["CEMT VIcBII-6Bleegbeide","CEMT VIc","BII-6B","leeg","beide","Fijn Stof",47.074944978549063,{"$f":"VLOOKUP(A1116,Begin:Einde,7,FALSE)","v":0},1,{"$f":"VLOOKUP(Jaar,Trendfactoren!$A$2:$D$43,(HLOOKUP(Emissieberekening!F1116,Trendfactoren!$A$1:$C$2,2,FALSE)))","v":0.76},0]
["CEMT VIcBII-6Bleegbeide","CEMT VIc","BII-6B","leeg","beide","NOx",1390.7473715063304,{"$f":"VLOOKUP(A1117,Begin:Einde,7,FALSE)","v":0},1,{"$f":"VLOOKUP(Jaar,Trendfactoren!$A$2:$D$43,(HLOOKUP(Emissieberekening!F1117,Trendfactoren!$A$1:$C$2,2,FALSE)))","v":0.87},0]
["CEMT VIcBII-6Lgeladenbeide","CEMT VIc","BII-6L","geladen","beide","Fijn Stof",63.651488535267909,{"$f":"VLOOKUP(A1118,Begin:Einde,7,FALSE)","v":0},1,{"$f":"VLOOKUP(Jaar,Trendfactoren!$A$2:$D$43,(HLOOKUP(Emissieberekening!F1118,Trendfactoren!$A$1:$C$2,2,FALSE)))","v":0.76},0]
["CEMT VIcBII-6Lgeladenbeide","CEMT VIc","BII-6L","geladen","beide","NOx",1880.4725191548723,{"$f":"VLOOKUP(A1119,Begin:Einde,7,FALSE)","v":0},1,{"$f":"VLOOKUP(Jaar,Trendfactoren!$A$2:$D$43,(HLOOKUP(Emissieberekening!F1119,Trendfactoren!$A$1:$C$2,2,FALSE)))","v":0.87},0]
["CEMT VIcBII-6Lleegbeide","CEMT VIc","BII-6L","leeg","beide","Fijn Stof",36.602795168664812,{"$f":"VLOOKUP(A1120,Begin:Einde,7,FALSE)","v":0},1,{"$f":"VLOOKUP(Jaar,Trendfactoren!$A$2:$D$43,(HLOOKUP(Emissieberekening!F1120,Trendfactoren!$A$1:$C$2,2,FALSE)))","v":0.76},0]
["CEMT VIcBII-6Lleegbeide","CEMT VIc","BII-6L","leeg","beide","NOx",1081.3659196798105,{"$f":"VLOOKUP(A1121,Begin:Einde,7,FALSE)","v":0},1,{"$f":"VLOOKUP(Jaar,Trendfactoren!$A$2:$D$43,(HLOOKUP(Emissieberekening!F1121,Trendfactoren!$A$1:$C$2,2,FALSE)))","v":0.87},0]
["CEMT VIcBO1geladenbeide","CEMT VIc","BO1","geladen","beide","Fijn Stof",7.4466147580117781,{"$f":"VLOOKUP(A1122,Begin:Einde,7,FALSE)","v":0},1,{"$f":"VLOOKUP(Jaar,Trendfactoren!$A$2:$D$43,(HLOOKUP(Emissieberekening!F1122,Trendfactoren!$A$1:$C$2,2,FALSE)))","v":0.76},0]
["CEMT VIcBO1geladenbeide","CEMT VIc","BO1","geladen","beide","NOx",219.99728105989877,{"$f":"VLOOKUP(A1123,Begin:Einde,7,FALSE)","v":0},1,{"$f":"VLOOKUP(Jaar,Trendfactoren!$A$2:$D$43,(HLOOKUP(Emissieberekening!F1123,Trendfactoren!$A$1:$C$2,2,FALSE)))","v":0.87},0]
["CEMT VIcBO1leegbeide","CEMT VIc","BO1","leeg","beide","Fijn Stof",2.9540373970267821,{"$f":"VLOOKUP(A1124,Begin:Einde,7,FALSE)","v":0},1,{"$f":"VLOOKUP(Jaar,Trendfactoren!$A$2:$D$43,(HLOOKUP(Emissieberekening!F1124,Trendfactoren!$A$1:$C$2,2,FALSE)))","v":0.76},0]
["CEMT VIcBO1leegbeide","CEMT VIc","BO1","leeg","beide","NOx",87.271896910733787,{"$f":"VLOOKUP(A1125,Begin:Einde,7,FALSE)","v":0},1,{"$f":"VLOOKUP(Jaar,Trendfactoren!$A$2:$D$43,(HLOOKUP(Emissieberekening!F1125,Trendfactoren!$A$1:$C$2,2,FALSE)))","v":0.87},0]
["CEMT VIcBO2geladenbeide","CEMT VIc","BO2","geladen","beide","Fijn Stof",7.9319886673990716,{"$f":"VLOOKUP(A1126,Begin:Einde,7,FALSE)","v":0},1,{"$f":"VLOOKUP(Jaar,Trendfactoren!$A$2:$D$43,(HLOOKUP(Emissieberekening!F1126,Trendfactoren!$A$1:$C$2,2,FALSE)))","v":0.76},0]
["CEMT VIcBO2geladenbeide","CEMT VIc","BO2","geladen","beide","NOx",234.33680899744016,{"$f":"VLOOKUP(A1127,Begin:Einde,7,FALSE)","v":0},1,{"$f":"VLOOKUP(Jaar,Trendfactoren!$A$2:$D$43,(HLOOKUP(Emissieberekening!F1127,Trendfactoren!$A$1:$C$2,2,FALSE)))","v":0.87},0]
["CEMT VIcBO2leegbeide","CEMT VIc","BO2","leeg","beide","Fijn Stof",3.9428396293802304,{"$f":"VLOOKUP(A1128,Begin:Einde,7,FALSE)","v":0},1,{"$f":"VLOOKUP(Jaar,Trendfactoren!$A$2:$D$43,(HLOOKUP(Emissieberekening!F1128,Trendfactoren!$A$1:$C$2,2,FALSE)))","v":0.76},0]
["CEMT VIcBO2leegbeide","CEMT VIc","BO2","leeg","beide","NOx",116.48433903279647,{"$f":"VLOOKUP(A1129,Begin:Einde,7,FALSE)","v":0},1,{"$f":"VLOOKUP(Jaar,Trendfactoren!$A$2:$D$43,(HLOOKUP(Emissieberekening!F1129,Trendfactoren!$A$1:$C$2,2,FALSE)))","v":0.87},0]
["CEMT VIcBO3geladenbeide","CEMT VIc","BO3","geladen","beide","Fijn Stof",10.3817283591492,{"$f":"VLOOKUP(A1130,Begin:Einde,7,FALSE)","v":0},1,{"$f":"VLOOKUP(Jaar,Trendfactoren!$A$2:$D$43,(HLOOKUP(Emissieberekening!F1130,Trendfactoren!$A$1:$C$2,2,FALSE)))","v":0.76},0]
["CEMT VIcBO3geladenbeide","CEMT VIc","BO3","geladen","beide","NOx",306.71010733541368,{"$f":"VLOOKUP(A1131,Begin:Einde,7,FALSE)","v":0},1,{"$f":"VLOOKUP(Jaar,Trendfactoren!$A$2:$D$43,(HLOOKUP(Emissieberekening!F1131,Trendfactoren!$A$1:$C$2,2,FALSE)))","v":0.87},0]
["CEMT VIcBO3leegbeide","CEMT VIc","BO3","leeg","beide","Fijn Stof",4.9546791745453573,{"$f":"VLOOKUP(A1132,Begin:Einde,7,FALSE)","v":0},1,{"$f":"VLOOKUP(Jaar,Trendfactoren!$A$2:$D$43,(HLOOKUP(Emissieberekening!F1132,Trendfactoren!$A$1:$C$2,2,FALSE)))","v":0.76},0]
["CEMT VIcBO3leegbeide","CEMT VIc","BO3","leeg","beide","NOx",146.37737849287006,{"$f":"VLOOKUP(A1133,Begin:Einde,7,FALSE)","v":0},1,{"$f":"VLOOKUP(Jaar,Trendfactoren!$A$2:$D$43,(HLOOKUP(Emissieberekening!F1133,Trendfactoren!$A$1:$C$2,2,FALSE)))","v":0.87},0]
["CEMT VIcBO4geladenbeide","CEMT VIc","BO4","geladen","beide","Fijn Stof",15.182726479739769,{"$f":"VLOOKUP(A1134,Begin:Einde,7,FALSE)","v":0},1,{"$f":"VLOOKUP(Jaar,Trendfactoren!$A$2:$D$43,(HLOOKUP(Emissieberekening!F1134,Trendfactoren!$A$1:$C$2,2,FALSE)))","v":0.76},0]
["CEMT VIcBO4geladenbeide","CEMT VIc","BO4","geladen","beide","NOx",448.54724638806061,{"$f":"VLOOKUP(A1135,Begin:Einde,7,FALSE)","v":0},1,{"$f":"VLOOKUP(Jaar,Trendfactoren!$A$2:$D$43,(HLOOKUP(Emissieberekening!F1135,Trendfactoren!$A$1:$C$2,2,FALSE)))","v":0.87},0]
["CEMT VIcBO4leegbeide","CEMT VIc","BO4","leeg","beide","Fijn Stof",5.5899349394117657,{"$f":"VLOOKUP(A1136,Begin:Einde,7,FALSE)","v":0},1,{"$f":"VLOOKUP(Jaar,Trendfactoren!$A$2:$D$43,(HLOOKUP(Emissieberekening!F1136,Trendfactoren!$A$1:$C$2,2,FALSE)))","v":0.76},0]
["CEMT VIcBO4leegbeide","CEMT VIc","BO4","leeg","beide","NOx",165.14490515965181,{"$f":"VLOOKUP(A1137,Begin:Einde,7,FALSE)","v":0},1,{"$f":"VLOOKUP(Jaar,Trendfactoren!$A$2:$D$43,(HLOOKUP(Emissieberekening!F1137,Trendfactoren!$A$1:$C$2,2,FALSE)))","v":0.87},0]
["CEMT VIcC1bgeladenbeide","CEMT VIc","C1b","geladen","beide","Fijn Stof",6.4683841129252899,{"$f":"VLOOKUP(A1138,Begin:Einde,7,FALSE)","v":0},1,{"$f":"VLOOKUP(Jaar,Trendfactoren!$A$2:$D$43,(HLOOKUP(Emissieberekening!F1138,Trendfactoren!$A$1:$C$2,2,FALSE)))","v":0.76},{"$f":"+G1138*H1138*I1138*J1138","v":0}]
["CEMT VIcC1bgeladenbeide","CEMT VIc","C1b","geladen","beide","NOx",191.09715809637947,{"$f":"VLOOKUP(A1139,Begin:Einde,7,FALSE)","v":0},1,{"$f":"VLOOKUP(Jaar,Trendfactoren!$A$2:$D$43,(HLOOKUP(Emissieberekening!F1139,Trendfactoren!$A$1:$C$2,2,FALSE)))","v":0.87},0]
["CEMT VIcC1bleegbeide","CEMT VIc","C1b","leeg","beide","Fijn Stof",3.0608562359710594,{"$f":"VLOOKUP(A1140,Begin:Einde,7,FALSE)","v":0},1,{"$f":"VLOOKUP(Jaar,Trendfactoren!$A$2:$D$43,(HLOOKUP(Emissieberekening!F1140,Trendfactoren!$A$1:$C$2,2,FALSE)))","v":0.76},0]
["CEMT VIcC1bleegbeide","CEMT VIc","C1b","leeg","beide","NOx",90.427673716353127,{"$f":"VLOOKUP(A1141,Begin:Einde,7,FALSE)","v":0},1,{"$f":"VLOOKUP(Jaar,Trendfactoren!$A$2:$D$43,(HLOOKUP(Emissieberekening!F1141,Trendfactoren!$A$1:$C$2,2,FALSE)))","v":0.87},0]
["CEMT VIcC1lgeladenbeide","CEMT VIc","C1l","geladen","beide","Fijn Stof",4.0337625341423635,{"$f":"VLOOKUP(A1142,Begin:Einde,7,FALSE)","v":0},1,{"$f":"VLOOKUP(Jaar,Trendfactoren!$A$2:$D$43,(HLOOKUP(Emissieberekening!F1142,Trendfactoren!$A$1:$C$2,2,FALSE)))","v":0.76},0]
["CEMT VIcC1lgeladenbeide","CEMT VIc","C1l","geladen","beide","NOx",119.17049811094891,{"$f":"VLOOKUP(A1143,Begin:Einde,7,FALSE)","v":0},1,{"$f":"VLOOKUP(Jaar,Trendfactoren!$A$2:$D$43,(HLOOKUP(Emissieberekening!F1143,Trendfactoren!$A$1:$C$2,2,FALSE)))","v":0.87},0]
["CEMT VIcC1lleegbeide","CEMT VIc","C1l","leeg","beide","Fijn Stof",2.9171182814312844,{"$f":"VLOOKUP(A1144,Begin:Einde,7,FALSE)","v":0},1,{"$f":"VLOOKUP(Jaar,Trendfactoren!$A$2:$D$43,(HLOOKUP(Emissieberekening!F1144,Trendfactoren!$A$1:$C$2,2,FALSE)))","v":0.76},0]
["CEMT VIcC1lleegbeide","CEMT VIc","C1l","leeg","beide","NOx",86.181185854222235,{"$f":"VLOOKUP(A1145,Begin:Einde,7,FALSE)","v":0},1,{"$f":"VLOOKUP(Jaar,Trendfactoren!$A$2:$D$43,(HLOOKUP(Emissieberekening!F1145,Trendfactoren!$A$1:$C$2,2,FALSE)))","v":0.87},0]
["CEMT VIcC2bgeladenbeide","CEMT VIc","C2b","geladen","beide","Fijn Stof",12.329749956943228,{"$f":"VLOOKUP(A1146,Begin:Einde,7,FALSE)","v":0},1,{"$f":"VLOOKUP(Jaar,Trendfactoren!$A$2:$D$43,(HLOOKUP(Emissieberekening!F1146,Trendfactoren!$A$1:$C$2,2,FALSE)))","v":0.76},0]
["CEMT VIcC2bgeladenbeide","CEMT VIc","C2b","geladen","beide","NOx",364.26101723035094,{"$f":"VLOOKUP(A1147,Begin:Einde,7,FALSE)","v":0},1,{"$f":"VLOOKUP(Jaar,Trendfactoren!$A$2:$D$43,(HLOOKUP(Emissieberekening!F1147,Trendfactoren!$A$1:$C$2,2,FALSE)))","v":0.87},0]
["CEMT VIcC2bleegbeide","CEMT VIc","C2b","leeg","beide","Fijn Stof",10.989893983565809,{"$f":"VLOOKUP(A1148,Begin:Einde,7,FALSE)","v":0},1,{"$f":"VLOOKUP(Jaar,Trendfactoren!$A$2:$D$43,(HLOOKUP(Emissieberekening!F1148,Trendfactoren!$A$1:$C$2,2,FALSE)))","v":0.76},0]
["CEMT VIcC2bleegbeide","CEMT VIc","C2b","leeg","beide","NOx",324.67730292073657,{"$f":"VLOOKUP(A1149,Begin:Einde,7,FALSE)","v":0},1,{"$f":"VLOOKUP(Jaar,Trendfactoren!$A$2:$D$43,(HLOOKUP(Emissieberekening!F1149,Trendfactoren!$A$1:$C$2,2,FALSE)))","v":0.87},0]
["CEMT VIcC2lgeladenbeide","CEMT VIc","C2l","geladen","beide","Fijn Stof",14.881543280465955,{"$f":"VLOOKUP(A1150,Begin:Einde,7,FALSE)","v":0},1,{"$f":"VLOOKUP(Jaar,Trendfactoren!$A$2:$D$43,(HLOOKUP(Emissieberekening!F1150,Trendfactoren!$A$1:$C$2,2,FALSE)))","v":0.76},0]
["CEMT VIcC2lgeladenbeide","CEMT VIc","C2l","geladen","beide","NOx",439.6493126162253,{"$f":"VLOOKUP(A1151,Begin:Einde,7,FALSE)","v":0},1,{"$f":"VLOOKUP(Jaar,Trendfactoren!$A$2:$D$43,(HLOOKUP(Emissieberekening!F1151,Trendfactoren!$A$1:$C$2,2,FALSE)))","v":0.87},0]
[{"$f":"+B1152&C1152&D1152&E1152","v":"CEMT VIcC2lleegbeide"},"CEMT VIc","C2l","leeg","beide","Fijn Stof",10.481699001184209,{"$f":"VLOOKUP(A1152,Begin:Einde,7,FALSE)","v":0},{"$f":"+Afstand","v":1},{"$f":"VLOOKUP(Jaar,Trendfactoren!$A$2:$D$43,(HLOOKUP(Emissieberekening!F1152,Trendfactoren!$A$1:$C$2,2,FALSE)))","v":0.76},0]
["CEMT VIcC2lleegbeide","CEMT VIc","C2l","leeg","beide","NOx",309.66356607448068,{"$f":"VLOOKUP(A1153,Begin:Einde,7,FALSE)","v":0},1,{"$f":"VLOOKUP(Jaar,Trendfactoren!$A$2:$D$43,(HLOOKUP(Emissieberekening!F1153,Trendfactoren!$A$1:$C$2,2,FALSE)))","v":0.87},0]
["CEMT VIcC3bgeladenbeide","CEMT VIc","C3b","geladen","beide","Fijn Stof",20.547990629458806,{"$f":"VLOOKUP(A1154,Begin:Einde,7,FALSE)","v":0},1,{"$f":"VLOOKUP(Jaar,Trendfactoren!$A$2:$D$43,(HLOOKUP(Emissieberekening!F1154,Trendfactoren!$A$1:$C$2,2,FALSE)))","v":0.76},0]
["CEMT VIcC3bgeladenbeide","CEMT VIc","C3b","geladen","beide","NOx",607.05464383821231,{"$f":"VLOOKUP(A1155,Begin:Einde,7,FALSE)","v":0},1,{"$f":"VLOOKUP(Jaar,Trendfactoren!$A$2:$D$43,(HLOOKUP(Emissieberekening!F1155,Trendfactoren!$A$1:$C$2,2,FALSE)))","v":0.87},0]
["CEMT VIcC3bleegbeide","CEMT VIc","C3b","leeg","beide","Fijn Stof",15.676713681479232,{"$f":"VLOOKUP(A1156,Begin:Einde,7,FALSE)","v":0},1,{"$f":"VLOOKUP(Jaar,Trendfactoren!$A$2:$D$43,(HLOOKUP(Emissieberekening!F1156,Trendfactoren!$A$1:$C$2,2,FALSE)))","v":0.76},0]
["CEMT VIcC3bleegbeide","CEMT VIc","C3b","leeg","beide","NOx",463.14123906696824,{"$f":"VLOOKUP(A1157,Begin:Einde,7,FALSE)","v":0},1,{"$f":"VLOOKUP(Jaar,Trendfactoren!$A$2:$D$43,(HLOOKUP(Emissieberekening!F1157,Trendfactoren!$A$1:$C$2,2,FALSE)))","v":0.87},0]
["CEMT VIcC3lgeladenbeide","CEMT VIc","C3l","geladen","beide","Fijn Stof",19.939734428454891,{"$f":"VLOOKUP(A1158,Begin:Einde,7,FALSE)","v":0},1,{"$f":"VLOOKUP(Jaar,Trendfactoren!$A$2:$D$43,(HLOOKUP(Emissieberekening!F1158,Trendfactoren!$A$1:$C$2,2,FALSE)))","v":0.76},0]
["CEMT VIcC3lgeladenbeide","CEMT VIc","C3l","geladen","beide","NOx",589.08477232515816,{"$f":"VLOOKUP(A1159,Begin:Einde,7,FALSE)","v":0},1,{"$f":"VLOOKUP(Jaar,Trendfactoren!$A$2:$D$43,(HLOOKUP(Emissieberekening!F1159,Trendfactoren!$A$1:$C$2,2,FALSE)))","v":0.87},0]
["CEMT VIcC3lleegbeide","CEMT VIc","C3l","leeg","beide","Fijn Stof",13.245335815513714,{"$f":"VLOOKUP(A1160,Begin:Einde,7,FALSE)","v":0},1,{"$f":"VLOOKUP(Jaar,Trendfactoren!$A$2:$D$43,(HLOOKUP(Emissieberekening!F1160,Trendfactoren!$A$1:$C$2,2,FALSE)))","v":0.76},0]
["CEMT VIcC3lleegbeide","CEMT VIc","C3l","leeg","beide","NOx",391.31040893490859,{"$f":"VLOOKUP(A1161,Begin:Einde,7,FALSE)","v":0},1,{"$f":"VLOOKUP(Jaar,Trendfactoren!$A$2:$D$43,(HLOOKUP(Emissieberekening!F1161,Trendfactoren!$A$1:$C$2,2,FALSE)))","v":0.87},0]
["CEMT VIcC4geladenbeide","CEMT VIc","C4","geladen","beide","Fijn Stof",34.52264664418108,{"$f":"VLOOKUP(A1162,Begin:Einde,7,FALSE)","v":0},1,{"$f":"VLOOKUP(Jaar,Trendfactoren!$A$2:$D$43,(HLOOKUP(Emissieberekening!F1162,Trendfactoren!$A$1:$C$2,2,FALSE)))","v":0.76},0]
["CEMT VIcC4geladenbeide","CEMT VIc","C4","geladen","beide","NOx",1019.9115495454056,{"$f":"VLOOKUP(A1163,Begin:Einde,7,FALSE)","v":0},1,{"$f":"VLOOKUP(Jaar,Trendfactoren!$A$2:$D$43,(HLOOKUP(Emissieberekening!F1163,Trendfactoren!$A$1:$C$2,2,FALSE)))","v":0.87},0]
["CEMT VIcC4leegbeide","CEMT VIc","C4","leeg","beide","Fijn Stof",25.082709586116692,{"$f":"VLOOKUP(A1164,Begin:Einde,7,FALSE)","v":0},1,{"$f":"VLOOKUP(Jaar,Trendfactoren!$A$2:$D$43,(HLOOKUP(Emissieberekening!F1164,Trendfactoren!$A$1:$C$2,2,FALSE)))","v":0.76},0]
["CEMT VIcC4leegbeide","CEMT VIc","C4","leeg","beide","NOx",741.0250281342677,{"$f":"VLOOKUP(A1165,Begin:Einde,7,FALSE)","v":0},1,{"$f":"VLOOKUP(Jaar,Trendfactoren!$A$2:$D$43,(HLOOKUP(Emissieberekening!F1165,Trendfactoren!$A$1:$C$2,2,FALSE)))","v":0.87},0]
["CEMT VIcM0geladenbeide","CEMT VIc","M0","geladen","beide","Fijn Stof",1.7657424279619138,{"$f":"VLOOKUP(A1166,Begin:Einde,7,FALSE)","v":0},1,{"$f":"VLOOKUP(Jaar,Trendfactoren!$A$2:$D$43,(HLOOKUP(Emissieberekening!F1166,Trendfactoren!$A$1:$C$2,2,FALSE)))","v":0.76},0]
["CEMT VIcM0geladenbeide","CEMT VIc","M0","geladen","beide","NOx",52.16578886208454,{"$f":"VLOOKUP(A1167,Begin:Einde,7,FALSE)","v":0},1,{"$f":"VLOOKUP(Jaar,Trendfactoren!$A$2:$D$43,(HLOOKUP(Emissieberekening!F1167,Trendfactoren!$A$1:$C$2,2,FALSE)))","v":0.87},0]
["CEMT VIcM0leegbeide","CEMT VIc","M0","leeg","beide","Fijn Stof",1.0488658080197579,{"$f":"VLOOKUP(A1168,Begin:Einde,7,FALSE)","v":0},1,{"$f":"VLOOKUP(Jaar,Trendfactoren!$A$2:$D$43,(HLOOKUP(Emissieberekening!F1168,Trendfactoren!$A$1:$C$2,2,FALSE)))","v":0.76},0]
["CEMT VIcM0leegbeide","CEMT VIc","M0","leeg","beide","NOx",30.986915995994039,{"$f":"VLOOKUP(A1169,Begin:Einde,7,FALSE)","v":0},1,{"$f":"VLOOKUP(Jaar,Trendfactoren!$A$2:$D$43,(HLOOKUP(Emissieberekening!F1169,Trendfactoren!$A$1:$C$2,2,FALSE)))","v":0.87},0]
["CEMT VIcM1geladenbeide","CEMT VIc","M1","geladen","beide","Fijn Stof",3.037096979017984,{"$f":"VLOOKUP(A1170,Begin:Einde,7,FALSE)","v":0},1,{"$f":"VLOOKUP(Jaar,Trendfactoren!$A$2:$D$43,(HLOOKUP(Emissieberekening!F1170,Trendfactoren!$A$1:$C$2,2,FALSE)))","v":0.76},0]
["CEMT VIcM1geladenbeide","CEMT VIc","M1","geladen","beide","NOx",89.725747794368715,{"$f":"VLOOKUP(A1171,Begin:Einde,7,FALSE)","v":0},1,{"$f":"VLOOKUP(Jaar,Trendfactoren!$A$2:$D$43,(HLOOKUP(Emissieberekening!F1171,Trendfactoren!$A$1:$C$2,2,FALSE)))","v":0.87},0]
["CEMT VIcM1leegbeide","CEMT VIc","M1","leeg","beide","Fijn Stof",1.7935359025109519,{"$f":"VLOOKUP(A1172,Begin:Einde,7,FALSE)","v":0},1,{"$f":"VLOOKUP(Jaar,Trendfactoren!$A$2:$D$43,(HLOOKUP(Emissieberekening!F1172,Trendfactoren!$A$1:$C$2,2,FALSE)))","v":0.76},0]
["CEMT VIcM1leegbeide","CEMT VIc","M1","leeg","beide","NOx",52.986898726189892,{"$f":"VLOOKUP(A1173,Begin:Einde,7,FALSE)","v":0},1,{"$f":"VLOOKUP(Jaar,Trendfactoren!$A$2:$D$43,(HLOOKUP(Emissieberekening!F1173,Trendfactoren!$A$1:$C$2,2,FALSE)))","v":0.87},0]
["CEMT VIcM10geladenbeide","CEMT VIc","M10","geladen","beide","Fijn Stof",24.119333658177197,{"$f":"VLOOKUP(A1174,Begin:Einde,7,FALSE)","v":0},1,{"$f":"VLOOKUP(Jaar,Trendfactoren!$A$2:$D$43,(HLOOKUP(Emissieberekening!F1174,Trendfactoren!$A$1:$C$2,2,FALSE)))","v":0.76},0]
["CEMT VIcM10geladenbeide","CEMT VIc","M10","geladen","beide","NOx",712.56376195191001,{"$f":"VLOOKUP(A1175,Begin:Einde,7,FALSE)","v":0},1,{"$f":"VLOOKUP(Jaar,Trendfactoren!$A$2:$D$43,(HLOOKUP(Emissieberekening!F1175,Trendfactoren!$A$1:$C$2,2,FALSE)))","v":0.87},0]
["CEMT VIcM10leegbeide","CEMT VIc","M10","leeg","beide","Fijn Stof",15.129366715543135,{"$f":"VLOOKUP(A1176,Begin:Einde,7,FALSE)","v":0},1,{"$f":"VLOOKUP(Jaar,Trendfactoren!$A$2:$D$43,(HLOOKUP(Emissieberekening!F1176,Trendfactoren!$A$1:$C$2,2,FALSE)))","v":0.76},0]
["CEMT VIcM10leegbeide","CEMT VIc","M10","leeg","beide","NOx",446.9708249639998,{"$f":"VLOOKUP(A1177,Begin:Einde,7,FALSE)","v":0},1,{"$f":"VLOOKUP(Jaar,Trendfactoren!$A$2:$D$43,(HLOOKUP(Emissieberekening!F1177,Trendfactoren!$A$1:$C$2,2,FALSE)))","v":0.87},0]
["CEMT VIcM11geladenbeide","CEMT VIc","M11","geladen","beide","Fijn Stof",33.945783437494434,{"$f":"VLOOKUP(A1178,Begin:Einde,7,FALSE)","v":0},1,{"$f":"VLOOKUP(Jaar,Trendfactoren!$A$2:$D$43,(HLOOKUP(Emissieberekening!F1178,Trendfactoren!$A$1:$C$2,2,FALSE)))","v":0.76},0]
["CEMT VIcM11geladenbeide","CEMT VIc","M11","geladen","beide","NOx",1002.869129447331,{"$f":"VLOOKUP(A1179,Begin:Einde,7,FALSE)","v":0},1,{"$f":"VLOOKUP(Jaar,Trendfactoren!$A$2:$D$43,(HLOOKUP(Emissieberekening!F1179,Trendfactoren!$A$1:$C$2,2,FALSE)))","v":0.87},0]
["CEMT VIcM11leegbeide","CEMT VIc","M11","leeg","beide","Fijn Stof",19.157826606830369,{"$f":"VLOOKUP(A1180,Begin:Einde,7,FALSE)","v":0},1,{"$f":"VLOOKUP(Jaar,Trendfactoren!$A$2:$D$43,(HLOOKUP(Emissieberekening!F1180,Trendfactoren!$A$1:$C$2,2,FALSE)))","v":0.76},0]
["CEMT VIcM11leegbeide","CEMT VIc","M11","leeg","beide","NOx",565.98466571472954,{"$f":"VLOOKUP(A1181,Begin:Einde,7,FALSE)","v":0},1,{"$f":"VLOOKUP(Jaar,Trendfactoren!$A$2:$D$43,(HLOOKUP(Emissieberekening!F1181,Trendfactoren!$A$1:$C$2,2,FALSE)))","v":0.87},0]
["CEMT VIcM12geladenbeide","CEMT VIc","M12","geladen","beide","Fijn Stof",41.80220637632317,{"$f":"VLOOKUP(A1182,Begin:Einde,7,FALSE)","v":0},1,{"$f":"VLOOKUP(Jaar,Trendfactoren!$A$2:$D$43,(HLOOKUP(Emissieberekening!F1182,Trendfactoren!$A$1:$C$2,2,FALSE)))","v":0.76},0]
["CEMT VIcM12geladenbeide","CEMT VIc","M12","geladen","beide","NOx",1234.9734804263278,{"$f":"VLOOKUP(A1183,Begin:Einde,7,FALSE)","v":0},1,{"$f":"VLOOKUP(Jaar,Trendfactoren!$A$2:$D$43,(HLOOKUP(Emissieberekening!F1183,Trendfactoren!$A$1:$C$2,2,FALSE)))","v":0.87},0]
["CEMT VIcM12leegbeide","CEMT VIc","M12","leeg","beide","Fijn Stof",21.996350705769149,{"$f":"VLOOKUP(A1184,Begin:Einde,7,FALSE)","v":0},1,{"$f":"VLOOKUP(Jaar,Trendfactoren!$A$2:$D$43,(HLOOKUP(Emissieberekening!F1184,Trendfactoren!$A$1:$C$2,2,FALSE)))","v":0.76},0]
["CEMT VIcM12leegbeide","CEMT VIc","M12","leeg","beide","NOx",649.84392314679542,{"$f":"VLOOKUP(A1185,Begin:Einde,7,FALSE)","v":0},1,{"$f":"VLOOKUP(Jaar,Trendfactoren!$A$2:$D$43,(HLOOKUP(Emissieberekening!F1185,Trendfactoren!$A$1:$C$2,2,FALSE)))","v":0.87},0]
["CEMT VIcM2geladenbeide","CEMT VIc","M2","geladen","beide","Fijn Stof",5.0779919686837678,{"$f":"VLOOKUP(A1186,Begin:Einde,7,FALSE)","v":0},1,{"$f":"VLOOKUP(Jaar,Trendfactoren!$A$2:$D$43,(HLOOKUP(Emissieberekening!F1186,Trendfactoren!$A$1:$C$2,2,FALSE)))","v":0.76},0]
["CEMT VIcM2geladenbeide","CEMT VIc","M2","geladen","beide","NOx",150.0204405166121,{"$f":"VLOOKUP(A1187,Begin:Einde,7,FALSE)","v":0},1,{"$f":"VLOOKUP(Jaar,Trendfactoren!$A$2:$D$43,(HLOOKUP(Emissieberekening!F1187,Trendfactoren!$A$1:$C$2,2,FALSE)))","v":0.87},0]
["CEMT VIcM2leegbeide","CEMT VIc","M2","leeg","beide","Fijn Stof",3.3123740228155656,{"$f":"VLOOKUP(A1188,Begin:Einde,7,FALSE)","v":0},1,{"$f":"VLOOKUP(Jaar,Trendfactoren!$A$2:$D$43,(HLOOKUP(Emissieberekening!F1188,Trendfactoren!$A$1:$C$2,2,FALSE)))","v":0.76},0]
["CEMT VIcM2leegbeide","CEMT VIc","M2","leeg","beide","NOx",97.858329261473386,{"$f":"VLOOKUP(A1189,Begin:Einde,7,FALSE)","v":0},1,{"$f":"VLOOKUP(Jaar,Trendfactoren!$A$2:$D$43,(HLOOKUP(Emissieberekening!F1189,Trendfactoren!$A$1:$C$2,2,FALSE)))","v":0.87},0]
["CEMT VIcM3geladenbeide","CEMT VIc","M3","geladen","beide","Fijn Stof",8.1894732421795648,{"$f":"VLOOKUP(A1190,Begin:Einde,7,FALSE)","v":0},1,{"$f":"VLOOKUP(Jaar,Trendfactoren!$A$2:$D$43,(HLOOKUP(Emissieberekening!F1190,Trendfactoren!$A$1:$C$2,2,FALSE)))","v":0.76},0]
["CEMT VIcM3geladenbeide","CEMT VIc","M3","geladen","beide","NOx",241.94374291404,{"$f":"VLOOKUP(A1191,Begin:Einde,7,FALSE)","v":0},1,{"$f":"VLOOKUP(Jaar,Trendfactoren!$A$2:$D$43,(HLOOKUP(Emissieberekening!F1191,Trendfactoren!$A$1:$C$2,2,FALSE)))","v":0.87},0]
["CEMT VIcM3leegbeide","CEMT VIc","M3","leeg","beide","Fijn Stof",4.3424955632681357,{"$f":"VLOOKUP(A1192,Begin:Einde,7,FALSE)","v":0},1,{"$f":"VLOOKUP(Jaar,Trendfactoren!$A$2:$D$43,(HLOOKUP(Emissieberekening!F1192,Trendfactoren!$A$1:$C$2,2,FALSE)))","v":0.76},0]
["CEMT VIcM3leegbeide","CEMT VIc","M3","leeg","beide","NOx",128.29147847427188,{"$f":"VLOOKUP(A1193,Begin:Einde,7,FALSE)","v":0},1,{"$f":"VLOOKUP(Jaar,Trendfactoren!$A$2:$D$43,(HLOOKUP(Emissieberekening!F1193,Trendfactoren!$A$1:$C$2,2,FALSE)))","v":0.87},0]
["CEMT VIcM4geladenbeide","CEMT VIc","M4","geladen","beide","Fijn Stof",10.269167417127543,{"$f":"VLOOKUP(A1194,Begin:Einde,7,FALSE)","v":0},1,{"$f":"VLOOKUP(Jaar,Trendfactoren!$A$2:$D$43,(HLOOKUP(Emissieberekening!F1194,Trendfactoren!$A$1:$C$2,2,FALSE)))","v":0.76},0]
["CEMT VIcM4geladenbeide","CEMT VIc","M4","geladen","beide","NOx",303.38469008166584,{"$f":"VLOOKUP(A1195,Begin:Einde,7,FALSE)","v":0},1,{"$f":"VLOOKUP(Jaar,Trendfactoren!$A$2:$D$43,(HLOOKUP(Emissieberekening!F1195,Trendfactoren!$A$1:$C$2,2,FALSE)))","v":0.87},0]
["CEMT VIcM4leegbeide","CEMT VIc","M4","leeg","beide","Fijn Stof",5.7843737249708651,{"$f":"VLOOKUP(A1196,Begin:Einde,7,FALSE)","v":0},1,{"$f":"VLOOKUP(Jaar,Trendfactoren!$A$2:$D$43,(HLOOKUP(Emissieberekening!F1196,Trendfactoren!$A$1:$C$2,2,FALSE)))","v":0.76},0]
["CEMT VIcM4leegbeide","CEMT VIc","M4","leeg","beide","NOx",170.88926088982674,{"$f":"VLOOKUP(A1197,Begin:Einde,7,FALSE)","v":0},1,{"$f":"VLOOKUP(Jaar,Trendfactoren!$A$2:$D$43,(HLOOKUP(Emissieberekening!F1197,Trendfactoren!$A$1:$C$2,2,FALSE)))","v":0.87},0]
["CEMT VIcM5geladenbeide","CEMT VIc","M5","geladen","beide","Fijn Stof",10.866602624723967,{"$f":"VLOOKUP(A1198,Begin:Einde,7,FALSE)","v":0},1,{"$f":"VLOOKUP(Jaar,Trendfactoren!$A$2:$D$43,(HLOOKUP(Emissieberekening!F1198,Trendfactoren!$A$1:$C$2,2,FALSE)))","v":0.76},0]
["CEMT VIcM5geladenbeide","CEMT VIc","M5","geladen","beide","NOx",321.03487416554924,{"$f":"VLOOKUP(A1199,Begin:Einde,7,FALSE)","v":0},1,{"$f":"VLOOKUP(Jaar,Trendfactoren!$A$2:$D$43,(HLOOKUP(Emissieberekening!F1199,Trendfactoren!$A$1:$C$2,2,FALSE)))","v":0.87},0]
["CEMT VIcM5leegbeide","CEMT VIc","M5","leeg","beide","Fijn Stof",6.2723984841906537,{"$f":"VLOOKUP(A1200,Begin:Einde,7,FALSE)","v":0},1,{"$f":"VLOOKUP(Jaar,Trendfactoren!$A$2:$D$43,(HLOOKUP(Emissieberekening!F1200,Trendfactoren!$A$1:$C$2,2,FALSE)))","v":0.76},0]
["CEMT VIcM5leegbeide","CEMT VIc","M5","leeg","beide","NOx",185.30710357502176,{"$f":"VLOOKUP(A1201,Begin:Einde,7,FALSE)","v":0},1,{"$f":"VLOOKUP(Jaar,Trendfactoren!$A$2:$D$43,(HLOOKUP(Emissieberekening!F1201,Trendfactoren!$A$1:$C$2,2,FALSE)))","v":0.87},0]
["CEMT VIcM6geladenbeide","CEMT VIc","M6","geladen","beide","Fijn Stof",13.54167714586101,{"$f":"VLOOKUP(A1202,Begin:Einde,7,FALSE)","v":0},1,{"$f":"VLOOKUP(Jaar,Trendfactoren!$A$2:$D$43,(HLOOKUP(Emissieberekening!F1202,Trendfactoren!$A$1:$C$2,2,FALSE)))","v":0.76},{"$f":"+G1202*H1202*I1202*J1202","v":0}]
["CEMT VIcM6geladenbeide","CEMT VIc","M6","geladen","beide","NOx",400.06529811081708,{"$f":"VLOOKUP(A1203,Begin:Einde,7,FALSE)","v":0},1,{"$f":"VLOOKUP(Jaar,Trendfactoren!$A$2:$D$43,(HLOOKUP(Emissieberekening!F1203,Trendfactoren!$A$1:$C$2,2,FALSE)))","v":0.87},0]
["CEMT VIcM6leegbeide","CEMT VIc","M6","leeg","beide","Fijn Stof",8.74801046305803,{"$f":"VLOOKUP(A1204,Begin:Einde,7,FALSE)","v":0},1,{"$f":"VLOOKUP(Jaar,Trendfactoren!$A$2:$D$43,(HLOOKUP(Emissieberekening!F1204,Trendfactoren!$A$1:$C$2,2,FALSE)))","v":0.76},0]
["CEMT VIcM6leegbeide","CEMT VIc","M6","leeg","beide","NOx",258.4447536359674,{"$f":"VLOOKUP(A1205,Begin:Einde,7,FALSE)","v":0},1,{"$f":"VLOOKUP(Jaar,Trendfactoren!$A$2:$D$43,(HLOOKUP(Emissieberekening!F1205,Trendfactoren!$A$1:$C$2,2,FALSE)))","v":0.87},0]
["CEMT VIcM7geladenbeide","CEMT VIc","M7","geladen","beide","Fijn Stof",12.479809491162808,{"$f":"VLOOKUP(A1206,Begin:Einde,7,FALSE)","v":0},1,{"$f":"VLOOKUP(Jaar,Trendfactoren!$A$2:$D$43,(HLOOKUP(Emissieberekening!F1206,Trendfactoren!$A$1:$C$2,2,FALSE)))","v":0.76},0]
["CEMT VIcM7geladenbeide","CEMT VIc","M7","geladen","beide","NOx",368.69426516894003,{"$f":"VLOOKUP(A1207,Begin:Einde,7,FALSE)","v":0},1,{"$f":"VLOOKUP(Jaar,Trendfactoren!$A$2:$D$43,(HLOOKUP(Emissieberekening!F1207,Trendfactoren!$A$1:$C$2,2,FALSE)))","v":0.87},0]
["CEMT VIcM7leegbeide","CEMT VIc","M7","leeg","beide","Fijn Stof",10.700631945223558,{"$f":"VLOOKUP(A1208,Begin:Einde,7,FALSE)","v":0},1,{"$f":"VLOOKUP(Jaar,Trendfactoren!$A$2:$D$43,(HLOOKUP(Emissieberekening!F1208,Trendfactoren!$A$1:$C$2,2,FALSE)))","v":0.76},0]
["CEMT VIcM7leegbeide","CEMT VIc","M7","leeg","beide","NOx",316.13155911403936,{"$f":"VLOOKUP(A1209,Begin:Einde,7,FALSE)","v":0},1,{"$f":"VLOOKUP(Jaar,Trendfactoren!$A$2:$D$43,(HLOOKUP(Emissieberekening!F1209,Trendfactoren!$A$1:$C$2,2,FALSE)))","v":0.87},0]
["CEMT VIcM8geladenbeide","CEMT VIc","M8","geladen","beide","Fijn Stof",16.978241102542523,{"$f":"VLOOKUP(A1210,Begin:Einde,7,FALSE)","v":0},1,{"$f":"VLOOKUP(Jaar,Trendfactoren!$A$2:$D$43,(HLOOKUP(Emissieberekening!F1210,Trendfactoren!$A$1:$C$2,2,FALSE)))","v":0.76},0]
["CEMT VIcM8geladenbeide","CEMT VIc","M8","geladen","beide","NOx",501.59260296366529,{"$f":"VLOOKUP(A1211,Begin:Einde,7,FALSE)","v":0},1,{"$f":"VLOOKUP(Jaar,Trendfactoren!$A$2:$D$43,(HLOOKUP(Emissieberekening!F1211,Trendfactoren!$A$1:$C$2,2,FALSE)))","v":0.87},0]
["CEMT VIcM8leegbeide","CEMT VIc","M8","leeg","beide","Fijn Stof",12.420448965350287,{"$f":"VLOOKUP(A1212,Begin:Einde,7,FALSE)","v":0},1,{"$f":"VLOOKUP(Jaar,Trendfactoren!$A$2:$D$43,(HLOOKUP(Emissieberekening!F1212,Trendfactoren!$A$1:$C$2,2,FALSE)))","v":0.76},0]
["CEMT VIcM8leegbeide","CEMT VIc","M8","leeg","beide","NOx",366.94056168011775,{"$f":"VLOOKUP(A1213,Begin:Einde,7,FALSE)","v":0},1,{"$f":"VLOOKUP(Jaar,Trendfactoren!$A$2:$D$43,(HLOOKUP(Emissieberekening!F1213,Trendfactoren!$A$1:$C$2,2,FALSE)))","v":0.87},0]
["CEMT VIcM9geladenbeide","CEMT VIc","M9","geladen","beide","Fijn Stof",18.531443788882974,{"$f":"VLOOKUP(A1214,Begin:Einde,7,FALSE)","v":0},1,{"$f":"VLOOKUP(Jaar,Trendfactoren!$A$2:$D$43,(HLOOKUP(Emissieberekening!F1214,Trendfactoren!$A$1:$C$2,2,FALSE)))","v":0.76},0]
["CEMT VIcM9geladenbeide","CEMT VIc","M9","geladen","beide","NOx",547.47927483187198,{"$f":"VLOOKUP(A1215,Begin:Einde,7,FALSE)","v":0},1,{"$f":"VLOOKUP(Jaar,Trendfactoren!$A$2:$D$43,(HLOOKUP(Emissieberekening!F1215,Trendfactoren!$A$1:$C$2,2,FALSE)))","v":0.87},0]
[{"$f":"+B1216&C1216&D1216&E1216","v":"CEMT VIcM9leegbeide"},"CEMT VIc","M9","leeg","beide","Fijn Stof",14.457066037995276,{"$f":"VLOOKUP(A1216,Begin:Einde,7,FALSE)","v":0},{"$f":"+Afstand","v":1},{"$f":"VLOOKUP(Jaar,Trendfactoren!$A$2:$D$43,(HLOOKUP(Emissieberekening!F1216,Trendfactoren!$A$1:$C$2,2,FALSE)))","v":0.76},0]
["CEMT VIcM9leegbeide","CEMT VIc","M9","leeg","beide","NOx",427.10887078460223,{"$f":"VLOOKUP(A1217,Begin:Einde,7,FALSE)","v":0},1,{"$f":"VLOOKUP(Jaar,Trendfactoren!$A$2:$D$43,(HLOOKUP(Emissieberekening!F1217,Trendfactoren!$A$1:$C$2,2,FALSE)))","v":0.87},0]
["IJsselBIgeladenaf","IJssel","BI","geladen","af","Fijn Stof",11.87411731631275,{"$f":"VLOOKUP(A1218,Begin:Einde,7,FALSE)","v":0},1,{"$f":"VLOOKUP(Jaar,Trendfactoren!$A$2:$D$43,(HLOOKUP(Emissieberekening!F1218,Trendfactoren!$A$1:$C$2,2,FALSE)))","v":0.76},0]
["IJsselBIgeladenaf","IJssel","BI","geladen","af","NOx",350.80014334896731,{"$f":"VLOOKUP(A1219,Begin:Einde,7,FALSE)","v":0},1,{"$f":"VLOOKUP(Jaar,Trendfactoren!$A$2:$D$43,(HLOOKUP(Emissieberekening!F1219,Trendfactoren!$A$1:$C$2,2,FALSE)))","v":0.87},0]
["IJsselBIgeladenop","IJssel","BI","geladen","op","Fijn Stof",14.888728509208477,{"$f":"VLOOKUP(A1220,Begin:Einde,7,FALSE)","v":0},1,{"$f":"VLOOKUP(Jaar,Trendfactoren!$A$2:$D$43,(HLOOKUP(Emissieberekening!F1220,Trendfactoren!$A$1:$C$2,2,FALSE)))","v":0.76},0]
["IJsselBIgeladenop","IJssel","BI","geladen","op","NOx",439.86158770208857,{"$f":"VLOOKUP(A1221,Begin:Einde,7,FALSE)","v":0},1,{"$f":"VLOOKUP(Jaar,Trendfactoren!$A$2:$D$43,(HLOOKUP(Emissieberekening!F1221,Trendfactoren!$A$1:$C$2,2,FALSE)))","v":0.87},0]
["IJsselBIleegaf","IJssel","BI","leeg","af","Fijn Stof",6.7559045114629761,{"$f":"VLOOKUP(A1222,Begin:Einde,7,FALSE)","v":0},1,{"$f":"VLOOKUP(Jaar,Trendfactoren!$A$2:$D$43,(HLOOKUP(Emissieberekening!F1222,Trendfactoren!$A$1:$C$2,2,FALSE)))","v":0.76},0]
["IJsselBIleegaf","IJssel","BI","leeg","af","NOx",199.59144818430087,{"$f":"VLOOKUP(A1223,Begin:Einde,7,FALSE)","v":0},1,{"$f":"VLOOKUP(Jaar,Trendfactoren!$A$2:$D$43,(HLOOKUP(Emissieberekening!F1223,Trendfactoren!$A$1:$C$2,2,FALSE)))","v":0.87},0]
["IJsselBIleegop","IJssel","BI","leeg","op","Fijn Stof",8.4360156201818075,{"$f":"VLOOKUP(A1224,Begin:Einde,7,FALSE)","v":0},1,{"$f":"VLOOKUP(Jaar,Trendfactoren!$A$2:$D$43,(HLOOKUP(Emissieberekening!F1224,Trendfactoren!$A$1:$C$2,2,FALSE)))","v":0.76},0]
["IJsselBIleegop","IJssel","BI","leeg","op","NOx",249.22740865869002,{"$f":"VLOOKUP(A1225,Begin:Einde,7,FALSE)","v":0},1,{"$f":"VLOOKUP(Jaar,Trendfactoren!$A$2:$D$43,(HLOOKUP(Emissieberekening!F1225,Trendfactoren!$A$1:$C$2,2,FALSE)))","v":0.87},0]
["IJsselBII-1geladenaf","IJssel","BII-1","geladen","af","Fijn Stof",14.869713848748463,{"$f":"VLOOKUP(A1226,Begin:Einde,7,FALSE)","v":0},1,{"$f":"VLOOKUP(Jaar,Trendfactoren!$A$2:$D$43,(HLOOKUP(Emissieberekening!F1226,Trendfactoren!$A$1:$C$2,2,FALSE)))","v":0.76},0]
["IJsselBII-1geladenaf","IJssel","BII-1","geladen","af","NOx",439.29983263117117,{"$f":"VLOOKUP(A1227,Begin:Einde,7,FALSE)","v":0},1,{"$f":"VLOOKUP(Jaar,Trendfactoren!$A$2:$D$43,(HLOOKUP(Emissieberekening!F1227,Trendfactoren!$A$1:$C$2,2,FALSE)))","v":0.87},0]
["IJsselBII-1geladenop","IJssel","BII-1","geladen","op","Fijn Stof",21.302015336481148,{"$f":"VLOOKUP(A1228,Begin:Einde,7,FALSE)","v":0},1,{"$f":"VLOOKUP(Jaar,Trendfactoren!$A$2:$D$43,(HLOOKUP(Emissieberekening!F1228,Trendfactoren!$A$1:$C$2,2,FALSE)))","v":0.76},0]
["IJsselBII-1geladenop","IJssel","BII-1","geladen","op","NOx",629.33099232507709,{"$f":"VLOOKUP(A1229,Begin:Einde,7,FALSE)","v":0},1,{"$f":"VLOOKUP(Jaar,Trendfactoren!$A$2:$D$43,(HLOOKUP(Emissieberekening!F1229,Trendfactoren!$A$1:$C$2,2,FALSE)))","v":0.87},0]
["IJsselBII-1leegaf","IJssel","BII-1","leeg","af","Fijn Stof",9.4147172548176101,{"$f":"VLOOKUP(A1230,Begin:Einde,7,FALSE)","v":0},1,{"$f":"VLOOKUP(Jaar,Trendfactoren!$A$2:$D$43,(HLOOKUP(Emissieberekening!F1230,Trendfactoren!$A$1:$C$2,2,FALSE)))","v":0.76},0]
["IJsselBII-1leegaf","IJssel","BII-1","leeg","af","NOx",278.14144618924729,{"$f":"VLOOKUP(A1231,Begin:Einde,7,FALSE)","v":0},1,{"$f":"VLOOKUP(Jaar,Trendfactoren!$A$2:$D$43,(HLOOKUP(Emissieberekening!F1231,Trendfactoren!$A$1:$C$2,2,FALSE)))","v":0.87},0]
["IJsselBII-1leegop","IJssel","BII-1","leeg","op","Fijn Stof",11.484692204425482,{"$f":"VLOOKUP(A1232,Begin:Einde,7,FALSE)","v":0},1,{"$f":"VLOOKUP(Jaar,Trendfactoren!$A$2:$D$43,(HLOOKUP(Emissieberekening!F1232,Trendfactoren!$A$1:$C$2,2,FALSE)))","v":0.76},0]
["IJsselBII-1leegop","IJssel","BII-1","leeg","op","NOx",339.2952557489379,{"$f":"VLOOKUP(A1233,Begin:Einde,7,FALSE)","v":0},1,{"$f":"VLOOKUP(Jaar,Trendfactoren!$A$2:$D$43,(HLOOKUP(Emissieberekening!F1233,Trendfactoren!$A$1:$C$2,2,FALSE)))","v":0.87},0]
["IJsselBO1geladenaf","IJssel","BO1","geladen","af","Fijn Stof",3.5717304604283502,{"$f":"VLOOKUP(A1234,Begin:Einde,7,FALSE)","v":0},1,{"$f":"VLOOKUP(Jaar,Trendfactoren!$A$2:$D$43,(HLOOKUP(Emissieberekening!F1234,Trendfactoren!$A$1:$C$2,2,FALSE)))","v":0.76},0]
["IJsselBO1geladenaf","IJssel","BO1","geladen","af","NOx",105.52056410970503,{"$f":"VLOOKUP(A1235,Begin:Einde,7,FALSE)","v":0},1,{"$f":"VLOOKUP(Jaar,Trendfactoren!$A$2:$D$43,(HLOOKUP(Emissieberekening!F1235,Trendfactoren!$A$1:$C$2,2,FALSE)))","v":0.87},0]
["IJsselBO1geladenop","IJssel","BO1","geladen","op","Fijn Stof",4.93479956410002,{"$f":"VLOOKUP(A1236,Begin:Einde,7,FALSE)","v":0},1,{"$f":"VLOOKUP(Jaar,Trendfactoren!$A$2:$D$43,(HLOOKUP(Emissieberekening!F1236,Trendfactoren!$A$1:$C$2,2,FALSE)))","v":0.76},0]
["IJsselBO1geladenop","IJssel","BO1","geladen","op","NOx",145.79006997905196,{"$f":"VLOOKUP(A1237,Begin:Einde,7,FALSE)","v":0},1,{"$f":"VLOOKUP(Jaar,Trendfactoren!$A$2:$D$43,(HLOOKUP(Emissieberekening!F1237,Trendfactoren!$A$1:$C$2,2,FALSE)))","v":0.87},0]
["IJsselBO1leegaf","IJssel","BO1","leeg","af","Fijn Stof",2.8495675133960741,{"$f":"VLOOKUP(A1238,Begin:Einde,7,FALSE)","v":0},1,{"$f":"VLOOKUP(Jaar,Trendfactoren!$A$2:$D$43,(HLOOKUP(Emissieberekening!F1238,Trendfactoren!$A$1:$C$2,2,FALSE)))","v":0.76},0]
["IJsselBO1leegaf","IJssel","BO1","leeg","af","NOx",84.185515904294277,{"$f":"VLOOKUP(A1239,Begin:Einde,7,FALSE)","v":0},1,{"$f":"VLOOKUP(Jaar,Trendfactoren!$A$2:$D$43,(HLOOKUP(Emissieberekening!F1239,Trendfactoren!$A$1:$C$2,2,FALSE)))","v":0.87},0]
["IJsselBO1leegop","IJssel","BO1","leeg","op","Fijn Stof",3.5063504575424975,{"$f":"VLOOKUP(A1240,Begin:Einde,7,FALSE)","v":0},1,{"$f":"VLOOKUP(Jaar,Trendfactoren!$A$2:$D$43,(HLOOKUP(Emissieberekening!F1240,Trendfactoren!$A$1:$C$2,2,FALSE)))","v":0.76},0]
["IJsselBO1leegop","IJssel","BO1","leeg","op","NOx",103.58902564048306,{"$f":"VLOOKUP(A1241,Begin:Einde,7,FALSE)","v":0},1,{"$f":"VLOOKUP(Jaar,Trendfactoren!$A$2:$D$43,(HLOOKUP(Emissieberekening!F1241,Trendfactoren!$A$1:$C$2,2,FALSE)))","v":0.87},0]
["IJsselBO2geladenaf","IJssel","BO2","geladen","af","Fijn Stof",7.7287708050428696,{"$f":"VLOOKUP(A1242,Begin:Einde,7,FALSE)","v":0},1,{"$f":"VLOOKUP(Jaar,Trendfactoren!$A$2:$D$43,(HLOOKUP(Emissieberekening!F1242,Trendfactoren!$A$1:$C$2,2,FALSE)))","v":0.76},0]
["IJsselBO2geladenaf","IJssel","BO2","geladen","af","NOx",228.33309071282383,{"$f":"VLOOKUP(A1243,Begin:Einde,7,FALSE)","v":0},1,{"$f":"VLOOKUP(Jaar,Trendfactoren!$A$2:$D$43,(HLOOKUP(Emissieberekening!F1243,Trendfactoren!$A$1:$C$2,2,FALSE)))","v":0.87},0]
["IJsselBO2geladenop","IJssel","BO2","geladen","op","Fijn Stof",11.025085224378982,{"$f":"VLOOKUP(A1244,Begin:Einde,7,FALSE)","v":0},1,{"$f":"VLOOKUP(Jaar,Trendfactoren!$A$2:$D$43,(HLOOKUP(Emissieberekening!F1244,Trendfactoren!$A$1:$C$2,2,FALSE)))","v":0.76},0]
["IJsselBO2geladenop","IJssel","BO2","geladen","op","NOx",325.71696692211282,{"$f":"VLOOKUP(A1245,Begin:Einde,7,FALSE)","v":0},1,{"$f":"VLOOKUP(Jaar,Trendfactoren!$A$2:$D$43,(HLOOKUP(Emissieberekening!F1245,Trendfactoren!$A$1:$C$2,2,FALSE)))","v":0.87},0]
["IJsselBO2leegaf","IJssel","BO2","leeg","af","Fijn Stof",3.818643783724184,{"$f":"VLOOKUP(A1246,Begin:Einde,7,FALSE)","v":0},1,{"$f":"VLOOKUP(Jaar,Trendfactoren!$A$2:$D$43,(HLOOKUP(Emissieberekening!F1246,Trendfactoren!$A$1:$C$2,2,FALSE)))","v":0.76},0]
["IJsselBO2leegaf","IJssel","BO2","leeg","af","NOx",112.81518878786558,{"$f":"VLOOKUP(A1247,Begin:Einde,7,FALSE)","v":0},1,{"$f":"VLOOKUP(Jaar,Trendfactoren!$A$2:$D$43,(HLOOKUP(Emissieberekening!F1247,Trendfactoren!$A$1:$C$2,2,FALSE)))","v":0.87},0]
["IJsselBO2leegop","IJssel","BO2","leeg","op","Fijn Stof",4.7090893377472263,{"$f":"VLOOKUP(A1248,Begin:Einde,7,FALSE)","v":0},1,{"$f":"VLOOKUP(Jaar,Trendfactoren!$A$2:$D$43,(HLOOKUP(Emissieberekening!F1248,Trendfactoren!$A$1:$C$2,2,FALSE)))","v":0.76},0]
["IJsselBO2leegop","IJssel","BO2","leeg","op","NOx",139.1218539213319,{"$f":"VLOOKUP(A1249,Begin:Einde,7,FALSE)","v":0},1,{"$f":"VLOOKUP(Jaar,Trendfactoren!$A$2:$D$43,(HLOOKUP(Emissieberekening!F1249,Trendfactoren!$A$1:$C$2,2,FALSE)))","v":0.87},0]
["IJsselBO3geladenaf","IJssel","BO3","geladen","af","Fijn Stof",11.248022318341532,{"$f":"VLOOKUP(A1250,Begin:Einde,7,FALSE)","v":0},1,{"$f":"VLOOKUP(Jaar,Trendfactoren!$A$2:$D$43,(HLOOKUP(Emissieberekening!F1250,Trendfactoren!$A$1:$C$2,2,FALSE)))","v":0.76},0]
["IJsselBO3geladenaf","IJssel","BO3","geladen","af","NOx",332.30325560669775,{"$f":"VLOOKUP(A1251,Begin:Einde,7,FALSE)","v":0},1,{"$f":"VLOOKUP(Jaar,Trendfactoren!$A$2:$D$43,(HLOOKUP(Emissieberekening!F1251,Trendfactoren!$A$1:$C$2,2,FALSE)))","v":0.87},0]
["IJsselBO3geladenop","IJssel","BO3","geladen","op","Fijn Stof",11.951250651310534,{"$f":"VLOOKUP(A1252,Begin:Einde,7,FALSE)","v":0},1,{"$f":"VLOOKUP(Jaar,Trendfactoren!$A$2:$D$43,(HLOOKUP(Emissieberekening!F1252,Trendfactoren!$A$1:$C$2,2,FALSE)))","v":0.76},0]
["IJsselBO3geladenop","IJssel","BO3","geladen","op","NOx",353.07891357275759,{"$f":"VLOOKUP(A1253,Begin:Einde,7,FALSE)","v":0},1,{"$f":"VLOOKUP(Jaar,Trendfactoren!$A$2:$D$43,(HLOOKUP(Emissieberekening!F1253,Trendfactoren!$A$1:$C$2,2,FALSE)))","v":0.87},0]
["IJsselBO3leegaf","IJssel","BO3","leeg","af","Fijn Stof",4.6186327710682322,{"$f":"VLOOKUP(A1254,Begin:Einde,7,FALSE)","v":0},1,{"$f":"VLOOKUP(Jaar,Trendfactoren!$A$2:$D$43,(HLOOKUP(Emissieberekening!F1254,Trendfactoren!$A$1:$C$2,2,FALSE)))","v":0.76},0]
["IJsselBO3leegaf","IJssel","BO3","leeg","af","NOx",136.44947199073965,{"$f":"VLOOKUP(A1255,Begin:Einde,7,FALSE)","v":0},1,{"$f":"VLOOKUP(Jaar,Trendfactoren!$A$2:$D$43,(HLOOKUP(Emissieberekening!F1255,Trendfactoren!$A$1:$C$2,2,FALSE)))","v":0.87},0]
["IJsselBO3leegop","IJssel","BO3","leeg","op","Fijn Stof",5.7849084404564408,{"$f":"VLOOKUP(A1256,Begin:Einde,7,FALSE)","v":0},1,{"$f":"VLOOKUP(Jaar,Trendfactoren!$A$2:$D$43,(HLOOKUP(Emissieberekening!F1256,Trendfactoren!$A$1:$C$2,2,FALSE)))","v":0.76},0]
["IJsselBO3leegop","IJssel","BO3","leeg","op","NOx",170.90505812881256,{"$f":"VLOOKUP(A1257,Begin:Einde,7,FALSE)","v":0},1,{"$f":"VLOOKUP(Jaar,Trendfactoren!$A$2:$D$43,(HLOOKUP(Emissieberekening!F1257,Trendfactoren!$A$1:$C$2,2,FALSE)))","v":0.87},0]
["IJsselBO4geladenaf","IJssel","BO4","geladen","af","Fijn Stof",9.7510695355251293,{"$f":"VLOOKUP(A1258,Begin:Einde,7,FALSE)","v":0},1,{"$f":"VLOOKUP(Jaar,Trendfactoren!$A$2:$D$43,(HLOOKUP(Emissieberekening!F1258,Trendfactoren!$A$1:$C$2,2,FALSE)))","v":0.76},0]
["IJsselBO4geladenaf","IJssel","BO4","geladen","af","NOx",288.07838930213467,{"$f":"VLOOKUP(A1259,Begin:Einde,7,FALSE)","v":0},1,{"$f":"VLOOKUP(Jaar,Trendfactoren!$A$2:$D$43,(HLOOKUP(Emissieberekening!F1259,Trendfactoren!$A$1:$C$2,2,FALSE)))","v":0.87},0]
["IJsselBO4geladenop","IJssel","BO4","geladen","op","Fijn Stof",14.522494760798235,{"$f":"VLOOKUP(A1260,Begin:Einde,7,FALSE)","v":0},1,{"$f":"VLOOKUP(Jaar,Trendfactoren!$A$2:$D$43,(HLOOKUP(Emissieberekening!F1260,Trendfactoren!$A$1:$C$2,2,FALSE)))","v":0.76},0]
["IJsselBO4geladenop","IJssel","BO4","geladen","op","NOx",429.04184859903603,{"$f":"VLOOKUP(A1261,Begin:Einde,7,FALSE)","v":0},1,{"$f":"VLOOKUP(Jaar,Trendfactoren!$A$2:$D$43,(HLOOKUP(Emissieberekening!F1261,Trendfactoren!$A$1:$C$2,2,FALSE)))","v":0.87},0]
["IJsselBO4leegaf","IJssel","BO4","leeg","af","Fijn Stof",5.5218289638708091,{"$f":"VLOOKUP(A1262,Begin:Einde,7,FALSE)","v":0},1,{"$f":"VLOOKUP(Jaar,Trendfactoren!$A$2:$D$43,(HLOOKUP(Emissieberekening!F1262,Trendfactoren!$A$1:$C$2,2,FALSE)))","v":0.76},0]
["IJsselBO4leegaf","IJssel","BO4","leeg","af","NOx",163.13283256964408,{"$f":"VLOOKUP(A1263,Begin:Einde,7,FALSE)","v":0},1,{"$f":"VLOOKUP(Jaar,Trendfactoren!$A$2:$D$43,(HLOOKUP(Emissieberekening!F1263,Trendfactoren!$A$1:$C$2,2,FALSE)))","v":0.87},0]
["IJsselBO4leegop","IJssel","BO4","leeg","op","Fijn Stof",6.8875688117411897,{"$f":"VLOOKUP(A1264,Begin:Einde,7,FALSE)","v":0},1,{"$f":"VLOOKUP(Jaar,Trendfactoren!$A$2:$D$43,(HLOOKUP(Emissieberekening!F1264,Trendfactoren!$A$1:$C$2,2,FALSE)))","v":0.76},0]
["IJsselBO4leegop","IJssel","BO4","leeg","op","NOx",203.48124093109192,{"$f":"VLOOKUP(A1265,Begin:Einde,7,FALSE)","v":0},1,{"$f":"VLOOKUP(Jaar,Trendfactoren!$A$2:$D$43,(HLOOKUP(Emissieberekening!F1265,Trendfactoren!$A$1:$C$2,2,FALSE)))","v":0.87},0]
["IJsselC1bgeladenaf","IJssel","C1b","geladen","af","Fijn Stof",7.2036594257931563,{"$f":"VLOOKUP(A1266,Begin:Einde,7,FALSE)","v":0},1,{"$f":"VLOOKUP(Jaar,Trendfactoren!$A$2:$D$43,(HLOOKUP(Emissieberekening!F1266,Trendfactoren!$A$1:$C$2,2,FALSE)))","v":0.76},{"$f":"+G1266*H1266*I1266*J1266","v":0}]
["IJsselC1bgeladenaf","IJssel","C1b","geladen","af","NOx",212.8195883439441,{"$f":"VLOOKUP(A1267,Begin:Einde,7,FALSE)","v":0},1,{"$f":"VLOOKUP(Jaar,Trendfactoren!$A$2:$D$43,(HLOOKUP(Emissieberekening!F1267,Trendfactoren!$A$1:$C$2,2,FALSE)))","v":0.87},0]
["IJsselC1bgeladenop","IJssel","C1b","geladen","op","Fijn Stof",6.074750050176088,{"$f":"VLOOKUP(A1268,Begin:Einde,7,FALSE)","v":0},1,{"$f":"VLOOKUP(Jaar,Trendfactoren!$A$2:$D$43,(HLOOKUP(Emissieberekening!F1268,Trendfactoren!$A$1:$C$2,2,FALSE)))","v":0.76},0]
["IJsselC1bgeladenop","IJssel","C1b","geladen","op","NOx",179.4679243638011,{"$f":"VLOOKUP(A1269,Begin:Einde,7,FALSE)","v":0},1,{"$f":"VLOOKUP(Jaar,Trendfactoren!$A$2:$D$43,(HLOOKUP(Emissieberekening!F1269,Trendfactoren!$A$1:$C$2,2,FALSE)))","v":0.87},0]
["IJsselC1bleegaf","IJssel","C1b","leeg","af","Fijn Stof",2.4349348913545019,{"$f":"VLOOKUP(A1270,Begin:Einde,7,FALSE)","v":0},1,{"$f":"VLOOKUP(Jaar,Trendfactoren!$A$2:$D$43,(HLOOKUP(Emissieberekening!F1270,Trendfactoren!$A$1:$C$2,2,FALSE)))","v":0.76},0]
["IJsselC1bleegaf","IJssel","C1b","leeg","af","NOx",71.935916260410252,{"$f":"VLOOKUP(A1271,Begin:Einde,7,FALSE)","v":0},1,{"$f":"VLOOKUP(Jaar,Trendfactoren!$A$2:$D$43,(HLOOKUP(Emissieberekening!F1271,Trendfactoren!$A$1:$C$2,2,FALSE)))","v":0.87},0]
["IJsselC1bleegop","IJssel","C1b","leeg","op","Fijn Stof",3.0648445223960077,{"$f":"VLOOKUP(A1272,Begin:Einde,7,FALSE)","v":0},1,{"$f":"VLOOKUP(Jaar,Trendfactoren!$A$2:$D$43,(HLOOKUP(Emissieberekening!F1272,Trendfactoren!$A$1:$C$2,2,FALSE)))","v":0.76},0]
["IJsselC1bleegop","IJssel","C1b","leeg","op","NOx",90.545500701914975,{"$f":"VLOOKUP(A1273,Begin:Einde,7,FALSE)","v":0},1,{"$f":"VLOOKUP(Jaar,Trendfactoren!$A$2:$D$43,(HLOOKUP(Emissieberekening!F1273,Trendfactoren!$A$1:$C$2,2,FALSE)))","v":0.87},0]
["IJsselC1lgeladenaf","IJssel","C1l","geladen","af","Fijn Stof",5.1974266291860509,{"$f":"VLOOKUP(A1274,Begin:Einde,7,FALSE)","v":0},1,{"$f":"VLOOKUP(Jaar,Trendfactoren!$A$2:$D$43,(HLOOKUP(Emissieberekening!F1274,Trendfactoren!$A$1:$C$2,2,FALSE)))","v":0.76},0]
["IJsselC1lgeladenaf","IJssel","C1l","geladen","af","NOx",153.54892982734816,{"$f":"VLOOKUP(A1275,Begin:Einde,7,FALSE)","v":0},1,{"$f":"VLOOKUP(Jaar,Trendfactoren!$A$2:$D$43,(HLOOKUP(Emissieberekening!F1275,Trendfactoren!$A$1:$C$2,2,FALSE)))","v":0.87},0]
["IJsselC1lgeladenop","IJssel","C1l","geladen","op","Fijn Stof",5.1359389349716293,{"$f":"VLOOKUP(A1276,Begin:Einde,7,FALSE)","v":0},1,{"$f":"VLOOKUP(Jaar,Trendfactoren!$A$2:$D$43,(HLOOKUP(Emissieberekening!F1276,Trendfactoren!$A$1:$C$2,2,FALSE)))","v":0.76},0]
["IJsselC1lgeladenop","IJssel","C1l","geladen","op","NOx",151.73238284789531,{"$f":"VLOOKUP(A1277,Begin:Einde,7,FALSE)","v":0},1,{"$f":"VLOOKUP(Jaar,Trendfactoren!$A$2:$D$43,(HLOOKUP(Emissieberekening!F1277,Trendfactoren!$A$1:$C$2,2,FALSE)))","v":0.87},0]
["IJsselC1lleegaf","IJssel","C1l","leeg","af","Fijn Stof",2.1325136114912842,{"$f":"VLOOKUP(A1278,Begin:Einde,7,FALSE)","v":0},1,{"$f":"VLOOKUP(Jaar,Trendfactoren!$A$2:$D$43,(HLOOKUP(Emissieberekening!F1278,Trendfactoren!$A$1:$C$2,2,FALSE)))","v":0.76},0]
["IJsselC1lleegaf","IJssel","C1l","leeg","af","NOx",63.001405550965885,{"$f":"VLOOKUP(A1279,Begin:Einde,7,FALSE)","v":0},1,{"$f":"VLOOKUP(Jaar,Trendfactoren!$A$2:$D$43,(HLOOKUP(Emissieberekening!F1279,Trendfactoren!$A$1:$C$2,2,FALSE)))","v":0.87},0]
[{"$f":"+B1280&C1280&D1280&E1280","v":"IJsselC1lleegop"},"IJssel","C1l","leeg","op","Fijn Stof",2.8679614158503308,{"$f":"VLOOKUP(A1280,Begin:Einde,7,FALSE)","v":0},{"$f":"+Afstand","v":1},{"$f":"VLOOKUP(Jaar,Trendfactoren!$A$2:$D$43,(HLOOKUP(Emissieberekening!F1280,Trendfactoren!$A$1:$C$2,2,FALSE)))","v":0.76},0]
["IJsselC1lleegop","IJssel","C1l","leeg","op","NOx",84.728931759621503,{"$f":"VLOOKUP(A1281,Begin:Einde,7,FALSE)","v":0},1,{"$f":"VLOOKUP(Jaar,Trendfactoren!$A$2:$D$43,(HLOOKUP(Emissieberekening!F1281,Trendfactoren!$A$1:$C$2,2,FALSE)))","v":0.87},0]
["IJsselM0geladenaf","IJssel","M0","geladen","af","Fijn Stof",2.1545543886340965,{"$f":"VLOOKUP(A1282,Begin:Einde,7,FALSE)","v":0},1,{"$f":"VLOOKUP(Jaar,Trendfactoren!$A$2:$D$43,(HLOOKUP(Emissieberekening!F1282,Trendfactoren!$A$1:$C$2,2,FALSE)))","v":0.76},0]
["IJsselM0geladenaf","IJssel","M0","geladen","af","NOx",63.652561975923824,{"$f":"VLOOKUP(A1283,Begin:Einde,7,FALSE)","v":0},1,{"$f":"VLOOKUP(Jaar,Trendfactoren!$A$2:$D$43,(HLOOKUP(Emissieberekening!F1283,Trendfactoren!$A$1:$C$2,2,FALSE)))","v":0.87},0]
["IJsselM0geladenop","IJssel","M0","geladen","op","Fijn Stof",1.8132603760818717,{"$f":"VLOOKUP(A1284,Begin:Einde,7,FALSE)","v":0},1,{"$f":"VLOOKUP(Jaar,Trendfactoren!$A$2:$D$43,(HLOOKUP(Emissieberekening!F1284,Trendfactoren!$A$1:$C$2,2,FALSE)))","v":0.76},0]
["IJsselM0geladenop","IJssel","M0","geladen","op","NOx",53.569623990884374,{"$f":"VLOOKUP(A1285,Begin:Einde,7,FALSE)","v":0},1,{"$f":"VLOOKUP(Jaar,Trendfactoren!$A$2:$D$43,(HLOOKUP(Emissieberekening!F1285,Trendfactoren!$A$1:$C$2,2,FALSE)))","v":0.87},0]
["IJsselM0leegaf","IJssel","M0","leeg","af","Fijn Stof",0.96836763933787973,{"$f":"VLOOKUP(A1286,Begin:Einde,7,FALSE)","v":0},1,{"$f":"VLOOKUP(Jaar,Trendfactoren!$A$2:$D$43,(HLOOKUP(Emissieberekening!F1286,Trendfactoren!$A$1:$C$2,2,FALSE)))","v":0.76},0]
["IJsselM0leegaf","IJssel","M0","leeg","af","NOx",28.608737613493343,{"$f":"VLOOKUP(A1287,Begin:Einde,7,FALSE)","v":0},1,{"$f":"VLOOKUP(Jaar,Trendfactoren!$A$2:$D$43,(HLOOKUP(Emissieberekening!F1287,Trendfactoren!$A$1:$C$2,2,FALSE)))","v":0.87},0]
["IJsselM0leegop","IJssel","M0","leeg","op","Fijn Stof",1.286063340809156,{"$f":"VLOOKUP(A1288,Begin:Einde,7,FALSE)","v":0},1,{"$f":"VLOOKUP(Jaar,Trendfactoren!$A$2:$D$43,(HLOOKUP(Emissieberekening!F1288,Trendfactoren!$A$1:$C$2,2,FALSE)))","v":0.76},0]
["IJsselM0leegop","IJssel","M0","leeg","op","NOx",37.994504542405764,{"$f":"VLOOKUP(A1289,Begin:Einde,7,FALSE)","v":0},1,{"$f":"VLOOKUP(Jaar,Trendfactoren!$A$2:$D$43,(HLOOKUP(Emissieberekening!F1289,Trendfactoren!$A$1:$C$2,2,FALSE)))","v":0.87},0]
["IJsselM1geladenaf","IJssel","M1","geladen","af","Fijn Stof",2.7940373804192147,{"$f":"VLOOKUP(A1290,Begin:Einde,7,FALSE)","v":0},1,{"$f":"VLOOKUP(Jaar,Trendfactoren!$A$2:$D$43,(HLOOKUP(Emissieberekening!F1290,Trendfactoren!$A$1:$C$2,2,FALSE)))","v":0.76},0]
["IJsselM1geladenaf","IJssel","M1","geladen","af","NOx",82.544974709564116,{"$f":"VLOOKUP(A1291,Begin:Einde,7,FALSE)","v":0},1,{"$f":"VLOOKUP(Jaar,Trendfactoren!$A$2:$D$43,(HLOOKUP(Emissieberekening!F1291,Trendfactoren!$A$1:$C$2,2,FALSE)))","v":0.87},0]
["IJsselM1geladenop","IJssel","M1","geladen","op","Fijn Stof",4.1380381768322909,{"$f":"VLOOKUP(A1292,Begin:Einde,7,FALSE)","v":0},1,{"$f":"VLOOKUP(Jaar,Trendfactoren!$A$2:$D$43,(HLOOKUP(Emissieberekening!F1292,Trendfactoren!$A$1:$C$2,2,FALSE)))","v":0.76},0]
["IJsselM1geladenop","IJssel","M1","geladen","op","NOx",122.25114060663815,{"$f":"VLOOKUP(A1293,Begin:Einde,7,FALSE)","v":0},1,{"$f":"VLOOKUP(Jaar,Trendfactoren!$A$2:$D$43,(HLOOKUP(Emissieberekening!F1293,Trendfactoren!$A$1:$C$2,2,FALSE)))","v":0.87},0]
["IJsselM1leegaf","IJssel","M1","leeg","af","Fijn Stof",1.7103887324961899,{"$f":"VLOOKUP(A1294,Begin:Einde,7,FALSE)","v":0},1,{"$f":"VLOOKUP(Jaar,Trendfactoren!$A$2:$D$43,(HLOOKUP(Emissieberekening!F1294,Trendfactoren!$A$1:$C$2,2,FALSE)))","v":0.76},0]
["IJsselM1leegaf","IJssel","M1","leeg","af","NOx",50.530460206741523,{"$f":"VLOOKUP(A1295,Begin:Einde,7,FALSE)","v":0},1,{"$f":"VLOOKUP(Jaar,Trendfactoren!$A$2:$D$43,(HLOOKUP(Emissieberekening!F1295,Trendfactoren!$A$1:$C$2,2,FALSE)))","v":0.87},0]
["IJsselM1leegop","IJssel","M1","leeg","op","Fijn Stof",2.2179887961388904,{"$f":"VLOOKUP(A1296,Begin:Einde,7,FALSE)","v":0},1,{"$f":"VLOOKUP(Jaar,Trendfactoren!$A$2:$D$43,(HLOOKUP(Emissieberekening!F1296,Trendfactoren!$A$1:$C$2,2,FALSE)))","v":0.76},0]
["IJsselM1leegop","IJssel","M1","leeg","op","NOx",65.526621213604372,{"$f":"VLOOKUP(A1297,Begin:Einde,7,FALSE)","v":0},1,{"$f":"VLOOKUP(Jaar,Trendfactoren!$A$2:$D$43,(HLOOKUP(Emissieberekening!F1297,Trendfactoren!$A$1:$C$2,2,FALSE)))","v":0.87},0]
["IJsselM2geladenaf","IJssel","M2","geladen","af","Fijn Stof",4.9485576717751583,{"$f":"VLOOKUP(A1298,Begin:Einde,7,FALSE)","v":0},1,{"$f":"VLOOKUP(Jaar,Trendfactoren!$A$2:$D$43,(HLOOKUP(Emissieberekening!F1298,Trendfactoren!$A$1:$C$2,2,FALSE)))","v":0.76},0]
["IJsselM2geladenaf","IJssel","M2","geladen","af","NOx",146.19652934071064,{"$f":"VLOOKUP(A1299,Begin:Einde,7,FALSE)","v":0},1,{"$f":"VLOOKUP(Jaar,Trendfactoren!$A$2:$D$43,(HLOOKUP(Emissieberekening!F1299,Trendfactoren!$A$1:$C$2,2,FALSE)))","v":0.87},0]
["IJsselM2geladenop","IJssel","M2","geladen","op","Fijn Stof",6.5507116838660906,{"$f":"VLOOKUP(A1300,Begin:Einde,7,FALSE)","v":0},1,{"$f":"VLOOKUP(Jaar,Trendfactoren!$A$2:$D$43,(HLOOKUP(Emissieberekening!F1300,Trendfactoren!$A$1:$C$2,2,FALSE)))","v":0.76},0]
["IJsselM2geladenop","IJssel","M2","geladen","op","NOx",193.52938298672379,{"$f":"VLOOKUP(A1301,Begin:Einde,7,FALSE)","v":0},1,{"$f":"VLOOKUP(Jaar,Trendfactoren!$A$2:$D$43,(HLOOKUP(Emissieberekening!F1301,Trendfactoren!$A$1:$C$2,2,FALSE)))","v":0.87},0]
["IJsselM2leegaf","IJssel","M2","leeg","af","Fijn Stof",3.328159939074598,{"$f":"VLOOKUP(A1302,Begin:Einde,7,FALSE)","v":0},1,{"$f":"VLOOKUP(Jaar,Trendfactoren!$A$2:$D$43,(HLOOKUP(Emissieberekening!F1302,Trendfactoren!$A$1:$C$2,2,FALSE)))","v":0.76},0]
["IJsselM2leegaf","IJssel","M2","leeg","af","NOx",98.324696700757102,{"$f":"VLOOKUP(A1303,Begin:Einde,7,FALSE)","v":0},1,{"$f":"VLOOKUP(Jaar,Trendfactoren!$A$2:$D$43,(HLOOKUP(Emissieberekening!F1303,Trendfactoren!$A$1:$C$2,2,FALSE)))","v":0.87},0]
["IJsselM2leegop","IJssel","M2","leeg","op","Fijn Stof",4.1169446213599015,{"$f":"VLOOKUP(A1304,Begin:Einde,7,FALSE)","v":0},1,{"$f":"VLOOKUP(Jaar,Trendfactoren!$A$2:$D$43,(HLOOKUP(Emissieberekening!F1304,Trendfactoren!$A$1:$C$2,2,FALSE)))","v":0.76},0]
["IJsselM2leegop","IJssel","M2","leeg","op","NOx",121.62796819842153,{"$f":"VLOOKUP(A1305,Begin:Einde,7,FALSE)","v":0},1,{"$f":"VLOOKUP(Jaar,Trendfactoren!$A$2:$D$43,(HLOOKUP(Emissieberekening!F1305,Trendfactoren!$A$1:$C$2,2,FALSE)))","v":0.87},0]
["IJsselM3geladenaf","IJssel","M3","geladen","af","Fijn Stof",5.8588941533400654,{"$f":"VLOOKUP(A1306,Begin:Einde,7,FALSE)","v":0},1,{"$f":"VLOOKUP(Jaar,Trendfactoren!$A$2:$D$43,(HLOOKUP(Emissieberekening!F1306,Trendfactoren!$A$1:$C$2,2,FALSE)))","v":0.76},0]
["IJsselM3geladenaf","IJssel","M3","geladen","af","NOx",173.09083733192816,{"$f":"VLOOKUP(A1307,Begin:Einde,7,FALSE)","v":0},1,{"$f":"VLOOKUP(Jaar,Trendfactoren!$A$2:$D$43,(HLOOKUP(Emissieberekening!F1307,Trendfactoren!$A$1:$C$2,2,FALSE)))","v":0.87},0]
["IJsselM3geladenop","IJssel","M3","geladen","op","Fijn Stof",8.0622403791025121,{"$f":"VLOOKUP(A1308,Begin:Einde,7,FALSE)","v":0},1,{"$f":"VLOOKUP(Jaar,Trendfactoren!$A$2:$D$43,(HLOOKUP(Emissieberekening!F1308,Trendfactoren!$A$1:$C$2,2,FALSE)))","v":0.76},0]
["IJsselM3geladenop","IJssel","M3","geladen","op","NOx",238.18486927171782,{"$f":"VLOOKUP(A1309,Begin:Einde,7,FALSE)","v":0},1,{"$f":"VLOOKUP(Jaar,Trendfactoren!$A$2:$D$43,(HLOOKUP(Emissieberekening!F1309,Trendfactoren!$A$1:$C$2,2,FALSE)))","v":0.87},0]
["IJsselM3leegaf","IJssel","M3","leeg","af","Fijn Stof",4.2227716882824673,{"$f":"VLOOKUP(A1310,Begin:Einde,7,FALSE)","v":0},1,{"$f":"VLOOKUP(Jaar,Trendfactoren!$A$2:$D$43,(HLOOKUP(Emissieberekening!F1310,Trendfactoren!$A$1:$C$2,2,FALSE)))","v":0.76},0]
["IJsselM3leegaf","IJssel","M3","leeg","af","NOx",124.75444482465761,{"$f":"VLOOKUP(A1311,Begin:Einde,7,FALSE)","v":0},1,{"$f":"VLOOKUP(Jaar,Trendfactoren!$A$2:$D$43,(HLOOKUP(Emissieberekening!F1311,Trendfactoren!$A$1:$C$2,2,FALSE)))","v":0.87},0]
["IJsselM3leegop","IJssel","M3","leeg","op","Fijn Stof",5.1827739512322344,{"$f":"VLOOKUP(A1312,Begin:Einde,7,FALSE)","v":0},1,{"$f":"VLOOKUP(Jaar,Trendfactoren!$A$2:$D$43,(HLOOKUP(Emissieberekening!F1312,Trendfactoren!$A$1:$C$2,2,FALSE)))","v":0.76},0]
["IJsselM3leegop","IJssel","M3","leeg","op","NOx",153.11604194274025,{"$f":"VLOOKUP(A1313,Begin:Einde,7,FALSE)","v":0},1,{"$f":"VLOOKUP(Jaar,Trendfactoren!$A$2:$D$43,(HLOOKUP(Emissieberekening!F1313,Trendfactoren!$A$1:$C$2,2,FALSE)))","v":0.87},0]
["IJsselM4geladenaf","IJssel","M4","geladen","af","Fijn Stof",6.1326431183776746,{"$f":"VLOOKUP(A1314,Begin:Einde,7,FALSE)","v":0},1,{"$f":"VLOOKUP(Jaar,Trendfactoren!$A$2:$D$43,(HLOOKUP(Emissieberekening!F1314,Trendfactoren!$A$1:$C$2,2,FALSE)))","v":0.76},0]
["IJsselM4geladenaf","IJssel","M4","geladen","af","NOx",181.17827436987088,{"$f":"VLOOKUP(A1315,Begin:Einde,7,FALSE)","v":0},1,{"$f":"VLOOKUP(Jaar,Trendfactoren!$A$2:$D$43,(HLOOKUP(Emissieberekening!F1315,Trendfactoren!$A$1:$C$2,2,FALSE)))","v":0.87},0]
["IJsselM4geladenop","IJssel","M4","geladen","op","Fijn Stof",8.3900674500798029,{"$f":"VLOOKUP(A1316,Begin:Einde,7,FALSE)","v":0},1,{"$f":"VLOOKUP(Jaar,Trendfactoren!$A$2:$D$43,(HLOOKUP(Emissieberekening!F1316,Trendfactoren!$A$1:$C$2,2,FALSE)))","v":0.76},0]
["IJsselM4geladenop","IJssel","M4","geladen","op","NOx",247.86994989110124,{"$f":"VLOOKUP(A1317,Begin:Einde,7,FALSE)","v":0},1,{"$f":"VLOOKUP(Jaar,Trendfactoren!$A$2:$D$43,(HLOOKUP(Emissieberekening!F1317,Trendfactoren!$A$1:$C$2,2,FALSE)))","v":0.87},0]
["IJsselM4leegaf","IJssel","M4","leeg","af","Fijn Stof",4.8949869962736585,{"$f":"VLOOKUP(A1318,Begin:Einde,7,FALSE)","v":0},1,{"$f":"VLOOKUP(Jaar,Trendfactoren!$A$2:$D$43,(HLOOKUP(Emissieberekening!F1318,Trendfactoren!$A$1:$C$2,2,FALSE)))","v":0.76},0]
["IJsselM4leegaf","IJssel","M4","leeg","af","NOx",144.61387690898761,{"$f":"VLOOKUP(A1319,Begin:Einde,7,FALSE)","v":0},1,{"$f":"VLOOKUP(Jaar,Trendfactoren!$A$2:$D$43,(HLOOKUP(Emissieberekening!F1319,Trendfactoren!$A$1:$C$2,2,FALSE)))","v":0.87},0]
["IJsselM4leegop","IJssel","M4","leeg","op","Fijn Stof",6.1879188782018604,{"$f":"VLOOKUP(A1320,Begin:Einde,7,FALSE)","v":0},1,{"$f":"VLOOKUP(Jaar,Trendfactoren!$A$2:$D$43,(HLOOKUP(Emissieberekening!F1320,Trendfactoren!$A$1:$C$2,2,FALSE)))","v":0.76},0]
["IJsselM4leegop","IJssel","M4","leeg","op","NOx",182.81130055223875,{"$f":"VLOOKUP(A1321,Begin:Einde,7,FALSE)","v":0},1,{"$f":"VLOOKUP(Jaar,Trendfactoren!$A$2:$D$43,(HLOOKUP(Emissieberekening!F1321,Trendfactoren!$A$1:$C$2,2,FALSE)))","v":0.87},0]
["IJsselM5geladenaf","IJssel","M5","geladen","af","Fijn Stof",7.4406608716728417,{"$f":"VLOOKUP(A1322,Begin:Einde,7,FALSE)","v":0},1,{"$f":"VLOOKUP(Jaar,Trendfactoren!$A$2:$D$43,(HLOOKUP(Emissieberekening!F1322,Trendfactoren!$A$1:$C$2,2,FALSE)))","v":0.76},0]
["IJsselM5geladenaf","IJssel","M5","geladen","af","NOx",219.82138384366419,{"$f":"VLOOKUP(A1323,Begin:Einde,7,FALSE)","v":0},1,{"$f":"VLOOKUP(Jaar,Trendfactoren!$A$2:$D$43,(HLOOKUP(Emissieberekening!F1323,Trendfactoren!$A$1:$C$2,2,FALSE)))","v":0.87},0]
["IJsselM5geladenop","IJssel","M5","geladen","op","Fijn Stof",10.796811015290285,{"$f":"VLOOKUP(A1324,Begin:Einde,7,FALSE)","v":0},1,{"$f":"VLOOKUP(Jaar,Trendfactoren!$A$2:$D$43,(HLOOKUP(Emissieberekening!F1324,Trendfactoren!$A$1:$C$2,2,FALSE)))","v":0.76},0]
["IJsselM5geladenop","IJssel","M5","geladen","op","NOx",318.97300245401937,{"$f":"VLOOKUP(A1325,Begin:Einde,7,FALSE)","v":0},1,{"$f":"VLOOKUP(Jaar,Trendfactoren!$A$2:$D$43,(HLOOKUP(Emissieberekening!F1325,Trendfactoren!$A$1:$C$2,2,FALSE)))","v":0.87},0]
["IJsselM5leegaf","IJssel","M5","leeg","af","Fijn Stof",5.4483229320466346,{"$f":"VLOOKUP(A1326,Begin:Einde,7,FALSE)","v":0},1,{"$f":"VLOOKUP(Jaar,Trendfactoren!$A$2:$D$43,(HLOOKUP(Emissieberekening!F1326,Trendfactoren!$A$1:$C$2,2,FALSE)))","v":0.76},0]
["IJsselM5leegaf","IJssel","M5","leeg","af","NOx",160.96122470911627,{"$f":"VLOOKUP(A1327,Begin:Einde,7,FALSE)","v":0},1,{"$f":"VLOOKUP(Jaar,Trendfactoren!$A$2:$D$43,(HLOOKUP(Emissieberekening!F1327,Trendfactoren!$A$1:$C$2,2,FALSE)))","v":0.87},0]
["IJsselM5leegop","IJssel","M5","leeg","op","Fijn Stof",6.9783757486572577,{"$f":"VLOOKUP(A1328,Begin:Einde,7,FALSE)","v":0},1,{"$f":"VLOOKUP(Jaar,Trendfactoren!$A$2:$D$43,(HLOOKUP(Emissieberekening!F1328,Trendfactoren!$A$1:$C$2,2,FALSE)))","v":0.76},0]
["IJsselM5leegop","IJssel","M5","leeg","op","NOx",206.16397394093636,{"$f":"VLOOKUP(A1329,Begin:Einde,7,FALSE)","v":0},1,{"$f":"VLOOKUP(Jaar,Trendfactoren!$A$2:$D$43,(HLOOKUP(Emissieberekening!F1329,Trendfactoren!$A$1:$C$2,2,FALSE)))","v":0.87},0]
["IJsselM6geladenaf","IJssel","M6","geladen","af","Fijn Stof",5.8311131161046248,{"$f":"VLOOKUP(A1330,Begin:Einde,7,FALSE)","v":0},1,{"$f":"VLOOKUP(Jaar,Trendfactoren!$A$2:$D$43,(HLOOKUP(Emissieberekening!F1330,Trendfactoren!$A$1:$C$2,2,FALSE)))","v":0.76},{"$f":"+G1330*H1330*I1330*J1330","v":0}]
["IJsselM6geladenaf","IJssel","M6","geladen","af","NOx",172.27009490662073,{"$f":"VLOOKUP(A1331,Begin:Einde,7,FALSE)","v":0},1,{"$f":"VLOOKUP(Jaar,Trendfactoren!$A$2:$D$43,(HLOOKUP(Emissieberekening!F1331,Trendfactoren!$A$1:$C$2,2,FALSE)))","v":0.87},0]
["IJsselM6geladenop","IJssel","M6","geladen","op","Fijn Stof",9.1721841006193063,{"$f":"VLOOKUP(A1332,Begin:Einde,7,FALSE)","v":0},1,{"$f":"VLOOKUP(Jaar,Trendfactoren!$A$2:$D$43,(HLOOKUP(Emissieberekening!F1332,Trendfactoren!$A$1:$C$2,2,FALSE)))","v":0.76},0]
["IJsselM6geladenop","IJssel","M6","geladen","op","NOx",270.97622598860499,{"$f":"VLOOKUP(A1333,Begin:Einde,7,FALSE)","v":0},1,{"$f":"VLOOKUP(Jaar,Trendfactoren!$A$2:$D$43,(HLOOKUP(Emissieberekening!F1333,Trendfactoren!$A$1:$C$2,2,FALSE)))","v":0.87},0]
["IJsselM6leegaf","IJssel","M6","leeg","af","Fijn Stof",6.1267423376146883,{"$f":"VLOOKUP(A1334,Begin:Einde,7,FALSE)","v":0},1,{"$f":"VLOOKUP(Jaar,Trendfactoren!$A$2:$D$43,(HLOOKUP(Emissieberekening!F1334,Trendfactoren!$A$1:$C$2,2,FALSE)))","v":0.76},0]
["IJsselM6leegaf","IJssel","M6","leeg","af","NOx",181.00394606551072,{"$f":"VLOOKUP(A1335,Begin:Einde,7,FALSE)","v":0},1,{"$f":"VLOOKUP(Jaar,Trendfactoren!$A$2:$D$43,(HLOOKUP(Emissieberekening!F1335,Trendfactoren!$A$1:$C$2,2,FALSE)))","v":0.87},0]
["IJsselM6leegop","IJssel","M6","leeg","op","Fijn Stof",7.7026413738594615,{"$f":"VLOOKUP(A1336,Begin:Einde,7,FALSE)","v":0},1,{"$f":"VLOOKUP(Jaar,Trendfactoren!$A$2:$D$43,(HLOOKUP(Emissieberekening!F1336,Trendfactoren!$A$1:$C$2,2,FALSE)))","v":0.76},0]
["IJsselM6leegop","IJssel","M6","leeg","op","NOx",227.56114211567009,{"$f":"VLOOKUP(A1337,Begin:Einde,7,FALSE)","v":0},1,{"$f":"VLOOKUP(Jaar,Trendfactoren!$A$2:$D$43,(HLOOKUP(Emissieberekening!F1337,Trendfactoren!$A$1:$C$2,2,FALSE)))","v":0.87},0]
["IJsselM7geladenaf","IJssel","M7","geladen","af","Fijn Stof",6.5369444085764288,{"$f":"VLOOKUP(A1338,Begin:Einde,7,FALSE)","v":0},1,{"$f":"VLOOKUP(Jaar,Trendfactoren!$A$2:$D$43,(HLOOKUP(Emissieberekening!F1338,Trendfactoren!$A$1:$C$2,2,FALSE)))","v":0.76},0]
["IJsselM7geladenaf","IJssel","M7","geladen","af","NOx",193.12265278383933,{"$f":"VLOOKUP(A1339,Begin:Einde,7,FALSE)","v":0},1,{"$f":"VLOOKUP(Jaar,Trendfactoren!$A$2:$D$43,(HLOOKUP(Emissieberekening!F1339,Trendfactoren!$A$1:$C$2,2,FALSE)))","v":0.87},0]
["IJsselM7geladenop","IJssel","M7","geladen","op","Fijn Stof",10.226886096697923,{"$f":"VLOOKUP(A1340,Begin:Einde,7,FALSE)","v":0},1,{"$f":"VLOOKUP(Jaar,Trendfactoren!$A$2:$D$43,(HLOOKUP(Emissieberekening!F1340,Trendfactoren!$A$1:$C$2,2,FALSE)))","v":0.76},0]
["IJsselM7geladenop","IJssel","M7","geladen","op","NOx",302.13556200986238,{"$f":"VLOOKUP(A1341,Begin:Einde,7,FALSE)","v":0},1,{"$f":"VLOOKUP(Jaar,Trendfactoren!$A$2:$D$43,(HLOOKUP(Emissieberekening!F1341,Trendfactoren!$A$1:$C$2,2,FALSE)))","v":0.87},0]
["IJsselM7leegaf","IJssel","M7","leeg","af","Fijn Stof",7.0542583513067667,{"$f":"VLOOKUP(A1342,Begin:Einde,7,FALSE)","v":0},1,{"$f":"VLOOKUP(Jaar,Trendfactoren!$A$2:$D$43,(HLOOKUP(Emissieberekening!F1342,Trendfactoren!$A$1:$C$2,2,FALSE)))","v":0.76},0]
["IJsselM7leegaf","IJssel","M7","leeg","af","NOx",208.40579345290715,{"$f":"VLOOKUP(A1343,Begin:Einde,7,FALSE)","v":0},1,{"$f":"VLOOKUP(Jaar,Trendfactoren!$A$2:$D$43,(HLOOKUP(Emissieberekening!F1343,Trendfactoren!$A$1:$C$2,2,FALSE)))","v":0.87},0]
[{"$f":"+B1344&C1344&D1344&E1344","v":"IJsselM7leegop"},"IJssel","M7","leeg","op","Fijn Stof",8.9247877511689158,{"$f":"VLOOKUP(A1344,Begin:Einde,7,FALSE)","v":0},{"$f":"+Afstand","v":1},{"$f":"VLOOKUP(Jaar,Trendfactoren!$A$2:$D$43,(HLOOKUP(Emissieberekening!F1344,Trendfactoren!$A$1:$C$2,2,FALSE)))","v":0.76},0]
["IJsselM7leegop","IJssel","M7","leeg","op","NOx",263.66733114283983,{"$f":"VLOOKUP(A1345,Begin:Einde,7,FALSE)","v":0},1,{"$f":"VLOOKUP(Jaar,Trendfactoren!$A$2:$D$43,(HLOOKUP(Emissieberekening!F1345,Trendfactoren!$A$1:$C$2,2,FALSE)))","v":0.87},0]
["IJsselM8geladenaf","IJssel","M8","geladen","af","Fijn Stof",13.119975829531848,{"$f":"VLOOKUP(A1346,Begin:Einde,7,FALSE)","v":0},1,{"$f":"VLOOKUP(Jaar,Trendfactoren!$A$2:$D$43,(HLOOKUP(Emissieberekening!F1346,Trendfactoren!$A$1:$C$2,2,FALSE)))","v":0.76},0]
["IJsselM8geladenaf","IJssel","M8","geladen","af","NOx",387.60686618885131,{"$f":"VLOOKUP(A1347,Begin:Einde,7,FALSE)","v":0},1,{"$f":"VLOOKUP(Jaar,Trendfactoren!$A$2:$D$43,(HLOOKUP(Emissieberekening!F1347,Trendfactoren!$A$1:$C$2,2,FALSE)))","v":0.87},0]
["IJsselM8geladenop","IJssel","M8","geladen","op","Fijn Stof",16.793263726672656,{"$f":"VLOOKUP(A1348,Begin:Einde,7,FALSE)","v":0},1,{"$f":"VLOOKUP(Jaar,Trendfactoren!$A$2:$D$43,(HLOOKUP(Emissieberekening!F1348,Trendfactoren!$A$1:$C$2,2,FALSE)))","v":0.76},0]
["IJsselM8geladenop","IJssel","M8","geladen","op","NOx",496.12776812644205,{"$f":"VLOOKUP(A1349,Begin:Einde,7,FALSE)","v":0},1,{"$f":"VLOOKUP(Jaar,Trendfactoren!$A$2:$D$43,(HLOOKUP(Emissieberekening!F1349,Trendfactoren!$A$1:$C$2,2,FALSE)))","v":0.87},0]
["IJsselM8leegaf","IJssel","M8","leeg","af","Fijn Stof",8.0550402969293131,{"$f":"VLOOKUP(A1350,Begin:Einde,7,FALSE)","v":0},1,{"$f":"VLOOKUP(Jaar,Trendfactoren!$A$2:$D$43,(HLOOKUP(Emissieberekening!F1350,Trendfactoren!$A$1:$C$2,2,FALSE)))","v":0.76},0]
["IJsselM8leegaf","IJssel","M8","leeg","af","NOx",237.97215536707975,{"$f":"VLOOKUP(A1351,Begin:Einde,7,FALSE)","v":0},1,{"$f":"VLOOKUP(Jaar,Trendfactoren!$A$2:$D$43,(HLOOKUP(Emissieberekening!F1351,Trendfactoren!$A$1:$C$2,2,FALSE)))","v":0.87},0]
["IJsselM8leegop","IJssel","M8","leeg","op","Fijn Stof",10.119767514587334,{"$f":"VLOOKUP(A1352,Begin:Einde,7,FALSE)","v":0},1,{"$f":"VLOOKUP(Jaar,Trendfactoren!$A$2:$D$43,(HLOOKUP(Emissieberekening!F1352,Trendfactoren!$A$1:$C$2,2,FALSE)))","v":0.76},0]
["IJsselM8leegop","IJssel","M8","leeg","op","NOx",298.97092981374038,{"$f":"VLOOKUP(A1353,Begin:Einde,7,FALSE)","v":0},1,{"$f":"VLOOKUP(Jaar,Trendfactoren!$A$2:$D$43,(HLOOKUP(Emissieberekening!F1353,Trendfactoren!$A$1:$C$2,2,FALSE)))","v":0.87},0]
["LekBIgeladenaf","Lek","BI","geladen","af","Fijn Stof",13.662070700878729,{"$f":"VLOOKUP(A1354,Begin:Einde,7,FALSE)","v":0},1,{"$f":"VLOOKUP(Jaar,Trendfactoren!$A$2:$D$43,(HLOOKUP(Emissieberekening!F1354,Trendfactoren!$A$1:$C$2,2,FALSE)))","v":0.76},0]
["LekBIgeladenaf","Lek","BI","geladen","af","NOx",403.62211629219769,{"$f":"VLOOKUP(A1355,Begin:Einde,7,FALSE)","v":0},1,{"$f":"VLOOKUP(Jaar,Trendfactoren!$A$2:$D$43,(HLOOKUP(Emissieberekening!F1355,Trendfactoren!$A$1:$C$2,2,FALSE)))","v":0.87},0]
["LekBIgeladenop","Lek","BI","geladen","op","Fijn Stof",18.274445535430637,{"$f":"VLOOKUP(A1356,Begin:Einde,7,FALSE)","v":0},1,{"$f":"VLOOKUP(Jaar,Trendfactoren!$A$2:$D$43,(HLOOKUP(Emissieberekening!F1356,Trendfactoren!$A$1:$C$2,2,FALSE)))","v":0.76},0]
["LekBIgeladenop","Lek","BI","geladen","op","NOx",539.88670843304919,{"$f":"VLOOKUP(A1357,Begin:Einde,7,FALSE)","v":0},1,{"$f":"VLOOKUP(Jaar,Trendfactoren!$A$2:$D$43,(HLOOKUP(Emissieberekening!F1357,Trendfactoren!$A$1:$C$2,2,FALSE)))","v":0.87},0]
["LekBIleegaf","Lek","BI","leeg","af","Fijn Stof",6.3226384631505281,{"$f":"VLOOKUP(A1358,Begin:Einde,7,FALSE)","v":0},1,{"$f":"VLOOKUP(Jaar,Trendfactoren!$A$2:$D$43,(HLOOKUP(Emissieberekening!F1358,Trendfactoren!$A$1:$C$2,2,FALSE)))","v":0.76},0]
["LekBIleegaf","Lek","BI","leeg","af","NOx",186.79135637053363,{"$f":"VLOOKUP(A1359,Begin:Einde,7,FALSE)","v":0},1,{"$f":"VLOOKUP(Jaar,Trendfactoren!$A$2:$D$43,(HLOOKUP(Emissieberekening!F1359,Trendfactoren!$A$1:$C$2,2,FALSE)))","v":0.87},0]
["LekBIleegop","Lek","BI","leeg","op","Fijn Stof",7.4872468731895054,{"$f":"VLOOKUP(A1360,Begin:Einde,7,FALSE)","v":0},1,{"$f":"VLOOKUP(Jaar,Trendfactoren!$A$2:$D$43,(HLOOKUP(Emissieberekening!F1360,Trendfactoren!$A$1:$C$2,2,FALSE)))","v":0.76},0]
["LekBIleegop","Lek","BI","leeg","op","NOx",221.19768623101297,{"$f":"VLOOKUP(A1361,Begin:Einde,7,FALSE)","v":0},1,{"$f":"VLOOKUP(Jaar,Trendfactoren!$A$2:$D$43,(HLOOKUP(Emissieberekening!F1361,Trendfactoren!$A$1:$C$2,2,FALSE)))","v":0.87},0]
["LekBII-1geladenaf","Lek","BII-1","geladen","af","Fijn Stof",19.279145203297269,{"$f":"VLOOKUP(A1362,Begin:Einde,7,FALSE)","v":0},1,{"$f":"VLOOKUP(Jaar,Trendfactoren!$A$2:$D$43,(HLOOKUP(Emissieberekening!F1362,Trendfactoren!$A$1:$C$2,2,FALSE)))","v":0.76},0]
["LekBII-1geladenaf","Lek","BII-1","geladen","af","NOx",569.56881263679304,{"$f":"VLOOKUP(A1363,Begin:Einde,7,FALSE)","v":0},1,{"$f":"VLOOKUP(Jaar,Trendfactoren!$A$2:$D$43,(HLOOKUP(Emissieberekening!F1363,Trendfactoren!$A$1:$C$2,2,FALSE)))","v":0.87},0]
["LekBII-1geladenop","Lek","BII-1","geladen","op","Fijn Stof",21.70425094488461,{"$f":"VLOOKUP(A1364,Begin:Einde,7,FALSE)","v":0},1,{"$f":"VLOOKUP(Jaar,Trendfactoren!$A$2:$D$43,(HLOOKUP(Emissieberekening!F1364,Trendfactoren!$A$1:$C$2,2,FALSE)))","v":0.76},0]
["LekBII-1geladenop","Lek","BII-1","geladen","op","NOx",641.21434376326317,{"$f":"VLOOKUP(A1365,Begin:Einde,7,FALSE)","v":0},1,{"$f":"VLOOKUP(Jaar,Trendfactoren!$A$2:$D$43,(HLOOKUP(Emissieberekening!F1365,Trendfactoren!$A$1:$C$2,2,FALSE)))","v":0.87},0]
["LekBII-1leegaf","Lek","BII-1","leeg","af","Fijn Stof",8.658975518630319,{"$f":"VLOOKUP(A1366,Begin:Einde,7,FALSE)","v":0},1,{"$f":"VLOOKUP(Jaar,Trendfactoren!$A$2:$D$43,(HLOOKUP(Emissieberekening!F1366,Trendfactoren!$A$1:$C$2,2,FALSE)))","v":0.76},0]
["LekBII-1leegaf","Lek","BII-1","leeg","af","NOx",255.81437106214858,{"$f":"VLOOKUP(A1367,Begin:Einde,7,FALSE)","v":0},1,{"$f":"VLOOKUP(Jaar,Trendfactoren!$A$2:$D$43,(HLOOKUP(Emissieberekening!F1367,Trendfactoren!$A$1:$C$2,2,FALSE)))","v":0.87},0]
["LekBII-1leegop","Lek","BII-1","leeg","op","Fijn Stof",10.132777861609279,{"$f":"VLOOKUP(A1368,Begin:Einde,7,FALSE)","v":0},1,{"$f":"VLOOKUP(Jaar,Trendfactoren!$A$2:$D$43,(HLOOKUP(Emissieberekening!F1368,Trendfactoren!$A$1:$C$2,2,FALSE)))","v":0.76},0]
["LekBII-1leegop","Lek","BII-1","leeg","op","NOx",299.35529788748744,{"$f":"VLOOKUP(A1369,Begin:Einde,7,FALSE)","v":0},1,{"$f":"VLOOKUP(Jaar,Trendfactoren!$A$2:$D$43,(HLOOKUP(Emissieberekening!F1369,Trendfactoren!$A$1:$C$2,2,FALSE)))","v":0.87},0]
["LekBO1geladenaf","Lek","BO1","geladen","af","Fijn Stof",3.377035940910373,{"$f":"VLOOKUP(A1370,Begin:Einde,7,FALSE)","v":0},1,{"$f":"VLOOKUP(Jaar,Trendfactoren!$A$2:$D$43,(HLOOKUP(Emissieberekening!F1370,Trendfactoren!$A$1:$C$2,2,FALSE)))","v":0.76},0]
["LekBO1geladenaf","Lek","BO1","geladen","af","NOx",99.768653164515456,{"$f":"VLOOKUP(A1371,Begin:Einde,7,FALSE)","v":0},1,{"$f":"VLOOKUP(Jaar,Trendfactoren!$A$2:$D$43,(HLOOKUP(Emissieberekening!F1371,Trendfactoren!$A$1:$C$2,2,FALSE)))","v":0.87},0]
["LekBO1geladenop","Lek","BO1","geladen","op","Fijn Stof",5.8739675382157888,{"$f":"VLOOKUP(A1372,Begin:Einde,7,FALSE)","v":0},1,{"$f":"VLOOKUP(Jaar,Trendfactoren!$A$2:$D$43,(HLOOKUP(Emissieberekening!F1372,Trendfactoren!$A$1:$C$2,2,FALSE)))","v":0.76},0]
["LekBO1geladenop","Lek","BO1","geladen","op","NOx",173.53615427080436,{"$f":"VLOOKUP(A1373,Begin:Einde,7,FALSE)","v":0},1,{"$f":"VLOOKUP(Jaar,Trendfactoren!$A$2:$D$43,(HLOOKUP(Emissieberekening!F1373,Trendfactoren!$A$1:$C$2,2,FALSE)))","v":0.87},0]
["LekBO1leegaf","Lek","BO1","leeg","af","Fijn Stof",2.8291977875318861,{"$f":"VLOOKUP(A1374,Begin:Einde,7,FALSE)","v":0},1,{"$f":"VLOOKUP(Jaar,Trendfactoren!$A$2:$D$43,(HLOOKUP(Emissieberekening!F1374,Trendfactoren!$A$1:$C$2,2,FALSE)))","v":0.76},0]
["LekBO1leegaf","Lek","BO1","leeg","af","NOx",83.583727782888431,{"$f":"VLOOKUP(A1375,Begin:Einde,7,FALSE)","v":0},1,{"$f":"VLOOKUP(Jaar,Trendfactoren!$A$2:$D$43,(HLOOKUP(Emissieberekening!F1375,Trendfactoren!$A$1:$C$2,2,FALSE)))","v":0.87},0]
["LekBO1leegop","Lek","BO1","leeg","op","Fijn Stof",3.3833106865829032,{"$f":"VLOOKUP(A1376,Begin:Einde,7,FALSE)","v":0},1,{"$f":"VLOOKUP(Jaar,Trendfactoren!$A$2:$D$43,(HLOOKUP(Emissieberekening!F1376,Trendfactoren!$A$1:$C$2,2,FALSE)))","v":0.76},0]
["LekBO1leegop","Lek","BO1","leeg","op","NOx",99.95402961168746,{"$f":"VLOOKUP(A1377,Begin:Einde,7,FALSE)","v":0},1,{"$f":"VLOOKUP(Jaar,Trendfactoren!$A$2:$D$43,(HLOOKUP(Emissieberekening!F1377,Trendfactoren!$A$1:$C$2,2,FALSE)))","v":0.87},0]
["LekBO2geladenaf","Lek","BO2","geladen","af","Fijn Stof",3.3190890309302152,{"$f":"VLOOKUP(A1378,Begin:Einde,7,FALSE)","v":0},1,{"$f":"VLOOKUP(Jaar,Trendfactoren!$A$2:$D$43,(HLOOKUP(Emissieberekening!F1378,Trendfactoren!$A$1:$C$2,2,FALSE)))","v":0.76},0]
["LekBO2geladenaf","Lek","BO2","geladen","af","NOx",98.056712496745305,{"$f":"VLOOKUP(A1379,Begin:Einde,7,FALSE)","v":0},1,{"$f":"VLOOKUP(Jaar,Trendfactoren!$A$2:$D$43,(HLOOKUP(Emissieberekening!F1379,Trendfactoren!$A$1:$C$2,2,FALSE)))","v":0.87},0]
["LekBO2geladenop","Lek","BO2","geladen","op","Fijn Stof",8.594945447224271,{"$f":"VLOOKUP(A1380,Begin:Einde,7,FALSE)","v":0},1,{"$f":"VLOOKUP(Jaar,Trendfactoren!$A$2:$D$43,(HLOOKUP(Emissieberekening!F1380,Trendfactoren!$A$1:$C$2,2,FALSE)))","v":0.76},0]
["LekBO2geladenop","Lek","BO2","geladen","op","NOx",253.92271397054924,{"$f":"VLOOKUP(A1381,Begin:Einde,7,FALSE)","v":0},1,{"$f":"VLOOKUP(Jaar,Trendfactoren!$A$2:$D$43,(HLOOKUP(Emissieberekening!F1381,Trendfactoren!$A$1:$C$2,2,FALSE)))","v":0.87},0]
["LekBO2leegaf","Lek","BO2","leeg","af","Fijn Stof",3.7197025012893818,{"$f":"VLOOKUP(A1382,Begin:Einde,7,FALSE)","v":0},1,{"$f":"VLOOKUP(Jaar,Trendfactoren!$A$2:$D$43,(HLOOKUP(Emissieberekening!F1382,Trendfactoren!$A$1:$C$2,2,FALSE)))","v":0.76},0]
["LekBO2leegaf","Lek","BO2","leeg","af","NOx",109.89214068781214,{"$f":"VLOOKUP(A1383,Begin:Einde,7,FALSE)","v":0},1,{"$f":"VLOOKUP(Jaar,Trendfactoren!$A$2:$D$43,(HLOOKUP(Emissieberekening!F1383,Trendfactoren!$A$1:$C$2,2,FALSE)))","v":0.87},0]
["LekBO2leegop","Lek","BO2","leeg","op","Fijn Stof",4.3509700037154788,{"$f":"VLOOKUP(A1384,Begin:Einde,7,FALSE)","v":0},1,{"$f":"VLOOKUP(Jaar,Trendfactoren!$A$2:$D$43,(HLOOKUP(Emissieberekening!F1384,Trendfactoren!$A$1:$C$2,2,FALSE)))","v":0.76},0]
["LekBO2leegop","Lek","BO2","leeg","op","NOx",128.54184107761643,{"$f":"VLOOKUP(A1385,Begin:Einde,7,FALSE)","v":0},1,{"$f":"VLOOKUP(Jaar,Trendfactoren!$A$2:$D$43,(HLOOKUP(Emissieberekening!F1385,Trendfactoren!$A$1:$C$2,2,FALSE)))","v":0.87},0]
["LekBO3geladenaf","Lek","BO3","geladen","af","Fijn Stof",9.088523051104529,{"$f":"VLOOKUP(A1386,Begin:Einde,7,FALSE)","v":0},1,{"$f":"VLOOKUP(Jaar,Trendfactoren!$A$2:$D$43,(HLOOKUP(Emissieberekening!F1386,Trendfactoren!$A$1:$C$2,2,FALSE)))","v":0.76},0]
["LekBO3geladenaf","Lek","BO3","geladen","af","NOx",268.50460579312391,{"$f":"VLOOKUP(A1387,Begin:Einde,7,FALSE)","v":0},1,{"$f":"VLOOKUP(Jaar,Trendfactoren!$A$2:$D$43,(HLOOKUP(Emissieberekening!F1387,Trendfactoren!$A$1:$C$2,2,FALSE)))","v":0.87},0]
["LekBO3geladenop","Lek","BO3","geladen","op","Fijn Stof",10.609382863829454,{"$f":"VLOOKUP(A1388,Begin:Einde,7,FALSE)","v":0},1,{"$f":"VLOOKUP(Jaar,Trendfactoren!$A$2:$D$43,(HLOOKUP(Emissieberekening!F1388,Trendfactoren!$A$1:$C$2,2,FALSE)))","v":0.76},0]
["LekBO3geladenop","Lek","BO3","geladen","op","NOx",313.43576371461734,{"$f":"VLOOKUP(A1389,Begin:Einde,7,FALSE)","v":0},1,{"$f":"VLOOKUP(Jaar,Trendfactoren!$A$2:$D$43,(HLOOKUP(Emissieberekening!F1389,Trendfactoren!$A$1:$C$2,2,FALSE)))","v":0.87},0]
["LekBO3leegaf","Lek","BO3","leeg","af","Fijn Stof",4.6099425004219672,{"$f":"VLOOKUP(A1390,Begin:Einde,7,FALSE)","v":0},1,{"$f":"VLOOKUP(Jaar,Trendfactoren!$A$2:$D$43,(HLOOKUP(Emissieberekening!F1390,Trendfactoren!$A$1:$C$2,2,FALSE)))","v":0.76},0]
["LekBO3leegaf","Lek","BO3","leeg","af","NOx",136.19273305956344,{"$f":"VLOOKUP(A1391,Begin:Einde,7,FALSE)","v":0},1,{"$f":"VLOOKUP(Jaar,Trendfactoren!$A$2:$D$43,(HLOOKUP(Emissieberekening!F1391,Trendfactoren!$A$1:$C$2,2,FALSE)))","v":0.87},0]
["LekBO3leegop","Lek","BO3","leeg","op","Fijn Stof",5.525701903306155,{"$f":"VLOOKUP(A1392,Begin:Einde,7,FALSE)","v":0},1,{"$f":"VLOOKUP(Jaar,Trendfactoren!$A$2:$D$43,(HLOOKUP(Emissieberekening!F1392,Trendfactoren!$A$1:$C$2,2,FALSE)))","v":0.76},{"$f":"+G1392*H1392*I1392*J1392","v":0}]
["LekBO3leegop","Lek","BO3","leeg","op","NOx",163.24725182902219,{"$f":"VLOOKUP(A1393,Begin:Einde,7,FALSE)","v":0},1,{"$f":"VLOOKUP(Jaar,Trendfactoren!$A$2:$D$43,(HLOOKUP(Emissieberekening!F1393,Trendfactoren!$A$1:$C$2,2,FALSE)))","v":0.87},0]
["LekBO4geladenaf","Lek","BO4","geladen","af","Fijn Stof",10.081377638879934,{"$f":"VLOOKUP(A1394,Begin:Einde,7,FALSE)","v":0},1,{"$f":"VLOOKUP(Jaar,Trendfactoren!$A$2:$D$43,(HLOOKUP(Emissieberekening!F1394,Trendfactoren!$A$1:$C$2,2,FALSE)))","v":0.76},0]
["LekBO4geladenaf","Lek","BO4","geladen","af","NOx",297.83676770782932,{"$f":"VLOOKUP(A1395,Begin:Einde,7,FALSE)","v":0},1,{"$f":"VLOOKUP(Jaar,Trendfactoren!$A$2:$D$43,(HLOOKUP(Emissieberekening!F1395,Trendfactoren!$A$1:$C$2,2,FALSE)))","v":0.87},0]
["LekBO4geladenop","Lek","BO4","geladen","op","Fijn Stof",13.382611027450089,{"$f":"VLOOKUP(A1396,Begin:Einde,7,FALSE)","v":0},1,{"$f":"VLOOKUP(Jaar,Trendfactoren!$A$2:$D$43,(HLOOKUP(Emissieberekening!F1396,Trendfactoren!$A$1:$C$2,2,FALSE)))","v":0.76},0]
["LekBO4geladenop","Lek","BO4","geladen","op","NOx",395.36596630752962,{"$f":"VLOOKUP(A1397,Begin:Einde,7,FALSE)","v":0},1,{"$f":"VLOOKUP(Jaar,Trendfactoren!$A$2:$D$43,(HLOOKUP(Emissieberekening!F1397,Trendfactoren!$A$1:$C$2,2,FALSE)))","v":0.87},0]
["LekBO4leegaf","Lek","BO4","leeg","af","Fijn Stof",5.1972462781489437,{"$f":"VLOOKUP(A1398,Begin:Einde,7,FALSE)","v":0},1,{"$f":"VLOOKUP(Jaar,Trendfactoren!$A$2:$D$43,(HLOOKUP(Emissieberekening!F1398,Trendfactoren!$A$1:$C$2,2,FALSE)))","v":0.76},0]
["LekBO4leegaf","Lek","BO4","leeg","af","NOx",153.54360166964307,{"$f":"VLOOKUP(A1399,Begin:Einde,7,FALSE)","v":0},1,{"$f":"VLOOKUP(Jaar,Trendfactoren!$A$2:$D$43,(HLOOKUP(Emissieberekening!F1399,Trendfactoren!$A$1:$C$2,2,FALSE)))","v":0.87},0]
["LekBO4leegop","Lek","BO4","leeg","op","Fijn Stof",6.4599418289826165,{"$f":"VLOOKUP(A1400,Begin:Einde,7,FALSE)","v":0},1,{"$f":"VLOOKUP(Jaar,Trendfactoren!$A$2:$D$43,(HLOOKUP(Emissieberekening!F1400,Trendfactoren!$A$1:$C$2,2,FALSE)))","v":0.76},0]
["LekBO4leegop","Lek","BO4","leeg","op","NOx",190.84774550103526,{"$f":"VLOOKUP(A1401,Begin:Einde,7,FALSE)","v":0},1,{"$f":"VLOOKUP(Jaar,Trendfactoren!$A$2:$D$43,(HLOOKUP(Emissieberekening!F1401,Trendfactoren!$A$1:$C$2,2,FALSE)))","v":0.87},0]
["LekC1bgeladenaf","Lek","C1b","geladen","af","Fijn Stof",6.1436047784959529,{"$f":"VLOOKUP(A1402,Begin:Einde,7,FALSE)","v":0},1,{"$f":"VLOOKUP(Jaar,Trendfactoren!$A$2:$D$43,(HLOOKUP(Emissieberekening!F1402,Trendfactoren!$A$1:$C$2,2,FALSE)))","v":0.76},0]
["LekC1bgeladenaf","Lek","C1b","geladen","af","NOx",181.50211755234909,{"$f":"VLOOKUP(A1403,Begin:Einde,7,FALSE)","v":0},1,{"$f":"VLOOKUP(Jaar,Trendfactoren!$A$2:$D$43,(HLOOKUP(Emissieberekening!F1403,Trendfactoren!$A$1:$C$2,2,FALSE)))","v":0.87},0]
["LekC1bgeladenop","Lek","C1b","geladen","op","Fijn Stof",4.2849267557359614,{"$f":"VLOOKUP(A1404,Begin:Einde,7,FALSE)","v":0},1,{"$f":"VLOOKUP(Jaar,Trendfactoren!$A$2:$D$43,(HLOOKUP(Emissieberekening!F1404,Trendfactoren!$A$1:$C$2,2,FALSE)))","v":0.76},0]
["LekC1bgeladenop","Lek","C1b","geladen","op","NOx",126.59070818569039,{"$f":"VLOOKUP(A1405,Begin:Einde,7,FALSE)","v":0},1,{"$f":"VLOOKUP(Jaar,Trendfactoren!$A$2:$D$43,(HLOOKUP(Emissieberekening!F1405,Trendfactoren!$A$1:$C$2,2,FALSE)))","v":0.87},0]
[{"$f":"+B1406&C1406&D1406&E1406","v":"LekC1bleegaf"},"Lek","C1b","leeg","af","Fijn Stof",3.0712154684491475,{"$f":"VLOOKUP(A1406,Begin:Einde,7,FALSE)","v":0},{"$f":"+Afstand","v":1},{"$f":"VLOOKUP(Jaar,Trendfactoren!$A$2:$D$43,(HLOOKUP(Emissieberekening!F1406,Trendfactoren!$A$1:$C$2,2,FALSE)))","v":0.76},0]
["LekC1bleegaf","Lek","C1b","leeg","af","NOx",90.733719222009881,{"$f":"VLOOKUP(A1407,Begin:Einde,7,FALSE)","v":0},1,{"$f":"VLOOKUP(Jaar,Trendfactoren!$A$2:$D$43,(HLOOKUP(Emissieberekening!F1407,Trendfactoren!$A$1:$C$2,2,FALSE)))","v":0.87},0]
["LekC1bleegop","Lek","C1b","leeg","op","Fijn Stof",3.3852403981962347,{"$f":"VLOOKUP(A1408,Begin:Einde,7,FALSE)","v":0},1,{"$f":"VLOOKUP(Jaar,Trendfactoren!$A$2:$D$43,(HLOOKUP(Emissieberekening!F1408,Trendfactoren!$A$1:$C$2,2,FALSE)))","v":0.76},0]
["LekC1bleegop","Lek","C1b","leeg","op","NOx",100.01103958493815,{"$f":"VLOOKUP(A1409,Begin:Einde,7,FALSE)","v":0},1,{"$f":"VLOOKUP(Jaar,Trendfactoren!$A$2:$D$43,(HLOOKUP(Emissieberekening!F1409,Trendfactoren!$A$1:$C$2,2,FALSE)))","v":0.87},0]
["LekC1lgeladenaf","Lek","C1l","geladen","af","Fijn Stof",4.0046142880444213,{"$f":"VLOOKUP(A1410,Begin:Einde,7,FALSE)","v":0},1,{"$f":"VLOOKUP(Jaar,Trendfactoren!$A$2:$D$43,(HLOOKUP(Emissieberekening!F1410,Trendfactoren!$A$1:$C$2,2,FALSE)))","v":0.76},0]
["LekC1lgeladenaf","Lek","C1l","geladen","af","NOx",118.30936387779784,{"$f":"VLOOKUP(A1411,Begin:Einde,7,FALSE)","v":0},1,{"$f":"VLOOKUP(Jaar,Trendfactoren!$A$2:$D$43,(HLOOKUP(Emissieberekening!F1411,Trendfactoren!$A$1:$C$2,2,FALSE)))","v":0.87},0]
["LekC1lgeladenop","Lek","C1l","geladen","op","Fijn Stof",4.3820422315670369,{"$f":"VLOOKUP(A1412,Begin:Einde,7,FALSE)","v":0},1,{"$f":"VLOOKUP(Jaar,Trendfactoren!$A$2:$D$43,(HLOOKUP(Emissieberekening!F1412,Trendfactoren!$A$1:$C$2,2,FALSE)))","v":0.76},0]
["LekC1lgeladenop","Lek","C1l","geladen","op","NOx",129.4598160052789,{"$f":"VLOOKUP(A1413,Begin:Einde,7,FALSE)","v":0},1,{"$f":"VLOOKUP(Jaar,Trendfactoren!$A$2:$D$43,(HLOOKUP(Emissieberekening!F1413,Trendfactoren!$A$1:$C$2,2,FALSE)))","v":0.87},0]
["LekC1lleegaf","Lek","C1l","leeg","af","Fijn Stof",2.2521557832180035,{"$f":"VLOOKUP(A1414,Begin:Einde,7,FALSE)","v":0},1,{"$f":"VLOOKUP(Jaar,Trendfactoren!$A$2:$D$43,(HLOOKUP(Emissieberekening!F1414,Trendfactoren!$A$1:$C$2,2,FALSE)))","v":0.76},0]
["LekC1lleegaf","Lek","C1l","leeg","af","NOx",66.53602541990179,{"$f":"VLOOKUP(A1415,Begin:Einde,7,FALSE)","v":0},1,{"$f":"VLOOKUP(Jaar,Trendfactoren!$A$2:$D$43,(HLOOKUP(Emissieberekening!F1415,Trendfactoren!$A$1:$C$2,2,FALSE)))","v":0.87},0]
["LekC1lleegop","Lek","C1l","leeg","op","Fijn Stof",2.5549666448271537,{"$f":"VLOOKUP(A1416,Begin:Einde,7,FALSE)","v":0},1,{"$f":"VLOOKUP(Jaar,Trendfactoren!$A$2:$D$43,(HLOOKUP(Emissieberekening!F1416,Trendfactoren!$A$1:$C$2,2,FALSE)))","v":0.76},0]
["LekC1lleegop","Lek","C1l","leeg","op","NOx",75.48204564442662,{"$f":"VLOOKUP(A1417,Begin:Einde,7,FALSE)","v":0},1,{"$f":"VLOOKUP(Jaar,Trendfactoren!$A$2:$D$43,(HLOOKUP(Emissieberekening!F1417,Trendfactoren!$A$1:$C$2,2,FALSE)))","v":0.87},0]
["LekC2bgeladenaf","Lek","C2b","geladen","af","Fijn Stof",13.689272658385676,{"$f":"VLOOKUP(A1418,Begin:Einde,7,FALSE)","v":0},1,{"$f":"VLOOKUP(Jaar,Trendfactoren!$A$2:$D$43,(HLOOKUP(Emissieberekening!F1418,Trendfactoren!$A$1:$C$2,2,FALSE)))","v":0.76},0]
["LekC2bgeladenaf","Lek","C2b","geladen","af","NOx",404.42575081412565,{"$f":"VLOOKUP(A1419,Begin:Einde,7,FALSE)","v":0},1,{"$f":"VLOOKUP(Jaar,Trendfactoren!$A$2:$D$43,(HLOOKUP(Emissieberekening!F1419,Trendfactoren!$A$1:$C$2,2,FALSE)))","v":0.87},0]
["LekC2bgeladenop","Lek","C2b","geladen","op","Fijn Stof",13.648875915700023,{"$f":"VLOOKUP(A1420,Begin:Einde,7,FALSE)","v":0},1,{"$f":"VLOOKUP(Jaar,Trendfactoren!$A$2:$D$43,(HLOOKUP(Emissieberekening!F1420,Trendfactoren!$A$1:$C$2,2,FALSE)))","v":0.76},0]
["LekC2bgeladenop","Lek","C2b","geladen","op","NOx",403.23229931390421,{"$f":"VLOOKUP(A1421,Begin:Einde,7,FALSE)","v":0},1,{"$f":"VLOOKUP(Jaar,Trendfactoren!$A$2:$D$43,(HLOOKUP(Emissieberekening!F1421,Trendfactoren!$A$1:$C$2,2,FALSE)))","v":0.87},0]
["LekC2bleegaf","Lek","C2b","leeg","af","Fijn Stof",8.7944432844205078,{"$f":"VLOOKUP(A1422,Begin:Einde,7,FALSE)","v":0},1,{"$f":"VLOOKUP(Jaar,Trendfactoren!$A$2:$D$43,(HLOOKUP(Emissieberekening!F1422,Trendfactoren!$A$1:$C$2,2,FALSE)))","v":0.76},0]
["LekC2bleegaf","Lek","C2b","leeg","af","NOx",259.81653058208832,{"$f":"VLOOKUP(A1423,Begin:Einde,7,FALSE)","v":0},1,{"$f":"VLOOKUP(Jaar,Trendfactoren!$A$2:$D$43,(HLOOKUP(Emissieberekening!F1423,Trendfactoren!$A$1:$C$2,2,FALSE)))","v":0.87},0]
["LekC2bleegop","Lek","C2b","leeg","op","Fijn Stof",10.208873369345302,{"$f":"VLOOKUP(A1424,Begin:Einde,7,FALSE)","v":0},1,{"$f":"VLOOKUP(Jaar,Trendfactoren!$A$2:$D$43,(HLOOKUP(Emissieberekening!F1424,Trendfactoren!$A$1:$C$2,2,FALSE)))","v":0.76},0]
["LekC2bleegop","Lek","C2b","leeg","op","NOx",301.60340730993153,{"$f":"VLOOKUP(A1425,Begin:Einde,7,FALSE)","v":0},1,{"$f":"VLOOKUP(Jaar,Trendfactoren!$A$2:$D$43,(HLOOKUP(Emissieberekening!F1425,Trendfactoren!$A$1:$C$2,2,FALSE)))","v":0.87},0]
["LekC2lgeladenaf","Lek","C2l","geladen","af","Fijn Stof",8.1283473744308452,{"$f":"VLOOKUP(A1426,Begin:Einde,7,FALSE)","v":0},1,{"$f":"VLOOKUP(Jaar,Trendfactoren!$A$2:$D$43,(HLOOKUP(Emissieberekening!F1426,Trendfactoren!$A$1:$C$2,2,FALSE)))","v":0.76},0]
["LekC2lgeladenaf","Lek","C2l","geladen","af","NOx",240.1378854681883,{"$f":"VLOOKUP(A1427,Begin:Einde,7,FALSE)","v":0},1,{"$f":"VLOOKUP(Jaar,Trendfactoren!$A$2:$D$43,(HLOOKUP(Emissieberekening!F1427,Trendfactoren!$A$1:$C$2,2,FALSE)))","v":0.87},0]
["LekC2lgeladenop","Lek","C2l","geladen","op","Fijn Stof",11.148582636195172,{"$f":"VLOOKUP(A1428,Begin:Einde,7,FALSE)","v":0},1,{"$f":"VLOOKUP(Jaar,Trendfactoren!$A$2:$D$43,(HLOOKUP(Emissieberekening!F1428,Trendfactoren!$A$1:$C$2,2,FALSE)))","v":0.76},0]
["LekC2lgeladenop","Lek","C2l","geladen","op","NOx",329.36548315403758,{"$f":"VLOOKUP(A1429,Begin:Einde,7,FALSE)","v":0},1,{"$f":"VLOOKUP(Jaar,Trendfactoren!$A$2:$D$43,(HLOOKUP(Emissieberekening!F1429,Trendfactoren!$A$1:$C$2,2,FALSE)))","v":0.87},0]
["LekC2lleegaf","Lek","C2l","leeg","af","Fijn Stof",8.507931376912703,{"$f":"VLOOKUP(A1430,Begin:Einde,7,FALSE)","v":0},1,{"$f":"VLOOKUP(Jaar,Trendfactoren!$A$2:$D$43,(HLOOKUP(Emissieberekening!F1430,Trendfactoren!$A$1:$C$2,2,FALSE)))","v":0.76},0]
["LekC2lleegaf","Lek","C2l","leeg","af","NOx",251.35203460756694,{"$f":"VLOOKUP(A1431,Begin:Einde,7,FALSE)","v":0},1,{"$f":"VLOOKUP(Jaar,Trendfactoren!$A$2:$D$43,(HLOOKUP(Emissieberekening!F1431,Trendfactoren!$A$1:$C$2,2,FALSE)))","v":0.87},0]
["LekC2lleegop","Lek","C2l","leeg","op","Fijn Stof",9.5869914209373288,{"$f":"VLOOKUP(A1432,Begin:Einde,7,FALSE)","v":0},1,{"$f":"VLOOKUP(Jaar,Trendfactoren!$A$2:$D$43,(HLOOKUP(Emissieberekening!F1432,Trendfactoren!$A$1:$C$2,2,FALSE)))","v":0.76},0]
["LekC2lleegop","Lek","C2l","leeg","op","NOx",283.23098678921241,{"$f":"VLOOKUP(A1433,Begin:Einde,7,FALSE)","v":0},1,{"$f":"VLOOKUP(Jaar,Trendfactoren!$A$2:$D$43,(HLOOKUP(Emissieberekening!F1433,Trendfactoren!$A$1:$C$2,2,FALSE)))","v":0.87},0]
["LekM0geladenaf","Lek","M0","geladen","af","Fijn Stof",1.6410065127582325,{"$f":"VLOOKUP(A1434,Begin:Einde,7,FALSE)","v":0},1,{"$f":"VLOOKUP(Jaar,Trendfactoren!$A$2:$D$43,(HLOOKUP(Emissieberekening!F1434,Trendfactoren!$A$1:$C$2,2,FALSE)))","v":0.76},0]
["LekM0geladenaf","Lek","M0","geladen","af","NOx",48.480683201716687,{"$f":"VLOOKUP(A1435,Begin:Einde,7,FALSE)","v":0},1,{"$f":"VLOOKUP(Jaar,Trendfactoren!$A$2:$D$43,(HLOOKUP(Emissieberekening!F1435,Trendfactoren!$A$1:$C$2,2,FALSE)))","v":0.87},0]
["LekM0geladenop","Lek","M0","geladen","op","Fijn Stof",1.7787133241587314,{"$f":"VLOOKUP(A1436,Begin:Einde,7,FALSE)","v":0},1,{"$f":"VLOOKUP(Jaar,Trendfactoren!$A$2:$D$43,(HLOOKUP(Emissieberekening!F1436,Trendfactoren!$A$1:$C$2,2,FALSE)))","v":0.76},0]
["LekM0geladenop","Lek","M0","geladen","op","NOx",52.548991429820433,{"$f":"VLOOKUP(A1437,Begin:Einde,7,FALSE)","v":0},1,{"$f":"VLOOKUP(Jaar,Trendfactoren!$A$2:$D$43,(HLOOKUP(Emissieberekening!F1437,Trendfactoren!$A$1:$C$2,2,FALSE)))","v":0.87},0]
["LekM0leegaf","Lek","M0","leeg","af","Fijn Stof",0.96633370357475878,{"$f":"VLOOKUP(A1438,Begin:Einde,7,FALSE)","v":0},1,{"$f":"VLOOKUP(Jaar,Trendfactoren!$A$2:$D$43,(HLOOKUP(Emissieberekening!F1438,Trendfactoren!$A$1:$C$2,2,FALSE)))","v":0.76},0]
["LekM0leegaf","Lek","M0","leeg","af","NOx",28.548648519015117,{"$f":"VLOOKUP(A1439,Begin:Einde,7,FALSE)","v":0},1,{"$f":"VLOOKUP(Jaar,Trendfactoren!$A$2:$D$43,(HLOOKUP(Emissieberekening!F1439,Trendfactoren!$A$1:$C$2,2,FALSE)))","v":0.87},0]
["LekM0leegop","Lek","M0","leeg","op","Fijn Stof",1.2017295174121603,{"$f":"VLOOKUP(A1440,Begin:Einde,7,FALSE)","v":0},1,{"$f":"VLOOKUP(Jaar,Trendfactoren!$A$2:$D$43,(HLOOKUP(Emissieberekening!F1440,Trendfactoren!$A$1:$C$2,2,FALSE)))","v":0.76},0]
["LekM0leegop","Lek","M0","leeg","op","NOx",35.503008412736449,{"$f":"VLOOKUP(A1441,Begin:Einde,7,FALSE)","v":0},1,{"$f":"VLOOKUP(Jaar,Trendfactoren!$A$2:$D$43,(HLOOKUP(Emissieberekening!F1441,Trendfactoren!$A$1:$C$2,2,FALSE)))","v":0.87},0]
["LekM1geladenaf","Lek","M1","geladen","af","Fijn Stof",2.6937774951667692,{"$f":"VLOOKUP(A1442,Begin:Einde,7,FALSE)","v":0},1,{"$f":"VLOOKUP(Jaar,Trendfactoren!$A$2:$D$43,(HLOOKUP(Emissieberekening!F1442,Trendfactoren!$A$1:$C$2,2,FALSE)))","v":0.76},0]
["LekM1geladenaf","Lek","M1","geladen","af","NOx",79.582970782721461,{"$f":"VLOOKUP(A1443,Begin:Einde,7,FALSE)","v":0},1,{"$f":"VLOOKUP(Jaar,Trendfactoren!$A$2:$D$43,(HLOOKUP(Emissieberekening!F1443,Trendfactoren!$A$1:$C$2,2,FALSE)))","v":0.87},0]
["LekM1geladenop","Lek","M1","geladen","op","Fijn Stof",3.3694458109055683,{"$f":"VLOOKUP(A1444,Begin:Einde,7,FALSE)","v":0},1,{"$f":"VLOOKUP(Jaar,Trendfactoren!$A$2:$D$43,(HLOOKUP(Emissieberekening!F1444,Trendfactoren!$A$1:$C$2,2,FALSE)))","v":0.76},0]
["LekM1geladenop","Lek","M1","geladen","op","NOx",99.544415975106403,{"$f":"VLOOKUP(A1445,Begin:Einde,7,FALSE)","v":0},1,{"$f":"VLOOKUP(Jaar,Trendfactoren!$A$2:$D$43,(HLOOKUP(Emissieberekening!F1445,Trendfactoren!$A$1:$C$2,2,FALSE)))","v":0.87},0]
["LekM1leegaf","Lek","M1","leeg","af","Fijn Stof",1.7609285431991075,{"$f":"VLOOKUP(A1446,Begin:Einde,7,FALSE)","v":0},1,{"$f":"VLOOKUP(Jaar,Trendfactoren!$A$2:$D$43,(HLOOKUP(Emissieberekening!F1446,Trendfactoren!$A$1:$C$2,2,FALSE)))","v":0.76},0]
["LekM1leegaf","Lek","M1","leeg","af","NOx",52.023571009601483,{"$f":"VLOOKUP(A1447,Begin:Einde,7,FALSE)","v":0},1,{"$f":"VLOOKUP(Jaar,Trendfactoren!$A$2:$D$43,(HLOOKUP(Emissieberekening!F1447,Trendfactoren!$A$1:$C$2,2,FALSE)))","v":0.87},0]
["LekM1leegop","Lek","M1","leeg","op","Fijn Stof",2.1025103956949582,{"$f":"VLOOKUP(A1448,Begin:Einde,7,FALSE)","v":0},1,{"$f":"VLOOKUP(Jaar,Trendfactoren!$A$2:$D$43,(HLOOKUP(Emissieberekening!F1448,Trendfactoren!$A$1:$C$2,2,FALSE)))","v":0.76},0]
["LekM1leegop","Lek","M1","leeg","op","NOx",62.115012725132722,{"$f":"VLOOKUP(A1449,Begin:Einde,7,FALSE)","v":0},1,{"$f":"VLOOKUP(Jaar,Trendfactoren!$A$2:$D$43,(HLOOKUP(Emissieberekening!F1449,Trendfactoren!$A$1:$C$2,2,FALSE)))","v":0.87},0]
["LekM10geladenaf","Lek","M10","geladen","af","Fijn Stof",27.236779857005388,{"$f":"VLOOKUP(A1450,Begin:Einde,7,FALSE)","v":0},1,{"$f":"VLOOKUP(Jaar,Trendfactoren!$A$2:$D$43,(HLOOKUP(Emissieberekening!F1450,Trendfactoren!$A$1:$C$2,2,FALSE)))","v":0.76},0]
["LekM10geladenaf","Lek","M10","geladen","af","NOx",804.66328769343397,{"$f":"VLOOKUP(A1451,Begin:Einde,7,FALSE)","v":0},1,{"$f":"VLOOKUP(Jaar,Trendfactoren!$A$2:$D$43,(HLOOKUP(Emissieberekening!F1451,Trendfactoren!$A$1:$C$2,2,FALSE)))","v":0.87},0]
["LekM10geladenop","Lek","M10","geladen","op","Fijn Stof",34.646047284868594,{"$f":"VLOOKUP(A1452,Begin:Einde,7,FALSE)","v":0},1,{"$f":"VLOOKUP(Jaar,Trendfactoren!$A$2:$D$43,(HLOOKUP(Emissieberekening!F1452,Trendfactoren!$A$1:$C$2,2,FALSE)))","v":0.76},{"$f":"+G1452*H1452*I1452*J1452","v":0}]
["LekM10geladenop","Lek","M10","geladen","op","NOx",1023.5572068426483,{"$f":"VLOOKUP(A1453,Begin:Einde,7,FALSE)","v":0},1,{"$f":"VLOOKUP(Jaar,Trendfactoren!$A$2:$D$43,(HLOOKUP(Emissieberekening!F1453,Trendfactoren!$A$1:$C$2,2,FALSE)))","v":0.87},0]
["LekM10leegaf","Lek","M10","leeg","af","Fijn Stof",15.106070943550082,{"$f":"VLOOKUP(A1454,Begin:Einde,7,FALSE)","v":0},1,{"$f":"VLOOKUP(Jaar,Trendfactoren!$A$2:$D$43,(HLOOKUP(Emissieberekening!F1454,Trendfactoren!$A$1:$C$2,2,FALSE)))","v":0.76},0]
["LekM10leegaf","Lek","M10","leeg","af","NOx",446.28259189901564,{"$f":"VLOOKUP(A1455,Begin:Einde,7,FALSE)","v":0},1,{"$f":"VLOOKUP(Jaar,Trendfactoren!$A$2:$D$43,(HLOOKUP(Emissieberekening!F1455,Trendfactoren!$A$1:$C$2,2,FALSE)))","v":0.87},0]
["LekM10leegop","Lek","M10","leeg","op","Fijn Stof",17.235944458448493,{"$f":"VLOOKUP(A1456,Begin:Einde,7,FALSE)","v":0},1,{"$f":"VLOOKUP(Jaar,Trendfactoren!$A$2:$D$43,(HLOOKUP(Emissieberekening!F1456,Trendfactoren!$A$1:$C$2,2,FALSE)))","v":0.76},0]
["LekM10leegop","Lek","M10","leeg","op","NOx",509.20600038808936,{"$f":"VLOOKUP(A1457,Begin:Einde,7,FALSE)","v":0},1,{"$f":"VLOOKUP(Jaar,Trendfactoren!$A$2:$D$43,(HLOOKUP(Emissieberekening!F1457,Trendfactoren!$A$1:$C$2,2,FALSE)))","v":0.87},0]
["LekM11geladenaf","Lek","M11","geladen","af","Fijn Stof",33.348561540549554,{"$f":"VLOOKUP(A1458,Begin:Einde,7,FALSE)","v":0},1,{"$f":"VLOOKUP(Jaar,Trendfactoren!$A$2:$D$43,(HLOOKUP(Emissieberekening!F1458,Trendfactoren!$A$1:$C$2,2,FALSE)))","v":0.76},0]
["LekM11geladenaf","Lek","M11","geladen","af","NOx",985.2252472556346,{"$f":"VLOOKUP(A1459,Begin:Einde,7,FALSE)","v":0},1,{"$f":"VLOOKUP(Jaar,Trendfactoren!$A$2:$D$43,(HLOOKUP(Emissieberekening!F1459,Trendfactoren!$A$1:$C$2,2,FALSE)))","v":0.87},0]
["LekM11geladenop","Lek","M11","geladen","op","Fijn Stof",40.340222080436263,{"$f":"VLOOKUP(A1460,Begin:Einde,7,FALSE)","v":0},1,{"$f":"VLOOKUP(Jaar,Trendfactoren!$A$2:$D$43,(HLOOKUP(Emissieberekening!F1460,Trendfactoren!$A$1:$C$2,2,FALSE)))","v":0.76},0]
["LekM11geladenop","Lek","M11","geladen","op","NOx",1191.7816972470855,{"$f":"VLOOKUP(A1461,Begin:Einde,7,FALSE)","v":0},1,{"$f":"VLOOKUP(Jaar,Trendfactoren!$A$2:$D$43,(HLOOKUP(Emissieberekening!F1461,Trendfactoren!$A$1:$C$2,2,FALSE)))","v":0.87},0]
["LekM11leegaf","Lek","M11","leeg","af","Fijn Stof",17.226889327305113,{"$f":"VLOOKUP(A1462,Begin:Einde,7,FALSE)","v":0},1,{"$f":"VLOOKUP(Jaar,Trendfactoren!$A$2:$D$43,(HLOOKUP(Emissieberekening!F1462,Trendfactoren!$A$1:$C$2,2,FALSE)))","v":0.76},0]
["LekM11leegaf","Lek","M11","leeg","af","NOx",508.93848228813101,{"$f":"VLOOKUP(A1463,Begin:Einde,7,FALSE)","v":0},1,{"$f":"VLOOKUP(Jaar,Trendfactoren!$A$2:$D$43,(HLOOKUP(Emissieberekening!F1463,Trendfactoren!$A$1:$C$2,2,FALSE)))","v":0.87},0]
["LekM11leegop","Lek","M11","leeg","op","Fijn Stof",19.654244880016989,{"$f":"VLOOKUP(A1464,Begin:Einde,7,FALSE)","v":0},1,{"$f":"VLOOKUP(Jaar,Trendfactoren!$A$2:$D$43,(HLOOKUP(Emissieberekening!F1464,Trendfactoren!$A$1:$C$2,2,FALSE)))","v":0.76},0]
["LekM11leegop","Lek","M11","leeg","op","NOx",580.65048017115828,{"$f":"VLOOKUP(A1465,Begin:Einde,7,FALSE)","v":0},1,{"$f":"VLOOKUP(Jaar,Trendfactoren!$A$2:$D$43,(HLOOKUP(Emissieberekening!F1465,Trendfactoren!$A$1:$C$2,2,FALSE)))","v":0.87},0]
[{"$f":"+B1466&C1466&D1466&E1466","v":"LekM12geladenaf"},"Lek","M12","geladen","af","Fijn Stof",38.107900629479126,{"$f":"VLOOKUP(A1466,Begin:Einde,7,FALSE)","v":0},{"$f":"+Afstand","v":1},{"$f":"VLOOKUP(Jaar,Trendfactoren!$A$2:$D$43,(HLOOKUP(Emissieberekening!F1466,Trendfactoren!$A$1:$C$2,2,FALSE)))","v":0.76},0]
["LekM12geladenaf","Lek","M12","geladen","af","NOx",1125.8316426757942,{"$f":"VLOOKUP(A1467,Begin:Einde,7,FALSE)","v":0},1,{"$f":"VLOOKUP(Jaar,Trendfactoren!$A$2:$D$43,(HLOOKUP(Emissieberekening!F1467,Trendfactoren!$A$1:$C$2,2,FALSE)))","v":0.87},0]
["LekM12geladenop","Lek","M12","geladen","op","Fijn Stof",46.781281240713312,{"$f":"VLOOKUP(A1468,Begin:Einde,7,FALSE)","v":0},1,{"$f":"VLOOKUP(Jaar,Trendfactoren!$A$2:$D$43,(HLOOKUP(Emissieberekening!F1468,Trendfactoren!$A$1:$C$2,2,FALSE)))","v":0.76},0]
["LekM12geladenop","Lek","M12","geladen","op","NOx",1382.0715871440143,{"$f":"VLOOKUP(A1469,Begin:Einde,7,FALSE)","v":0},1,{"$f":"VLOOKUP(Jaar,Trendfactoren!$A$2:$D$43,(HLOOKUP(Emissieberekening!F1469,Trendfactoren!$A$1:$C$2,2,FALSE)))","v":0.87},0]
["LekM12leegaf","Lek","M12","leeg","af","Fijn Stof",19.595148143990215,{"$f":"VLOOKUP(A1470,Begin:Einde,7,FALSE)","v":0},1,{"$f":"VLOOKUP(Jaar,Trendfactoren!$A$2:$D$43,(HLOOKUP(Emissieberekening!F1470,Trendfactoren!$A$1:$C$2,2,FALSE)))","v":0.76},0]
["LekM12leegaf","Lek","M12","leeg","af","NOx",578.90456989274401,{"$f":"VLOOKUP(A1471,Begin:Einde,7,FALSE)","v":0},1,{"$f":"VLOOKUP(Jaar,Trendfactoren!$A$2:$D$43,(HLOOKUP(Emissieberekening!F1471,Trendfactoren!$A$1:$C$2,2,FALSE)))","v":0.87},0]
["LekM12leegop","Lek","M12","leeg","op","Fijn Stof",22.70457891374225,{"$f":"VLOOKUP(A1472,Begin:Einde,7,FALSE)","v":0},1,{"$f":"VLOOKUP(Jaar,Trendfactoren!$A$2:$D$43,(HLOOKUP(Emissieberekening!F1472,Trendfactoren!$A$1:$C$2,2,FALSE)))","v":0.76},0]
["LekM12leegop","Lek","M12","leeg","op","NOx",670.76729372352247,{"$f":"VLOOKUP(A1473,Begin:Einde,7,FALSE)","v":0},1,{"$f":"VLOOKUP(Jaar,Trendfactoren!$A$2:$D$43,(HLOOKUP(Emissieberekening!F1473,Trendfactoren!$A$1:$C$2,2,FALSE)))","v":0.87},0]
["LekM2geladenaf","Lek","M2","geladen","af","Fijn Stof",4.8202215882582751,{"$f":"VLOOKUP(A1474,Begin:Einde,7,FALSE)","v":0},1,{"$f":"VLOOKUP(Jaar,Trendfactoren!$A$2:$D$43,(HLOOKUP(Emissieberekening!F1474,Trendfactoren!$A$1:$C$2,2,FALSE)))","v":0.76},0]
["LekM2geladenaf","Lek","M2","geladen","af","NOx",142.40506296933512,{"$f":"VLOOKUP(A1475,Begin:Einde,7,FALSE)","v":0},1,{"$f":"VLOOKUP(Jaar,Trendfactoren!$A$2:$D$43,(HLOOKUP(Emissieberekening!F1475,Trendfactoren!$A$1:$C$2,2,FALSE)))","v":0.87},0]
["LekM2geladenop","Lek","M2","geladen","op","Fijn Stof",6.1742093772365774,{"$f":"VLOOKUP(A1476,Begin:Einde,7,FALSE)","v":0},1,{"$f":"VLOOKUP(Jaar,Trendfactoren!$A$2:$D$43,(HLOOKUP(Emissieberekening!F1476,Trendfactoren!$A$1:$C$2,2,FALSE)))","v":0.76},0]
["LekM2geladenop","Lek","M2","geladen","op","NOx",182.40627719128068,{"$f":"VLOOKUP(A1477,Begin:Einde,7,FALSE)","v":0},1,{"$f":"VLOOKUP(Jaar,Trendfactoren!$A$2:$D$43,(HLOOKUP(Emissieberekening!F1477,Trendfactoren!$A$1:$C$2,2,FALSE)))","v":0.87},0]
["LekM2leegaf","Lek","M2","leeg","af","Fijn Stof",3.2060154903059654,{"$f":"VLOOKUP(A1478,Begin:Einde,7,FALSE)","v":0},1,{"$f":"VLOOKUP(Jaar,Trendfactoren!$A$2:$D$43,(HLOOKUP(Emissieberekening!F1478,Trendfactoren!$A$1:$C$2,2,FALSE)))","v":0.76},0]
["LekM2leegaf","Lek","M2","leeg","af","NOx",94.716151408851374,{"$f":"VLOOKUP(A1479,Begin:Einde,7,FALSE)","v":0},1,{"$f":"VLOOKUP(Jaar,Trendfactoren!$A$2:$D$43,(HLOOKUP(Emissieberekening!F1479,Trendfactoren!$A$1:$C$2,2,FALSE)))","v":0.87},0]
["LekM2leegop","Lek","M2","leeg","op","Fijn Stof",3.7441380503455286,{"$f":"VLOOKUP(A1480,Begin:Einde,7,FALSE)","v":0},1,{"$f":"VLOOKUP(Jaar,Trendfactoren!$A$2:$D$43,(HLOOKUP(Emissieberekening!F1480,Trendfactoren!$A$1:$C$2,2,FALSE)))","v":0.76},0]
["LekM2leegop","Lek","M2","leeg","op","NOx",110.61404648370075,{"$f":"VLOOKUP(A1481,Begin:Einde,7,FALSE)","v":0},1,{"$f":"VLOOKUP(Jaar,Trendfactoren!$A$2:$D$43,(HLOOKUP(Emissieberekening!F1481,Trendfactoren!$A$1:$C$2,2,FALSE)))","v":0.87},0]
["LekM3geladenaf","Lek","M3","geladen","af","Fijn Stof",5.8969311802480071,{"$f":"VLOOKUP(A1482,Begin:Einde,7,FALSE)","v":0},1,{"$f":"VLOOKUP(Jaar,Trendfactoren!$A$2:$D$43,(HLOOKUP(Emissieberekening!F1482,Trendfactoren!$A$1:$C$2,2,FALSE)))","v":0.76},0]
["LekM3geladenaf","Lek","M3","geladen","af","NOx",174.21457513377246,{"$f":"VLOOKUP(A1483,Begin:Einde,7,FALSE)","v":0},1,{"$f":"VLOOKUP(Jaar,Trendfactoren!$A$2:$D$43,(HLOOKUP(Emissieberekening!F1483,Trendfactoren!$A$1:$C$2,2,FALSE)))","v":0.87},0]
["LekM3geladenop","Lek","M3","geladen","op","Fijn Stof",8.097263570234988,{"$f":"VLOOKUP(A1484,Begin:Einde,7,FALSE)","v":0},1,{"$f":"VLOOKUP(Jaar,Trendfactoren!$A$2:$D$43,(HLOOKUP(Emissieberekening!F1484,Trendfactoren!$A$1:$C$2,2,FALSE)))","v":0.76},0]
["LekM3geladenop","Lek","M3","geladen","op","NOx",239.21956853756825,{"$f":"VLOOKUP(A1485,Begin:Einde,7,FALSE)","v":0},1,{"$f":"VLOOKUP(Jaar,Trendfactoren!$A$2:$D$43,(HLOOKUP(Emissieberekening!F1485,Trendfactoren!$A$1:$C$2,2,FALSE)))","v":0.87},0]
["LekM3leegaf","Lek","M3","leeg","af","Fijn Stof",4.8417300991321097,{"$f":"VLOOKUP(A1486,Begin:Einde,7,FALSE)","v":0},1,{"$f":"VLOOKUP(Jaar,Trendfactoren!$A$2:$D$43,(HLOOKUP(Emissieberekening!F1486,Trendfactoren!$A$1:$C$2,2,FALSE)))","v":0.76},0]
["LekM3leegaf","Lek","M3","leeg","af","NOx",143.04049451315171,{"$f":"VLOOKUP(A1487,Begin:Einde,7,FALSE)","v":0},1,{"$f":"VLOOKUP(Jaar,Trendfactoren!$A$2:$D$43,(HLOOKUP(Emissieberekening!F1487,Trendfactoren!$A$1:$C$2,2,FALSE)))","v":0.87},0]
["LekM3leegop","Lek","M3","leeg","op","Fijn Stof",5.5448919067350682,{"$f":"VLOOKUP(A1488,Begin:Einde,7,FALSE)","v":0},1,{"$f":"VLOOKUP(Jaar,Trendfactoren!$A$2:$D$43,(HLOOKUP(Emissieberekening!F1488,Trendfactoren!$A$1:$C$2,2,FALSE)))","v":0.76},0]
["LekM3leegop","Lek","M3","leeg","op","NOx",163.8141871029799,{"$f":"VLOOKUP(A1489,Begin:Einde,7,FALSE)","v":0},1,{"$f":"VLOOKUP(Jaar,Trendfactoren!$A$2:$D$43,(HLOOKUP(Emissieberekening!F1489,Trendfactoren!$A$1:$C$2,2,FALSE)))","v":0.87},0]
["LekM4geladenaf","Lek","M4","geladen","af","Fijn Stof",8.8308960959639951,{"$f":"VLOOKUP(A1490,Begin:Einde,7,FALSE)","v":0},1,{"$f":"VLOOKUP(Jaar,Trendfactoren!$A$2:$D$43,(HLOOKUP(Emissieberekening!F1490,Trendfactoren!$A$1:$C$2,2,FALSE)))","v":0.76},0]
["LekM4geladenaf","Lek","M4","geladen","af","NOx",260.89346549643022,{"$f":"VLOOKUP(A1491,Begin:Einde,7,FALSE)","v":0},1,{"$f":"VLOOKUP(Jaar,Trendfactoren!$A$2:$D$43,(HLOOKUP(Emissieberekening!F1491,Trendfactoren!$A$1:$C$2,2,FALSE)))","v":0.87},0]
["LekM4geladenop","Lek","M4","geladen","op","Fijn Stof",11.916769218913073,{"$f":"VLOOKUP(A1492,Begin:Einde,7,FALSE)","v":0},1,{"$f":"VLOOKUP(Jaar,Trendfactoren!$A$2:$D$43,(HLOOKUP(Emissieberekening!F1492,Trendfactoren!$A$1:$C$2,2,FALSE)))","v":0.76},0]
["LekM4geladenop","Lek","M4","geladen","op","NOx",352.06021962644729,{"$f":"VLOOKUP(A1493,Begin:Einde,7,FALSE)","v":0},1,{"$f":"VLOOKUP(Jaar,Trendfactoren!$A$2:$D$43,(HLOOKUP(Emissieberekening!F1493,Trendfactoren!$A$1:$C$2,2,FALSE)))","v":0.87},0]
["LekM4leegaf","Lek","M4","leeg","af","Fijn Stof",6.6267879727298231,{"$f":"VLOOKUP(A1494,Begin:Einde,7,FALSE)","v":0},1,{"$f":"VLOOKUP(Jaar,Trendfactoren!$A$2:$D$43,(HLOOKUP(Emissieberekening!F1494,Trendfactoren!$A$1:$C$2,2,FALSE)))","v":0.76},0]
["LekM4leegaf","Lek","M4","leeg","af","NOx",195.77692462101365,{"$f":"VLOOKUP(A1495,Begin:Einde,7,FALSE)","v":0},1,{"$f":"VLOOKUP(Jaar,Trendfactoren!$A$2:$D$43,(HLOOKUP(Emissieberekening!F1495,Trendfactoren!$A$1:$C$2,2,FALSE)))","v":0.87},0]
["LekM4leegop","Lek","M4","leeg","op","Fijn Stof",7.6847803865514788,{"$f":"VLOOKUP(A1496,Begin:Einde,7,FALSE)","v":0},1,{"$f":"VLOOKUP(Jaar,Trendfactoren!$A$2:$D$43,(HLOOKUP(Emissieberekening!F1496,Trendfactoren!$A$1:$C$2,2,FALSE)))","v":0.76},0]
["LekM4leegop","Lek","M4","leeg","op","NOx",227.03347031143534,{"$f":"VLOOKUP(A1497,Begin:Einde,7,FALSE)","v":0},1,{"$f":"VLOOKUP(Jaar,Trendfactoren!$A$2:$D$43,(HLOOKUP(Emissieberekening!F1497,Trendfactoren!$A$1:$C$2,2,FALSE)))","v":0.87},0]
["LekM5geladenaf","Lek","M5","geladen","af","Fijn Stof",8.2380141070511357,{"$f":"VLOOKUP(A1498,Begin:Einde,7,FALSE)","v":0},1,{"$f":"VLOOKUP(Jaar,Trendfactoren!$A$2:$D$43,(HLOOKUP(Emissieberekening!F1498,Trendfactoren!$A$1:$C$2,2,FALSE)))","v":0.76},0]
["LekM5geladenaf","Lek","M5","geladen","af","NOx",243.37779833909772,{"$f":"VLOOKUP(A1499,Begin:Einde,7,FALSE)","v":0},1,{"$f":"VLOOKUP(Jaar,Trendfactoren!$A$2:$D$43,(HLOOKUP(Emissieberekening!F1499,Trendfactoren!$A$1:$C$2,2,FALSE)))","v":0.87},0]
["LekM5geladenop","Lek","M5","geladen","op","Fijn Stof",14.029559240321458,{"$f":"VLOOKUP(A1500,Begin:Einde,7,FALSE)","v":0},1,{"$f":"VLOOKUP(Jaar,Trendfactoren!$A$2:$D$43,(HLOOKUP(Emissieberekening!F1500,Trendfactoren!$A$1:$C$2,2,FALSE)))","v":0.76},0]
["LekM5geladenop","Lek","M5","geladen","op","NOx",414.47892601383552,{"$f":"VLOOKUP(A1501,Begin:Einde,7,FALSE)","v":0},1,{"$f":"VLOOKUP(Jaar,Trendfactoren!$A$2:$D$43,(HLOOKUP(Emissieberekening!F1501,Trendfactoren!$A$1:$C$2,2,FALSE)))","v":0.87},0]
["LekM5leegaf","Lek","M5","leeg","af","Fijn Stof",6.1272213546313647,{"$f":"VLOOKUP(A1502,Begin:Einde,7,FALSE)","v":0},1,{"$f":"VLOOKUP(Jaar,Trendfactoren!$A$2:$D$43,(HLOOKUP(Emissieberekening!F1502,Trendfactoren!$A$1:$C$2,2,FALSE)))","v":0.76},0]
["LekM5leegaf","Lek","M5","leeg","af","NOx",181.01809779010969,{"$f":"VLOOKUP(A1503,Begin:Einde,7,FALSE)","v":0},1,{"$f":"VLOOKUP(Jaar,Trendfactoren!$A$2:$D$43,(HLOOKUP(Emissieberekening!F1503,Trendfactoren!$A$1:$C$2,2,FALSE)))","v":0.87},0]
["LekM5leegop","Lek","M5","leeg","op","Fijn Stof",7.2575886206590452,{"$f":"VLOOKUP(A1504,Begin:Einde,7,FALSE)","v":0},1,{"$f":"VLOOKUP(Jaar,Trendfactoren!$A$2:$D$43,(HLOOKUP(Emissieberekening!F1504,Trendfactoren!$A$1:$C$2,2,FALSE)))","v":0.76},0]
["LekM5leegop","Lek","M5","leeg","op","NOx",214.41283260671204,{"$f":"VLOOKUP(A1505,Begin:Einde,7,FALSE)","v":0},1,{"$f":"VLOOKUP(Jaar,Trendfactoren!$A$2:$D$43,(HLOOKUP(Emissieberekening!F1505,Trendfactoren!$A$1:$C$2,2,FALSE)))","v":0.87},0]
["LekM6geladenaf","Lek","M6","geladen","af","Fijn Stof",11.195543165006191,{"$f":"VLOOKUP(A1506,Begin:Einde,7,FALSE)","v":0},1,{"$f":"VLOOKUP(Jaar,Trendfactoren!$A$2:$D$43,(HLOOKUP(Emissieberekening!F1506,Trendfactoren!$A$1:$C$2,2,FALSE)))","v":0.76},0]
["LekM6geladenaf","Lek","M6","geladen","af","NOx",330.75285029887942,{"$f":"VLOOKUP(A1507,Begin:Einde,7,FALSE)","v":0},1,{"$f":"VLOOKUP(Jaar,Trendfactoren!$A$2:$D$43,(HLOOKUP(Emissieberekening!F1507,Trendfactoren!$A$1:$C$2,2,FALSE)))","v":0.87},0]
["LekM6geladenop","Lek","M6","geladen","op","Fijn Stof",14.148202510265259,{"$f":"VLOOKUP(A1508,Begin:Einde,7,FALSE)","v":0},1,{"$f":"VLOOKUP(Jaar,Trendfactoren!$A$2:$D$43,(HLOOKUP(Emissieberekening!F1508,Trendfactoren!$A$1:$C$2,2,FALSE)))","v":0.76},0]
["LekM6geladenop","Lek","M6","geladen","op","NOx",417.98403506699418,{"$f":"VLOOKUP(A1509,Begin:Einde,7,FALSE)","v":0},1,{"$f":"VLOOKUP(Jaar,Trendfactoren!$A$2:$D$43,(HLOOKUP(Emissieberekening!F1509,Trendfactoren!$A$1:$C$2,2,FALSE)))","v":0.87},0]
["LekM6leegaf","Lek","M6","leeg","af","Fijn Stof",8.7256678961518936,{"$f":"VLOOKUP(A1510,Begin:Einde,7,FALSE)","v":0},1,{"$f":"VLOOKUP(Jaar,Trendfactoren!$A$2:$D$43,(HLOOKUP(Emissieberekening!F1510,Trendfactoren!$A$1:$C$2,2,FALSE)))","v":0.76},0]
["LekM6leegaf","Lek","M6","leeg","af","NOx",257.78468135735773,{"$f":"VLOOKUP(A1511,Begin:Einde,7,FALSE)","v":0},1,{"$f":"VLOOKUP(Jaar,Trendfactoren!$A$2:$D$43,(HLOOKUP(Emissieberekening!F1511,Trendfactoren!$A$1:$C$2,2,FALSE)))","v":0.87},0]
["LekM6leegop","Lek","M6","leeg","op","Fijn Stof",10.255091725494873,{"$f":"VLOOKUP(A1512,Begin:Einde,7,FALSE)","v":0},1,{"$f":"VLOOKUP(Jaar,Trendfactoren!$A$2:$D$43,(HLOOKUP(Emissieberekening!F1512,Trendfactoren!$A$1:$C$2,2,FALSE)))","v":0.76},0]
["LekM6leegop","Lek","M6","leeg","op","NOx",302.96884825435865,{"$f":"VLOOKUP(A1513,Begin:Einde,7,FALSE)","v":0},1,{"$f":"VLOOKUP(Jaar,Trendfactoren!$A$2:$D$43,(HLOOKUP(Emissieberekening!F1513,Trendfactoren!$A$1:$C$2,2,FALSE)))","v":0.87},0]
["LekM7geladenaf","Lek","M7","geladen","af","Fijn Stof",9.4965294010374901,{"$f":"VLOOKUP(A1514,Begin:Einde,7,FALSE)","v":0},1,{"$f":"VLOOKUP(Jaar,Trendfactoren!$A$2:$D$43,(HLOOKUP(Emissieberekening!F1514,Trendfactoren!$A$1:$C$2,2,FALSE)))","v":0.76},0]
["LekM7geladenaf","Lek","M7","geladen","af","NOx",280.55844375269521,{"$f":"VLOOKUP(A1515,Begin:Einde,7,FALSE)","v":0},1,{"$f":"VLOOKUP(Jaar,Trendfactoren!$A$2:$D$43,(HLOOKUP(Emissieberekening!F1515,Trendfactoren!$A$1:$C$2,2,FALSE)))","v":0.87},0]
["LekM7geladenop","Lek","M7","geladen","op","Fijn Stof",13.122765708998806,{"$f":"VLOOKUP(A1516,Begin:Einde,7,FALSE)","v":0},1,{"$f":"VLOOKUP(Jaar,Trendfactoren!$A$2:$D$43,(HLOOKUP(Emissieberekening!F1516,Trendfactoren!$A$1:$C$2,2,FALSE)))","v":0.76},{"$f":"+G1516*H1516*I1516*J1516","v":0}]
["LekM7geladenop","Lek","M7","geladen","op","NOx",387.68928832523954,{"$f":"VLOOKUP(A1517,Begin:Einde,7,FALSE)","v":0},1,{"$f":"VLOOKUP(Jaar,Trendfactoren!$A$2:$D$43,(HLOOKUP(Emissieberekening!F1517,Trendfactoren!$A$1:$C$2,2,FALSE)))","v":0.87},0]
["LekM7leegaf","Lek","M7","leeg","af","Fijn Stof",10.388976363425771,{"$f":"VLOOKUP(A1518,Begin:Einde,7,FALSE)","v":0},1,{"$f":"VLOOKUP(Jaar,Trendfactoren!$A$2:$D$43,(HLOOKUP(Emissieberekening!F1518,Trendfactoren!$A$1:$C$2,2,FALSE)))","v":0.76},0]
["LekM7leegaf","Lek","M7","leeg","af","NOx",306.92423701524444,{"$f":"VLOOKUP(A1519,Begin:Einde,7,FALSE)","v":0},1,{"$f":"VLOOKUP(Jaar,Trendfactoren!$A$2:$D$43,(HLOOKUP(Emissieberekening!F1519,Trendfactoren!$A$1:$C$2,2,FALSE)))","v":0.87},0]
["LekM7leegop","Lek","M7","leeg","op","Fijn Stof",11.691956599716574,{"$f":"VLOOKUP(A1520,Begin:Einde,7,FALSE)","v":0},1,{"$f":"VLOOKUP(Jaar,Trendfactoren!$A$2:$D$43,(HLOOKUP(Emissieberekening!F1520,Trendfactoren!$A$1:$C$2,2,FALSE)))","v":0.76},0]
["LekM7leegop","Lek","M7","leeg","op","NOx",345.41852181094356,{"$f":"VLOOKUP(A1521,Begin:Einde,7,FALSE)","v":0},1,{"$f":"VLOOKUP(Jaar,Trendfactoren!$A$2:$D$43,(HLOOKUP(Emissieberekening!F1521,Trendfactoren!$A$1:$C$2,2,FALSE)))","v":0.87},0]
["LekM8geladenaf","Lek","M8","geladen","af","Fijn Stof",12.440451535218735,{"$f":"VLOOKUP(A1522,Begin:Einde,7,FALSE)","v":0},1,{"$f":"VLOOKUP(Jaar,Trendfactoren!$A$2:$D$43,(HLOOKUP(Emissieberekening!F1522,Trendfactoren!$A$1:$C$2,2,FALSE)))","v":0.76},0]
["LekM8geladenaf","Lek","M8","geladen","af","NOx",367.53150281622715,{"$f":"VLOOKUP(A1523,Begin:Einde,7,FALSE)","v":0},1,{"$f":"VLOOKUP(Jaar,Trendfactoren!$A$2:$D$43,(HLOOKUP(Emissieberekening!F1523,Trendfactoren!$A$1:$C$2,2,FALSE)))","v":0.87},0]
["LekM8geladenop","Lek","M8","geladen","op","Fijn Stof",16.637337918531035,{"$f":"VLOOKUP(A1524,Begin:Einde,7,FALSE)","v":0},1,{"$f":"VLOOKUP(Jaar,Trendfactoren!$A$2:$D$43,(HLOOKUP(Emissieberekening!F1524,Trendfactoren!$A$1:$C$2,2,FALSE)))","v":0.76},0]
["LekM8geladenop","Lek","M8","geladen","op","NOx",491.52121132809037,{"$f":"VLOOKUP(A1525,Begin:Einde,7,FALSE)","v":0},1,{"$f":"VLOOKUP(Jaar,Trendfactoren!$A$2:$D$43,(HLOOKUP(Emissieberekening!F1525,Trendfactoren!$A$1:$C$2,2,FALSE)))","v":0.87},0]
["LekM8leegaf","Lek","M8","leeg","af","Fijn Stof",11.990528597208284,{"$f":"VLOOKUP(A1526,Begin:Einde,7,FALSE)","v":0},1,{"$f":"VLOOKUP(Jaar,Trendfactoren!$A$2:$D$43,(HLOOKUP(Emissieberekening!F1526,Trendfactoren!$A$1:$C$2,2,FALSE)))","v":0.76},0]
["LekM8leegaf","Lek","M8","leeg","af","NOx",354.23931216781403,{"$f":"VLOOKUP(A1527,Begin:Einde,7,FALSE)","v":0},1,{"$f":"VLOOKUP(Jaar,Trendfactoren!$A$2:$D$43,(HLOOKUP(Emissieberekening!F1527,Trendfactoren!$A$1:$C$2,2,FALSE)))","v":0.87},0]
["LekM8leegop","Lek","M8","leeg","op","Fijn Stof",13.699741907383467,{"$f":"VLOOKUP(A1528,Begin:Einde,7,FALSE)","v":0},1,{"$f":"VLOOKUP(Jaar,Trendfactoren!$A$2:$D$43,(HLOOKUP(Emissieberekening!F1528,Trendfactoren!$A$1:$C$2,2,FALSE)))","v":0.76},0]
["LekM8leegop","Lek","M8","leeg","op","NOx",404.73504656650425,{"$f":"VLOOKUP(A1529,Begin:Einde,7,FALSE)","v":0},1,{"$f":"VLOOKUP(Jaar,Trendfactoren!$A$2:$D$43,(HLOOKUP(Emissieberekening!F1529,Trendfactoren!$A$1:$C$2,2,FALSE)))","v":0.87},0]
[{"$f":"+B1530&C1530&D1530&E1530","v":"LekM9geladenaf"},"Lek","M9","geladen","af","Fijn Stof",12.125037536037391,{"$f":"VLOOKUP(A1530,Begin:Einde,7,FALSE)","v":0},{"$f":"+Afstand","v":1},{"$f":"VLOOKUP(Jaar,Trendfactoren!$A$2:$D$43,(HLOOKUP(Emissieberekening!F1530,Trendfactoren!$A$1:$C$2,2,FALSE)))","v":0.76},0]
["LekM9geladenaf","Lek","M9","geladen","af","NOx",358.2131448128851,{"$f":"VLOOKUP(A1531,Begin:Einde,7,FALSE)","v":0},1,{"$f":"VLOOKUP(Jaar,Trendfactoren!$A$2:$D$43,(HLOOKUP(Emissieberekening!F1531,Trendfactoren!$A$1:$C$2,2,FALSE)))","v":0.87},0]
["LekM9geladenop","Lek","M9","geladen","op","Fijn Stof",17.022132070310946,{"$f":"VLOOKUP(A1532,Begin:Einde,7,FALSE)","v":0},1,{"$f":"VLOOKUP(Jaar,Trendfactoren!$A$2:$D$43,(HLOOKUP(Emissieberekening!F1532,Trendfactoren!$A$1:$C$2,2,FALSE)))","v":0.76},0]
["LekM9geladenop","Lek","M9","geladen","op","NOx",502.88928526641939,{"$f":"VLOOKUP(A1533,Begin:Einde,7,FALSE)","v":0},1,{"$f":"VLOOKUP(Jaar,Trendfactoren!$A$2:$D$43,(HLOOKUP(Emissieberekening!F1533,Trendfactoren!$A$1:$C$2,2,FALSE)))","v":0.87},0]
["LekM9leegaf","Lek","M9","leeg","af","Fijn Stof",13.790108713716457,{"$f":"VLOOKUP(A1534,Begin:Einde,7,FALSE)","v":0},1,{"$f":"VLOOKUP(Jaar,Trendfactoren!$A$2:$D$43,(HLOOKUP(Emissieberekening!F1534,Trendfactoren!$A$1:$C$2,2,FALSE)))","v":0.76},0]
["LekM9leegaf","Lek","M9","leeg","af","NOx",407.40477668379458,{"$f":"VLOOKUP(A1535,Begin:Einde,7,FALSE)","v":0},1,{"$f":"VLOOKUP(Jaar,Trendfactoren!$A$2:$D$43,(HLOOKUP(Emissieberekening!F1535,Trendfactoren!$A$1:$C$2,2,FALSE)))","v":0.87},0]
["LekM9leegop","Lek","M9","leeg","op","Fijn Stof",15.406824308985746,{"$f":"VLOOKUP(A1536,Begin:Einde,7,FALSE)","v":0},1,{"$f":"VLOOKUP(Jaar,Trendfactoren!$A$2:$D$43,(HLOOKUP(Emissieberekening!F1536,Trendfactoren!$A$1:$C$2,2,FALSE)))","v":0.76},0]
["LekM9leegop","Lek","M9","leeg","op","NOx",455.1678269777168,{"$f":"VLOOKUP(A1537,Begin:Einde,7,FALSE)","v":0},1,{"$f":"VLOOKUP(Jaar,Trendfactoren!$A$2:$D$43,(HLOOKUP(Emissieberekening!F1537,Trendfactoren!$A$1:$C$2,2,FALSE)))","v":0.87},0]
["WaalBIgeladenaf","Waal","BI","geladen","af","Fijn Stof",12.769590626015367,{"$f":"VLOOKUP(A1538,Begin:Einde,7,FALSE)","v":0},1,{"$f":"VLOOKUP(Jaar,Trendfactoren!$A$2:$D$43,(HLOOKUP(Emissieberekening!F1538,Trendfactoren!$A$1:$C$2,2,FALSE)))","v":0.76},0]
["WaalBIgeladenaf","Waal","BI","geladen","af","NOx",377.25534477916494,{"$f":"VLOOKUP(A1539,Begin:Einde,7,FALSE)","v":0},1,{"$f":"VLOOKUP(Jaar,Trendfactoren!$A$2:$D$43,(HLOOKUP(Emissieberekening!F1539,Trendfactoren!$A$1:$C$2,2,FALSE)))","v":0.87},0]
["WaalBIgeladenop","Waal","BI","geladen","op","Fijn Stof",22.749905852379506,{"$f":"VLOOKUP(A1540,Begin:Einde,7,FALSE)","v":0},1,{"$f":"VLOOKUP(Jaar,Trendfactoren!$A$2:$D$43,(HLOOKUP(Emissieberekening!F1540,Trendfactoren!$A$1:$C$2,2,FALSE)))","v":0.76},0]
["WaalBIgeladenop","Waal","BI","geladen","op","NOx",672.1063992879989,{"$f":"VLOOKUP(A1541,Begin:Einde,7,FALSE)","v":0},1,{"$f":"VLOOKUP(Jaar,Trendfactoren!$A$2:$D$43,(HLOOKUP(Emissieberekening!F1541,Trendfactoren!$A$1:$C$2,2,FALSE)))","v":0.87},0]
["WaalBIleegaf","Waal","BI","leeg","af","Fijn Stof",5.4042257002868999,{"$f":"VLOOKUP(A1542,Begin:Einde,7,FALSE)","v":0},1,{"$f":"VLOOKUP(Jaar,Trendfactoren!$A$2:$D$43,(HLOOKUP(Emissieberekening!F1542,Trendfactoren!$A$1:$C$2,2,FALSE)))","v":0.76},0]
["WaalBIleegaf","Waal","BI","leeg","af","NOx",159.65844869549579,{"$f":"VLOOKUP(A1543,Begin:Einde,7,FALSE)","v":0},1,{"$f":"VLOOKUP(Jaar,Trendfactoren!$A$2:$D$43,(HLOOKUP(Emissieberekening!F1543,Trendfactoren!$A$1:$C$2,2,FALSE)))","v":0.87},0]
["WaalBIleegop","Waal","BI","leeg","op","Fijn Stof",8.4638024071442821,{"$f":"VLOOKUP(A1544,Begin:Einde,7,FALSE)","v":0},1,{"$f":"VLOOKUP(Jaar,Trendfactoren!$A$2:$D$43,(HLOOKUP(Emissieberekening!F1544,Trendfactoren!$A$1:$C$2,2,FALSE)))","v":0.76},0]
["WaalBIleegop","Waal","BI","leeg","op","NOx",250.04832094968208,{"$f":"VLOOKUP(A1545,Begin:Einde,7,FALSE)","v":0},1,{"$f":"VLOOKUP(Jaar,Trendfactoren!$A$2:$D$43,(HLOOKUP(Emissieberekening!F1545,Trendfactoren!$A$1:$C$2,2,FALSE)))","v":0.87},0]
["WaalBII-1geladenaf","Waal","BII-1","geladen","af","Fijn Stof",18.432634777827364,{"$f":"VLOOKUP(A1546,Begin:Einde,7,FALSE)","v":0},1,{"$f":"VLOOKUP(Jaar,Trendfactoren!$A$2:$D$43,(HLOOKUP(Emissieberekening!F1546,Trendfactoren!$A$1:$C$2,2,FALSE)))","v":0.76},0]
["WaalBII-1geladenaf","Waal","BII-1","geladen","af","NOx",544.56013445965584,{"$f":"VLOOKUP(A1547,Begin:Einde,7,FALSE)","v":0},1,{"$f":"VLOOKUP(Jaar,Trendfactoren!$A$2:$D$43,(HLOOKUP(Emissieberekening!F1547,Trendfactoren!$A$1:$C$2,2,FALSE)))","v":0.87},0]
["WaalBII-1geladenop","Waal","BII-1","geladen","op","Fijn Stof",30.89048863177965,{"$f":"VLOOKUP(A1548,Begin:Einde,7,FALSE)","v":0},1,{"$f":"VLOOKUP(Jaar,Trendfactoren!$A$2:$D$43,(HLOOKUP(Emissieberekening!F1548,Trendfactoren!$A$1:$C$2,2,FALSE)))","v":0.76},0]
["WaalBII-1geladenop","Waal","BII-1","geladen","op","NOx",912.60575851485294,{"$f":"VLOOKUP(A1549,Begin:Einde,7,FALSE)","v":0},1,{"$f":"VLOOKUP(Jaar,Trendfactoren!$A$2:$D$43,(HLOOKUP(Emissieberekening!F1549,Trendfactoren!$A$1:$C$2,2,FALSE)))","v":0.87},0]
["WaalBII-1leegaf","Waal","BII-1","leeg","af","Fijn Stof",8.4323394136232324,{"$f":"VLOOKUP(A1550,Begin:Einde,7,FALSE)","v":0},1,{"$f":"VLOOKUP(Jaar,Trendfactoren!$A$2:$D$43,(HLOOKUP(Emissieberekening!F1550,Trendfactoren!$A$1:$C$2,2,FALSE)))","v":0.76},0]
["WaalBII-1leegaf","Waal","BII-1","leeg","af","NOx",249.11880152997682,{"$f":"VLOOKUP(A1551,Begin:Einde,7,FALSE)","v":0},1,{"$f":"VLOOKUP(Jaar,Trendfactoren!$A$2:$D$43,(HLOOKUP(Emissieberekening!F1551,Trendfactoren!$A$1:$C$2,2,FALSE)))","v":0.87},0]
["WaalBII-1leegop","Waal","BII-1","leeg","op","Fijn Stof",13.00193819825026,{"$f":"VLOOKUP(A1552,Begin:Einde,7,FALSE)","v":0},1,{"$f":"VLOOKUP(Jaar,Trendfactoren!$A$2:$D$43,(HLOOKUP(Emissieberekening!F1552,Trendfactoren!$A$1:$C$2,2,FALSE)))","v":0.76},0]
["WaalBII-1leegop","Waal","BII-1","leeg","op","NOx",384.11964967657491,{"$f":"VLOOKUP(A1553,Begin:Einde,7,FALSE)","v":0},1,{"$f":"VLOOKUP(Jaar,Trendfactoren!$A$2:$D$43,(HLOOKUP(Emissieberekening!F1553,Trendfactoren!$A$1:$C$2,2,FALSE)))","v":0.87},0]
["WaalBII-2Bgeladenaf","Waal","BII-2B","geladen","af","Fijn Stof",29.663984919539331,{"$f":"VLOOKUP(A1554,Begin:Einde,7,FALSE)","v":0},1,{"$f":"VLOOKUP(Jaar,Trendfactoren!$A$2:$D$43,(HLOOKUP(Emissieberekening!F1554,Trendfactoren!$A$1:$C$2,2,FALSE)))","v":0.76},0]
["WaalBII-2Bgeladenaf","Waal","BII-2B","geladen","af","NOx",876.37083960590337,{"$f":"VLOOKUP(A1555,Begin:Einde,7,FALSE)","v":0},1,{"$f":"VLOOKUP(Jaar,Trendfactoren!$A$2:$D$43,(HLOOKUP(Emissieberekening!F1555,Trendfactoren!$A$1:$C$2,2,FALSE)))","v":0.87},0]
["WaalBII-2Bgeladenop","Waal","BII-2B","geladen","op","Fijn Stof",56.15904474319877,{"$f":"VLOOKUP(A1556,Begin:Einde,7,FALSE)","v":0},1,{"$f":"VLOOKUP(Jaar,Trendfactoren!$A$2:$D$43,(HLOOKUP(Emissieberekening!F1556,Trendfactoren!$A$1:$C$2,2,FALSE)))","v":0.76},0]
["WaalBII-2Bgeladenop","Waal","BII-2B","geladen","op","NOx",1659.1212989946093,{"$f":"VLOOKUP(A1557,Begin:Einde,7,FALSE)","v":0},1,{"$f":"VLOOKUP(Jaar,Trendfactoren!$A$2:$D$43,(HLOOKUP(Emissieberekening!F1557,Trendfactoren!$A$1:$C$2,2,FALSE)))","v":0.87},0]
["WaalBII-2Bleegaf","Waal","BII-2B","leeg","af","Fijn Stof",17.472800858833036,{"$f":"VLOOKUP(A1558,Begin:Einde,7,FALSE)","v":0},1,{"$f":"VLOOKUP(Jaar,Trendfactoren!$A$2:$D$43,(HLOOKUP(Emissieberekening!F1558,Trendfactoren!$A$1:$C$2,2,FALSE)))","v":0.76},0]
["WaalBII-2Bleegaf","Waal","BII-2B","leeg","af","NOx",516.20351077093449,{"$f":"VLOOKUP(A1559,Begin:Einde,7,FALSE)","v":0},1,{"$f":"VLOOKUP(Jaar,Trendfactoren!$A$2:$D$43,(HLOOKUP(Emissieberekening!F1559,Trendfactoren!$A$1:$C$2,2,FALSE)))","v":0.87},0]
["WaalBII-2Bleegop","Waal","BII-2B","leeg","op","Fijn Stof",26.0604062573092,{"$f":"VLOOKUP(A1560,Begin:Einde,7,FALSE)","v":0},1,{"$f":"VLOOKUP(Jaar,Trendfactoren!$A$2:$D$43,(HLOOKUP(Emissieberekening!F1560,Trendfactoren!$A$1:$C$2,2,FALSE)))","v":0.76},0]
["WaalBII-2Bleegop","Waal","BII-2B","leeg","op","NOx",769.90937576783517,{"$f":"VLOOKUP(A1561,Begin:Einde,7,FALSE)","v":0},1,{"$f":"VLOOKUP(Jaar,Trendfactoren!$A$2:$D$43,(HLOOKUP(Emissieberekening!F1561,Trendfactoren!$A$1:$C$2,2,FALSE)))","v":0.87},0]
["WaalBII-2Lgeladenaf","Waal","BII-2L","geladen","af","Fijn Stof",19.621012843168401,{"$f":"VLOOKUP(A1562,Begin:Einde,7,FALSE)","v":0},1,{"$f":"VLOOKUP(Jaar,Trendfactoren!$A$2:$D$43,(HLOOKUP(Emissieberekening!F1562,Trendfactoren!$A$1:$C$2,2,FALSE)))","v":0.76},0]
["WaalBII-2Lgeladenaf","Waal","BII-2L","geladen","af","NOx",579.66869744325447,{"$f":"VLOOKUP(A1563,Begin:Einde,7,FALSE)","v":0},1,{"$f":"VLOOKUP(Jaar,Trendfactoren!$A$2:$D$43,(HLOOKUP(Emissieberekening!F1563,Trendfactoren!$A$1:$C$2,2,FALSE)))","v":0.87},0]
["WaalBII-2Lgeladenop","Waal","BII-2L","geladen","op","Fijn Stof",33.36692019201503,{"$f":"VLOOKUP(A1564,Begin:Einde,7,FALSE)","v":0},1,{"$f":"VLOOKUP(Jaar,Trendfactoren!$A$2:$D$43,(HLOOKUP(Emissieberekening!F1564,Trendfactoren!$A$1:$C$2,2,FALSE)))","v":0.76},0]
["WaalBII-2Lgeladenop","Waal","BII-2L","geladen","op","NOx",985.76762168181051,{"$f":"VLOOKUP(A1565,Begin:Einde,7,FALSE)","v":0},1,{"$f":"VLOOKUP(Jaar,Trendfactoren!$A$2:$D$43,(HLOOKUP(Emissieberekening!F1565,Trendfactoren!$A$1:$C$2,2,FALSE)))","v":0.87},0]
["WaalBII-2Lleegaf","Waal","BII-2L","leeg","af","Fijn Stof",11.233840339515362,{"$f":"VLOOKUP(A1566,Begin:Einde,7,FALSE)","v":0},1,{"$f":"VLOOKUP(Jaar,Trendfactoren!$A$2:$D$43,(HLOOKUP(Emissieberekening!F1566,Trendfactoren!$A$1:$C$2,2,FALSE)))","v":0.76},0]
["WaalBII-2Lleegaf","Waal","BII-2L","leeg","af","NOx",331.8842737091249,{"$f":"VLOOKUP(A1567,Begin:Einde,7,FALSE)","v":0},1,{"$f":"VLOOKUP(Jaar,Trendfactoren!$A$2:$D$43,(HLOOKUP(Emissieberekening!F1567,Trendfactoren!$A$1:$C$2,2,FALSE)))","v":0.87},0]
["WaalBII-2Lleegop","Waal","BII-2L","leeg","op","Fijn Stof",17.292875955910041,{"$f":"VLOOKUP(A1568,Begin:Einde,7,FALSE)","v":0},1,{"$f":"VLOOKUP(Jaar,Trendfactoren!$A$2:$D$43,(HLOOKUP(Emissieberekening!F1568,Trendfactoren!$A$1:$C$2,2,FALSE)))","v":0.76},0]
["WaalBII-2Lleegop","Waal","BII-2L","leeg","op","NOx",510.88794245911356,{"$f":"VLOOKUP(A1569,Begin:Einde,7,FALSE)","v":0},1,{"$f":"VLOOKUP(Jaar,Trendfactoren!$A$2:$D$43,(HLOOKUP(Emissieberekening!F1569,Trendfactoren!$A$1:$C$2,2,FALSE)))","v":0.87},0]
["WaalBII-4geladenaf","Waal","BII-4","geladen","af","Fijn Stof",34.081703855203827,{"$f":"VLOOKUP(A1570,Begin:Einde,7,FALSE)","v":0},1,{"$f":"VLOOKUP(Jaar,Trendfactoren!$A$2:$D$43,(HLOOKUP(Emissieberekening!F1570,Trendfactoren!$A$1:$C$2,2,FALSE)))","v":0.76},0]
["WaalBII-4geladenaf","Waal","BII-4","geladen","af","NOx",1006.8846617809223,{"$f":"VLOOKUP(A1571,Begin:Einde,7,FALSE)","v":0},1,{"$f":"VLOOKUP(Jaar,Trendfactoren!$A$2:$D$43,(HLOOKUP(Emissieberekening!F1571,Trendfactoren!$A$1:$C$2,2,FALSE)))","v":0.87},0]
["WaalBII-4geladenop","Waal","BII-4","geladen","op","Fijn Stof",72.611370248689781,{"$f":"VLOOKUP(A1572,Begin:Einde,7,FALSE)","v":0},1,{"$f":"VLOOKUP(Jaar,Trendfactoren!$A$2:$D$43,(HLOOKUP(Emissieberekening!F1572,Trendfactoren!$A$1:$C$2,2,FALSE)))","v":0.76},0]
["WaalBII-4geladenop","Waal","BII-4","geladen","op","NOx",2145.1766403732245,{"$f":"VLOOKUP(A1573,Begin:Einde,7,FALSE)","v":0},1,{"$f":"VLOOKUP(Jaar,Trendfactoren!$A$2:$D$43,(HLOOKUP(Emissieberekening!F1573,Trendfactoren!$A$1:$C$2,2,FALSE)))","v":0.87},0]
["WaalBII-4leegaf","Waal","BII-4","leeg","af","Fijn Stof",22.830350606281716,{"$f":"VLOOKUP(A1574,Begin:Einde,7,FALSE)","v":0},1,{"$f":"VLOOKUP(Jaar,Trendfactoren!$A$2:$D$43,(HLOOKUP(Emissieberekening!F1574,Trendfactoren!$A$1:$C$2,2,FALSE)))","v":0.76},0]
["WaalBII-4leegaf","Waal","BII-4","leeg","af","NOx",674.48299962373926,{"$f":"VLOOKUP(A1575,Begin:Einde,7,FALSE)","v":0},1,{"$f":"VLOOKUP(Jaar,Trendfactoren!$A$2:$D$43,(HLOOKUP(Emissieberekening!F1575,Trendfactoren!$A$1:$C$2,2,FALSE)))","v":0.87},0]
["WaalBII-4leegop","Waal","BII-4","leeg","op","Fijn Stof",35.206995075649381,{"$f":"VLOOKUP(A1576,Begin:Einde,7,FALSE)","v":0},1,{"$f":"VLOOKUP(Jaar,Trendfactoren!$A$2:$D$43,(HLOOKUP(Emissieberekening!F1576,Trendfactoren!$A$1:$C$2,2,FALSE)))","v":0.76},0]
["WaalBII-4leegop","Waal","BII-4","leeg","op","NOx",1040.1294336596131,{"$f":"VLOOKUP(A1577,Begin:Einde,7,FALSE)","v":0},1,{"$f":"VLOOKUP(Jaar,Trendfactoren!$A$2:$D$43,(HLOOKUP(Emissieberekening!F1577,Trendfactoren!$A$1:$C$2,2,FALSE)))","v":0.87},0]
["WaalBII-6Bgeladenaf","Waal","BII-6B","geladen","af","Fijn Stof",35.225924830878171,{"$f":"VLOOKUP(A1578,Begin:Einde,7,FALSE)","v":0},1,{"$f":"VLOOKUP(Jaar,Trendfactoren!$A$2:$D$43,(HLOOKUP(Emissieberekening!F1578,Trendfactoren!$A$1:$C$2,2,FALSE)))","v":0.76},0]
["WaalBII-6Bgeladenaf","Waal","BII-6B","geladen","af","NOx",1040.6886803531502,{"$f":"VLOOKUP(A1579,Begin:Einde,7,FALSE)","v":0},1,{"$f":"VLOOKUP(Jaar,Trendfactoren!$A$2:$D$43,(HLOOKUP(Emissieberekening!F1579,Trendfactoren!$A$1:$C$2,2,FALSE)))","v":0.87},0]
["WaalBII-6Bgeladenop","Waal","BII-6B","geladen","op","Fijn Stof",91.030326159273912,{"$f":"VLOOKUP(A1580,Begin:Einde,7,FALSE)","v":0},1,{"$f":"VLOOKUP(Jaar,Trendfactoren!$A$2:$D$43,(HLOOKUP(Emissieberekening!F1580,Trendfactoren!$A$1:$C$2,2,FALSE)))","v":0.76},{"$f":"+G1580*H1580*I1580*J1580","v":0}]
["WaalBII-6Bgeladenop","Waal","BII-6B","geladen","op","NOx",2689.3326564919589,{"$f":"VLOOKUP(A1581,Begin:Einde,7,FALSE)","v":0},1,{"$f":"VLOOKUP(Jaar,Trendfactoren!$A$2:$D$43,(HLOOKUP(Emissieberekening!F1581,Trendfactoren!$A$1:$C$2,2,FALSE)))","v":0.87},0]
["WaalBII-6Bleegaf","Waal","BII-6B","leeg","af","Fijn Stof",32.477069809140602,{"$f":"VLOOKUP(A1582,Begin:Einde,7,FALSE)","v":0},1,{"$f":"VLOOKUP(Jaar,Trendfactoren!$A$2:$D$43,(HLOOKUP(Emissieberekening!F1582,Trendfactoren!$A$1:$C$2,2,FALSE)))","v":0.76},0]
["WaalBII-6Bleegaf","Waal","BII-6B","leeg","af","NOx",959.47853984474364,{"$f":"VLOOKUP(A1583,Begin:Einde,7,FALSE)","v":0},1,{"$f":"VLOOKUP(Jaar,Trendfactoren!$A$2:$D$43,(HLOOKUP(Emissieberekening!F1583,Trendfactoren!$A$1:$C$2,2,FALSE)))","v":0.87},0]
["WaalBII-6Bleegop","Waal","BII-6B","leeg","op","Fijn Stof",52.538395173373495,{"$f":"VLOOKUP(A1584,Begin:Einde,7,FALSE)","v":0},1,{"$f":"VLOOKUP(Jaar,Trendfactoren!$A$2:$D$43,(HLOOKUP(Emissieberekening!F1584,Trendfactoren!$A$1:$C$2,2,FALSE)))","v":0.76},0]
["WaalBII-6Bleegop","Waal","BII-6B","leeg","op","NOx",1552.155504883229,{"$f":"VLOOKUP(A1585,Begin:Einde,7,FALSE)","v":0},1,{"$f":"VLOOKUP(Jaar,Trendfactoren!$A$2:$D$43,(HLOOKUP(Emissieberekening!F1585,Trendfactoren!$A$1:$C$2,2,FALSE)))","v":0.87},0]
["WaalBII-6Lgeladenaf","Waal","BII-6L","geladen","af","Fijn Stof",49.457060497931813,{"$f":"VLOOKUP(A1586,Begin:Einde,7,FALSE)","v":0},1,{"$f":"VLOOKUP(Jaar,Trendfactoren!$A$2:$D$43,(HLOOKUP(Emissieberekening!F1586,Trendfactoren!$A$1:$C$2,2,FALSE)))","v":0.76},0]
["WaalBII-6Lgeladenaf","Waal","BII-6L","geladen","af","NOx",1461.1228312910546,{"$f":"VLOOKUP(A1587,Begin:Einde,7,FALSE)","v":0},1,{"$f":"VLOOKUP(Jaar,Trendfactoren!$A$2:$D$43,(HLOOKUP(Emissieberekening!F1587,Trendfactoren!$A$1:$C$2,2,FALSE)))","v":0.87},0]
["WaalBII-6Lgeladenop","Waal","BII-6L","geladen","op","Fijn Stof",72.9113540971681,{"$f":"VLOOKUP(A1588,Begin:Einde,7,FALSE)","v":0},1,{"$f":"VLOOKUP(Jaar,Trendfactoren!$A$2:$D$43,(HLOOKUP(Emissieberekening!F1588,Trendfactoren!$A$1:$C$2,2,FALSE)))","v":0.76},0]
["WaalBII-6Lgeladenop","Waal","BII-6L","geladen","op","NOx",2154.0391414118494,{"$f":"VLOOKUP(A1589,Begin:Einde,7,FALSE)","v":0},1,{"$f":"VLOOKUP(Jaar,Trendfactoren!$A$2:$D$43,(HLOOKUP(Emissieberekening!F1589,Trendfactoren!$A$1:$C$2,2,FALSE)))","v":0.87},0]
["WaalBII-6Lleegaf","Waal","BII-6L","leeg","af","Fijn Stof",28.143126489325343,{"$f":"VLOOKUP(A1590,Begin:Einde,7,FALSE)","v":0},1,{"$f":"VLOOKUP(Jaar,Trendfactoren!$A$2:$D$43,(HLOOKUP(Emissieberekening!F1590,Trendfactoren!$A$1:$C$2,2,FALSE)))","v":0.76},0]
["WaalBII-6Lleegaf","Waal","BII-6L","leeg","af","NOx",831.43972252829099,{"$f":"VLOOKUP(A1591,Begin:Einde,7,FALSE)","v":0},1,{"$f":"VLOOKUP(Jaar,Trendfactoren!$A$2:$D$43,(HLOOKUP(Emissieberekening!F1591,Trendfactoren!$A$1:$C$2,2,FALSE)))","v":0.87},0]
["WaalBII-6Lleegop","Waal","BII-6L","leeg","op","Fijn Stof",43.828202899351453,{"$f":"VLOOKUP(A1592,Begin:Einde,7,FALSE)","v":0},1,{"$f":"VLOOKUP(Jaar,Trendfactoren!$A$2:$D$43,(HLOOKUP(Emissieberekening!F1592,Trendfactoren!$A$1:$C$2,2,FALSE)))","v":0.76},0]
["WaalBII-6Lleegop","Waal","BII-6L","leeg","op","NOx",1294.828023864806,{"$f":"VLOOKUP(A1593,Begin:Einde,7,FALSE)","v":0},1,{"$f":"VLOOKUP(Jaar,Trendfactoren!$A$2:$D$43,(HLOOKUP(Emissieberekening!F1593,Trendfactoren!$A$1:$C$2,2,FALSE)))","v":0.87},0]
[{"$f":"+B1594&C1594&D1594&E1594","v":"WaalBO1geladenaf"},"Waal","BO1","geladen","af","Fijn Stof",4.6159026641038245,{"$f":"VLOOKUP(A1594,Begin:Einde,7,FALSE)","v":0},{"$f":"+Afstand","v":1},{"$f":"VLOOKUP(Jaar,Trendfactoren!$A$2:$D$43,(HLOOKUP(Emissieberekening!F1594,Trendfactoren!$A$1:$C$2,2,FALSE)))","v":0.76},0]
["WaalBO1geladenaf","Waal","BO1","geladen","af","NOx",136.36881572897644,{"$f":"VLOOKUP(A1595,Begin:Einde,7,FALSE)","v":0},1,{"$f":"VLOOKUP(Jaar,Trendfactoren!$A$2:$D$43,(HLOOKUP(Emissieberekening!F1595,Trendfactoren!$A$1:$C$2,2,FALSE)))","v":0.87},0]
["WaalBO1geladenop","Waal","BO1","geladen","op","Fijn Stof",2.9770156902036251,{"$f":"VLOOKUP(A1596,Begin:Einde,7,FALSE)","v":0},1,{"$f":"VLOOKUP(Jaar,Trendfactoren!$A$2:$D$43,(HLOOKUP(Emissieberekening!F1596,Trendfactoren!$A$1:$C$2,2,FALSE)))","v":0.76},0]
["WaalBO1geladenop","Waal","BO1","geladen","op","NOx",87.950750616286911,{"$f":"VLOOKUP(A1597,Begin:Einde,7,FALSE)","v":0},1,{"$f":"VLOOKUP(Jaar,Trendfactoren!$A$2:$D$43,(HLOOKUP(Emissieberekening!F1597,Trendfactoren!$A$1:$C$2,2,FALSE)))","v":0.87},0]
["WaalBO1leegaf","Waal","BO1","leeg","af","Fijn Stof",2.3716169622618875,{"$f":"VLOOKUP(A1598,Begin:Einde,7,FALSE)","v":0},1,{"$f":"VLOOKUP(Jaar,Trendfactoren!$A$2:$D$43,(HLOOKUP(Emissieberekening!F1598,Trendfactoren!$A$1:$C$2,2,FALSE)))","v":0.76},0]
["WaalBO1leegaf","Waal","BO1","leeg","af","NOx",70.065298174825571,{"$f":"VLOOKUP(A1599,Begin:Einde,7,FALSE)","v":0},1,{"$f":"VLOOKUP(Jaar,Trendfactoren!$A$2:$D$43,(HLOOKUP(Emissieberekening!F1599,Trendfactoren!$A$1:$C$2,2,FALSE)))","v":0.87},0]
["WaalBO1leegop","Waal","BO1","leeg","op","Fijn Stof",3.5930231689958942,{"$f":"VLOOKUP(A1600,Begin:Einde,7,FALSE)","v":0},1,{"$f":"VLOOKUP(Jaar,Trendfactoren!$A$2:$D$43,(HLOOKUP(Emissieberekening!F1600,Trendfactoren!$A$1:$C$2,2,FALSE)))","v":0.76},0]
["WaalBO1leegop","Waal","BO1","leeg","op","NOx",106.1496201497292,{"$f":"VLOOKUP(A1601,Begin:Einde,7,FALSE)","v":0},1,{"$f":"VLOOKUP(Jaar,Trendfactoren!$A$2:$D$43,(HLOOKUP(Emissieberekening!F1601,Trendfactoren!$A$1:$C$2,2,FALSE)))","v":0.87},0]
["WaalBO2geladenaf","Waal","BO2","geladen","af","Fijn Stof",6.0541376471383357,{"$f":"VLOOKUP(A1602,Begin:Einde,7,FALSE)","v":0},1,{"$f":"VLOOKUP(Jaar,Trendfactoren!$A$2:$D$43,(HLOOKUP(Emissieberekening!F1602,Trendfactoren!$A$1:$C$2,2,FALSE)))","v":0.76},{"$f":"+G1602*H1602*I1602*J1602","v":0}]
["WaalBO2geladenaf","Waal","BO2","geladen","af","NOx",178.85896676739296,{"$f":"VLOOKUP(A1603,Begin:Einde,7,FALSE)","v":0},1,{"$f":"VLOOKUP(Jaar,Trendfactoren!$A$2:$D$43,(HLOOKUP(Emissieberekening!F1603,Trendfactoren!$A$1:$C$2,2,FALSE)))","v":0.87},0]
["WaalBO2geladenop","Waal","BO2","geladen","op","Fijn Stof",8.9703884289930613,{"$f":"VLOOKUP(A1604,Begin:Einde,7,FALSE)","v":0},1,{"$f":"VLOOKUP(Jaar,Trendfactoren!$A$2:$D$43,(HLOOKUP(Emissieberekening!F1604,Trendfactoren!$A$1:$C$2,2,FALSE)))","v":0.76},0]
["WaalBO2geladenop","Waal","BO2","geladen","op","NOx",265.01452385547577,{"$f":"VLOOKUP(A1605,Begin:Einde,7,FALSE)","v":0},1,{"$f":"VLOOKUP(Jaar,Trendfactoren!$A$2:$D$43,(HLOOKUP(Emissieberekening!F1605,Trendfactoren!$A$1:$C$2,2,FALSE)))","v":0.87},0]
["WaalBO2leegaf","Waal","BO2","leeg","af","Fijn Stof",3.1483824089532106,{"$f":"VLOOKUP(A1606,Begin:Einde,7,FALSE)","v":0},1,{"$f":"VLOOKUP(Jaar,Trendfactoren!$A$2:$D$43,(HLOOKUP(Emissieberekening!F1606,Trendfactoren!$A$1:$C$2,2,FALSE)))","v":0.76},0]
["WaalBO2leegaf","Waal","BO2","leeg","af","NOx",93.013482262032838,{"$f":"VLOOKUP(A1607,Begin:Einde,7,FALSE)","v":0},1,{"$f":"VLOOKUP(Jaar,Trendfactoren!$A$2:$D$43,(HLOOKUP(Emissieberekening!F1607,Trendfactoren!$A$1:$C$2,2,FALSE)))","v":0.87},0]
["WaalBO2leegop","Waal","BO2","leeg","op","Fijn Stof",5.1208972234399699,{"$f":"VLOOKUP(A1608,Begin:Einde,7,FALSE)","v":0},1,{"$f":"VLOOKUP(Jaar,Trendfactoren!$A$2:$D$43,(HLOOKUP(Emissieberekening!F1608,Trendfactoren!$A$1:$C$2,2,FALSE)))","v":0.76},0]
["WaalBO2leegop","Waal","BO2","leeg","op","NOx",151.28800164287969,{"$f":"VLOOKUP(A1609,Begin:Einde,7,FALSE)","v":0},1,{"$f":"VLOOKUP(Jaar,Trendfactoren!$A$2:$D$43,(HLOOKUP(Emissieberekening!F1609,Trendfactoren!$A$1:$C$2,2,FALSE)))","v":0.87},0]
["WaalBO3geladenaf","Waal","BO3","geladen","af","Fijn Stof",7.4914181270505935,{"$f":"VLOOKUP(A1610,Begin:Einde,7,FALSE)","v":0},1,{"$f":"VLOOKUP(Jaar,Trendfactoren!$A$2:$D$43,(HLOOKUP(Emissieberekening!F1610,Trendfactoren!$A$1:$C$2,2,FALSE)))","v":0.76},0]
["WaalBO3geladenaf","Waal","BO3","geladen","af","NOx",221.32091867123862,{"$f":"VLOOKUP(A1611,Begin:Einde,7,FALSE)","v":0},1,{"$f":"VLOOKUP(Jaar,Trendfactoren!$A$2:$D$43,(HLOOKUP(Emissieberekening!F1611,Trendfactoren!$A$1:$C$2,2,FALSE)))","v":0.87},0]
["WaalBO3geladenop","Waal","BO3","geladen","op","Fijn Stof",11.857231377358259,{"$f":"VLOOKUP(A1612,Begin:Einde,7,FALSE)","v":0},1,{"$f":"VLOOKUP(Jaar,Trendfactoren!$A$2:$D$43,(HLOOKUP(Emissieberekening!F1612,Trendfactoren!$A$1:$C$2,2,FALSE)))","v":0.76},0]
["WaalBO3geladenop","Waal","BO3","geladen","op","NOx",350.30127765242577,{"$f":"VLOOKUP(A1613,Begin:Einde,7,FALSE)","v":0},1,{"$f":"VLOOKUP(Jaar,Trendfactoren!$A$2:$D$43,(HLOOKUP(Emissieberekening!F1613,Trendfactoren!$A$1:$C$2,2,FALSE)))","v":0.87},0]
["WaalBO3leegaf","Waal","BO3","leeg","af","Fijn Stof",4.0663961556177952,{"$f":"VLOOKUP(A1614,Begin:Einde,7,FALSE)","v":0},1,{"$f":"VLOOKUP(Jaar,Trendfactoren!$A$2:$D$43,(HLOOKUP(Emissieberekening!F1614,Trendfactoren!$A$1:$C$2,2,FALSE)))","v":0.76},0]
["WaalBO3leegaf","Waal","BO3","leeg","af","NOx",120.13460169748247,{"$f":"VLOOKUP(A1615,Begin:Einde,7,FALSE)","v":0},1,{"$f":"VLOOKUP(Jaar,Trendfactoren!$A$2:$D$43,(HLOOKUP(Emissieberekening!F1615,Trendfactoren!$A$1:$C$2,2,FALSE)))","v":0.87},0]
["WaalBO3leegop","Waal","BO3","leeg","op","Fijn Stof",5.9854019225959316,{"$f":"VLOOKUP(A1616,Begin:Einde,7,FALSE)","v":0},1,{"$f":"VLOOKUP(Jaar,Trendfactoren!$A$2:$D$43,(HLOOKUP(Emissieberekening!F1616,Trendfactoren!$A$1:$C$2,2,FALSE)))","v":0.76},0]
["WaalBO3leegop","Waal","BO3","leeg","op","NOx",176.82828933846571,{"$f":"VLOOKUP(A1617,Begin:Einde,7,FALSE)","v":0},1,{"$f":"VLOOKUP(Jaar,Trendfactoren!$A$2:$D$43,(HLOOKUP(Emissieberekening!F1617,Trendfactoren!$A$1:$C$2,2,FALSE)))","v":0.87},0]
["WaalBO4geladenaf","Waal","BO4","geladen","af","Fijn Stof",7.6604224239915819,{"$f":"VLOOKUP(A1618,Begin:Einde,7,FALSE)","v":0},1,{"$f":"VLOOKUP(Jaar,Trendfactoren!$A$2:$D$43,(HLOOKUP(Emissieberekening!F1618,Trendfactoren!$A$1:$C$2,2,FALSE)))","v":0.76},0]
["WaalBO4geladenaf","Waal","BO4","geladen","af","NOx",226.31385667363153,{"$f":"VLOOKUP(A1619,Begin:Einde,7,FALSE)","v":0},1,{"$f":"VLOOKUP(Jaar,Trendfactoren!$A$2:$D$43,(HLOOKUP(Emissieberekening!F1619,Trendfactoren!$A$1:$C$2,2,FALSE)))","v":0.87},0]
["WaalBO4geladenop","Waal","BO4","geladen","op","Fijn Stof",14.928150172654499,{"$f":"VLOOKUP(A1620,Begin:Einde,7,FALSE)","v":0},1,{"$f":"VLOOKUP(Jaar,Trendfactoren!$A$2:$D$43,(HLOOKUP(Emissieberekening!F1620,Trendfactoren!$A$1:$C$2,2,FALSE)))","v":0.76},0]
["WaalBO4geladenop","Waal","BO4","geladen","op","NOx",441.02623218213938,{"$f":"VLOOKUP(A1621,Begin:Einde,7,FALSE)","v":0},1,{"$f":"VLOOKUP(Jaar,Trendfactoren!$A$2:$D$43,(HLOOKUP(Emissieberekening!F1621,Trendfactoren!$A$1:$C$2,2,FALSE)))","v":0.87},0]
["WaalBO4leegaf","Waal","BO4","leeg","af","Fijn Stof",4.4518665102853863,{"$f":"VLOOKUP(A1622,Begin:Einde,7,FALSE)","v":0},1,{"$f":"VLOOKUP(Jaar,Trendfactoren!$A$2:$D$43,(HLOOKUP(Emissieberekening!F1622,Trendfactoren!$A$1:$C$2,2,FALSE)))","v":0.76},0]
["WaalBO4leegaf","Waal","BO4","leeg","af","NOx",131.52265287400218,{"$f":"VLOOKUP(A1623,Begin:Einde,7,FALSE)","v":0},1,{"$f":"VLOOKUP(Jaar,Trendfactoren!$A$2:$D$43,(HLOOKUP(Emissieberekening!F1623,Trendfactoren!$A$1:$C$2,2,FALSE)))","v":0.87},0]
["WaalBO4leegop","Waal","BO4","leeg","op","Fijn Stof",7.0524048850971193,{"$f":"VLOOKUP(A1624,Begin:Einde,7,FALSE)","v":0},1,{"$f":"VLOOKUP(Jaar,Trendfactoren!$A$2:$D$43,(HLOOKUP(Emissieberekening!F1624,Trendfactoren!$A$1:$C$2,2,FALSE)))","v":0.76},0]
["WaalBO4leegop","Waal","BO4","leeg","op","NOx",208.35103601749398,{"$f":"VLOOKUP(A1625,Begin:Einde,7,FALSE)","v":0},1,{"$f":"VLOOKUP(Jaar,Trendfactoren!$A$2:$D$43,(HLOOKUP(Emissieberekening!F1625,Trendfactoren!$A$1:$C$2,2,FALSE)))","v":0.87},0]
["WaalC1bgeladenaf","Waal","C1b","geladen","af","Fijn Stof",4.7848519564758858,{"$f":"VLOOKUP(A1626,Begin:Einde,7,FALSE)","v":0},1,{"$f":"VLOOKUP(Jaar,Trendfactoren!$A$2:$D$43,(HLOOKUP(Emissieberekening!F1626,Trendfactoren!$A$1:$C$2,2,FALSE)))","v":0.76},0]
["WaalC1bgeladenaf","Waal","C1b","geladen","af","NOx",141.36012871705034,{"$f":"VLOOKUP(A1627,Begin:Einde,7,FALSE)","v":0},1,{"$f":"VLOOKUP(Jaar,Trendfactoren!$A$2:$D$43,(HLOOKUP(Emissieberekening!F1627,Trendfactoren!$A$1:$C$2,2,FALSE)))","v":0.87},0]
["WaalC1bgeladenop","Waal","C1b","geladen","op","Fijn Stof",8.6897876059413228,{"$f":"VLOOKUP(A1628,Begin:Einde,7,FALSE)","v":0},1,{"$f":"VLOOKUP(Jaar,Trendfactoren!$A$2:$D$43,(HLOOKUP(Emissieberekening!F1628,Trendfactoren!$A$1:$C$2,2,FALSE)))","v":0.76},0]
["WaalC1bgeladenop","Waal","C1b","geladen","op","NOx",256.72466059000527,{"$f":"VLOOKUP(A1629,Begin:Einde,7,FALSE)","v":0},1,{"$f":"VLOOKUP(Jaar,Trendfactoren!$A$2:$D$43,(HLOOKUP(Emissieberekening!F1629,Trendfactoren!$A$1:$C$2,2,FALSE)))","v":0.87},0]
["WaalC1bleegaf","Waal","C1b","leeg","af","Fijn Stof",2.7993153630673442,{"$f":"VLOOKUP(A1630,Begin:Einde,7,FALSE)","v":0},1,{"$f":"VLOOKUP(Jaar,Trendfactoren!$A$2:$D$43,(HLOOKUP(Emissieberekening!F1630,Trendfactoren!$A$1:$C$2,2,FALSE)))","v":0.76},0]
["WaalC1bleegaf","Waal","C1b","leeg","af","NOx",82.700903526859321,{"$f":"VLOOKUP(A1631,Begin:Einde,7,FALSE)","v":0},1,{"$f":"VLOOKUP(Jaar,Trendfactoren!$A$2:$D$43,(HLOOKUP(Emissieberekening!F1631,Trendfactoren!$A$1:$C$2,2,FALSE)))","v":0.87},0]
["WaalC1bleegop","Waal","C1b","leeg","op","Fijn Stof",4.0444560045948998,{"$f":"VLOOKUP(A1632,Begin:Einde,7,FALSE)","v":0},1,{"$f":"VLOOKUP(Jaar,Trendfactoren!$A$2:$D$43,(HLOOKUP(Emissieberekening!F1632,Trendfactoren!$A$1:$C$2,2,FALSE)))","v":0.76},0]
["WaalC1bleegop","Waal","C1b","leeg","op","NOx",119.48641809621758,{"$f":"VLOOKUP(A1633,Begin:Einde,7,FALSE)","v":0},1,{"$f":"VLOOKUP(Jaar,Trendfactoren!$A$2:$D$43,(HLOOKUP(Emissieberekening!F1633,Trendfactoren!$A$1:$C$2,2,FALSE)))","v":0.87},0]
["WaalC1lgeladenaf","Waal","C1l","geladen","af","Fijn Stof",3.3142862463005853,{"$f":"VLOOKUP(A1634,Begin:Einde,7,FALSE)","v":0},1,{"$f":"VLOOKUP(Jaar,Trendfactoren!$A$2:$D$43,(HLOOKUP(Emissieberekening!F1634,Trendfactoren!$A$1:$C$2,2,FALSE)))","v":0.76},0]
["WaalC1lgeladenaf","Waal","C1l","geladen","af","NOx",97.914822578390385,{"$f":"VLOOKUP(A1635,Begin:Einde,7,FALSE)","v":0},1,{"$f":"VLOOKUP(Jaar,Trendfactoren!$A$2:$D$43,(HLOOKUP(Emissieberekening!F1635,Trendfactoren!$A$1:$C$2,2,FALSE)))","v":0.87},0]
["WaalC1lgeladenop","Waal","C1l","geladen","op","Fijn Stof",5.1130639241224003,{"$f":"VLOOKUP(A1636,Begin:Einde,7,FALSE)","v":0},1,{"$f":"VLOOKUP(Jaar,Trendfactoren!$A$2:$D$43,(HLOOKUP(Emissieberekening!F1636,Trendfactoren!$A$1:$C$2,2,FALSE)))","v":0.76},0]
["WaalC1lgeladenop","Waal","C1l","geladen","op","NOx",151.05658043907175,{"$f":"VLOOKUP(A1637,Begin:Einde,7,FALSE)","v":0},1,{"$f":"VLOOKUP(Jaar,Trendfactoren!$A$2:$D$43,(HLOOKUP(Emissieberekening!F1637,Trendfactoren!$A$1:$C$2,2,FALSE)))","v":0.87},0]
["WaalC1lleegaf","Waal","C1l","leeg","af","Fijn Stof",2.0429366973822209,{"$f":"VLOOKUP(A1638,Begin:Einde,7,FALSE)","v":0},1,{"$f":"VLOOKUP(Jaar,Trendfactoren!$A$2:$D$43,(HLOOKUP(Emissieberekening!F1638,Trendfactoren!$A$1:$C$2,2,FALSE)))","v":0.76},0]
["WaalC1lleegaf","Waal","C1l","leeg","af","NOx",60.355011425564456,{"$f":"VLOOKUP(A1639,Begin:Einde,7,FALSE)","v":0},1,{"$f":"VLOOKUP(Jaar,Trendfactoren!$A$2:$D$43,(HLOOKUP(Emissieberekening!F1639,Trendfactoren!$A$1:$C$2,2,FALSE)))","v":0.87},0]
["WaalC1lleegop","Waal","C1l","leeg","op","Fijn Stof",3.5192524075943288,{"$f":"VLOOKUP(A1640,Begin:Einde,7,FALSE)","v":0},1,{"$f":"VLOOKUP(Jaar,Trendfactoren!$A$2:$D$43,(HLOOKUP(Emissieberekening!F1640,Trendfactoren!$A$1:$C$2,2,FALSE)))","v":0.76},0]
["WaalC1lleegop","Waal","C1l","leeg","op","NOx",103.97019131428394,{"$f":"VLOOKUP(A1641,Begin:Einde,7,FALSE)","v":0},1,{"$f":"VLOOKUP(Jaar,Trendfactoren!$A$2:$D$43,(HLOOKUP(Emissieberekening!F1641,Trendfactoren!$A$1:$C$2,2,FALSE)))","v":0.87},0]
["WaalC2bgeladenaf","Waal","C2b","geladen","af","Fijn Stof",12.093694937215108,{"$f":"VLOOKUP(A1642,Begin:Einde,7,FALSE)","v":0},1,{"$f":"VLOOKUP(Jaar,Trendfactoren!$A$2:$D$43,(HLOOKUP(Emissieberekening!F1642,Trendfactoren!$A$1:$C$2,2,FALSE)))","v":0.76},0]
["WaalC2bgeladenaf","Waal","C2b","geladen","af","NOx",357.28718224515131,{"$f":"VLOOKUP(A1643,Begin:Einde,7,FALSE)","v":0},1,{"$f":"VLOOKUP(Jaar,Trendfactoren!$A$2:$D$43,(HLOOKUP(Emissieberekening!F1643,Trendfactoren!$A$1:$C$2,2,FALSE)))","v":0.87},0]
["WaalC2bgeladenop","Waal","C2b","geladen","op","Fijn Stof",24.866597600651335,{"$f":"VLOOKUP(A1644,Begin:Einde,7,FALSE)","v":0},1,{"$f":"VLOOKUP(Jaar,Trendfactoren!$A$2:$D$43,(HLOOKUP(Emissieberekening!F1644,Trendfactoren!$A$1:$C$2,2,FALSE)))","v":0.76},{"$f":"+G1644*H1644*I1644*J1644","v":0}]
["WaalC2bgeladenop","Waal","C2b","geladen","op","NOx",734.64037540925824,{"$f":"VLOOKUP(A1645,Begin:Einde,7,FALSE)","v":0},1,{"$f":"VLOOKUP(Jaar,Trendfactoren!$A$2:$D$43,(HLOOKUP(Emissieberekening!F1645,Trendfactoren!$A$1:$C$2,2,FALSE)))","v":0.87},0]
["WaalC2bleegaf","Waal","C2b","leeg","af","Fijn Stof",9.2269696437946838,{"$f":"VLOOKUP(A1646,Begin:Einde,7,FALSE)","v":0},1,{"$f":"VLOOKUP(Jaar,Trendfactoren!$A$2:$D$43,(HLOOKUP(Emissieberekening!F1646,Trendfactoren!$A$1:$C$2,2,FALSE)))","v":0.76},0]
["WaalC2bleegaf","Waal","C2b","leeg","af","NOx",272.5947695727221,{"$f":"VLOOKUP(A1647,Begin:Einde,7,FALSE)","v":0},1,{"$f":"VLOOKUP(Jaar,Trendfactoren!$A$2:$D$43,(HLOOKUP(Emissieberekening!F1647,Trendfactoren!$A$1:$C$2,2,FALSE)))","v":0.87},0]
["WaalC2bleegop","Waal","C2b","leeg","op","Fijn Stof",15.146512337311318,{"$f":"VLOOKUP(A1648,Begin:Einde,7,FALSE)","v":0},1,{"$f":"VLOOKUP(Jaar,Trendfactoren!$A$2:$D$43,(HLOOKUP(Emissieberekening!F1648,Trendfactoren!$A$1:$C$2,2,FALSE)))","v":0.76},0]
["WaalC2bleegop","Waal","C2b","leeg","op","NOx",447.47736253760309,{"$f":"VLOOKUP(A1649,Begin:Einde,7,FALSE)","v":0},1,{"$f":"VLOOKUP(Jaar,Trendfactoren!$A$2:$D$43,(HLOOKUP(Emissieberekening!F1649,Trendfactoren!$A$1:$C$2,2,FALSE)))","v":0.87},0]
["WaalC2lgeladenaf","Waal","C2l","geladen","af","Fijn Stof",10.765832716754323,{"$f":"VLOOKUP(A1650,Begin:Einde,7,FALSE)","v":0},1,{"$f":"VLOOKUP(Jaar,Trendfactoren!$A$2:$D$43,(HLOOKUP(Emissieberekening!F1650,Trendfactoren!$A$1:$C$2,2,FALSE)))","v":0.76},0]
["WaalC2lgeladenaf","Waal","C2l","geladen","af","NOx",318.05780250461402,{"$f":"VLOOKUP(A1651,Begin:Einde,7,FALSE)","v":0},1,{"$f":"VLOOKUP(Jaar,Trendfactoren!$A$2:$D$43,(HLOOKUP(Emissieberekening!F1651,Trendfactoren!$A$1:$C$2,2,FALSE)))","v":0.87},0]
["WaalC2lgeladenop","Waal","C2l","geladen","op","Fijn Stof",18.039978192318333,{"$f":"VLOOKUP(A1652,Begin:Einde,7,FALSE)","v":0},1,{"$f":"VLOOKUP(Jaar,Trendfactoren!$A$2:$D$43,(HLOOKUP(Emissieberekening!F1652,Trendfactoren!$A$1:$C$2,2,FALSE)))","v":0.76},0]
["WaalC2lgeladenop","Waal","C2l","geladen","op","NOx",532.9597785920032,{"$f":"VLOOKUP(A1653,Begin:Einde,7,FALSE)","v":0},1,{"$f":"VLOOKUP(Jaar,Trendfactoren!$A$2:$D$43,(HLOOKUP(Emissieberekening!F1653,Trendfactoren!$A$1:$C$2,2,FALSE)))","v":0.87},0]
["WaalC2lleegaf","Waal","C2l","leeg","af","Fijn Stof",8.1186584692899117,{"$f":"VLOOKUP(A1654,Begin:Einde,7,FALSE)","v":0},1,{"$f":"VLOOKUP(Jaar,Trendfactoren!$A$2:$D$43,(HLOOKUP(Emissieberekening!F1654,Trendfactoren!$A$1:$C$2,2,FALSE)))","v":0.76},0]
["WaalC2lleegaf","Waal","C2l","leeg","af","NOx",239.85164361780119,{"$f":"VLOOKUP(A1655,Begin:Einde,7,FALSE)","v":0},1,{"$f":"VLOOKUP(Jaar,Trendfactoren!$A$2:$D$43,(HLOOKUP(Emissieberekening!F1655,Trendfactoren!$A$1:$C$2,2,FALSE)))","v":0.87},0]
["WaalC2lleegop","Waal","C2l","leeg","op","Fijn Stof",12.918438381775648,{"$f":"VLOOKUP(A1656,Begin:Einde,7,FALSE)","v":0},1,{"$f":"VLOOKUP(Jaar,Trendfactoren!$A$2:$D$43,(HLOOKUP(Emissieberekening!F1656,Trendfactoren!$A$1:$C$2,2,FALSE)))","v":0.76},0]
["WaalC2lleegop","Waal","C2l","leeg","op","NOx",381.65279283083146,{"$f":"VLOOKUP(A1657,Begin:Einde,7,FALSE)","v":0},1,{"$f":"VLOOKUP(Jaar,Trendfactoren!$A$2:$D$43,(HLOOKUP(Emissieberekening!F1657,Trendfactoren!$A$1:$C$2,2,FALSE)))","v":0.87},0]
[{"$f":"+B1658&C1658&D1658&E1658","v":"WaalC3bgeladenaf"},"Waal","C3b","geladen","af","Fijn Stof",19.268911918009341,{"$f":"VLOOKUP(A1658,Begin:Einde,7,FALSE)","v":0},{"$f":"+Afstand","v":1},{"$f":"VLOOKUP(Jaar,Trendfactoren!$A$2:$D$43,(HLOOKUP(Emissieberekening!F1658,Trendfactoren!$A$1:$C$2,2,FALSE)))","v":0.76},0]
["WaalC3bgeladenaf","Waal","C3b","geladen","af","NOx",569.26648802180841,{"$f":"VLOOKUP(A1659,Begin:Einde,7,FALSE)","v":0},1,{"$f":"VLOOKUP(Jaar,Trendfactoren!$A$2:$D$43,(HLOOKUP(Emissieberekening!F1659,Trendfactoren!$A$1:$C$2,2,FALSE)))","v":0.87},0]
["WaalC3bgeladenop","Waal","C3b","geladen","op","Fijn Stof",36.209058486723613,{"$f":"VLOOKUP(A1660,Begin:Einde,7,FALSE)","v":0},1,{"$f":"VLOOKUP(Jaar,Trendfactoren!$A$2:$D$43,(HLOOKUP(Emissieberekening!F1660,Trendfactoren!$A$1:$C$2,2,FALSE)))","v":0.76},0]
["WaalC3bgeladenop","Waal","C3b","geladen","op","NOx",1069.7336542416915,{"$f":"VLOOKUP(A1661,Begin:Einde,7,FALSE)","v":0},1,{"$f":"VLOOKUP(Jaar,Trendfactoren!$A$2:$D$43,(HLOOKUP(Emissieberekening!F1661,Trendfactoren!$A$1:$C$2,2,FALSE)))","v":0.87},0]
["WaalC3bleegaf","Waal","C3b","leeg","af","Fijn Stof",12.892312783483872,{"$f":"VLOOKUP(A1662,Begin:Einde,7,FALSE)","v":0},1,{"$f":"VLOOKUP(Jaar,Trendfactoren!$A$2:$D$43,(HLOOKUP(Emissieberekening!F1662,Trendfactoren!$A$1:$C$2,2,FALSE)))","v":0.76},0]
["WaalC3bleegaf","Waal","C3b","leeg","af","NOx",380.88095746979434,{"$f":"VLOOKUP(A1663,Begin:Einde,7,FALSE)","v":0},1,{"$f":"VLOOKUP(Jaar,Trendfactoren!$A$2:$D$43,(HLOOKUP(Emissieberekening!F1663,Trendfactoren!$A$1:$C$2,2,FALSE)))","v":0.87},0]
["WaalC3bleegop","Waal","C3b","leeg","op","Fijn Stof",20.697595039707164,{"$f":"VLOOKUP(A1664,Begin:Einde,7,FALSE)","v":0},1,{"$f":"VLOOKUP(Jaar,Trendfactoren!$A$2:$D$43,(HLOOKUP(Emissieberekening!F1664,Trendfactoren!$A$1:$C$2,2,FALSE)))","v":0.76},0]
["WaalC3bleegop","Waal","C3b","leeg","op","NOx",611.4744459306728,{"$f":"VLOOKUP(A1665,Begin:Einde,7,FALSE)","v":0},1,{"$f":"VLOOKUP(Jaar,Trendfactoren!$A$2:$D$43,(HLOOKUP(Emissieberekening!F1665,Trendfactoren!$A$1:$C$2,2,FALSE)))","v":0.87},0]
["WaalC3lgeladenaf","Waal","C3l","geladen","af","Fijn Stof",13.457558799947064,{"$f":"VLOOKUP(A1666,Begin:Einde,7,FALSE)","v":0},1,{"$f":"VLOOKUP(Jaar,Trendfactoren!$A$2:$D$43,(HLOOKUP(Emissieberekening!F1666,Trendfactoren!$A$1:$C$2,2,FALSE)))","v":0.76},0]
["WaalC3lgeladenaf","Waal","C3l","geladen","af","NOx",397.58016788860266,{"$f":"VLOOKUP(A1667,Begin:Einde,7,FALSE)","v":0},1,{"$f":"VLOOKUP(Jaar,Trendfactoren!$A$2:$D$43,(HLOOKUP(Emissieberekening!F1667,Trendfactoren!$A$1:$C$2,2,FALSE)))","v":0.87},0]
["WaalC3lgeladenop","Waal","C3l","geladen","op","Fijn Stof",23.147376330466919,{"$f":"VLOOKUP(A1668,Begin:Einde,7,FALSE)","v":0},1,{"$f":"VLOOKUP(Jaar,Trendfactoren!$A$2:$D$43,(HLOOKUP(Emissieberekening!F1668,Trendfactoren!$A$1:$C$2,2,FALSE)))","v":0.76},0]
["WaalC3lgeladenop","Waal","C3l","geladen","op","NOx",683.84897323903238,{"$f":"VLOOKUP(A1669,Begin:Einde,7,FALSE)","v":0},1,{"$f":"VLOOKUP(Jaar,Trendfactoren!$A$2:$D$43,(HLOOKUP(Emissieberekening!F1669,Trendfactoren!$A$1:$C$2,2,FALSE)))","v":0.87},0]
["WaalC3lleegaf","Waal","C3l","leeg","af","Fijn Stof",10.155090559050519,{"$f":"VLOOKUP(A1670,Begin:Einde,7,FALSE)","v":0},1,{"$f":"VLOOKUP(Jaar,Trendfactoren!$A$2:$D$43,(HLOOKUP(Emissieberekening!F1670,Trendfactoren!$A$1:$C$2,2,FALSE)))","v":0.76},0]
["WaalC3lleegaf","Waal","C3l","leeg","af","NOx",300.01448772470906,{"$f":"VLOOKUP(A1671,Begin:Einde,7,FALSE)","v":0},1,{"$f":"VLOOKUP(Jaar,Trendfactoren!$A$2:$D$43,(HLOOKUP(Emissieberekening!F1671,Trendfactoren!$A$1:$C$2,2,FALSE)))","v":0.87},0]
["WaalC3lleegop","Waal","C3l","leeg","op","Fijn Stof",15.996212960892475,{"$f":"VLOOKUP(A1672,Begin:Einde,7,FALSE)","v":0},1,{"$f":"VLOOKUP(Jaar,Trendfactoren!$A$2:$D$43,(HLOOKUP(Emissieberekening!F1672,Trendfactoren!$A$1:$C$2,2,FALSE)))","v":0.76},0]
["WaalC3lleegop","Waal","C3l","leeg","op","NOx",472.5802895691964,{"$f":"VLOOKUP(A1673,Begin:Einde,7,FALSE)","v":0},1,{"$f":"VLOOKUP(Jaar,Trendfactoren!$A$2:$D$43,(HLOOKUP(Emissieberekening!F1673,Trendfactoren!$A$1:$C$2,2,FALSE)))","v":0.87},0]
["WaalC4geladenaf","Waal","C4","geladen","af","Fijn Stof",19.566663633418777,{"$f":"VLOOKUP(A1674,Begin:Einde,7,FALSE)","v":0},1,{"$f":"VLOOKUP(Jaar,Trendfactoren!$A$2:$D$43,(HLOOKUP(Emissieberekening!F1674,Trendfactoren!$A$1:$C$2,2,FALSE)))","v":0.76},0]
["WaalC4geladenaf","Waal","C4","geladen","af","NOx",578.06304457128238,{"$f":"VLOOKUP(A1675,Begin:Einde,7,FALSE)","v":0},1,{"$f":"VLOOKUP(Jaar,Trendfactoren!$A$2:$D$43,(HLOOKUP(Emissieberekening!F1675,Trendfactoren!$A$1:$C$2,2,FALSE)))","v":0.87},0]
["WaalC4geladenop","Waal","C4","geladen","op","Fijn Stof",36.426486134396129,{"$f":"VLOOKUP(A1676,Begin:Einde,7,FALSE)","v":0},1,{"$f":"VLOOKUP(Jaar,Trendfactoren!$A$2:$D$43,(HLOOKUP(Emissieberekening!F1676,Trendfactoren!$A$1:$C$2,2,FALSE)))","v":0.76},0]
["WaalC4geladenop","Waal","C4","geladen","op","NOx",1076.157175918268,{"$f":"VLOOKUP(A1677,Begin:Einde,7,FALSE)","v":0},1,{"$f":"VLOOKUP(Jaar,Trendfactoren!$A$2:$D$43,(HLOOKUP(Emissieberekening!F1677,Trendfactoren!$A$1:$C$2,2,FALSE)))","v":0.87},0]
["WaalC4leegaf","Waal","C4","leeg","af","Fijn Stof",17.728854859813051,{"$f":"VLOOKUP(A1678,Begin:Einde,7,FALSE)","v":0},1,{"$f":"VLOOKUP(Jaar,Trendfactoren!$A$2:$D$43,(HLOOKUP(Emissieberekening!F1678,Trendfactoren!$A$1:$C$2,2,FALSE)))","v":0.76},0]
["WaalC4leegaf","Waal","C4","leeg","af","NOx",523.76818087280924,{"$f":"VLOOKUP(A1679,Begin:Einde,7,FALSE)","v":0},1,{"$f":"VLOOKUP(Jaar,Trendfactoren!$A$2:$D$43,(HLOOKUP(Emissieberekening!F1679,Trendfactoren!$A$1:$C$2,2,FALSE)))","v":0.87},0]
["WaalC4leegop","Waal","C4","leeg","op","Fijn Stof",28.100263673739619,{"$f":"VLOOKUP(A1680,Begin:Einde,7,FALSE)","v":0},1,{"$f":"VLOOKUP(Jaar,Trendfactoren!$A$2:$D$43,(HLOOKUP(Emissieberekening!F1680,Trendfactoren!$A$1:$C$2,2,FALSE)))","v":0.76},0]
["WaalC4leegop","Waal","C4","leeg","op","NOx",830.1734151935002,{"$f":"VLOOKUP(A1681,Begin:Einde,7,FALSE)","v":0},1,{"$f":"VLOOKUP(Jaar,Trendfactoren!$A$2:$D$43,(HLOOKUP(Emissieberekening!F1681,Trendfactoren!$A$1:$C$2,2,FALSE)))","v":0.87},0]
["WaalM0geladenaf","Waal","M0","geladen","af","Fijn Stof",1.4075630213724841,{"$f":"VLOOKUP(A1682,Begin:Einde,7,FALSE)","v":0},1,{"$f":"VLOOKUP(Jaar,Trendfactoren!$A$2:$D$43,(HLOOKUP(Emissieberekening!F1682,Trendfactoren!$A$1:$C$2,2,FALSE)))","v":0.76},0]
["WaalM0geladenaf","Waal","M0","geladen","af","NOx",41.584001279137063,{"$f":"VLOOKUP(A1683,Begin:Einde,7,FALSE)","v":0},1,{"$f":"VLOOKUP(Jaar,Trendfactoren!$A$2:$D$43,(HLOOKUP(Emissieberekening!F1683,Trendfactoren!$A$1:$C$2,2,FALSE)))","v":0.87},0]
["WaalM0geladenop","Waal","M0","geladen","op","Fijn Stof",2.3794618069768405,{"$f":"VLOOKUP(A1684,Begin:Einde,7,FALSE)","v":0},1,{"$f":"VLOOKUP(Jaar,Trendfactoren!$A$2:$D$43,(HLOOKUP(Emissieberekening!F1684,Trendfactoren!$A$1:$C$2,2,FALSE)))","v":0.76},0]
["WaalM0geladenop","Waal","M0","geladen","op","NOx",70.297060467318261,{"$f":"VLOOKUP(A1685,Begin:Einde,7,FALSE)","v":0},1,{"$f":"VLOOKUP(Jaar,Trendfactoren!$A$2:$D$43,(HLOOKUP(Emissieberekening!F1685,Trendfactoren!$A$1:$C$2,2,FALSE)))","v":0.87},0]
["WaalM0leegaf","Waal","M0","leeg","af","Fijn Stof",0.84476081808642089,{"$f":"VLOOKUP(A1686,Begin:Einde,7,FALSE)","v":0},1,{"$f":"VLOOKUP(Jaar,Trendfactoren!$A$2:$D$43,(HLOOKUP(Emissieberekening!F1686,Trendfactoren!$A$1:$C$2,2,FALSE)))","v":0.76},0]
["WaalM0leegaf","Waal","M0","leeg","af","NOx",24.956989070100406,{"$f":"VLOOKUP(A1687,Begin:Einde,7,FALSE)","v":0},1,{"$f":"VLOOKUP(Jaar,Trendfactoren!$A$2:$D$43,(HLOOKUP(Emissieberekening!F1687,Trendfactoren!$A$1:$C$2,2,FALSE)))","v":0.87},0]
["WaalM0leegop","Waal","M0","leeg","op","Fijn Stof",1.3523289860384935,{"$f":"VLOOKUP(A1688,Begin:Einde,7,FALSE)","v":0},1,{"$f":"VLOOKUP(Jaar,Trendfactoren!$A$2:$D$43,(HLOOKUP(Emissieberekening!F1688,Trendfactoren!$A$1:$C$2,2,FALSE)))","v":0.76},0]
["WaalM0leegop","Waal","M0","leeg","op","NOx",39.952207774260124,{"$f":"VLOOKUP(A1689,Begin:Einde,7,FALSE)","v":0},1,{"$f":"VLOOKUP(Jaar,Trendfactoren!$A$2:$D$43,(HLOOKUP(Emissieberekening!F1689,Trendfactoren!$A$1:$C$2,2,FALSE)))","v":0.87},0]
["WaalM1geladenaf","Waal","M1","geladen","af","Fijn Stof",2.3899443194518413,{"$f":"VLOOKUP(A1690,Begin:Einde,7,FALSE)","v":0},1,{"$f":"VLOOKUP(Jaar,Trendfactoren!$A$2:$D$43,(HLOOKUP(Emissieberekening!F1690,Trendfactoren!$A$1:$C$2,2,FALSE)))","v":0.76},0]
["WaalM1geladenaf","Waal","M1","geladen","af","NOx",70.606748066061797,{"$f":"VLOOKUP(A1691,Begin:Einde,7,FALSE)","v":0},1,{"$f":"VLOOKUP(Jaar,Trendfactoren!$A$2:$D$43,(HLOOKUP(Emissieberekening!F1691,Trendfactoren!$A$1:$C$2,2,FALSE)))","v":0.87},0]
["WaalM1geladenop","Waal","M1","geladen","op","Fijn Stof",4.2013430612401272,{"$f":"VLOOKUP(A1692,Begin:Einde,7,FALSE)","v":0},1,{"$f":"VLOOKUP(Jaar,Trendfactoren!$A$2:$D$43,(HLOOKUP(Emissieberekening!F1692,Trendfactoren!$A$1:$C$2,2,FALSE)))","v":0.76},0]
["WaalM1geladenop","Waal","M1","geladen","op","NOx",124.12137330969981,{"$f":"VLOOKUP(A1693,Begin:Einde,7,FALSE)","v":0},1,{"$f":"VLOOKUP(Jaar,Trendfactoren!$A$2:$D$43,(HLOOKUP(Emissieberekening!F1693,Trendfactoren!$A$1:$C$2,2,FALSE)))","v":0.87},0]
["WaalM1leegaf","Waal","M1","leeg","af","Fijn Stof",1.4558876908119471,{"$f":"VLOOKUP(A1694,Begin:Einde,7,FALSE)","v":0},1,{"$f":"VLOOKUP(Jaar,Trendfactoren!$A$2:$D$43,(HLOOKUP(Emissieberekening!F1694,Trendfactoren!$A$1:$C$2,2,FALSE)))","v":0.76},0]
["WaalM1leegaf","Waal","M1","leeg","af","NOx",43.011669586183835,{"$f":"VLOOKUP(A1695,Begin:Einde,7,FALSE)","v":0},1,{"$f":"VLOOKUP(Jaar,Trendfactoren!$A$2:$D$43,(HLOOKUP(Emissieberekening!F1695,Trendfactoren!$A$1:$C$2,2,FALSE)))","v":0.87},0]
["WaalM1leegop","Waal","M1","leeg","op","Fijn Stof",2.3034000996179844,{"$f":"VLOOKUP(A1696,Begin:Einde,7,FALSE)","v":0},1,{"$f":"VLOOKUP(Jaar,Trendfactoren!$A$2:$D$43,(HLOOKUP(Emissieberekening!F1696,Trendfactoren!$A$1:$C$2,2,FALSE)))","v":0.76},0]
["WaalM1leegop","Waal","M1","leeg","op","NOx",68.049949618228268,{"$f":"VLOOKUP(A1697,Begin:Einde,7,FALSE)","v":0},1,{"$f":"VLOOKUP(Jaar,Trendfactoren!$A$2:$D$43,(HLOOKUP(Emissieberekening!F1697,Trendfactoren!$A$1:$C$2,2,FALSE)))","v":0.87},0]
["WaalM10geladenaf","Waal","M10","geladen","af","Fijn Stof",17.245269205985505,{"$f":"VLOOKUP(A1698,Begin:Einde,7,FALSE)","v":0},1,{"$f":"VLOOKUP(Jaar,Trendfactoren!$A$2:$D$43,(HLOOKUP(Emissieberekening!F1698,Trendfactoren!$A$1:$C$2,2,FALSE)))","v":0.76},0]
["WaalM10geladenaf","Waal","M10","geladen","af","NOx",509.48148383545129,{"$f":"VLOOKUP(A1699,Begin:Einde,7,FALSE)","v":0},1,{"$f":"VLOOKUP(Jaar,Trendfactoren!$A$2:$D$43,(HLOOKUP(Emissieberekening!F1699,Trendfactoren!$A$1:$C$2,2,FALSE)))","v":0.87},0]
["WaalM10geladenop","Waal","M10","geladen","op","Fijn Stof",24.214529321755915,{"$f":"VLOOKUP(A1700,Begin:Einde,7,FALSE)","v":0},1,{"$f":"VLOOKUP(Jaar,Trendfactoren!$A$2:$D$43,(HLOOKUP(Emissieberekening!F1700,Trendfactoren!$A$1:$C$2,2,FALSE)))","v":0.76},0]
["WaalM10geladenop","Waal","M10","geladen","op","NOx",715.37615225764989,{"$f":"VLOOKUP(A1701,Begin:Einde,7,FALSE)","v":0},1,{"$f":"VLOOKUP(Jaar,Trendfactoren!$A$2:$D$43,(HLOOKUP(Emissieberekening!F1701,Trendfactoren!$A$1:$C$2,2,FALSE)))","v":0.87},0]
["WaalM10leegaf","Waal","M10","leeg","af","Fijn Stof",11.066417235088156,{"$f":"VLOOKUP(A1702,Begin:Einde,7,FALSE)","v":0},1,{"$f":"VLOOKUP(Jaar,Trendfactoren!$A$2:$D$43,(HLOOKUP(Emissieberekening!F1702,Trendfactoren!$A$1:$C$2,2,FALSE)))","v":0.76},0]
["WaalM10leegaf","Waal","M10","leeg","af","NOx",326.93804928936891,{"$f":"VLOOKUP(A1703,Begin:Einde,7,FALSE)","v":0},1,{"$f":"VLOOKUP(Jaar,Trendfactoren!$A$2:$D$43,(HLOOKUP(Emissieberekening!F1703,Trendfactoren!$A$1:$C$2,2,FALSE)))","v":0.87},0]
["WaalM10leegop","Waal","M10","leeg","op","Fijn Stof",16.566075532885421,{"$f":"VLOOKUP(A1704,Begin:Einde,7,FALSE)","v":0},1,{"$f":"VLOOKUP(Jaar,Trendfactoren!$A$2:$D$43,(HLOOKUP(Emissieberekening!F1704,Trendfactoren!$A$1:$C$2,2,FALSE)))","v":0.76},0]
["WaalM10leegop","Waal","M10","leeg","op","NOx",489.41588809151369,{"$f":"VLOOKUP(A1705,Begin:Einde,7,FALSE)","v":0},1,{"$f":"VLOOKUP(Jaar,Trendfactoren!$A$2:$D$43,(HLOOKUP(Emissieberekening!F1705,Trendfactoren!$A$1:$C$2,2,FALSE)))","v":0.87},0]
["WaalM11geladenaf","Waal","M11","geladen","af","Fijn Stof",28.498976736261035,{"$f":"VLOOKUP(A1706,Begin:Einde,7,FALSE)","v":0},1,{"$f":"VLOOKUP(Jaar,Trendfactoren!$A$2:$D$43,(HLOOKUP(Emissieberekening!F1706,Trendfactoren!$A$1:$C$2,2,FALSE)))","v":0.76},0]
["WaalM11geladenaf","Waal","M11","geladen","af","NOx",841.95269914039784,{"$f":"VLOOKUP(A1707,Begin:Einde,7,FALSE)","v":0},1,{"$f":"VLOOKUP(Jaar,Trendfactoren!$A$2:$D$43,(HLOOKUP(Emissieberekening!F1707,Trendfactoren!$A$1:$C$2,2,FALSE)))","v":0.87},0]
["WaalM11geladenop","Waal","M11","geladen","op","Fijn Stof",35.420620835056738,{"$f":"VLOOKUP(A1708,Begin:Einde,7,FALSE)","v":0},1,{"$f":"VLOOKUP(Jaar,Trendfactoren!$A$2:$D$43,(HLOOKUP(Emissieberekening!F1708,Trendfactoren!$A$1:$C$2,2,FALSE)))","v":0.76},{"$f":"+G1708*H1708*I1708*J1708","v":0}]
["WaalM11geladenop","Waal","M11","geladen","op","NOx",1046.4406351600546,{"$f":"VLOOKUP(A1709,Begin:Einde,7,FALSE)","v":0},1,{"$f":"VLOOKUP(Jaar,Trendfactoren!$A$2:$D$43,(HLOOKUP(Emissieberekening!F1709,Trendfactoren!$A$1:$C$2,2,FALSE)))","v":0.87},0]
["WaalM11leegaf","Waal","M11","leeg","af","Fijn Stof",15.990637345364606,{"$f":"VLOOKUP(A1710,Begin:Einde,7,FALSE)","v":0},1,{"$f":"VLOOKUP(Jaar,Trendfactoren!$A$2:$D$43,(HLOOKUP(Emissieberekening!F1710,Trendfactoren!$A$1:$C$2,2,FALSE)))","v":0.76},0]
["WaalM11leegaf","Waal","M11","leeg","af","NOx",472.41556770614494,{"$f":"VLOOKUP(A1711,Begin:Einde,7,FALSE)","v":0},1,{"$f":"VLOOKUP(Jaar,Trendfactoren!$A$2:$D$43,(HLOOKUP(Emissieberekening!F1711,Trendfactoren!$A$1:$C$2,2,FALSE)))","v":0.87},0]
["WaalM11leegop","Waal","M11","leeg","op","Fijn Stof",19.263773658278808,{"$f":"VLOOKUP(A1712,Begin:Einde,7,FALSE)","v":0},1,{"$f":"VLOOKUP(Jaar,Trendfactoren!$A$2:$D$43,(HLOOKUP(Emissieberekening!F1712,Trendfactoren!$A$1:$C$2,2,FALSE)))","v":0.76},0]
["WaalM11leegop","Waal","M11","leeg","op","NOx",569.11468707509232,{"$f":"VLOOKUP(A1713,Begin:Einde,7,FALSE)","v":0},1,{"$f":"VLOOKUP(Jaar,Trendfactoren!$A$2:$D$43,(HLOOKUP(Emissieberekening!F1713,Trendfactoren!$A$1:$C$2,2,FALSE)))","v":0.87},0]
["WaalM12geladenaf","Waal","M12","geladen","af","Fijn Stof",32.765880338568877,{"$f":"VLOOKUP(A1714,Begin:Einde,7,FALSE)","v":0},1,{"$f":"VLOOKUP(Jaar,Trendfactoren!$A$2:$D$43,(HLOOKUP(Emissieberekening!F1714,Trendfactoren!$A$1:$C$2,2,FALSE)))","v":0.76},0]
["WaalM12geladenaf","Waal","M12","geladen","af","NOx",968.01094460589093,{"$f":"VLOOKUP(A1715,Begin:Einde,7,FALSE)","v":0},1,{"$f":"VLOOKUP(Jaar,Trendfactoren!$A$2:$D$43,(HLOOKUP(Emissieberekening!F1715,Trendfactoren!$A$1:$C$2,2,FALSE)))","v":0.87},0]
["WaalM12geladenop","Waal","M12","geladen","op","Fijn Stof",41.018542296751029,{"$f":"VLOOKUP(A1716,Begin:Einde,7,FALSE)","v":0},1,{"$f":"VLOOKUP(Jaar,Trendfactoren!$A$2:$D$43,(HLOOKUP(Emissieberekening!F1716,Trendfactoren!$A$1:$C$2,2,FALSE)))","v":0.76},0]
["WaalM12geladenop","Waal","M12","geladen","op","NOx",1211.8214882295122,{"$f":"VLOOKUP(A1717,Begin:Einde,7,FALSE)","v":0},1,{"$f":"VLOOKUP(Jaar,Trendfactoren!$A$2:$D$43,(HLOOKUP(Emissieberekening!F1717,Trendfactoren!$A$1:$C$2,2,FALSE)))","v":0.87},0]
["WaalM12leegaf","Waal","M12","leeg","af","Fijn Stof",19.033454142511079,{"$f":"VLOOKUP(A1718,Begin:Einde,7,FALSE)","v":0},1,{"$f":"VLOOKUP(Jaar,Trendfactoren!$A$2:$D$43,(HLOOKUP(Emissieberekening!F1718,Trendfactoren!$A$1:$C$2,2,FALSE)))","v":0.76},0]
["WaalM12leegaf","Waal","M12","leeg","af","NOx",562.31029757858778,{"$f":"VLOOKUP(A1719,Begin:Einde,7,FALSE)","v":0},1,{"$f":"VLOOKUP(Jaar,Trendfactoren!$A$2:$D$43,(HLOOKUP(Emissieberekening!F1719,Trendfactoren!$A$1:$C$2,2,FALSE)))","v":0.87},0]
["WaalM12leegop","Waal","M12","leeg","op","Fijn Stof",22.936405449268673,{"$f":"VLOOKUP(A1720,Begin:Einde,7,FALSE)","v":0},1,{"$f":"VLOOKUP(Jaar,Trendfactoren!$A$2:$D$43,(HLOOKUP(Emissieberekening!F1720,Trendfactoren!$A$1:$C$2,2,FALSE)))","v":0.76},0]
["WaalM12leegop","Waal","M12","leeg","op","NOx",677.61620549762472,{"$f":"VLOOKUP(A1721,Begin:Einde,7,FALSE)","v":0},1,{"$f":"VLOOKUP(Jaar,Trendfactoren!$A$2:$D$43,(HLOOKUP(Emissieberekening!F1721,Trendfactoren!$A$1:$C$2,2,FALSE)))","v":0.87},0]
[{"$f":"+B1722&C1722&D1722&E1722","v":"WaalM2geladenaf"},"Waal","M2","geladen","af","Fijn Stof",4.7113192246166644,{"$f":"VLOOKUP(A1722,Begin:Einde,7,FALSE)","v":0},{"$f":"+Afstand","v":1},{"$f":"VLOOKUP(Jaar,Trendfactoren!$A$2:$D$43,(HLOOKUP(Emissieberekening!F1722,Trendfactoren!$A$1:$C$2,2,FALSE)))","v":0.76},0]
["WaalM2geladenaf","Waal","M2","geladen","af","NOx",139.18773205042677,{"$f":"VLOOKUP(A1723,Begin:Einde,7,FALSE)","v":0},1,{"$f":"VLOOKUP(Jaar,Trendfactoren!$A$2:$D$43,(HLOOKUP(Emissieberekening!F1723,Trendfactoren!$A$1:$C$2,2,FALSE)))","v":0.87},0]
["WaalM2geladenop","Waal","M2","geladen","op","Fijn Stof",7.3396038283871627,{"$f":"VLOOKUP(A1724,Begin:Einde,7,FALSE)","v":0},1,{"$f":"VLOOKUP(Jaar,Trendfactoren!$A$2:$D$43,(HLOOKUP(Emissieberekening!F1724,Trendfactoren!$A$1:$C$2,2,FALSE)))","v":0.76},0]
["WaalM2geladenop","Waal","M2","geladen","op","NOx",216.83582926923395,{"$f":"VLOOKUP(A1725,Begin:Einde,7,FALSE)","v":0},1,{"$f":"VLOOKUP(Jaar,Trendfactoren!$A$2:$D$43,(HLOOKUP(Emissieberekening!F1725,Trendfactoren!$A$1:$C$2,2,FALSE)))","v":0.87},0]
["WaalM2leegaf","Waal","M2","leeg","af","Fijn Stof",2.663825393479661,{"$f":"VLOOKUP(A1726,Begin:Einde,7,FALSE)","v":0},1,{"$f":"VLOOKUP(Jaar,Trendfactoren!$A$2:$D$43,(HLOOKUP(Emissieberekening!F1726,Trendfactoren!$A$1:$C$2,2,FALSE)))","v":0.76},0]
["WaalM2leegaf","Waal","M2","leeg","af","NOx",78.698088034341879,{"$f":"VLOOKUP(A1727,Begin:Einde,7,FALSE)","v":0},1,{"$f":"VLOOKUP(Jaar,Trendfactoren!$A$2:$D$43,(HLOOKUP(Emissieberekening!F1727,Trendfactoren!$A$1:$C$2,2,FALSE)))","v":0.87},0]
["WaalM2leegop","Waal","M2","leeg","op","Fijn Stof",4.046964935117666,{"$f":"VLOOKUP(A1728,Begin:Einde,7,FALSE)","v":0},1,{"$f":"VLOOKUP(Jaar,Trendfactoren!$A$2:$D$43,(HLOOKUP(Emissieberekening!F1728,Trendfactoren!$A$1:$C$2,2,FALSE)))","v":0.76},0]
["WaalM2leegop","Waal","M2","leeg","op","NOx",119.56054008470679,{"$f":"VLOOKUP(A1729,Begin:Einde,7,FALSE)","v":0},1,{"$f":"VLOOKUP(Jaar,Trendfactoren!$A$2:$D$43,(HLOOKUP(Emissieberekening!F1729,Trendfactoren!$A$1:$C$2,2,FALSE)))","v":0.87},0]
["WaalM3geladenaf","Waal","M3","geladen","af","Fijn Stof",6.206855219416731,{"$f":"VLOOKUP(A1730,Begin:Einde,7,FALSE)","v":0},1,{"$f":"VLOOKUP(Jaar,Trendfactoren!$A$2:$D$43,(HLOOKUP(Emissieberekening!F1730,Trendfactoren!$A$1:$C$2,2,FALSE)))","v":0.76},0]
["WaalM3geladenaf","Waal","M3","geladen","af","NOx",183.37074181727968,{"$f":"VLOOKUP(A1731,Begin:Einde,7,FALSE)","v":0},1,{"$f":"VLOOKUP(Jaar,Trendfactoren!$A$2:$D$43,(HLOOKUP(Emissieberekening!F1731,Trendfactoren!$A$1:$C$2,2,FALSE)))","v":0.87},0]
["WaalM3geladenop","Waal","M3","geladen","op","Fijn Stof",9.3041164880168008,{"$f":"VLOOKUP(A1732,Begin:Einde,7,FALSE)","v":0},1,{"$f":"VLOOKUP(Jaar,Trendfactoren!$A$2:$D$43,(HLOOKUP(Emissieberekening!F1732,Trendfactoren!$A$1:$C$2,2,FALSE)))","v":0.76},0]
["WaalM3geladenop","Waal","M3","geladen","op","NOx",274.87393890304872,{"$f":"VLOOKUP(A1733,Begin:Einde,7,FALSE)","v":0},1,{"$f":"VLOOKUP(Jaar,Trendfactoren!$A$2:$D$43,(HLOOKUP(Emissieberekening!F1733,Trendfactoren!$A$1:$C$2,2,FALSE)))","v":0.87},0]
["WaalM3leegaf","Waal","M3","leeg","af","Fijn Stof",3.9363429247086654,{"$f":"VLOOKUP(A1734,Begin:Einde,7,FALSE)","v":0},1,{"$f":"VLOOKUP(Jaar,Trendfactoren!$A$2:$D$43,(HLOOKUP(Emissieberekening!F1734,Trendfactoren!$A$1:$C$2,2,FALSE)))","v":0.76},0]
["WaalM3leegaf","Waal","M3","leeg","af","NOx",116.2924051930533,{"$f":"VLOOKUP(A1735,Begin:Einde,7,FALSE)","v":0},1,{"$f":"VLOOKUP(Jaar,Trendfactoren!$A$2:$D$43,(HLOOKUP(Emissieberekening!F1735,Trendfactoren!$A$1:$C$2,2,FALSE)))","v":0.87},0]
["WaalM3leegop","Waal","M3","leeg","op","Fijn Stof",5.8545848087936809,{"$f":"VLOOKUP(A1736,Begin:Einde,7,FALSE)","v":0},1,{"$f":"VLOOKUP(Jaar,Trendfactoren!$A$2:$D$43,(HLOOKUP(Emissieberekening!F1736,Trendfactoren!$A$1:$C$2,2,FALSE)))","v":0.76},0]
["WaalM3leegop","Waal","M3","leeg","op","NOx",172.96352524258782,{"$f":"VLOOKUP(A1737,Begin:Einde,7,FALSE)","v":0},1,{"$f":"VLOOKUP(Jaar,Trendfactoren!$A$2:$D$43,(HLOOKUP(Emissieberekening!F1737,Trendfactoren!$A$1:$C$2,2,FALSE)))","v":0.87},0]
["WaalM4geladenaf","Waal","M4","geladen","af","Fijn Stof",7.1093065713580064,{"$f":"VLOOKUP(A1738,Begin:Einde,7,FALSE)","v":0},1,{"$f":"VLOOKUP(Jaar,Trendfactoren!$A$2:$D$43,(HLOOKUP(Emissieberekening!F1738,Trendfactoren!$A$1:$C$2,2,FALSE)))","v":0.76},0]
["WaalM4geladenaf","Waal","M4","geladen","af","NOx",210.03209736844548,{"$f":"VLOOKUP(A1739,Begin:Einde,7,FALSE)","v":0},1,{"$f":"VLOOKUP(Jaar,Trendfactoren!$A$2:$D$43,(HLOOKUP(Emissieberekening!F1739,Trendfactoren!$A$1:$C$2,2,FALSE)))","v":0.87},0]
["WaalM4geladenop","Waal","M4","geladen","op","Fijn Stof",11.222285858333853,{"$f":"VLOOKUP(A1740,Begin:Einde,7,FALSE)","v":0},1,{"$f":"VLOOKUP(Jaar,Trendfactoren!$A$2:$D$43,(HLOOKUP(Emissieberekening!F1740,Trendfactoren!$A$1:$C$2,2,FALSE)))","v":0.76},0]
["WaalM4geladenop","Waal","M4","geladen","op","NOx",331.54291665943265,{"$f":"VLOOKUP(A1741,Begin:Einde,7,FALSE)","v":0},1,{"$f":"VLOOKUP(Jaar,Trendfactoren!$A$2:$D$43,(HLOOKUP(Emissieberekening!F1741,Trendfactoren!$A$1:$C$2,2,FALSE)))","v":0.87},0]
["WaalM4leegaf","Waal","M4","leeg","af","Fijn Stof",4.8661818904986784,{"$f":"VLOOKUP(A1742,Begin:Einde,7,FALSE)","v":0},1,{"$f":"VLOOKUP(Jaar,Trendfactoren!$A$2:$D$43,(HLOOKUP(Emissieberekening!F1742,Trendfactoren!$A$1:$C$2,2,FALSE)))","v":0.76},0]
["WaalM4leegaf","Waal","M4","leeg","af","NOx",143.76288015985131,{"$f":"VLOOKUP(A1743,Begin:Einde,7,FALSE)","v":0},1,{"$f":"VLOOKUP(Jaar,Trendfactoren!$A$2:$D$43,(HLOOKUP(Emissieberekening!F1743,Trendfactoren!$A$1:$C$2,2,FALSE)))","v":0.87},0]
["WaalM4leegop","Waal","M4","leeg","op","Fijn Stof",7.2309597490860646,{"$f":"VLOOKUP(A1744,Begin:Einde,7,FALSE)","v":0},1,{"$f":"VLOOKUP(Jaar,Trendfactoren!$A$2:$D$43,(HLOOKUP(Emissieberekening!F1744,Trendfactoren!$A$1:$C$2,2,FALSE)))","v":0.76},0]
["WaalM4leegop","Waal","M4","leeg","op","NOx",213.62612891192961,{"$f":"VLOOKUP(A1745,Begin:Einde,7,FALSE)","v":0},1,{"$f":"VLOOKUP(Jaar,Trendfactoren!$A$2:$D$43,(HLOOKUP(Emissieberekening!F1745,Trendfactoren!$A$1:$C$2,2,FALSE)))","v":0.87},0]
["WaalM5geladenaf","Waal","M5","geladen","af","Fijn Stof",7.5258280261779733,{"$f":"VLOOKUP(A1746,Begin:Einde,7,FALSE)","v":0},1,{"$f":"VLOOKUP(Jaar,Trendfactoren!$A$2:$D$43,(HLOOKUP(Emissieberekening!F1746,Trendfactoren!$A$1:$C$2,2,FALSE)))","v":0.76},0]
["WaalM5geladenaf","Waal","M5","geladen","af","NOx",222.33749929150292,{"$f":"VLOOKUP(A1747,Begin:Einde,7,FALSE)","v":0},1,{"$f":"VLOOKUP(Jaar,Trendfactoren!$A$2:$D$43,(HLOOKUP(Emissieberekening!F1747,Trendfactoren!$A$1:$C$2,2,FALSE)))","v":0.87},0]
["WaalM5geladenop","Waal","M5","geladen","op","Fijn Stof",13.426192997940326,{"$f":"VLOOKUP(A1748,Begin:Einde,7,FALSE)","v":0},1,{"$f":"VLOOKUP(Jaar,Trendfactoren!$A$2:$D$43,(HLOOKUP(Emissieberekening!F1748,Trendfactoren!$A$1:$C$2,2,FALSE)))","v":0.76},0]
["WaalM5geladenop","Waal","M5","geladen","op","NOx",396.65351982314155,{"$f":"VLOOKUP(A1749,Begin:Einde,7,FALSE)","v":0},1,{"$f":"VLOOKUP(Jaar,Trendfactoren!$A$2:$D$43,(HLOOKUP(Emissieberekening!F1749,Trendfactoren!$A$1:$C$2,2,FALSE)))","v":0.87},0]
["WaalM5leegaf","Waal","M5","leeg","af","Fijn Stof",5.0237238201736334,{"$f":"VLOOKUP(A1750,Begin:Einde,7,FALSE)","v":0},1,{"$f":"VLOOKUP(Jaar,Trendfactoren!$A$2:$D$43,(HLOOKUP(Emissieberekening!F1750,Trendfactoren!$A$1:$C$2,2,FALSE)))","v":0.76},0]
["WaalM5leegaf","Waal","M5","leeg","af","NOx",148.41718245797017,{"$f":"VLOOKUP(A1751,Begin:Einde,7,FALSE)","v":0},1,{"$f":"VLOOKUP(Jaar,Trendfactoren!$A$2:$D$43,(HLOOKUP(Emissieberekening!F1751,Trendfactoren!$A$1:$C$2,2,FALSE)))","v":0.87},0]
["WaalM5leegop","Waal","M5","leeg","op","Fijn Stof",7.6210262947391874,{"$f":"VLOOKUP(A1752,Begin:Einde,7,FALSE)","v":0},1,{"$f":"VLOOKUP(Jaar,Trendfactoren!$A$2:$D$43,(HLOOKUP(Emissieberekening!F1752,Trendfactoren!$A$1:$C$2,2,FALSE)))","v":0.76},0]
["WaalM5leegop","Waal","M5","leeg","op","NOx",225.14996655691965,{"$f":"VLOOKUP(A1753,Begin:Einde,7,FALSE)","v":0},1,{"$f":"VLOOKUP(Jaar,Trendfactoren!$A$2:$D$43,(HLOOKUP(Emissieberekening!F1753,Trendfactoren!$A$1:$C$2,2,FALSE)))","v":0.87},0]
["WaalM6geladenaf","Waal","M6","geladen","af","Fijn Stof",9.021464933946115,{"$f":"VLOOKUP(A1754,Begin:Einde,7,FALSE)","v":0},1,{"$f":"VLOOKUP(Jaar,Trendfactoren!$A$2:$D$43,(HLOOKUP(Emissieberekening!F1754,Trendfactoren!$A$1:$C$2,2,FALSE)))","v":0.76},0]
["WaalM6geladenaf","Waal","M6","geladen","af","NOx",266.52349035647882,{"$f":"VLOOKUP(A1755,Begin:Einde,7,FALSE)","v":0},1,{"$f":"VLOOKUP(Jaar,Trendfactoren!$A$2:$D$43,(HLOOKUP(Emissieberekening!F1755,Trendfactoren!$A$1:$C$2,2,FALSE)))","v":0.87},0]
["WaalM6geladenop","Waal","M6","geladen","op","Fijn Stof",15.672680828468751,{"$f":"VLOOKUP(A1756,Begin:Einde,7,FALSE)","v":0},1,{"$f":"VLOOKUP(Jaar,Trendfactoren!$A$2:$D$43,(HLOOKUP(Emissieberekening!F1756,Trendfactoren!$A$1:$C$2,2,FALSE)))","v":0.76},0]
["WaalM6geladenop","Waal","M6","geladen","op","NOx",463.022095439152,{"$f":"VLOOKUP(A1757,Begin:Einde,7,FALSE)","v":0},1,{"$f":"VLOOKUP(Jaar,Trendfactoren!$A$2:$D$43,(HLOOKUP(Emissieberekening!F1757,Trendfactoren!$A$1:$C$2,2,FALSE)))","v":0.87},0]
["WaalM6leegaf","Waal","M6","leeg","af","Fijn Stof",6.8737515880806033,{"$f":"VLOOKUP(A1758,Begin:Einde,7,FALSE)","v":0},1,{"$f":"VLOOKUP(Jaar,Trendfactoren!$A$2:$D$43,(HLOOKUP(Emissieberekening!F1758,Trendfactoren!$A$1:$C$2,2,FALSE)))","v":0.76},0]
["WaalM6leegaf","Waal","M6","leeg","af","NOx",203.07303509046417,{"$f":"VLOOKUP(A1759,Begin:Einde,7,FALSE)","v":0},1,{"$f":"VLOOKUP(Jaar,Trendfactoren!$A$2:$D$43,(HLOOKUP(Emissieberekening!F1759,Trendfactoren!$A$1:$C$2,2,FALSE)))","v":0.87},0]
["WaalM6leegop","Waal","M6","leeg","op","Fijn Stof",10.213211961569183,{"$f":"VLOOKUP(A1760,Begin:Einde,7,FALSE)","v":0},1,{"$f":"VLOOKUP(Jaar,Trendfactoren!$A$2:$D$43,(HLOOKUP(Emissieberekening!F1760,Trendfactoren!$A$1:$C$2,2,FALSE)))","v":0.76},0]
["WaalM6leegop","Waal","M6","leeg","op","NOx",301.73158347103288,{"$f":"VLOOKUP(A1761,Begin:Einde,7,FALSE)","v":0},1,{"$f":"VLOOKUP(Jaar,Trendfactoren!$A$2:$D$43,(HLOOKUP(Emissieberekening!F1761,Trendfactoren!$A$1:$C$2,2,FALSE)))","v":0.87},0]
["WaalM7geladenaf","Waal","M7","geladen","af","Fijn Stof",8.3576488655320347,{"$f":"VLOOKUP(A1762,Begin:Einde,7,FALSE)","v":0},1,{"$f":"VLOOKUP(Jaar,Trendfactoren!$A$2:$D$43,(HLOOKUP(Emissieberekening!F1762,Trendfactoren!$A$1:$C$2,2,FALSE)))","v":0.76},0]
["WaalM7geladenaf","Waal","M7","geladen","af","NOx",246.91219919657985,{"$f":"VLOOKUP(A1763,Begin:Einde,7,FALSE)","v":0},1,{"$f":"VLOOKUP(Jaar,Trendfactoren!$A$2:$D$43,(HLOOKUP(Emissieberekening!F1763,Trendfactoren!$A$1:$C$2,2,FALSE)))","v":0.87},0]
["WaalM7geladenop","Waal","M7","geladen","op","Fijn Stof",14.97666341631653,{"$f":"VLOOKUP(A1764,Begin:Einde,7,FALSE)","v":0},1,{"$f":"VLOOKUP(Jaar,Trendfactoren!$A$2:$D$43,(HLOOKUP(Emissieberekening!F1764,Trendfactoren!$A$1:$C$2,2,FALSE)))","v":0.76},0]
["WaalM7geladenop","Waal","M7","geladen","op","NOx",442.45947158660312,{"$f":"VLOOKUP(A1765,Begin:Einde,7,FALSE)","v":0},1,{"$f":"VLOOKUP(Jaar,Trendfactoren!$A$2:$D$43,(HLOOKUP(Emissieberekening!F1765,Trendfactoren!$A$1:$C$2,2,FALSE)))","v":0.87},0]
["WaalM7leegaf","Waal","M7","leeg","af","Fijn Stof",8.0526029703089357,{"$f":"VLOOKUP(A1766,Begin:Einde,7,FALSE)","v":0},1,{"$f":"VLOOKUP(Jaar,Trendfactoren!$A$2:$D$43,(HLOOKUP(Emissieberekening!F1766,Trendfactoren!$A$1:$C$2,2,FALSE)))","v":0.76},0]
["WaalM7leegaf","Waal","M7","leeg","af","NOx",237.90014879134537,{"$f":"VLOOKUP(A1767,Begin:Einde,7,FALSE)","v":0},1,{"$f":"VLOOKUP(Jaar,Trendfactoren!$A$2:$D$43,(HLOOKUP(Emissieberekening!F1767,Trendfactoren!$A$1:$C$2,2,FALSE)))","v":0.87},0]
["WaalM7leegop","Waal","M7","leeg","op","Fijn Stof",11.918927293668276,{"$f":"VLOOKUP(A1768,Begin:Einde,7,FALSE)","v":0},1,{"$f":"VLOOKUP(Jaar,Trendfactoren!$A$2:$D$43,(HLOOKUP(Emissieberekening!F1768,Trendfactoren!$A$1:$C$2,2,FALSE)))","v":0.76},{"$f":"+G1768*H1768*I1768*J1768","v":0}]
["WaalM7leegop","Waal","M7","leeg","op","NOx",352.12397619153035,{"$f":"VLOOKUP(A1769,Begin:Einde,7,FALSE)","v":0},1,{"$f":"VLOOKUP(Jaar,Trendfactoren!$A$2:$D$43,(HLOOKUP(Emissieberekening!F1769,Trendfactoren!$A$1:$C$2,2,FALSE)))","v":0.87},0]
["WaalM8geladenaf","Waal","M8","geladen","af","Fijn Stof",10.417721083410003,{"$f":"VLOOKUP(A1770,Begin:Einde,7,FALSE)","v":0},1,{"$f":"VLOOKUP(Jaar,Trendfactoren!$A$2:$D$43,(HLOOKUP(Emissieberekening!F1770,Trendfactoren!$A$1:$C$2,2,FALSE)))","v":0.76},0]
["WaalM8geladenaf","Waal","M8","geladen","af","NOx",307.77344977122266,{"$f":"VLOOKUP(A1771,Begin:Einde,7,FALSE)","v":0},1,{"$f":"VLOOKUP(Jaar,Trendfactoren!$A$2:$D$43,(HLOOKUP(Emissieberekening!F1771,Trendfactoren!$A$1:$C$2,2,FALSE)))","v":0.87},0]
["WaalM8geladenop","Waal","M8","geladen","op","Fijn Stof",17.85180698495525,{"$f":"VLOOKUP(A1772,Begin:Einde,7,FALSE)","v":0},1,{"$f":"VLOOKUP(Jaar,Trendfactoren!$A$2:$D$43,(HLOOKUP(Emissieberekening!F1772,Trendfactoren!$A$1:$C$2,2,FALSE)))","v":0.76},0]
["WaalM8geladenop","Waal","M8","geladen","op","NOx",527.4005875583731,{"$f":"VLOOKUP(A1773,Begin:Einde,7,FALSE)","v":0},1,{"$f":"VLOOKUP(Jaar,Trendfactoren!$A$2:$D$43,(HLOOKUP(Emissieberekening!F1773,Trendfactoren!$A$1:$C$2,2,FALSE)))","v":0.87},0]
["WaalM8leegaf","Waal","M8","leeg","af","Fijn Stof",9.28838821148722,{"$f":"VLOOKUP(A1774,Begin:Einde,7,FALSE)","v":0},1,{"$f":"VLOOKUP(Jaar,Trendfactoren!$A$2:$D$43,(HLOOKUP(Emissieberekening!F1774,Trendfactoren!$A$1:$C$2,2,FALSE)))","v":0.76},0]
["WaalM8leegaf","Waal","M8","leeg","af","NOx",274.40927432931841,{"$f":"VLOOKUP(A1775,Begin:Einde,7,FALSE)","v":0},1,{"$f":"VLOOKUP(Jaar,Trendfactoren!$A$2:$D$43,(HLOOKUP(Emissieberekening!F1775,Trendfactoren!$A$1:$C$2,2,FALSE)))","v":0.87},0]
["WaalM8leegop","Waal","M8","leeg","op","Fijn Stof",13.901378955637217,{"$f":"VLOOKUP(A1776,Begin:Einde,7,FALSE)","v":0},1,{"$f":"VLOOKUP(Jaar,Trendfactoren!$A$2:$D$43,(HLOOKUP(Emissieberekening!F1776,Trendfactoren!$A$1:$C$2,2,FALSE)))","v":0.76},0]
["WaalM8leegop","Waal","M8","leeg","op","NOx",410.69206244798806,{"$f":"VLOOKUP(A1777,Begin:Einde,7,FALSE)","v":0},1,{"$f":"VLOOKUP(Jaar,Trendfactoren!$A$2:$D$43,(HLOOKUP(Emissieberekening!F1777,Trendfactoren!$A$1:$C$2,2,FALSE)))","v":0.87},0]
["WaalM9geladenaf","Waal","M9","geladen","af","Fijn Stof",12.060506352654775,{"$f":"VLOOKUP(A1778,Begin:Einde,7,FALSE)","v":0},1,{"$f":"VLOOKUP(Jaar,Trendfactoren!$A$2:$D$43,(HLOOKUP(Emissieberekening!F1778,Trendfactoren!$A$1:$C$2,2,FALSE)))","v":0.76},0]
["WaalM9geladenaf","Waal","M9","geladen","af","NOx",356.30668323952665,{"$f":"VLOOKUP(A1779,Begin:Einde,7,FALSE)","v":0},1,{"$f":"VLOOKUP(Jaar,Trendfactoren!$A$2:$D$43,(HLOOKUP(Emissieberekening!F1779,Trendfactoren!$A$1:$C$2,2,FALSE)))","v":0.87},0]
["WaalM9geladenop","Waal","M9","geladen","op","Fijn Stof",18.491567172887354,{"$f":"VLOOKUP(A1780,Begin:Einde,7,FALSE)","v":0},1,{"$f":"VLOOKUP(Jaar,Trendfactoren!$A$2:$D$43,(HLOOKUP(Emissieberekening!F1780,Trendfactoren!$A$1:$C$2,2,FALSE)))","v":0.76},0]
["WaalM9geladenop","Waal","M9","geladen","op","NOx",546.3011895700464,{"$f":"VLOOKUP(A1781,Begin:Einde,7,FALSE)","v":0},1,{"$f":"VLOOKUP(Jaar,Trendfactoren!$A$2:$D$43,(HLOOKUP(Emissieberekening!F1781,Trendfactoren!$A$1:$C$2,2,FALSE)))","v":0.87},0]
["WaalM9leegaf","Waal","M9","leeg","af","Fijn Stof",10.687122970858784,{"$f":"VLOOKUP(A1782,Begin:Einde,7,FALSE)","v":0},1,{"$f":"VLOOKUP(Jaar,Trendfactoren!$A$2:$D$43,(HLOOKUP(Emissieberekening!F1782,Trendfactoren!$A$1:$C$2,2,FALSE)))","v":0.76},0]
["WaalM9leegaf","Waal","M9","leeg","af","NOx",315.73245996271555,{"$f":"VLOOKUP(A1783,Begin:Einde,7,FALSE)","v":0},1,{"$f":"VLOOKUP(Jaar,Trendfactoren!$A$2:$D$43,(HLOOKUP(Emissieberekening!F1783,Trendfactoren!$A$1:$C$2,2,FALSE)))","v":0.87},0]
["WaalM9leegop","Waal","M9","leeg","op","Fijn Stof",16.176963885777777,{"$f":"VLOOKUP(A1784,Begin:Einde,7,FALSE)","v":0},1,{"$f":"VLOOKUP(Jaar,Trendfactoren!$A$2:$D$43,(HLOOKUP(Emissieberekening!F1784,Trendfactoren!$A$1:$C$2,2,FALSE)))","v":0.76},0]
["WaalM9leegop","Waal","M9","leeg","op","NOx",477.92026126318598,{"$f":"VLOOKUP(A1785,Begin:Einde,7,FALSE)","v":0},1,{"$f":"VLOOKUP(Jaar,Trendfactoren!$A$2:$D$43,(HLOOKUP(Emissieberekening!F1785,Trendfactoren!$A$1:$C$2,2,FALSE)))","v":0.87},0]
[]
[null,null,null,null,null,null,null,{"$f":"+SUMIF(F2:F1785,\"NOx\",H2:H1767)","v":0},null,null,{"$f":"SUM(K2:K1785)","v":0}]
[null,null,null,null,null,null,null,{"$f":"+SUMIF(F2:F1785,\"Fijn Stof\",H2:H1767)","v":0}]

{"sheet":"Emissiekarakteristieken","index":5,"n_rows":898,"n_cols":23,"rows_kept":898,"cut":false,"hidden":false,"merged":[]}
["Zoekwaarde","Vaarwegtypenr","Scheepstypenr","Ladingstoestand","Richting","Stof","Emissiefactor(g/km)","Snelheid(km/u)","Warmteoutput(MW)","Aantal","Afstand","trendfactor","GewWicht_MW","Gewicht_V","CO2_emissie","Fractie","Fractie_B","Fractie_O","Fractie_A","RecipMW_Bijdrage_Af","RecipMW_Bijdrage_Beide","RecipMW_Bijdrage_Op","RecipMW_Bijdrage_tot"]
[{"$f":"+B2&C2&D2&E2","v":"CEMT ICBS_1geladenbeide"},"CEMT I","CBS_1","geladen","beide","CO2",3724.2440972107729,10.8,{"$f":"+MJperkgCO2*G2/1000*H2/3600","v":4.4690929166529274E-2},{"$f":"VLOOKUP(A2,Begin:Einde,7,FALSE)","v":0},{"$f":"+Afstand","v":1},{"$f":"VLOOKUP(Jaar,Trendfactoren!$A$2:$D$23,4,FALSE)","v":0.98},{"$f":"+J2*I2*L2","v":0},{"$f":"+J2*H2","v":0},{"$f":"+J2*G2*K2","v":0},{"$f":"+O2/+IF($O$895>0,$O$895,1)","v":0},{"$f":"+IF(E2=\"beide\",O2,0)/IF($O$896>0,$O$896,1)","v":0},{"$f":"+IF(E2=\"op\",O2,0)/IF($O$897>0,$O$897,1)","v":0},{"$f":"+IF(E2=\"af\",O2,0)/IF($O$898>0,$O$898,1)","v":0},{"$f":"+S2/$I2","v":0},{"$f":"+Q2/$I2","v":0},{"$f":"+R2/$I2","v":0},{"$f":"+P2/$I2","v":0}]
[{"$f":"+B3&C3&D3&E3","v":"CEMT ICBS_1leegbeide"},"CEMT I","CBS_1","leeg","beide","CO2",2415.0704911442044,14.6,3.9177810189672653E-2,{"$f":"VLOOKUP(A3,Begin:Einde,7,FALSE)","v":0},1,{"$f":"VLOOKUP(Jaar,Trendfactoren!$A$2:$D$23,4,FALSE)","v":0.98},{"$f":"+J3*I3*L3","v":0},0,{"$f":"+J3*G3*K3","v":0},0,0,0,0,0,0,0,{"$f":"+P3/I3","v":0}]
["CEMT ICBS_2geladenbeide","CEMT I","CBS_2","geladen","beide","CO2",12761.676544406502,10,0.14179640604896113,{"$f":"VLOOKUP(A4,Begin:Einde,7,FALSE)","v":0},1,{"$f":"VLOOKUP(Jaar,Trendfactoren!$A$2:$D$23,4,FALSE)","v":0.98},0,0,0,0,0,0,0,0,0,0,0]
["CEMT ICBS_2leegbeide","CEMT I","CBS_2","leeg","beide","CO2",7796.1113449065469,19.25,0.16675015932161225,{"$f":"VLOOKUP(A5,Begin:Einde,7,FALSE)","v":0},1,{"$f":"VLOOKUP(Jaar,Trendfactoren!$A$2:$D$23,4,FALSE)","v":0.98},0,0,0,0,0,0,0,0,0,0,0]
["CEMT ICBS_3geladenbeide","CEMT I","CBS_3","geladen","beide","CO2",11613.525041123768,6.8999999999999995,8.9037025315282223E-2,{"$f":"VLOOKUP(A6,Begin:Einde,7,FALSE)","v":0},1,{"$f":"VLOOKUP(Jaar,Trendfactoren!$A$2:$D$23,4,FALSE)","v":0.98},0,0,0,0,0,0,0,0,0,0,0]
["CEMT ICBS_3leegbeide","CEMT I","CBS_3","leeg","beide","CO2",7044.289073152544,13.6,0.10644703488319399,{"$f":"VLOOKUP(A7,Begin:Einde,7,FALSE)","v":0},1,{"$f":"VLOOKUP(Jaar,Trendfactoren!$A$2:$D$23,4,FALSE)","v":0.98},0,0,0,0,0,0,0,0,0,0,0]
["CEMT ICBS_4geladenbeide","CEMT I","CBS_4","geladen","beide","CO2",13263.495061803802,6.9750000000000005,0.10279208672897946,{"$f":"VLOOKUP(A8,Begin:Einde,7,FALSE)","v":0},1,{"$f":"VLOOKUP(Jaar,Trendfactoren!$A$2:$D$23,4,FALSE)","v":0.98},0,0,0,0,0,0,0,0,0,0,0]
["CEMT ICBS_4leegbeide","CEMT I","CBS_4","leeg","beide","CO2",5004.8382255509096,10.824999999999999,6.0197081990653989E-2,{"$f":"VLOOKUP(A9,Begin:Einde,7,FALSE)","v":0},1,{"$f":"VLOOKUP(Jaar,Trendfactoren!$A$2:$D$23,4,FALSE)","v":0.98},0,0,0,0,0,0,0,0,0,0,0]
["CEMT ICBS_5geladenbeide","CEMT I","CBS_5","geladen","beide","CO2",14308.149762024888,7.7499999999999991,0.1232090673952143,{"$f":"VLOOKUP(A10,Begin:Einde,7,FALSE)","v":0},1,{"$f":"VLOOKUP(Jaar,Trendfactoren!$A$2:$D$23,4,FALSE)","v":0.98},0,0,0,0,0,0,0,0,0,0,0]
["CEMT ICBS_5leegbeide","CEMT I","CBS_5","leeg","beide","CO2",9444.1205105976642,11.1,0.11647748629737119,{"$f":"VLOOKUP(A11,Begin:Einde,7,FALSE)","v":0},1,{"$f":"VLOOKUP(Jaar,Trendfactoren!$A$2:$D$23,4,FALSE)","v":0.98},0,0,0,0,0,0,0,0,0,0,0]
["CEMT ICBS_6geladenbeide","CEMT I","CBS_6","geladen","beide","CO2",16384.432438147822,2,3.6409849862550719E-2,{"$f":"VLOOKUP(A12,Begin:Einde,7,FALSE)","v":0},1,{"$f":"VLOOKUP(Jaar,Trendfactoren!$A$2:$D$23,4,FALSE)","v":0.98},0,0,0,0,0,0,0,0,0,0,0]
["CEMT ICBS_6leegbeide","CEMT I","CBS_6","leeg","beide","CO2",11517.351577869196,11.3,0.14460674758880215,{"$f":"VLOOKUP(A13,Begin:Einde,7,FALSE)","v":0},1,{"$f":"VLOOKUP(Jaar,Trendfactoren!$A$2:$D$23,4,FALSE)","v":0.98},0,0,0,0,0,0,0,0,0,0,0]
["CEMT IICBS_1geladenbeide","CEMT II","CBS_1","geladen","beide","CO2",6453.5683112889619,14.2,0.10182296668922584,{"$f":"VLOOKUP(A14,Begin:Einde,7,FALSE)","v":0},1,{"$f":"VLOOKUP(Jaar,Trendfactoren!$A$2:$D$23,4,FALSE)","v":0.98},0,0,0,0,0,0,0,0,0,0,0]
["CEMT IICBS_1leegbeide","CEMT II","CBS_1","leeg","beide","CO2",3125.6351208574406,16.7,5.7997896131465831E-2,{"$f":"VLOOKUP(A15,Begin:Einde,7,FALSE)","v":0},1,{"$f":"VLOOKUP(Jaar,Trendfactoren!$A$2:$D$23,4,FALSE)","v":0.98},0,0,0,0,0,0,0,0,0,0,0]
["CEMT IICBS_2geladenbeide","CEMT II","CBS_2","geladen","beide","CO2",10313.748968501173,10.649999999999999,0.1220460294605972,{"$f":"VLOOKUP(A16,Begin:Einde,7,FALSE)","v":0},1,{"$f":"VLOOKUP(Jaar,Trendfactoren!$A$2:$D$23,4,FALSE)","v":0.98},0,0,0,0,0,0,0,0,0,0,0]
["CEMT IICBS_2leegbeide","CEMT II","CBS_2","leeg","beide","CO2",6514.0841724845677,16.350000000000001,0.11833919580013631,{"$f":"VLOOKUP(A17,Begin:Einde,7,FALSE)","v":0},1,{"$f":"VLOOKUP(Jaar,Trendfactoren!$A$2:$D$23,4,FALSE)","v":0.98},0,0,0,0,0,0,0,0,0,0,0]
["CEMT IICBS_3geladenbeide","CEMT II","CBS_3","geladen","beide","CO2",13692.706448727193,9.1999999999999993,0.13996988814254463,{"$f":"VLOOKUP(A18,Begin:Einde,7,FALSE)","v":0},1,{"$f":"VLOOKUP(Jaar,Trendfactoren!$A$2:$D$23,4,FALSE)","v":0.98},0,0,0,0,0,0,0,0,0,0,0]
["CEMT IICBS_3leegbeide","CEMT II","CBS_3","leeg","beide","CO2",9491.9427839553482,15.65,0.16505433840989023,{"$f":"VLOOKUP(A19,Begin:Einde,7,FALSE)","v":0},1,{"$f":"VLOOKUP(Jaar,Trendfactoren!$A$2:$D$23,4,FALSE)","v":0.98},0,0,0,0,0,0,0,0,0,0,0]
["CEMT IICBS_4geladenbeide","CEMT II","CBS_4","geladen","beide","CO2",17356.035429393498,9.2750000000000004,0.17886358734180521,{"$f":"VLOOKUP(A20,Begin:Einde,7,FALSE)","v":0},1,{"$f":"VLOOKUP(Jaar,Trendfactoren!$A$2:$D$23,4,FALSE)","v":0.98},0,0,0,0,0,0,0,0,0,0,0]
["CEMT IICBS_4leegbeide","CEMT II","CBS_4","leeg","beide","CO2",7045.6976887953288,13.8,0.10803403122819505,{"$f":"VLOOKUP(A21,Begin:Einde,7,FALSE)","v":0},1,{"$f":"VLOOKUP(Jaar,Trendfactoren!$A$2:$D$23,4,FALSE)","v":0.98},0,0,0,0,0,0,0,0,0,0,0]
["CEMT IICBS_5geladenbeide","CEMT II","CBS_5","geladen","beide","CO2",26019.276203515059,8.6,0.24862863927803278,{"$f":"VLOOKUP(A22,Begin:Einde,7,FALSE)","v":0},1,{"$f":"VLOOKUP(Jaar,Trendfactoren!$A$2:$D$23,4,FALSE)","v":0.98},0,0,0,0,0,0,0,0,0,0,0]
["CEMT IICBS_5leegbeide","CEMT II","CBS_5","leeg","beide","CO2",8312.511729216556,13.733333333333334,0.12684277157174895,{"$f":"VLOOKUP(A23,Begin:Einde,7,FALSE)","v":0},1,{"$f":"VLOOKUP(Jaar,Trendfactoren!$A$2:$D$23,4,FALSE)","v":0.98},0,0,0,0,0,0,0,0,0,0,0]
["CEMT IICBS_6geladenbeide","CEMT II","CBS_6","geladen","beide","CO2",26738.952910762157,7,0.20796963375037231,{"$f":"VLOOKUP(A24,Begin:Einde,7,FALSE)","v":0},1,{"$f":"VLOOKUP(Jaar,Trendfactoren!$A$2:$D$23,4,FALSE)","v":0.98},0,0,0,0,0,0,0,0,0,0,0]
["CEMT IICBS_6leegbeide","CEMT II","CBS_6","leeg","beide","CO2",30139.2689061657,16.5,0.55255326327970455,{"$f":"VLOOKUP(A25,Begin:Einde,7,FALSE)","v":0},1,{"$f":"VLOOKUP(Jaar,Trendfactoren!$A$2:$D$23,4,FALSE)","v":0.98},0,0,0,0,0,0,0,0,0,0,0]
["CEMT IICBS_7geladenbeide","CEMT II","CBS_7","geladen","beide","CO2",27759.346674967681,5.9,0.18197793931367701,{"$f":"VLOOKUP(A26,Begin:Einde,7,FALSE)","v":0},1,{"$f":"VLOOKUP(Jaar,Trendfactoren!$A$2:$D$23,4,FALSE)","v":0.98},0,0,0,0,0,0,0,0,0,0,0]
["CEMT IICBS_7leegbeide","CEMT II","CBS_7","leeg","beide","CO2",29604.4862645555,15,0.49340810440925836,{"$f":"VLOOKUP(A27,Begin:Einde,7,FALSE)","v":0},1,{"$f":"VLOOKUP(Jaar,Trendfactoren!$A$2:$D$23,4,FALSE)","v":0.98},0,0,0,0,0,0,0,0,0,0,0]
["CEMT IIICBS_1geladenbeide","CEMT III","CBS_1","geladen","beide","CO2",4564.6135060661882,12.3,6.2383051249571247E-2,{"$f":"VLOOKUP(A28,Begin:Einde,7,FALSE)","v":0},1,{"$f":"VLOOKUP(Jaar,Trendfactoren!$A$2:$D$23,4,FALSE)","v":0.98},0,0,0,0,0,0,0,0,0,0,0]
["CEMT IIICBS_1leegbeide","CEMT III","CBS_1","leeg","beide","CO2",2701.3287732401677,15.7,4.7123179710967369E-2,{"$f":"VLOOKUP(A29,Begin:Einde,7,FALSE)","v":0},1,{"$f":"VLOOKUP(Jaar,Trendfactoren!$A$2:$D$23,4,FALSE)","v":0.98},0,0,0,0,0,0,0,0,0,0,0]
["CEMT IIICBS_2geladenbeide","CEMT III","CBS_2","geladen","beide","CO2",12097.157685973574,11.5,0.15457479265410676,{"$f":"VLOOKUP(A30,Begin:Einde,7,FALSE)","v":0},1,{"$f":"VLOOKUP(Jaar,Trendfactoren!$A$2:$D$23,4,FALSE)","v":0.98},0,0,0,0,0,0,0,0,0,0,0]
["CEMT IIICBS_2leegbeide","CEMT III","CBS_2","leeg","beide","CO2",8652.1125922004121,20.25,0.19467253332450926,{"$f":"VLOOKUP(A31,Begin:Einde,7,FALSE)","v":0},1,{"$f":"VLOOKUP(Jaar,Trendfactoren!$A$2:$D$23,4,FALSE)","v":0.98},0,0,0,0,0,0,0,0,0,0,0]
["CEMT IIICBS_3geladenbeide","CEMT III","CBS_3","geladen","beide","CO2",14407.282089839406,9.25,0.14807484370112722,{"$f":"VLOOKUP(A32,Begin:Einde,7,FALSE)","v":0},1,{"$f":"VLOOKUP(Jaar,Trendfactoren!$A$2:$D$23,4,FALSE)","v":0.98},0,0,0,0,0,0,0,0,0,0,0]
["CEMT IIICBS_3leegbeide","CEMT III","CBS_3","leeg","beide","CO2",8858.80771113429,15.85,0.15601344691275387,{"$f":"VLOOKUP(A33,Begin:Einde,7,FALSE)","v":0},1,{"$f":"VLOOKUP(Jaar,Trendfactoren!$A$2:$D$23,4,FALSE)","v":0.98},0,0,0,0,0,0,0,0,0,0,0]
["CEMT IIICBS_4geladenbeide","CEMT III","CBS_4","geladen","beide","CO2",18477.03256612219,9.125,0.18733658018429442,{"$f":"VLOOKUP(A34,Begin:Einde,7,FALSE)","v":0},1,{"$f":"VLOOKUP(Jaar,Trendfactoren!$A$2:$D$23,4,FALSE)","v":0.98},0,0,0,0,0,0,0,0,0,0,0]
["CEMT IIICBS_4leegbeide","CEMT III","CBS_4","leeg","beide","CO2",11880.274963911701,14.674999999999999,0.19371448343933798,{"$f":"VLOOKUP(A35,Begin:Einde,7,FALSE)","v":0},1,{"$f":"VLOOKUP(Jaar,Trendfactoren!$A$2:$D$23,4,FALSE)","v":0.98},0,0,0,0,0,0,0,0,0,0,0]
["CEMT IIICBS_5geladenbeide","CEMT III","CBS_5","geladen","beide","CO2",17515.861407274089,8.1999999999999993,0.15958895948849725,{"$f":"VLOOKUP(A36,Begin:Einde,7,FALSE)","v":0},1,{"$f":"VLOOKUP(Jaar,Trendfactoren!$A$2:$D$23,4,FALSE)","v":0.98},0,0,0,0,0,0,0,0,0,0,0]
["CEMT IIICBS_5leegbeide","CEMT III","CBS_5","leeg","beide","CO2",12916.860522313356,15.4,0.22102183560402855,{"$f":"VLOOKUP(A37,Begin:Einde,7,FALSE)","v":0},1,{"$f":"VLOOKUP(Jaar,Trendfactoren!$A$2:$D$23,4,FALSE)","v":0.98},0,0,0,0,0,0,0,0,0,0,0]
["CEMT IIICBS_6geladenbeide","CEMT III","CBS_6","geladen","beide","CO2",30837.182406655775,7.5,0.25697652005546479,{"$f":"VLOOKUP(A38,Begin:Einde,7,FALSE)","v":0},1,{"$f":"VLOOKUP(Jaar,Trendfactoren!$A$2:$D$23,4,FALSE)","v":0.98},0,0,0,0,0,0,0,0,0,0,0]
["CEMT IIICBS_6leegbeide","CEMT III","CBS_6","leeg","beide","CO2",19750.771361419436,14.7,0.32259593223651739,{"$f":"VLOOKUP(A39,Begin:Einde,7,FALSE)","v":0},1,{"$f":"VLOOKUP(Jaar,Trendfactoren!$A$2:$D$23,4,FALSE)","v":0.98},0,0,0,0,0,0,0,0,0,0,0]
["CEMT IVCBS_1geladenbeide","CEMT IV","CBS_1","geladen","beide","CO2",4360.3772405476448,12.9,6.2498740447849574E-2,{"$f":"VLOOKUP(A40,Begin:Einde,7,FALSE)","v":0},1,{"$f":"VLOOKUP(Jaar,Trendfactoren!$A$2:$D$23,4,FALSE)","v":0.98},0,0,0,0,0,0,0,0,0,0,0]
["CEMT IVCBS_1leegbeide","CEMT IV","CBS_1","leeg","beide","CO2",2724.6404844230387,16.3,4.9346266551217252E-2,{"$f":"VLOOKUP(A41,Begin:Einde,7,FALSE)","v":0},1,{"$f":"VLOOKUP(Jaar,Trendfactoren!$A$2:$D$23,4,FALSE)","v":0.98},0,0,0,0,0,0,0,0,0,0,0]
["CEMT IVCBS_2geladenbeide","CEMT IV","CBS_2","geladen","beide","CO2",9685.6968815862056,12.2,0.131295002172613,{"$f":"VLOOKUP(A42,Begin:Einde,7,FALSE)","v":0},1,{"$f":"VLOOKUP(Jaar,Trendfactoren!$A$2:$D$23,4,FALSE)","v":0.98},0,0,0,0,0,0,0,0,0,0,0]
["CEMT IVCBS_2leegbeide","CEMT IV","CBS_2","leeg","beide","CO2",5197.242687863506,16.2,9.3550368381543098E-2,{"$f":"VLOOKUP(A43,Begin:Einde,7,FALSE)","v":0},1,{"$f":"VLOOKUP(Jaar,Trendfactoren!$A$2:$D$23,4,FALSE)","v":0.98},0,0,0,0,0,0,0,0,0,0,0]
["CEMT IVCBS_3geladenbeide","CEMT IV","CBS_3","geladen","beide","CO2",13655.995896507469,11.4,0.17297594802242797,{"$f":"VLOOKUP(A44,Begin:Einde,7,FALSE)","v":0},1,{"$f":"VLOOKUP(Jaar,Trendfactoren!$A$2:$D$23,4,FALSE)","v":0.98},0,0,0,0,0,0,0,0,0,0,0]
["CEMT IVCBS_3leegbeide","CEMT IV","CBS_3","leeg","beide","CO2",9825.6054049487975,16.950000000000003,0.18504890179320238,{"$f":"VLOOKUP(A45,Begin:Einde,7,FALSE)","v":0},1,{"$f":"VLOOKUP(Jaar,Trendfactoren!$A$2:$D$23,4,FALSE)","v":0.98},0,0,0,0,0,0,0,0,0,0,0]
["CEMT IVCBS_4geladenbeide","CEMT IV","CBS_4","geladen","beide","CO2",18200.473778872991,11.220000000000002,0.22689923977661663,{"$f":"VLOOKUP(A46,Begin:Einde,7,FALSE)","v":0},1,{"$f":"VLOOKUP(Jaar,Trendfactoren!$A$2:$D$23,4,FALSE)","v":0.98},0,0,0,0,0,0,0,0,0,0,0]
["CEMT IVCBS_4leegbeide","CEMT IV","CBS_4","leeg","beide","CO2",13078.221082482474,16.14,0.23453609807918568,{"$f":"VLOOKUP(A47,Begin:Einde,7,FALSE)","v":0},1,{"$f":"VLOOKUP(Jaar,Trendfactoren!$A$2:$D$23,4,FALSE)","v":0.98},0,0,0,0,0,0,0,0,0,0,0]
["CEMT IVCBS_5geladenbeide","CEMT IV","CBS_5","geladen","beide","CO2",22166.710134467441,10.433333333333335,0.25696963970697445,{"$f":"VLOOKUP(A48,Begin:Einde,7,FALSE)","v":0},1,{"$f":"VLOOKUP(Jaar,Trendfactoren!$A$2:$D$23,4,FALSE)","v":0.98},0,0,0,0,0,0,0,0,0,0,0]
["CEMT IVCBS_5leegbeide","CEMT IV","CBS_5","leeg","beide","CO2",15773.601745220021,16.433333333333334,0.2880142837182767,{"$f":"VLOOKUP(A49,Begin:Einde,7,FALSE)","v":0},1,{"$f":"VLOOKUP(Jaar,Trendfactoren!$A$2:$D$23,4,FALSE)","v":0.98},0,0,0,0,0,0,0,0,0,0,0]
["CEMT IVCBS_6geladenbeide","CEMT IV","CBS_6","geladen","beide","CO2",23105.238182695728,9.3000000000000007,0.23875412788785588,{"$f":"VLOOKUP(A50,Begin:Einde,7,FALSE)","v":0},1,{"$f":"VLOOKUP(Jaar,Trendfactoren!$A$2:$D$23,4,FALSE)","v":0.98},0,0,0,0,0,0,0,0,0,0,0]
["CEMT IVCBS_6leegbeide","CEMT IV","CBS_6","leeg","beide","CO2",17447.099235914873,15.7,0.30435495333762613,{"$f":"VLOOKUP(A51,Begin:Einde,7,FALSE)","v":0},1,{"$f":"VLOOKUP(Jaar,Trendfactoren!$A$2:$D$23,4,FALSE)","v":0.98},0,0,0,0,0,0,0,0,0,0,0]
["CEMT IVCBS_7geladenbeide","CEMT IV","CBS_7","geladen","beide","CO2",18401.485081088809,5.5,0.11245351993998715,{"$f":"VLOOKUP(A52,Begin:Einde,7,FALSE)","v":0},1,{"$f":"VLOOKUP(Jaar,Trendfactoren!$A$2:$D$23,4,FALSE)","v":0.98},0,0,0,0,0,0,0,0,0,0,0]
["CEMT IVCBS_7leegbeide","CEMT IV","CBS_7","leeg","beide","CO2",13225.781713319482,13.066666666666668,0.19201875672671248,{"$f":"VLOOKUP(A53,Begin:Einde,7,FALSE)","v":0},1,{"$f":"VLOOKUP(Jaar,Trendfactoren!$A$2:$D$23,4,FALSE)","v":0.98},0,0,0,0,0,0,0,0,0,0,0]
["CEMT VaCBS_1geladenbeide","CEMT Va","CBS_1","geladen","beide","CO2",4824.7846602379122,13.9,7.4516118641452203E-2,{"$f":"VLOOKUP(A54,Begin:Einde,7,FALSE)","v":0},1,{"$f":"VLOOKUP(Jaar,Trendfactoren!$A$2:$D$23,4,FALSE)","v":0.98},0,0,0,0,0,0,0,0,0,0,0]
["CEMT VaCBS_1leegbeide","CEMT Va","CBS_1","leeg","beide","CO2",2780.9572759148909,16.7,5.1602207230865192E-2,{"$f":"VLOOKUP(A55,Begin:Einde,7,FALSE)","v":0},1,{"$f":"VLOOKUP(Jaar,Trendfactoren!$A$2:$D$23,4,FALSE)","v":0.98},0,0,0,0,0,0,0,0,0,0,0]
["CEMT VaCBS_10geladenbeide","CEMT Va","CBS_10","geladen","beide","CO2",82770.889818848838,6.4,0.58859299426736966,{"$f":"VLOOKUP(A56,Begin:Einde,7,FALSE)","v":0},1,{"$f":"VLOOKUP(Jaar,Trendfactoren!$A$2:$D$23,4,FALSE)","v":0.98},0,0,0,0,0,0,0,0,0,0,0]
["CEMT VaCBS_10leegbeide","CEMT Va","CBS_10","leeg","beide","CO2",47501.468535714244,12.8,0.67557644139682493,{"$f":"VLOOKUP(A57,Begin:Einde,7,FALSE)","v":0},1,{"$f":"VLOOKUP(Jaar,Trendfactoren!$A$2:$D$23,4,FALSE)","v":0.98},0,0,0,0,0,0,0,0,0,0,0]
["CEMT VaCBS_2geladenbeide","CEMT Va","CBS_2","geladen","beide","CO2",8537.8029667181527,12.350000000000001,0.11715762959885466,{"$f":"VLOOKUP(A58,Begin:Einde,7,FALSE)","v":0},1,{"$f":"VLOOKUP(Jaar,Trendfactoren!$A$2:$D$23,4,FALSE)","v":0.98},0,0,0,0,0,0,0,0,0,0,0]
["CEMT VaCBS_2leegbeide","CEMT Va","CBS_2","leeg","beide","CO2",5175.0742883327912,17,9.7751403224063838E-2,{"$f":"VLOOKUP(A59,Begin:Einde,7,FALSE)","v":0},1,{"$f":"VLOOKUP(Jaar,Trendfactoren!$A$2:$D$23,4,FALSE)","v":0.98},0,0,0,0,0,0,0,0,0,0,0]
["CEMT VaCBS_3geladenbeide","CEMT Va","CBS_3","geladen","beide","CO2",13604.381577075435,12.35,0.18668234719653515,{"$f":"VLOOKUP(A60,Begin:Einde,7,FALSE)","v":0},1,{"$f":"VLOOKUP(Jaar,Trendfactoren!$A$2:$D$23,4,FALSE)","v":0.98},0,0,0,0,0,0,0,0,0,0,0]
["CEMT VaCBS_3leegbeide","CEMT Va","CBS_3","leeg","beide","CO2",9057.2883475069793,17.25,0.17359802666055044,{"$f":"VLOOKUP(A61,Begin:Einde,7,FALSE)","v":0},1,{"$f":"VLOOKUP(Jaar,Trendfactoren!$A$2:$D$23,4,FALSE)","v":0.98},0,0,0,0,0,0,0,0,0,0,0]
["CEMT VaCBS_4geladenbeide","CEMT Va","CBS_4","geladen","beide","CO2",20741.495729185888,12.4,0.28577171893545,{"$f":"VLOOKUP(A62,Begin:Einde,7,FALSE)","v":0},1,{"$f":"VLOOKUP(Jaar,Trendfactoren!$A$2:$D$23,4,FALSE)","v":0.98},0,0,0,0,0,0,0,0,0,0,0]
["CEMT VaCBS_4leegbeide","CEMT Va","CBS_4","leeg","beide","CO2",13952.843320438897,16.96,0.26293358079404855,{"$f":"VLOOKUP(A63,Begin:Einde,7,FALSE)","v":0},1,{"$f":"VLOOKUP(Jaar,Trendfactoren!$A$2:$D$23,4,FALSE)","v":0.98},0,0,0,0,0,0,0,0,0,0,0]
["CEMT VaCBS_5geladenbeide","CEMT Va","CBS_5","geladen","beide","CO2",33370.721167661999,13.6,0.50426867542244791,{"$f":"VLOOKUP(A64,Begin:Einde,7,FALSE)","v":0},1,{"$f":"VLOOKUP(Jaar,Trendfactoren!$A$2:$D$23,4,FALSE)","v":0.98},0,0,0,0,0,0,0,0,0,0,0]
["CEMT VaCBS_5leegbeide","CEMT Va","CBS_5","leeg","beide","CO2",18342.613288152545,17.733333333333334,0.36141741738137612,{"$f":"VLOOKUP(A65,Begin:Einde,7,FALSE)","v":0},1,{"$f":"VLOOKUP(Jaar,Trendfactoren!$A$2:$D$23,4,FALSE)","v":0.98},0,0,0,0,0,0,0,0,0,0,0]
["CEMT VaCBS_6geladenbeide","CEMT Va","CBS_6","geladen","beide","CO2",31408.764475761916,12.1,{"$f":"+MJperkgCO2*G66/1000*H66/3600","v":0.42227338906302131},{"$f":"VLOOKUP(A66,Begin:Einde,7,FALSE)","v":0},{"$f":"+Afstand","v":1},{"$f":"VLOOKUP(Jaar,Trendfactoren!$A$2:$D$23,4,FALSE)","v":0.98},0,{"$f":"+J66*H66","v":0},0,{"$f":"+O66/+IF($O$895>0,$O$895,1)","v":0},{"$f":"+IF(E66=\"beide\",O66,0)/IF($O$896>0,$O$896,1)","v":0},{"$f":"+IF(E66=\"op\",O66,0)/IF($O$897>0,$O$897,1)","v":0},{"$f":"+IF(E66=\"af\",O66,0)/IF($O$898>0,$O$898,1)","v":0},{"$f":"+S66/$I66","v":0},{"$f":"+Q66/$I66","v":0},{"$f":"+R66/$I66","v":0},0]
[{"$f":"+B67&C67&D67&E67","v":"CEMT VaCBS_6leegbeide"},"CEMT Va","CBS_6","leeg","beide","CO2",22706.886154892552,18.5,0.46675265985056913,{"$f":"VLOOKUP(A67,Begin:Einde,7,FALSE)","v":0},1,{"$f":"VLOOKUP(Jaar,Trendfactoren!$A$2:$D$23,4,FALSE)","v":0.98},{"$f":"+J67*I67*L67","v":0},0,{"$f":"+J67*G67*K67","v":0},0,0,0,0,0,0,0,{"$f":"+P67/I67","v":0}]
["CEMT VaCBS_7geladenbeide","CEMT Va","CBS_7","geladen","beide","CO2",35818.638153253916,10.66,0.42425186968187417,{"$f":"VLOOKUP(A68,Begin:Einde,7,FALSE)","v":0},1,{"$f":"VLOOKUP(Jaar,Trendfactoren!$A$2:$D$23,4,FALSE)","v":0.98},0,0,0,0,0,0,0,0,0,0,0]
["CEMT VaCBS_7leegbeide","CEMT Va","CBS_7","leeg","beide","CO2",29808.822135045004,17.420000000000002,0.5769663128805379,{"$f":"VLOOKUP(A69,Begin:Einde,7,FALSE)","v":0},1,{"$f":"VLOOKUP(Jaar,Trendfactoren!$A$2:$D$23,4,FALSE)","v":0.98},0,0,0,0,0,0,0,0,0,0,0]
["CEMT VaCBS_9geladenbeide","CEMT Va","CBS_9","geladen","beide","CO2",58390.080421423503,9.5999999999999979,0.62282752449518397,{"$f":"VLOOKUP(A70,Begin:Einde,7,FALSE)","v":0},1,{"$f":"VLOOKUP(Jaar,Trendfactoren!$A$2:$D$23,4,FALSE)","v":0.98},0,0,0,0,0,0,0,0,0,0,0]
["CEMT VaCBS_9leegbeide","CEMT Va","CBS_9","leeg","beide","CO2",46071.491744058127,16.999999999999996,0.87023928849887566,{"$f":"VLOOKUP(A71,Begin:Einde,7,FALSE)","v":0},1,{"$f":"VLOOKUP(Jaar,Trendfactoren!$A$2:$D$23,4,FALSE)","v":0.98},0,0,0,0,0,0,0,0,0,0,0]
["CEMT VbCBS_1geladenbeide","CEMT Vb","CBS_1","geladen","beide","CO2",4406.7818826252287,13.3,6.5122443376572817E-2,{"$f":"VLOOKUP(A72,Begin:Einde,7,FALSE)","v":0},1,{"$f":"VLOOKUP(Jaar,Trendfactoren!$A$2:$D$23,4,FALSE)","v":0.98},0,0,0,0,0,0,0,0,0,0,0]
["CEMT VbCBS_1leegbeide","CEMT Vb","CBS_1","leeg","beide","CO2",2428.6850222475136,15.6,4.2097207052290239E-2,{"$f":"VLOOKUP(A73,Begin:Einde,7,FALSE)","v":0},1,{"$f":"VLOOKUP(Jaar,Trendfactoren!$A$2:$D$23,4,FALSE)","v":0.98},0,0,0,0,0,0,0,0,0,0,0]
["CEMT VbCBS_2geladenbeide","CEMT Vb","CBS_2","geladen","beide","CO2",7931.1366695171819,11.9,0.10486725151917162,{"$f":"VLOOKUP(A74,Begin:Einde,7,FALSE)","v":0},1,{"$f":"VLOOKUP(Jaar,Trendfactoren!$A$2:$D$23,4,FALSE)","v":0.98},0,0,0,0,0,0,0,0,0,0,0]
["CEMT VbCBS_2leegbeide","CEMT Vb","CBS_2","leeg","beide","CO2",4567.6924450552397,15.35,7.790453225733103E-2,{"$f":"VLOOKUP(A75,Begin:Einde,7,FALSE)","v":0},1,{"$f":"VLOOKUP(Jaar,Trendfactoren!$A$2:$D$23,4,FALSE)","v":0.98},0,0,0,0,0,0,0,0,0,0,0]
["CEMT VbCBS_3geladenbeide","CEMT Vb","CBS_3","geladen","beide","CO2",13331.16255782422,12.05,0.17848945424642429,{"$f":"VLOOKUP(A76,Begin:Einde,7,FALSE)","v":0},1,{"$f":"VLOOKUP(Jaar,Trendfactoren!$A$2:$D$23,4,FALSE)","v":0.98},0,0,0,0,0,0,0,0,0,0,0]
["CEMT VbCBS_3leegbeide","CEMT Vb","CBS_3","leeg","beide","CO2",7902.6840733162499,15.950000000000001,0.14005312329932687,{"$f":"VLOOKUP(A77,Begin:Einde,7,FALSE)","v":0},1,{"$f":"VLOOKUP(Jaar,Trendfactoren!$A$2:$D$23,4,FALSE)","v":0.98},0,0,0,0,0,0,0,0,0,0,0]
["CEMT VbCBS_4geladenbeide","CEMT Vb","CBS_4","geladen","beide","CO2",19987.433029338685,12.020000000000001,0.26694327223627895,{"$f":"VLOOKUP(A78,Begin:Einde,7,FALSE)","v":0},1,{"$f":"VLOOKUP(Jaar,Trendfactoren!$A$2:$D$23,4,FALSE)","v":0.98},0,0,0,0,0,0,0,0,0,0,0]
["CEMT VbCBS_4leegbeide","CEMT Vb","CBS_4","leeg","beide","CO2",12207.716192199126,15.76,0.21377067465450914,{"$f":"VLOOKUP(A79,Begin:Einde,7,FALSE)","v":0},1,{"$f":"VLOOKUP(Jaar,Trendfactoren!$A$2:$D$23,4,FALSE)","v":0.98},0,0,0,0,0,0,0,0,0,0,0]
["CEMT VbCBS_5geladenbeide","CEMT Vb","CBS_5","geladen","beide","CO2",28978.616898133645,12.866666666666667,0.41428689343257735,{"$f":"VLOOKUP(A80,Begin:Einde,7,FALSE)","v":0},1,{"$f":"VLOOKUP(Jaar,Trendfactoren!$A$2:$D$23,4,FALSE)","v":0.98},0,0,0,0,0,0,0,0,0,0,0]
["CEMT VbCBS_5leegbeide","CEMT Vb","CBS_5","leeg","beide","CO2",15337.804207601297,16.166666666666668,0.27551240891431961,{"$f":"VLOOKUP(A81,Begin:Einde,7,FALSE)","v":0},1,{"$f":"VLOOKUP(Jaar,Trendfactoren!$A$2:$D$23,4,FALSE)","v":0.98},0,0,0,0,0,0,0,0,0,0,0]
["CEMT VbCBS_6geladenbeide","CEMT Vb","CBS_6","geladen","beide","CO2",27960.45833023416,11.5,0.35727252310854762,{"$f":"VLOOKUP(A82,Begin:Einde,7,FALSE)","v":0},1,{"$f":"VLOOKUP(Jaar,Trendfactoren!$A$2:$D$23,4,FALSE)","v":0.98},0,0,0,0,0,0,0,0,0,0,0]
["CEMT VbCBS_6leegbeide","CEMT Vb","CBS_6","leeg","beide","CO2",20105.548160647915,17.600000000000001,0.39317516403044817,{"$f":"VLOOKUP(A83,Begin:Einde,7,FALSE)","v":0},1,{"$f":"VLOOKUP(Jaar,Trendfactoren!$A$2:$D$23,4,FALSE)","v":0.98},0,0,0,0,0,0,0,0,0,0,0]
["CEMT VbCBS_7geladenbeide","CEMT Vb","CBS_7","geladen","beide","CO2",32973.090631598083,10.26,0.37589323320021817,{"$f":"VLOOKUP(A84,Begin:Einde,7,FALSE)","v":0},1,{"$f":"VLOOKUP(Jaar,Trendfactoren!$A$2:$D$23,4,FALSE)","v":0.98},0,0,0,0,0,0,0,0,0,0,0]
["CEMT VbCBS_7leegbeide","CEMT Vb","CBS_7","leeg","beide","CO2",26619.087540231867,16.740000000000002,0.49511502824831283,{"$f":"VLOOKUP(A85,Begin:Einde,7,FALSE)","v":0},1,{"$f":"VLOOKUP(Jaar,Trendfactoren!$A$2:$D$23,4,FALSE)","v":0.98},0,0,0,0,0,0,0,0,0,0,0]
["CEMT VbCBS_9geladenbeide","CEMT Vb","CBS_9","geladen","beide","CO2",46961.680918370868,9.1749999999999989,0.47874824714005848,{"$f":"VLOOKUP(A86,Begin:Einde,7,FALSE)","v":0},1,{"$f":"VLOOKUP(Jaar,Trendfactoren!$A$2:$D$23,4,FALSE)","v":0.98},0,0,0,0,0,0,0,0,0,0,0]
["CEMT VbCBS_9leegbeide","CEMT Vb","CBS_9","leeg","beide","CO2",40516.607773558913,17.7,0.79682661954665857,{"$f":"VLOOKUP(A87,Begin:Einde,7,FALSE)","v":0},1,{"$f":"VLOOKUP(Jaar,Trendfactoren!$A$2:$D$23,4,FALSE)","v":0.98},0,0,0,0,0,0,0,0,0,0,0]
["CEMT VIaCBS_1geladenbeide","CEMT VIa","CBS_1","geladen","beide","CO2",4599.3897080246807,14.1,7.2057105425719997E-2,{"$f":"VLOOKUP(A88,Begin:Einde,7,FALSE)","v":0},1,{"$f":"VLOOKUP(Jaar,Trendfactoren!$A$2:$D$23,4,FALSE)","v":0.98},0,0,0,0,0,0,0,0,0,0,0]
["CEMT VIaCBS_1leegbeide","CEMT VIa","CBS_1","leeg","beide","CO2",2545.358259920361,16.2,4.5816448678566497E-2,{"$f":"VLOOKUP(A89,Begin:Einde,7,FALSE)","v":0},1,{"$f":"VLOOKUP(Jaar,Trendfactoren!$A$2:$D$23,4,FALSE)","v":0.98},0,0,0,0,0,0,0,0,0,0,0]
["CEMT VIaCBS_2geladenbeide","CEMT VIa","CBS_2","geladen","beide","CO2",6924.9916654694471,12.7,9.7719326834957751E-2,{"$f":"VLOOKUP(A90,Begin:Einde,7,FALSE)","v":0},1,{"$f":"VLOOKUP(Jaar,Trendfactoren!$A$2:$D$23,4,FALSE)","v":0.98},0,0,0,0,0,0,0,0,0,0,0]
["CEMT VIaCBS_2leegbeide","CEMT VIa","CBS_2","leeg","beide","CO2",4537.3149101962526,17.149999999999999,8.6461056344295253E-2,{"$f":"VLOOKUP(A91,Begin:Einde,7,FALSE)","v":0},1,{"$f":"VLOOKUP(Jaar,Trendfactoren!$A$2:$D$23,4,FALSE)","v":0.98},0,0,0,0,0,0,0,0,0,0,0]
["CEMT VIaCBS_3geladenbeide","CEMT VIa","CBS_3","geladen","beide","CO2",13777.26343445165,13.3,0.20359733742022992,{"$f":"VLOOKUP(A92,Begin:Einde,7,FALSE)","v":0},1,{"$f":"VLOOKUP(Jaar,Trendfactoren!$A$2:$D$23,4,FALSE)","v":0.98},0,0,0,0,0,0,0,0,0,0,0]
["CEMT VIaCBS_3leegbeide","CEMT VIa","CBS_3","leeg","beide","CO2",8869.4773577189117,18.2,0.17936054212276023,{"$f":"VLOOKUP(A93,Begin:Einde,7,FALSE)","v":0},1,{"$f":"VLOOKUP(Jaar,Trendfactoren!$A$2:$D$23,4,FALSE)","v":0.98},0,0,0,0,0,0,0,0,0,0,0]
["CEMT VIaCBS_4geladenbeide","CEMT VIa","CBS_4","geladen","beide","CO2",23375.379335502417,14,0.36361701188559309,{"$f":"VLOOKUP(A94,Begin:Einde,7,FALSE)","v":0},1,{"$f":"VLOOKUP(Jaar,Trendfactoren!$A$2:$D$23,4,FALSE)","v":0.98},0,0,0,0,0,0,0,0,0,0,0]
["CEMT VIaCBS_4leegbeide","CEMT VIa","CBS_4","leeg","beide","CO2",13503.153409679737,18,0.27006306819359471,{"$f":"VLOOKUP(A95,Begin:Einde,7,FALSE)","v":0},1,{"$f":"VLOOKUP(Jaar,Trendfactoren!$A$2:$D$23,4,FALSE)","v":0.98},0,0,0,0,0,0,0,0,0,0,0]
["CEMT VIaCBS_5geladenbeide","CEMT VIa","CBS_5","geladen","beide","CO2",29776.617060896562,14.4,0.47642587297434502,{"$f":"VLOOKUP(A96,Begin:Einde,7,FALSE)","v":0},1,{"$f":"VLOOKUP(Jaar,Trendfactoren!$A$2:$D$23,4,FALSE)","v":0.98},0,0,0,0,0,0,0,0,0,0,0]
["CEMT VIaCBS_5leegbeide","CEMT VIa","CBS_5","leeg","beide","CO2",15780.728810939891,17.933333333333334,0.3144456333439134,{"$f":"VLOOKUP(A97,Begin:Einde,7,FALSE)","v":0},1,{"$f":"VLOOKUP(Jaar,Trendfactoren!$A$2:$D$23,4,FALSE)","v":0.98},0,0,0,0,0,0,0,0,0,0,0]
["CEMT VIaCBS_6geladenbeide","CEMT VIa","CBS_6","geladen","beide","CO2",31367.596327175976,14.4,0.50188154123481565,{"$f":"VLOOKUP(A98,Begin:Einde,7,FALSE)","v":0},1,{"$f":"VLOOKUP(Jaar,Trendfactoren!$A$2:$D$23,4,FALSE)","v":0.98},0,0,0,0,0,0,0,0,0,0,0]
["CEMT VIaCBS_6leegbeide","CEMT VIa","CBS_6","leeg","beide","CO2",20682.648866644686,19.2,0.44122984248842001,{"$f":"VLOOKUP(A99,Begin:Einde,7,FALSE)","v":0},1,{"$f":"VLOOKUP(Jaar,Trendfactoren!$A$2:$D$23,4,FALSE)","v":0.98},0,0,0,0,0,0,0,0,0,0,0]
["CEMT VIaCBS_7geladenbeide","CEMT VIa","CBS_7","geladen","beide","CO2",40947.843952852149,13.7,0.62331718017119375,{"$f":"VLOOKUP(A100,Begin:Einde,7,FALSE)","v":0},1,{"$f":"VLOOKUP(Jaar,Trendfactoren!$A$2:$D$23,4,FALSE)","v":0.98},0,0,0,0,0,0,0,0,0,0,0]
["CEMT VIaCBS_7leegbeide","CEMT VIa","CBS_7","leeg","beide","CO2",26196.896651011652,18.675000000000001,0.54358560550849178,{"$f":"VLOOKUP(A101,Begin:Einde,7,FALSE)","v":0},1,{"$f":"VLOOKUP(Jaar,Trendfactoren!$A$2:$D$23,4,FALSE)","v":0.98},0,0,0,0,0,0,0,0,0,0,0]
["CEMT VIaCBS_9geladenbeide","CEMT VIa","CBS_9","geladen","beide","CO2",63818.930123008824,13.425000000000001,0.95196570766821498,{"$f":"VLOOKUP(A102,Begin:Einde,7,FALSE)","v":0},1,{"$f":"VLOOKUP(Jaar,Trendfactoren!$A$2:$D$23,4,FALSE)","v":0.98},0,0,0,0,0,0,0,0,0,0,0]
["CEMT VIaCBS_9leegbeide","CEMT VIa","CBS_9","leeg","beide","CO2",38737.662032974746,19.025000000000002,0.81887113353038288,{"$f":"VLOOKUP(A103,Begin:Einde,7,FALSE)","v":0},1,{"$f":"VLOOKUP(Jaar,Trendfactoren!$A$2:$D$23,4,FALSE)","v":0.98},0,0,0,0,0,0,0,0,0,0,0]
["CEMT VIbCBS_1geladenbeide","CEMT VIb","CBS_1","geladen","beide","CO2",4035.237099334955,13.2,5.9183477456912666E-2,{"$f":"VLOOKUP(A104,Begin:Einde,7,FALSE)","v":0},1,{"$f":"VLOOKUP(Jaar,Trendfactoren!$A$2:$D$23,4,FALSE)","v":0.98},0,0,0,0,0,0,0,0,0,0,0]
["CEMT VIbCBS_1leegbeide","CEMT VIb","CBS_1","leeg","beide","CO2",2454.5792798812822,15.9,4.3364233944569328E-2,{"$f":"VLOOKUP(A105,Begin:Einde,7,FALSE)","v":0},1,{"$f":"VLOOKUP(Jaar,Trendfactoren!$A$2:$D$23,4,FALSE)","v":0.98},0,0,0,0,0,0,0,0,0,0,0]
["CEMT VIbCBS_10geladenbeide","CEMT VIb","CBS_10","geladen","beide","CO2",113053.64595093437,9.4749999999999996,1.1902036615390035,{"$f":"VLOOKUP(A106,Begin:Einde,7,FALSE)","v":0},1,{"$f":"VLOOKUP(Jaar,Trendfactoren!$A$2:$D$23,4,FALSE)","v":0.98},0,0,0,0,0,0,0,0,0,0,0]
["CEMT VIbCBS_10leegbeide","CEMT VIb","CBS_10","leeg","beide","CO2",66887.629951342751,16.200000000000003,1.2039773391241697,{"$f":"VLOOKUP(A107,Begin:Einde,7,FALSE)","v":0},1,{"$f":"VLOOKUP(Jaar,Trendfactoren!$A$2:$D$23,4,FALSE)","v":0.98},0,0,0,0,0,0,0,0,0,0,0]
["CEMT VIbCBS_2geladenbeide","CEMT VIb","CBS_2","geladen","beide","CO2",7075.009885773512,12.55,9.8657082296063972E-2,{"$f":"VLOOKUP(A108,Begin:Einde,7,FALSE)","v":0},1,{"$f":"VLOOKUP(Jaar,Trendfactoren!$A$2:$D$23,4,FALSE)","v":0.98},0,0,0,0,0,0,0,0,0,0,0]
["CEMT VIbCBS_2leegbeide","CEMT VIb","CBS_2","leeg","beide","CO2",4401.865119440924,15.55,7.6054447341451517E-2,{"$f":"VLOOKUP(A109,Begin:Einde,7,FALSE)","v":0},1,{"$f":"VLOOKUP(Jaar,Trendfactoren!$A$2:$D$23,4,FALSE)","v":0.98},0,0,0,0,0,0,0,0,0,0,0]
["CEMT VIbCBS_3geladenbeide","CEMT VIb","CBS_3","geladen","beide","CO2",11915.933145533158,12.05,0.15954110489297174,{"$f":"VLOOKUP(A110,Begin:Einde,7,FALSE)","v":0},1,{"$f":"VLOOKUP(Jaar,Trendfactoren!$A$2:$D$23,4,FALSE)","v":0.98},0,0,0,0,0,0,0,0,0,0,0]
["CEMT VIbCBS_3leegbeide","CEMT VIb","CBS_3","leeg","beide","CO2",7463.4508957102562,16.100000000000001,0.13351284380103903,{"$f":"VLOOKUP(A111,Begin:Einde,7,FALSE)","v":0},1,{"$f":"VLOOKUP(Jaar,Trendfactoren!$A$2:$D$23,4,FALSE)","v":0.98},0,0,0,0,0,0,0,0,0,0,0]
["CEMT VIbCBS_4geladenbeide","CEMT VIb","CBS_4","geladen","beide","CO2",20509.293202210883,12.819999999999999,0.292143487613715,{"$f":"VLOOKUP(A112,Begin:Einde,7,FALSE)","v":0},1,{"$f":"VLOOKUP(Jaar,Trendfactoren!$A$2:$D$23,4,FALSE)","v":0.98},0,0,0,0,0,0,0,0,0,0,0]
["CEMT VIbCBS_4leegbeide","CEMT VIb","CBS_4","leeg","beide","CO2",11332.647958129939,16.14,0.20323215338246359,{"$f":"VLOOKUP(A113,Begin:Einde,7,FALSE)","v":0},1,{"$f":"VLOOKUP(Jaar,Trendfactoren!$A$2:$D$23,4,FALSE)","v":0.98},0,0,0,0,0,0,0,0,0,0,0]
["CEMT VIbCBS_5geladenbeide","CEMT VIb","CBS_5","geladen","beide","CO2",24726.101931425546,13.633333333333333,0.37455465518344622,{"$f":"VLOOKUP(A114,Begin:Einde,7,FALSE)","v":0},1,{"$f":"VLOOKUP(Jaar,Trendfactoren!$A$2:$D$23,4,FALSE)","v":0.98},0,0,0,0,0,0,0,0,0,0,0]
["CEMT VIbCBS_5leegbeide","CEMT VIb","CBS_5","leeg","beide","CO2",14975.316382240615,16.599999999999998,0.27621139105021575,{"$f":"VLOOKUP(A115,Begin:Einde,7,FALSE)","v":0},1,{"$f":"VLOOKUP(Jaar,Trendfactoren!$A$2:$D$23,4,FALSE)","v":0.98},0,0,0,0,0,0,0,0,0,0,0]
["CEMT VIbCBS_6geladenbeide","CEMT VIb","CBS_6","geladen","beide","CO2",29998.832351204732,14.1,0.4699817068355408,{"$f":"VLOOKUP(A116,Begin:Einde,7,FALSE)","v":0},1,{"$f":"VLOOKUP(Jaar,Trendfactoren!$A$2:$D$23,4,FALSE)","v":0.98},0,0,0,0,0,0,0,0,0,0,0]
["CEMT VIbCBS_6leegbeide","CEMT VIb","CBS_6","leeg","beide","CO2",19580.92657707226,18.7,0.40684814110139023,{"$f":"VLOOKUP(A117,Begin:Einde,7,FALSE)","v":0},1,{"$f":"VLOOKUP(Jaar,Trendfactoren!$A$2:$D$23,4,FALSE)","v":0.98},0,0,0,0,0,0,0,0,0,0,0]
["CEMT VIbCBS_7geladenbeide","CEMT VIb","CBS_7","geladen","beide","CO2",38224.665520741131,12.440000000000001,0.52834982119779972,{"$f":"VLOOKUP(A118,Begin:Einde,7,FALSE)","v":0},1,{"$f":"VLOOKUP(Jaar,Trendfactoren!$A$2:$D$23,4,FALSE)","v":0.98},0,0,0,0,0,0,0,0,0,0,0]
["CEMT VIbCBS_7leegbeide","CEMT VIb","CBS_7","leeg","beide","CO2",28550.019398725675,17.580000000000002,0.55767704558844156,{"$f":"VLOOKUP(A119,Begin:Einde,7,FALSE)","v":0},1,{"$f":"VLOOKUP(Jaar,Trendfactoren!$A$2:$D$23,4,FALSE)","v":0.98},0,0,0,0,0,0,0,0,0,0,0]
["CEMT VIbCBS_9geladenbeide","CEMT VIb","CBS_9","geladen","beide","CO2",66342.639257969684,12.4125,0.91497556643283184,{"$f":"VLOOKUP(A120,Begin:Einde,7,FALSE)","v":0},1,{"$f":"VLOOKUP(Jaar,Trendfactoren!$A$2:$D$23,4,FALSE)","v":0.98},0,0,0,0,0,0,0,0,0,0,0]
["CEMT VIbCBS_9leegbeide","CEMT VIb","CBS_9","leeg","beide","CO2",41089.90506028034,18.112500000000001,0.82693433933814187,{"$f":"VLOOKUP(A121,Begin:Einde,7,FALSE)","v":0},1,{"$f":"VLOOKUP(Jaar,Trendfactoren!$A$2:$D$23,4,FALSE)","v":0.98},0,0,0,0,0,0,0,0,0,0,0]
["CEMT VIcCBS_1geladenbeide","CEMT VIc","CBS_1","geladen","beide","CO2",3738.3267354781929,12.7,5.275194393397005E-2,{"$f":"VLOOKUP(A122,Begin:Einde,7,FALSE)","v":0},1,{"$f":"VLOOKUP(Jaar,Trendfactoren!$A$2:$D$23,4,FALSE)","v":0.98},0,0,0,0,0,0,0,0,0,0,0]
["CEMT VIcCBS_1leegbeide","CEMT VIc","CBS_1","leeg","beide","CO2",2220.5974268710115,15.1,3.7256690161946972E-2,{"$f":"VLOOKUP(A123,Begin:Einde,7,FALSE)","v":0},1,{"$f":"VLOOKUP(Jaar,Trendfactoren!$A$2:$D$23,4,FALSE)","v":0.98},0,0,0,0,0,0,0,0,0,0,0]
["CEMT VIcCBS_10geladenbeide","CEMT VIc","CBS_10","geladen","beide","CO2",114875.73945146456,9.4,1.1998132787152966,{"$f":"VLOOKUP(A124,Begin:Einde,7,FALSE)","v":0},1,{"$f":"VLOOKUP(Jaar,Trendfactoren!$A$2:$D$23,4,FALSE)","v":0.98},0,0,0,0,0,0,0,0,0,0,0]
["CEMT VIcCBS_10leegbeide","CEMT VIc","CBS_10","leeg","beide","CO2",74275.767492950399,15.824999999999999,1.306015578417711,{"$f":"VLOOKUP(A125,Begin:Einde,7,FALSE)","v":0},1,{"$f":"VLOOKUP(Jaar,Trendfactoren!$A$2:$D$23,4,FALSE)","v":0.98},0,0,0,0,0,0,0,0,0,0,0]
["CEMT VIcCBS_2geladenbeide","CEMT VIc","CBS_2","geladen","beide","CO2",6454.9908941638778,11.95,8.5707934650287032E-2,{"$f":"VLOOKUP(A126,Begin:Einde,7,FALSE)","v":0},1,{"$f":"VLOOKUP(Jaar,Trendfactoren!$A$2:$D$23,4,FALSE)","v":0.98},0,0,0,0,0,0,0,0,0,0,0]
["CEMT VIcCBS_2leegbeide","CEMT VIc","CBS_2","leeg","beide","CO2",3817.7958112883475,15.05,6.3842029955432922E-2,{"$f":"VLOOKUP(A127,Begin:Einde,7,FALSE)","v":0},1,{"$f":"VLOOKUP(Jaar,Trendfactoren!$A$2:$D$23,4,FALSE)","v":0.98},0,0,0,0,0,0,0,0,0,0,0]
["CEMT VIcCBS_3geladenbeide","CEMT VIc","CBS_3","geladen","beide","CO2",10753.937220936949,11.35,0.13561909717514931,{"$f":"VLOOKUP(A128,Begin:Einde,7,FALSE)","v":0},1,{"$f":"VLOOKUP(Jaar,Trendfactoren!$A$2:$D$23,4,FALSE)","v":0.98},0,0,0,0,0,0,0,0,0,0,0]
["CEMT VIcCBS_3leegbeide","CEMT VIc","CBS_3","leeg","beide","CO2",7038.1536369512123,15.6,0.12199466304048767,{"$f":"VLOOKUP(A129,Begin:Einde,7,FALSE)","v":0},1,{"$f":"VLOOKUP(Jaar,Trendfactoren!$A$2:$D$23,4,FALSE)","v":0.98},0,0,0,0,0,0,0,0,0,0,0]
["CEMT VIcCBS_4geladenbeide","CEMT VIc","CBS_4","geladen","beide","CO2",19202.562469390228,12.219999999999999,{"$f":"+MJperkgCO2*G130/1000*H130/3600","v":0.26072812597327616},{"$f":"VLOOKUP(A130,Begin:Einde,7,FALSE)","v":0},{"$f":"+Afstand","v":1},{"$f":"VLOOKUP(Jaar,Trendfactoren!$A$2:$D$23,4,FALSE)","v":0.98},0,{"$f":"+J130*H130","v":0},0,{"$f":"+O130/+IF($O$895>0,$O$895,1)","v":0},{"$f":"+IF(E130=\"beide\",O130,0)/IF($O$896>0,$O$896,1)","v":0},{"$f":"+IF(E130=\"op\",O130,0)/IF($O$897>0,$O$897,1)","v":0},{"$f":"+IF(E130=\"af\",O130,0)/IF($O$898>0,$O$898,1)","v":0},{"$f":"+S130/$I130","v":0},{"$f":"+Q130/$I130","v":0},{"$f":"+R130/$I130","v":0},0]
[{"$f":"+B131&C131&D131&E131","v":"CEMT VIcCBS_4leegbeide"},"CEMT VIc","CBS_4","leeg","beide","CO2",10722.614263695667,15.280000000000001,0.18204616216585534,{"$f":"VLOOKUP(A131,Begin:Einde,7,FALSE)","v":0},1,{"$f":"VLOOKUP(Jaar,Trendfactoren!$A$2:$D$23,4,FALSE)","v":0.98},{"$f":"+J131*I131*L131","v":0},0,{"$f":"+J131*G131*K131","v":0},0,0,0,0,0,0,0,{"$f":"+P131/I131","v":0}]
["CEMT VIcCBS_5geladenbeide","CEMT VIc","CBS_5","geladen","beide","CO2",24829.704389072776,13.6,0.37520442187932196,{"$f":"VLOOKUP(A132,Begin:Einde,7,FALSE)","v":0},1,{"$f":"VLOOKUP(Jaar,Trendfactoren!$A$2:$D$23,4,FALSE)","v":0.98},0,0,0,0,0,0,0,0,0,0,0]
["CEMT VIcCBS_5leegbeide","CEMT VIc","CBS_5","leeg","beide","CO2",13405.902247625692,15.766666666666667,0.23485154678247971,{"$f":"VLOOKUP(A133,Begin:Einde,7,FALSE)","v":0},1,{"$f":"VLOOKUP(Jaar,Trendfactoren!$A$2:$D$23,4,FALSE)","v":0.98},0,0,0,0,0,0,0,0,0,0,0]
["CEMT VIcCBS_6geladenbeide","CEMT VIc","CBS_6","geladen","beide","CO2",28669.647914626741,13.8,0.43960126802427668,{"$f":"VLOOKUP(A134,Begin:Einde,7,FALSE)","v":0},1,{"$f":"VLOOKUP(Jaar,Trendfactoren!$A$2:$D$23,4,FALSE)","v":0.98},0,0,0,0,0,0,0,0,0,0,0]
["CEMT VIcCBS_6leegbeide","CEMT VIc","CBS_6","leeg","beide","CO2",18520.776800974163,18.2,0.37453126419747751,{"$f":"VLOOKUP(A135,Begin:Einde,7,FALSE)","v":0},1,{"$f":"VLOOKUP(Jaar,Trendfactoren!$A$2:$D$23,4,FALSE)","v":0.98},0,0,0,0,0,0,0,0,0,0,0]
["CEMT VIcCBS_7geladenbeide","CEMT VIc","CBS_7","geladen","beide","CO2",35865.331120697221,12.02,0.47900142230086734,{"$f":"VLOOKUP(A136,Begin:Einde,7,FALSE)","v":0},1,{"$f":"VLOOKUP(Jaar,Trendfactoren!$A$2:$D$23,4,FALSE)","v":0.98},0,0,0,0,0,0,0,0,0,0,0]
["CEMT VIcCBS_7leegbeide","CEMT VIc","CBS_7","leeg","beide","CO2",25185.49557953906,16.600000000000001,0.46453247402260933,{"$f":"VLOOKUP(A137,Begin:Einde,7,FALSE)","v":0},1,{"$f":"VLOOKUP(Jaar,Trendfactoren!$A$2:$D$23,4,FALSE)","v":0.98},0,0,0,0,0,0,0,0,0,0,0]
["CEMT VIcCBS_9geladenbeide","CEMT VIc","CBS_9","geladen","beide","CO2",63164.837202679024,11.95,0.83868867174668249,{"$f":"VLOOKUP(A138,Begin:Einde,7,FALSE)","v":0},1,{"$f":"VLOOKUP(Jaar,Trendfactoren!$A$2:$D$23,4,FALSE)","v":0.98},0,0,0,0,0,0,0,0,0,0,0]
["CEMT VIcCBS_9leegbeide","CEMT VIc","CBS_9","leeg","beide","CO2",37734.086549512191,17,0.71275496815745254,{"$f":"VLOOKUP(A139,Begin:Einde,7,FALSE)","v":0},1,{"$f":"VLOOKUP(Jaar,Trendfactoren!$A$2:$D$23,4,FALSE)","v":0.98},0,0,0,0,0,0,0,0,0,0,0]
["IJsselCBS_1geladenaf","IJssel","CBS_1","geladen","af","CO2",4561.4967089902457,15.3,7.7545444052834187E-2,{"$f":"VLOOKUP(A140,Begin:Einde,7,FALSE)","v":0},1,{"$f":"VLOOKUP(Jaar,Trendfactoren!$A$2:$D$23,4,FALSE)","v":0.98},0,0,0,0,0,0,0,0,0,0,0]
["IJsselCBS_1geladenop","IJssel","CBS_1","geladen","op","CO2",3838.9289598223972,11.2,4.7773338166678725E-2,{"$f":"VLOOKUP(A141,Begin:Einde,7,FALSE)","v":0},1,{"$f":"VLOOKUP(Jaar,Trendfactoren!$A$2:$D$23,4,FALSE)","v":0.98},0,0,0,0,0,0,0,0,0,0,0]
["IJsselCBS_1leegaf","IJssel","CBS_1","leeg","af","CO2",2050.1714058528491,15.9,3.6219694836733672E-2,{"$f":"VLOOKUP(A142,Begin:Einde,7,FALSE)","v":0},1,{"$f":"VLOOKUP(Jaar,Trendfactoren!$A$2:$D$23,4,FALSE)","v":0.98},0,0,0,0,0,0,0,0,0,0,0]
["IJsselCBS_1leegop","IJssel","CBS_1","leeg","op","CO2",2722.7781891238392,15.100000000000001,4.5682167395299976E-2,{"$f":"VLOOKUP(A143,Begin:Einde,7,FALSE)","v":0},1,{"$f":"VLOOKUP(Jaar,Trendfactoren!$A$2:$D$23,4,FALSE)","v":0.98},0,0,0,0,0,0,0,0,0,0,0]
["IJsselCBS_2geladenaf","IJssel","CBS_2","geladen","af","CO2",5915.4122979764643,9.85,6.4740901261186853E-2,{"$f":"VLOOKUP(A144,Begin:Einde,7,FALSE)","v":0},1,{"$f":"VLOOKUP(Jaar,Trendfactoren!$A$2:$D$23,4,FALSE)","v":0.98},0,0,0,0,0,0,0,0,0,0,0]
["IJsselCBS_2geladenop","IJssel","CBS_2","geladen","op","CO2",8761.1970719424207,8.5,8.2744639012789542E-2,{"$f":"VLOOKUP(A145,Begin:Einde,7,FALSE)","v":0},1,{"$f":"VLOOKUP(Jaar,Trendfactoren!$A$2:$D$23,4,FALSE)","v":0.98},0,0,0,0,0,0,0,0,0,0,0]
["IJsselCBS_2leegaf","IJssel","CBS_2","leeg","af","CO2",3891.0518653089034,16.100000000000001,6.9606594479414835E-2,{"$f":"VLOOKUP(A146,Begin:Einde,7,FALSE)","v":0},1,{"$f":"VLOOKUP(Jaar,Trendfactoren!$A$2:$D$23,4,FALSE)","v":0.98},0,0,0,0,0,0,0,0,0,0,0]
["IJsselCBS_2leegop","IJssel","CBS_2","leeg","op","CO2",4756.2067475589993,14.9,7.8741645042921221E-2,{"$f":"VLOOKUP(A147,Begin:Einde,7,FALSE)","v":0},1,{"$f":"VLOOKUP(Jaar,Trendfactoren!$A$2:$D$23,4,FALSE)","v":0.98},0,0,0,0,0,0,0,0,0,0,0]
["IJsselCBS_3geladenaf","IJssel","CBS_3","geladen","af","CO2",10478.173744328746,10.399999999999999,0.12108111882335439,{"$f":"VLOOKUP(A148,Begin:Einde,7,FALSE)","v":0},1,{"$f":"VLOOKUP(Jaar,Trendfactoren!$A$2:$D$23,4,FALSE)","v":0.98},0,0,0,0,0,0,0,0,0,0,0]
["IJsselCBS_3geladenop","IJssel","CBS_3","geladen","op","CO2",13869.306979750587,8.9499999999999993,0.13792255274307527,{"$f":"VLOOKUP(A149,Begin:Einde,7,FALSE)","v":0},1,{"$f":"VLOOKUP(Jaar,Trendfactoren!$A$2:$D$23,4,FALSE)","v":0.98},0,0,0,0,0,0,0,0,0,0,0]
["IJsselCBS_3leegaf","IJssel","CBS_3","leeg","af","CO2",7053.0168778584975,16.75,0.13126448078236647,{"$f":"VLOOKUP(A150,Begin:Einde,7,FALSE)","v":0},1,{"$f":"VLOOKUP(Jaar,Trendfactoren!$A$2:$D$23,4,FALSE)","v":0.98},0,0,0,0,0,0,0,0,0,0,0]
["IJsselCBS_3leegop","IJssel","CBS_3","leeg","op","CO2",8718.5342215716901,15.4,0.14918380779133783,{"$f":"VLOOKUP(A151,Begin:Einde,7,FALSE)","v":0},1,{"$f":"VLOOKUP(Jaar,Trendfactoren!$A$2:$D$23,4,FALSE)","v":0.98},0,0,0,0,0,0,0,0,0,0,0]
["IJsselCBS_4geladenaf","IJssel","CBS_4","geladen","af","CO2",12740.409294387917,10.76,0.15231867111957109,{"$f":"VLOOKUP(A152,Begin:Einde,7,FALSE)","v":0},1,{"$f":"VLOOKUP(Jaar,Trendfactoren!$A$2:$D$23,4,FALSE)","v":0.98},0,0,0,0,0,0,0,0,0,0,0]
["IJsselCBS_4geladenop","IJssel","CBS_4","geladen","op","CO2",17348.230204005722,8.2199999999999989,0.15844716919658561,{"$f":"VLOOKUP(A153,Begin:Einde,7,FALSE)","v":0},1,{"$f":"VLOOKUP(Jaar,Trendfactoren!$A$2:$D$23,4,FALSE)","v":0.98},0,0,0,0,0,0,0,0,0,0,0]
["IJsselCBS_4leegaf","IJssel","CBS_4","leeg","af","CO2",9643.515427044551,15.379999999999999,0.16479696363105023,{"$f":"VLOOKUP(A154,Begin:Einde,7,FALSE)","v":0},1,{"$f":"VLOOKUP(Jaar,Trendfactoren!$A$2:$D$23,4,FALSE)","v":0.98},0,0,0,0,0,0,0,0,0,0,0]
["IJsselCBS_4leegop","IJssel","CBS_4","leeg","op","CO2",11904.338488490233,14.079999999999998,0.1862367621310472,{"$f":"VLOOKUP(A155,Begin:Einde,7,FALSE)","v":0},1,{"$f":"VLOOKUP(Jaar,Trendfactoren!$A$2:$D$23,4,FALSE)","v":0.98},0,0,0,0,0,0,0,0,0,0,0]
["IJsselCBS_5geladenaf","IJssel","CBS_5","geladen","af","CO2",15971.423317596547,8.9333333333333318,0.15853116478206941,{"$f":"VLOOKUP(A156,Begin:Einde,7,FALSE)","v":0},1,{"$f":"VLOOKUP(Jaar,Trendfactoren!$A$2:$D$23,4,FALSE)","v":0.98},0,0,0,0,0,0,0,0,0,0,0]
["IJsselCBS_5geladenop","IJssel","CBS_5","geladen","op","CO2",22895.111037981886,7.3666666666666671,0.18740072368125915,{"$f":"VLOOKUP(A157,Begin:Einde,7,FALSE)","v":0},1,{"$f":"VLOOKUP(Jaar,Trendfactoren!$A$2:$D$23,4,FALSE)","v":0.98},0,0,0,0,0,0,0,0,0,0,0]
["IJsselCBS_5leegaf","IJssel","CBS_5","leeg","af","CO2",11762.495041532582,16.533333333333331,0.21608139039259852,{"$f":"VLOOKUP(A158,Begin:Einde,7,FALSE)","v":0},1,{"$f":"VLOOKUP(Jaar,Trendfactoren!$A$2:$D$23,4,FALSE)","v":0.98},0,0,0,0,0,0,0,0,0,0,0]
["IJsselCBS_5leegop","IJssel","CBS_5","leeg","op","CO2",14854.889322916488,15.299999999999999,0.25253311848958027,{"$f":"VLOOKUP(A159,Begin:Einde,7,FALSE)","v":0},1,{"$f":"VLOOKUP(Jaar,Trendfactoren!$A$2:$D$23,4,FALSE)","v":0.98},0,0,0,0,0,0,0,0,0,0,0]
["IJsselCBS_6geladenaf","IJssel","CBS_6","geladen","af","CO2",12345.292107350135,6.2,8.5045345628412039E-2,{"$f":"VLOOKUP(A160,Begin:Einde,7,FALSE)","v":0},1,{"$f":"VLOOKUP(Jaar,Trendfactoren!$A$2:$D$23,4,FALSE)","v":0.98},0,0,0,0,0,0,0,0,0,0,0]
["IJsselCBS_6geladenop","IJssel","CBS_6","geladen","op","CO2",19418.812451400616,4.4000000000000004,9.4936416429069678E-2,{"$f":"VLOOKUP(A161,Begin:Einde,7,FALSE)","v":0},1,{"$f":"VLOOKUP(Jaar,Trendfactoren!$A$2:$D$23,4,FALSE)","v":0.98},0,0,0,0,0,0,0,0,0,0,0]
["IJsselCBS_6leegaf","IJssel","CBS_6","leeg","af","CO2",12971.181028100193,16.3,0.23492250084225905,{"$f":"VLOOKUP(A162,Begin:Einde,7,FALSE)","v":0},1,{"$f":"VLOOKUP(Jaar,Trendfactoren!$A$2:$D$23,4,FALSE)","v":0.98},0,0,0,0,0,0,0,0,0,0,0]
["IJsselCBS_6leegop","IJssel","CBS_6","leeg","op","CO2",16307.582422955971,15,0.27179304038259955,{"$f":"VLOOKUP(A163,Begin:Einde,7,FALSE)","v":0},1,{"$f":"VLOOKUP(Jaar,Trendfactoren!$A$2:$D$23,4,FALSE)","v":0.98},0,0,0,0,0,0,0,0,0,0,0]
["IJsselCBS_7geladenaf","IJssel","CBS_7","geladen","af","CO2",23534.762548292012,7.333333333333333,0.19176473187497192,{"$f":"VLOOKUP(A164,Begin:Einde,7,FALSE)","v":0},1,{"$f":"VLOOKUP(Jaar,Trendfactoren!$A$2:$D$23,4,FALSE)","v":0.98},0,0,0,0,0,0,0,0,0,0,0]
["IJsselCBS_7geladenop","IJssel","CBS_7","geladen","op","CO2",27844.91038072425,5.3999999999999995,0.16706946228434547,{"$f":"VLOOKUP(A165,Begin:Einde,7,FALSE)","v":0},1,{"$f":"VLOOKUP(Jaar,Trendfactoren!$A$2:$D$23,4,FALSE)","v":0.98},0,0,0,0,0,0,0,0,0,0,0]
["IJsselCBS_7leegaf","IJssel","CBS_7","leeg","af","CO2",16474.033803349979,15.966666666666669,0.29226156265943115,{"$f":"VLOOKUP(A166,Begin:Einde,7,FALSE)","v":0},1,{"$f":"VLOOKUP(Jaar,Trendfactoren!$A$2:$D$23,4,FALSE)","v":0.98},0,0,0,0,0,0,0,0,0,0,0]
["IJsselCBS_7leegop","IJssel","CBS_7","leeg","op","CO2",20445.743033992101,14.566666666666668,0.3309181372538722,{"$f":"VLOOKUP(A167,Begin:Einde,7,FALSE)","v":0},1,{"$f":"VLOOKUP(Jaar,Trendfactoren!$A$2:$D$23,4,FALSE)","v":0.98},0,0,0,0,0,0,0,0,0,0,0]
["LekCBS_1geladenaf","Lek","CBS_1","geladen","af","CO2",3474.2431413503182,13.5,5.2113647120254777E-2,{"$f":"VLOOKUP(A168,Begin:Einde,7,FALSE)","v":0},1,{"$f":"VLOOKUP(Jaar,Trendfactoren!$A$2:$D$23,4,FALSE)","v":0.98},0,0,0,0,0,0,0,0,0,0,0]
["LekCBS_1geladenop","Lek","CBS_1","geladen","op","CO2",3765.7879593055231,11.6,4.8536822586604515E-2,{"$f":"VLOOKUP(A169,Begin:Einde,7,FALSE)","v":0},1,{"$f":"VLOOKUP(Jaar,Trendfactoren!$A$2:$D$23,4,FALSE)","v":0.98},0,0,0,0,0,0,0,0,0,0,0]
["LekCBS_1leegaf","Lek","CBS_1","leeg","af","CO2",2045.8652758527355,15.700000000000001,3.568898314543105E-2,{"$f":"VLOOKUP(A170,Begin:Einde,7,FALSE)","v":0},1,{"$f":"VLOOKUP(Jaar,Trendfactoren!$A$2:$D$23,4,FALSE)","v":0.98},0,0,0,0,0,0,0,0,0,0,0]
["LekCBS_1leegop","Lek","CBS_1","leeg","op","CO2",2544.2315439747063,15,4.2403859066245102E-2,{"$f":"VLOOKUP(A171,Begin:Einde,7,FALSE)","v":0},1,{"$f":"VLOOKUP(Jaar,Trendfactoren!$A$2:$D$23,4,FALSE)","v":0.98},0,0,0,0,0,0,0,0,0,0,0]
["LekCBS_2geladenaf","Lek","CBS_2","geladen","af","CO2",5706.3805755452422,10.75,6.815954576345705E-2,{"$f":"VLOOKUP(A172,Begin:Einde,7,FALSE)","v":0},1,{"$f":"VLOOKUP(Jaar,Trendfactoren!$A$2:$D$23,4,FALSE)","v":0.98},0,0,0,0,0,0,0,0,0,0,0]
["LekCBS_2geladenop","Lek","CBS_2","geladen","op","CO2",7139.6423308362455,10.399999999999999,8.2502533600774391E-2,{"$f":"VLOOKUP(A173,Begin:Einde,7,FALSE)","v":0},1,{"$f":"VLOOKUP(Jaar,Trendfactoren!$A$2:$D$23,4,FALSE)","v":0.98},0,0,0,0,0,0,0,0,0,0,0]
["LekCBS_2leegaf","Lek","CBS_2","leeg","af","CO2",3849.8699254743756,16.05,6.8656013670959706E-2,{"$f":"VLOOKUP(A174,Begin:Einde,7,FALSE)","v":0},1,{"$f":"VLOOKUP(Jaar,Trendfactoren!$A$2:$D$23,4,FALSE)","v":0.98},0,0,0,0,0,0,0,0,0,0,0]
["LekCBS_2leegop","Lek","CBS_2","leeg","op","CO2",4551.6870695511816,15.05,7.6114322663050321E-2,{"$f":"VLOOKUP(A175,Begin:Einde,7,FALSE)","v":0},1,{"$f":"VLOOKUP(Jaar,Trendfactoren!$A$2:$D$23,4,FALSE)","v":0.98},0,0,0,0,0,0,0,0,0,0,0]
["LekCBS_3geladenaf","Lek","CBS_3","geladen","af","CO2",10202.330349748858,10.55,0.11959398354427829,{"$f":"VLOOKUP(A176,Begin:Einde,7,FALSE)","v":0},1,{"$f":"VLOOKUP(Jaar,Trendfactoren!$A$2:$D$23,4,FALSE)","v":0.98},0,0,0,0,0,0,0,0,0,0,0]
["LekCBS_3geladenop","Lek","CBS_3","geladen","op","CO2",13075.09196155214,11.149999999999999,0.16198586152367372,{"$f":"VLOOKUP(A177,Begin:Einde,7,FALSE)","v":0},1,{"$f":"VLOOKUP(Jaar,Trendfactoren!$A$2:$D$23,4,FALSE)","v":0.98},0,0,0,0,0,0,0,0,0,0,0]
["LekCBS_3leegaf","Lek","CBS_3","leeg","af","CO2",6804.0755218713502,16.5,0.12474138456764142,{"$f":"VLOOKUP(A178,Begin:Einde,7,FALSE)","v":0},1,{"$f":"VLOOKUP(Jaar,Trendfactoren!$A$2:$D$23,4,FALSE)","v":0.98},0,0,0,0,0,0,0,0,0,0,0]
["LekCBS_3leegop","Lek","CBS_3","leeg","op","CO2",7944.9168245029141,15.349999999999998,0.13550497028457745,{"$f":"VLOOKUP(A179,Begin:Einde,7,FALSE)","v":0},1,{"$f":"VLOOKUP(Jaar,Trendfactoren!$A$2:$D$23,4,FALSE)","v":0.98},0,0,0,0,0,0,0,0,0,0,0]
["LekCBS_4geladenaf","Lek","CBS_4","geladen","af","CO2",15236.70409535941,12.819999999999999,0.21703838500278622,{"$f":"VLOOKUP(A180,Begin:Einde,7,FALSE)","v":0},1,{"$f":"VLOOKUP(Jaar,Trendfactoren!$A$2:$D$23,4,FALSE)","v":0.98},0,0,0,0,0,0,0,0,0,0,0]
["LekCBS_4geladenop","Lek","CBS_4","geladen","op","CO2",21337.027209323853,11.159999999999998,0.26457913739561573,{"$f":"VLOOKUP(A181,Begin:Einde,7,FALSE)","v":0},1,{"$f":"VLOOKUP(Jaar,Trendfactoren!$A$2:$D$23,4,FALSE)","v":0.98},0,0,0,0,0,0,0,0,0,0,0]
["LekCBS_4leegaf","Lek","CBS_4","leeg","af","CO2",11831.519714602757,16.52,0.21717411742804171,{"$f":"VLOOKUP(A182,Begin:Einde,7,FALSE)","v":0},1,{"$f":"VLOOKUP(Jaar,Trendfactoren!$A$2:$D$23,4,FALSE)","v":0.98},0,0,0,0,0,0,0,0,0,0,0]
["LekCBS_4leegop","Lek","CBS_4","leeg","op","CO2",13869.731351909008,15.219999999999999,0.23455256797339455,{"$f":"VLOOKUP(A183,Begin:Einde,7,FALSE)","v":0},1,{"$f":"VLOOKUP(Jaar,Trendfactoren!$A$2:$D$23,4,FALSE)","v":0.98},0,0,0,0,0,0,0,0,0,0,0]
["LekCBS_5geladenaf","Lek","CBS_5","geladen","af","CO2",18822.502308550727,12.700000000000001,0.26560642146510477,{"$f":"VLOOKUP(A184,Begin:Einde,7,FALSE)","v":0},1,{"$f":"VLOOKUP(Jaar,Trendfactoren!$A$2:$D$23,4,FALSE)","v":0.98},0,0,0,0,0,0,0,0,0,0,0]
["LekCBS_5geladenop","Lek","CBS_5","geladen","op","CO2",30053.203132812472,12.666666666666666,0.42297100705439777,{"$f":"VLOOKUP(A185,Begin:Einde,7,FALSE)","v":0},1,{"$f":"VLOOKUP(Jaar,Trendfactoren!$A$2:$D$23,4,FALSE)","v":0.98},0,0,0,0,0,0,0,0,0,0,0]
["LekCBS_5leegaf","Lek","CBS_5","leeg","af","CO2",12957.331689523928,16.599999999999998,0.23899078449566352,{"$f":"VLOOKUP(A186,Begin:Einde,7,FALSE)","v":0},1,{"$f":"VLOOKUP(Jaar,Trendfactoren!$A$2:$D$23,4,FALSE)","v":0.98},0,0,0,0,0,0,0,0,0,0,0]
["LekCBS_5leegop","Lek","CBS_5","leeg","op","CO2",15390.389357505626,15.699999999999998,0.26847679212537584,{"$f":"VLOOKUP(A187,Begin:Einde,7,FALSE)","v":0},1,{"$f":"VLOOKUP(Jaar,Trendfactoren!$A$2:$D$23,4,FALSE)","v":0.98},0,0,0,0,0,0,0,0,0,0,0]
["LekCBS_6geladenaf","Lek","CBS_6","geladen","af","CO2",23702.550082715425,14.100000000000001,0.37133995129587505,{"$f":"VLOOKUP(A188,Begin:Einde,7,FALSE)","v":0},1,{"$f":"VLOOKUP(Jaar,Trendfactoren!$A$2:$D$23,4,FALSE)","v":0.98},0,0,0,0,0,0,0,0,0,0,0]
["LekCBS_6geladenop","Lek","CBS_6","geladen","op","CO2",29953.747990375145,13.299999999999999,0.44264983141332159,{"$f":"VLOOKUP(A189,Begin:Einde,7,FALSE)","v":0},1,{"$f":"VLOOKUP(Jaar,Trendfactoren!$A$2:$D$23,4,FALSE)","v":0.98},0,0,0,0,0,0,0,0,0,0,0]
["LekCBS_6leegaf","Lek","CBS_6","leeg","af","CO2",18473.474423299049,19.5,0.40025861250481271,{"$f":"VLOOKUP(A190,Begin:Einde,7,FALSE)","v":0},1,{"$f":"VLOOKUP(Jaar,Trendfactoren!$A$2:$D$23,4,FALSE)","v":0.98},0,0,0,0,0,0,0,0,0,0,0]
["LekCBS_6leegop","Lek","CBS_6","leeg","op","CO2",21711.481224613581,18.599999999999998,0.44870394530868069,{"$f":"VLOOKUP(A191,Begin:Einde,7,FALSE)","v":0},1,{"$f":"VLOOKUP(Jaar,Trendfactoren!$A$2:$D$23,4,FALSE)","v":0.98},0,0,0,0,0,0,0,0,0,0,0]
["LekCBS_7geladenaf","Lek","CBS_7","geladen","af","CO2",24578.954650434614,11.5,0.31406442053333117,{"$f":"VLOOKUP(A192,Begin:Einde,7,FALSE)","v":0},1,{"$f":"VLOOKUP(Jaar,Trendfactoren!$A$2:$D$23,4,FALSE)","v":0.98},0,0,0,0,0,0,0,0,0,0,0]
["LekCBS_7geladenop","Lek","CBS_7","geladen","op","CO2",32558.744241032564,10.3,0.37261673964737269,{"$f":"VLOOKUP(A193,Begin:Einde,7,FALSE)","v":0},1,{"$f":"VLOOKUP(Jaar,Trendfactoren!$A$2:$D$23,4,FALSE)","v":0.98},0,0,0,0,0,0,0,0,0,0,0]
["LekCBS_7leegaf","Lek","CBS_7","leeg","af","CO2",23817.811381683638,16.899999999999999,{"$f":"+MJperkgCO2*G194/1000*H194/3600","v":0.44724556927828157},{"$f":"VLOOKUP(A194,Begin:Einde,7,FALSE)","v":0},{"$f":"+Afstand","v":1},{"$f":"VLOOKUP(Jaar,Trendfactoren!$A$2:$D$23,4,FALSE)","v":0.98},0,{"$f":"+J194*H194","v":0},0,{"$f":"+O194/+IF($O$895>0,$O$895,1)","v":0},{"$f":"+IF(E194=\"beide\",O194,0)/IF($O$896>0,$O$896,1)","v":0},{"$f":"+IF(E194=\"op\",O194,0)/IF($O$897>0,$O$897,1)","v":0},{"$f":"+IF(E194=\"af\",O194,0)/IF($O$898>0,$O$898,1)","v":0},{"$f":"+S194/$I194","v":0},{"$f":"+Q194/$I194","v":0},{"$f":"+R194/$I194","v":0},0]
[{"$f":"+B195&C195&D195&E195","v":"LekCBS_7leegop"},"Lek","CBS_7","leeg","op","CO2",26189.553549592751,15.580000000000002,0.45337027144739461,{"$f":"VLOOKUP(A195,Begin:Einde,7,FALSE)","v":0},1,{"$f":"VLOOKUP(Jaar,Trendfactoren!$A$2:$D$23,4,FALSE)","v":0.98},{"$f":"+J195*I195*L195","v":0},0,{"$f":"+J195*G195*K195","v":0},0,0,0,0,0,0,0,{"$f":"+P195/I195","v":0}]
["LekCBS_9geladenaf","Lek","CBS_9","geladen","af","CO2",63687.322079498663,12.425000000000001,0.87923886315307875,{"$f":"VLOOKUP(A196,Begin:Einde,7,FALSE)","v":0},1,{"$f":"VLOOKUP(Jaar,Trendfactoren!$A$2:$D$23,4,FALSE)","v":0.98},0,0,0,0,0,0,0,0,0,0,0]
["LekCBS_9geladenop","Lek","CBS_9","geladen","op","CO2",82623.965397375956,10.779999999999998,0.98965149664856955,{"$f":"VLOOKUP(A197,Begin:Einde,7,FALSE)","v":0},1,{"$f":"VLOOKUP(Jaar,Trendfactoren!$A$2:$D$23,4,FALSE)","v":0.98},0,0,0,0,0,0,0,0,0,0,0]
["LekCBS_9leegaf","Lek","CBS_9","leeg","af","CO2",34256.792149406261,19.25,0.73271472097341162,{"$f":"VLOOKUP(A198,Begin:Einde,7,FALSE)","v":0},1,{"$f":"VLOOKUP(Jaar,Trendfactoren!$A$2:$D$23,4,FALSE)","v":0.98},0,0,0,0,0,0,0,0,0,0,0]
["LekCBS_9leegop","Lek","CBS_9","leeg","op","CO2",40307.706362730896,16.916666666666668,0.75763559181799744,{"$f":"VLOOKUP(A199,Begin:Einde,7,FALSE)","v":0},1,{"$f":"VLOOKUP(Jaar,Trendfactoren!$A$2:$D$23,4,FALSE)","v":0.98},0,0,0,0,0,0,0,0,0,0,0]
["WaalCBS_1geladenaf","Waal","CBS_1","geladen","af","CO2",2980.0102162922699,13.4,4.4369040998129348E-2,{"$f":"VLOOKUP(A200,Begin:Einde,7,FALSE)","v":0},1,{"$f":"VLOOKUP(Jaar,Trendfactoren!$A$2:$D$23,4,FALSE)","v":0.98},0,0,0,0,0,0,0,0,0,0,0]
["WaalCBS_1geladenop","Waal","CBS_1","geladen","op","CO2",5037.6575587742736,13,7.2766164737850608E-2,{"$f":"VLOOKUP(A201,Begin:Einde,7,FALSE)","v":0},1,{"$f":"VLOOKUP(Jaar,Trendfactoren!$A$2:$D$23,4,FALSE)","v":0.98},0,0,0,0,0,0,0,0,0,0,0]
["WaalCBS_1leegaf","Waal","CBS_1","leeg","af","CO2",1788.4782634928072,15.5,3.0801570093487236E-2,{"$f":"VLOOKUP(A202,Begin:Einde,7,FALSE)","v":0},1,{"$f":"VLOOKUP(Jaar,Trendfactoren!$A$2:$D$23,4,FALSE)","v":0.98},0,0,0,0,0,0,0,0,0,0,0]
["WaalCBS_1leegop","Waal","CBS_1","leeg","op","CO2",2863.0719427776357,15.3,4.867222302721981E-2,{"$f":"VLOOKUP(A203,Begin:Einde,7,FALSE)","v":0},1,{"$f":"VLOOKUP(Jaar,Trendfactoren!$A$2:$D$23,4,FALSE)","v":0.98},0,0,0,0,0,0,0,0,0,0,0]
["WaalCBS_10geladenaf","Waal","CBS_10","geladen","af","CO2",61786.15643851705,11.175000000000001,0.76717810911158668,{"$f":"VLOOKUP(A204,Begin:Einde,7,FALSE)","v":0},1,{"$f":"VLOOKUP(Jaar,Trendfactoren!$A$2:$D$23,4,FALSE)","v":0.98},0,0,0,0,0,0,0,0,0,0,0]
["WaalCBS_10geladenop","Waal","CBS_10","geladen","op","CO2",146399.56110015523,10.925000000000001,1.7771280055768846,{"$f":"VLOOKUP(A205,Begin:Einde,7,FALSE)","v":0},1,{"$f":"VLOOKUP(Jaar,Trendfactoren!$A$2:$D$23,4,FALSE)","v":0.98},0,0,0,0,0,0,0,0,0,0,0]
["WaalCBS_10leegaf","Waal","CBS_10","leeg","af","CO2",53460.599977429985,16.125,0.95783574959562068,{"$f":"VLOOKUP(A206,Begin:Einde,7,FALSE)","v":0},1,{"$f":"VLOOKUP(Jaar,Trendfactoren!$A$2:$D$23,4,FALSE)","v":0.98},0,0,0,0,0,0,0,0,0,0,0]
["WaalCBS_10leegop","Waal","CBS_10","leeg","op","CO2",72781.644651209659,15.925000000000001,1.2878307678561265,{"$f":"VLOOKUP(A207,Begin:Einde,7,FALSE)","v":0},1,{"$f":"VLOOKUP(Jaar,Trendfactoren!$A$2:$D$23,4,FALSE)","v":0.98},0,0,0,0,0,0,0,0,0,0,0]
["WaalCBS_2geladenaf","Waal","CBS_2","geladen","af","CO2",5063.1158390886703,12.100000000000001,6.8070779614414351E-2,{"$f":"VLOOKUP(A208,Begin:Einde,7,FALSE)","v":0},1,{"$f":"VLOOKUP(Jaar,Trendfactoren!$A$2:$D$23,4,FALSE)","v":0.98},0,0,0,0,0,0,0,0,0,0,0]
["WaalCBS_2geladenop","Waal","CBS_2","geladen","op","CO2",8894.7596643653724,8.6999999999999993,8.5982676755531937E-2,{"$f":"VLOOKUP(A209,Begin:Einde,7,FALSE)","v":0},1,{"$f":"VLOOKUP(Jaar,Trendfactoren!$A$2:$D$23,4,FALSE)","v":0.98},0,0,0,0,0,0,0,0,0,0,0]
["WaalCBS_2leegaf","Waal","CBS_2","leeg","af","CO2",3118.1928740351709,15.5,5.3702210608383497E-2,{"$f":"VLOOKUP(A210,Begin:Einde,7,FALSE)","v":0},1,{"$f":"VLOOKUP(Jaar,Trendfactoren!$A$2:$D$23,4,FALSE)","v":0.98},0,0,0,0,0,0,0,0,0,0,0]
["WaalCBS_2leegop","Waal","CBS_2","leeg","op","CO2",4908.7524813323389,15,8.1812541355538976E-2,{"$f":"VLOOKUP(A211,Begin:Einde,7,FALSE)","v":0},1,{"$f":"VLOOKUP(Jaar,Trendfactoren!$A$2:$D$23,4,FALSE)","v":0.98},0,0,0,0,0,0,0,0,0,0,0]
["WaalCBS_3geladenaf","Waal","CBS_3","geladen","af","CO2",9976.2563253892076,12.75,0.1413302979430138,{"$f":"VLOOKUP(A212,Begin:Einde,7,FALSE)","v":0},1,{"$f":"VLOOKUP(Jaar,Trendfactoren!$A$2:$D$23,4,FALSE)","v":0.98},0,0,0,0,0,0,0,0,0,0,0]
["WaalCBS_3geladenop","Waal","CBS_3","geladen","op","CO2",15540.518487865489,11.399999999999999,0.19684656751296284,{"$f":"VLOOKUP(A213,Begin:Einde,7,FALSE)","v":0},1,{"$f":"VLOOKUP(Jaar,Trendfactoren!$A$2:$D$23,4,FALSE)","v":0.98},0,0,0,0,0,0,0,0,0,0,0]
["WaalCBS_3leegaf","Waal","CBS_3","leeg","af","CO2",5645.3422221680139,16,0.10036163950520914,{"$f":"VLOOKUP(A214,Begin:Einde,7,FALSE)","v":0},1,{"$f":"VLOOKUP(Jaar,Trendfactoren!$A$2:$D$23,4,FALSE)","v":0.98},0,0,0,0,0,0,0,0,0,0,0]
["WaalCBS_3leegop","Waal","CBS_3","leeg","op","CO2",8573.030927552838,15.75,0.15002804123217464,{"$f":"VLOOKUP(A215,Begin:Einde,7,FALSE)","v":0},1,{"$f":"VLOOKUP(Jaar,Trendfactoren!$A$2:$D$23,4,FALSE)","v":0.98},0,0,0,0,0,0,0,0,0,0,0]
["WaalCBS_4geladenaf","Waal","CBS_4","geladen","af","CO2",13967.981449016204,12.98,0.20144933245358926,{"$f":"VLOOKUP(A216,Begin:Einde,7,FALSE)","v":0},1,{"$f":"VLOOKUP(Jaar,Trendfactoren!$A$2:$D$23,4,FALSE)","v":0.98},0,0,0,0,0,0,0,0,0,0,0]
["WaalCBS_4geladenop","Waal","CBS_4","geladen","op","CO2",21682.543068663614,12.02,0.28958240853926287,{"$f":"VLOOKUP(A217,Begin:Einde,7,FALSE)","v":0},1,{"$f":"VLOOKUP(Jaar,Trendfactoren!$A$2:$D$23,4,FALSE)","v":0.98},0,0,0,0,0,0,0,0,0,0,0]
["WaalCBS_4leegaf","Waal","CBS_4","leeg","af","CO2",9311.1574764561956,16.080000000000002,0.16635934691268403,{"$f":"VLOOKUP(A218,Begin:Einde,7,FALSE)","v":0},1,{"$f":"VLOOKUP(Jaar,Trendfactoren!$A$2:$D$23,4,FALSE)","v":0.98},0,0,0,0,0,0,0,0,0,0,0]
["WaalCBS_4leegop","Waal","CBS_4","leeg","op","CO2",13749.990421807766,15.52,0.23711094594050725,{"$f":"VLOOKUP(A219,Begin:Einde,7,FALSE)","v":0},1,{"$f":"VLOOKUP(Jaar,Trendfactoren!$A$2:$D$23,4,FALSE)","v":0.98},0,0,0,0,0,0,0,0,0,0,0]
["WaalCBS_5geladenaf","Waal","CBS_5","geladen","af","CO2",16165.875744884801,13.033333333333333,0.23410583023147988,{"$f":"VLOOKUP(A220,Begin:Einde,7,FALSE)","v":0},1,{"$f":"VLOOKUP(Jaar,Trendfactoren!$A$2:$D$23,4,FALSE)","v":0.98},0,0,0,0,0,0,0,0,0,0,0]
["WaalCBS_5geladenop","Waal","CBS_5","geladen","op","CO2",29129.108203760072,13.1,0.42399035274361879,{"$f":"VLOOKUP(A221,Begin:Einde,7,FALSE)","v":0},1,{"$f":"VLOOKUP(Jaar,Trendfactoren!$A$2:$D$23,4,FALSE)","v":0.98},0,0,0,0,0,0,0,0,0,0,0]
["WaalCBS_5leegaf","Waal","CBS_5","leeg","af","CO2",10638.282408689585,16.166666666666668,0.19109507289683147,{"$f":"VLOOKUP(A222,Begin:Einde,7,FALSE)","v":0},1,{"$f":"VLOOKUP(Jaar,Trendfactoren!$A$2:$D$23,4,FALSE)","v":0.98},0,0,0,0,0,0,0,0,0,0,0]
["WaalCBS_5leegop","Waal","CBS_5","leeg","op","CO2",16171.703350995984,15.866666666666665,0.28510114055829949,{"$f":"VLOOKUP(A223,Begin:Einde,7,FALSE)","v":0},1,{"$f":"VLOOKUP(Jaar,Trendfactoren!$A$2:$D$23,4,FALSE)","v":0.98},0,0,0,0,0,0,0,0,0,0,0]
["WaalCBS_6geladenaf","Waal","CBS_6","geladen","af","CO2",19099.718634884164,14.100000000000001,0.29922892527985195,{"$f":"VLOOKUP(A224,Begin:Einde,7,FALSE)","v":0},1,{"$f":"VLOOKUP(Jaar,Trendfactoren!$A$2:$D$23,4,FALSE)","v":0.98},0,0,0,0,0,0,0,0,0,0,0]
["WaalCBS_6geladenop","Waal","CBS_6","geladen","op","CO2",33181.284444361219,14.1,0.51984012296165905,{"$f":"VLOOKUP(A225,Begin:Einde,7,FALSE)","v":0},1,{"$f":"VLOOKUP(Jaar,Trendfactoren!$A$2:$D$23,4,FALSE)","v":0.98},0,0,0,0,0,0,0,0,0,0,0]
["WaalCBS_6leegaf","Waal","CBS_6","leeg","af","CO2",14552.705382073809,18.5,0.29913894396485052,{"$f":"VLOOKUP(A226,Begin:Einde,7,FALSE)","v":0},1,{"$f":"VLOOKUP(Jaar,Trendfactoren!$A$2:$D$23,4,FALSE)","v":0.98},0,0,0,0,0,0,0,0,0,0,0]
["WaalCBS_6leegop","Waal","CBS_6","leeg","op","CO2",21622.815834531953,18.3,0.43966392196881637,{"$f":"VLOOKUP(A227,Begin:Einde,7,FALSE)","v":0},1,{"$f":"VLOOKUP(Jaar,Trendfactoren!$A$2:$D$23,4,FALSE)","v":0.98},0,0,0,0,0,0,0,0,0,0,0]
["WaalCBS_7geladenaf","Waal","CBS_7","geladen","af","CO2",21703.752620410345,13.12,0.31639248264420411,{"$f":"VLOOKUP(A228,Begin:Einde,7,FALSE)","v":0},1,{"$f":"VLOOKUP(Jaar,Trendfactoren!$A$2:$D$23,4,FALSE)","v":0.98},0,0,0,0,0,0,0,0,0,0,0]
["WaalCBS_7geladenop","Waal","CBS_7","geladen","op","CO2",36925.822241686692,12.959999999999999,0.5317318402802883,{"$f":"VLOOKUP(A229,Begin:Einde,7,FALSE)","v":0},1,{"$f":"VLOOKUP(Jaar,Trendfactoren!$A$2:$D$23,4,FALSE)","v":0.98},0,0,0,0,0,0,0,0,0,0,0]
["WaalCBS_7leegaf","Waal","CBS_7","leeg","af","CO2",18888.157312447816,17.059999999999999,0.35803551527817751,{"$f":"VLOOKUP(A230,Begin:Einde,7,FALSE)","v":0},1,{"$f":"VLOOKUP(Jaar,Trendfactoren!$A$2:$D$23,4,FALSE)","v":0.98},0,0,0,0,0,0,0,0,0,0,0]
["WaalCBS_7leegop","Waal","CBS_7","leeg","op","CO2",28650.728499387293,16.919999999999998,0.53863369578848097,{"$f":"VLOOKUP(A231,Begin:Einde,7,FALSE)","v":0},1,{"$f":"VLOOKUP(Jaar,Trendfactoren!$A$2:$D$23,4,FALSE)","v":0.98},0,0,0,0,0,0,0,0,0,0,0]
["WaalCBS_9geladenaf","Waal","CBS_9","geladen","af","CO2",44965.974070110955,13.862499999999999,0.69260090616323677,{"$f":"VLOOKUP(A232,Begin:Einde,7,FALSE)","v":0},1,{"$f":"VLOOKUP(Jaar,Trendfactoren!$A$2:$D$23,4,FALSE)","v":0.98},0,0,0,0,0,0,0,0,0,0,0]
["WaalCBS_9geladenop","Waal","CBS_9","geladen","op","CO2",62031.73449018789,12.762500000000001,0.87964445714558115,{"$f":"VLOOKUP(A233,Begin:Einde,7,FALSE)","v":0},1,{"$f":"VLOOKUP(Jaar,Trendfactoren!$A$2:$D$23,4,FALSE)","v":0.98},0,0,0,0,0,0,0,0,0,0,0]
["WaalCBS_9leegaf","Waal","CBS_9","leeg","af","CO2",28435.063728844274,17.737500000000001,0.56040771432263925,{"$f":"VLOOKUP(A234,Begin:Einde,7,FALSE)","v":0},1,{"$f":"VLOOKUP(Jaar,Trendfactoren!$A$2:$D$23,4,FALSE)","v":0.98},0,0,0,0,0,0,0,0,0,0,0]
["WaalCBS_9leegop","Waal","CBS_9","leeg","op","CO2",38979.381003057577,17.024999999999999,0.7373599573078391,{"$f":"VLOOKUP(A235,Begin:Einde,7,FALSE)","v":0},1,{"$f":"VLOOKUP(Jaar,Trendfactoren!$A$2:$D$23,4,FALSE)","v":0.98},0,0,0,0,0,0,0,0,0,0,0]
["CEMT IBO1geladenbeide","CEMT I","BO1","geladen","beide","CO2",19274.43754322992,11.1,0.23771806303316897,{"$f":"VLOOKUP(A236,Begin:Einde,7,FALSE)","v":0},1,{"$f":"VLOOKUP(Jaar,Trendfactoren!$A$2:$D$23,4,FALSE)","v":0.98},0,0,0,0,0,0,0,0,0,0,0]
["CEMT IBO1leegbeide","CEMT I","BO1","leeg","beide","CO2",8131.5266890942412,15.4,0.13913945668005701,{"$f":"VLOOKUP(A237,Begin:Einde,7,FALSE)","v":0},1,{"$f":"VLOOKUP(Jaar,Trendfactoren!$A$2:$D$23,4,FALSE)","v":0.98},0,0,0,0,0,0,0,0,0,0,0]
["CEMT IBO2geladenbeide","CEMT I","BO2","geladen","beide","CO2",19723.652756519848,7.6999999999999993,0.16874680691689201,{"$f":"VLOOKUP(A238,Begin:Einde,7,FALSE)","v":0},1,{"$f":"VLOOKUP(Jaar,Trendfactoren!$A$2:$D$23,4,FALSE)","v":0.98},0,0,0,0,0,0,0,0,0,0,0]
["CEMT IBO2leegbeide","CEMT I","BO2","leeg","beide","CO2",8576.8436305606265,13.6,0.12960563708402723,{"$f":"VLOOKUP(A239,Begin:Einde,7,FALSE)","v":0},1,{"$f":"VLOOKUP(Jaar,Trendfactoren!$A$2:$D$23,4,FALSE)","v":0.98},0,0,0,0,0,0,0,0,0,0,0]
["CEMT IBO3geladenbeide","CEMT I","BO3","geladen","beide","CO2",28997.640032246953,8.4,0.27064464030097157,{"$f":"VLOOKUP(A240,Begin:Einde,7,FALSE)","v":0},1,{"$f":"VLOOKUP(Jaar,Trendfactoren!$A$2:$D$23,4,FALSE)","v":0.98},0,0,0,0,0,0,0,0,0,0,0]
["CEMT IBO3leegbeide","CEMT I","BO3","leeg","beide","CO2",10604.430901405023,13.4,0.15788819342091923,{"$f":"VLOOKUP(A241,Begin:Einde,7,FALSE)","v":0},1,{"$f":"VLOOKUP(Jaar,Trendfactoren!$A$2:$D$23,4,FALSE)","v":0.98},0,0,0,0,0,0,0,0,0,0,0]
["CEMT IBO4geladenbeide","CEMT I","BO4","geladen","beide","CO2",53727.916925083504,10.099999999999998,0.6029466232703814,{"$f":"VLOOKUP(A242,Begin:Einde,7,FALSE)","v":0},1,{"$f":"VLOOKUP(Jaar,Trendfactoren!$A$2:$D$23,4,FALSE)","v":0.98},0,0,0,0,0,0,0,0,0,0,0]
["CEMT IBO4leegbeide","CEMT I","BO4","leeg","beide","CO2",11834.013398376677,13.2,0.17356552984285792,{"$f":"VLOOKUP(A243,Begin:Einde,7,FALSE)","v":0},1,{"$f":"VLOOKUP(Jaar,Trendfactoren!$A$2:$D$23,4,FALSE)","v":0.98},0,0,0,0,0,0,0,0,0,0,0]
["CEMT IC1lgeladenbeide","CEMT I","C1l","geladen","beide","CO2",14514.984132599251,8.1999999999999993,0.13224763320812649,{"$f":"VLOOKUP(A244,Begin:Einde,7,FALSE)","v":0},1,{"$f":"VLOOKUP(Jaar,Trendfactoren!$A$2:$D$23,4,FALSE)","v":0.98},0,0,0,0,0,0,0,0,0,0,0]
["CEMT IC1lleegbeide","CEMT I","C1l","leeg","beide","CO2",6786.688237960966,12.7,9.5767711802338076E-2,{"$f":"VLOOKUP(A245,Begin:Einde,7,FALSE)","v":0},1,{"$f":"VLOOKUP(Jaar,Trendfactoren!$A$2:$D$23,4,FALSE)","v":0.98},0,0,0,0,0,0,0,0,0,0,0]
["CEMT IM0geladenbeide","CEMT I","M0","geladen","beide","CO2",3724.2440972107729,10.8,4.4690929166529274E-2,{"$f":"VLOOKUP(A246,Begin:Einde,7,FALSE)","v":0},1,{"$f":"VLOOKUP(Jaar,Trendfactoren!$A$2:$D$23,4,FALSE)","v":0.98},0,0,0,0,0,0,0,0,0,0,0]
["CEMT IM0leegbeide","CEMT I","M0","leeg","beide","CO2",2415.0704911442044,14.6,3.9177810189672653E-2,{"$f":"VLOOKUP(A247,Begin:Einde,7,FALSE)","v":0},1,{"$f":"VLOOKUP(Jaar,Trendfactoren!$A$2:$D$23,4,FALSE)","v":0.98},0,0,0,0,0,0,0,0,0,0,0]
["CEMT IM1geladenbeide","CEMT I","M1","geladen","beide","CO2",12761.033308752263,8.9,0.12619244049766126,{"$f":"VLOOKUP(A248,Begin:Einde,7,FALSE)","v":0},1,{"$f":"VLOOKUP(Jaar,Trendfactoren!$A$2:$D$23,4,FALSE)","v":0.98},0,0,0,0,0,0,0,0,0,0,0]
["CEMT IM1leegbeide","CEMT I","M1","leeg","beide","CO2",7780.174143082344,23.1,0.19969113633911351,{"$f":"VLOOKUP(A249,Begin:Einde,7,FALSE)","v":0},1,{"$f":"VLOOKUP(Jaar,Trendfactoren!$A$2:$D$23,4,FALSE)","v":0.98},0,0,0,0,0,0,0,0,0,0,0]
["CEMT IM2geladenbeide","CEMT I","M2","geladen","beide","CO2",11608.606831472229,6.1,7.8680557413311758E-2,{"$f":"VLOOKUP(A250,Begin:Einde,7,FALSE)","v":0},1,{"$f":"VLOOKUP(Jaar,Trendfactoren!$A$2:$D$23,4,FALSE)","v":0.98},0,0,0,0,0,0,0,0,0,0,0]
["CEMT IM2leegbeide","CEMT I","M2","leeg","beide","CO2",6791.211456420182,13.6,0.10262275089701609,{"$f":"VLOOKUP(A251,Begin:Einde,7,FALSE)","v":0},1,{"$f":"VLOOKUP(Jaar,Trendfactoren!$A$2:$D$23,4,FALSE)","v":0.98},0,0,0,0,0,0,0,0,0,0,0]
["CEMT IM3geladenbeide","CEMT I","M3","geladen","beide","CO2",13201.7410717889,5.9,8.6544747026171681E-2,{"$f":"VLOOKUP(A252,Begin:Einde,7,FALSE)","v":0},1,{"$f":"VLOOKUP(Jaar,Trendfactoren!$A$2:$D$23,4,FALSE)","v":0.98},0,0,0,0,0,0,0,0,0,0,0]
["CEMT IM3leegbeide","CEMT I","M3","leeg","beide","CO2",3574.9821558122294,8.6999999999999993,3.4558160839518216E-2,{"$f":"VLOOKUP(A253,Begin:Einde,7,FALSE)","v":0},1,{"$f":"VLOOKUP(Jaar,Trendfactoren!$A$2:$D$23,4,FALSE)","v":0.98},0,0,0,0,0,0,0,0,0,0,0]
["CEMT IM4geladenbeide","CEMT I","M4","geladen","beide","CO2",13214.463569279789,5.4,7.9286781415678756E-2,{"$f":"VLOOKUP(A254,Begin:Einde,7,FALSE)","v":0},1,{"$f":"VLOOKUP(Jaar,Trendfactoren!$A$2:$D$23,4,FALSE)","v":0.98},0,0,0,0,0,0,0,0,0,0,0]
["CEMT IM4leegbeide","CEMT I","M4","leeg","beide","CO2",4122.7052089023246,8.5,3.8936660306299727E-2,{"$f":"VLOOKUP(A255,Begin:Einde,7,FALSE)","v":0},1,{"$f":"VLOOKUP(Jaar,Trendfactoren!$A$2:$D$23,4,FALSE)","v":0.98},0,0,0,0,0,0,0,0,0,0,0]
["CEMT IM5geladenbeide","CEMT I","M5","geladen","beide","CO2",14285.257911175273,5.4,8.5711547467051646E-2,{"$f":"VLOOKUP(A256,Begin:Einde,7,FALSE)","v":0},1,{"$f":"VLOOKUP(Jaar,Trendfactoren!$A$2:$D$23,4,FALSE)","v":0.98},0,0,0,0,0,0,0,0,0,0,0]
["CEMT IM5leegbeide","CEMT I","M5","leeg","beide","CO2",5106.4980815297449,9,5.106498081529745E-2,{"$f":"VLOOKUP(A257,Begin:Einde,7,FALSE)","v":0},1,{"$f":"VLOOKUP(Jaar,Trendfactoren!$A$2:$D$23,4,FALSE)","v":0.98},0,0,0,0,0,0,0,0,0,0,0]
["CEMT IM6geladenbeide","CEMT I","M6","geladen","beide","CO2",16384.432438147822,2,{"$f":"+MJperkgCO2*G258/1000*H258/3600","v":3.6409849862550719E-2},{"$f":"VLOOKUP(A258,Begin:Einde,7,FALSE)","v":0},{"$f":"+Afstand","v":1},{"$f":"VLOOKUP(Jaar,Trendfactoren!$A$2:$D$23,4,FALSE)","v":0.98},0,{"$f":"+J258*H258","v":0},0,{"$f":"+O258/+IF($O$895>0,$O$895,1)","v":0},{"$f":"+IF(E258=\"beide\",O258,0)/IF($O$896>0,$O$896,1)","v":0},{"$f":"+IF(E258=\"op\",O258,0)/IF($O$897>0,$O$897,1)","v":0},{"$f":"+IF(E258=\"af\",O258,0)/IF($O$898>0,$O$898,1)","v":0},{"$f":"+S258/$I258","v":0},{"$f":"+Q258/$I258","v":0},{"$f":"+R258/$I258","v":0},0]
[{"$f":"+B259&C259&D259&E259","v":"CEMT IM6leegbeide"},"CEMT I","M6","leeg","beide","CO2",11517.351577869196,11.3,0.14460674758880215,{"$f":"VLOOKUP(A259,Begin:Einde,7,FALSE)","v":0},1,{"$f":"VLOOKUP(Jaar,Trendfactoren!$A$2:$D$23,4,FALSE)","v":0.98},{"$f":"+J259*I259*L259","v":0},0,{"$f":"+J259*G259*K259","v":0},0,0,0,0,0,0,0,{"$f":"+P259/I259","v":0}]
["CEMT IIBIgeladenbeide","CEMT II","BI","geladen","beide","CO2",41432.226767700326,6.5,0.29923274887783569,{"$f":"VLOOKUP(A260,Begin:Einde,7,FALSE)","v":0},1,{"$f":"VLOOKUP(Jaar,Trendfactoren!$A$2:$D$23,4,FALSE)","v":0.98},0,0,0,0,0,0,0,0,0,0,0]
["CEMT IIBIleegbeide","CEMT II","BI","leeg","beide","CO2",16594.925589168186,14.3,0.26367492880567228,{"$f":"VLOOKUP(A261,Begin:Einde,7,FALSE)","v":0},1,{"$f":"VLOOKUP(Jaar,Trendfactoren!$A$2:$D$23,4,FALSE)","v":0.98},0,0,0,0,0,0,0,0,0,0,0]
["CEMT IIBO1geladenbeide","CEMT II","BO1","geladen","beide","CO2",16390.35290411178,11.1,0.20214768581737858,{"$f":"VLOOKUP(A262,Begin:Einde,7,FALSE)","v":0},1,{"$f":"VLOOKUP(Jaar,Trendfactoren!$A$2:$D$23,4,FALSE)","v":0.98},0,0,0,0,0,0,0,0,0,0,0]
["CEMT IIBO1leegbeide","CEMT II","BO1","leeg","beide","CO2",7519.5556830045234,15.4,0.12866795279807741,{"$f":"VLOOKUP(A263,Begin:Einde,7,FALSE)","v":0},1,{"$f":"VLOOKUP(Jaar,Trendfactoren!$A$2:$D$23,4,FALSE)","v":0.98},0,0,0,0,0,0,0,0,0,0,0]
["CEMT IIBO2geladenbeide","CEMT II","BO2","geladen","beide","CO2",20165.148796231533,9.3000000000000007,0.20837320422772584,{"$f":"VLOOKUP(A264,Begin:Einde,7,FALSE)","v":0},1,{"$f":"VLOOKUP(Jaar,Trendfactoren!$A$2:$D$23,4,FALSE)","v":0.98},0,0,0,0,0,0,0,0,0,0,0]
["CEMT IIBO2leegbeide","CEMT II","BO2","leeg","beide","CO2",10346.715915132103,15.2,0.17474453545556437,{"$f":"VLOOKUP(A265,Begin:Einde,7,FALSE)","v":0},1,{"$f":"VLOOKUP(Jaar,Trendfactoren!$A$2:$D$23,4,FALSE)","v":0.98},0,0,0,0,0,0,0,0,0,0,0]
["CEMT IIBO3geladenbeide","CEMT II","BO3","geladen","beide","CO2",20506.248981199071,8.4,0.191391657157858,{"$f":"VLOOKUP(A266,Begin:Einde,7,FALSE)","v":0},1,{"$f":"VLOOKUP(Jaar,Trendfactoren!$A$2:$D$23,4,FALSE)","v":0.98},0,0,0,0,0,0,0,0,0,0,0]
["CEMT IIBO3leegbeide","CEMT II","BO3","leeg","beide","CO2",12567.293584441835,14.9,0.2080585271202037,{"$f":"VLOOKUP(A267,Begin:Einde,7,FALSE)","v":0},1,{"$f":"VLOOKUP(Jaar,Trendfactoren!$A$2:$D$23,4,FALSE)","v":0.98},0,0,0,0,0,0,0,0,0,0,0]
["CEMT IIBO4geladenbeide","CEMT II","BO4","geladen","beide","CO2",38400.245822691431,10.1,0.43093609201020383,{"$f":"VLOOKUP(A268,Begin:Einde,7,FALSE)","v":0},1,{"$f":"VLOOKUP(Jaar,Trendfactoren!$A$2:$D$23,4,FALSE)","v":0.98},0,0,0,0,0,0,0,0,0,0,0]
["CEMT IIBO4leegbeide","CEMT II","BO4","leeg","beide","CO2",20234.511765062824,16.8,0.37771088628117272,{"$f":"VLOOKUP(A269,Begin:Einde,7,FALSE)","v":0},1,{"$f":"VLOOKUP(Jaar,Trendfactoren!$A$2:$D$23,4,FALSE)","v":0.98},0,0,0,0,0,0,0,0,0,0,0]
["CEMT IIC1lgeladenbeide","CEMT II","C1l","geladen","beide","CO2",15554.001807138528,11,0.19010446653169311,{"$f":"VLOOKUP(A270,Begin:Einde,7,FALSE)","v":0},1,{"$f":"VLOOKUP(Jaar,Trendfactoren!$A$2:$D$23,4,FALSE)","v":0.98},0,0,0,0,0,0,0,0,0,0,0]
["CEMT IIC1lleegbeide","CEMT II","C1l","leeg","beide","CO2",10242.987901581315,15.6,0.17754512362740946,{"$f":"VLOOKUP(A271,Begin:Einde,7,FALSE)","v":0},1,{"$f":"VLOOKUP(Jaar,Trendfactoren!$A$2:$D$23,4,FALSE)","v":0.98},0,0,0,0,0,0,0,0,0,0,0]
["CEMT IIM0geladenbeide","CEMT II","M0","geladen","beide","CO2",6453.5683112889619,14.2,0.10182296668922584,{"$f":"VLOOKUP(A272,Begin:Einde,7,FALSE)","v":0},1,{"$f":"VLOOKUP(Jaar,Trendfactoren!$A$2:$D$23,4,FALSE)","v":0.98},0,0,0,0,0,0,0,0,0,0,0]
["CEMT IIM0leegbeide","CEMT II","M0","leeg","beide","CO2",3125.6351208574406,16.7,5.7997896131465831E-2,{"$f":"VLOOKUP(A273,Begin:Einde,7,FALSE)","v":0},1,{"$f":"VLOOKUP(Jaar,Trendfactoren!$A$2:$D$23,4,FALSE)","v":0.98},0,0,0,0,0,0,0,0,0,0,0]
["CEMT IIM1geladenbeide","CEMT II","M1","geladen","beide","CO2",10303.403383968767,10.199999999999999,0.11677190501831268,{"$f":"VLOOKUP(A274,Begin:Einde,7,FALSE)","v":0},1,{"$f":"VLOOKUP(Jaar,Trendfactoren!$A$2:$D$23,4,FALSE)","v":0.98},0,0,0,0,0,0,0,0,0,0,0]
["CEMT IIM1leegbeide","CEMT II","M1","leeg","beide","CO2",6497.3556206245285,17.3,0.12489361359644928,{"$f":"VLOOKUP(A275,Begin:Einde,7,FALSE)","v":0},1,{"$f":"VLOOKUP(Jaar,Trendfactoren!$A$2:$D$23,4,FALSE)","v":0.98},0,0,0,0,0,0,0,0,0,0,0]
["CEMT IIM2geladenbeide","CEMT II","M2","geladen","beide","CO2",13658.00400850722,9.1,0.13809759608601743,{"$f":"VLOOKUP(A276,Begin:Einde,7,FALSE)","v":0},1,{"$f":"VLOOKUP(Jaar,Trendfactoren!$A$2:$D$23,4,FALSE)","v":0.98},0,0,0,0,0,0,0,0,0,0,0]
["CEMT IIM2leegbeide","CEMT II","M2","leeg","beide","CO2",9482.0415576917749,16.100000000000001,0.16962318786537509,{"$f":"VLOOKUP(A277,Begin:Einde,7,FALSE)","v":0},1,{"$f":"VLOOKUP(Jaar,Trendfactoren!$A$2:$D$23,4,FALSE)","v":0.98},0,0,0,0,0,0,0,0,0,0,0]
["CEMT IIM3geladenbeide","CEMT II","M3","geladen","beide","CO2",17163.738076421039,9.1,0.17354446277270161,{"$f":"VLOOKUP(A278,Begin:Einde,7,FALSE)","v":0},1,{"$f":"VLOOKUP(Jaar,Trendfactoren!$A$2:$D$23,4,FALSE)","v":0.98},0,0,0,0,0,0,0,0,0,0,0]
["CEMT IIM3leegbeide","CEMT II","M3","leeg","beide","CO2",5978.4409150242527,11.5,7.6391189469754345E-2,{"$f":"VLOOKUP(A279,Begin:Einde,7,FALSE)","v":0},1,{"$f":"VLOOKUP(Jaar,Trendfactoren!$A$2:$D$23,4,FALSE)","v":0.98},0,0,0,0,0,0,0,0,0,0,0]
["CEMT IIM4geladenbeide","CEMT II","M4","geladen","beide","CO2",19681.338427370138,8.6,0.18806612275042575,{"$f":"VLOOKUP(A280,Begin:Einde,7,FALSE)","v":0},1,{"$f":"VLOOKUP(Jaar,Trendfactoren!$A$2:$D$23,4,FALSE)","v":0.98},0,0,0,0,0,0,0,0,0,0,0]
["CEMT IIM4leegbeide","CEMT II","M4","leeg","beide","CO2",9861.5778668380208,13.2,0.14463647538029095,{"$f":"VLOOKUP(A281,Begin:Einde,7,FALSE)","v":0},1,{"$f":"VLOOKUP(Jaar,Trendfactoren!$A$2:$D$23,4,FALSE)","v":0.98},0,0,0,0,0,0,0,0,0,0,0]
["CEMT IIM5geladenbeide","CEMT II","M5","geladen","beide","CO2",24704.843752955254,9.1999999999999993,0.25253840280798701,{"$f":"VLOOKUP(A282,Begin:Einde,7,FALSE)","v":0},1,{"$f":"VLOOKUP(Jaar,Trendfactoren!$A$2:$D$23,4,FALSE)","v":0.98},0,0,0,0,0,0,0,0,0,0,0]
["CEMT IIM5leegbeide","CEMT II","M5","leeg","beide","CO2",6012.731014320917,10.1,6.7476203605156965E-2,{"$f":"VLOOKUP(A283,Begin:Einde,7,FALSE)","v":0},1,{"$f":"VLOOKUP(Jaar,Trendfactoren!$A$2:$D$23,4,FALSE)","v":0.98},0,0,0,0,0,0,0,0,0,0,0]
["CEMT IIM6geladenbeide","CEMT II","M6","geladen","beide","CO2",26738.952910762157,7,0.20796963375037231,{"$f":"VLOOKUP(A284,Begin:Einde,7,FALSE)","v":0},1,{"$f":"VLOOKUP(Jaar,Trendfactoren!$A$2:$D$23,4,FALSE)","v":0.98},0,0,0,0,0,0,0,0,0,0,0]
["CEMT IIM6leegbeide","CEMT II","M6","leeg","beide","CO2",30139.2689061657,16.5,0.55255326327970455,{"$f":"VLOOKUP(A285,Begin:Einde,7,FALSE)","v":0},1,{"$f":"VLOOKUP(Jaar,Trendfactoren!$A$2:$D$23,4,FALSE)","v":0.98},0,0,0,0,0,0,0,0,0,0,0]
["CEMT IIM7geladenbeide","CEMT II","M7","geladen","beide","CO2",27759.346674967681,5.9,0.18197793931367701,{"$f":"VLOOKUP(A286,Begin:Einde,7,FALSE)","v":0},1,{"$f":"VLOOKUP(Jaar,Trendfactoren!$A$2:$D$23,4,FALSE)","v":0.98},0,0,0,0,0,0,0,0,0,0,0]
["CEMT IIM7leegbeide","CEMT II","M7","leeg","beide","CO2",29604.4862645555,15,0.49340810440925836,{"$f":"VLOOKUP(A287,Begin:Einde,7,FALSE)","v":0},1,{"$f":"VLOOKUP(Jaar,Trendfactoren!$A$2:$D$23,4,FALSE)","v":0.98},0,0,0,0,0,0,0,0,0,0,0]
["CEMT IIIBO1geladenbeide","CEMT III","BO1","geladen","beide","CO2",20212.500785609758,12.1,0.27174584389542011,{"$f":"VLOOKUP(A288,Begin:Einde,7,FALSE)","v":0},1,{"$f":"VLOOKUP(Jaar,Trendfactoren!$A$2:$D$23,4,FALSE)","v":0.98},0,0,0,0,0,0,0,0,0,0,0]
["CEMT IIIBO1leegbeide","CEMT III","BO1","leeg","beide","CO2",8492.3318170135608,16.2,0.15286197270624408,{"$f":"VLOOKUP(A289,Begin:Einde,7,FALSE)","v":0},1,{"$f":"VLOOKUP(Jaar,Trendfactoren!$A$2:$D$23,4,FALSE)","v":0.98},0,0,0,0,0,0,0,0,0,0,0]
["CEMT IIIBO2geladenbeide","CEMT III","BO2","geladen","beide","CO2",19666.311759215921,9.1999999999999993,0.20103340909420719,{"$f":"VLOOKUP(A290,Begin:Einde,7,FALSE)","v":0},1,{"$f":"VLOOKUP(Jaar,Trendfactoren!$A$2:$D$23,4,FALSE)","v":0.98},0,0,0,0,0,0,0,0,0,0,0]
["CEMT IIIBO2leegbeide","CEMT III","BO2","leeg","beide","CO2",11768.344492041491,16,0.20921501319184874,{"$f":"VLOOKUP(A291,Begin:Einde,7,FALSE)","v":0},1,{"$f":"VLOOKUP(Jaar,Trendfactoren!$A$2:$D$23,4,FALSE)","v":0.98},0,0,0,0,0,0,0,0,0,0,0]
["CEMT IIIBO3geladenbeide","CEMT III","BO3","geladen","beide","CO2",22815.67332242132,8.8000000000000007,0.2230865835970085,{"$f":"VLOOKUP(A292,Begin:Einde,7,FALSE)","v":0},1,{"$f":"VLOOKUP(Jaar,Trendfactoren!$A$2:$D$23,4,FALSE)","v":0.98},0,0,0,0,0,0,0,0,0,0,0]
["CEMT IIIBO3leegbeide","CEMT III","BO3","leeg","beide","CO2",13195.716989589737,15.2,0.22286099804640444,{"$f":"VLOOKUP(A293,Begin:Einde,7,FALSE)","v":0},1,{"$f":"VLOOKUP(Jaar,Trendfactoren!$A$2:$D$23,4,FALSE)","v":0.98},0,0,0,0,0,0,0,0,0,0,0]
["CEMT IIIBO4geladenbeide","CEMT III","BO4","geladen","beide","CO2",25185.27926451862,8.5,0.23786097083156474,{"$f":"VLOOKUP(A294,Begin:Einde,7,FALSE)","v":0},1,{"$f":"VLOOKUP(Jaar,Trendfactoren!$A$2:$D$23,4,FALSE)","v":0.98},0,0,0,0,0,0,0,0,0,0,0]
["CEMT IIIBO4leegbeide","CEMT III","BO4","leeg","beide","CO2",20234.511765062842,16.8,0.37771088628117305,{"$f":"VLOOKUP(A295,Begin:Einde,7,FALSE)","v":0},1,{"$f":"VLOOKUP(Jaar,Trendfactoren!$A$2:$D$23,4,FALSE)","v":0.98},0,0,0,0,0,0,0,0,0,0,0]
["CEMT IIIC1lgeladenbeide","CEMT III","C1l","geladen","beide","CO2",12218.63578967367,9.9,0.13440499368641037,{"$f":"VLOOKUP(A296,Begin:Einde,7,FALSE)","v":0},1,{"$f":"VLOOKUP(Jaar,Trendfactoren!$A$2:$D$23,4,FALSE)","v":0.98},0,0,0,0,0,0,0,0,0,0,0]
["CEMT IIIC1lleegbeide","CEMT III","C1l","leeg","beide","CO2",7667.6860150997727,13.9,0.11842315067765205,{"$f":"VLOOKUP(A297,Begin:Einde,7,FALSE)","v":0},1,{"$f":"VLOOKUP(Jaar,Trendfactoren!$A$2:$D$23,4,FALSE)","v":0.98},0,0,0,0,0,0,0,0,0,0,0]
["CEMT IIIM0geladenbeide","CEMT III","M0","geladen","beide","CO2",4564.6135060661882,12.3,6.2383051249571247E-2,{"$f":"VLOOKUP(A298,Begin:Einde,7,FALSE)","v":0},1,{"$f":"VLOOKUP(Jaar,Trendfactoren!$A$2:$D$23,4,FALSE)","v":0.98},0,0,0,0,0,0,0,0,0,0,0]
["CEMT IIIM0leegbeide","CEMT III","M0","leeg","beide","CO2",2701.3287732401677,15.7,4.7123179710967369E-2,{"$f":"VLOOKUP(A299,Begin:Einde,7,FALSE)","v":0},1,{"$f":"VLOOKUP(Jaar,Trendfactoren!$A$2:$D$23,4,FALSE)","v":0.98},0,0,0,0,0,0,0,0,0,0,0]
["CEMT IIIM1geladenbeide","CEMT III","M1","geladen","beide","CO2",12068.719083203267,10.9,0.14616559778546176,{"$f":"VLOOKUP(A300,Begin:Einde,7,FALSE)","v":0},1,{"$f":"VLOOKUP(Jaar,Trendfactoren!$A$2:$D$23,4,FALSE)","v":0.98},0,0,0,0,0,0,0,0,0,0,0]
["CEMT IIIM1leegbeide","CEMT III","M1","leeg","beide","CO2",8670.0810184757629,24.3,0.23409218749884558,{"$f":"VLOOKUP(A301,Begin:Einde,7,FALSE)","v":0},1,{"$f":"VLOOKUP(Jaar,Trendfactoren!$A$2:$D$23,4,FALSE)","v":0.98},0,0,0,0,0,0,0,0,0,0,0]
["CEMT IIIM2geladenbeide","CEMT III","M2","geladen","beide","CO2",14385.018701901838,9.3000000000000007,0.14864519325298567,{"$f":"VLOOKUP(A302,Begin:Einde,7,FALSE)","v":0},1,{"$f":"VLOOKUP(Jaar,Trendfactoren!$A$2:$D$23,4,FALSE)","v":0.98},0,0,0,0,0,0,0,0,0,0,0]
["CEMT IIIM2leegbeide","CEMT III","M2","leeg","beide","CO2",8825.5539619954034,15.7,0.15395688578147534,{"$f":"VLOOKUP(A303,Begin:Einde,7,FALSE)","v":0},1,{"$f":"VLOOKUP(Jaar,Trendfactoren!$A$2:$D$23,4,FALSE)","v":0.98},0,0,0,0,0,0,0,0,0,0,0]
["CEMT IIIM3geladenbeide","CEMT III","M3","geladen","beide","CO2",17624.928252609272,9.1999999999999993,0.18016593324889477,{"$f":"VLOOKUP(A304,Begin:Einde,7,FALSE)","v":0},1,{"$f":"VLOOKUP(Jaar,Trendfactoren!$A$2:$D$23,4,FALSE)","v":0.98},0,0,0,0,0,0,0,0,0,0,0]
["CEMT IIIM3leegbeide","CEMT III","M3","leeg","beide","CO2",11386.913011198345,15.1,0.19104709607677223,{"$f":"VLOOKUP(A305,Begin:Einde,7,FALSE)","v":0},1,{"$f":"VLOOKUP(Jaar,Trendfactoren!$A$2:$D$23,4,FALSE)","v":0.98},0,0,0,0,0,0,0,0,0,0,0]
["CEMT IIIM4geladenbeide","CEMT III","M4","geladen","beide","CO2",19681.338427370149,8.6,0.18806612275042586,{"$f":"VLOOKUP(A306,Begin:Einde,7,FALSE)","v":0},1,{"$f":"VLOOKUP(Jaar,Trendfactoren!$A$2:$D$23,4,FALSE)","v":0.98},0,0,0,0,0,0,0,0,0,0,0]
["CEMT IIIM4leegbeide","CEMT III","M4","leeg","beide","CO2",12494.878514073516,14.5,0.20130637606007332,{"$f":"VLOOKUP(A307,Begin:Einde,7,FALSE)","v":0},1,{"$f":"VLOOKUP(Jaar,Trendfactoren!$A$2:$D$23,4,FALSE)","v":0.98},0,0,0,0,0,0,0,0,0,0,0]
["CEMT IIIM5geladenbeide","CEMT III","M5","geladen","beide","CO2",17111.897452471108,7.9,0.15020443319391305,{"$f":"VLOOKUP(A308,Begin:Einde,7,FALSE)","v":0},1,{"$f":"VLOOKUP(Jaar,Trendfactoren!$A$2:$D$23,4,FALSE)","v":0.98},0,0,0,0,0,0,0,0,0,0,0]
["CEMT IIIM5leegbeide","CEMT III","M5","leeg","beide","CO2",12517.102076526167,14,0.19471047674596262,{"$f":"VLOOKUP(A309,Begin:Einde,7,FALSE)","v":0},1,{"$f":"VLOOKUP(Jaar,Trendfactoren!$A$2:$D$23,4,FALSE)","v":0.98},0,0,0,0,0,0,0,0,0,0,0]
["CEMT IIIM6geladenbeide","CEMT III","M6","geladen","beide","CO2",30837.182406655775,7.5,0.25697652005546479,{"$f":"VLOOKUP(A310,Begin:Einde,7,FALSE)","v":0},1,{"$f":"VLOOKUP(Jaar,Trendfactoren!$A$2:$D$23,4,FALSE)","v":0.98},0,0,0,0,0,0,0,0,0,0,0]
["CEMT IIIM6leegbeide","CEMT III","M6","leeg","beide","CO2",19750.771361419436,14.7,0.32259593223651739,{"$f":"VLOOKUP(A311,Begin:Einde,7,FALSE)","v":0},1,{"$f":"VLOOKUP(Jaar,Trendfactoren!$A$2:$D$23,4,FALSE)","v":0.98},0,0,0,0,0,0,0,0,0,0,0]
["CEMT IVBIgeladenbeide","CEMT IV","BI","geladen","beide","CO2",37321.127112956652,9.1,0.37735806303100616,{"$f":"VLOOKUP(A312,Begin:Einde,7,FALSE)","v":0},1,{"$f":"VLOOKUP(Jaar,Trendfactoren!$A$2:$D$23,4,FALSE)","v":0.98},0,0,0,0,0,0,0,0,0,0,0]
["CEMT IVBIleegbeide","CEMT IV","BI","leeg","beide","CO2",19534.415408520243,16.399999999999999,0.35596045855525771,{"$f":"VLOOKUP(A313,Begin:Einde,7,FALSE)","v":0},1,{"$f":"VLOOKUP(Jaar,Trendfactoren!$A$2:$D$23,4,FALSE)","v":0.98},0,0,0,0,0,0,0,0,0,0,0]
["CEMT IVBII-1geladenbeide","CEMT IV","BII-1","geladen","beide","CO2",40641.757013980299,4.3,0.1941772835112392,{"$f":"VLOOKUP(A314,Begin:Einde,7,FALSE)","v":0},1,{"$f":"VLOOKUP(Jaar,Trendfactoren!$A$2:$D$23,4,FALSE)","v":0.98},0,0,0,0,0,0,0,0,0,0,0]
["CEMT IVBII-1leegbeide","CEMT IV","BII-1","leeg","beide","CO2",22772.776155330845,14.9,0.37701596079381067,{"$f":"VLOOKUP(A315,Begin:Einde,7,FALSE)","v":0},1,{"$f":"VLOOKUP(Jaar,Trendfactoren!$A$2:$D$23,4,FALSE)","v":0.98},0,0,0,0,0,0,0,0,0,0,0]
["CEMT IVBO1geladenbeide","CEMT IV","BO1","geladen","beide","CO2",18431.818931088987,13,0.26623738456017426,{"$f":"VLOOKUP(A316,Begin:Einde,7,FALSE)","v":0},1,{"$f":"VLOOKUP(Jaar,Trendfactoren!$A$2:$D$23,4,FALSE)","v":0.98},0,0,0,0,0,0,0,0,0,0,0]
["CEMT IVBO1leegbeide","CEMT IV","BO1","leeg","beide","CO2",7491.6043131746428,16,0.13318407667866031,{"$f":"VLOOKUP(A317,Begin:Einde,7,FALSE)","v":0},1,{"$f":"VLOOKUP(Jaar,Trendfactoren!$A$2:$D$23,4,FALSE)","v":0.98},0,0,0,0,0,0,0,0,0,0,0]
["CEMT IVBO2geladenbeide","CEMT IV","BO2","geladen","beide","CO2",25149.909544461567,11.9,0.33253769286565854,{"$f":"VLOOKUP(A318,Begin:Einde,7,FALSE)","v":0},1,{"$f":"VLOOKUP(Jaar,Trendfactoren!$A$2:$D$23,4,FALSE)","v":0.98},0,0,0,0,0,0,0,0,0,0,0]
["CEMT IVBO2leegbeide","CEMT IV","BO2","leeg","beide","CO2",10792.546682757109,16.3,0.19546501214326767,{"$f":"VLOOKUP(A319,Begin:Einde,7,FALSE)","v":0},1,{"$f":"VLOOKUP(Jaar,Trendfactoren!$A$2:$D$23,4,FALSE)","v":0.98},0,0,0,0,0,0,0,0,0,0,0]
["CEMT IVBO3geladenbeide","CEMT IV","BO3","geladen","beide","CO2",30925.111204699861,11.9,0.40889869259547595,{"$f":"VLOOKUP(A320,Begin:Einde,7,FALSE)","v":0},1,{"$f":"VLOOKUP(Jaar,Trendfactoren!$A$2:$D$23,4,FALSE)","v":0.98},0,0,0,0,0,0,0,0,0,0,0]
["CEMT IVBO3leegbeide","CEMT IV","BO3","leeg","beide","CO2",15159.798861863123,17.100000000000001,0.28803617837539935,{"$f":"VLOOKUP(A321,Begin:Einde,7,FALSE)","v":0},1,{"$f":"VLOOKUP(Jaar,Trendfactoren!$A$2:$D$23,4,FALSE)","v":0.98},0,0,0,0,0,0,0,0,0,0,0]
["CEMT IVBO4geladenbeide","CEMT IV","BO4","geladen","beide","CO2",31587.553545464372,11.3,{"$f":"+MJperkgCO2*G322/1000*H322/3600","v":0.39659928340416378},{"$f":"VLOOKUP(A322,Begin:Einde,7,FALSE)","v":0},{"$f":"+Afstand","v":1},{"$f":"VLOOKUP(Jaar,Trendfactoren!$A$2:$D$23,4,FALSE)","v":0.98},0,{"$f":"+J322*H322","v":0},0,{"$f":"+O322/+IF($O$895>0,$O$895,1)","v":0},{"$f":"+IF(E322=\"beide\",O322,0)/IF($O$896>0,$O$896,1)","v":0},{"$f":"+IF(E322=\"op\",O322,0)/IF($O$897>0,$O$897,1)","v":0},{"$f":"+IF(E322=\"af\",O322,0)/IF($O$898>0,$O$898,1)","v":0},{"$f":"+S322/$I322","v":0},{"$f":"+Q322/$I322","v":0},{"$f":"+R322/$I322","v":0},0]
[{"$f":"+B323&C323&D323&E323","v":"CEMT IVBO4leegbeide"},"CEMT IV","BO4","leeg","beide","CO2",15263.215292136643,16.2,0.27473787525845955,{"$f":"VLOOKUP(A323,Begin:Einde,7,FALSE)","v":0},1,{"$f":"VLOOKUP(Jaar,Trendfactoren!$A$2:$D$23,4,FALSE)","v":0.98},{"$f":"+J323*I323*L323","v":0},0,{"$f":"+J323*G323*K323","v":0},0,0,0,0,0,0,0,{"$f":"+P323/I323","v":0}]
["CEMT IVC1bgeladenbeide","CEMT IV","C1b","geladen","beide","CO2",22111.006201112396,10.7,0.26287529594655845,{"$f":"VLOOKUP(A324,Begin:Einde,7,FALSE)","v":0},1,{"$f":"VLOOKUP(Jaar,Trendfactoren!$A$2:$D$23,4,FALSE)","v":0.98},0,0,0,0,0,0,0,0,0,0,0]
["CEMT IVC1bleegbeide","CEMT IV","C1b","leeg","beide","CO2",7695.4072285722086,14.3,0.1222714704095362,{"$f":"VLOOKUP(A325,Begin:Einde,7,FALSE)","v":0},1,{"$f":"VLOOKUP(Jaar,Trendfactoren!$A$2:$D$23,4,FALSE)","v":0.98},0,0,0,0,0,0,0,0,0,0,0]
["CEMT IVC1lgeladenbeide","CEMT IV","C1l","geladen","beide","CO2",12832.356908543485,11.7,0.16682063981106529,{"$f":"VLOOKUP(A326,Begin:Einde,7,FALSE)","v":0},1,{"$f":"VLOOKUP(Jaar,Trendfactoren!$A$2:$D$23,4,FALSE)","v":0.98},0,0,0,0,0,0,0,0,0,0,0]
["CEMT IVC1lleegbeide","CEMT IV","C1l","leeg","beide","CO2",9006.7167467911986,15.9,0.15911866252664453,{"$f":"VLOOKUP(A327,Begin:Einde,7,FALSE)","v":0},1,{"$f":"VLOOKUP(Jaar,Trendfactoren!$A$2:$D$23,4,FALSE)","v":0.98},0,0,0,0,0,0,0,0,0,0,0]
["CEMT IVM0geladenbeide","CEMT IV","M0","geladen","beide","CO2",4360.3772405476448,12.9,6.2498740447849574E-2,{"$f":"VLOOKUP(A328,Begin:Einde,7,FALSE)","v":0},1,{"$f":"VLOOKUP(Jaar,Trendfactoren!$A$2:$D$23,4,FALSE)","v":0.98},0,0,0,0,0,0,0,0,0,0,0]
["CEMT IVM0leegbeide","CEMT IV","M0","leeg","beide","CO2",2724.6404844230387,16.3,4.9346266551217252E-2,{"$f":"VLOOKUP(A329,Begin:Einde,7,FALSE)","v":0},1,{"$f":"VLOOKUP(Jaar,Trendfactoren!$A$2:$D$23,4,FALSE)","v":0.98},0,0,0,0,0,0,0,0,0,0,0]
["CEMT IVM1geladenbeide","CEMT IV","M1","geladen","beide","CO2",9647.8462602263353,11.4,0.12220605262953359,{"$f":"VLOOKUP(A330,Begin:Einde,7,FALSE)","v":0},1,{"$f":"VLOOKUP(Jaar,Trendfactoren!$A$2:$D$23,4,FALSE)","v":0.98},0,0,0,0,0,0,0,0,0,0,0]
["CEMT IVM1leegbeide","CEMT IV","M1","leeg","beide","CO2",4926.3672492577352,16.399999999999999,8.9769358764252044E-2,{"$f":"VLOOKUP(A331,Begin:Einde,7,FALSE)","v":0},1,{"$f":"VLOOKUP(Jaar,Trendfactoren!$A$2:$D$23,4,FALSE)","v":0.98},0,0,0,0,0,0,0,0,0,0,0]
["CEMT IVM2geladenbeide","CEMT IV","M2","geladen","beide","CO2",13631.497196292126,10.9,0.16509257715509354,{"$f":"VLOOKUP(A332,Begin:Einde,7,FALSE)","v":0},1,{"$f":"VLOOKUP(Jaar,Trendfactoren!$A$2:$D$23,4,FALSE)","v":0.98},0,0,0,0,0,0,0,0,0,0,0]
["CEMT IVM2leegbeide","CEMT IV","M2","leeg","beide","CO2",9804.2345811561318,17.600000000000001,0.19172725403149773,{"$f":"VLOOKUP(A333,Begin:Einde,7,FALSE)","v":0},1,{"$f":"VLOOKUP(Jaar,Trendfactoren!$A$2:$D$23,4,FALSE)","v":0.98},0,0,0,0,0,0,0,0,0,0,0]
["CEMT IVM3geladenbeide","CEMT IV","M3","geladen","beide","CO2",16439.014151780328,10.9,0.19909472694933952,{"$f":"VLOOKUP(A334,Begin:Einde,7,FALSE)","v":0},1,{"$f":"VLOOKUP(Jaar,Trendfactoren!$A$2:$D$23,4,FALSE)","v":0.98},0,0,0,0,0,0,0,0,0,0,0]
["CEMT IVM3leegbeide","CEMT IV","M3","leeg","beide","CO2",12250.137043586674,16.899999999999999,0.23003035115179421,{"$f":"VLOOKUP(A335,Begin:Einde,7,FALSE)","v":0},1,{"$f":"VLOOKUP(Jaar,Trendfactoren!$A$2:$D$23,4,FALSE)","v":0.98},0,0,0,0,0,0,0,0,0,0,0]
["CEMT IVM4geladenbeide","CEMT IV","M4","geladen","beide","CO2",20211.820183341446,10.9,0.2447875999982464,{"$f":"VLOOKUP(A336,Begin:Einde,7,FALSE)","v":0},1,{"$f":"VLOOKUP(Jaar,Trendfactoren!$A$2:$D$23,4,FALSE)","v":0.98},0,0,0,0,0,0,0,0,0,0,0]
["CEMT IVM4leegbeide","CEMT IV","M4","leeg","beide","CO2",13822.846692902196,16.5,0.25341885603654024,{"$f":"VLOOKUP(A337,Begin:Einde,7,FALSE)","v":0},1,{"$f":"VLOOKUP(Jaar,Trendfactoren!$A$2:$D$23,4,FALSE)","v":0.98},0,0,0,0,0,0,0,0,0,0,0]
["CEMT IVM5geladenbeide","CEMT IV","M5","geladen","beide","CO2",21421.765843140111,10.9,0.25944138632247471,{"$f":"VLOOKUP(A338,Begin:Einde,7,FALSE)","v":0},1,{"$f":"VLOOKUP(Jaar,Trendfactoren!$A$2:$D$23,4,FALSE)","v":0.98},0,0,0,0,0,0,0,0,0,0,0]
["CEMT IVM5leegbeide","CEMT IV","M5","leeg","beide","CO2",15647.172710488867,16.7,0.29034198251684895,{"$f":"VLOOKUP(A339,Begin:Einde,7,FALSE)","v":0},1,{"$f":"VLOOKUP(Jaar,Trendfactoren!$A$2:$D$23,4,FALSE)","v":0.98},0,0,0,0,0,0,0,0,0,0,0]
["CEMT IVM6geladenbeide","CEMT IV","M6","geladen","beide","CO2",23105.238182695728,9.3000000000000007,0.23875412788785588,{"$f":"VLOOKUP(A340,Begin:Einde,7,FALSE)","v":0},1,{"$f":"VLOOKUP(Jaar,Trendfactoren!$A$2:$D$23,4,FALSE)","v":0.98},0,0,0,0,0,0,0,0,0,0,0]
["CEMT IVM6leegbeide","CEMT IV","M6","leeg","beide","CO2",17447.099235914873,15.7,0.30435495333762613,{"$f":"VLOOKUP(A341,Begin:Einde,7,FALSE)","v":0},1,{"$f":"VLOOKUP(Jaar,Trendfactoren!$A$2:$D$23,4,FALSE)","v":0.98},0,0,0,0,0,0,0,0,0,0,0]
["CEMT IVM7geladenbeide","CEMT IV","M7","geladen","beide","CO2",23191.927533328933,8.6,0.2216117519851431,{"$f":"VLOOKUP(A342,Begin:Einde,7,FALSE)","v":0},1,{"$f":"VLOOKUP(Jaar,Trendfactoren!$A$2:$D$23,4,FALSE)","v":0.98},0,0,0,0,0,0,0,0,0,0,0]
["CEMT IVM7leegbeide","CEMT IV","M7","leeg","beide","CO2",18947.344469080908,14.8,0.31157855349155272,{"$f":"VLOOKUP(A343,Begin:Einde,7,FALSE)","v":0},1,{"$f":"VLOOKUP(Jaar,Trendfactoren!$A$2:$D$23,4,FALSE)","v":0.98},0,0,0,0,0,0,0,0,0,0,0]
["CEMT IVM8geladenbeide","CEMT IV","M8","geladen","beide","CO2",15243.826777017517,3.6,6.0975307108070066E-2,{"$f":"VLOOKUP(A344,Begin:Einde,7,FALSE)","v":0},1,{"$f":"VLOOKUP(Jaar,Trendfactoren!$A$2:$D$23,4,FALSE)","v":0.98},0,0,0,0,0,0,0,0,0,0,0]
["CEMT IVM8leegbeide","CEMT IV","M8","leeg","beide","CO2",9214.0014843582121,9.5,9.7258904557114459E-2,{"$f":"VLOOKUP(A345,Begin:Einde,7,FALSE)","v":0},1,{"$f":"VLOOKUP(Jaar,Trendfactoren!$A$2:$D$23,4,FALSE)","v":0.98},0,0,0,0,0,0,0,0,0,0,0]
["CEMT VaBIgeladenbeide","CEMT Va","BI","geladen","beide","CO2",55755.419715579541,12.7,0.78677092265317794,{"$f":"VLOOKUP(A346,Begin:Einde,7,FALSE)","v":0},1,{"$f":"VLOOKUP(Jaar,Trendfactoren!$A$2:$D$23,4,FALSE)","v":0.98},0,0,0,0,0,0,0,0,0,0,0]
["CEMT VaBIleegbeide","CEMT Va","BI","leeg","beide","CO2",20100.541870502304,17.2,0.38414368908071073,{"$f":"VLOOKUP(A347,Begin:Einde,7,FALSE)","v":0},1,{"$f":"VLOOKUP(Jaar,Trendfactoren!$A$2:$D$23,4,FALSE)","v":0.98},0,0,0,0,0,0,0,0,0,0,0]
["CEMT VaBII-1geladenbeide","CEMT Va","BII-1","geladen","beide","CO2",64725.490357266579,10.8,0.776705884287199,{"$f":"VLOOKUP(A348,Begin:Einde,7,FALSE)","v":0},1,{"$f":"VLOOKUP(Jaar,Trendfactoren!$A$2:$D$23,4,FALSE)","v":0.98},0,0,0,0,0,0,0,0,0,0,0]
["CEMT VaBII-1leegbeide","CEMT Va","BII-1","leeg","beide","CO2",29434.708727492729,17.399999999999999,0.5690710353981927,{"$f":"VLOOKUP(A349,Begin:Einde,7,FALSE)","v":0},1,{"$f":"VLOOKUP(Jaar,Trendfactoren!$A$2:$D$23,4,FALSE)","v":0.98},0,0,0,0,0,0,0,0,0,0,0]
["CEMT VaBII-2Bgeladenbeide","CEMT Va","BII-2B","geladen","beide","CO2",106426.27186457421,7.1,0.83958503359830772,{"$f":"VLOOKUP(A350,Begin:Einde,7,FALSE)","v":0},1,{"$f":"VLOOKUP(Jaar,Trendfactoren!$A$2:$D$23,4,FALSE)","v":0.98},0,0,0,0,0,0,0,0,0,0,0]
["CEMT VaBII-2Bleegbeide","CEMT Va","BII-2B","leeg","beide","CO2",40263.002012779856,13.6,0.60841869708200669,{"$f":"VLOOKUP(A351,Begin:Einde,7,FALSE)","v":0},1,{"$f":"VLOOKUP(Jaar,Trendfactoren!$A$2:$D$23,4,FALSE)","v":0.98},0,0,0,0,0,0,0,0,0,0,0]
["CEMT VaBII-2Lgeladenbeide","CEMT Va","BII-2L","geladen","beide","CO2",93422.393720557666,11.8,1.2248713843362005,{"$f":"VLOOKUP(A352,Begin:Einde,7,FALSE)","v":0},1,{"$f":"VLOOKUP(Jaar,Trendfactoren!$A$2:$D$23,4,FALSE)","v":0.98},0,0,0,0,0,0,0,0,0,0,0]
["CEMT VaBII-2Lleegbeide","CEMT Va","BII-2L","leeg","beide","CO2",49830.606514387095,19.2,1.0630529389735912,{"$f":"VLOOKUP(A353,Begin:Einde,7,FALSE)","v":0},1,{"$f":"VLOOKUP(Jaar,Trendfactoren!$A$2:$D$23,4,FALSE)","v":0.98},0,0,0,0,0,0,0,0,0,0,0]
["CEMT VaBO1geladenbeide","CEMT Va","BO1","geladen","beide","CO2",18009.054983408521,13.4,0.26813481864186023,{"$f":"VLOOKUP(A354,Begin:Einde,7,FALSE)","v":0},1,{"$f":"VLOOKUP(Jaar,Trendfactoren!$A$2:$D$23,4,FALSE)","v":0.98},0,0,0,0,0,0,0,0,0,0,0]
["CEMT VaBO1leegbeide","CEMT Va","BO1","leeg","beide","CO2",8192.7522335403701,17,0.15475198663354031,{"$f":"VLOOKUP(A355,Begin:Einde,7,FALSE)","v":0},1,{"$f":"VLOOKUP(Jaar,Trendfactoren!$A$2:$D$23,4,FALSE)","v":0.98},0,0,0,0,0,0,0,0,0,0,0]
["CEMT VaBO2geladenbeide","CEMT Va","BO2","geladen","beide","CO2",27477.29040498038,13.1,0.39994722700582547,{"$f":"VLOOKUP(A356,Begin:Einde,7,FALSE)","v":0},1,{"$f":"VLOOKUP(Jaar,Trendfactoren!$A$2:$D$23,4,FALSE)","v":0.98},0,0,0,0,0,0,0,0,0,0,0]
["CEMT VaBO2leegbeide","CEMT Va","BO2","leeg","beide","CO2",10953.156615757114,16.8,0.2044589234941328,{"$f":"VLOOKUP(A357,Begin:Einde,7,FALSE)","v":0},1,{"$f":"VLOOKUP(Jaar,Trendfactoren!$A$2:$D$23,4,FALSE)","v":0.98},0,0,0,0,0,0,0,0,0,0,0]
["CEMT VaBO3geladenbeide","CEMT Va","BO3","geladen","beide","CO2",40523.645528158588,14.3,0.643875701169631,{"$f":"VLOOKUP(A358,Begin:Einde,7,FALSE)","v":0},1,{"$f":"VLOOKUP(Jaar,Trendfactoren!$A$2:$D$23,4,FALSE)","v":0.98},0,0,0,0,0,0,0,0,0,0,0]
["CEMT VaBO3leegbeide","CEMT Va","BO3","leeg","beide","CO2",14365.898615292572,17.2,0.27454828464781361,{"$f":"VLOOKUP(A359,Begin:Einde,7,FALSE)","v":0},1,{"$f":"VLOOKUP(Jaar,Trendfactoren!$A$2:$D$23,4,FALSE)","v":0.98},0,0,0,0,0,0,0,0,0,0,0]
["CEMT VaBO4geladenbeide","CEMT Va","BO4","geladen","beide","CO2",47783.233612191747,14.5,0.76984098597420025,{"$f":"VLOOKUP(A360,Begin:Einde,7,FALSE)","v":0},1,{"$f":"VLOOKUP(Jaar,Trendfactoren!$A$2:$D$23,4,FALSE)","v":0.98},0,0,0,0,0,0,0,0,0,0,0]
["CEMT VaBO4leegbeide","CEMT Va","BO4","leeg","beide","CO2",16509.084959637032,17.3,0.31734129977968961,{"$f":"VLOOKUP(A361,Begin:Einde,7,FALSE)","v":0},1,{"$f":"VLOOKUP(Jaar,Trendfactoren!$A$2:$D$23,4,FALSE)","v":0.98},0,0,0,0,0,0,0,0,0,0,0]
["CEMT VaC1bgeladenbeide","CEMT Va","C1b","geladen","beide","CO2",20268.120395083155,11.3,0.25447751162715521,{"$f":"VLOOKUP(A362,Begin:Einde,7,FALSE)","v":0},1,{"$f":"VLOOKUP(Jaar,Trendfactoren!$A$2:$D$23,4,FALSE)","v":0.98},0,0,0,0,0,0,0,0,0,0,0]
["CEMT VaC1bleegbeide","CEMT Va","C1b","leeg","beide","CO2",9031.1184652670745,15.9,0.15954975955305165,{"$f":"VLOOKUP(A363,Begin:Einde,7,FALSE)","v":0},1,{"$f":"VLOOKUP(Jaar,Trendfactoren!$A$2:$D$23,4,FALSE)","v":0.98},0,0,0,0,0,0,0,0,0,0,0]
["CEMT VaC1lgeladenbeide","CEMT Va","C1l","geladen","beide","CO2",11103.281498955324,11.5,0.14187526359776248,{"$f":"VLOOKUP(A364,Begin:Einde,7,FALSE)","v":0},1,{"$f":"VLOOKUP(Jaar,Trendfactoren!$A$2:$D$23,4,FALSE)","v":0.98},0,0,0,0,0,0,0,0,0,0,0]
["CEMT VaC1lleegbeide","CEMT Va","C1l","leeg","beide","CO2",8345.8400744711234,15.8,0.14651585908515974,{"$f":"VLOOKUP(A365,Begin:Einde,7,FALSE)","v":0},1,{"$f":"VLOOKUP(Jaar,Trendfactoren!$A$2:$D$23,4,FALSE)","v":0.98},0,0,0,0,0,0,0,0,0,0,0]
["CEMT VaC2bgeladenbeide","CEMT Va","C2b","geladen","beide","CO2",62639.769042521679,9.4,0.65423758777744867,{"$f":"VLOOKUP(A366,Begin:Einde,7,FALSE)","v":0},1,{"$f":"VLOOKUP(Jaar,Trendfactoren!$A$2:$D$23,4,FALSE)","v":0.98},0,0,0,0,0,0,0,0,0,0,0]
["CEMT VaC2bleegbeide","CEMT Va","C2b","leeg","beide","CO2",39506.912222963583,16.2,0.71112442001334453,{"$f":"VLOOKUP(A367,Begin:Einde,7,FALSE)","v":0},1,{"$f":"VLOOKUP(Jaar,Trendfactoren!$A$2:$D$23,4,FALSE)","v":0.98},0,0,0,0,0,0,0,0,0,0,0]
["CEMT VaC2lgeladenbeide","CEMT Va","C2l","geladen","beide","CO2",38413.268446171882,11.4,0.48656806698484389,{"$f":"VLOOKUP(A368,Begin:Einde,7,FALSE)","v":0},1,{"$f":"VLOOKUP(Jaar,Trendfactoren!$A$2:$D$23,4,FALSE)","v":0.98},0,0,0,0,0,0,0,0,0,0,0]
["CEMT VaC2lleegbeide","CEMT Va","C2l","leeg","beide","CO2",32119.679448330549,17.899999999999999,0.63882473569457421,{"$f":"VLOOKUP(A369,Begin:Einde,7,FALSE)","v":0},1,{"$f":"VLOOKUP(Jaar,Trendfactoren!$A$2:$D$23,4,FALSE)","v":0.98},0,0,0,0,0,0,0,0,0,0,0]
["CEMT VaC3lgeladenbeide","CEMT Va","C3l","geladen","beide","CO2",75053.633439891957,9.6999999999999993,0.80891138262994655,{"$f":"VLOOKUP(A370,Begin:Einde,7,FALSE)","v":0},1,{"$f":"VLOOKUP(Jaar,Trendfactoren!$A$2:$D$23,4,FALSE)","v":0.98},0,0,0,0,0,0,0,0,0,0,0]
["CEMT VaC3lleegbeide","CEMT Va","C3l","leeg","beide","CO2",55684.151764006405,19.8,1.225051338808141,{"$f":"VLOOKUP(A371,Begin:Einde,7,FALSE)","v":0},1,{"$f":"VLOOKUP(Jaar,Trendfactoren!$A$2:$D$23,4,FALSE)","v":0.98},0,0,0,0,0,0,0,0,0,0,0]
["CEMT VaC4geladenbeide","CEMT Va","C4","geladen","beide","CO2",82770.889818848838,6.4,0.58859299426736966,{"$f":"VLOOKUP(A372,Begin:Einde,7,FALSE)","v":0},1,{"$f":"VLOOKUP(Jaar,Trendfactoren!$A$2:$D$23,4,FALSE)","v":0.98},0,0,0,0,0,0,0,0,0,0,0]
["CEMT VaC4leegbeide","CEMT Va","C4","leeg","beide","CO2",47501.468535714244,12.8,0.67557644139682493,{"$f":"VLOOKUP(A373,Begin:Einde,7,FALSE)","v":0},1,{"$f":"VLOOKUP(Jaar,Trendfactoren!$A$2:$D$23,4,FALSE)","v":0.98},0,0,0,0,0,0,0,0,0,0,0]
["CEMT VaM0geladenbeide","CEMT Va","M0","geladen","beide","CO2",4824.7846602379122,13.9,7.4516118641452203E-2,{"$f":"VLOOKUP(A374,Begin:Einde,7,FALSE)","v":0},1,{"$f":"VLOOKUP(Jaar,Trendfactoren!$A$2:$D$23,4,FALSE)","v":0.98},0,0,0,0,0,0,0,0,0,0,0]
["CEMT VaM0leegbeide","CEMT Va","M0","leeg","beide","CO2",2780.9572759148909,16.7,5.1602207230865192E-2,{"$f":"VLOOKUP(A375,Begin:Einde,7,FALSE)","v":0},1,{"$f":"VLOOKUP(Jaar,Trendfactoren!$A$2:$D$23,4,FALSE)","v":0.98},0,0,0,0,0,0,0,0,0,0,0]
["CEMT VaM1geladenbeide","CEMT Va","M1","geladen","beide","CO2",8527.8895252272305,11.3,0.10707239070563079,{"$f":"VLOOKUP(A376,Begin:Einde,7,FALSE)","v":0},1,{"$f":"VLOOKUP(Jaar,Trendfactoren!$A$2:$D$23,4,FALSE)","v":0.98},0,0,0,0,0,0,0,0,0,0,0]
["CEMT VaM1leegbeide","CEMT Va","M1","leeg","beide","CO2",5073.1475991272509,17,9.5826121316848076E-2,{"$f":"VLOOKUP(A377,Begin:Einde,7,FALSE)","v":0},1,{"$f":"VLOOKUP(Jaar,Trendfactoren!$A$2:$D$23,4,FALSE)","v":0.98},0,0,0,0,0,0,0,0,0,0,0]
["CEMT VaM10geladenbeide","CEMT Va","M10","geladen","beide","CO2",60778.253848867142,8.9,0.60102939917213072,{"$f":"VLOOKUP(A378,Begin:Einde,7,FALSE)","v":0},1,{"$f":"VLOOKUP(Jaar,Trendfactoren!$A$2:$D$23,4,FALSE)","v":0.98},0,0,0,0,0,0,0,0,0,0,0]
["CEMT VaM10leegbeide","CEMT Va","M10","leeg","beide","CO2",41056.824998395801,17.8,0.81201276107938369,{"$f":"VLOOKUP(A379,Begin:Einde,7,FALSE)","v":0},1,{"$f":"VLOOKUP(Jaar,Trendfactoren!$A$2:$D$23,4,FALSE)","v":0.98},0,0,0,0,0,0,0,0,0,0,0]
["CEMT VaM2geladenbeide","CEMT Va","M2","geladen","beide","CO2",13561.759974429471,11.6,0.17479601744820208,{"$f":"VLOOKUP(A380,Begin:Einde,7,FALSE)","v":0},1,{"$f":"VLOOKUP(Jaar,Trendfactoren!$A$2:$D$23,4,FALSE)","v":0.98},0,0,0,0,0,0,0,0,0,0,0]
["CEMT VaM2leegbeide","CEMT Va","M2","leeg","beide","CO2",9031.9894643112275,17.7,0.17762912613145412,{"$f":"VLOOKUP(A381,Begin:Einde,7,FALSE)","v":0},1,{"$f":"VLOOKUP(Jaar,Trendfactoren!$A$2:$D$23,4,FALSE)","v":0.98},0,0,0,0,0,0,0,0,0,0,0]
["CEMT VaM3geladenbeide","CEMT Va","M3","geladen","beide","CO2",18011.214462874166,12.2,0.24415201827451644,{"$f":"VLOOKUP(A382,Begin:Einde,7,FALSE)","v":0},1,{"$f":"VLOOKUP(Jaar,Trendfactoren!$A$2:$D$23,4,FALSE)","v":0.98},0,0,0,0,0,0,0,0,0,0,0]
["CEMT VaM3leegbeide","CEMT Va","M3","leeg","beide","CO2",11811.546132443427,17.399999999999999,0.22835655856057291,{"$f":"VLOOKUP(A383,Begin:Einde,7,FALSE)","v":0},1,{"$f":"VLOOKUP(Jaar,Trendfactoren!$A$2:$D$23,4,FALSE)","v":0.98},0,0,0,0,0,0,0,0,0,0,0]
["CEMT VaM4geladenbeide","CEMT Va","M4","geladen","beide","CO2",23755.63364212936,12.7,0.33521838583893648,{"$f":"VLOOKUP(A384,Begin:Einde,7,FALSE)","v":0},1,{"$f":"VLOOKUP(Jaar,Trendfactoren!$A$2:$D$23,4,FALSE)","v":0.98},0,0,0,0,0,0,0,0,0,0,0]
["CEMT VaM4leegbeide","CEMT Va","M4","leeg","beide","CO2",16119.317985467023,18.5,{"$f":"+MJperkgCO2*G385/1000*H385/3600","v":0.33134153636793329},{"$f":"VLOOKUP(A385,Begin:Einde,7,FALSE)","v":0},{"$f":"+Afstand","v":1},{"$f":"VLOOKUP(Jaar,Trendfactoren!$A$2:$D$23,4,FALSE)","v":0.98},0,{"$f":"+J385*H385","v":0},0,0,0,0,0,{"$f":"+S385/$I385","v":0},{"$f":"+Q385/$I385","v":0},{"$f":"+R385/$I385","v":0},0]
[{"$f":"+B386&C386&D386&E386","v":"CEMT VaM5geladenbeide"},"CEMT Va","M5","geladen","beide","CO2",29474.107952032191,13.6,0.44538652016404201,{"$f":"VLOOKUP(A386,Begin:Einde,7,FALSE)","v":0},1,{"$f":"VLOOKUP(Jaar,Trendfactoren!$A$2:$D$23,4,FALSE)","v":0.98},{"$f":"+J386*I386*L386","v":0},0,{"$f":"+J386*G386*K386","v":0},{"$f":"+O386/+IF($O$895>0,$O$895,1)","v":0},{"$f":"+IF(E386=\"beide\",O386,0)/IF($O$896>0,$O$896,1)","v":0},{"$f":"+IF(E386=\"op\",O386,0)/IF($O$897>0,$O$897,1)","v":0},{"$f":"+IF(E386=\"af\",O386,0)/IF($O$898>0,$O$898,1)","v":0},0,0,0,{"$f":"+P386/I386","v":0}]
["CEMT VaM5leegbeide","CEMT Va","M5","leeg","beide","CO2",18137.414079843846,18.7,0.37685515921453322,{"$f":"VLOOKUP(A387,Begin:Einde,7,FALSE)","v":0},1,{"$f":"VLOOKUP(Jaar,Trendfactoren!$A$2:$D$23,4,FALSE)","v":0.98},0,0,0,0,0,0,0,0,0,0,0]
["CEMT VaM6geladenbeide","CEMT Va","M6","geladen","beide","CO2",31408.764475761916,12.1,0.42227338906302131,{"$f":"VLOOKUP(A388,Begin:Einde,7,FALSE)","v":0},1,{"$f":"VLOOKUP(Jaar,Trendfactoren!$A$2:$D$23,4,FALSE)","v":0.98},0,0,0,0,0,0,0,0,0,0,0]
["CEMT VaM6leegbeide","CEMT Va","M6","leeg","beide","CO2",22706.886154892552,18.5,0.46675265985056913,{"$f":"VLOOKUP(A389,Begin:Einde,7,FALSE)","v":0},1,{"$f":"VLOOKUP(Jaar,Trendfactoren!$A$2:$D$23,4,FALSE)","v":0.98},0,0,0,0,0,0,0,0,0,0,0]
["CEMT VaM7geladenbeide","CEMT Va","M7","geladen","beide","CO2",29938.582154965792,11.7,0.3892015680145553,{"$f":"VLOOKUP(A390,Begin:Einde,7,FALSE)","v":0},1,{"$f":"VLOOKUP(Jaar,Trendfactoren!$A$2:$D$23,4,FALSE)","v":0.98},0,0,0,0,0,0,0,0,0,0,0]
["CEMT VaM7leegbeide","CEMT Va","M7","leeg","beide","CO2",27422.187469363249,18.3,0.5575844785437194,{"$f":"VLOOKUP(A391,Begin:Einde,7,FALSE)","v":0},1,{"$f":"VLOOKUP(Jaar,Trendfactoren!$A$2:$D$23,4,FALSE)","v":0.98},0,0,0,0,0,0,0,0,0,0,0]
["CEMT VaM8geladenbeide","CEMT Va","M8","geladen","beide","CO2",34540.923316749577,10,0.38378803685277307,{"$f":"VLOOKUP(A392,Begin:Einde,7,FALSE)","v":0},1,{"$f":"VLOOKUP(Jaar,Trendfactoren!$A$2:$D$23,4,FALSE)","v":0.98},0,0,0,0,0,0,0,0,0,0,0]
["CEMT VaM8leegbeide","CEMT Va","M8","leeg","beide","CO2",30719.287753040015,17.3,0.59049297569732484,{"$f":"VLOOKUP(A393,Begin:Einde,7,FALSE)","v":0},1,{"$f":"VLOOKUP(Jaar,Trendfactoren!$A$2:$D$23,4,FALSE)","v":0.98},0,0,0,0,0,0,0,0,0,0,0]
["CEMT VaM9geladenbeide","CEMT Va","M9","geladen","beide","CO2",45281.67040308463,10.5,0.52828615470265405,{"$f":"VLOOKUP(A394,Begin:Einde,7,FALSE)","v":0},1,{"$f":"VLOOKUP(Jaar,Trendfactoren!$A$2:$D$23,4,FALSE)","v":0.98},0,0,0,0,0,0,0,0,0,0,0]
["CEMT VaM9leegbeide","CEMT Va","M9","leeg","beide","CO2",41647.400809998137,18.3,0.84683048313662879,{"$f":"VLOOKUP(A395,Begin:Einde,7,FALSE)","v":0},1,{"$f":"VLOOKUP(Jaar,Trendfactoren!$A$2:$D$23,4,FALSE)","v":0.98},0,0,0,0,0,0,0,0,0,0,0]
["CEMT VbBIgeladenbeide","CEMT Vb","BI","geladen","beide","CO2",49874.792631877899,12.1,0.67053887871746953,{"$f":"VLOOKUP(A396,Begin:Einde,7,FALSE)","v":0},1,{"$f":"VLOOKUP(Jaar,Trendfactoren!$A$2:$D$23,4,FALSE)","v":0.98},0,0,0,0,0,0,0,0,0,0,0]
["CEMT VbBIleegbeide","CEMT Vb","BI","leeg","beide","CO2",16610.397647516351,15.7,0.2897591589622297,{"$f":"VLOOKUP(A397,Begin:Einde,7,FALSE)","v":0},1,{"$f":"VLOOKUP(Jaar,Trendfactoren!$A$2:$D$23,4,FALSE)","v":0.98},0,0,0,0,0,0,0,0,0,0,0]
["CEMT VbBII-1geladenbeide","CEMT Vb","BII-1","geladen","beide","CO2",56846.540947189969,10.199999999999999,0.64426079740148634,{"$f":"VLOOKUP(A398,Begin:Einde,7,FALSE)","v":0},1,{"$f":"VLOOKUP(Jaar,Trendfactoren!$A$2:$D$23,4,FALSE)","v":0.98},0,0,0,0,0,0,0,0,0,0,0]
["CEMT VbBII-1leegbeide","CEMT Vb","BII-1","leeg","beide","CO2",26523.944631410683,16.600000000000001,0.48921942320157485,{"$f":"VLOOKUP(A399,Begin:Einde,7,FALSE)","v":0},1,{"$f":"VLOOKUP(Jaar,Trendfactoren!$A$2:$D$23,4,FALSE)","v":0.98},0,0,0,0,0,0,0,0,0,0,0]
["CEMT VbBII-2Lgeladenbeide","CEMT Vb","BII-2L","geladen","beide","CO2",74246.865349354528,10.7,0.8827127324867704,{"$f":"VLOOKUP(A400,Begin:Einde,7,FALSE)","v":0},1,{"$f":"VLOOKUP(Jaar,Trendfactoren!$A$2:$D$23,4,FALSE)","v":0.98},0,0,0,0,0,0,0,0,0,0,0]
["CEMT VbBII-2Lleegbeide","CEMT Vb","BII-2L","leeg","beide","CO2",40443.054090044592,17.600000000000001,0.79088639109420544,{"$f":"VLOOKUP(A401,Begin:Einde,7,FALSE)","v":0},1,{"$f":"VLOOKUP(Jaar,Trendfactoren!$A$2:$D$23,4,FALSE)","v":0.98},0,0,0,0,0,0,0,0,0,0,0]
["CEMT VbBO1geladenbeide","CEMT Vb","BO1","geladen","beide","CO2",16622.320042379139,12.9,0.23825325394076766,{"$f":"VLOOKUP(A402,Begin:Einde,7,FALSE)","v":0},1,{"$f":"VLOOKUP(Jaar,Trendfactoren!$A$2:$D$23,4,FALSE)","v":0.98},0,0,0,0,0,0,0,0,0,0,0]
["CEMT VbBO1leegbeide","CEMT Vb","BO1","leeg","beide","CO2",6370.6678938799714,15,0.10617779823133286,{"$f":"VLOOKUP(A403,Begin:Einde,7,FALSE)","v":0},1,{"$f":"VLOOKUP(Jaar,Trendfactoren!$A$2:$D$23,4,FALSE)","v":0.98},0,0,0,0,0,0,0,0,0,0,0]
["CEMT VbBO2geladenbeide","CEMT Vb","BO2","geladen","beide","CO2",25252.447638115933,12.6,0.35353426693362305,{"$f":"VLOOKUP(A404,Begin:Einde,7,FALSE)","v":0},1,{"$f":"VLOOKUP(Jaar,Trendfactoren!$A$2:$D$23,4,FALSE)","v":0.98},0,0,0,0,0,0,0,0,0,0,0]
["CEMT VbBO2leegbeide","CEMT Vb","BO2","leeg","beide","CO2",9056.2121639191155,15.3,0.15395560678662498,{"$f":"VLOOKUP(A405,Begin:Einde,7,FALSE)","v":0},1,{"$f":"VLOOKUP(Jaar,Trendfactoren!$A$2:$D$23,4,FALSE)","v":0.98},0,0,0,0,0,0,0,0,0,0,0]
["CEMT VbBO3geladenbeide","CEMT Vb","BO3","geladen","beide","CO2",36142.434096080317,13.6,0.5461523374518803,{"$f":"VLOOKUP(A406,Begin:Einde,7,FALSE)","v":0},1,{"$f":"VLOOKUP(Jaar,Trendfactoren!$A$2:$D$23,4,FALSE)","v":0.98},0,0,0,0,0,0,0,0,0,0,0]
["CEMT VbBO3leegbeide","CEMT Vb","BO3","leeg","beide","CO2",11451.458425159861,15.4,0.19594717749717983,{"$f":"VLOOKUP(A407,Begin:Einde,7,FALSE)","v":0},1,{"$f":"VLOOKUP(Jaar,Trendfactoren!$A$2:$D$23,4,FALSE)","v":0.98},0,0,0,0,0,0,0,0,0,0,0]
["CEMT VbBO4geladenbeide","CEMT Vb","BO4","geladen","beide","CO2",39806.062353123314,13.4,0.59266803947983604,{"$f":"VLOOKUP(A408,Begin:Einde,7,FALSE)","v":0},1,{"$f":"VLOOKUP(Jaar,Trendfactoren!$A$2:$D$23,4,FALSE)","v":0.98},0,0,0,0,0,0,0,0,0,0,0]
["CEMT VbBO4leegbeide","CEMT Vb","BO4","leeg","beide","CO2",12984.41396241616,15.4,0.22217775002356541,{"$f":"VLOOKUP(A409,Begin:Einde,7,FALSE)","v":0},1,{"$f":"VLOOKUP(Jaar,Trendfactoren!$A$2:$D$23,4,FALSE)","v":0.98},0,0,0,0,0,0,0,0,0,0,0]
["CEMT VbC1bgeladenbeide","CEMT Vb","C1b","geladen","beide","CO2",17966.236475310667,10.7,0.21359858920647123,{"$f":"VLOOKUP(A410,Begin:Einde,7,FALSE)","v":0},1,{"$f":"VLOOKUP(Jaar,Trendfactoren!$A$2:$D$23,4,FALSE)","v":0.98},0,0,0,0,0,0,0,0,0,0,0]
["CEMT VbC1bleegbeide","CEMT Vb","C1b","leeg","beide","CO2",8002.9967571528359,15,0.13338327928588062,{"$f":"VLOOKUP(A411,Begin:Einde,7,FALSE)","v":0},1,{"$f":"VLOOKUP(Jaar,Trendfactoren!$A$2:$D$23,4,FALSE)","v":0.98},0,0,0,0,0,0,0,0,0,0,0]
["CEMT VbC1lgeladenbeide","CEMT Vb","C1l","geladen","beide","CO2",10707.193052630984,11.3,0.1344347572163668,{"$f":"VLOOKUP(A412,Begin:Einde,7,FALSE)","v":0},1,{"$f":"VLOOKUP(Jaar,Trendfactoren!$A$2:$D$23,4,FALSE)","v":0.98},0,0,0,0,0,0,0,0,0,0,0]
["CEMT VbC1lleegbeide","CEMT Vb","C1l","leeg","beide","CO2",7011.7526543013182,14.5,0.11296712609707679,{"$f":"VLOOKUP(A413,Begin:Einde,7,FALSE)","v":0},1,{"$f":"VLOOKUP(Jaar,Trendfactoren!$A$2:$D$23,4,FALSE)","v":0.98},0,0,0,0,0,0,0,0,0,0,0]
["CEMT VbC2bgeladenbeide","CEMT Vb","C2b","geladen","beide","CO2",61075.810108382379,9.3000000000000007,0.6311167044532846,{"$f":"VLOOKUP(A414,Begin:Einde,7,FALSE)","v":0},1,{"$f":"VLOOKUP(Jaar,Trendfactoren!$A$2:$D$23,4,FALSE)","v":0.98},0,0,0,0,0,0,0,0,0,0,0]
["CEMT VbC2bleegbeide","CEMT Vb","C2b","leeg","beide","CO2",38302.205557583795,16,0.68092809880148975,{"$f":"VLOOKUP(A415,Begin:Einde,7,FALSE)","v":0},1,{"$f":"VLOOKUP(Jaar,Trendfactoren!$A$2:$D$23,4,FALSE)","v":0.98},0,0,0,0,0,0,0,0,0,0,0]
["CEMT VbC2lgeladenbeide","CEMT Vb","C2l","geladen","beide","CO2",33361.77363307037,10.7,0.39663441985983655,{"$f":"VLOOKUP(A416,Begin:Einde,7,FALSE)","v":0},1,{"$f":"VLOOKUP(Jaar,Trendfactoren!$A$2:$D$23,4,FALSE)","v":0.98},0,0,0,0,0,0,0,0,0,0,0]
["CEMT VbC2lleegbeide","CEMT Vb","C2l","leeg","beide","CO2",28858.250812995055,17.100000000000001,0.54830676544690615,{"$f":"VLOOKUP(A417,Begin:Einde,7,FALSE)","v":0},1,{"$f":"VLOOKUP(Jaar,Trendfactoren!$A$2:$D$23,4,FALSE)","v":0.98},0,0,0,0,0,0,0,0,0,0,0]
["CEMT VbC3lgeladenbeide","CEMT Vb","C3l","geladen","beide","CO2",51047.673743911095,8,0.45375709994587643,{"$f":"VLOOKUP(A418,Begin:Einde,7,FALSE)","v":0},1,{"$f":"VLOOKUP(Jaar,Trendfactoren!$A$2:$D$23,4,FALSE)","v":0.98},0,0,0,0,0,0,0,0,0,0,0]
["CEMT VbC3lleegbeide","CEMT Vb","C3l","leeg","beide","CO2",42046.92045511918,17.899999999999999,0.83626652905181476,{"$f":"VLOOKUP(A419,Begin:Einde,7,FALSE)","v":0},1,{"$f":"VLOOKUP(Jaar,Trendfactoren!$A$2:$D$23,4,FALSE)","v":0.98},0,0,0,0,0,0,0,0,0,0,0]
["CEMT VbM0geladenbeide","CEMT Vb","M0","geladen","beide","CO2",4406.7818826252287,13.3,6.5122443376572817E-2,{"$f":"VLOOKUP(A420,Begin:Einde,7,FALSE)","v":0},1,{"$f":"VLOOKUP(Jaar,Trendfactoren!$A$2:$D$23,4,FALSE)","v":0.98},0,0,0,0,0,0,0,0,0,0,0]
["CEMT VbM0leegbeide","CEMT Vb","M0","leeg","beide","CO2",2428.6850222475136,15.6,4.2097207052290239E-2,{"$f":"VLOOKUP(A421,Begin:Einde,7,FALSE)","v":0},1,{"$f":"VLOOKUP(Jaar,Trendfactoren!$A$2:$D$23,4,FALSE)","v":0.98},0,0,0,0,0,0,0,0,0,0,0]
["CEMT VbM1geladenbeide","CEMT Vb","M1","geladen","beide","CO2",7912.8430315514315,10.9,9.5833321159900675E-2,{"$f":"VLOOKUP(A422,Begin:Einde,7,FALSE)","v":0},1,{"$f":"VLOOKUP(Jaar,Trendfactoren!$A$2:$D$23,4,FALSE)","v":0.98},0,0,0,0,0,0,0,0,0,0,0]
["CEMT VbM1leegbeide","CEMT Vb","M1","leeg","beide","CO2",4320.1093378003143,15.7,7.5361907337183245E-2,{"$f":"VLOOKUP(A423,Begin:Einde,7,FALSE)","v":0},1,{"$f":"VLOOKUP(Jaar,Trendfactoren!$A$2:$D$23,4,FALSE)","v":0.98},0,0,0,0,0,0,0,0,0,0,0]
["CEMT VbM10geladenbeide","CEMT Vb","M10","geladen","beide","CO2",53921.663741097036,8.4,0.50326886158357231,{"$f":"VLOOKUP(A424,Begin:Einde,7,FALSE)","v":0},1,{"$f":"VLOOKUP(Jaar,Trendfactoren!$A$2:$D$23,4,FALSE)","v":0.98},0,0,0,0,0,0,0,0,0,0,0]
["CEMT VbM10leegbeide","CEMT Vb","M10","leeg","beide","CO2",39182.79519005942,17.5,0.76188768425115538,{"$f":"VLOOKUP(A425,Begin:Einde,7,FALSE)","v":0},1,{"$f":"VLOOKUP(Jaar,Trendfactoren!$A$2:$D$23,4,FALSE)","v":0.98},0,0,0,0,0,0,0,0,0,0,0]
["CEMT VbM2geladenbeide","CEMT Vb","M2","geladen","beide","CO2",13312.546497514726,11.5,0.17010476080157705,{"$f":"VLOOKUP(A426,Begin:Einde,7,FALSE)","v":0},1,{"$f":"VLOOKUP(Jaar,Trendfactoren!$A$2:$D$23,4,FALSE)","v":0.98},0,0,0,0,0,0,0,0,0,0,0]
["CEMT VbM2leegbeide","CEMT Vb","M2","leeg","beide","CO2",7883.6993879615193,16.600000000000001,0.14541045537795694,{"$f":"VLOOKUP(A427,Begin:Einde,7,FALSE)","v":0},1,{"$f":"VLOOKUP(Jaar,Trendfactoren!$A$2:$D$23,4,FALSE)","v":0.98},0,0,0,0,0,0,0,0,0,0,0]
["CEMT VbM3geladenbeide","CEMT Vb","M3","geladen","beide","CO2",18011.214462874155,12.2,0.24415201827451627,{"$f":"VLOOKUP(A428,Begin:Einde,7,FALSE)","v":0},1,{"$f":"VLOOKUP(Jaar,Trendfactoren!$A$2:$D$23,4,FALSE)","v":0.98},0,0,0,0,0,0,0,0,0,0,0]
["CEMT VbM3leegbeide","CEMT Vb","M3","leeg","beide","CO2",10532.517346362098,16.5,0.19309615134997182,{"$f":"VLOOKUP(A429,Begin:Einde,7,FALSE)","v":0},1,{"$f":"VLOOKUP(Jaar,Trendfactoren!$A$2:$D$23,4,FALSE)","v":0.98},0,0,0,0,0,0,0,0,0,0,0]
["CEMT VbM4geladenbeide","CEMT Vb","M4","geladen","beide","CO2",22099.161318484374,12.3,0.30202187135261976,{"$f":"VLOOKUP(A430,Begin:Einde,7,FALSE)","v":0},1,{"$f":"VLOOKUP(Jaar,Trendfactoren!$A$2:$D$23,4,FALSE)","v":0.98},0,0,0,0,0,0,0,0,0,0,0]
["CEMT VbM4leegbeide","CEMT Vb","M4","leeg","beide","CO2",14001.006959114602,17.399999999999999,0.27068613454288226,{"$f":"VLOOKUP(A431,Begin:Einde,7,FALSE)","v":0},1,{"$f":"VLOOKUP(Jaar,Trendfactoren!$A$2:$D$23,4,FALSE)","v":0.98},0,0,0,0,0,0,0,0,0,0,0]
["CEMT VbM5geladenbeide","CEMT Vb","M5","geladen","beide","CO2",27005.396034802543,13.1,0.39307854228434813,{"$f":"VLOOKUP(A432,Begin:Einde,7,FALSE)","v":0},1,{"$f":"VLOOKUP(Jaar,Trendfactoren!$A$2:$D$23,4,FALSE)","v":0.98},0,0,0,0,0,0,0,0,0,0,0]
["CEMT VbM5leegbeide","CEMT Vb","M5","leeg","beide","CO2",15357.780760453825,17.399999999999999,0.2969170947021072,{"$f":"VLOOKUP(A433,Begin:Einde,7,FALSE)","v":0},1,{"$f":"VLOOKUP(Jaar,Trendfactoren!$A$2:$D$23,4,FALSE)","v":0.98},0,0,0,0,0,0,0,0,0,0,0]
["CEMT VbM6geladenbeide","CEMT Vb","M6","geladen","beide","CO2",27960.45833023416,11.5,0.35727252310854762,{"$f":"VLOOKUP(A434,Begin:Einde,7,FALSE)","v":0},1,{"$f":"VLOOKUP(Jaar,Trendfactoren!$A$2:$D$23,4,FALSE)","v":0.98},0,0,0,0,0,0,0,0,0,0,0]
["CEMT VbM6leegbeide","CEMT Vb","M6","leeg","beide","CO2",20105.548160647915,17.600000000000001,0.39317516403044817,{"$f":"VLOOKUP(A435,Begin:Einde,7,FALSE)","v":0},1,{"$f":"VLOOKUP(Jaar,Trendfactoren!$A$2:$D$23,4,FALSE)","v":0.98},0,0,0,0,0,0,0,0,0,0,0]
["CEMT VbM7geladenbeide","CEMT Vb","M7","geladen","beide","CO2",27645.759060338023,11.3,0.34710786375757741,{"$f":"VLOOKUP(A436,Begin:Einde,7,FALSE)","v":0},1,{"$f":"VLOOKUP(Jaar,Trendfactoren!$A$2:$D$23,4,FALSE)","v":0.98},0,0,0,0,0,0,0,0,0,0,0]
["CEMT VbM7leegbeide","CEMT Vb","M7","leeg","beide","CO2",24084.276631920471,17.399999999999999,0.46562934821712904,{"$f":"VLOOKUP(A437,Begin:Einde,7,FALSE)","v":0},1,{"$f":"VLOOKUP(Jaar,Trendfactoren!$A$2:$D$23,4,FALSE)","v":0.98},0,0,0,0,0,0,0,0,0,0,0]
["CEMT VbM8geladenbeide","CEMT Vb","M8","geladen","beide","CO2",32995.875643172767,9.8000000000000007,0.3592884236701035,{"$f":"VLOOKUP(A438,Begin:Einde,7,FALSE)","v":0},1,{"$f":"VLOOKUP(Jaar,Trendfactoren!$A$2:$D$23,4,FALSE)","v":0.98},0,0,0,0,0,0,0,0,0,0,0]
["CEMT VbM8leegbeide","CEMT Vb","M8","leeg","beide","CO2",27697.281043000359,16.600000000000001,0.51086096145978444,{"$f":"VLOOKUP(A439,Begin:Einde,7,FALSE)","v":0},1,{"$f":"VLOOKUP(Jaar,Trendfactoren!$A$2:$D$23,4,FALSE)","v":0.98},0,0,0,0,0,0,0,0,0,0,0]
["CEMT VbM9geladenbeide","CEMT Vb","M9","geladen","beide","CO2",36880.971186007941,9.6,0.39339702598408471,{"$f":"VLOOKUP(A440,Begin:Einde,7,FALSE)","v":0},1,{"$f":"VLOOKUP(Jaar,Trendfactoren!$A$2:$D$23,4,FALSE)","v":0.98},0,0,0,0,0,0,0,0,0,0,0]
["CEMT VbM9leegbeide","CEMT Vb","M9","leeg","beide","CO2",38569.281840944001,17.8,0.76281468529867025,{"$f":"VLOOKUP(A441,Begin:Einde,7,FALSE)","v":0},1,{"$f":"VLOOKUP(Jaar,Trendfactoren!$A$2:$D$23,4,FALSE)","v":0.98},0,0,0,0,0,0,0,0,0,0,0]
["CEMT VIaBIgeladenbeide","CEMT VIa","BI","geladen","beide","CO2",46836.232799331599,13.6,0.70774751785656642,{"$f":"VLOOKUP(A442,Begin:Einde,7,FALSE)","v":0},1,{"$f":"VLOOKUP(Jaar,Trendfactoren!$A$2:$D$23,4,FALSE)","v":0.98},0,0,0,0,0,0,0,0,0,0,0]
["CEMT VIaBIleegbeide","CEMT VIa","BI","leeg","beide","CO2",17774.857540315057,16.8,0.3317973407525478,{"$f":"VLOOKUP(A443,Begin:Einde,7,FALSE)","v":0},1,{"$f":"VLOOKUP(Jaar,Trendfactoren!$A$2:$D$23,4,FALSE)","v":0.98},0,0,0,0,0,0,0,0,0,0,0]
["CEMT VIaBII-1geladenbeide","CEMT VIa","BII-1","geladen","beide","CO2",49371.405262159366,11.6,0.63634255671227624,{"$f":"VLOOKUP(A444,Begin:Einde,7,FALSE)","v":0},1,{"$f":"VLOOKUP(Jaar,Trendfactoren!$A$2:$D$23,4,FALSE)","v":0.98},0,0,0,0,0,0,0,0,0,0,0]
["CEMT VIaBII-1leegbeide","CEMT VIa","BII-1","leeg","beide","CO2",22784.510096190363,16.2,0.41012118173142653,{"$f":"VLOOKUP(A445,Begin:Einde,7,FALSE)","v":0},1,{"$f":"VLOOKUP(Jaar,Trendfactoren!$A$2:$D$23,4,FALSE)","v":0.98},0,0,0,0,0,0,0,0,0,0,0]
["CEMT VIaBO1geladenbeide","CEMT VIa","BO1","geladen","beide","CO2",18500.224947040446,14.4,0.29600359915264712,{"$f":"VLOOKUP(A446,Begin:Einde,7,FALSE)","v":0},1,{"$f":"VLOOKUP(Jaar,Trendfactoren!$A$2:$D$23,4,FALSE)","v":0.98},0,0,0,0,0,0,0,0,0,0,0]
["CEMT VIaBO1leegbeide","CEMT VIa","BO1","leeg","beide","CO2",9115.9951329014202,18.3,0.18535856770232886,{"$f":"VLOOKUP(A447,Begin:Einde,7,FALSE)","v":0},1,{"$f":"VLOOKUP(Jaar,Trendfactoren!$A$2:$D$23,4,FALSE)","v":0.98},0,0,0,0,0,0,0,0,0,0,0]
["CEMT VIaBO2geladenbeide","CEMT VIa","BO2","geladen","beide","CO2",24846.446994394057,13.6,0.37545742124862125,{"$f":"VLOOKUP(A448,Begin:Einde,7,FALSE)","v":0},1,{"$f":"VLOOKUP(Jaar,Trendfactoren!$A$2:$D$23,4,FALSE)","v":0.98},0,0,0,0,0,0,0,0,0,0,0]
["CEMT VIaBO2leegbeide","CEMT VIa","BO2","leeg","beide","CO2",12207.642896496789,18.2,{"$f":"+MJperkgCO2*G449/1000*H449/3600","v":0.24686566746249061},{"$f":"VLOOKUP(A449,Begin:Einde,7,FALSE)","v":0},{"$f":"+Afstand","v":1},{"$f":"VLOOKUP(Jaar,Trendfactoren!$A$2:$D$23,4,FALSE)","v":0.98},0,{"$f":"+J449*H449","v":0},0,0,0,0,0,{"$f":"+S449/$I449","v":0},{"$f":"+Q449/$I449","v":0},{"$f":"+R449/$I449","v":0},0]
[{"$f":"+B450&C450&D450&E450","v":"CEMT VIaBO3geladenbeide"},"CEMT VIa","BO3","geladen","beide","CO2",33887.280461791146,14.6,0.54972699415794513,{"$f":"VLOOKUP(A450,Begin:Einde,7,FALSE)","v":0},1,{"$f":"VLOOKUP(Jaar,Trendfactoren!$A$2:$D$23,4,FALSE)","v":0.98},{"$f":"+J450*I450*L450","v":0},0,{"$f":"+J450*G450*K450","v":0},{"$f":"+O450/+IF($O$895>0,$O$895,1)","v":0},{"$f":"+IF(E450=\"beide\",O450,0)/IF($O$896>0,$O$896,1)","v":0},{"$f":"+IF(E450=\"op\",O450,0)/IF($O$897>0,$O$897,1)","v":0},{"$f":"+IF(E450=\"af\",O450,0)/IF($O$898>0,$O$898,1)","v":0},0,0,0,{"$f":"+P450/I450","v":0}]
["CEMT VIaBO3leegbeide","CEMT VIa","BO3","leeg","beide","CO2",15806.240380827056,18.600000000000001,0.32666230120375916,{"$f":"VLOOKUP(A451,Begin:Einde,7,FALSE)","v":0},1,{"$f":"VLOOKUP(Jaar,Trendfactoren!$A$2:$D$23,4,FALSE)","v":0.98},0,0,0,0,0,0,0,0,0,0,0]
["CEMT VIaBO4geladenbeide","CEMT VIa","BO4","geladen","beide","CO2",36700.688510207226,14.4,0.58721101616331561,{"$f":"VLOOKUP(A452,Begin:Einde,7,FALSE)","v":0},1,{"$f":"VLOOKUP(Jaar,Trendfactoren!$A$2:$D$23,4,FALSE)","v":0.98},0,0,0,0,0,0,0,0,0,0,0]
["CEMT VIaBO4leegbeide","CEMT VIa","BO4","leeg","beide","CO2",17840.780002164651,18.600000000000001,0.36870945337806948,{"$f":"VLOOKUP(A453,Begin:Einde,7,FALSE)","v":0},1,{"$f":"VLOOKUP(Jaar,Trendfactoren!$A$2:$D$23,4,FALSE)","v":0.98},0,0,0,0,0,0,0,0,0,0,0]
["CEMT VIaC1bgeladenbeide","CEMT VIa","C1b","geladen","beide","CO2",26214.00230188559,14.9,0.43398737144232813,{"$f":"VLOOKUP(A454,Begin:Einde,7,FALSE)","v":0},1,{"$f":"VLOOKUP(Jaar,Trendfactoren!$A$2:$D$23,4,FALSE)","v":0.98},0,0,0,0,0,0,0,0,0,0,0]
["CEMT VIaC1bleegbeide","CEMT VIa","C1b","leeg","beide","CO2",7908.6686648275254,15.5,0.13620484922758516,{"$f":"VLOOKUP(A455,Begin:Einde,7,FALSE)","v":0},1,{"$f":"VLOOKUP(Jaar,Trendfactoren!$A$2:$D$23,4,FALSE)","v":0.98},0,0,0,0,0,0,0,0,0,0,0]
["CEMT VIaC1lgeladenbeide","CEMT VIa","C1l","geladen","beide","CO2",7493.6039199923462,10.199999999999999,8.4927511093246588E-2,{"$f":"VLOOKUP(A456,Begin:Einde,7,FALSE)","v":0},1,{"$f":"VLOOKUP(Jaar,Trendfactoren!$A$2:$D$23,4,FALSE)","v":0.98},0,0,0,0,0,0,0,0,0,0,0]
["CEMT VIaC1lleegbeide","CEMT VIa","C1l","leeg","beide","CO2",10776.207945435608,18.600000000000001,0.22270829753900259,{"$f":"VLOOKUP(A457,Begin:Einde,7,FALSE)","v":0},1,{"$f":"VLOOKUP(Jaar,Trendfactoren!$A$2:$D$23,4,FALSE)","v":0.98},0,0,0,0,0,0,0,0,0,0,0]
["CEMT VIaC2lgeladenbeide","CEMT VIa","C2l","geladen","beide","CO2",41737.063361122964,14.2,0.65851811080882894,{"$f":"VLOOKUP(A458,Begin:Einde,7,FALSE)","v":0},1,{"$f":"VLOOKUP(Jaar,Trendfactoren!$A$2:$D$23,4,FALSE)","v":0.98},0,0,0,0,0,0,0,0,0,0,0]
["CEMT VIaC2lleegbeide","CEMT VIa","C2l","leeg","beide","CO2",35590.031896220076,20.3,0.8027529416591862,{"$f":"VLOOKUP(A459,Begin:Einde,7,FALSE)","v":0},1,{"$f":"VLOOKUP(Jaar,Trendfactoren!$A$2:$D$23,4,FALSE)","v":0.98},0,0,0,0,0,0,0,0,0,0,0]
["CEMT VIaM0geladenbeide","CEMT VIa","M0","geladen","beide","CO2",4599.3897080246807,14.1,7.2057105425719997E-2,{"$f":"VLOOKUP(A460,Begin:Einde,7,FALSE)","v":0},1,{"$f":"VLOOKUP(Jaar,Trendfactoren!$A$2:$D$23,4,FALSE)","v":0.98},0,0,0,0,0,0,0,0,0,0,0]
["CEMT VIaM0leegbeide","CEMT VIa","M0","leeg","beide","CO2",2545.358259920361,16.2,4.5816448678566497E-2,{"$f":"VLOOKUP(A461,Begin:Einde,7,FALSE)","v":0},1,{"$f":"VLOOKUP(Jaar,Trendfactoren!$A$2:$D$23,4,FALSE)","v":0.98},0,0,0,0,0,0,0,0,0,0,0]
["CEMT VIaM1geladenbeide","CEMT VIa","M1","geladen","beide","CO2",6921.5322412968262,11,8.4596505171405656E-2,{"$f":"VLOOKUP(A462,Begin:Einde,7,FALSE)","v":0},1,{"$f":"VLOOKUP(Jaar,Trendfactoren!$A$2:$D$23,4,FALSE)","v":0.98},0,0,0,0,0,0,0,0,0,0,0]
["CEMT VIaM1leegbeide","CEMT VIa","M1","leeg","beide","CO2",4304.1879684541254,16,7.6518897216962228E-2,{"$f":"VLOOKUP(A463,Begin:Einde,7,FALSE)","v":0},1,{"$f":"VLOOKUP(Jaar,Trendfactoren!$A$2:$D$23,4,FALSE)","v":0.98},0,0,0,0,0,0,0,0,0,0,0]
["CEMT VIaM10geladenbeide","CEMT VIa","M10","geladen","beide","CO2",54783.140927409382,12.8,0.7791380043009335,{"$f":"VLOOKUP(A464,Begin:Einde,7,FALSE)","v":0},1,{"$f":"VLOOKUP(Jaar,Trendfactoren!$A$2:$D$23,4,FALSE)","v":0.98},0,0,0,0,0,0,0,0,0,0,0]
["CEMT VIaM10leegbeide","CEMT VIa","M10","leeg","beide","CO2",32409.412825120286,18.2,0.65539034824132136,{"$f":"VLOOKUP(A465,Begin:Einde,7,FALSE)","v":0},1,{"$f":"VLOOKUP(Jaar,Trendfactoren!$A$2:$D$23,4,FALSE)","v":0.98},0,0,0,0,0,0,0,0,0,0,0]
["CEMT VIaM11geladenbeide","CEMT VIa","M11","geladen","beide","CO2",66271.11653557379,14,1.0308840349978146,{"$f":"VLOOKUP(A466,Begin:Einde,7,FALSE)","v":0},1,{"$f":"VLOOKUP(Jaar,Trendfactoren!$A$2:$D$23,4,FALSE)","v":0.98},0,0,0,0,0,0,0,0,0,0,0]
["CEMT VIaM11leegbeide","CEMT VIa","M11","leeg","beide","CO2",36963.17283251023,18.2,0.74747749505742911,{"$f":"VLOOKUP(A467,Begin:Einde,7,FALSE)","v":0},1,{"$f":"VLOOKUP(Jaar,Trendfactoren!$A$2:$D$23,4,FALSE)","v":0.98},0,0,0,0,0,0,0,0,0,0,0]
["CEMT VIaM12geladenbeide","CEMT VIa","M12","geladen","beide","CO2",81239.409546378636,13.5,1.2185911431956795,{"$f":"VLOOKUP(A468,Begin:Einde,7,FALSE)","v":0},1,{"$f":"VLOOKUP(Jaar,Trendfactoren!$A$2:$D$23,4,FALSE)","v":0.98},0,0,0,0,0,0,0,0,0,0,0]
["CEMT VIaM12leegbeide","CEMT VIa","M12","leeg","beide","CO2",44932.164230967668,18.2,0.90862821000401284,{"$f":"VLOOKUP(A469,Begin:Einde,7,FALSE)","v":0},1,{"$f":"VLOOKUP(Jaar,Trendfactoren!$A$2:$D$23,4,FALSE)","v":0.98},0,0,0,0,0,0,0,0,0,0,0]
["CEMT VIaM2geladenbeide","CEMT VIa","M2","geladen","beide","CO2",13770.688435619646,13,0.19890994407006157,{"$f":"VLOOKUP(A470,Begin:Einde,7,FALSE)","v":0},1,{"$f":"VLOOKUP(Jaar,Trendfactoren!$A$2:$D$23,4,FALSE)","v":0.98},0,0,0,0,0,0,0,0,0,0,0]
["CEMT VIaM2leegbeide","CEMT VIa","M2","leeg","beide","CO2",8822.7634280351558,18.2,0.17841588265582203,{"$f":"VLOOKUP(A471,Begin:Einde,7,FALSE)","v":0},1,{"$f":"VLOOKUP(Jaar,Trendfactoren!$A$2:$D$23,4,FALSE)","v":0.98},0,0,0,0,0,0,0,0,0,0,0]
["CEMT VIaM3geladenbeide","CEMT VIa","M3","geladen","beide","CO2",21855.333805029186,15.1,0.36668393383993414,{"$f":"VLOOKUP(A472,Begin:Einde,7,FALSE)","v":0},1,{"$f":"VLOOKUP(Jaar,Trendfactoren!$A$2:$D$23,4,FALSE)","v":0.98},0,0,0,0,0,0,0,0,0,0,0]
["CEMT VIaM3leegbeide","CEMT VIa","M3","leeg","beide","CO2",11855.549377695779,18.3,0.24106283734648085,{"$f":"VLOOKUP(A473,Begin:Einde,7,FALSE)","v":0},1,{"$f":"VLOOKUP(Jaar,Trendfactoren!$A$2:$D$23,4,FALSE)","v":0.98},0,0,0,0,0,0,0,0,0,0,0]
["CEMT VIaM4geladenbeide","CEMT VIa","M4","geladen","beide","CO2",25826.579384224198,15.2,0.4361822296002309,{"$f":"VLOOKUP(A474,Begin:Einde,7,FALSE)","v":0},1,{"$f":"VLOOKUP(Jaar,Trendfactoren!$A$2:$D$23,4,FALSE)","v":0.98},0,0,0,0,0,0,0,0,0,0,0]
["CEMT VIaM4leegbeide","CEMT VIa","M4","leeg","beide","CO2",14963.460840010961,19,0.3158952844002314,{"$f":"VLOOKUP(A475,Begin:Einde,7,FALSE)","v":0},1,{"$f":"VLOOKUP(Jaar,Trendfactoren!$A$2:$D$23,4,FALSE)","v":0.98},0,0,0,0,0,0,0,0,0,0,0]
["CEMT VIaM5geladenbeide","CEMT VIa","M5","geladen","beide","CO2",27319.678274562735,15.2,0.46139901085928176,{"$f":"VLOOKUP(A476,Begin:Einde,7,FALSE)","v":0},1,{"$f":"VLOOKUP(Jaar,Trendfactoren!$A$2:$D$23,4,FALSE)","v":0.98},0,0,0,0,0,0,0,0,0,0,0]
["CEMT VIaM5leegbeide","CEMT VIa","M5","leeg","beide","CO2",15375.887671405635,18.399999999999999,0.31435148128207074,{"$f":"VLOOKUP(A477,Begin:Einde,7,FALSE)","v":0},1,{"$f":"VLOOKUP(Jaar,Trendfactoren!$A$2:$D$23,4,FALSE)","v":0.98},0,0,0,0,0,0,0,0,0,0,0]
["CEMT VIaM6geladenbeide","CEMT VIa","M6","geladen","beide","CO2",31367.596327175976,14.4,0.50188154123481565,{"$f":"VLOOKUP(A478,Begin:Einde,7,FALSE)","v":0},1,{"$f":"VLOOKUP(Jaar,Trendfactoren!$A$2:$D$23,4,FALSE)","v":0.98},0,0,0,0,0,0,0,0,0,0,0]
["CEMT VIaM6leegbeide","CEMT VIa","M6","leeg","beide","CO2",20682.648866644686,19.2,0.44122984248842001,{"$f":"VLOOKUP(A479,Begin:Einde,7,FALSE)","v":0},1,{"$f":"VLOOKUP(Jaar,Trendfactoren!$A$2:$D$23,4,FALSE)","v":0.98},0,0,0,0,0,0,0,0,0,0,0]
["CEMT VIaM7geladenbeide","CEMT VIa","M7","geladen","beide","CO2",32160.941888656704,14.7,0.52529538418139277,{"$f":"VLOOKUP(A480,Begin:Einde,7,FALSE)","v":0},1,{"$f":"VLOOKUP(Jaar,Trendfactoren!$A$2:$D$23,4,FALSE)","v":0.98},0,0,0,0,0,0,0,0,0,0,0]
["CEMT VIaM7leegbeide","CEMT VIa","M7","leeg","beide","CO2",25051.75703654312,19.5,0.54278806912510091,{"$f":"VLOOKUP(A481,Begin:Einde,7,FALSE)","v":0},1,{"$f":"VLOOKUP(Jaar,Trendfactoren!$A$2:$D$23,4,FALSE)","v":0.98},0,0,0,0,0,0,0,0,0,0,0]
["CEMT VIaM8geladenbeide","CEMT VIa","M8","geladen","beide","CO2",43498.584185474319,14.3,0.691144170946981,{"$f":"VLOOKUP(A482,Begin:Einde,7,FALSE)","v":0},1,{"$f":"VLOOKUP(Jaar,Trendfactoren!$A$2:$D$23,4,FALSE)","v":0.98},0,0,0,0,0,0,0,0,0,0,0]
["CEMT VIaM8leegbeide","CEMT VIa","M8","leeg","beide","CO2",28515.321674252573,18.7,0.59248501700947009,{"$f":"VLOOKUP(A483,Begin:Einde,7,FALSE)","v":0},1,{"$f":"VLOOKUP(Jaar,Trendfactoren!$A$2:$D$23,4,FALSE)","v":0.98},0,0,0,0,0,0,0,0,0,0,0]
["CEMT VIaM9geladenbeide","CEMT VIa","M9","geladen","beide","CO2",43285.900699215359,13.4,0.64447896596609544,{"$f":"VLOOKUP(A484,Begin:Einde,7,FALSE)","v":0},1,{"$f":"VLOOKUP(Jaar,Trendfactoren!$A$2:$D$23,4,FALSE)","v":0.98},0,0,0,0,0,0,0,0,0,0,0]
["CEMT VIaM9leegbeide","CEMT VIa","M9","leeg","beide","CO2",45607.31239014837,21.5,1.0895080182090999,{"$f":"VLOOKUP(A485,Begin:Einde,7,FALSE)","v":0},1,{"$f":"VLOOKUP(Jaar,Trendfactoren!$A$2:$D$23,4,FALSE)","v":0.98},0,0,0,0,0,0,0,0,0,0,0]
["CEMT VIbBIgeladenbeide","CEMT VIb","BI","geladen","beide","CO2",44020.754269582198,13.2,0.64563772928720553,{"$f":"VLOOKUP(A486,Begin:Einde,7,FALSE)","v":0},1,{"$f":"VLOOKUP(Jaar,Trendfactoren!$A$2:$D$23,4,FALSE)","v":0.98},0,0,0,0,0,0,0,0,0,0,0]
["CEMT VIbBIleegbeide","CEMT VIb","BI","leeg","beide","CO2",16148.136097827666,16,0.28707797507249183,{"$f":"VLOOKUP(A487,Begin:Einde,7,FALSE)","v":0},1,{"$f":"VLOOKUP(Jaar,Trendfactoren!$A$2:$D$23,4,FALSE)","v":0.98},0,0,0,0,0,0,0,0,0,0,0]
["CEMT VIbBII-1geladenbeide","CEMT VIb","BII-1","geladen","beide","CO2",60626.34540872596,12.8,0.86224135692410264,{"$f":"VLOOKUP(A488,Begin:Einde,7,FALSE)","v":0},1,{"$f":"VLOOKUP(Jaar,Trendfactoren!$A$2:$D$23,4,FALSE)","v":0.98},0,0,0,0,0,0,0,0,0,0,0]
["CEMT VIbBII-1leegbeide","CEMT VIb","BII-1","leeg","beide","CO2",25674.233335490091,17.2,0.4906631259671439,{"$f":"VLOOKUP(A489,Begin:Einde,7,FALSE)","v":0},1,{"$f":"VLOOKUP(Jaar,Trendfactoren!$A$2:$D$23,4,FALSE)","v":0.98},0,0,0,0,0,0,0,0,0,0,0]
["CEMT VIbBII-2Bgeladenbeide","CEMT VIb","BII-2B","geladen","beide","CO2",109133.33628880556,11,1.33385188797429,{"$f":"VLOOKUP(A490,Begin:Einde,7,FALSE)","v":0},1,{"$f":"VLOOKUP(Jaar,Trendfactoren!$A$2:$D$23,4,FALSE)","v":0.98},0,0,0,0,0,0,0,0,0,0,0]
["CEMT VIbBII-2Bleegbeide","CEMT VIb","BII-2B","leeg","beide","CO2",53545.23014759033,17,1.0114099027878174,{"$f":"VLOOKUP(A491,Begin:Einde,7,FALSE)","v":0},1,{"$f":"VLOOKUP(Jaar,Trendfactoren!$A$2:$D$23,4,FALSE)","v":0.98},0,0,0,0,0,0,0,0,0,0,0]
["CEMT VIbBII-2Lgeladenbeide","CEMT VIb","BII-2L","geladen","beide","CO2",73238.015472148283,13.1,1.0660200029834914,{"$f":"VLOOKUP(A492,Begin:Einde,7,FALSE)","v":0},1,{"$f":"VLOOKUP(Jaar,Trendfactoren!$A$2:$D$23,4,FALSE)","v":0.98},0,0,0,0,0,0,0,0,0,0,0]
["CEMT VIbBII-2Lleegbeide","CEMT VIb","BII-2L","leeg","beide","CO2",37056.714988258616,17.899999999999999,0.73701688698869916,{"$f":"VLOOKUP(A493,Begin:Einde,7,FALSE)","v":0},1,{"$f":"VLOOKUP(Jaar,Trendfactoren!$A$2:$D$23,4,FALSE)","v":0.98},0,0,0,0,0,0,0,0,0,0,0]
["CEMT VIbBII-4geladenbeide","CEMT VIb","BII-4","geladen","beide","CO2",126397.61266913109,10.199999999999999,1.4325062769168189,{"$f":"VLOOKUP(A494,Begin:Einde,7,FALSE)","v":0},1,{"$f":"VLOOKUP(Jaar,Trendfactoren!$A$2:$D$23,4,FALSE)","v":0.98},0,0,0,0,0,0,0,0,0,0,0]
["CEMT VIbBII-4leegbeide","CEMT VIb","BII-4","leeg","beide","CO2",67659.639549834726,16.600000000000001,1.2479444628080627,{"$f":"VLOOKUP(A495,Begin:Einde,7,FALSE)","v":0},1,{"$f":"VLOOKUP(Jaar,Trendfactoren!$A$2:$D$23,4,FALSE)","v":0.98},0,0,0,0,0,0,0,0,0,0,0]
["CEMT VIbBII-6Bgeladenbeide","CEMT VIb","BII-6B","geladen","beide","CO2",123938.15289946094,7.3,1.0052761290734054,{"$f":"VLOOKUP(A496,Begin:Einde,7,FALSE)","v":0},1,{"$f":"VLOOKUP(Jaar,Trendfactoren!$A$2:$D$23,4,FALSE)","v":0.98},0,0,0,0,0,0,0,0,0,0,0]
["CEMT VIbBII-6Bleegbeide","CEMT VIb","BII-6B","leeg","beide","CO2",99664.323968020297,16,1.7718102038759165,{"$f":"VLOOKUP(A497,Begin:Einde,7,FALSE)","v":0},1,{"$f":"VLOOKUP(Jaar,Trendfactoren!$A$2:$D$23,4,FALSE)","v":0.98},0,0,0,0,0,0,0,0,0,0,0]
["CEMT VIbBII-6Lgeladenbeide","CEMT VIb","BII-6L","geladen","beide","CO2",123539.06565734866,9.6,1.3177500336783856,{"$f":"VLOOKUP(A498,Begin:Einde,7,FALSE)","v":0},1,{"$f":"VLOOKUP(Jaar,Trendfactoren!$A$2:$D$23,4,FALSE)","v":0.98},0,0,0,0,0,0,0,0,0,0,0]
["CEMT VIbBII-6Lleegbeide","CEMT VIb","BII-6L","leeg","beide","CO2",78478.413808341138,16.100000000000001,1.4038916247936586,{"$f":"VLOOKUP(A499,Begin:Einde,7,FALSE)","v":0},1,{"$f":"VLOOKUP(Jaar,Trendfactoren!$A$2:$D$23,4,FALSE)","v":0.98},0,0,0,0,0,0,0,0,0,0,0]
["CEMT VIbBO1geladenbeide","CEMT VIb","BO1","geladen","beide","CO2",17478.293418509154,14,0.27188456428792018,{"$f":"VLOOKUP(A500,Begin:Einde,7,FALSE)","v":0},1,{"$f":"VLOOKUP(Jaar,Trendfactoren!$A$2:$D$23,4,FALSE)","v":0.98},0,0,0,0,0,0,0,0,0,0,0]
["CEMT VIbBO1leegbeide","CEMT VIb","BO1","leeg","beide","CO2",6173.5451119394102,15,0.10289241853232352,{"$f":"VLOOKUP(A501,Begin:Einde,7,FALSE)","v":0},1,{"$f":"VLOOKUP(Jaar,Trendfactoren!$A$2:$D$23,4,FALSE)","v":0.98},0,0,0,0,0,0,0,0,0,0,0]
["CEMT VIbBO2geladenbeide","CEMT VIb","BO2","geladen","beide","CO2",19289.17611581253,12,0.2571890148775004,{"$f":"VLOOKUP(A502,Begin:Einde,7,FALSE)","v":0},1,{"$f":"VLOOKUP(Jaar,Trendfactoren!$A$2:$D$23,4,FALSE)","v":0.98},0,0,0,0,0,0,0,0,0,0,0]
["CEMT VIbBO2leegbeide","CEMT VIb","BO2","leeg","beide","CO2",8900.4946770095521,15.5,0.15328629721516451,{"$f":"VLOOKUP(A503,Begin:Einde,7,FALSE)","v":0},1,{"$f":"VLOOKUP(Jaar,Trendfactoren!$A$2:$D$23,4,FALSE)","v":0.98},0,0,0,0,0,0,0,0,0,0,0]
["CEMT VIbBO3geladenbeide","CEMT VIb","BO3","geladen","beide","CO2",27572.622468947597,13.2,0.40439846287789805,{"$f":"VLOOKUP(A504,Begin:Einde,7,FALSE)","v":0},1,{"$f":"VLOOKUP(Jaar,Trendfactoren!$A$2:$D$23,4,FALSE)","v":0.98},0,0,0,0,0,0,0,0,0,0,0]
["CEMT VIbBO3leegbeide","CEMT VIb","BO3","leeg","beide","CO2",10900.706891800324,15.4,0.18652320681524998,{"$f":"VLOOKUP(A505,Begin:Einde,7,FALSE)","v":0},1,{"$f":"VLOOKUP(Jaar,Trendfactoren!$A$2:$D$23,4,FALSE)","v":0.98},0,0,0,0,0,0,0,0,0,0,0]
["CEMT VIbBO4geladenbeide","CEMT VIb","BO4","geladen","beide","CO2",32632.94594773971,13.6,0.49312007209917791,{"$f":"VLOOKUP(A506,Begin:Einde,7,FALSE)","v":0},1,{"$f":"VLOOKUP(Jaar,Trendfactoren!$A$2:$D$23,4,FALSE)","v":0.98},0,0,0,0,0,0,0,0,0,0,0]
["CEMT VIbBO4leegbeide","CEMT VIb","BO4","leeg","beide","CO2",12771.624577663504,15.7,0.22279389541035222,{"$f":"VLOOKUP(A507,Begin:Einde,7,FALSE)","v":0},1,{"$f":"VLOOKUP(Jaar,Trendfactoren!$A$2:$D$23,4,FALSE)","v":0.98},0,0,0,0,0,0,0,0,0,0,0]
["CEMT VIbC1bgeladenbeide","CEMT VIb","C1b","geladen","beide","CO2",13440.573433785265,10.8,0.16128688120542317,{"$f":"VLOOKUP(A508,Begin:Einde,7,FALSE)","v":0},1,{"$f":"VLOOKUP(Jaar,Trendfactoren!$A$2:$D$23,4,FALSE)","v":0.98},0,0,0,0,0,0,0,0,0,0,0]
["CEMT VIbC1bleegbeide","CEMT VIb","C1b","leeg","beide","CO2",7611.0335803200496,15.2,0.12854190046762751,{"$f":"VLOOKUP(A509,Begin:Einde,7,FALSE)","v":0},1,{"$f":"VLOOKUP(Jaar,Trendfactoren!$A$2:$D$23,4,FALSE)","v":0.98},0,0,0,0,0,0,0,0,0,0,0]
["CEMT VIbC1lgeladenbeide","CEMT VIb","C1l","geladen","beide","CO2",9990.1733267196341,11.8,0.13098227250587965,{"$f":"VLOOKUP(A510,Begin:Einde,7,FALSE)","v":0},1,{"$f":"VLOOKUP(Jaar,Trendfactoren!$A$2:$D$23,4,FALSE)","v":0.98},0,0,0,0,0,0,0,0,0,0,0]
["CEMT VIbC1lleegbeide","CEMT VIb","C1l","leeg","beide","CO2",7814.5339507793351,15.8,0.13718848491368166,{"$f":"VLOOKUP(A511,Begin:Einde,7,FALSE)","v":0},1,{"$f":"VLOOKUP(Jaar,Trendfactoren!$A$2:$D$23,4,FALSE)","v":0.98},0,0,0,0,0,0,0,0,0,0,0]
["CEMT VIbC2bgeladenbeide","CEMT VIb","C2b","geladen","beide","CO2",29927.140807968961,9.3000000000000007,0.30924712168234597,{"$f":"VLOOKUP(A512,Begin:Einde,7,FALSE)","v":0},1,{"$f":"VLOOKUP(Jaar,Trendfactoren!$A$2:$D$23,4,FALSE)","v":0.98},0,0,0,0,0,0,0,0,0,0,0]
["CEMT VIbC2bleegbeide","CEMT VIb","C2b","leeg","beide","CO2",25988.576847582739,15,{"$f":"+MJperkgCO2*G513/1000*H513/3600","v":0.43314294745971227},{"$f":"VLOOKUP(A513,Begin:Einde,7,FALSE)","v":0},{"$f":"+Afstand","v":1},{"$f":"VLOOKUP(Jaar,Trendfactoren!$A$2:$D$23,4,FALSE)","v":0.98},0,{"$f":"+J513*H513","v":0},0,0,0,0,0,{"$f":"+S513/$I513","v":0},{"$f":"+Q513/$I513","v":0},{"$f":"+R513/$I513","v":0},0]
[{"$f":"+B514&C514&D514&E514","v":"CEMT VIbC2lgeladenbeide"},"CEMT VIb","C2l","geladen","beide","CO2",34170.475285301349,12.9,0.4897768124226527,{"$f":"VLOOKUP(A514,Begin:Einde,7,FALSE)","v":0},1,{"$f":"VLOOKUP(Jaar,Trendfactoren!$A$2:$D$23,4,FALSE)","v":0.98},{"$f":"+J514*I514*L514","v":0},0,{"$f":"+J514*G514*K514","v":0},{"$f":"+O514/+IF($O$895>0,$O$895,1)","v":0},{"$f":"+IF(E514=\"beide\",O514,0)/IF($O$896>0,$O$896,1)","v":0},{"$f":"+IF(E514=\"op\",O514,0)/IF($O$897>0,$O$897,1)","v":0},{"$f":"+IF(E514=\"af\",O514,0)/IF($O$898>0,$O$898,1)","v":0},0,0,0,{"$f":"+P514/I514","v":0}]
["CEMT VIbC2lleegbeide","CEMT VIb","C2l","leeg","beide","CO2",24724.123812959235,17,0.46701122757811891,{"$f":"VLOOKUP(A515,Begin:Einde,7,FALSE)","v":0},1,{"$f":"VLOOKUP(Jaar,Trendfactoren!$A$2:$D$23,4,FALSE)","v":0.98},0,0,0,0,0,0,0,0,0,0,0]
["CEMT VIbC3bgeladenbeide","CEMT VIb","C3b","geladen","beide","CO2",50771.080480681958,8.4,0.47386341781969832,{"$f":"VLOOKUP(A516,Begin:Einde,7,FALSE)","v":0},1,{"$f":"VLOOKUP(Jaar,Trendfactoren!$A$2:$D$23,4,FALSE)","v":0.98},0,0,0,0,0,0,0,0,0,0,0]
["CEMT VIbC3bleegbeide","CEMT VIb","C3b","leeg","beide","CO2",39172.827751602563,15.4,0.67029060819408837,{"$f":"VLOOKUP(A517,Begin:Einde,7,FALSE)","v":0},1,{"$f":"VLOOKUP(Jaar,Trendfactoren!$A$2:$D$23,4,FALSE)","v":0.98},0,0,0,0,0,0,0,0,0,0,0]
["CEMT VIbC3lgeladenbeide","CEMT VIb","C3l","geladen","beide","CO2",49479.650989564929,11.7,0.64323546286434408,{"$f":"VLOOKUP(A518,Begin:Einde,7,FALSE)","v":0},1,{"$f":"VLOOKUP(Jaar,Trendfactoren!$A$2:$D$23,4,FALSE)","v":0.98},0,0,0,0,0,0,0,0,0,0,0]
["CEMT VIbC3lleegbeide","CEMT VIb","C3l","leeg","beide","CO2",35921.848802909393,18.2,0.72641960912550096,{"$f":"VLOOKUP(A519,Begin:Einde,7,FALSE)","v":0},1,{"$f":"VLOOKUP(Jaar,Trendfactoren!$A$2:$D$23,4,FALSE)","v":0.98},0,0,0,0,0,0,0,0,0,0,0]
["CEMT VIbC4geladenbeide","CEMT VIb","C4","geladen","beide","CO2",86254.562177447122,10.8,1.0350547461293655,{"$f":"VLOOKUP(A520,Begin:Einde,7,FALSE)","v":0},1,{"$f":"VLOOKUP(Jaar,Trendfactoren!$A$2:$D$23,4,FALSE)","v":0.98},0,0,0,0,0,0,0,0,0,0,0]
["CEMT VIbC4leegbeide","CEMT VIb","C4","leeg","beide","CO2",58997.667904420254,16.100000000000001,1.0554027258457401,{"$f":"VLOOKUP(A521,Begin:Einde,7,FALSE)","v":0},1,{"$f":"VLOOKUP(Jaar,Trendfactoren!$A$2:$D$23,4,FALSE)","v":0.98},0,0,0,0,0,0,0,0,0,0,0]
["CEMT VIbM0geladenbeide","CEMT VIb","M0","geladen","beide","CO2",4035.237099334955,13.2,5.9183477456912666E-2,{"$f":"VLOOKUP(A522,Begin:Einde,7,FALSE)","v":0},1,{"$f":"VLOOKUP(Jaar,Trendfactoren!$A$2:$D$23,4,FALSE)","v":0.98},0,0,0,0,0,0,0,0,0,0,0]
["CEMT VIbM0leegbeide","CEMT VIb","M0","leeg","beide","CO2",2454.5792798812822,15.9,4.3364233944569328E-2,{"$f":"VLOOKUP(A523,Begin:Einde,7,FALSE)","v":0},1,{"$f":"VLOOKUP(Jaar,Trendfactoren!$A$2:$D$23,4,FALSE)","v":0.98},0,0,0,0,0,0,0,0,0,0,0]
["CEMT VIbM1geladenbeide","CEMT VIb","M1","geladen","beide","CO2",7047.3831360194836,11.1,8.691772534424029E-2,{"$f":"VLOOKUP(A524,Begin:Einde,7,FALSE)","v":0},1,{"$f":"VLOOKUP(Jaar,Trendfactoren!$A$2:$D$23,4,FALSE)","v":0.98},0,0,0,0,0,0,0,0,0,0,0]
["CEMT VIbM1leegbeide","CEMT VIb","M1","leeg","beide","CO2",4356.6728725503926,16.100000000000001,7.7936036942290357E-2,{"$f":"VLOOKUP(A525,Begin:Einde,7,FALSE)","v":0},1,{"$f":"VLOOKUP(Jaar,Trendfactoren!$A$2:$D$23,4,FALSE)","v":0.98},0,0,0,0,0,0,0,0,0,0,0]
["CEMT VIbM10geladenbeide","CEMT VIb","M10","geladen","beide","CO2",55742.717397681721,12.9,0.79897894936677138,{"$f":"VLOOKUP(A526,Begin:Einde,7,FALSE)","v":0},1,{"$f":"VLOOKUP(Jaar,Trendfactoren!$A$2:$D$23,4,FALSE)","v":0.98},0,0,0,0,0,0,0,0,0,0,0]
["CEMT VIbM10leegbeide","CEMT VIb","M10","leeg","beide","CO2",37244.755131453567,19.399999999999999,0.80283138838911017,{"$f":"VLOOKUP(A527,Begin:Einde,7,FALSE)","v":0},1,{"$f":"VLOOKUP(Jaar,Trendfactoren!$A$2:$D$23,4,FALSE)","v":0.98},0,0,0,0,0,0,0,0,0,0,0]
["CEMT VIbM11geladenbeide","CEMT VIb","M11","geladen","beide","CO2",71868.029997790538,14.5,1.15787381663107,{"$f":"VLOOKUP(A528,Begin:Einde,7,FALSE)","v":0},1,{"$f":"VLOOKUP(Jaar,Trendfactoren!$A$2:$D$23,4,FALSE)","v":0.98},0,0,0,0,0,0,0,0,0,0,0]
["CEMT VIbM11leegbeide","CEMT VIb","M11","leeg","beide","CO2",40559.831526863061,19,0.85626311001155364,{"$f":"VLOOKUP(A529,Begin:Einde,7,FALSE)","v":0},1,{"$f":"VLOOKUP(Jaar,Trendfactoren!$A$2:$D$23,4,FALSE)","v":0.98},0,0,0,0,0,0,0,0,0,0,0]
["CEMT VIbM12geladenbeide","CEMT VIb","M12","geladen","beide","CO2",88501.18976806743,14,1.376685174169938,{"$f":"VLOOKUP(A530,Begin:Einde,7,FALSE)","v":0},1,{"$f":"VLOOKUP(Jaar,Trendfactoren!$A$2:$D$23,4,FALSE)","v":0.98},0,0,0,0,0,0,0,0,0,0,0]
["CEMT VIbM12leegbeide","CEMT VIb","M12","leeg","beide","CO2",46569.388957393923,18.5,0.9572596619019863,{"$f":"VLOOKUP(A531,Begin:Einde,7,FALSE)","v":0},1,{"$f":"VLOOKUP(Jaar,Trendfactoren!$A$2:$D$23,4,FALSE)","v":0.98},0,0,0,0,0,0,0,0,0,0,0]
["CEMT VIbM2geladenbeide","CEMT VIb","M2","geladen","beide","CO2",11909.325027713576,12.1,0.16011425870592694,{"$f":"VLOOKUP(A532,Begin:Einde,7,FALSE)","v":0},1,{"$f":"VLOOKUP(Jaar,Trendfactoren!$A$2:$D$23,4,FALSE)","v":0.98},0,0,0,0,0,0,0,0,0,0,0]
["CEMT VIbM2leegbeide","CEMT VIb","M2","leeg","beide","CO2",7443.9454286176615,16.7,0.13812654295323884,{"$f":"VLOOKUP(A533,Begin:Einde,7,FALSE)","v":0},1,{"$f":"VLOOKUP(Jaar,Trendfactoren!$A$2:$D$23,4,FALSE)","v":0.98},0,0,0,0,0,0,0,0,0,0,0]
["CEMT VIbM3geladenbeide","CEMT VIb","M3","geladen","beide","CO2",18408.330280303104,13.9,0.28430643432912572,{"$f":"VLOOKUP(A534,Begin:Einde,7,FALSE)","v":0},1,{"$f":"VLOOKUP(Jaar,Trendfactoren!$A$2:$D$23,4,FALSE)","v":0.98},0,0,0,0,0,0,0,0,0,0,0]
["CEMT VIbM3leegbeide","CEMT VIb","M3","leeg","beide","CO2",9881.7914014796243,16.7,0.18336212933856638,{"$f":"VLOOKUP(A535,Begin:Einde,7,FALSE)","v":0},1,{"$f":"VLOOKUP(Jaar,Trendfactoren!$A$2:$D$23,4,FALSE)","v":0.98},0,0,0,0,0,0,0,0,0,0,0]
["CEMT VIbM4geladenbeide","CEMT VIb","M4","geladen","beide","CO2",23053.464361378301,14.4,0.36885542978205282,{"$f":"VLOOKUP(A536,Begin:Einde,7,FALSE)","v":0},1,{"$f":"VLOOKUP(Jaar,Trendfactoren!$A$2:$D$23,4,FALSE)","v":0.98},0,0,0,0,0,0,0,0,0,0,0]
["CEMT VIbM4leegbeide","CEMT VIb","M4","leeg","beide","CO2",12821.549646236312,17.600000000000001,0.25073252641528793,{"$f":"VLOOKUP(A537,Begin:Einde,7,FALSE)","v":0},1,{"$f":"VLOOKUP(Jaar,Trendfactoren!$A$2:$D$23,4,FALSE)","v":0.98},0,0,0,0,0,0,0,0,0,0,0]
["CEMT VIbM5geladenbeide","CEMT VIb","M5","geladen","beide","CO2",23347.829151132886,14.1,0.36578265670108184,{"$f":"VLOOKUP(A538,Begin:Einde,7,FALSE)","v":0},1,{"$f":"VLOOKUP(Jaar,Trendfactoren!$A$2:$D$23,4,FALSE)","v":0.98},0,0,0,0,0,0,0,0,0,0,0]
["CEMT VIbM5leegbeide","CEMT VIb","M5","leeg","beide","CO2",14875.538465131147,18.100000000000001,0.29916360690985977,{"$f":"VLOOKUP(A539,Begin:Einde,7,FALSE)","v":0},1,{"$f":"VLOOKUP(Jaar,Trendfactoren!$A$2:$D$23,4,FALSE)","v":0.98},0,0,0,0,0,0,0,0,0,0,0]
["CEMT VIbM6geladenbeide","CEMT VIb","M6","geladen","beide","CO2",29998.832351204732,14.1,0.4699817068355408,{"$f":"VLOOKUP(A540,Begin:Einde,7,FALSE)","v":0},1,{"$f":"VLOOKUP(Jaar,Trendfactoren!$A$2:$D$23,4,FALSE)","v":0.98},0,0,0,0,0,0,0,0,0,0,0]
["CEMT VIbM6leegbeide","CEMT VIb","M6","leeg","beide","CO2",19580.92657707226,18.7,0.40684814110139023,{"$f":"VLOOKUP(A541,Begin:Einde,7,FALSE)","v":0},1,{"$f":"VLOOKUP(Jaar,Trendfactoren!$A$2:$D$23,4,FALSE)","v":0.98},0,0,0,0,0,0,0,0,0,0,0]
["CEMT VIbM7geladenbeide","CEMT VIb","M7","geladen","beide","CO2",27256.218393142233,13.6,0.4118717446074826,{"$f":"VLOOKUP(A542,Begin:Einde,7,FALSE)","v":0},1,{"$f":"VLOOKUP(Jaar,Trendfactoren!$A$2:$D$23,4,FALSE)","v":0.98},0,0,0,0,0,0,0,0,0,0,0]
["CEMT VIbM7leegbeide","CEMT VIb","M7","leeg","beide","CO2",25051.757036543073,19.5,0.54278806912509991,{"$f":"VLOOKUP(A543,Begin:Einde,7,FALSE)","v":0},1,{"$f":"VLOOKUP(Jaar,Trendfactoren!$A$2:$D$23,4,FALSE)","v":0.98},0,0,0,0,0,0,0,0,0,0,0]
["CEMT VIbM8geladenbeide","CEMT VIb","M8","geladen","beide","CO2",38969.500194975051,13.6,0.58887244739073419,{"$f":"VLOOKUP(A544,Begin:Einde,7,FALSE)","v":0},1,{"$f":"VLOOKUP(Jaar,Trendfactoren!$A$2:$D$23,4,FALSE)","v":0.98},0,0,0,0,0,0,0,0,0,0,0]
["CEMT VIbM8leegbeide","CEMT VIb","M8","leeg","beide","CO2",30190.655308791127,19.2,0.64406731325421063,{"$f":"VLOOKUP(A545,Begin:Einde,7,FALSE)","v":0},1,{"$f":"VLOOKUP(Jaar,Trendfactoren!$A$2:$D$23,4,FALSE)","v":0.98},0,0,0,0,0,0,0,0,0,0,0]
["CEMT VIbM9geladenbeide","CEMT VIb","M9","geladen","beide","CO2",45416.412562877784,13.7,0.69133872456825063,{"$f":"VLOOKUP(A546,Begin:Einde,7,FALSE)","v":0},1,{"$f":"VLOOKUP(Jaar,Trendfactoren!$A$2:$D$23,4,FALSE)","v":0.98},0,0,0,0,0,0,0,0,0,0,0]
["CEMT VIbM9leegbeide","CEMT VIb","M9","leeg","beide","CO2",36344.796586643744,19.5,0.78747059271061448,{"$f":"VLOOKUP(A547,Begin:Einde,7,FALSE)","v":0},1,{"$f":"VLOOKUP(Jaar,Trendfactoren!$A$2:$D$23,4,FALSE)","v":0.98},0,0,0,0,0,0,0,0,0,0,0]
["CEMT VIcBIgeladenbeide","CEMT VIc","BI","geladen","beide","CO2",44714.782143991346,13.3,0.66078511390564987,{"$f":"VLOOKUP(A548,Begin:Einde,7,FALSE)","v":0},1,{"$f":"VLOOKUP(Jaar,Trendfactoren!$A$2:$D$23,4,FALSE)","v":0.98},0,0,0,0,0,0,0,0,0,0,0]
["CEMT VIcBIleegbeide","CEMT VIc","BI","leeg","beide","CO2",14416.767848288406,15.1,0.24188132723239436,{"$f":"VLOOKUP(A549,Begin:Einde,7,FALSE)","v":0},1,{"$f":"VLOOKUP(Jaar,Trendfactoren!$A$2:$D$23,4,FALSE)","v":0.98},0,0,0,0,0,0,0,0,0,0,0]
["CEMT VIcBII-1geladenbeide","CEMT VIc","BII-1","geladen","beide","CO2",57680.800203284205,12.5,0.80112222504561403,{"$f":"VLOOKUP(A550,Begin:Einde,7,FALSE)","v":0},1,{"$f":"VLOOKUP(Jaar,Trendfactoren!$A$2:$D$23,4,FALSE)","v":0.98},0,0,0,0,0,0,0,0,0,0,0]
["CEMT VIcBII-1leegbeide","CEMT VIc","BII-1","leeg","beide","CO2",22506.193571086795,16.100000000000001,0.40261079610499712,{"$f":"VLOOKUP(A551,Begin:Einde,7,FALSE)","v":0},1,{"$f":"VLOOKUP(Jaar,Trendfactoren!$A$2:$D$23,4,FALSE)","v":0.98},0,0,0,0,0,0,0,0,0,0,0]
["CEMT VIcBII-2Bgeladenbeide","CEMT VIc","BII-2B","geladen","beide","CO2",102816.51859297972,10.7,1.2223741654943143,{"$f":"VLOOKUP(A552,Begin:Einde,7,FALSE)","v":0},1,{"$f":"VLOOKUP(Jaar,Trendfactoren!$A$2:$D$23,4,FALSE)","v":0.98},0,0,0,0,0,0,0,0,0,0,0]
["CEMT VIcBII-2Bleegbeide","CEMT VIc","BII-2B","leeg","beide","CO2",47885.75202151166,16.100000000000001,0.85662289727370877,{"$f":"VLOOKUP(A553,Begin:Einde,7,FALSE)","v":0},1,{"$f":"VLOOKUP(Jaar,Trendfactoren!$A$2:$D$23,4,FALSE)","v":0.98},0,0,0,0,0,0,0,0,0,0,0]
["CEMT VIcBII-2Lgeladenbeide","CEMT VIc","BII-2L","geladen","beide","CO2",67488.788716157127,12.6,0.94484304202619984,{"$f":"VLOOKUP(A554,Begin:Einde,7,FALSE)","v":0},1,{"$f":"VLOOKUP(Jaar,Trendfactoren!$A$2:$D$23,4,FALSE)","v":0.98},0,0,0,0,0,0,0,0,0,0,0]
["CEMT VIcBII-2Lleegbeide","CEMT VIc","BII-2L","leeg","beide","CO2",29644.587310659273,16,0.52701488552283149,{"$f":"VLOOKUP(A555,Begin:Einde,7,FALSE)","v":0},1,{"$f":"VLOOKUP(Jaar,Trendfactoren!$A$2:$D$23,4,FALSE)","v":0.98},0,0,0,0,0,0,0,0,0,0,0]
["CEMT VIcBII-4geladenbeide","CEMT VIc","BII-4","geladen","beide","CO2",123748.61052043318,10.1,1.3887344069515279,{"$f":"VLOOKUP(A556,Begin:Einde,7,FALSE)","v":0},1,{"$f":"VLOOKUP(Jaar,Trendfactoren!$A$2:$D$23,4,FALSE)","v":0.98},0,0,0,0,0,0,0,0,0,0,0]
["CEMT VIcBII-4leegbeide","CEMT VIc","BII-4","leeg","beide","CO2",62767.345902369889,16,1.1158639271532425,{"$f":"VLOOKUP(A557,Begin:Einde,7,FALSE)","v":0},1,{"$f":"VLOOKUP(Jaar,Trendfactoren!$A$2:$D$23,4,FALSE)","v":0.98},0,0,0,0,0,0,0,0,0,0,0]
["CEMT VIcBII-6Bgeladenbeide","CEMT VIc","BII-6B","geladen","beide","CO2",131195.77119603107,7.5,1.093298093300259,{"$f":"VLOOKUP(A558,Begin:Einde,7,FALSE)","v":0},1,{"$f":"VLOOKUP(Jaar,Trendfactoren!$A$2:$D$23,4,FALSE)","v":0.98},0,0,0,0,0,0,0,0,0,0,0]
["CEMT VIcBII-6Bleegbeide","CEMT VIc","BII-6B","leeg","beide","CO2",99664.323968020282,16,1.7718102038759163,{"$f":"VLOOKUP(A559,Begin:Einde,7,FALSE)","v":0},1,{"$f":"VLOOKUP(Jaar,Trendfactoren!$A$2:$D$23,4,FALSE)","v":0.98},0,0,0,0,0,0,0,0,0,0,0]
["CEMT VIcBII-6Lgeladenbeide","CEMT VIc","BII-6L","geladen","beide","CO2",134759.21378806458,10,1.4973245976451621,{"$f":"VLOOKUP(A560,Begin:Einde,7,FALSE)","v":0},1,{"$f":"VLOOKUP(Jaar,Trendfactoren!$A$2:$D$23,4,FALSE)","v":0.98},0,0,0,0,0,0,0,0,0,0,0]
["CEMT VIcBII-6Lleegbeide","CEMT VIc","BII-6L","leeg","beide","CO2",77493.300045006981,16,1.3776586674667908,{"$f":"VLOOKUP(A561,Begin:Einde,7,FALSE)","v":0},1,{"$f":"VLOOKUP(Jaar,Trendfactoren!$A$2:$D$23,4,FALSE)","v":0.98},0,0,0,0,0,0,0,0,0,0,0]
["CEMT VIcBO1geladenbeide","CEMT VIc","BO1","geladen","beide","CO2",15765.537825816094,13.3,0.23297961453706006,{"$f":"VLOOKUP(A562,Begin:Einde,7,FALSE)","v":0},1,{"$f":"VLOOKUP(Jaar,Trendfactoren!$A$2:$D$23,4,FALSE)","v":0.98},0,0,0,0,0,0,0,0,0,0,0]
["CEMT VIcBO1leegbeide","CEMT VIc","BO1","leeg","beide","CO2",6254.1154383734511,15.1,0.10493015902159901,{"$f":"VLOOKUP(A563,Begin:Einde,7,FALSE)","v":0},1,{"$f":"VLOOKUP(Jaar,Trendfactoren!$A$2:$D$23,4,FALSE)","v":0.98},0,0,0,0,0,0,0,0,0,0,0]
["CEMT VIcBO2geladenbeide","CEMT VIc","BO2","geladen","beide","CO2",16793.143117183779,11.2,0.2089813365693981,{"$f":"VLOOKUP(A564,Begin:Einde,7,FALSE)","v":0},1,{"$f":"VLOOKUP(Jaar,Trendfactoren!$A$2:$D$23,4,FALSE)","v":0.98},0,0,0,0,0,0,0,0,0,0,0]
["CEMT VIcBO2leegbeide","CEMT VIc","BO2","leeg","beide","CO2",8347.5497710207201,15,0.139125829517012,{"$f":"VLOOKUP(A565,Begin:Einde,7,FALSE)","v":0},1,{"$f":"VLOOKUP(Jaar,Trendfactoren!$A$2:$D$23,4,FALSE)","v":0.98},0,0,0,0,0,0,0,0,0,0,0]
["CEMT VIcBO3geladenbeide","CEMT VIc","BO3","geladen","beide","CO2",21979.588908828511,11.8,0.28817683236019603,{"$f":"VLOOKUP(A566,Begin:Einde,7,FALSE)","v":0},1,{"$f":"VLOOKUP(Jaar,Trendfactoren!$A$2:$D$23,4,FALSE)","v":0.98},0,0,0,0,0,0,0,0,0,0,0]
["CEMT VIcBO3leegbeide","CEMT VIc","BO3","leeg","beide","CO2",10489.757356795782,15.1,0.17599481787512924,{"$f":"VLOOKUP(A567,Begin:Einde,7,FALSE)","v":0},1,{"$f":"VLOOKUP(Jaar,Trendfactoren!$A$2:$D$23,4,FALSE)","v":0.98},0,0,0,0,0,0,0,0,0,0,0]
["CEMT VIcBO4geladenbeide","CEMT VIc","BO4","geladen","beide","CO2",32143.981714352358,13.5,0.48215972571528531,{"$f":"VLOOKUP(A568,Begin:Einde,7,FALSE)","v":0},1,{"$f":"VLOOKUP(Jaar,Trendfactoren!$A$2:$D$23,4,FALSE)","v":0.98},0,0,0,0,0,0,0,0,0,0,0]
["CEMT VIcBO4leegbeide","CEMT VIc","BO4","leeg","beide","CO2",11834.683758325265,15.1,0.19855969416745722,{"$f":"VLOOKUP(A569,Begin:Einde,7,FALSE)","v":0},1,{"$f":"VLOOKUP(Jaar,Trendfactoren!$A$2:$D$23,4,FALSE)","v":0.98},0,0,0,0,0,0,0,0,0,0,0]
["CEMT VIcC1bgeladenbeide","CEMT VIc","C1b","geladen","beide","CO2",13694.485040268049,10.9,0.16585542993213526,{"$f":"VLOOKUP(A570,Begin:Einde,7,FALSE)","v":0},1,{"$f":"VLOOKUP(Jaar,Trendfactoren!$A$2:$D$23,4,FALSE)","v":0.98},0,0,0,0,0,0,0,0,0,0,0]
["CEMT VIcC1bleegbeide","CEMT VIc","C1b","leeg","beide","CO2",6480.2660451406273,14,0.10080413847996532,{"$f":"VLOOKUP(A571,Begin:Einde,7,FALSE)","v":0},1,{"$f":"VLOOKUP(Jaar,Trendfactoren!$A$2:$D$23,4,FALSE)","v":0.98},0,0,0,0,0,0,0,0,0,0,0]
["CEMT VIcC1lgeladenbeide","CEMT VIc","C1l","geladen","beide","CO2",8540.0464343828553,10.9,0.10342945126085903,{"$f":"VLOOKUP(A572,Begin:Einde,7,FALSE)","v":0},1,{"$f":"VLOOKUP(Jaar,Trendfactoren!$A$2:$D$23,4,FALSE)","v":0.98},0,0,0,0,0,0,0,0,0,0,0]
["CEMT VIcC1lleegbeide","CEMT VIc","C1l","leeg","beide","CO2",6175.9524431963118,14,9.6070371338609309E-2,{"$f":"VLOOKUP(A573,Begin:Einde,7,FALSE)","v":0},1,{"$f":"VLOOKUP(Jaar,Trendfactoren!$A$2:$D$23,4,FALSE)","v":0.98},0,0,0,0,0,0,0,0,0,0,0]
["CEMT VIcC2bgeladenbeide","CEMT VIc","C2b","geladen","beide","CO2",26103.826456163159,8.6999999999999993,0.25233698907624386,{"$f":"VLOOKUP(A574,Begin:Einde,7,FALSE)","v":0},1,{"$f":"VLOOKUP(Jaar,Trendfactoren!$A$2:$D$23,4,FALSE)","v":0.98},0,0,0,0,0,0,0,0,0,0,0]
["CEMT VIcC2bleegbeide","CEMT VIc","C2b","leeg","beide","CO2",23267.161647271227,14.2,0.36710410599027937,{"$f":"VLOOKUP(A575,Begin:Einde,7,FALSE)","v":0},1,{"$f":"VLOOKUP(Jaar,Trendfactoren!$A$2:$D$23,4,FALSE)","v":0.98},0,0,0,0,0,0,0,0,0,0,0]
["CEMT VIcC2lgeladenbeide","CEMT VIc","C2l","geladen","beide","CO2",31506.334236276107,12.4,0.43408727169980416,{"$f":"VLOOKUP(A576,Begin:Einde,7,FALSE)","v":0},1,{"$f":"VLOOKUP(Jaar,Trendfactoren!$A$2:$D$23,4,FALSE)","v":0.98},0,0,0,0,0,0,0,0,0,0,0]
["CEMT VIcC2lleegbeide","CEMT VIc","C2l","leeg","beide","CO2",22191.240913087011,16.100000000000001,{"$f":"+MJperkgCO2*G577/1000*H577/3600","v":0.39697664300077878},{"$f":"VLOOKUP(A577,Begin:Einde,7,FALSE)","v":0},{"$f":"+Afstand","v":1},{"$f":"VLOOKUP(Jaar,Trendfactoren!$A$2:$D$23,4,FALSE)","v":0.98},0,{"$f":"+J577*H577","v":0},0,0,0,0,0,{"$f":"+S577/$I577","v":0},{"$f":"+Q577/$I577","v":0},{"$f":"+R577/$I577","v":0},0]
[{"$f":"+B578&C578&D578&E578","v":"CEMT VIcC3bgeladenbeide"},"CEMT VIc","C3b","geladen","beide","CO2",43503.005599250464,7.8,0.37702604852683735,{"$f":"VLOOKUP(A578,Begin:Einde,7,FALSE)","v":0},1,{"$f":"VLOOKUP(Jaar,Trendfactoren!$A$2:$D$23,4,FALSE)","v":0.98},{"$f":"+J578*I578*L578","v":0},0,{"$f":"+J578*G578*K578","v":0},{"$f":"+O578/+IF($O$895>0,$O$895,1)","v":0},{"$f":"+IF(E578=\"beide\",O578,0)/IF($O$896>0,$O$896,1)","v":0},{"$f":"+IF(E578=\"op\",O578,0)/IF($O$897>0,$O$897,1)","v":0},{"$f":"+IF(E578=\"af\",O578,0)/IF($O$898>0,$O$898,1)","v":0},0,0,0,{"$f":"+P578/I578","v":0}]
["CEMT VIcC3bleegbeide","CEMT VIc","C3b","leeg","beide","CO2",33189.822565205221,14.2,0.5236616449176823,{"$f":"VLOOKUP(A579,Begin:Einde,7,FALSE)","v":0},1,{"$f":"VLOOKUP(Jaar,Trendfactoren!$A$2:$D$23,4,FALSE)","v":0.98},0,0,0,0,0,0,0,0,0,0,0]
["CEMT VIcC3lgeladenbeide","CEMT VIc","C3l","geladen","beide","CO2",42215.241097347483,10.8,0.50658289316816973,{"$f":"VLOOKUP(A580,Begin:Einde,7,FALSE)","v":0},1,{"$f":"VLOOKUP(Jaar,Trendfactoren!$A$2:$D$23,4,FALSE)","v":0.98},0,0,0,0,0,0,0,0,0,0,0]
["CEMT VIcC3lleegbeide","CEMT VIc","C3l","leeg","beide","CO2",28042.251358639158,16.100000000000001,0.50164471874898942,{"$f":"VLOOKUP(A581,Begin:Einde,7,FALSE)","v":0},1,{"$f":"VLOOKUP(Jaar,Trendfactoren!$A$2:$D$23,4,FALSE)","v":0.98},0,0,0,0,0,0,0,0,0,0,0]
["CEMT VIcC4geladenbeide","CEMT VIc","C4","geladen","beide","CO2",73089.331085718455,10,0.81210367873020506,{"$f":"VLOOKUP(A582,Begin:Einde,7,FALSE)","v":0},1,{"$f":"VLOOKUP(Jaar,Trendfactoren!$A$2:$D$23,4,FALSE)","v":0.98},0,0,0,0,0,0,0,0,0,0,0]
["CEMT VIcC4leegbeide","CEMT VIc","C4","leeg","beide","CO2",53103.647711656915,15.3,0.90276201109816745,{"$f":"VLOOKUP(A583,Begin:Einde,7,FALSE)","v":0},1,{"$f":"VLOOKUP(Jaar,Trendfactoren!$A$2:$D$23,4,FALSE)","v":0.98},0,0,0,0,0,0,0,0,0,0,0]
["CEMT VIcM0geladenbeide","CEMT VIc","M0","geladen","beide","CO2",3738.3267354781929,12.7,5.275194393397005E-2,{"$f":"VLOOKUP(A584,Begin:Einde,7,FALSE)","v":0},1,{"$f":"VLOOKUP(Jaar,Trendfactoren!$A$2:$D$23,4,FALSE)","v":0.98},0,0,0,0,0,0,0,0,0,0,0]
["CEMT VIcM0leegbeide","CEMT VIc","M0","leeg","beide","CO2",2220.5974268710115,15.1,3.7256690161946972E-2,{"$f":"VLOOKUP(A585,Begin:Einde,7,FALSE)","v":0},1,{"$f":"VLOOKUP(Jaar,Trendfactoren!$A$2:$D$23,4,FALSE)","v":0.98},0,0,0,0,0,0,0,0,0,0,0]
["CEMT VIcM1geladenbeide","CEMT VIc","M1","geladen","beide","CO2",6429.9643340437833,10.6,7.5730691045404544E-2,{"$f":"VLOOKUP(A586,Begin:Einde,7,FALSE)","v":0},1,{"$f":"VLOOKUP(Jaar,Trendfactoren!$A$2:$D$23,4,FALSE)","v":0.98},0,0,0,0,0,0,0,0,0,0,0]
["CEMT VIcM1leegbeide","CEMT VIc","M1","leeg","beide","CO2",3797.1694564397262,15,6.3286157607328766E-2,{"$f":"VLOOKUP(A587,Begin:Einde,7,FALSE)","v":0},1,{"$f":"VLOOKUP(Jaar,Trendfactoren!$A$2:$D$23,4,FALSE)","v":0.98},0,0,0,0,0,0,0,0,0,0,0]
["CEMT VIcM10geladenbeide","CEMT VIc","M10","geladen","beide","CO2",51064.044465622203,12.4,0.70354905708190596,{"$f":"VLOOKUP(A588,Begin:Einde,7,FALSE)","v":0},1,{"$f":"VLOOKUP(Jaar,Trendfactoren!$A$2:$D$23,4,FALSE)","v":0.98},0,0,0,0,0,0,0,0,0,0,0]
["CEMT VIcM10leegbeide","CEMT VIc","M10","leeg","beide","CO2",32031.011538217812,18.100000000000001,0.6441792320463805,{"$f":"VLOOKUP(A589,Begin:Einde,7,FALSE)","v":0},1,{"$f":"VLOOKUP(Jaar,Trendfactoren!$A$2:$D$23,4,FALSE)","v":0.98},0,0,0,0,0,0,0,0,0,0,0]
["CEMT VIcM11geladenbeide","CEMT VIc","M11","geladen","beide","CO2",71868.029997790509,14.5,1.1578738166310696,{"$f":"VLOOKUP(A590,Begin:Einde,7,FALSE)","v":0},1,{"$f":"VLOOKUP(Jaar,Trendfactoren!$A$2:$D$23,4,FALSE)","v":0.98},0,0,0,0,0,0,0,0,0,0,0]
["CEMT VIcM11leegbeide","CEMT VIc","M11","leeg","beide","CO2",40559.831526863112,19,0.85626311001155464,{"$f":"VLOOKUP(A591,Begin:Einde,7,FALSE)","v":0},1,{"$f":"VLOOKUP(Jaar,Trendfactoren!$A$2:$D$23,4,FALSE)","v":0.98},0,0,0,0,0,0,0,0,0,0,0]
["CEMT VIcM12geladenbeide","CEMT VIc","M12","geladen","beide","CO2",88501.189768067678,14,1.3766851741699417,{"$f":"VLOOKUP(A592,Begin:Einde,7,FALSE)","v":0},1,{"$f":"VLOOKUP(Jaar,Trendfactoren!$A$2:$D$23,4,FALSE)","v":0.98},0,0,0,0,0,0,0,0,0,0,0]
["CEMT VIcM12leegbeide","CEMT VIc","M12","leeg","beide","CO2",46569.388957393894,18.5,0.95725966190198564,{"$f":"VLOOKUP(A593,Begin:Einde,7,FALSE)","v":0},1,{"$f":"VLOOKUP(Jaar,Trendfactoren!$A$2:$D$23,4,FALSE)","v":0.98},0,0,0,0,0,0,0,0,0,0,0]
["CEMT VIcM2geladenbeide","CEMT VIc","M2","geladen","beide","CO2",10750.828002125534,11.5,0.13737169113827072,{"$f":"VLOOKUP(A594,Begin:Einde,7,FALSE)","v":0},1,{"$f":"VLOOKUP(Jaar,Trendfactoren!$A$2:$D$23,4,FALSE)","v":0.98},0,0,0,0,0,0,0,0,0,0,0]
["CEMT VIcM2leegbeide","CEMT VIc","M2","leeg","beide","CO2",7012.7648128654328,16.2,0.12622976663157778,{"$f":"VLOOKUP(A595,Begin:Einde,7,FALSE)","v":0},1,{"$f":"VLOOKUP(Jaar,Trendfactoren!$A$2:$D$23,4,FALSE)","v":0.98},0,0,0,0,0,0,0,0,0,0,0]
["CEMT VIcM3geladenbeide","CEMT VIc","M3","geladen","beide","CO2",17338.274419820129,13.5,0.26007411629730193,{"$f":"VLOOKUP(A596,Begin:Einde,7,FALSE)","v":0},1,{"$f":"VLOOKUP(Jaar,Trendfactoren!$A$2:$D$23,4,FALSE)","v":0.98},0,0,0,0,0,0,0,0,0,0,0]
["CEMT VIcM3leegbeide","CEMT VIc","M3","leeg","beide","CO2",9193.6779712532662,16.100000000000001,0.1644646837079751,{"$f":"VLOOKUP(A597,Begin:Einde,7,FALSE)","v":0},1,{"$f":"VLOOKUP(Jaar,Trendfactoren!$A$2:$D$23,4,FALSE)","v":0.98},0,0,0,0,0,0,0,0,0,0,0]
["CEMT VIcM4geladenbeide","CEMT VIc","M4","geladen","beide","CO2",21741.281456809102,14,0.33819771155036377,{"$f":"VLOOKUP(A598,Begin:Einde,7,FALSE)","v":0},1,{"$f":"VLOOKUP(Jaar,Trendfactoren!$A$2:$D$23,4,FALSE)","v":0.98},0,0,0,0,0,0,0,0,0,0,0]
["CEMT VIcM4leegbeide","CEMT VIc","M4","leeg","beide","CO2",12246.338198383362,17.2,0.2340411300135487,{"$f":"VLOOKUP(A599,Begin:Einde,7,FALSE)","v":0},1,{"$f":"VLOOKUP(Jaar,Trendfactoren!$A$2:$D$23,4,FALSE)","v":0.98},0,0,0,0,0,0,0,0,0,0,0]
["CEMT VIcM5geladenbeide","CEMT VIc","M5","geladen","beide","CO2",23006.136383499383,14,0.3578732326322126,{"$f":"VLOOKUP(A600,Begin:Einde,7,FALSE)","v":0},1,{"$f":"VLOOKUP(Jaar,Trendfactoren!$A$2:$D$23,4,FALSE)","v":0.98},0,0,0,0,0,0,0,0,0,0,0]
["CEMT VIcM5leegbeide","CEMT VIc","M5","leeg","beide","CO2",13279.555714186294,17.100000000000001,0.25231155856953963,{"$f":"VLOOKUP(A601,Begin:Einde,7,FALSE)","v":0},1,{"$f":"VLOOKUP(Jaar,Trendfactoren!$A$2:$D$23,4,FALSE)","v":0.98},0,0,0,0,0,0,0,0,0,0,0]
["CEMT VIcM6geladenbeide","CEMT VIc","M6","geladen","beide","CO2",28669.647914626741,13.8,0.43960126802427668,{"$f":"VLOOKUP(A602,Begin:Einde,7,FALSE)","v":0},1,{"$f":"VLOOKUP(Jaar,Trendfactoren!$A$2:$D$23,4,FALSE)","v":0.98},0,0,0,0,0,0,0,0,0,0,0]
["CEMT VIcM6leegbeide","CEMT VIc","M6","leeg","beide","CO2",18520.776800974163,18.2,0.37453126419747751,{"$f":"VLOOKUP(A603,Begin:Einde,7,FALSE)","v":0},1,{"$f":"VLOOKUP(Jaar,Trendfactoren!$A$2:$D$23,4,FALSE)","v":0.98},0,0,0,0,0,0,0,0,0,0,0]
["CEMT VIcM7geladenbeide","CEMT VIc","M7","geladen","beide","CO2",26421.52373737645,13.4,0.39338713120093827,{"$f":"VLOOKUP(A604,Begin:Einde,7,FALSE)","v":0},1,{"$f":"VLOOKUP(Jaar,Trendfactoren!$A$2:$D$23,4,FALSE)","v":0.98},0,0,0,0,0,0,0,0,0,0,0]
["CEMT VIcM7leegbeide","CEMT VIc","M7","leeg","beide","CO2",22654.752954831351,18.600000000000001,0.46819822773318132,{"$f":"VLOOKUP(A605,Begin:Einde,7,FALSE)","v":0},1,{"$f":"VLOOKUP(Jaar,Trendfactoren!$A$2:$D$23,4,FALSE)","v":0.98},0,0,0,0,0,0,0,0,0,0,0]
["CEMT VIcM8geladenbeide","CEMT VIc","M8","geladen","beide","CO2",35945.340401821326,13.1,0.52320439918206596,{"$f":"VLOOKUP(A606,Begin:Einde,7,FALSE)","v":0},1,{"$f":"VLOOKUP(Jaar,Trendfactoren!$A$2:$D$23,4,FALSE)","v":0.98},0,0,0,0,0,0,0,0,0,0,0]
["CEMT VIcM8leegbeide","CEMT VIc","M8","leeg","beide","CO2",26295.8490992396,18,0.52591698198479198,{"$f":"VLOOKUP(A607,Begin:Einde,7,FALSE)","v":0},1,{"$f":"VLOOKUP(Jaar,Trendfactoren!$A$2:$D$23,4,FALSE)","v":0.98},0,0,0,0,0,0,0,0,0,0,0]
["CEMT VIcM9geladenbeide","CEMT VIc","M9","geladen","beide","CO2",39233.690410301904,12.8,0.5579902636131826,{"$f":"VLOOKUP(A608,Begin:Einde,7,FALSE)","v":0},1,{"$f":"VLOOKUP(Jaar,Trendfactoren!$A$2:$D$23,4,FALSE)","v":0.98},0,0,0,0,0,0,0,0,0,0,0]
["CEMT VIcM9leegbeide","CEMT VIc","M9","leeg","beide","CO2",30607.655811268345,18,0.61215311622536683,{"$f":"VLOOKUP(A609,Begin:Einde,7,FALSE)","v":0},1,{"$f":"VLOOKUP(Jaar,Trendfactoren!$A$2:$D$23,4,FALSE)","v":0.98},0,0,0,0,0,0,0,0,0,0,0]
["IJsselBIgeladenaf","IJssel","BI","geladen","af","CO2",25139.187641887482,6.1,0.1703878273505707,{"$f":"VLOOKUP(A610,Begin:Einde,7,FALSE)","v":0},1,{"$f":"VLOOKUP(Jaar,Trendfactoren!$A$2:$D$23,4,FALSE)","v":0.98},0,0,0,0,0,0,0,0,0,0,0]
["IJsselBIgeladenop","IJssel","BI","geladen","op","CO2",31521.546382896882,3.5999999999999996,0.12608618553158751,{"$f":"VLOOKUP(A611,Begin:Einde,7,FALSE)","v":0},1,{"$f":"VLOOKUP(Jaar,Trendfactoren!$A$2:$D$23,4,FALSE)","v":0.98},0,0,0,0,0,0,0,0,0,0,0]
["IJsselBIleegaf","IJssel","BI","leeg","af","CO2",14303.206434638916,16.3,0.25904696098290481,{"$f":"VLOOKUP(A612,Begin:Einde,7,FALSE)","v":0},1,{"$f":"VLOOKUP(Jaar,Trendfactoren!$A$2:$D$23,4,FALSE)","v":0.98},0,0,0,0,0,0,0,0,0,0,0]
["IJsselBIleegop","IJssel","BI","leeg","op","CO2",17860.239542546424,15,0.29767065904244039,{"$f":"VLOOKUP(A613,Begin:Einde,7,FALSE)","v":0},1,{"$f":"VLOOKUP(Jaar,Trendfactoren!$A$2:$D$23,4,FALSE)","v":0.98},0,0,0,0,0,0,0,0,0,0,0]
["IJsselBII-1geladenaf","IJssel","BII-1","geladen","af","CO2",31481.28965437405,10.4,0.36378379156165569,{"$f":"VLOOKUP(A614,Begin:Einde,7,FALSE)","v":0},1,{"$f":"VLOOKUP(Jaar,Trendfactoren!$A$2:$D$23,4,FALSE)","v":0.98},0,0,0,0,0,0,0,0,0,0,0]
["IJsselBII-1geladenop","IJssel","BII-1","geladen","op","CO2",45099.382668088459,9.1,0.45600486919956112,{"$f":"VLOOKUP(A615,Begin:Einde,7,FALSE)","v":0},1,{"$f":"VLOOKUP(Jaar,Trendfactoren!$A$2:$D$23,4,FALSE)","v":0.98},0,0,0,0,0,0,0,0,0,0,0]
["IJsselBII-1leegaf","IJssel","BII-1","leeg","af","CO2",19932.289479658852,16.3,0.3609959094649326,{"$f":"VLOOKUP(A616,Begin:Einde,7,FALSE)","v":0},1,{"$f":"VLOOKUP(Jaar,Trendfactoren!$A$2:$D$23,4,FALSE)","v":0.98},0,0,0,0,0,0,0,0,0,0,0]
["IJsselBII-1leegop","IJssel","BII-1","leeg","op","CO2",24314.719540435613,14.8,0.39984205466494127,{"$f":"VLOOKUP(A617,Begin:Einde,7,FALSE)","v":0},1,{"$f":"VLOOKUP(Jaar,Trendfactoren!$A$2:$D$23,4,FALSE)","v":0.98},0,0,0,0,0,0,0,0,0,0,0]
["IJsselBO1geladenaf","IJssel","BO1","geladen","af","CO2",7561.8591141590559,10,8.4020656823989501E-2,{"$f":"VLOOKUP(A618,Begin:Einde,7,FALSE)","v":0},1,{"$f":"VLOOKUP(Jaar,Trendfactoren!$A$2:$D$23,4,FALSE)","v":0.98},0,0,0,0,0,0,0,0,0,0,0]
["IJsselBO1geladenop","IJssel","BO1","geladen","op","CO2",10447.669406683788,8.5,9.8672433285346889E-2,{"$f":"VLOOKUP(A619,Begin:Einde,7,FALSE)","v":0},1,{"$f":"VLOOKUP(Jaar,Trendfactoren!$A$2:$D$23,4,FALSE)","v":0.98},0,0,0,0,0,0,0,0,0,0,0]
["IJsselBO1leegaf","IJssel","BO1","leeg","af","CO2",6032.9379025990247,16.2,0.10859288224678243,{"$f":"VLOOKUP(A620,Begin:Einde,7,FALSE)","v":0},1,{"$f":"VLOOKUP(Jaar,Trendfactoren!$A$2:$D$23,4,FALSE)","v":0.98},0,0,0,0,0,0,0,0,0,0,0]
["IJsselBO1leegop","IJssel","BO1","leeg","op","CO2",7423.4403907465294,14.8,0.12207435309227628,{"$f":"VLOOKUP(A621,Begin:Einde,7,FALSE)","v":0},1,{"$f":"VLOOKUP(Jaar,Trendfactoren!$A$2:$D$23,4,FALSE)","v":0.98},0,0,0,0,0,0,0,0,0,0,0]
["IJsselBO2geladenaf","IJssel","BO2","geladen","af","CO2",16362.902128496778,10.7,0.19453672530546168,{"$f":"VLOOKUP(A622,Begin:Einde,7,FALSE)","v":0},1,{"$f":"VLOOKUP(Jaar,Trendfactoren!$A$2:$D$23,4,FALSE)","v":0.98},0,0,0,0,0,0,0,0,0,0,0]
["IJsselBO2geladenop","IJssel","BO2","geladen","op","CO2",23341.666486880458,9.5,0.24638425736151595,{"$f":"VLOOKUP(A623,Begin:Einde,7,FALSE)","v":0},1,{"$f":"VLOOKUP(Jaar,Trendfactoren!$A$2:$D$23,4,FALSE)","v":0.98},0,0,0,0,0,0,0,0,0,0,0]
["IJsselBO2leegaf","IJssel","BO2","leeg","af","CO2",8084.6095805948626,16.100000000000001,0.14462468249730812,{"$f":"VLOOKUP(A624,Begin:Einde,7,FALSE)","v":0},1,{"$f":"VLOOKUP(Jaar,Trendfactoren!$A$2:$D$23,4,FALSE)","v":0.98},0,0,0,0,0,0,0,0,0,0,0]
["IJsselBO2leegop","IJssel","BO2","leeg","op","CO2",9969.80889867107,14.7,0.16284021201162746,{"$f":"VLOOKUP(A625,Begin:Einde,7,FALSE)","v":0},1,{"$f":"VLOOKUP(Jaar,Trendfactoren!$A$2:$D$23,4,FALSE)","v":0.98},0,0,0,0,0,0,0,0,0,0,0]
["IJsselBO3geladenaf","IJssel","BO3","geladen","af","CO2",23813.655880968912,11.7,0.3095775264525959,{"$f":"VLOOKUP(A626,Begin:Einde,7,FALSE)","v":0},1,{"$f":"VLOOKUP(Jaar,Trendfactoren!$A$2:$D$23,4,FALSE)","v":0.98},0,0,0,0,0,0,0,0,0,0,0]
["IJsselBO3geladenop","IJssel","BO3","geladen","op","CO2",25302.489833561965,9,0.25302489833561964,{"$f":"VLOOKUP(A627,Begin:Einde,7,FALSE)","v":0},1,{"$f":"VLOOKUP(Jaar,Trendfactoren!$A$2:$D$23,4,FALSE)","v":0.98},0,0,0,0,0,0,0,0,0,0,0]
["IJsselBO3leegaf","IJssel","BO3","leeg","af","CO2",9778.2995390608121,15.9,0.17274995852340769,{"$f":"VLOOKUP(A628,Begin:Einde,7,FALSE)","v":0},1,{"$f":"VLOOKUP(Jaar,Trendfactoren!$A$2:$D$23,4,FALSE)","v":0.98},0,0,0,0,0,0,0,0,0,0,0]
["IJsselBO3leegop","IJssel","BO3","leeg","op","CO2",12247.470266777906,14.6,0.19868118432773046,{"$f":"VLOOKUP(A629,Begin:Einde,7,FALSE)","v":0},1,{"$f":"VLOOKUP(Jaar,Trendfactoren!$A$2:$D$23,4,FALSE)","v":0.98},0,0,0,0,0,0,0,0,0,0,0]
["IJsselBO4geladenaf","IJssel","BO4","geladen","af","CO2",20644.394882800421,10.5,0.24085127363267156,{"$f":"VLOOKUP(A630,Begin:Einde,7,FALSE)","v":0},1,{"$f":"VLOOKUP(Jaar,Trendfactoren!$A$2:$D$23,4,FALSE)","v":0.98},0,0,0,0,0,0,0,0,0,0,0]
["IJsselBO4geladenop","IJssel","BO4","geladen","op","CO2",30746.177681643741,9.5,0.32454298663957282,{"$f":"VLOOKUP(A631,Begin:Einde,7,FALSE)","v":0},1,{"$f":"VLOOKUP(Jaar,Trendfactoren!$A$2:$D$23,4,FALSE)","v":0.98},0,0,0,0,0,0,0,0,0,0,0]
["IJsselBO4leegaf","IJssel","BO4","leeg","af","CO2",11690.493764825218,16.3,0.21172783151850119,{"$f":"VLOOKUP(A632,Begin:Einde,7,FALSE)","v":0},1,{"$f":"VLOOKUP(Jaar,Trendfactoren!$A$2:$D$23,4,FALSE)","v":0.98},0,0,0,0,0,0,0,0,0,0,0]
["IJsselBO4leegop","IJssel","BO4","leeg","op","CO2",14581.958400975358,15,0.24303264001625596,{"$f":"VLOOKUP(A633,Begin:Einde,7,FALSE)","v":0},1,{"$f":"VLOOKUP(Jaar,Trendfactoren!$A$2:$D$23,4,FALSE)","v":0.98},0,0,0,0,0,0,0,0,0,0,0]
["IJsselC1bgeladenaf","IJssel","C1b","geladen","af","CO2",15251.166986911694,11.1,0.18809772617191087,{"$f":"VLOOKUP(A634,Begin:Einde,7,FALSE)","v":0},1,{"$f":"VLOOKUP(Jaar,Trendfactoren!$A$2:$D$23,4,FALSE)","v":0.98},0,0,0,0,0,0,0,0,0,0,0]
["IJsselC1bgeladenop","IJssel","C1b","geladen","op","CO2",12861.105993886549,7.3000000000000007,0.1043178597281909,{"$f":"VLOOKUP(A635,Begin:Einde,7,FALSE)","v":0},1,{"$f":"VLOOKUP(Jaar,Trendfactoren!$A$2:$D$23,4,FALSE)","v":0.98},0,0,0,0,0,0,0,0,0,0,0]
["IJsselC1bleegaf","IJssel","C1b","leeg","af","CO2",5155.1019329618566,13.8,7.9044896305415127E-2,{"$f":"VLOOKUP(A636,Begin:Einde,7,FALSE)","v":0},1,{"$f":"VLOOKUP(Jaar,Trendfactoren!$A$2:$D$23,4,FALSE)","v":0.98},0,0,0,0,0,0,0,0,0,0,0]
["IJsselC1bleegop","IJssel","C1b","leeg","op","CO2",6488.7098122127809,12.3,8.8679034100241347E-2,{"$f":"VLOOKUP(A637,Begin:Einde,7,FALSE)","v":0},1,{"$f":"VLOOKUP(Jaar,Trendfactoren!$A$2:$D$23,4,FALSE)","v":0.98},0,0,0,0,0,0,0,0,0,0,0]
["IJsselC1lgeladenaf","IJssel","C1l","geladen","af","CO2",11003.68808943385,11.2,0.13693478511295457,{"$f":"VLOOKUP(A638,Begin:Einde,7,FALSE)","v":0},1,{"$f":"VLOOKUP(Jaar,Trendfactoren!$A$2:$D$23,4,FALSE)","v":0.98},0,0,0,0,0,0,0,0,0,0,0]
["IJsselC1lgeladenop","IJssel","C1l","geladen","op","CO2",10873.509934599573,8.1,9.7861589411396152E-2,{"$f":"VLOOKUP(A639,Begin:Einde,7,FALSE)","v":0},1,{"$f":"VLOOKUP(Jaar,Trendfactoren!$A$2:$D$23,4,FALSE)","v":0.98},0,0,0,0,0,0,0,0,0,0,0]
["IJsselC1lleegaf","IJssel","C1l","leeg","af","CO2",4514.8332629751912,13.3,6.671920266396672E-2,{"$f":"VLOOKUP(A640,Begin:Einde,7,FALSE)","v":0},1,{"$f":"VLOOKUP(Jaar,Trendfactoren!$A$2:$D$23,4,FALSE)","v":0.98},0,0,0,0,0,0,0,0,0,0,0]
["IJsselC1lleegop","IJssel","C1l","leeg","op","CO2",6071.8803985291324,12.2,{"$f":"+MJperkgCO2*G641/1000*H641/3600","v":8.2307712068950448E-2},{"$f":"VLOOKUP(A641,Begin:Einde,7,FALSE)","v":0},{"$f":"+Afstand","v":1},{"$f":"VLOOKUP(Jaar,Trendfactoren!$A$2:$D$23,4,FALSE)","v":0.98},0,{"$f":"+J641*H641","v":0},0,0,0,0,0,{"$f":"+S641/$I641","v":0},{"$f":"+Q641/$I641","v":0},{"$f":"+R641/$I641","v":0},0]
[{"$f":"+B642&C642&D642&E642","v":"IJsselM0geladenaf"},"IJssel","M0","geladen","af","CO2",4561.4967089902457,15.3,7.7545444052834187E-2,{"$f":"VLOOKUP(A642,Begin:Einde,7,FALSE)","v":0},1,{"$f":"VLOOKUP(Jaar,Trendfactoren!$A$2:$D$23,4,FALSE)","v":0.98},{"$f":"+J642*I642*L642","v":0},0,{"$f":"+J642*G642*K642","v":0},{"$f":"+O642/+IF($O$895>0,$O$895,1)","v":0},{"$f":"+IF(E642=\"beide\",O642,0)/IF($O$896>0,$O$896,1)","v":0},{"$f":"+IF(E642=\"op\",O642,0)/IF($O$897>0,$O$897,1)","v":0},{"$f":"+IF(E642=\"af\",O642,0)/IF($O$898>0,$O$898,1)","v":0},0,0,0,{"$f":"+P642/I642","v":0}]
["IJsselM0geladenop","IJssel","M0","geladen","op","CO2",3838.9289598223972,11.2,4.7773338166678725E-2,{"$f":"VLOOKUP(A643,Begin:Einde,7,FALSE)","v":0},1,{"$f":"VLOOKUP(Jaar,Trendfactoren!$A$2:$D$23,4,FALSE)","v":0.98},0,0,0,0,0,0,0,0,0,0,0]
["IJsselM0leegaf","IJssel","M0","leeg","af","CO2",2050.1714058528491,15.9,3.6219694836733672E-2,{"$f":"VLOOKUP(A644,Begin:Einde,7,FALSE)","v":0},1,{"$f":"VLOOKUP(Jaar,Trendfactoren!$A$2:$D$23,4,FALSE)","v":0.98},0,0,0,0,0,0,0,0,0,0,0]
["IJsselM0leegop","IJssel","M0","leeg","op","CO2",2722.7781891238392,15.100000000000001,4.5682167395299976E-2,{"$f":"VLOOKUP(A645,Begin:Einde,7,FALSE)","v":0},1,{"$f":"VLOOKUP(Jaar,Trendfactoren!$A$2:$D$23,4,FALSE)","v":0.98},0,0,0,0,0,0,0,0,0,0,0]
["IJsselM1geladenaf","IJssel","M1","geladen","af","CO2",5915.3727484492993,9.6999999999999993,6.3754572955509112E-2,{"$f":"VLOOKUP(A646,Begin:Einde,7,FALSE)","v":0},1,{"$f":"VLOOKUP(Jaar,Trendfactoren!$A$2:$D$23,4,FALSE)","v":0.98},0,0,0,0,0,0,0,0,0,0,0]
["IJsselM1geladenop","IJssel","M1","geladen","op","CO2",8760.812734582636,8.5,8.2741009159947115E-2,{"$f":"VLOOKUP(A647,Begin:Einde,7,FALSE)","v":0},1,{"$f":"VLOOKUP(Jaar,Trendfactoren!$A$2:$D$23,4,FALSE)","v":0.98},0,0,0,0,0,0,0,0,0,0,0]
["IJsselM1leegaf","IJssel","M1","leeg","af","CO2",3621.1351245217306,16,6.437573554705299E-2,{"$f":"VLOOKUP(A648,Begin:Einde,7,FALSE)","v":0},1,{"$f":"VLOOKUP(Jaar,Trendfactoren!$A$2:$D$23,4,FALSE)","v":0.98},0,0,0,0,0,0,0,0,0,0,0]
["IJsselM1leegop","IJssel","M1","leeg","op","CO2",4695.7963314998015,15,7.8263272191663347E-2,{"$f":"VLOOKUP(A649,Begin:Einde,7,FALSE)","v":0},1,{"$f":"VLOOKUP(Jaar,Trendfactoren!$A$2:$D$23,4,FALSE)","v":0.98},0,0,0,0,0,0,0,0,0,0,0]
["IJsselM2geladenaf","IJssel","M2","geladen","af","CO2",10476.797268673783,10.1,0.11757294712622801,{"$f":"VLOOKUP(A650,Begin:Einde,7,FALSE)","v":0},1,{"$f":"VLOOKUP(Jaar,Trendfactoren!$A$2:$D$23,4,FALSE)","v":0.98},0,0,0,0,0,0,0,0,0,0,0]
["IJsselM2geladenop","IJssel","M2","geladen","op","CO2",13868.784164897572,8.4,0.12944198553904401,{"$f":"VLOOKUP(A651,Begin:Einde,7,FALSE)","v":0},1,{"$f":"VLOOKUP(Jaar,Trendfactoren!$A$2:$D$23,4,FALSE)","v":0.98},0,0,0,0,0,0,0,0,0,0,0]
["IJsselM2leegaf","IJssel","M2","leeg","af","CO2",7046.1858327495584,17.399999999999999,0.13622625943315811,{"$f":"VLOOKUP(A652,Begin:Einde,7,FALSE)","v":0},1,{"$f":"VLOOKUP(Jaar,Trendfactoren!$A$2:$D$23,4,FALSE)","v":0.98},0,0,0,0,0,0,0,0,0,0,0]
["IJsselM2leegop","IJssel","M2","leeg","op","CO2",8716.1546909631343,16.100000000000001,0.1559223228050072,{"$f":"VLOOKUP(A653,Begin:Einde,7,FALSE)","v":0},1,{"$f":"VLOOKUP(Jaar,Trendfactoren!$A$2:$D$23,4,FALSE)","v":0.98},0,0,0,0,0,0,0,0,0,0,0]
["IJsselM3geladenaf","IJssel","M3","geladen","af","CO2",12404.108496757752,10.1,0.13920166201917031,{"$f":"VLOOKUP(A654,Begin:Einde,7,FALSE)","v":0},1,{"$f":"VLOOKUP(Jaar,Trendfactoren!$A$2:$D$23,4,FALSE)","v":0.98},0,0,0,0,0,0,0,0,0,0,0]
["IJsselM3geladenop","IJssel","M3","geladen","op","CO2",17068.904433495809,8.6,0.16310286458673773,{"$f":"VLOOKUP(A655,Begin:Einde,7,FALSE)","v":0},1,{"$f":"VLOOKUP(Jaar,Trendfactoren!$A$2:$D$23,4,FALSE)","v":0.98},0,0,0,0,0,0,0,0,0,0,0]
["IJsselM3leegaf","IJssel","M3","leeg","af","CO2",8940.2055759330924,17,0.16887054976762506,{"$f":"VLOOKUP(A656,Begin:Einde,7,FALSE)","v":0},1,{"$f":"VLOOKUP(Jaar,Trendfactoren!$A$2:$D$23,4,FALSE)","v":0.98},0,0,0,0,0,0,0,0,0,0,0]
["IJsselM3leegop","IJssel","M3","leeg","op","CO2",10972.666295499654,15.600000000000001,0.19019288245532734,{"$f":"VLOOKUP(A657,Begin:Einde,7,FALSE)","v":0},1,{"$f":"VLOOKUP(Jaar,Trendfactoren!$A$2:$D$23,4,FALSE)","v":0.98},0,0,0,0,0,0,0,0,0,0,0]
["IJsselM4geladenaf","IJssel","M4","geladen","af","CO2",12983.673816480396,9.6999999999999993,0.13993515113317759,{"$f":"VLOOKUP(A658,Begin:Einde,7,FALSE)","v":0},1,{"$f":"VLOOKUP(Jaar,Trendfactoren!$A$2:$D$23,4,FALSE)","v":0.98},0,0,0,0,0,0,0,0,0,0,0]
["IJsselM4geladenop","IJssel","M4","geladen","op","CO2",17762.960760534668,8.1,0.159866646844812,{"$f":"VLOOKUP(A659,Begin:Einde,7,FALSE)","v":0},1,{"$f":"VLOOKUP(Jaar,Trendfactoren!$A$2:$D$23,4,FALSE)","v":0.98},0,0,0,0,0,0,0,0,0,0,0]
["IJsselM4leegaf","IJssel","M4","leeg","af","CO2",10363.380563443434,16.899999999999999,0.19460125724688224,{"$f":"VLOOKUP(A660,Begin:Einde,7,FALSE)","v":0},1,{"$f":"VLOOKUP(Jaar,Trendfactoren!$A$2:$D$23,4,FALSE)","v":0.98},0,0,0,0,0,0,0,0,0,0,0]
["IJsselM4leegop","IJssel","M4","leeg","op","CO2",13100.700426648635,15.7,0.22853444077598173,{"$f":"VLOOKUP(A661,Begin:Einde,7,FALSE)","v":0},1,{"$f":"VLOOKUP(Jaar,Trendfactoren!$A$2:$D$23,4,FALSE)","v":0.98},0,0,0,0,0,0,0,0,0,0,0]
["IJsselM5geladenaf","IJssel","M5","geladen","af","CO2",15752.932605412272,10.199999999999999,0.17853323619467243,{"$f":"VLOOKUP(A662,Begin:Einde,7,FALSE)","v":0},1,{"$f":"VLOOKUP(Jaar,Trendfactoren!$A$2:$D$23,4,FALSE)","v":0.98},0,0,0,0,0,0,0,0,0,0,0]
["IJsselM5geladenop","IJssel","M5","geladen","op","CO2",22858.377664375705,9,0.22858377664375704,{"$f":"VLOOKUP(A663,Begin:Einde,7,FALSE)","v":0},1,{"$f":"VLOOKUP(Jaar,Trendfactoren!$A$2:$D$23,4,FALSE)","v":0.98},0,0,0,0,0,0,0,0,0,0,0]
["IJsselM5leegaf","IJssel","M5","leeg","af","CO2",11534.871087567362,17,0.21788089832071683,{"$f":"VLOOKUP(A664,Begin:Einde,7,FALSE)","v":0},1,{"$f":"VLOOKUP(Jaar,Trendfactoren!$A$2:$D$23,4,FALSE)","v":0.98},0,0,0,0,0,0,0,0,0,0,0]
["IJsselM5leegop","IJssel","M5","leeg","op","CO2",14774.209543987225,15.899999999999999,0.26101103527710762,{"$f":"VLOOKUP(A665,Begin:Einde,7,FALSE)","v":0},1,{"$f":"VLOOKUP(Jaar,Trendfactoren!$A$2:$D$23,4,FALSE)","v":0.98},0,0,0,0,0,0,0,0,0,0,0]
["IJsselM6geladenaf","IJssel","M6","geladen","af","CO2",12345.292107350135,6.2,8.5045345628412039E-2,{"$f":"VLOOKUP(A666,Begin:Einde,7,FALSE)","v":0},1,{"$f":"VLOOKUP(Jaar,Trendfactoren!$A$2:$D$23,4,FALSE)","v":0.98},0,0,0,0,0,0,0,0,0,0,0]
["IJsselM6geladenop","IJssel","M6","geladen","op","CO2",19418.812451400616,4.4000000000000004,9.4936416429069678E-2,{"$f":"VLOOKUP(A667,Begin:Einde,7,FALSE)","v":0},1,{"$f":"VLOOKUP(Jaar,Trendfactoren!$A$2:$D$23,4,FALSE)","v":0.98},0,0,0,0,0,0,0,0,0,0,0]
["IJsselM6leegaf","IJssel","M6","leeg","af","CO2",12971.181028100193,16.3,0.23492250084225905,{"$f":"VLOOKUP(A668,Begin:Einde,7,FALSE)","v":0},1,{"$f":"VLOOKUP(Jaar,Trendfactoren!$A$2:$D$23,4,FALSE)","v":0.98},0,0,0,0,0,0,0,0,0,0,0]
["IJsselM6leegop","IJssel","M6","leeg","op","CO2",16307.582422955971,15,0.27179304038259955,{"$f":"VLOOKUP(A669,Begin:Einde,7,FALSE)","v":0},1,{"$f":"VLOOKUP(Jaar,Trendfactoren!$A$2:$D$23,4,FALSE)","v":0.98},0,0,0,0,0,0,0,0,0,0,0]
["IJsselM7geladenaf","IJssel","M7","geladen","af","CO2",13839.636893769564,5.2,7.996234649733526E-2,{"$f":"VLOOKUP(A670,Begin:Einde,7,FALSE)","v":0},1,{"$f":"VLOOKUP(Jaar,Trendfactoren!$A$2:$D$23,4,FALSE)","v":0.98},0,0,0,0,0,0,0,0,0,0,0]
["IJsselM7geladenop","IJssel","M7","geladen","op","CO2",21651.765914751359,3.0999999999999996,7.457830481747689E-2,{"$f":"VLOOKUP(A671,Begin:Einde,7,FALSE)","v":0},1,{"$f":"VLOOKUP(Jaar,Trendfactoren!$A$2:$D$23,4,FALSE)","v":0.98},0,0,0,0,0,0,0,0,0,0,0]
["IJsselM7leegaf","IJssel","M7","leeg","af","CO2",14934.863758186379,16.100000000000001,0.26716811834088972,{"$f":"VLOOKUP(A672,Begin:Einde,7,FALSE)","v":0},1,{"$f":"VLOOKUP(Jaar,Trendfactoren!$A$2:$D$23,4,FALSE)","v":0.98},0,0,0,0,0,0,0,0,0,0,0]
["IJsselM7leegop","IJssel","M7","leeg","op","CO2",18895.039350202838,14.8,0.31071842487000229,{"$f":"VLOOKUP(A673,Begin:Einde,7,FALSE)","v":0},1,{"$f":"VLOOKUP(Jaar,Trendfactoren!$A$2:$D$23,4,FALSE)","v":0.98},0,0,0,0,0,0,0,0,0,0,0]
["IJsselM8geladenaf","IJssel","M8","geladen","af","CO2",27776.84651831026,6.4,0.19752424190798409,{"$f":"VLOOKUP(A674,Begin:Einde,7,FALSE)","v":0},1,{"$f":"VLOOKUP(Jaar,Trendfactoren!$A$2:$D$23,4,FALSE)","v":0.98},0,0,0,0,0,0,0,0,0,0,0]
["IJsselM8geladenop","IJssel","M8","geladen","op","CO2",35553.717105737836,4,0.15801652046994594,{"$f":"VLOOKUP(A675,Begin:Einde,7,FALSE)","v":0},1,{"$f":"VLOOKUP(Jaar,Trendfactoren!$A$2:$D$23,4,FALSE)","v":0.98},0,0,0,0,0,0,0,0,0,0,0]
["IJsselM8leegaf","IJssel","M8","leeg","af","CO2",17053.660840059147,15.5,0.29370193668990757,{"$f":"VLOOKUP(A676,Begin:Einde,7,FALSE)","v":0},1,{"$f":"VLOOKUP(Jaar,Trendfactoren!$A$2:$D$23,4,FALSE)","v":0.98},0,0,0,0,0,0,0,0,0,0,0]
["IJsselM8leegop","IJssel","M8","leeg","op","CO2",21424.980709259788,14.1,0.3356580311117367,{"$f":"VLOOKUP(A677,Begin:Einde,7,FALSE)","v":0},1,{"$f":"VLOOKUP(Jaar,Trendfactoren!$A$2:$D$23,4,FALSE)","v":0.98},0,0,0,0,0,0,0,0,0,0,0]
["LekBIgeladenaf","Lek","BI","geladen","af","CO2",28924.538117396289,12,0.38566050823195053,{"$f":"VLOOKUP(A678,Begin:Einde,7,FALSE)","v":0},1,{"$f":"VLOOKUP(Jaar,Trendfactoren!$A$2:$D$23,4,FALSE)","v":0.98},0,0,0,0,0,0,0,0,0,0,0]
["LekBIgeladenop","Lek","BI","geladen","op","CO2",38689.588718776598,11.299999999999999,0.48576928058019497,{"$f":"VLOOKUP(A679,Begin:Einde,7,FALSE)","v":0},1,{"$f":"VLOOKUP(Jaar,Trendfactoren!$A$2:$D$23,4,FALSE)","v":0.98},0,0,0,0,0,0,0,0,0,0,0]
["LekBIleegaf","Lek","BI","leeg","af","CO2",13385.920863237137,15.8,0.23499727737682974,{"$f":"VLOOKUP(A680,Begin:Einde,7,FALSE)","v":0},1,{"$f":"VLOOKUP(Jaar,Trendfactoren!$A$2:$D$23,4,FALSE)","v":0.98},0,0,0,0,0,0,0,0,0,0,0]
["LekBIleegop","Lek","BI","leeg","op","CO2",15851.561766840869,14.7,0.25890884219173416,{"$f":"VLOOKUP(A681,Begin:Einde,7,FALSE)","v":0},1,{"$f":"VLOOKUP(Jaar,Trendfactoren!$A$2:$D$23,4,FALSE)","v":0.98},0,0,0,0,0,0,0,0,0,0,0]
["LekBII-1geladenaf","Lek","BII-1","geladen","af","CO2",40816.680173359302,11.100000000000001,0.5034057221380982,{"$f":"VLOOKUP(A682,Begin:Einde,7,FALSE)","v":0},1,{"$f":"VLOOKUP(Jaar,Trendfactoren!$A$2:$D$23,4,FALSE)","v":0.98},0,0,0,0,0,0,0,0,0,0,0]
["LekBII-1geladenop","Lek","BII-1","geladen","op","CO2",45950.972404532426,9.2999999999999989,0.47482671484683503,{"$f":"VLOOKUP(A683,Begin:Einde,7,FALSE)","v":0},1,{"$f":"VLOOKUP(Jaar,Trendfactoren!$A$2:$D$23,4,FALSE)","v":0.98},0,0,0,0,0,0,0,0,0,0,0]
["LekBII-1leegaf","Lek","BII-1","leeg","af","CO2",18332.277216960596,15.8,0.3218333111421971,{"$f":"VLOOKUP(A684,Begin:Einde,7,FALSE)","v":0},1,{"$f":"VLOOKUP(Jaar,Trendfactoren!$A$2:$D$23,4,FALSE)","v":0.98},0,0,0,0,0,0,0,0,0,0,0]
["LekBII-1leegop","Lek","BII-1","leeg","op","CO2",21452.525456069845,14.6,0.34800763517624417,{"$f":"VLOOKUP(A685,Begin:Einde,7,FALSE)","v":0},1,{"$f":"VLOOKUP(Jaar,Trendfactoren!$A$2:$D$23,4,FALSE)","v":0.98},0,0,0,0,0,0,0,0,0,0,0]
["LekBO1geladenaf","Lek","BO1","geladen","af","CO2",7149.6632491000582,10.200000000000001,8.1029516823134001E-2,{"$f":"VLOOKUP(A686,Begin:Einde,7,FALSE)","v":0},1,{"$f":"VLOOKUP(Jaar,Trendfactoren!$A$2:$D$23,4,FALSE)","v":0.98},0,0,0,0,0,0,0,0,0,0,0]
["LekBO1geladenop","Lek","BO1","geladen","op","CO2",12436.020986814476,10.7,0.14785047173212765,{"$f":"VLOOKUP(A687,Begin:Einde,7,FALSE)","v":0},1,{"$f":"VLOOKUP(Jaar,Trendfactoren!$A$2:$D$23,4,FALSE)","v":0.98},0,0,0,0,0,0,0,0,0,0,0]
["LekBO1leegaf","Lek","BO1","leeg","af","CO2",5989.8123087487647,16,0.1064855521555336,{"$f":"VLOOKUP(A688,Begin:Einde,7,FALSE)","v":0},1,{"$f":"VLOOKUP(Jaar,Trendfactoren!$A$2:$D$23,4,FALSE)","v":0.98},0,0,0,0,0,0,0,0,0,0,0]
["LekBO1leegop","Lek","BO1","leeg","op","CO2",7162.9477741443043,15,0.11938246290240508,{"$f":"VLOOKUP(A689,Begin:Einde,7,FALSE)","v":0},1,{"$f":"VLOOKUP(Jaar,Trendfactoren!$A$2:$D$23,4,FALSE)","v":0.98},0,0,0,0,0,0,0,0,0,0,0]
["LekBO2geladenaf","Lek","BO2","geladen","af","CO2",7026.9814358374015,8.5,6.6365935782908794E-2,{"$f":"VLOOKUP(A690,Begin:Einde,7,FALSE)","v":0},1,{"$f":"VLOOKUP(Jaar,Trendfactoren!$A$2:$D$23,4,FALSE)","v":0.98},0,0,0,0,0,0,0,0,0,0,0]
["LekBO2geladenop","Lek","BO2","geladen","op","CO2",18196.716489630679,10.6,0.21431688310009464,{"$f":"VLOOKUP(A691,Begin:Einde,7,FALSE)","v":0},1,{"$f":"VLOOKUP(Jaar,Trendfactoren!$A$2:$D$23,4,FALSE)","v":0.98},0,0,0,0,0,0,0,0,0,0,0]
["LekBO2leegaf","Lek","BO2","leeg","af","CO2",7875.1368763593737,15.8,0.13825240294053123,{"$f":"VLOOKUP(A692,Begin:Einde,7,FALSE)","v":0},1,{"$f":"VLOOKUP(Jaar,Trendfactoren!$A$2:$D$23,4,FALSE)","v":0.98},0,0,0,0,0,0,0,0,0,0,0]
["LekBO2leegop","Lek","BO2","leeg","op","CO2",9211.6195615955712,14.6,0.14943293955477258,{"$f":"VLOOKUP(A693,Begin:Einde,7,FALSE)","v":0},1,{"$f":"VLOOKUP(Jaar,Trendfactoren!$A$2:$D$23,4,FALSE)","v":0.98},0,0,0,0,0,0,0,0,0,0,0]
["LekBO3geladenaf","Lek","BO3","geladen","af","CO2",19241.690163819712,12.4,0.26510773114596048,{"$f":"VLOOKUP(A694,Begin:Einde,7,FALSE)","v":0},1,{"$f":"VLOOKUP(Jaar,Trendfactoren!$A$2:$D$23,4,FALSE)","v":0.98},0,0,0,0,0,0,0,0,0,0,0]
["LekBO3geladenop","Lek","BO3","geladen","op","CO2",22461.565729355243,10.899999999999999,0.27203451827774683,{"$f":"VLOOKUP(A695,Begin:Einde,7,FALSE)","v":0},1,{"$f":"VLOOKUP(Jaar,Trendfactoren!$A$2:$D$23,4,FALSE)","v":0.98},0,0,0,0,0,0,0,0,0,0,0]
["LekBO3leegaf","Lek","BO3","leeg","af","CO2",9759.9010056275019,15.8,0.17134048432101615,{"$f":"VLOOKUP(A696,Begin:Einde,7,FALSE)","v":0},1,{"$f":"VLOOKUP(Jaar,Trendfactoren!$A$2:$D$23,4,FALSE)","v":0.98},0,0,0,0,0,0,0,0,0,0,0]
["LekBO3leegop","Lek","BO3","leeg","op","CO2",11698.693325988141,14.799999999999999,0.19237851247180496,{"$f":"VLOOKUP(A697,Begin:Einde,7,FALSE)","v":0},1,{"$f":"VLOOKUP(Jaar,Trendfactoren!$A$2:$D$23,4,FALSE)","v":0.98},0,0,0,0,0,0,0,0,0,0,0]
["LekBO4geladenaf","Lek","BO4","geladen","af","CO2",21343.703906677481,12.4,0.29406880938088975,{"$f":"VLOOKUP(A698,Begin:Einde,7,FALSE)","v":0},1,{"$f":"VLOOKUP(Jaar,Trendfactoren!$A$2:$D$23,4,FALSE)","v":0.98},0,0,0,0,0,0,0,0,0,0,0]
["LekBO4geladenop","Lek","BO4","geladen","op","CO2",28332.88241941766,11.7,0.36832747145242961,{"$f":"VLOOKUP(A699,Begin:Einde,7,FALSE)","v":0},1,{"$f":"VLOOKUP(Jaar,Trendfactoren!$A$2:$D$23,4,FALSE)","v":0.98},0,0,0,0,0,0,0,0,0,0,0]
["LekBO4leegaf","Lek","BO4","leeg","af","CO2",11003.306260751979,15.8,0.19316915435542364,{"$f":"VLOOKUP(A700,Begin:Einde,7,FALSE)","v":0},1,{"$f":"VLOOKUP(Jaar,Trendfactoren!$A$2:$D$23,4,FALSE)","v":0.98},0,0,0,0,0,0,0,0,0,0,0]
["LekBO4leegop","Lek","BO4","leeg","op","CO2",13676.611529799242,15.1,0.22946314899996506,{"$f":"VLOOKUP(A701,Begin:Einde,7,FALSE)","v":0},1,{"$f":"VLOOKUP(Jaar,Trendfactoren!$A$2:$D$23,4,FALSE)","v":0.98},0,0,0,0,0,0,0,0,0,0,0]
["LekC1bgeladenaf","Lek","C1b","geladen","af","CO2",13006.881203037156,12.100000000000001,0.17487029172972177,{"$f":"VLOOKUP(A702,Begin:Einde,7,FALSE)","v":0},1,{"$f":"VLOOKUP(Jaar,Trendfactoren!$A$2:$D$23,4,FALSE)","v":0.98},0,0,0,0,0,0,0,0,0,0,0]
["LekC1bgeladenop","Lek","C1b","geladen","op","CO2",9071.7966544093761,7.8999999999999995,7.9630215077593408E-2,{"$f":"VLOOKUP(A703,Begin:Einde,7,FALSE)","v":0},1,{"$f":"VLOOKUP(Jaar,Trendfactoren!$A$2:$D$23,4,FALSE)","v":0.98},0,0,0,0,0,0,0,0,0,0,0]
["LekC1bleegaf","Lek","C1b","leeg","af","CO2",6502.1980070840063,15.3,{"$f":"+MJperkgCO2*G704/1000*H704/3600","v":0.11053736612042812},{"$f":"VLOOKUP(A704,Begin:Einde,7,FALSE)","v":0},{"$f":"+Afstand","v":1},{"$f":"VLOOKUP(Jaar,Trendfactoren!$A$2:$D$23,4,FALSE)","v":0.98},0,{"$f":"+J704*H704","v":0},0,0,0,0,0,{"$f":"+S704/$I704","v":0},{"$f":"+Q704/$I704","v":0},{"$f":"+R704/$I704","v":0},0]
[{"$f":"+B705&C705&D705&E705","v":"LekC1bleegop"},"Lek","C1b","leeg","op","CO2",7167.0332468619781,13.6,0.10830183573035877,{"$f":"VLOOKUP(A705,Begin:Einde,7,FALSE)","v":0},1,{"$f":"VLOOKUP(Jaar,Trendfactoren!$A$2:$D$23,4,FALSE)","v":0.98},{"$f":"+J705*I705*L705","v":0},0,{"$f":"+J705*G705*K705","v":0},0,0,0,0,0,0,0,{"$f":"+P705/I705","v":0}]
["LekC1lgeladenaf","Lek","C1l","geladen","af","CO2",8478.3354702271081,12.200000000000001,0.11492854748530082,{"$f":"VLOOKUP(A706,Begin:Einde,7,FALSE)","v":0},1,{"$f":"VLOOKUP(Jaar,Trendfactoren!$A$2:$D$23,4,FALSE)","v":0.98},0,0,0,{"$f":"+O706/+IF($O$895>0,$O$895,1)","v":0},{"$f":"+IF(E706=\"beide\",O706,0)/IF($O$896>0,$O$896,1)","v":0},{"$f":"+IF(E706=\"op\",O706,0)/IF($O$897>0,$O$897,1)","v":0},{"$f":"+IF(E706=\"af\",O706,0)/IF($O$898>0,$O$898,1)","v":0},0,0,0,0]
["LekC1lgeladenop","Lek","C1l","geladen","op","CO2",9277.4038675446718,10.299999999999999,0.10617473315078901,{"$f":"VLOOKUP(A707,Begin:Einde,7,FALSE)","v":0},1,{"$f":"VLOOKUP(Jaar,Trendfactoren!$A$2:$D$23,4,FALSE)","v":0.98},0,0,0,0,0,0,0,0,0,0,0]
["LekC1lleegaf","Lek","C1l","leeg","af","CO2",4768.1326809276225,13.5,7.1521990213914324E-2,{"$f":"VLOOKUP(A708,Begin:Einde,7,FALSE)","v":0},1,{"$f":"VLOOKUP(Jaar,Trendfactoren!$A$2:$D$23,4,FALSE)","v":0.98},0,0,0,0,0,0,0,0,0,0,0]
["LekC1lleegop","Lek","C1l","leeg","op","CO2",5409.2261506321929,11.899999999999999,7.1521990213914546E-2,{"$f":"VLOOKUP(A709,Begin:Einde,7,FALSE)","v":0},1,{"$f":"VLOOKUP(Jaar,Trendfactoren!$A$2:$D$23,4,FALSE)","v":0.98},0,0,0,0,0,0,0,0,0,0,0]
["LekC2bgeladenaf","Lek","C2b","geladen","af","CO2",28982.12851302548,10.9,0.35100577865775306,{"$f":"VLOOKUP(A710,Begin:Einde,7,FALSE)","v":0},1,{"$f":"VLOOKUP(Jaar,Trendfactoren!$A$2:$D$23,4,FALSE)","v":0.98},0,0,0,0,0,0,0,0,0,0,0]
["LekC2bgeladenop","Lek","C2b","geladen","op","CO2",28896.602888893351,8.5,0.2729123606173261,{"$f":"VLOOKUP(A711,Begin:Einde,7,FALSE)","v":0},1,{"$f":"VLOOKUP(Jaar,Trendfactoren!$A$2:$D$23,4,FALSE)","v":0.98},0,0,0,0,0,0,0,0,0,0,0]
["LekC2bleegaf","Lek","C2b","leeg","af","CO2",18619.081658327217,14.100000000000001,0.29169894598045976,{"$f":"VLOOKUP(A712,Begin:Einde,7,FALSE)","v":0},1,{"$f":"VLOOKUP(Jaar,Trendfactoren!$A$2:$D$23,4,FALSE)","v":0.98},0,0,0,0,0,0,0,0,0,0,0]
["LekC2bleegop","Lek","C2b","leeg","op","CO2",21613.630420482856,12.7,0.30499234037792472,{"$f":"VLOOKUP(A713,Begin:Einde,7,FALSE)","v":0},1,{"$f":"VLOOKUP(Jaar,Trendfactoren!$A$2:$D$23,4,FALSE)","v":0.98},0,0,0,0,0,0,0,0,0,0,0]
["LekC2lgeladenaf","Lek","C2l","geladen","af","CO2",17208.86230284558,10.4,0.19885796438843784,{"$f":"VLOOKUP(A714,Begin:Einde,7,FALSE)","v":0},1,{"$f":"VLOOKUP(Jaar,Trendfactoren!$A$2:$D$23,4,FALSE)","v":0.98},0,0,0,0,0,0,0,0,0,0,0]
["LekC2lgeladenop","Lek","C2l","geladen","op","CO2",23603.127993974507,9.6,0.2517666986023947,{"$f":"VLOOKUP(A715,Begin:Einde,7,FALSE)","v":0},1,{"$f":"VLOOKUP(Jaar,Trendfactoren!$A$2:$D$23,4,FALSE)","v":0.98},0,0,0,0,0,0,0,0,0,0,0]
["LekC2lleegaf","Lek","C2l","leeg","af","CO2",18012.495382261139,15.8,0.31621936337747336,{"$f":"VLOOKUP(A716,Begin:Einde,7,FALSE)","v":0},1,{"$f":"VLOOKUP(Jaar,Trendfactoren!$A$2:$D$23,4,FALSE)","v":0.98},0,0,0,0,0,0,0,0,0,0,0]
["LekC2lleegop","Lek","C2l","leeg","op","CO2",20297.01828202495,14.299999999999999,0.32249706825884089,{"$f":"VLOOKUP(A717,Begin:Einde,7,FALSE)","v":0},1,{"$f":"VLOOKUP(Jaar,Trendfactoren!$A$2:$D$23,4,FALSE)","v":0.98},0,0,0,0,0,0,0,0,0,0,0]
["LekM0geladenaf","Lek","M0","geladen","af","CO2",3474.2431413503182,13.5,5.2113647120254777E-2,{"$f":"VLOOKUP(A718,Begin:Einde,7,FALSE)","v":0},1,{"$f":"VLOOKUP(Jaar,Trendfactoren!$A$2:$D$23,4,FALSE)","v":0.98},0,0,0,0,0,0,0,0,0,0,0]
["LekM0geladenop","Lek","M0","geladen","op","CO2",3765.7879593055231,11.6,4.8536822586604515E-2,{"$f":"VLOOKUP(A719,Begin:Einde,7,FALSE)","v":0},1,{"$f":"VLOOKUP(Jaar,Trendfactoren!$A$2:$D$23,4,FALSE)","v":0.98},0,0,0,0,0,0,0,0,0,0,0]
["LekM0leegaf","Lek","M0","leeg","af","CO2",2045.8652758527355,15.700000000000001,3.568898314543105E-2,{"$f":"VLOOKUP(A720,Begin:Einde,7,FALSE)","v":0},1,{"$f":"VLOOKUP(Jaar,Trendfactoren!$A$2:$D$23,4,FALSE)","v":0.98},0,0,0,0,0,0,0,0,0,0,0]
["LekM0leegop","Lek","M0","leeg","op","CO2",2544.2315439747063,15,4.2403859066245102E-2,{"$f":"VLOOKUP(A721,Begin:Einde,7,FALSE)","v":0},1,{"$f":"VLOOKUP(Jaar,Trendfactoren!$A$2:$D$23,4,FALSE)","v":0.98},0,0,0,0,0,0,0,0,0,0,0]
["LekM1geladenaf","Lek","M1","geladen","af","CO2",5703.1083753448902,11.3,7.1605694045996968E-2,{"$f":"VLOOKUP(A722,Begin:Einde,7,FALSE)","v":0},1,{"$f":"VLOOKUP(Jaar,Trendfactoren!$A$2:$D$23,4,FALSE)","v":0.98},0,0,0,0,0,0,0,0,0,0,0]
["LekM1geladenop","Lek","M1","geladen","op","CO2",7133.5938691761339,10.1,8.0054775642976611E-2,{"$f":"VLOOKUP(A723,Begin:Einde,7,FALSE)","v":0},1,{"$f":"VLOOKUP(Jaar,Trendfactoren!$A$2:$D$23,4,FALSE)","v":0.98},0,0,0,0,0,0,0,0,0,0,0]
["LekM1leegaf","Lek","M1","leeg","af","CO2",3728.1350598264503,16.100000000000001,6.6692193848006509E-2,{"$f":"VLOOKUP(A724,Begin:Einde,7,FALSE)","v":0},1,{"$f":"VLOOKUP(Jaar,Trendfactoren!$A$2:$D$23,4,FALSE)","v":0.98},0,0,0,0,0,0,0,0,0,0,0]
["LekM1leegop","Lek","M1","leeg","op","CO2",4451.3122069108667,15.1,7.4683127027060106E-2,{"$f":"VLOOKUP(A725,Begin:Einde,7,FALSE)","v":0},1,{"$f":"VLOOKUP(Jaar,Trendfactoren!$A$2:$D$23,4,FALSE)","v":0.98},0,0,0,0,0,0,0,0,0,0,0]
["LekM10geladenaf","Lek","M10","geladen","af","CO2",57664.119474832805,11.3,0.72400505562845641,{"$f":"VLOOKUP(A726,Begin:Einde,7,FALSE)","v":0},1,{"$f":"VLOOKUP(Jaar,Trendfactoren!$A$2:$D$23,4,FALSE)","v":0.98},0,0,0,0,0,0,0,0,0,0,0]
["LekM10geladenop","Lek","M10","geladen","op","CO2",73350.587714631038,10.199999999999999,0.83130666076581838,{"$f":"VLOOKUP(A727,Begin:Einde,7,FALSE)","v":0},1,{"$f":"VLOOKUP(Jaar,Trendfactoren!$A$2:$D$23,4,FALSE)","v":0.98},0,0,0,0,0,0,0,0,0,0,0]
["LekM10leegaf","Lek","M10","leeg","af","CO2",31981.691090407225,19.5,0.69293664029215662,{"$f":"VLOOKUP(A728,Begin:Einde,7,FALSE)","v":0},1,{"$f":"VLOOKUP(Jaar,Trendfactoren!$A$2:$D$23,4,FALSE)","v":0.98},0,0,0,0,0,0,0,0,0,0,0]
["LekM10leegop","Lek","M10","leeg","op","CO2",36490.934895078033,18.3,0.74198234286658682,{"$f":"VLOOKUP(A729,Begin:Einde,7,FALSE)","v":0},1,{"$f":"VLOOKUP(Jaar,Trendfactoren!$A$2:$D$23,4,FALSE)","v":0.98},0,0,0,0,0,0,0,0,0,0,0]
["LekM11geladenaf","Lek","M11","geladen","af","CO2",70603.626679952707,14.3,1.1218131794703599,{"$f":"VLOOKUP(A730,Begin:Einde,7,FALSE)","v":0},1,{"$f":"VLOOKUP(Jaar,Trendfactoren!$A$2:$D$23,4,FALSE)","v":0.98},0,0,0,0,0,0,0,0,0,0,0]
["LekM11geladenop","Lek","M11","geladen","op","CO2",85405.962007996452,13.2,1.2526207761172812,{"$f":"VLOOKUP(A731,Begin:Einde,7,FALSE)","v":0},1,{"$f":"VLOOKUP(Jaar,Trendfactoren!$A$2:$D$23,4,FALSE)","v":0.98},0,0,0,0,0,0,0,0,0,0,0]
["LekM11leegaf","Lek","M11","leeg","af","CO2",36471.7639003109,19.5,0.79022155117340276,{"$f":"VLOOKUP(A732,Begin:Einde,7,FALSE)","v":0},1,{"$f":"VLOOKUP(Jaar,Trendfactoren!$A$2:$D$23,4,FALSE)","v":0.98},0,0,0,0,0,0,0,0,0,0,0]
["LekM11leegop","Lek","M11","leeg","op","CO2",41610.819300190538,18.3,0.84608665910387415,{"$f":"VLOOKUP(A733,Begin:Einde,7,FALSE)","v":0},1,{"$f":"VLOOKUP(Jaar,Trendfactoren!$A$2:$D$23,4,FALSE)","v":0.98},0,0,0,0,0,0,0,0,0,0,0]
["LekM12geladenaf","Lek","M12","geladen","af","CO2",80679.821416853272,13.3,1.192268472049054,{"$f":"VLOOKUP(A734,Begin:Einde,7,FALSE)","v":0},1,{"$f":"VLOOKUP(Jaar,Trendfactoren!$A$2:$D$23,4,FALSE)","v":0.98},0,0,0,0,0,0,0,0,0,0,0]
["LekM12geladenop","Lek","M12","geladen","op","CO2",99042.596254506047,12.2,1.3425774158944153,{"$f":"VLOOKUP(A735,Begin:Einde,7,FALSE)","v":0},1,{"$f":"VLOOKUP(Jaar,Trendfactoren!$A$2:$D$23,4,FALSE)","v":0.98},0,0,0,0,0,0,0,0,0,0,0]
["LekM12leegaf","Lek","M12","leeg","af","CO2",41485.703142380706,19,0.87580928856137041,{"$f":"VLOOKUP(A736,Begin:Einde,7,FALSE)","v":0},1,{"$f":"VLOOKUP(Jaar,Trendfactoren!$A$2:$D$23,4,FALSE)","v":0.98},0,0,0,0,0,0,0,0,0,0,0]
["LekM12leegop","Lek","M12","leeg","op","CO2",48068.808353314285,17.899999999999999,0.95603518836036183,{"$f":"VLOOKUP(A737,Begin:Einde,7,FALSE)","v":0},1,{"$f":"VLOOKUP(Jaar,Trendfactoren!$A$2:$D$23,4,FALSE)","v":0.98},0,0,0,0,0,0,0,0,0,0,0]
["LekM2geladenaf","Lek","M2","geladen","af","CO2",10205.09160847085,12.600000000000001,0.14287128251859191,{"$f":"VLOOKUP(A738,Begin:Einde,7,FALSE)","v":0},1,{"$f":"VLOOKUP(Jaar,Trendfactoren!$A$2:$D$23,4,FALSE)","v":0.98},0,0,0,0,0,0,0,0,0,0,0]
["LekM2geladenop","Lek","M2","geladen","op","CO2",13071.675471945739,11.7,0.16993178113529459,{"$f":"VLOOKUP(A739,Begin:Einde,7,FALSE)","v":0},1,{"$f":"VLOOKUP(Jaar,Trendfactoren!$A$2:$D$23,4,FALSE)","v":0.98},0,0,0,0,0,0,0,0,0,0,0]
["LekM2leegaf","Lek","M2","leeg","af","CO2",6787.588739996304,17.2,0.12971836258659603,{"$f":"VLOOKUP(A740,Begin:Einde,7,FALSE)","v":0},1,{"$f":"VLOOKUP(Jaar,Trendfactoren!$A$2:$D$23,4,FALSE)","v":0.98},0,0,0,0,0,0,0,0,0,0,0]
["LekM2leegop","Lek","M2","leeg","op","CO2",7926.8703935961576,16.099999999999998,0.14180290370766457,{"$f":"VLOOKUP(A741,Begin:Einde,7,FALSE)","v":0},1,{"$f":"VLOOKUP(Jaar,Trendfactoren!$A$2:$D$23,4,FALSE)","v":0.98},0,0,0,0,0,0,0,0,0,0,0]
["LekM3geladenaf","Lek","M3","geladen","af","CO2",12484.638268470942,12.9,0.17894648184808348,{"$f":"VLOOKUP(A742,Begin:Einde,7,FALSE)","v":0},1,{"$f":"VLOOKUP(Jaar,Trendfactoren!$A$2:$D$23,4,FALSE)","v":0.98},0,0,0,0,0,0,0,0,0,0,0]
["LekM3geladenop","Lek","M3","geladen","op","CO2",17143.053488136477,12.5,0.23809796511300663,{"$f":"VLOOKUP(A743,Begin:Einde,7,FALSE)","v":0},1,{"$f":"VLOOKUP(Jaar,Trendfactoren!$A$2:$D$23,4,FALSE)","v":0.98},0,0,0,0,0,0,0,0,0,0,0]
["LekM3leegaf","Lek","M3","leeg","af","CO2",10250.628171429689,18.3,0.208429439485737,{"$f":"VLOOKUP(A744,Begin:Einde,7,FALSE)","v":0},1,{"$f":"VLOOKUP(Jaar,Trendfactoren!$A$2:$D$23,4,FALSE)","v":0.98},0,0,0,0,0,0,0,0,0,0,0]
["LekM3leegop","Lek","M3","leeg","op","CO2",11739.321280403343,17.099999999999998,0.2230471043276635,{"$f":"VLOOKUP(A745,Begin:Einde,7,FALSE)","v":0},1,{"$f":"VLOOKUP(Jaar,Trendfactoren!$A$2:$D$23,4,FALSE)","v":0.98},0,0,0,0,0,0,0,0,0,0,0]
["LekM4geladenaf","Lek","M4","geladen","af","CO2",18696.257421801201,14.5,0.30121748068457493,{"$f":"VLOOKUP(A746,Begin:Einde,7,FALSE)","v":0},1,{"$f":"VLOOKUP(Jaar,Trendfactoren!$A$2:$D$23,4,FALSE)","v":0.98},0,0,0,0,0,0,0,0,0,0,0]
["LekM4geladenop","Lek","M4","geladen","op","CO2",25229.487758872168,14.2,0.39806525130664971,{"$f":"VLOOKUP(A747,Begin:Einde,7,FALSE)","v":0},1,{"$f":"VLOOKUP(Jaar,Trendfactoren!$A$2:$D$23,4,FALSE)","v":0.98},0,0,0,0,0,0,0,0,0,0,0]
["LekM4leegaf","Lek","M4","leeg","af","CO2",14029.84844023671,19.7,0.30709779363629247,{"$f":"VLOOKUP(A748,Begin:Einde,7,FALSE)","v":0},1,{"$f":"VLOOKUP(Jaar,Trendfactoren!$A$2:$D$23,4,FALSE)","v":0.98},0,0,0,0,0,0,0,0,0,0,0]
["LekM4leegop","Lek","M4","leeg","op","CO2",16269.768183847193,18.7,0.33804962781993614,{"$f":"VLOOKUP(A749,Begin:Einde,7,FALSE)","v":0},1,{"$f":"VLOOKUP(Jaar,Trendfactoren!$A$2:$D$23,4,FALSE)","v":0.98},0,0,0,0,0,0,0,0,0,0,0]
["LekM5geladenaf","Lek","M5","geladen","af","CO2",17441.042303764611,13.700000000000001,0.26549142173508355,{"$f":"VLOOKUP(A750,Begin:Einde,7,FALSE)","v":0},1,{"$f":"VLOOKUP(Jaar,Trendfactoren!$A$2:$D$23,4,FALSE)","v":0.98},0,0,0,0,0,0,0,0,0,0,0]
["LekM5geladenop","Lek","M5","geladen","op","CO2",29702.563388933926,15,0.49504272314889874,{"$f":"VLOOKUP(A751,Begin:Einde,7,FALSE)","v":0},1,{"$f":"VLOOKUP(Jaar,Trendfactoren!$A$2:$D$23,4,FALSE)","v":0.98},0,0,0,0,0,0,0,0,0,0,0]
["LekM5leegaf","Lek","M5","leeg","af","CO2",12972.195174949609,18.2,0.2623266135378699,{"$f":"VLOOKUP(A752,Begin:Einde,7,FALSE)","v":0},1,{"$f":"VLOOKUP(Jaar,Trendfactoren!$A$2:$D$23,4,FALSE)","v":0.98},0,0,0,0,0,0,0,0,0,0,0]
["LekM5leegop","Lek","M5","leeg","op","CO2",15365.342728400037,17.3,0.29535603244591185,{"$f":"VLOOKUP(A753,Begin:Einde,7,FALSE)","v":0},1,{"$f":"VLOOKUP(Jaar,Trendfactoren!$A$2:$D$23,4,FALSE)","v":0.98},0,0,0,0,0,0,0,0,0,0,0]
["LekM6geladenaf","Lek","M6","geladen","af","CO2",23702.550082715425,14.100000000000001,0.37133995129587505,{"$f":"VLOOKUP(A754,Begin:Einde,7,FALSE)","v":0},1,{"$f":"VLOOKUP(Jaar,Trendfactoren!$A$2:$D$23,4,FALSE)","v":0.98},0,0,0,0,0,0,0,0,0,0,0]
["LekM6geladenop","Lek","M6","geladen","op","CO2",29953.747990375145,13.299999999999999,0.44264983141332159,{"$f":"VLOOKUP(A755,Begin:Einde,7,FALSE)","v":0},1,{"$f":"VLOOKUP(Jaar,Trendfactoren!$A$2:$D$23,4,FALSE)","v":0.98},0,0,0,0,0,0,0,0,0,0,0]
["LekM6leegaf","Lek","M6","leeg","af","CO2",18473.474423299049,19.5,0.40025861250481271,{"$f":"VLOOKUP(A756,Begin:Einde,7,FALSE)","v":0},1,{"$f":"VLOOKUP(Jaar,Trendfactoren!$A$2:$D$23,4,FALSE)","v":0.98},0,0,0,0,0,0,0,0,0,0,0]
["LekM6leegop","Lek","M6","leeg","op","CO2",21711.481224613581,18.599999999999998,0.44870394530868069,{"$f":"VLOOKUP(A757,Begin:Einde,7,FALSE)","v":0},1,{"$f":"VLOOKUP(Jaar,Trendfactoren!$A$2:$D$23,4,FALSE)","v":0.98},0,0,0,0,0,0,0,0,0,0,0]
["LekM7geladenaf","Lek","M7","geladen","af","CO2",20105.497377174033,13.100000000000001,0.29264668404553312,{"$f":"VLOOKUP(A758,Begin:Einde,7,FALSE)","v":0},1,{"$f":"VLOOKUP(Jaar,Trendfactoren!$A$2:$D$23,4,FALSE)","v":0.98},0,0,0,0,0,0,0,0,0,0,0]
["LekM7geladenop","Lek","M7","geladen","op","CO2",27782.753088167185,12.799999999999999,0.39513248836504439,{"$f":"VLOOKUP(A759,Begin:Einde,7,FALSE)","v":0},1,{"$f":"VLOOKUP(Jaar,Trendfactoren!$A$2:$D$23,4,FALSE)","v":0.98},0,0,0,0,0,0,0,0,0,0,0]
["LekM7leegaf","Lek","M7","leeg","af","CO2",21994.933960143411,19.7,0.48144466557202797,{"$f":"VLOOKUP(A760,Begin:Einde,7,FALSE)","v":0},1,{"$f":"VLOOKUP(Jaar,Trendfactoren!$A$2:$D$23,4,FALSE)","v":0.98},0,0,0,0,0,0,0,0,0,0,0]
["LekM7leegop","Lek","M7","leeg","op","CO2",24753.527612303566,18.399999999999999,0.50607212007376168,{"$f":"VLOOKUP(A761,Begin:Einde,7,FALSE)","v":0},1,{"$f":"VLOOKUP(Jaar,Trendfactoren!$A$2:$D$23,4,FALSE)","v":0.98},0,0,0,0,0,0,0,0,0,0,0]
["LekM8geladenaf","Lek","M8","geladen","af","CO2",26338.197371860428,12,0.35117596495813902,{"$f":"VLOOKUP(A762,Begin:Einde,7,FALSE)","v":0},1,{"$f":"VLOOKUP(Jaar,Trendfactoren!$A$2:$D$23,4,FALSE)","v":0.98},0,0,0,0,0,0,0,0,0,0,0]
["LekM8geladenop","Lek","M8","geladen","op","CO2",35223.60009201253,11.299999999999999,0.44225186782193504,{"$f":"VLOOKUP(A763,Begin:Einde,7,FALSE)","v":0},1,{"$f":"VLOOKUP(Jaar,Trendfactoren!$A$2:$D$23,4,FALSE)","v":0.98},0,0,0,0,0,0,0,0,0,0,0]
["LekM8leegaf","Lek","M8","leeg","af","CO2",25385.646806481116,19.100000000000001,0.5387398377819882,{"$f":"VLOOKUP(A764,Begin:Einde,7,FALSE)","v":0},1,{"$f":"VLOOKUP(Jaar,Trendfactoren!$A$2:$D$23,4,FALSE)","v":0.98},0,0,0,0,0,0,0,0,0,0,0]
["LekM8leegop","Lek","M8","leeg","op","CO2",29004.293395518562,17.899999999999999,0.57686316864420251,{"$f":"VLOOKUP(A765,Begin:Einde,7,FALSE)","v":0},1,{"$f":"VLOOKUP(Jaar,Trendfactoren!$A$2:$D$23,4,FALSE)","v":0.98},0,0,0,0,0,0,0,0,0,0,0]
["LekM9geladenaf","Lek","M9","geladen","af","CO2",25670.42127540864,10.8,{"$f":"+MJperkgCO2*G766/1000*H766/3600","v":0.30804505530490367},{"$f":"VLOOKUP(A766,Begin:Einde,7,FALSE)","v":0},{"$f":"+Afstand","v":1},{"$f":"VLOOKUP(Jaar,Trendfactoren!$A$2:$D$23,4,FALSE)","v":0.98},0,{"$f":"+J766*H766","v":0},0,{"$f":"+O766/+IF($O$895>0,$O$895,1)","v":0},0,0,0,{"$f":"+S766/$I766","v":0},{"$f":"+Q766/$I766","v":0},{"$f":"+R766/$I766","v":0},0]
[{"$f":"+B767&C767&D767&E767","v":"LekM9geladenop"},"Lek","M9","geladen","op","CO2",36038.263795208943,10.199999999999999,0.40843365634570128,{"$f":"VLOOKUP(A767,Begin:Einde,7,FALSE)","v":0},1,{"$f":"VLOOKUP(Jaar,Trendfactoren!$A$2:$D$23,4,FALSE)","v":0.98},{"$f":"+J767*I767*L767","v":0},0,{"$f":"+J767*G767*K767","v":0},0,{"$f":"+IF(E767=\"beide\",O767,0)/IF($O$896>0,$O$896,1)","v":0},{"$f":"+IF(E767=\"op\",O767,0)/IF($O$897>0,$O$897,1)","v":0},{"$f":"+IF(E767=\"af\",O767,0)/IF($O$898>0,$O$898,1)","v":0},0,0,0,{"$f":"+P767/I767","v":0}]
["LekM9leegaf","Lek","M9","leeg","af","CO2",29195.612719766945,19,0.61635182408396882,{"$f":"VLOOKUP(A768,Begin:Einde,7,FALSE)","v":0},1,{"$f":"VLOOKUP(Jaar,Trendfactoren!$A$2:$D$23,4,FALSE)","v":0.98},0,0,0,0,0,0,0,0,0,0,0]
["LekM9leegop","Lek","M9","leeg","op","CO2",32618.428549386972,17.599999999999998,0.63787149163245616,{"$f":"VLOOKUP(A769,Begin:Einde,7,FALSE)","v":0},1,{"$f":"VLOOKUP(Jaar,Trendfactoren!$A$2:$D$23,4,FALSE)","v":0.98},0,0,0,0,0,0,0,0,0,0,0]
["WaalBIgeladenaf","Waal","BI","geladen","af","CO2",27035.0314306287,12.9,0.38750211717234467,{"$f":"VLOOKUP(A770,Begin:Einde,7,FALSE)","v":0},1,{"$f":"VLOOKUP(Jaar,Trendfactoren!$A$2:$D$23,4,FALSE)","v":0.98},0,0,0,0,0,0,0,0,0,0,0]
["WaalBIgeladenop","Waal","BI","geladen","op","CO2",48164.771900353597,12.7,0.67965844792721186,{"$f":"VLOOKUP(A771,Begin:Einde,7,FALSE)","v":0},1,{"$f":"VLOOKUP(Jaar,Trendfactoren!$A$2:$D$23,4,FALSE)","v":0.98},0,0,0,0,0,0,0,0,0,0,0]
["WaalBIleegaf","Waal","BI","leeg","af","CO2",11441.511004104754,15.5,0.19704824507069299,{"$f":"VLOOKUP(A772,Begin:Einde,7,FALSE)","v":0},1,{"$f":"VLOOKUP(Jaar,Trendfactoren!$A$2:$D$23,4,FALSE)","v":0.98},0,0,0,0,0,0,0,0,0,0,0]
["WaalBIleegop","Waal","BI","leeg","op","CO2",17919.068104940292,15.099999999999998,0.30064214264955375,{"$f":"VLOOKUP(A773,Begin:Einde,7,FALSE)","v":0},1,{"$f":"VLOOKUP(Jaar,Trendfactoren!$A$2:$D$23,4,FALSE)","v":0.98},0,0,0,0,0,0,0,0,0,0,0]
["WaalBII-1geladenaf","Waal","BII-1","geladen","af","CO2",39024.497743304768,13.100000000000001,0.56802324493032508,{"$f":"VLOOKUP(A774,Begin:Einde,7,FALSE)","v":0},1,{"$f":"VLOOKUP(Jaar,Trendfactoren!$A$2:$D$23,4,FALSE)","v":0.98},0,0,0,0,0,0,0,0,0,0,0]
["WaalBII-1geladenop","Waal","BII-1","geladen","op","CO2",65399.538287957992,12.5,0.90832692066608323,{"$f":"VLOOKUP(A775,Begin:Einde,7,FALSE)","v":0},1,{"$f":"VLOOKUP(Jaar,Trendfactoren!$A$2:$D$23,4,FALSE)","v":0.98},0,0,0,0,0,0,0,0,0,0,0]
["WaalBII-1leegaf","Waal","BII-1","leeg","af","CO2",17852.456492739482,16.5,0.32729503570022384,{"$f":"VLOOKUP(A776,Begin:Einde,7,FALSE)","v":0},1,{"$f":"VLOOKUP(Jaar,Trendfactoren!$A$2:$D$23,4,FALSE)","v":0.98},0,0,0,0,0,0,0,0,0,0,0]
["WaalBII-1leegop","Waal","BII-1","leeg","op","CO2",27526.944139670704,16.2,0.49548499451407263,{"$f":"VLOOKUP(A777,Begin:Einde,7,FALSE)","v":0},1,{"$f":"VLOOKUP(Jaar,Trendfactoren!$A$2:$D$23,4,FALSE)","v":0.98},0,0,0,0,0,0,0,0,0,0,0]
["WaalBII-2Bgeladenaf","Waal","BII-2B","geladen","af","CO2",62802.856265697526,11.8,0.82341522659470101,{"$f":"VLOOKUP(A778,Begin:Einde,7,FALSE)","v":0},1,{"$f":"VLOOKUP(Jaar,Trendfactoren!$A$2:$D$23,4,FALSE)","v":0.98},0,0,0,0,0,0,0,0,0,0,0]
["WaalBII-2Bgeladenop","Waal","BII-2B","geladen","op","CO2",118896.64940811196,11.6,1.5324457034823318,{"$f":"VLOOKUP(A779,Begin:Einde,7,FALSE)","v":0},1,{"$f":"VLOOKUP(Jaar,Trendfactoren!$A$2:$D$23,4,FALSE)","v":0.98},0,0,0,0,0,0,0,0,0,0,0]
["WaalBII-2Bleegaf","Waal","BII-2B","leeg","af","CO2",36992.39343172808,16.600000000000001,0.68230414551854024,{"$f":"VLOOKUP(A780,Begin:Einde,7,FALSE)","v":0},1,{"$f":"VLOOKUP(Jaar,Trendfactoren!$A$2:$D$23,4,FALSE)","v":0.98},0,0,0,0,0,0,0,0,0,0,0]
["WaalBII-2Bleegop","Waal","BII-2B","leeg","op","CO2",55173.569998864841,16,0.98086346664648605,{"$f":"VLOOKUP(A781,Begin:Einde,7,FALSE)","v":0},1,{"$f":"VLOOKUP(Jaar,Trendfactoren!$A$2:$D$23,4,FALSE)","v":0.98},0,0,0,0,0,0,0,0,0,0,0]
["WaalBII-2Lgeladenaf","Waal","BII-2L","geladen","af","CO2",41540.462372782466,12.700000000000001,0.58618208014926365,{"$f":"VLOOKUP(A782,Begin:Einde,7,FALSE)","v":0},1,{"$f":"VLOOKUP(Jaar,Trendfactoren!$A$2:$D$23,4,FALSE)","v":0.98},0,0,0,0,0,0,0,0,0,0,0]
["WaalBII-2Lgeladenop","Waal","BII-2L","geladen","op","CO2",70642.494544548288,12.1,0.9497490933211491,{"$f":"VLOOKUP(A783,Begin:Einde,7,FALSE)","v":0},1,{"$f":"VLOOKUP(Jaar,Trendfactoren!$A$2:$D$23,4,FALSE)","v":0.98},0,0,0,0,0,0,0,0,0,0,0]
["WaalBII-2Lleegaf","Waal","BII-2L","leeg","af","CO2",23783.630623735313,16.5,0.43603322810181411,{"$f":"VLOOKUP(A784,Begin:Einde,7,FALSE)","v":0},1,{"$f":"VLOOKUP(Jaar,Trendfactoren!$A$2:$D$23,4,FALSE)","v":0.98},0,0,0,0,0,0,0,0,0,0,0]
["WaalBII-2Lleegop","Waal","BII-2L","leeg","op","CO2",36611.466936264231,16.2,0.65900640485275608,{"$f":"VLOOKUP(A785,Begin:Einde,7,FALSE)","v":0},1,{"$f":"VLOOKUP(Jaar,Trendfactoren!$A$2:$D$23,4,FALSE)","v":0.98},0,0,0,0,0,0,0,0,0,0,0]
["WaalBII-4geladenaf","Waal","BII-4","geladen","af","CO2",72155.792767362145,11.3,0.90595606474576929,{"$f":"VLOOKUP(A786,Begin:Einde,7,FALSE)","v":0},1,{"$f":"VLOOKUP(Jaar,Trendfactoren!$A$2:$D$23,4,FALSE)","v":0.98},0,0,0,0,0,0,0,0,0,0,0]
["WaalBII-4geladenop","Waal","BII-4","geladen","op","CO2",153728.55202539076,11.7,1.9984711763300798,{"$f":"VLOOKUP(A787,Begin:Einde,7,FALSE)","v":0},1,{"$f":"VLOOKUP(Jaar,Trendfactoren!$A$2:$D$23,4,FALSE)","v":0.98},0,0,0,0,0,0,0,0,0,0,0]
["WaalBII-4leegaf","Waal","BII-4","leeg","af","CO2",48335.084834720088,16.5,0.88614322196986828,{"$f":"VLOOKUP(A788,Begin:Einde,7,FALSE)","v":0},1,{"$f":"VLOOKUP(Jaar,Trendfactoren!$A$2:$D$23,4,FALSE)","v":0.98},0,0,0,0,0,0,0,0,0,0,0]
["WaalBII-4leegop","Waal","BII-4","leeg","op","CO2",74538.193613586351,16.2,1.3416874850445542,{"$f":"VLOOKUP(A789,Begin:Einde,7,FALSE)","v":0},1,{"$f":"VLOOKUP(Jaar,Trendfactoren!$A$2:$D$23,4,FALSE)","v":0.98},0,0,0,0,0,0,0,0,0,0,0]
["WaalBII-6Bgeladenaf","Waal","BII-6B","geladen","af","CO2",74578.270585712744,9.5,0.78721507840474558,{"$f":"VLOOKUP(A790,Begin:Einde,7,FALSE)","v":0},1,{"$f":"VLOOKUP(Jaar,Trendfactoren!$A$2:$D$23,4,FALSE)","v":0.98},0,0,0,0,0,0,0,0,0,0,0]
["WaalBII-6Bgeladenop","Waal","BII-6B","geladen","op","CO2",192724.08966991975,10.199999999999999,2.1842063495924235,{"$f":"VLOOKUP(A791,Begin:Einde,7,FALSE)","v":0},1,{"$f":"VLOOKUP(Jaar,Trendfactoren!$A$2:$D$23,4,FALSE)","v":0.98},0,0,0,0,0,0,0,0,0,0,0]
["WaalBII-6Bleegaf","Waal","BII-6B","leeg","af","CO2",68758.555288065341,16,1.2223743162322727,{"$f":"VLOOKUP(A792,Begin:Einde,7,FALSE)","v":0},1,{"$f":"VLOOKUP(Jaar,Trendfactoren!$A$2:$D$23,4,FALSE)","v":0.98},0,0,0,0,0,0,0,0,0,0,0]
["WaalBII-6Bleegop","Waal","BII-6B","leeg","op","CO2",111231.22161279175,16,1.9774439397829644,{"$f":"VLOOKUP(A793,Begin:Einde,7,FALSE)","v":0},1,{"$f":"VLOOKUP(Jaar,Trendfactoren!$A$2:$D$23,4,FALSE)","v":0.98},0,0,0,0,0,0,0,0,0,0,0]
["WaalBII-6Lgeladenaf","Waal","BII-6L","geladen","af","CO2",104707.59981170304,12.700000000000001,1.4775405751206985,{"$f":"VLOOKUP(A794,Begin:Einde,7,FALSE)","v":0},1,{"$f":"VLOOKUP(Jaar,Trendfactoren!$A$2:$D$23,4,FALSE)","v":0.98},0,0,0,0,0,0,0,0,0,0,0]
["WaalBII-6Lgeladenop","Waal","BII-6L","geladen","op","CO2",154363.66030801416,11.1,1.9038184771321747,{"$f":"VLOOKUP(A795,Begin:Einde,7,FALSE)","v":0},1,{"$f":"VLOOKUP(Jaar,Trendfactoren!$A$2:$D$23,4,FALSE)","v":0.98},0,0,0,0,0,0,0,0,0,0,0]
["WaalBII-6Lleegaf","Waal","BII-6L","leeg","af","CO2",59582.983627133399,16.5,1.0923546998307792,{"$f":"VLOOKUP(A796,Begin:Einde,7,FALSE)","v":0},1,{"$f":"VLOOKUP(Jaar,Trendfactoren!$A$2:$D$23,4,FALSE)","v":0.98},0,0,0,0,0,0,0,0,0,0,0]
["WaalBII-6Lleegop","Waal","BII-6L","leeg","op","CO2",92790.511272770091,16.3,1.6805392597179472,{"$f":"VLOOKUP(A797,Begin:Einde,7,FALSE)","v":0},1,{"$f":"VLOOKUP(Jaar,Trendfactoren!$A$2:$D$23,4,FALSE)","v":0.98},0,0,0,0,0,0,0,0,0,0,0]
["WaalBO1geladenaf","Waal","BO1","geladen","af","CO2",9772.5195160551139,12.600000000000001,0.13681527322477161,{"$f":"VLOOKUP(A798,Begin:Einde,7,FALSE)","v":0},1,{"$f":"VLOOKUP(Jaar,Trendfactoren!$A$2:$D$23,4,FALSE)","v":0.98},0,0,0,0,0,0,0,0,0,0,0]
["WaalBO1geladenop","Waal","BO1","geladen","op","CO2",6302.763738577577,6.5,4.5519960334171383E-2,{"$f":"VLOOKUP(A799,Begin:Einde,7,FALSE)","v":0},1,{"$f":"VLOOKUP(Jaar,Trendfactoren!$A$2:$D$23,4,FALSE)","v":0.98},0,0,0,0,0,0,0,0,0,0,0]
["WaalBO1leegaf","Waal","BO1","leeg","af","CO2",5021.048911743329,15.5,8.6473620146690675E-2,{"$f":"VLOOKUP(A800,Begin:Einde,7,FALSE)","v":0},1,{"$f":"VLOOKUP(Jaar,Trendfactoren!$A$2:$D$23,4,FALSE)","v":0.98},0,0,0,0,0,0,0,0,0,0,0]
["WaalBO1leegop","Waal","BO1","leeg","op","CO2",7606.9387930795374,14.8,0.12509188237508573,{"$f":"VLOOKUP(A801,Begin:Einde,7,FALSE)","v":0},1,{"$f":"VLOOKUP(Jaar,Trendfactoren!$A$2:$D$23,4,FALSE)","v":0.98},0,0,0,0,0,0,0,0,0,0,0]
["WaalBO2geladenaf","Waal","BO2","geladen","af","CO2",12817.466618098646,12,0.17089955490798192,{"$f":"VLOOKUP(A802,Begin:Einde,7,FALSE)","v":0},1,{"$f":"VLOOKUP(Jaar,Trendfactoren!$A$2:$D$23,4,FALSE)","v":0.98},0,0,0,0,0,0,0,0,0,0,0]
["WaalBO2geladenop","Waal","BO2","geladen","op","CO2",18991.582441860148,10.299999999999999,0.21734811016795502,{"$f":"VLOOKUP(A803,Begin:Einde,7,FALSE)","v":0},1,{"$f":"VLOOKUP(Jaar,Trendfactoren!$A$2:$D$23,4,FALSE)","v":0.98},0,0,0,0,0,0,0,0,0,0,0]
["WaalBO2leegaf","Waal","BO2","leeg","af","CO2",6665.5713463735674,15.4,0.1140553319268366,{"$f":"VLOOKUP(A804,Begin:Einde,7,FALSE)","v":0},1,{"$f":"VLOOKUP(Jaar,Trendfactoren!$A$2:$D$23,4,FALSE)","v":0.98},0,0,0,0,0,0,0,0,0,0,0]
["WaalBO2leegop","Waal","BO2","leeg","op","CO2",10841.664501496931,15.3,0.18430829652544783,{"$f":"VLOOKUP(A805,Begin:Einde,7,FALSE)","v":0},1,{"$f":"VLOOKUP(Jaar,Trendfactoren!$A$2:$D$23,4,FALSE)","v":0.98},0,0,0,0,0,0,0,0,0,0,0]
["WaalBO3geladenaf","Waal","BO3","geladen","af","CO2",15860.392901882102,12.3,0.21675870299238875,{"$f":"VLOOKUP(A806,Begin:Einde,7,FALSE)","v":0},1,{"$f":"VLOOKUP(Jaar,Trendfactoren!$A$2:$D$23,4,FALSE)","v":0.98},0,0,0,0,0,0,0,0,0,0,0]
["WaalBO3geladenop","Waal","BO3","geladen","op","CO2",25103.437718202342,11.1,0.30960906519116221,{"$f":"VLOOKUP(A807,Begin:Einde,7,FALSE)","v":0},1,{"$f":"VLOOKUP(Jaar,Trendfactoren!$A$2:$D$23,4,FALSE)","v":0.98},0,0,0,0,0,0,0,0,0,0,0]
["WaalBO3leegaf","Waal","BO3","leeg","af","CO2",8609.1364317149619,15.700000000000001,0.15018160219769436,{"$f":"VLOOKUP(A808,Begin:Einde,7,FALSE)","v":0},1,{"$f":"VLOOKUP(Jaar,Trendfactoren!$A$2:$D$23,4,FALSE)","v":0.98},0,0,0,0,0,0,0,0,0,0,0]
["WaalBO3leegop","Waal","BO3","leeg","op","CO2",12671.943356794945,14.8,0.20838306853396135,{"$f":"VLOOKUP(A809,Begin:Einde,7,FALSE)","v":0},1,{"$f":"VLOOKUP(Jaar,Trendfactoren!$A$2:$D$23,4,FALSE)","v":0.98},0,0,0,0,0,0,0,0,0,0,0]
["WaalBO4geladenaf","Waal","BO4","geladen","af","CO2",16218.198928208623,11.9,0.21444063027298066,{"$f":"VLOOKUP(A810,Begin:Einde,7,FALSE)","v":0},1,{"$f":"VLOOKUP(Jaar,Trendfactoren!$A$2:$D$23,4,FALSE)","v":0.98},0,0,0,0,0,0,0,0,0,0,0]
["WaalBO4geladenop","Waal","BO4","geladen","op","CO2",31605.007626215029,12,0.42140010168286701,{"$f":"VLOOKUP(A811,Begin:Einde,7,FALSE)","v":0},1,{"$f":"VLOOKUP(Jaar,Trendfactoren!$A$2:$D$23,4,FALSE)","v":0.98},0,0,0,0,0,0,0,0,0,0,0]
["WaalBO4leegaf","Waal","BO4","leeg","af","CO2",9425.2317521697114,15.5,0.16232343573181168,{"$f":"VLOOKUP(A812,Begin:Einde,7,FALSE)","v":0},1,{"$f":"VLOOKUP(Jaar,Trendfactoren!$A$2:$D$23,4,FALSE)","v":0.98},0,0,0,0,0,0,0,0,0,0,0]
["WaalBO4leegop","Waal","BO4","leeg","op","CO2",14930.93970778406,15.2,0.25216698173146412,{"$f":"VLOOKUP(A813,Begin:Einde,7,FALSE)","v":0},1,{"$f":"VLOOKUP(Jaar,Trendfactoren!$A$2:$D$23,4,FALSE)","v":0.98},0,0,0,0,0,0,0,0,0,0,0]
["WaalC1bgeladenaf","Waal","C1b","geladen","af","CO2",10130.209089920992,11.9,0.13394387574451092,{"$f":"VLOOKUP(A814,Begin:Einde,7,FALSE)","v":0},1,{"$f":"VLOOKUP(Jaar,Trendfactoren!$A$2:$D$23,4,FALSE)","v":0.98},0,0,0,0,0,0,0,0,0,0,0]
["WaalC1bgeladenop","Waal","C1b","geladen","op","CO2",18397.510768551445,11.5,0.23507930426482404,{"$f":"VLOOKUP(A815,Begin:Einde,7,FALSE)","v":0},1,{"$f":"VLOOKUP(Jaar,Trendfactoren!$A$2:$D$23,4,FALSE)","v":0.98},0,0,0,0,0,0,0,0,0,0,0]
["WaalC1bleegaf","Waal","C1b","leeg","af","CO2",5926.5469850369445,15.5,0.10206830918674738,{"$f":"VLOOKUP(A816,Begin:Einde,7,FALSE)","v":0},1,{"$f":"VLOOKUP(Jaar,Trendfactoren!$A$2:$D$23,4,FALSE)","v":0.98},0,0,0,0,0,0,0,0,0,0,0]
["WaalC1bleegop","Waal","C1b","leeg","op","CO2",8562.6860254436542,14.399999999999999,0.13700297640709844,{"$f":"VLOOKUP(A817,Begin:Einde,7,FALSE)","v":0},1,{"$f":"VLOOKUP(Jaar,Trendfactoren!$A$2:$D$23,4,FALSE)","v":0.98},0,0,0,0,0,0,0,0,0,0,0]
["WaalC1lgeladenaf","Waal","C1l","geladen","af","CO2",7016.8132607392881,12.100000000000001,9.4337156061050434E-2,{"$f":"VLOOKUP(A818,Begin:Einde,7,FALSE)","v":0},1,{"$f":"VLOOKUP(Jaar,Trendfactoren!$A$2:$D$23,4,FALSE)","v":0.98},0,0,0,0,0,0,0,0,0,0,0]
["WaalC1lgeladenop","Waal","C1l","geladen","op","CO2",10825.080297706989,10.7,0.12869817687273863,{"$f":"VLOOKUP(A819,Begin:Einde,7,FALSE)","v":0},1,{"$f":"VLOOKUP(Jaar,Trendfactoren!$A$2:$D$23,4,FALSE)","v":0.98},0,0,0,0,0,0,0,0,0,0,0]
["WaalC1lleegaf","Waal","C1l","leeg","af","CO2",4325.1862524074813,13.700000000000001,6.5838946286647215E-2,{"$f":"VLOOKUP(A820,Begin:Einde,7,FALSE)","v":0},1,{"$f":"VLOOKUP(Jaar,Trendfactoren!$A$2:$D$23,4,FALSE)","v":0.98},0,0,0,0,0,0,0,0,0,0,0]
["WaalC1lleegop","Waal","C1l","leeg","op","CO2",7450.7556458226791,13.6,0.11258919642576491,{"$f":"VLOOKUP(A821,Begin:Einde,7,FALSE)","v":0},1,{"$f":"VLOOKUP(Jaar,Trendfactoren!$A$2:$D$23,4,FALSE)","v":0.98},0,0,0,0,0,0,0,0,0,0,0]
["WaalC2bgeladenaf","Waal","C2b","geladen","af","CO2",25604.064555832079,11.8,0.33569773528757613,{"$f":"VLOOKUP(A822,Begin:Einde,7,FALSE)","v":0},1,{"$f":"VLOOKUP(Jaar,Trendfactoren!$A$2:$D$23,4,FALSE)","v":0.98},0,0,0,0,0,0,0,0,0,0,0]
["WaalC2bgeladenop","Waal","C2b","geladen","op","CO2",52646.108038639628,12.2,0.71364724230155929,{"$f":"VLOOKUP(A823,Begin:Einde,7,FALSE)","v":0},1,{"$f":"VLOOKUP(Jaar,Trendfactoren!$A$2:$D$23,4,FALSE)","v":0.98},0,0,0,0,0,0,0,0,0,0,0]
["WaalC2bleegaf","Waal","C2b","leeg","af","CO2",19534.801203512437,15.5,0.33643268739382531,{"$f":"VLOOKUP(A824,Begin:Einde,7,FALSE)","v":0},1,{"$f":"VLOOKUP(Jaar,Trendfactoren!$A$2:$D$23,4,FALSE)","v":0.98},0,0,0,0,0,0,0,0,0,0,0]
["WaalC2bleegop","Waal","C2b","leeg","op","CO2",32067.311247188609,15.5,0.55227036036824817,{"$f":"VLOOKUP(A825,Begin:Einde,7,FALSE)","v":0},1,{"$f":"VLOOKUP(Jaar,Trendfactoren!$A$2:$D$23,4,FALSE)","v":0.98},0,0,0,0,0,0,0,0,0,0,0]
["WaalC2lgeladenaf","Waal","C2l","geladen","af","CO2",22792.792220087387,13.3,0.33682681836351364,{"$f":"VLOOKUP(A826,Begin:Einde,7,FALSE)","v":0},1,{"$f":"VLOOKUP(Jaar,Trendfactoren!$A$2:$D$23,4,FALSE)","v":0.98},0,0,0,0,0,0,0,0,0,0,0]
["WaalC2lgeladenop","Waal","C2l","geladen","op","CO2",38193.188154643933,12.799999999999999,0.54319200931049139,{"$f":"VLOOKUP(A827,Begin:Einde,7,FALSE)","v":0},1,{"$f":"VLOOKUP(Jaar,Trendfactoren!$A$2:$D$23,4,FALSE)","v":0.98},0,0,0,0,0,0,0,0,0,0,0]
["WaalC2lleegaf","Waal","C2l","leeg","af","CO2",17188.349518788131,16.399999999999999,0.31320992456458363,{"$f":"VLOOKUP(A828,Begin:Einde,7,FALSE)","v":0},1,{"$f":"VLOOKUP(Jaar,Trendfactoren!$A$2:$D$23,4,FALSE)","v":0.98},0,0,0,0,0,0,0,0,0,0,0]
["WaalC2lleegop","Waal","C2l","leeg","op","CO2",27350.163205265188,16.399999999999999,0.49838075174038782,{"$f":"VLOOKUP(A829,Begin:Einde,7,FALSE)","v":0},1,{"$f":"VLOOKUP(Jaar,Trendfactoren!$A$2:$D$23,4,FALSE)","v":0.98},0,0,0,0,0,0,0,0,0,0,0]
["WaalC3bgeladenaf","Waal","C3b","geladen","af","CO2",40795.014859450632,11.4,{"$f":"+MJperkgCO2*G830/1000*H830/3600","v":0.51673685488637466},{"$f":"VLOOKUP(A830,Begin:Einde,7,FALSE)","v":0},{"$f":"+Afstand","v":1},{"$f":"VLOOKUP(Jaar,Trendfactoren!$A$2:$D$23,4,FALSE)","v":0.98},0,{"$f":"+J830*H830","v":0},0,{"$f":"+O830/+IF($O$895>0,$O$895,1)","v":0},0,0,0,{"$f":"+S830/$I830","v":0},{"$f":"+Q830/$I830","v":0},{"$f":"+R830/$I830","v":0},0]
[{"$f":"+B831&C831&D831&E831","v":"WaalC3bgeladenop"},"Waal","C3b","geladen","op","CO2",76659.703739265955,11,0.93695193459102821,{"$f":"VLOOKUP(A831,Begin:Einde,7,FALSE)","v":0},1,{"$f":"VLOOKUP(Jaar,Trendfactoren!$A$2:$D$23,4,FALSE)","v":0.98},{"$f":"+J831*I831*L831","v":0},0,{"$f":"+J831*G831*K831","v":0},0,{"$f":"+IF(E831=\"beide\",O831,0)/IF($O$896>0,$O$896,1)","v":0},{"$f":"+IF(E831=\"op\",O831,0)/IF($O$897>0,$O$897,1)","v":0},{"$f":"+IF(E831=\"af\",O831,0)/IF($O$898>0,$O$898,1)","v":0},0,0,0,{"$f":"+P831/I831","v":0}]
["WaalC3bleegaf","Waal","C3b","leeg","af","CO2",27294.851614498672,15.5,0.47007800002747707,{"$f":"VLOOKUP(A832,Begin:Einde,7,FALSE)","v":0},1,{"$f":"VLOOKUP(Jaar,Trendfactoren!$A$2:$D$23,4,FALSE)","v":0.98},0,0,0,0,0,0,0,0,0,0,0]
["WaalC3bleegop","Waal","C3b","leeg","op","CO2",43819.73931857464,15.3,0.74493556841576891,{"$f":"VLOOKUP(A833,Begin:Einde,7,FALSE)","v":0},1,{"$f":"VLOOKUP(Jaar,Trendfactoren!$A$2:$D$23,4,FALSE)","v":0.98},0,0,0,0,0,0,0,0,0,0,0]
["WaalC3lgeladenaf","Waal","C3l","geladen","af","CO2",28491.557465819176,12,0.37988743287758908,{"$f":"VLOOKUP(A834,Begin:Einde,7,FALSE)","v":0},1,{"$f":"VLOOKUP(Jaar,Trendfactoren!$A$2:$D$23,4,FALSE)","v":0.98},0,0,0,0,0,0,0,0,0,0,0]
["WaalC3lgeladenop","Waal","C3l","geladen","op","CO2",49006.273181212855,11.299999999999999,0.61530098549745027,{"$f":"VLOOKUP(A835,Begin:Einde,7,FALSE)","v":0},1,{"$f":"VLOOKUP(Jaar,Trendfactoren!$A$2:$D$23,4,FALSE)","v":0.98},0,0,0,0,0,0,0,0,0,0,0]
["WaalC3lleegaf","Waal","C3l","leeg","af","CO2",21499.764595858484,16.399999999999999,0.391773488191199,{"$f":"VLOOKUP(A836,Begin:Einde,7,FALSE)","v":0},1,{"$f":"VLOOKUP(Jaar,Trendfactoren!$A$2:$D$23,4,FALSE)","v":0.98},0,0,0,0,0,0,0,0,0,0,0]
["WaalC3lleegop","Waal","C3l","leeg","op","CO2",33866.247778352052,16.3,0.61335537643015392,{"$f":"VLOOKUP(A837,Begin:Einde,7,FALSE)","v":0},1,{"$f":"VLOOKUP(Jaar,Trendfactoren!$A$2:$D$23,4,FALSE)","v":0.98},0,0,0,0,0,0,0,0,0,0,0]
["WaalC4geladenaf","Waal","C4","geladen","af","CO2",41425.397400314403,11.200000000000001,0.51551605653724597,{"$f":"VLOOKUP(A838,Begin:Einde,7,FALSE)","v":0},1,{"$f":"VLOOKUP(Jaar,Trendfactoren!$A$2:$D$23,4,FALSE)","v":0.98},0,0,0,0,0,0,0,0,0,0,0]
["WaalC4geladenop","Waal","C4","geladen","op","CO2",77120.028855463373,10.7,0.91687145417050897,{"$f":"VLOOKUP(A839,Begin:Einde,7,FALSE)","v":0},1,{"$f":"VLOOKUP(Jaar,Trendfactoren!$A$2:$D$23,4,FALSE)","v":0.98},0,0,0,0,0,0,0,0,0,0,0]
["WaalC4leegaf","Waal","C4","leeg","af","CO2",37534.496007070615,15.5,0.64642743123288282,{"$f":"VLOOKUP(A840,Begin:Einde,7,FALSE)","v":0},1,{"$f":"VLOOKUP(Jaar,Trendfactoren!$A$2:$D$23,4,FALSE)","v":0.98},0,0,0,0,0,0,0,0,0,0,0]
["WaalC4leegop","Waal","C4","leeg","op","CO2",59492.236977494962,15.2,1.0047577800643592,{"$f":"VLOOKUP(A841,Begin:Einde,7,FALSE)","v":0},1,{"$f":"VLOOKUP(Jaar,Trendfactoren!$A$2:$D$23,4,FALSE)","v":0.98},0,0,0,0,0,0,0,0,0,0,0]
["WaalM0geladenaf","Waal","M0","geladen","af","CO2",2980.0102162922699,13.4,4.4369040998129348E-2,{"$f":"VLOOKUP(A842,Begin:Einde,7,FALSE)","v":0},1,{"$f":"VLOOKUP(Jaar,Trendfactoren!$A$2:$D$23,4,FALSE)","v":0.98},0,0,0,0,0,0,0,0,0,0,0]
["WaalM0geladenop","Waal","M0","geladen","op","CO2",5037.6575587742736,13,7.2766164737850608E-2,{"$f":"VLOOKUP(A843,Begin:Einde,7,FALSE)","v":0},1,{"$f":"VLOOKUP(Jaar,Trendfactoren!$A$2:$D$23,4,FALSE)","v":0.98},0,0,0,0,0,0,0,0,0,0,0]
["WaalM0leegaf","Waal","M0","leeg","af","CO2",1788.4782634928072,15.5,3.0801570093487236E-2,{"$f":"VLOOKUP(A844,Begin:Einde,7,FALSE)","v":0},1,{"$f":"VLOOKUP(Jaar,Trendfactoren!$A$2:$D$23,4,FALSE)","v":0.98},0,0,0,0,0,0,0,0,0,0,0]
["WaalM0leegop","Waal","M0","leeg","op","CO2",2863.0719427776357,15.3,4.867222302721981E-2,{"$f":"VLOOKUP(A845,Begin:Einde,7,FALSE)","v":0},1,{"$f":"VLOOKUP(Jaar,Trendfactoren!$A$2:$D$23,4,FALSE)","v":0.98},0,0,0,0,0,0,0,0,0,0,0]
["WaalM1geladenaf","Waal","M1","geladen","af","CO2",5059.8505219266135,11.600000000000001,6.5215851171498584E-2,{"$f":"VLOOKUP(A846,Begin:Einde,7,FALSE)","v":0},1,{"$f":"VLOOKUP(Jaar,Trendfactoren!$A$2:$D$23,4,FALSE)","v":0.98},0,0,0,0,0,0,0,0,0,0,0]
["WaalM1geladenop","Waal","M1","geladen","op","CO2",8894.8381383564592,10.899999999999999,0.10772637300898377,{"$f":"VLOOKUP(A847,Begin:Einde,7,FALSE)","v":0},1,{"$f":"VLOOKUP(Jaar,Trendfactoren!$A$2:$D$23,4,FALSE)","v":0.98},0,0,0,0,0,0,0,0,0,0,0]
["WaalM1leegaf","Waal","M1","leeg","af","CO2",3082.3203838953718,15.5,5.3084406611531403E-2,{"$f":"VLOOKUP(A848,Begin:Einde,7,FALSE)","v":0},1,{"$f":"VLOOKUP(Jaar,Trendfactoren!$A$2:$D$23,4,FALSE)","v":0.98},0,0,0,0,0,0,0,0,0,0,0]
["WaalM1leegop","Waal","M1","leeg","op","CO2",4876.6241545455905,15.2,8.2360763498992184E-2,{"$f":"VLOOKUP(A849,Begin:Einde,7,FALSE)","v":0},1,{"$f":"VLOOKUP(Jaar,Trendfactoren!$A$2:$D$23,4,FALSE)","v":0.98},0,0,0,0,0,0,0,0,0,0,0]
["WaalM10geladenaf","Waal","M10","geladen","af","CO2",36510.676705926082,14.3,0.58011408543860332,{"$f":"VLOOKUP(A850,Begin:Einde,7,FALSE)","v":0},1,{"$f":"VLOOKUP(Jaar,Trendfactoren!$A$2:$D$23,4,FALSE)","v":0.98},0,0,0,0,0,0,0,0,0,0,0]
["WaalM10geladenop","Waal","M10","geladen","op","CO2",51265.587164388664,12.7,0.72341439665303997,{"$f":"VLOOKUP(A851,Begin:Einde,7,FALSE)","v":0},1,{"$f":"VLOOKUP(Jaar,Trendfactoren!$A$2:$D$23,4,FALSE)","v":0.98},0,0,0,0,0,0,0,0,0,0,0]
["WaalM10leegaf","Waal","M10","leeg","af","CO2",23429.172205845105,18.2,0.47378992682931209,{"$f":"VLOOKUP(A852,Begin:Einde,7,FALSE)","v":0},1,{"$f":"VLOOKUP(Jaar,Trendfactoren!$A$2:$D$23,4,FALSE)","v":0.98},0,0,0,0,0,0,0,0,0,0,0]
["WaalM10leegop","Waal","M10","leeg","op","CO2",35072.727531397642,18,0.7014545506279527,{"$f":"VLOOKUP(A853,Begin:Einde,7,FALSE)","v":0},1,{"$f":"VLOOKUP(Jaar,Trendfactoren!$A$2:$D$23,4,FALSE)","v":0.98},0,0,0,0,0,0,0,0,0,0,0]
["WaalM11geladenaf","Waal","M11","geladen","af","CO2",60336.368985541347,17.8,1.1933192977140399,{"$f":"VLOOKUP(A854,Begin:Einde,7,FALSE)","v":0},1,{"$f":"VLOOKUP(Jaar,Trendfactoren!$A$2:$D$23,4,FALSE)","v":0.98},0,0,0,0,0,0,0,0,0,0,0]
["WaalM11geladenop","Waal","M11","geladen","op","CO2",74990.469594008406,15.7,1.3081670806954799,{"$f":"VLOOKUP(A855,Begin:Einde,7,FALSE)","v":0},1,{"$f":"VLOOKUP(Jaar,Trendfactoren!$A$2:$D$23,4,FALSE)","v":0.98},0,0,0,0,0,0,0,0,0,0,0]
["WaalM11leegaf","Waal","M11","leeg","af","CO2",33854.443410815489,20.3,0.76360577915506056,{"$f":"VLOOKUP(A856,Begin:Einde,7,FALSE)","v":0},1,{"$f":"VLOOKUP(Jaar,Trendfactoren!$A$2:$D$23,4,FALSE)","v":0.98},0,0,0,0,0,0,0,0,0,0,0]
["WaalM11leegop","Waal","M11","leeg","op","CO2",40784.136436063214,18.2,0.82474587015150047,{"$f":"VLOOKUP(A857,Begin:Einde,7,FALSE)","v":0},1,{"$f":"VLOOKUP(Jaar,Trendfactoren!$A$2:$D$23,4,FALSE)","v":0.98},0,0,0,0,0,0,0,0,0,0,0]
["WaalM12geladenaf","Waal","M12","geladen","af","CO2",69370.008072204146,17.3,1.3334457107212574,{"$f":"VLOOKUP(A858,Begin:Einde,7,FALSE)","v":0},1,{"$f":"VLOOKUP(Jaar,Trendfactoren!$A$2:$D$23,4,FALSE)","v":0.98},0,0,0,0,0,0,0,0,0,0,0]
["WaalM12geladenop","Waal","M12","geladen","op","CO2",86842.061950835632,15.2,1.4666659351696685,{"$f":"VLOOKUP(A859,Begin:Einde,7,FALSE)","v":0},1,{"$f":"VLOOKUP(Jaar,Trendfactoren!$A$2:$D$23,4,FALSE)","v":0.98},0,0,0,0,0,0,0,0,0,0,0]
["WaalM12leegaf","Waal","M12","leeg","af","CO2",40296.517409719338,20.3,0.9089103371303362,{"$f":"VLOOKUP(A860,Begin:Einde,7,FALSE)","v":0},1,{"$f":"VLOOKUP(Jaar,Trendfactoren!$A$2:$D$23,4,FALSE)","v":0.98},0,0,0,0,0,0,0,0,0,0,0]
["WaalM12leegop","Waal","M12","leeg","op","CO2",48559.617953869682,18.2,0.98198338528936457,{"$f":"VLOOKUP(A861,Begin:Einde,7,FALSE)","v":0},1,{"$f":"VLOOKUP(Jaar,Trendfactoren!$A$2:$D$23,4,FALSE)","v":0.98},0,0,0,0,0,0,0,0,0,0,0]
["WaalM2geladenaf","Waal","M2","geladen","af","CO2",9974.5298849084247,13.5,0.14961794827362634,{"$f":"VLOOKUP(A862,Begin:Einde,7,FALSE)","v":0},1,{"$f":"VLOOKUP(Jaar,Trendfactoren!$A$2:$D$23,4,FALSE)","v":0.98},0,0,0,0,0,0,0,0,0,0,0]
["WaalM2geladenop","Waal","M2","geladen","op","CO2",15538.980535880091,12.5,0.21581917410944571,{"$f":"VLOOKUP(A863,Begin:Einde,7,FALSE)","v":0},1,{"$f":"VLOOKUP(Jaar,Trendfactoren!$A$2:$D$23,4,FALSE)","v":0.98},0,0,0,0,0,0,0,0,0,0,0]
["WaalM2leegaf","Waal","M2","leeg","af","CO2",5639.6955350871413,16.600000000000001,0.10402105098049617,{"$f":"VLOOKUP(A864,Begin:Einde,7,FALSE)","v":0},1,{"$f":"VLOOKUP(Jaar,Trendfactoren!$A$2:$D$23,4,FALSE)","v":0.98},0,0,0,0,0,0,0,0,0,0,0]
["WaalM2leegop","Waal","M2","leeg","op","CO2",8567.9977866055251,16.2,0.15422396015889944,{"$f":"VLOOKUP(A865,Begin:Einde,7,FALSE)","v":0},1,{"$f":"VLOOKUP(Jaar,Trendfactoren!$A$2:$D$23,4,FALSE)","v":0.98},0,0,0,0,0,0,0,0,0,0,0]
["WaalM3geladenaf","Waal","M3","geladen","af","CO2",13140.791342240102,14.3,0.20879257354892605,{"$f":"VLOOKUP(A866,Begin:Einde,7,FALSE)","v":0},1,{"$f":"VLOOKUP(Jaar,Trendfactoren!$A$2:$D$23,4,FALSE)","v":0.98},0,0,0,0,0,0,0,0,0,0,0]
["WaalM3geladenop","Waal","M3","geladen","op","CO2",19698.131996127642,13.2,0.28890593594320541,{"$f":"VLOOKUP(A867,Begin:Einde,7,FALSE)","v":0},1,{"$f":"VLOOKUP(Jaar,Trendfactoren!$A$2:$D$23,4,FALSE)","v":0.98},0,0,0,0,0,0,0,0,0,0,0]
["WaalM3leegaf","Waal","M3","leeg","af","CO2",8333.7953273478415,17.5,0.16204602025398582,{"$f":"VLOOKUP(A868,Begin:Einde,7,FALSE)","v":0},1,{"$f":"VLOOKUP(Jaar,Trendfactoren!$A$2:$D$23,4,FALSE)","v":0.98},0,0,0,0,0,0,0,0,0,0,0]
["WaalM3leegop","Waal","M3","leeg","op","CO2",12394.985004183172,17.099999999999998,0.23550471507948026,{"$f":"VLOOKUP(A869,Begin:Einde,7,FALSE)","v":0},1,{"$f":"VLOOKUP(Jaar,Trendfactoren!$A$2:$D$23,4,FALSE)","v":0.98},0,0,0,0,0,0,0,0,0,0,0]
["WaalM4geladenaf","Waal","M4","geladen","af","CO2",15051.408634437423,14.3,0.23915015941383905,{"$f":"VLOOKUP(A870,Begin:Einde,7,FALSE)","v":0},1,{"$f":"VLOOKUP(Jaar,Trendfactoren!$A$2:$D$23,4,FALSE)","v":0.98},0,0,0,0,0,0,0,0,0,0,0]
["WaalM4geladenop","Waal","M4","geladen","op","CO2",23759.168151048802,13.6,0.35902742983807079,{"$f":"VLOOKUP(A871,Begin:Einde,7,FALSE)","v":0},1,{"$f":"VLOOKUP(Jaar,Trendfactoren!$A$2:$D$23,4,FALSE)","v":0.98},0,0,0,0,0,0,0,0,0,0,0]
["WaalM4leegaf","Waal","M4","leeg","af","CO2",10302.396075937419,18,0.20604792151874837,{"$f":"VLOOKUP(A872,Begin:Einde,7,FALSE)","v":0},1,{"$f":"VLOOKUP(Jaar,Trendfactoren!$A$2:$D$23,4,FALSE)","v":0.98},0,0,0,0,0,0,0,0,0,0,0]
["WaalM4leegop","Waal","M4","leeg","op","CO2",15308.965636837595,17.7,0.30107632419113933,{"$f":"VLOOKUP(A873,Begin:Einde,7,FALSE)","v":0},1,{"$f":"VLOOKUP(Jaar,Trendfactoren!$A$2:$D$23,4,FALSE)","v":0.98},0,0,0,0,0,0,0,0,0,0,0]
["WaalM5geladenaf","Waal","M5","geladen","af","CO2",15933.243530510576,14.3,0.25316153609589026,{"$f":"VLOOKUP(A874,Begin:Einde,7,FALSE)","v":0},1,{"$f":"VLOOKUP(Jaar,Trendfactoren!$A$2:$D$23,4,FALSE)","v":0.98},0,0,0,0,0,0,0,0,0,0,0]
["WaalM5geladenop","Waal","M5","geladen","op","CO2",28425.151621815734,14.6,0.46111912630945523,{"$f":"VLOOKUP(A875,Begin:Einde,7,FALSE)","v":0},1,{"$f":"VLOOKUP(Jaar,Trendfactoren!$A$2:$D$23,4,FALSE)","v":0.98},0,0,0,0,0,0,0,0,0,0,0]
["WaalM5leegaf","Waal","M5","leeg","af","CO2",10635.934647779119,17.5,0.20680984037348285,{"$f":"VLOOKUP(A876,Begin:Einde,7,FALSE)","v":0},1,{"$f":"VLOOKUP(Jaar,Trendfactoren!$A$2:$D$23,4,FALSE)","v":0.98},0,0,0,0,0,0,0,0,0,0,0]
["WaalM5leegop","Waal","M5","leeg","op","CO2",16134.791744393839,17.3,0.31014655242001488,{"$f":"VLOOKUP(A877,Begin:Einde,7,FALSE)","v":0},1,{"$f":"VLOOKUP(Jaar,Trendfactoren!$A$2:$D$23,4,FALSE)","v":0.98},0,0,0,0,0,0,0,0,0,0,0]
["WaalM6geladenaf","Waal","M6","geladen","af","CO2",19099.718634884164,14.100000000000001,0.29922892527985195,{"$f":"VLOOKUP(A878,Begin:Einde,7,FALSE)","v":0},1,{"$f":"VLOOKUP(Jaar,Trendfactoren!$A$2:$D$23,4,FALSE)","v":0.98},0,0,0,0,0,0,0,0,0,0,0]
["WaalM6geladenop","Waal","M6","geladen","op","CO2",33181.284444361219,14.1,0.51984012296165905,{"$f":"VLOOKUP(A879,Begin:Einde,7,FALSE)","v":0},1,{"$f":"VLOOKUP(Jaar,Trendfactoren!$A$2:$D$23,4,FALSE)","v":0.98},0,0,0,0,0,0,0,0,0,0,0]
["WaalM6leegaf","Waal","M6","leeg","af","CO2",14552.705382073809,18.5,0.29913894396485052,{"$f":"VLOOKUP(A880,Begin:Einde,7,FALSE)","v":0},1,{"$f":"VLOOKUP(Jaar,Trendfactoren!$A$2:$D$23,4,FALSE)","v":0.98},0,0,0,0,0,0,0,0,0,0,0]
["WaalM6leegop","Waal","M6","leeg","op","CO2",21622.815834531953,18.3,0.43966392196881637,{"$f":"VLOOKUP(A881,Begin:Einde,7,FALSE)","v":0},1,{"$f":"VLOOKUP(Jaar,Trendfactoren!$A$2:$D$23,4,FALSE)","v":0.98},0,0,0,0,0,0,0,0,0,0,0]
["WaalM7geladenaf","Waal","M7","geladen","af","CO2",17694.326026825984,13.9,0.2732790353032013,{"$f":"VLOOKUP(A882,Begin:Einde,7,FALSE)","v":0},1,{"$f":"VLOOKUP(Jaar,Trendfactoren!$A$2:$D$23,4,FALSE)","v":0.98},0,0,0,0,0,0,0,0,0,0,0]
["WaalM7geladenop","Waal","M7","geladen","op","CO2",31707.717032147961,14.1,0.49675423350365139,{"$f":"VLOOKUP(A883,Begin:Einde,7,FALSE)","v":0},1,{"$f":"VLOOKUP(Jaar,Trendfactoren!$A$2:$D$23,4,FALSE)","v":0.98},0,0,0,0,0,0,0,0,0,0,0]
["WaalM7leegaf","Waal","M7","leeg","af","CO2",17048.500674497191,18.7,0.35422995845899719,{"$f":"VLOOKUP(A884,Begin:Einde,7,FALSE)","v":0},1,{"$f":"VLOOKUP(Jaar,Trendfactoren!$A$2:$D$23,4,FALSE)","v":0.98},0,0,0,0,0,0,0,0,0,0,0]
["WaalM7leegop","Waal","M7","leeg","op","CO2",25234.05670869564,18.5,0.51870005456763257,{"$f":"VLOOKUP(A885,Begin:Einde,7,FALSE)","v":0},1,{"$f":"VLOOKUP(Jaar,Trendfactoren!$A$2:$D$23,4,FALSE)","v":0.98},{"$f":"+J885*I885*L885","v":0},{"$f":"+J885*H885","v":0},{"$f":"+J885*G885*K885","v":0},{"$f":"+O885/+IF($O$895>0,$O$895,1)","v":0},{"$f":"+IF(E885=\"beide\",O885,0)/IF($O$896>0,$O$896,1)","v":0},{"$f":"+IF(E885=\"op\",O885,0)/IF($O$897>0,$O$897,1)","v":0},{"$f":"+IF(E885=\"af\",O885,0)/IF($O$898>0,$O$898,1)","v":0},{"$f":"+S885/$I885","v":0},{"$f":"+Q885/$I885","v":0},{"$f":"+R885/$I885","v":0},{"$f":"+P885/I885","v":0}]
["WaalM8geladenaf","Waal","M8","geladen","af","CO2",22055.790602380246,13.5,0.3308368590357037,{"$f":"VLOOKUP(A886,Begin:Einde,7,FALSE)","v":0},1,{"$f":"VLOOKUP(Jaar,Trendfactoren!$A$2:$D$23,4,FALSE)","v":0.98},0,0,0,0,0,0,0,0,0,0,0]
["WaalM8geladenop","Waal","M8","geladen","op","CO2",37794.803065067441,13.2,0.55432377828765578,{"$f":"VLOOKUP(A887,Begin:Einde,7,FALSE)","v":0},1,{"$f":"VLOOKUP(Jaar,Trendfactoren!$A$2:$D$23,4,FALSE)","v":0.98},0,0,0,0,0,0,0,0,0,0,0]
["WaalM8leegaf","Waal","M8","leeg","af","CO2",19664.833007712106,18.2,0.39766662304484485,{"$f":"VLOOKUP(A888,Begin:Einde,7,FALSE)","v":0},1,{"$f":"VLOOKUP(Jaar,Trendfactoren!$A$2:$D$23,4,FALSE)","v":0.98},0,0,0,0,0,0,0,0,0,0,0]
["WaalM8leegop","Waal","M8","leeg","op","CO2",29431.187576919601,18,0.58862375153839197,{"$f":"VLOOKUP(A889,Begin:Einde,7,FALSE)","v":0},1,{"$f":"VLOOKUP(Jaar,Trendfactoren!$A$2:$D$23,4,FALSE)","v":0.98},0,0,0,0,0,0,0,0,0,0,0]
["WaalM9geladenaf","Waal","M9","geladen","af","CO2",25533.79962307075,13.600000000000001,0.38584408319306912,{"$f":"VLOOKUP(A890,Begin:Einde,7,FALSE)","v":0},1,{"$f":"VLOOKUP(Jaar,Trendfactoren!$A$2:$D$23,4,FALSE)","v":0.98},0,0,0,0,0,0,0,0,0,0,0]
["WaalM9geladenop","Waal","M9","geladen","op","CO2",39149.265968018502,12.5,0.5437398051113681,{"$f":"VLOOKUP(A891,Begin:Einde,7,FALSE)","v":0},1,{"$f":"VLOOKUP(Jaar,Trendfactoren!$A$2:$D$23,4,FALSE)","v":0.98},0,0,0,0,0,0,0,0,0,0,0]
["WaalM9leegaf","Waal","M9","leeg","af","CO2",22626.152543334752,18.100000000000001,0.45503706781595449,{"$f":"VLOOKUP(A892,Begin:Einde,7,FALSE)","v":0},1,{"$f":"VLOOKUP(Jaar,Trendfactoren!$A$2:$D$23,4,FALSE)","v":0.98},0,0,0,0,0,0,0,0,0,0,0]
["WaalM9leegop","Waal","M9","leeg","op","CO2",34248.923079268432,18,0.68497846158536857,{"$f":"VLOOKUP(A893,Begin:Einde,7,FALSE)","v":0},1,{"$f":"VLOOKUP(Jaar,Trendfactoren!$A$2:$D$23,4,FALSE)","v":0.98},0,0,0,0,0,{"$f":"+IF(E893=\"op\",O893,0)/IF($O$897>0,$O$897,1)","v":0},{"$f":"+IF(E893=\"af\",O893,0)/IF($O$898>0,$O$898,1)","v":0},0,0,0,0]
[]
[null,null,null,null,null,null,null,null,null,null,null,null,null,"totaal",{"$f":"+SUM(O2:O893)","v":0},{"$f":"+SUM(P2:P893)","v":0},{"$f":"+SUM(Q2:Q893)","v":0},{"$f":"+SUM(R2:R893)","v":0},{"$f":"+SUM(S2:S893)","v":0},{"$f":"IF(SUM(T2:T893)>0,1/SUM(T2:T893),\"-\")","v":"-"},{"$f":"IF(SUM(U2:U893)>0,1/SUM(U2:U893),\"-\")","v":"-"},{"$f":"IF(SUM(V2:V893)>0,1/SUM(V2:V893),\"-\")","v":"-"},{"$f":"IF(SUM(W2:W893)>0,1/SUM(W2:W893),\"-\")","v":"-"}]
[null,null,null,null,null,null,null,null,null,null,null,null,null,"beide",{"$f":"+SUMIF(E1:E893,\"beide\",O1:O893)","v":0},null,null,null,null,"af","beide","op","totaal"]
[null,null,null,null,null,null,null,null,null,null,null,null,null,"op",{"$f":"+SUMIF(E1:E893,\"op\",O1:O893)","v":0}]
[null,null,null,null,null,null,null,null,null,null,null,null,null,"af",{"$f":"+SUMIF(E1:E893,\"af\",O1:O893)","v":0}]

{"sheet":"Optellingen","index":6,"n_rows":22,"n_cols":6,"rows_kept":22,"cut":false,"hidden":false,"merged":[]}
[]
[]
[null,"Som van Emissie (gram)","Richting"]
[null,"Stof","af","beide","op","Grand Total"]
[null,"NOx",0,0,0,0]
[null,"Fijn Stof",0,0,0,0]
[]
[]
[]
[null,"Som van GewWicht_MW","Richting"]
[null,null,"af","beide","op","Grand Total"]
[null,"Total",0,0,0,0]
[]
[]
[null,"Sum","Richting"]
[null,null,"af","beide","op","Grand Total"]
[null,"Total",0,0,0,0]
[]
[]
[null,"Som van Aantal","Richting"]
[null,null,"af","beide","op","Grand Total"]
[null,"Total",0,0,0,0]

{"sheet":"Laadvermogenklassen","index":7,"n_rows":12,"n_cols":3,"rows_kept":12,"cut":false,"hidden":false,"merged":[]}
["LVM_klasse","laadvermogen","Opmerking"]
["CBS_0","tot 21 ton"]
["CBS_1","21 tot 250 ton"]
["CBS_2","250 tot 400 ton"]
["CBS_3","400 tot 650 ton"]
["CBS_4","650 tot 1000 ton"]
["CBS_5","1000 tot 1500 ton"]
["CBS_6","1500 tot 2000 ton"]
["CBS_7","2000 tot 3000 ton"]
["CBS_8","3000 ton en meer","opgesplitst in CBS_9 en CBS_10"]
["CBS_9","3 000 tot 5 000 ton"]
["CBS_10","5 000 ton en meer"]