{"text_format":"1","workbook":"xlsx","n_sheets":8,"sheets":["VERSIE","Invulblad (INVOER)","UITVOER","Trendfactoren","Emissieberekening","Emissiekarakteristieken","Scheepstypen","Optellingen"],"not_rendered":{"charts":0,"images":0,"macros":1,"external_links":0,"defined_names":34,"comments":0,"pivot_tables":4},"unopened":[],"bounds":{"document_bytes":16777216,"sheet_cells":100000,"rows_first":2000,"rows_last":500,"rows_between":2000,"halvings":0,"cell_chars":16384,"cell_head_chars":4096},"cells_cut":0,"cells_raw":0,"read":"whole","date_system":"1900"}

{"sheet":"VERSIE","index":0,"n_rows":24,"n_cols":3,"rows_kept":24,"cut":false,"hidden":false,"merged":[[4,1,13,1],[14,1,15,1],[14,0,15,0],[4,0,13,0],[16,1,23,1],[16,0,23,0]]}
["PRELUDE (© TNO)","PRognose Emissiemodel LUcht Door tellen van Eenheden"]
[]
["Versie","Omschrijving","Wijzingen"]
["1.0","Eerste testversie gebaseerd op uitvoer van het EMS-model voor binnenvaart","Geen"]
["1.1","Tweede versie voor gebruik in AERIUS en elders","Deze versie berekent enkel de emissies door voortstuwing (ipv voortstuwing en hulpvermogen)."]
[null,null,"De onderliggende data komen uit het EMS-model gebaseerd op verkeerdata 2008 uit BIVAS: export 2011-10-17 emissies basis (2008)."]
[null,null,"Aanvullingen bestaan uit emissies van grote schepen M10, M11 en M12 (MARIN-rapport 24032.600/2)."]
[null,null,"Passend bij deze aanvullingen is een opsplitsing in CBS-laadvermogenklasse 8 aangebracht: zie tabblad \"Laadvermogenklassen\"."]
[null,null,"Bij de vaarwegentypen zijn CEMT V en VI conform BIVAS opgesplitst in Va en Vb en VIa, VIb en Vic."]
[null,null,"Warmte-output is conform de aanpak in de GCN-berekeningen gebaseerd op het harmonisch gemiddelde."]
[null,null,"Warmte-output is jaarafhankelijk gemaakt omdat de efficiency van motoren langzaam toeneemt (hierdoor neemt de warmte-output af)."]
[null,null,"Basisemissiefactoren zijn voor 2010 berekend waarbij na CCR2 geen verdere emissiereductie is verondersteld."]
[null,null,"Opsplitsing van de uitvoer in groepen warmte-output is weggelaten."]
[null,null,"Kleine verbeteringen in de user-interface: niet invoercellen beschermd (password: TNO) en knoppen voor verversen data."]
["1.11","Derde versie voor gebruik AERIUS en elders","Toegevoegd enkele schepen/vaarwegcombinaties: BOx/CEMTI en BOx/IJssel"]
[null,null,"Verwijderd enkele schepen/vaarweg combinaties:CEMT Va/C3b,Lek/BII-2b,Lek/C3b"]
["1.2","Vierde versie voor gebruik AERIUS en elders","De onderliggende data komen ten dele uit het EMS-model gebaseerd op verkeersdata 2016 uit BIVAS: \"Emissie_2016_v44\" en voor zeer klein deel BIVAS: export \"2011-10-17 emissies basis (2008)\""]
[null,null,"Er zijn een groot aantal scheepstype/vaarwegtype-combinaties toegevoegd op grond van de gegevens uit BIVAS."]
[null,null,"Snelheden zijn gebaseerd op AIS-data van de maand juli 2015 (verwerkt door CBS)"]
[null,null,"De diepgang van de schepen is aangepast met gemiddelde beladingsgraad onderverdeeld naar laadvermogenklasse (data afkomstig van CBS)"]
[null,null,"De leeftijdsopbouw van de schepen is gedifferentieerd naar laadvermogen (L1,L2,L3) waarbij de gemiddelde motorleeftijd hoger is geworden. Zie tabblad Scheeptypen (toegevoegd). De leeftijden van de motoren stemmen nu overeen met een onderzoek van Koninklijke BN Schuttevaer, \"RESULTATEN ENQUETE VERGROENING & DUURZAAMHEID BINNENVAART\" onder 305 leden."]
[null,null,"De emissiefactor van NOx voor CCR2 motoren is van 6 gram/kWh naar 7 veranderd."]
[null,null,"De emissiefactoren voor NRMM Stage V zijn toegevoegd en worden vanaf 2019 (L1) en 2020 (L2 en L3) in rekening gebracht"]
[null,null,"Invoer op basis van CBS-laadvermogenklassen is niet meer mogelijk"]

{"sheet":"Invulblad (INVOER)","index":1,"n_rows":921,"n_cols":11,"rows_kept":921,"cut":false,"hidden":false,"merged":[]}
[4,"Gebruiker","Calco Rekenaar",null,"Gegevens uitsluitend in te voeren blauwe vakken (zie Toelichting Emissieberekening binnenvaartschepen)"]
[null,"Datum veranderd",43501,null,null,null,null,null,null,null,"Kolom1"]
[null,"Naam van het vaartraject","Kikkerlandse Bocht",null,null,null,null,null,null,null,"ja"]
[{"$f":"+Afstand*ROW()","v":4},"Afstand van het vaartraject",1,"km",null,null,null,null,null,null,"nee"]
[{"$f":"+Jaar*ROW()","v":10070},"Jaar van emissie",2014,{"$f":"+IF(OR(Jaar<TRENDSTART,Jaar>TRENDEND),\"! Voer jaar tussen \"&TRENDSTART&\" en \"&TRENDEND&\" in Invulblad\",\"\")","v":""}]
[{"$f":"+IF(Sluis=\"nee\",11,13)*ROW()","v":66},"Sluis","nee",null,null,null,null,null,null,"Pmfactor",1.32]
[{"$f":"+A6*A5*A4","v":2658480},{"$f":"+IF(Sluis=\"ja\",\"Schuttijd\",\"\")","v":""},30,{"$f":"+IF(Sluis=\"ja\",\"minuten\",\"\")","v":""},null,null,null,null,null,"Noxfactor",1.17]
[0,"Kies filters om de invoer van aantallen te vereenvoudigen",null,null,null,"aantal regels ingevuld:",{"$f":"+SUM(Begin:Einde)","v":0},null,null,"Standbyvermogen",0.15]
["Zoekstring","Pluimvaarweg","Indeling schepen","Scheepstype","Ladingstoestand","Richting","Aantal",null,null,null,{"$f":"+SUM(K10:K673)*A7","v":0}]
[{"$f":"+B10&D10&E10&F10","v":"CEMT 0BIleegbeide"},"CEMT 0","RWS","BI","leeg","beide",0,null,null,null,{"$f":"+G10*ROW()","v":0}]
["CEMT 0BII-1geladenbeide","CEMT 0","RWS","BII-1","geladen","beide",0,null,null,null,0]
["CEMT 0BII-1leegbeide","CEMT 0","RWS","BII-1","leeg","beide",0,null,null,null,0]
["CEMT 0BII-2Bgeladenbeide","CEMT 0","RWS","BII-2B","geladen","beide",0,null,null,null,0]
["CEMT 0BII-2Bleegbeide","CEMT 0","RWS","BII-2B","leeg","beide",0,null,null,null,0]
["CEMT 0BII-2Lgeladenbeide","CEMT 0","RWS","BII-2L","geladen","beide",0,null,null,null,0]
["CEMT 0BII-2Lleegbeide","CEMT 0","RWS","BII-2L","leeg","beide",0,null,null,null,0]
["CEMT 0BII-4leegbeide","CEMT 0","RWS","BII-4","leeg","beide",0,null,null,null,0]
["CEMT 0BO1geladenbeide","CEMT 0","RWS","BO1","geladen","beide",0,null,null,null,0]
["CEMT 0BO1leegbeide","CEMT 0","RWS","BO1","leeg","beide",0,null,null,null,0]
["CEMT 0BO2geladenbeide","CEMT 0","RWS","BO2","geladen","beide",0,null,null,null,0]
["CEMT 0BO2leegbeide","CEMT 0","RWS","BO2","leeg","beide",0,null,null,null,0]
["CEMT 0BO3leegbeide","CEMT 0","RWS","BO3","leeg","beide",0,null,null,null,0]
["CEMT 0BO4geladenbeide","CEMT 0","RWS","BO4","geladen","beide",0,null,null,null,0]
["CEMT 0BO4leegbeide","CEMT 0","RWS","BO4","leeg","beide",0,null,null,null,0]
["CEMT 0C2bgeladenbeide","CEMT 0","RWS","C2b","geladen","beide",0,null,null,null,0]
["CEMT 0C2bleegbeide","CEMT 0","RWS","C2b","leeg","beide",0,null,null,null,0]
["CEMT 0C2lgeladenbeide","CEMT 0","RWS","C2l","geladen","beide",0,null,null,null,0]
["CEMT 0C2lleegbeide","CEMT 0","RWS","C2l","leeg","beide",0,null,null,null,0]
["CEMT 0C3bgeladenbeide","CEMT 0","RWS","C3b","geladen","beide",0,null,null,null,0]
["CEMT 0C3lgeladenbeide","CEMT 0","RWS","C3l","geladen","beide",0,null,null,null,0]
["CEMT 0C3lleegbeide","CEMT 0","RWS","C3l","leeg","beide",0,null,null,null,0]
["CEMT 0C4geladenbeide","CEMT 0","RWS","C4","geladen","beide",0,null,null,null,0]
["CEMT 0M0geladenbeide","CEMT 0","RWS","M0","geladen","beide",0,null,null,null,0]
["CEMT 0M0leegbeide","CEMT 0","RWS","M0","leeg","beide",0,null,null,null,0]
["CEMT 0M1geladenbeide","CEMT 0","RWS","M1","geladen","beide",0,null,null,null,0]
["CEMT 0M1leegbeide","CEMT 0","RWS","M1","leeg","beide",0,null,null,null,0]
["CEMT 0M10geladenbeide","CEMT 0","RWS","M10","geladen","beide",0,null,null,null,0]
["CEMT 0M10leegbeide","CEMT 0","RWS","M10","leeg","beide",0,null,null,null,0]
["CEMT 0M11leegbeide","CEMT 0","RWS","M11","leeg","beide",0,null,null,null,0]
["CEMT 0M12geladenbeide","CEMT 0","RWS","M12","geladen","beide",0,null,null,null,0]
["CEMT 0M2geladenbeide","CEMT 0","RWS","M2","geladen","beide",0,null,null,null,0]
["CEMT 0M2leegbeide","CEMT 0","RWS","M2","leeg","beide",0,null,null,null,0]
["CEMT 0M3geladenbeide","CEMT 0","RWS","M3","geladen","beide",0,null,null,null,0]
["CEMT 0M3leegbeide","CEMT 0","RWS","M3","leeg","beide",0,null,null,null,0]
["CEMT 0M4geladenbeide","CEMT 0","RWS","M4","geladen","beide",0,null,null,null,0]
["CEMT 0M4leegbeide","CEMT 0","RWS","M4","leeg","beide",0,null,null,null,0]
["CEMT 0M5geladenbeide","CEMT 0","RWS","M5","geladen","beide",0,null,null,null,0]
["CEMT 0M5leegbeide","CEMT 0","RWS","M5","leeg","beide",0,null,null,null,0]
["CEMT 0M6geladenbeide","CEMT 0","RWS","M6","geladen","beide",0,null,null,null,0]
["CEMT 0M6leegbeide","CEMT 0","RWS","M6","leeg","beide",0,null,null,null,0]
["CEMT 0M7geladenbeide","CEMT 0","RWS","M7","geladen","beide",0,null,null,null,0]
["CEMT 0M7leegbeide","CEMT 0","RWS","M7","leeg","beide",0,null,null,null,0]
["CEMT 0M8geladenbeide","CEMT 0","RWS","M8","geladen","beide",0,null,null,null,0]
["CEMT 0M8leegbeide","CEMT 0","RWS","M8","leeg","beide",0,null,null,null,0]
["CEMT 0M9geladenbeide","CEMT 0","RWS","M9","geladen","beide",0,null,null,null,0]
[{"$f":"+B56&D56&E56&F56","v":"CEMT 0M9leegbeide"},"CEMT 0","RWS","M9","leeg","beide",0,null,null,null,0]
["CEMT IBIgeladenbeide","CEMT I","RWS","BI","geladen","beide",0,null,null,null,{"$f":"+G57*ROW()","v":0}]
["CEMT IBIleegbeide","CEMT I","RWS","BI","leeg","beide",0,null,null,null,0]
["CEMT IBII-1geladenbeide","CEMT I","RWS","BII-1","geladen","beide",0,null,null,null,0]
["CEMT IBII-1leegbeide","CEMT I","RWS","BII-1","leeg","beide",0,null,null,null,0]
["CEMT IBII-2Bleegbeide","CEMT I","RWS","BII-2B","leeg","beide",0,null,null,null,0]
["CEMT IBII-2Lgeladenbeide","CEMT I","RWS","BII-2L","geladen","beide",0,null,null,null,0]
["CEMT IBII-2Lleegbeide","CEMT I","RWS","BII-2L","leeg","beide",0,null,null,null,0]
["CEMT IBO1leegbeide","CEMT I","RWS","BO1","leeg","beide",0,null,null,null,0]
["CEMT IBO2geladenbeide","CEMT I","RWS","BO2","geladen","beide",0,null,null,null,0]
["CEMT IBO2leegbeide","CEMT I","RWS","BO2","leeg","beide",0,null,null,null,0]
["CEMT IBO3geladenbeide","CEMT I","RWS","BO3","geladen","beide",0,null,null,null,0]
["CEMT IBO3leegbeide","CEMT I","RWS","BO3","leeg","beide",0,null,null,null,0]
["CEMT IBO4geladenbeide","CEMT I","RWS","BO4","geladen","beide",0,null,null,null,0]
["CEMT IBO4leegbeide","CEMT I","RWS","BO4","leeg","beide",0,null,null,null,0]
["CEMT IC1bleegbeide","CEMT I","RWS","C1b","leeg","beide",0,null,null,null,0]
["CEMT IC3lgeladenbeide","CEMT I","RWS","C3l","geladen","beide",0,null,null,null,0]
["CEMT IC3lleegbeide","CEMT I","RWS","C3l","leeg","beide",0,null,null,null,0]
["CEMT IC4geladenbeide","CEMT I","RWS","C4","geladen","beide",0,null,null,null,0]
["CEMT IM0geladenbeide","CEMT I","RWS","M0","geladen","beide",0,null,null,null,0]
["CEMT IM0leegbeide","CEMT I","RWS","M0","leeg","beide",0,null,null,null,0]
["CEMT IM1geladenbeide","CEMT I","RWS","M1","geladen","beide",0,null,null,null,0]
["CEMT IM1leegbeide","CEMT I","RWS","M1","leeg","beide",0,null,null,null,0]
["CEMT IM10leegbeide","CEMT I","RWS","M10","leeg","beide",0,null,null,null,0]
["CEMT IM11geladenbeide","CEMT I","RWS","M11","geladen","beide",0,null,null,null,0]
["CEMT IM2geladenbeide","CEMT I","RWS","M2","geladen","beide",0,null,null,null,0]
["CEMT IM2leegbeide","CEMT I","RWS","M2","leeg","beide",0,null,null,null,0]
["CEMT IM3geladenbeide","CEMT I","RWS","M3","geladen","beide",0,null,null,null,0]
["CEMT IM3leegbeide","CEMT I","RWS","M3","leeg","beide",0,null,null,null,0]
["CEMT IM4geladenbeide","CEMT I","RWS","M4","geladen","beide",0,null,null,null,0]
["CEMT IM4leegbeide","CEMT I","RWS","M4","leeg","beide",0,null,null,null,0]
["CEMT IM5geladenbeide","CEMT I","RWS","M5","geladen","beide",0,null,null,null,0]
["CEMT IM5leegbeide","CEMT I","RWS","M5","leeg","beide",0,null,null,null,0]
["CEMT IM6geladenbeide","CEMT I","RWS","M6","geladen","beide",0,null,null,null,0]
["CEMT IM6leegbeide","CEMT I","RWS","M6","leeg","beide",0,null,null,null,0]
["CEMT IM7geladenbeide","CEMT I","RWS","M7","geladen","beide",0,null,null,null,0]
["CEMT IM7leegbeide","CEMT I","RWS","M7","leeg","beide",0,null,null,null,0]
["CEMT IM8geladenbeide","CEMT I","RWS","M8","geladen","beide",0,null,null,null,0]
["CEMT IM8leegbeide","CEMT I","RWS","M8","leeg","beide",0,null,null,null,0]
["CEMT IM9geladenbeide","CEMT I","RWS","M9","geladen","beide",0,null,null,null,0]
["CEMT IM9leegbeide","CEMT I","RWS","M9","leeg","beide",0,null,null,null,0]
["CEMT IIBIgeladenbeide","CEMT II","RWS","BI","geladen","beide",0,null,null,null,0]
["CEMT IIBIleegbeide","CEMT II","RWS","BI","leeg","beide",0,null,null,null,0]
["CEMT IIBII-1geladenbeide","CEMT II","RWS","BII-1","geladen","beide",0,null,null,null,0]
[{"$f":"+B100&D100&E100&F100","v":"CEMT IIBII-1leegbeide"},"CEMT II","RWS","BII-1","leeg","beide",0,null,null,null,{"$f":"+G100*ROW()","v":0}]
["CEMT IIBII-2Bgeladenbeide","CEMT II","RWS","BII-2B","geladen","beide",0,null,null,null,0]
["CEMT IIBII-2Bleegbeide","CEMT II","RWS","BII-2B","leeg","beide",0,null,null,null,0]
["CEMT IIBII-2Lgeladenbeide","CEMT II","RWS","BII-2L","geladen","beide",0,null,null,null,0]
["CEMT IIBII-2Lleegbeide","CEMT II","RWS","BII-2L","leeg","beide",0,null,null,null,0]
["CEMT IIBII-4leegbeide","CEMT II","RWS","BII-4","leeg","beide",0,null,null,null,0]
["CEMT IIBII-6Bleegbeide","CEMT II","RWS","BII-6B","leeg","beide",0,null,null,null,0]
["CEMT IIBII-6Lgeladenbeide","CEMT II","RWS","BII-6L","geladen","beide",0,null,null,null,0]
["CEMT IIBO1geladenbeide","CEMT II","RWS","BO1","geladen","beide",0,null,null,null,0]
["CEMT IIBO1leegbeide","CEMT II","RWS","BO1","leeg","beide",0,null,null,null,0]
["CEMT IIBO2geladenbeide","CEMT II","RWS","BO2","geladen","beide",0,null,null,null,0]
["CEMT IIBO2leegbeide","CEMT II","RWS","BO2","leeg","beide",0,null,null,null,0]
["CEMT IIBO3geladenbeide","CEMT II","RWS","BO3","geladen","beide",0,null,null,null,0]
["CEMT IIBO3leegbeide","CEMT II","RWS","BO3","leeg","beide",0,null,null,null,0]
["CEMT IIBO4geladenbeide","CEMT II","RWS","BO4","geladen","beide",0,null,null,null,0]
["CEMT IIBO4leegbeide","CEMT II","RWS","BO4","leeg","beide",0,null,null,null,0]
["CEMT IIC1bgeladenbeide","CEMT II","RWS","C1b","geladen","beide",0,null,null,null,0]
["CEMT IIC1bleegbeide","CEMT II","RWS","C1b","leeg","beide",0,null,null,null,0]
["CEMT IIC1lgeladenbeide","CEMT II","RWS","C1l","geladen","beide",0,null,null,null,0]
["CEMT IIC1lleegbeide","CEMT II","RWS","C1l","leeg","beide",0,null,null,null,0]
["CEMT IIC2bgeladenbeide","CEMT II","RWS","C2b","geladen","beide",0,null,null,null,0]
["CEMT IIC2bleegbeide","CEMT II","RWS","C2b","leeg","beide",0,null,null,null,0]
["CEMT IIC2lgeladenbeide","CEMT II","RWS","C2l","geladen","beide",0,null,null,null,0]
["CEMT IIC2lleegbeide","CEMT II","RWS","C2l","leeg","beide",0,null,null,null,0]
["CEMT IIC3bgeladenbeide","CEMT II","RWS","C3b","geladen","beide",0,null,null,null,0]
["CEMT IIC3bleegbeide","CEMT II","RWS","C3b","leeg","beide",0,null,null,null,0]
["CEMT IIC3lgeladenbeide","CEMT II","RWS","C3l","geladen","beide",0,null,null,null,0]
["CEMT IIC3lleegbeide","CEMT II","RWS","C3l","leeg","beide",0,null,null,null,0]
["CEMT IIC4geladenbeide","CEMT II","RWS","C4","geladen","beide",0,null,null,null,0]
["CEMT IIM0geladenbeide","CEMT II","RWS","M0","geladen","beide",0,null,null,null,0]
["CEMT IIM0leegbeide","CEMT II","RWS","M0","leeg","beide",0,null,null,null,0]
["CEMT IIM1geladenbeide","CEMT II","RWS","M1","geladen","beide",0,null,null,null,0]
["CEMT IIM1leegbeide","CEMT II","RWS","M1","leeg","beide",0,null,null,null,0]
["CEMT IIM10geladenbeide","CEMT II","RWS","M10","geladen","beide",0,null,null,null,0]
["CEMT IIM10leegbeide","CEMT II","RWS","M10","leeg","beide",0,null,null,null,0]
["CEMT IIM11geladenbeide","CEMT II","RWS","M11","geladen","beide",0,null,null,null,0]
["CEMT IIM11leegbeide","CEMT II","RWS","M11","leeg","beide",0,null,null,null,0]
["CEMT IIM12geladenbeide","CEMT II","RWS","M12","geladen","beide",0,null,null,null,0]
["CEMT IIM12leegbeide","CEMT II","RWS","M12","leeg","beide",0,null,null,null,0]
["CEMT IIM2geladenbeide","CEMT II","RWS","M2","geladen","beide",0,null,null,null,0]
["CEMT IIM2leegbeide","CEMT II","RWS","M2","leeg","beide",0,null,null,null,0]
["CEMT IIM3geladenbeide","CEMT II","RWS","M3","geladen","beide",0,null,null,null,0]
["CEMT IIM3leegbeide","CEMT II","RWS","M3","leeg","beide",0,null,null,null,0]
["CEMT IIM4geladenbeide","CEMT II","RWS","M4","geladen","beide",0,null,null,null,0]
["CEMT IIM4leegbeide","CEMT II","RWS","M4","leeg","beide",0,null,null,null,0]
["CEMT IIM5geladenbeide","CEMT II","RWS","M5","geladen","beide",0,null,null,null,0]
["CEMT IIM5leegbeide","CEMT II","RWS","M5","leeg","beide",0,null,null,null,0]
["CEMT IIM6geladenbeide","CEMT II","RWS","M6","geladen","beide",0,null,null,null,0]
["CEMT IIM6leegbeide","CEMT II","RWS","M6","leeg","beide",0,null,null,null,0]
["CEMT IIM7geladenbeide","CEMT II","RWS","M7","geladen","beide",0,null,null,null,0]
[{"$f":"+B150&D150&E150&F150","v":"CEMT IIM7leegbeide"},"CEMT II","RWS","M7","leeg","beide",0,null,null,null,0]
["CEMT IIM8geladenbeide","CEMT II","RWS","M8","geladen","beide",0,null,null,null,{"$f":"+G151*ROW()","v":0}]
["CEMT IIM8leegbeide","CEMT II","RWS","M8","leeg","beide",0,null,null,null,0]
["CEMT IIM9geladenbeide","CEMT II","RWS","M9","geladen","beide",0,null,null,null,0]
["CEMT IIM9leegbeide","CEMT II","RWS","M9","leeg","beide",0,null,null,null,0]
["CEMT IIIBIgeladenbeide","CEMT III","RWS","BI","geladen","beide",0,null,null,null,0]
["CEMT IIIBIleegbeide","CEMT III","RWS","BI","leeg","beide",0,null,null,null,0]
["CEMT IIIBII-1geladenbeide","CEMT III","RWS","BII-1","geladen","beide",0,null,null,null,0]
["CEMT IIIBII-1leegbeide","CEMT III","RWS","BII-1","leeg","beide",0,null,null,null,0]
["CEMT IIIBII-2Bgeladenbeide","CEMT III","RWS","BII-2B","geladen","beide",0,null,null,null,0]
["CEMT IIIBII-2Bleegbeide","CEMT III","RWS","BII-2B","leeg","beide",0,null,null,null,0]
["CEMT IIIBII-2Lgeladenbeide","CEMT III","RWS","BII-2L","geladen","beide",0,null,null,null,0]
["CEMT IIIBII-2Lleegbeide","CEMT III","RWS","BII-2L","leeg","beide",0,null,null,null,0]
["CEMT IIIBII-4geladenbeide","CEMT III","RWS","BII-4","geladen","beide",0,null,null,null,0]
["CEMT IIIBII-4leegbeide","CEMT III","RWS","BII-4","leeg","beide",0,null,null,null,0]
["CEMT IIIBO1geladenbeide","CEMT III","RWS","BO1","geladen","beide",0,null,null,null,0]
["CEMT IIIBO1leegbeide","CEMT III","RWS","BO1","leeg","beide",0,null,null,null,0]
["CEMT IIIBO2geladenbeide","CEMT III","RWS","BO2","geladen","beide",0,null,null,null,0]
["CEMT IIIBO2leegbeide","CEMT III","RWS","BO2","leeg","beide",0,null,null,null,0]
["CEMT IIIBO3geladenbeide","CEMT III","RWS","BO3","geladen","beide",0,null,null,null,0]
["CEMT IIIBO3leegbeide","CEMT III","RWS","BO3","leeg","beide",0,null,null,null,0]
["CEMT IIIBO4geladenbeide","CEMT III","RWS","BO4","geladen","beide",0,null,null,null,0]
["CEMT IIIBO4leegbeide","CEMT III","RWS","BO4","leeg","beide",0,null,null,null,0]
["CEMT IIIC1bgeladenbeide","CEMT III","RWS","C1b","geladen","beide",0,null,null,null,0]
["CEMT IIIC1bleegbeide","CEMT III","RWS","C1b","leeg","beide",0]
["CEMT IIIC1lgeladenbeide","CEMT III","RWS","C1l","geladen","beide",0]
["CEMT IIIC1lleegbeide","CEMT III","RWS","C1l","leeg","beide",0]
["CEMT IIIC2bgeladenbeide","CEMT III","RWS","C2b","geladen","beide",0]
["CEMT IIIC2bleegbeide","CEMT III","RWS","C2b","leeg","beide",0,null,null,null,0]
["CEMT IIIC2lgeladenbeide","CEMT III","RWS","C2l","geladen","beide",0,null,null,null,0]
["CEMT IIIC2lleegbeide","CEMT III","RWS","C2l","leeg","beide",0,null,null,null,0]
["CEMT IIIC3bgeladenbeide","CEMT III","RWS","C3b","geladen","beide",0,null,null,null,0]
["CEMT IIIC3lgeladenbeide","CEMT III","RWS","C3l","geladen","beide",0,null,null,null,0]
["CEMT IIIC3lleegbeide","CEMT III","RWS","C3l","leeg","beide",0,null,null,null,0]
["CEMT IIIC4geladenbeide","CEMT III","RWS","C4","geladen","beide",0,null,null,null,0]
["CEMT IIIC4leegbeide","CEMT III","RWS","C4","leeg","beide",0,null,null,null,0]
["CEMT IIIM0geladenbeide","CEMT III","RWS","M0","geladen","beide",0,null,null,null,0]
["CEMT IIIM0leegbeide","CEMT III","RWS","M0","leeg","beide",0,null,null,null,0]
["CEMT IIIM1geladenbeide","CEMT III","RWS","M1","geladen","beide",0,null,null,null,0]
["CEMT IIIM1leegbeide","CEMT III","RWS","M1","leeg","beide",0,null,null,null,0]
["CEMT IIIM10geladenbeide","CEMT III","RWS","M10","geladen","beide",0,null,null,null,0]
["CEMT IIIM10leegbeide","CEMT III","RWS","M10","leeg","beide",0,null,null,null,0]
["CEMT IIIM11geladenbeide","CEMT III","RWS","M11","geladen","beide",0,null,null,null,0]
["CEMT IIIM11leegbeide","CEMT III","RWS","M11","leeg","beide",0,null,null,null,0]
["CEMT IIIM12geladenbeide","CEMT III","RWS","M12","geladen","beide",0,null,null,null,0]
["CEMT IIIM12leegbeide","CEMT III","RWS","M12","leeg","beide",0,null,null,null,0]
["CEMT IIIM2geladenbeide","CEMT III","RWS","M2","geladen","beide",0,null,null,null,0]
["CEMT IIIM2leegbeide","CEMT III","RWS","M2","leeg","beide",0,null,null,null,0]
["CEMT IIIM3geladenbeide","CEMT III","RWS","M3","geladen","beide",0,null,null,null,0]
["CEMT IIIM3leegbeide","CEMT III","RWS","M3","leeg","beide",0,null,null,null,0]
[{"$f":"+B200&D200&E200&F200","v":"CEMT IIIM4geladenbeide"},"CEMT III","RWS","M4","geladen","beide",0,null,null,null,0]
["CEMT IIIM4leegbeide","CEMT III","RWS","M4","leeg","beide",0,null,null,null,{"$f":"+G201*ROW()","v":0}]
["CEMT IIIM5geladenbeide","CEMT III","RWS","M5","geladen","beide",0,null,null,null,0]
["CEMT IIIM5leegbeide","CEMT III","RWS","M5","leeg","beide",0,null,null,null,0]
["CEMT IIIM6geladenbeide","CEMT III","RWS","M6","geladen","beide",0,null,null,null,0]
["CEMT IIIM6leegbeide","CEMT III","RWS","M6","leeg","beide",0,null,null,null,0]
["CEMT IIIM7geladenbeide","CEMT III","RWS","M7","geladen","beide",0,null,null,null,0]
["CEMT IIIM7leegbeide","CEMT III","RWS","M7","leeg","beide",0,null,null,null,0]
["CEMT IIIM8geladenbeide","CEMT III","RWS","M8","geladen","beide",0,null,null,null,0]
["CEMT IIIM8leegbeide","CEMT III","RWS","M8","leeg","beide",0,null,null,null,0]
["CEMT IIIM9geladenbeide","CEMT III","RWS","M9","geladen","beide",0,null,null,null,0]
["CEMT IIIM9leegbeide","CEMT III","RWS","M9","leeg","beide",0,null,null,null,0]
["CEMT IVBIgeladenbeide","CEMT IV","RWS","BI","geladen","beide",0,null,null,null,0]
["CEMT IVBIleegbeide","CEMT IV","RWS","BI","leeg","beide",0,null,null,null,0]
["CEMT IVBII-1geladenbeide","CEMT IV","RWS","BII-1","geladen","beide",0,null,null,null,0]
["CEMT IVBII-1leegbeide","CEMT IV","RWS","BII-1","leeg","beide",0,null,null,null,0]
["CEMT IVBII-2Bgeladenbeide","CEMT IV","RWS","BII-2B","geladen","beide",0,null,null,null,0]
["CEMT IVBII-2Bleegbeide","CEMT IV","RWS","BII-2B","leeg","beide",0,null,null,null,0]
["CEMT IVBII-2Lgeladenbeide","CEMT IV","RWS","BII-2L","geladen","beide",0,null,null,null,0]
["CEMT IVBII-2Lleegbeide","CEMT IV","RWS","BII-2L","leeg","beide",0,null,null,null,0]
["CEMT IVBII-4geladenbeide","CEMT IV","RWS","BII-4","geladen","beide",0,null,null,null,0]
["CEMT IVBII-4leegbeide","CEMT IV","RWS","BII-4","leeg","beide",0,null,null,null,0]
["CEMT IVBII-6Bleegbeide","CEMT IV","RWS","BII-6B","leeg","beide",0,null,null,null,0]
["CEMT IVBII-6Lgeladenbeide","CEMT IV","RWS","BII-6L","geladen","beide",0,null,null,null,0]
["CEMT IVBO1geladenbeide","CEMT IV","RWS","BO1","geladen","beide",0,null,null,null,0]
["CEMT IVBO1leegbeide","CEMT IV","RWS","BO1","leeg","beide",0,null,null,null,0]
["CEMT IVBO2geladenbeide","CEMT IV","RWS","BO2","geladen","beide",0,null,null,null,0]
["CEMT IVBO2leegbeide","CEMT IV","RWS","BO2","leeg","beide",0,null,null,null,0]
["CEMT IVBO3geladenbeide","CEMT IV","RWS","BO3","geladen","beide",0,null,null,null,0]
["CEMT IVBO3leegbeide","CEMT IV","RWS","BO3","leeg","beide",0,null,null,null,0]
["CEMT IVBO4geladenbeide","CEMT IV","RWS","BO4","geladen","beide",0,null,null,null,0]
["CEMT IVBO4leegbeide","CEMT IV","RWS","BO4","leeg","beide",0,null,null,null,0]
["CEMT IVC1bgeladenbeide","CEMT IV","RWS","C1b","geladen","beide",0,null,null,null,0]
["CEMT IVC1bleegbeide","CEMT IV","RWS","C1b","leeg","beide",0,null,null,null,0]
["CEMT IVC1lgeladenbeide","CEMT IV","RWS","C1l","geladen","beide",0,null,null,null,0]
["CEMT IVC1lleegbeide","CEMT IV","RWS","C1l","leeg","beide",0,null,null,null,0]
["CEMT IVC2bgeladenbeide","CEMT IV","RWS","C2b","geladen","beide",0,null,null,null,0]
["CEMT IVC2bleegbeide","CEMT IV","RWS","C2b","leeg","beide",0,null,null,null,0]
["CEMT IVC2lgeladenbeide","CEMT IV","RWS","C2l","geladen","beide",0,null,null,null,0]
["CEMT IVC2lleegbeide","CEMT IV","RWS","C2l","leeg","beide",0,null,null,null,0]
["CEMT IVC3bgeladenbeide","CEMT IV","RWS","C3b","geladen","beide",0,null,null,null,0]
["CEMT IVC3bleegbeide","CEMT IV","RWS","C3b","leeg","beide",0,null,null,null,0]
["CEMT IVC3lgeladenbeide","CEMT IV","RWS","C3l","geladen","beide",0,null,null,null,0]
["CEMT IVC3lleegbeide","CEMT IV","RWS","C3l","leeg","beide",0,null,null,null,0]
["CEMT IVC4geladenbeide","CEMT IV","RWS","C4","geladen","beide",0,null,null,null,0]
["CEMT IVC4leegbeide","CEMT IV","RWS","C4","leeg","beide",0,null,null,null,0]
[{"$f":"+B246&D246&E246&F246","v":"CEMT IVM0geladenbeide"},"CEMT IV","RWS","M0","geladen","beide",0,null,null,null,0]
["CEMT IVM0leegbeide","CEMT IV","RWS","M0","leeg","beide",0,null,null,null,{"$f":"+G247*ROW()","v":0}]
["CEMT IVM1geladenbeide","CEMT IV","RWS","M1","geladen","beide",0,null,null,null,0]
["CEMT IVM1leegbeide","CEMT IV","RWS","M1","leeg","beide",0,null,null,null,0]
["CEMT IVM10geladenbeide","CEMT IV","RWS","M10","geladen","beide",0,null,null,null,0]
["CEMT IVM10leegbeide","CEMT IV","RWS","M10","leeg","beide",0,null,null,null,0]
["CEMT IVM11geladenbeide","CEMT IV","RWS","M11","geladen","beide",0,null,null,null,0]
["CEMT IVM11leegbeide","CEMT IV","RWS","M11","leeg","beide",0,null,null,null,0]
["CEMT IVM12geladenbeide","CEMT IV","RWS","M12","geladen","beide",0,null,null,null,0]
["CEMT IVM12leegbeide","CEMT IV","RWS","M12","leeg","beide",0,null,null,null,0]
["CEMT IVM2geladenbeide","CEMT IV","RWS","M2","geladen","beide",0,null,null,null,0]
["CEMT IVM2leegbeide","CEMT IV","RWS","M2","leeg","beide",0,null,null,null,0]
["CEMT IVM3geladenbeide","CEMT IV","RWS","M3","geladen","beide",0,null,null,null,0]
["CEMT IVM3leegbeide","CEMT IV","RWS","M3","leeg","beide",0,null,null,null,0]
["CEMT IVM4geladenbeide","CEMT IV","RWS","M4","geladen","beide",0,null,null,null,0]
["CEMT IVM4leegbeide","CEMT IV","RWS","M4","leeg","beide",0,null,null,null,0]
["CEMT IVM5geladenbeide","CEMT IV","RWS","M5","geladen","beide",0,null,null,null,0]
["CEMT IVM5leegbeide","CEMT IV","RWS","M5","leeg","beide",0,null,null,null,0]
["CEMT IVM6geladenbeide","CEMT IV","RWS","M6","geladen","beide",0,null,null,null,0]
["CEMT IVM6leegbeide","CEMT IV","RWS","M6","leeg","beide",0,null,null,null,0]
["CEMT IVM7geladenbeide","CEMT IV","RWS","M7","geladen","beide",0,null,null,null,0]
["CEMT IVM7leegbeide","CEMT IV","RWS","M7","leeg","beide",0,null,null,null,0]
["CEMT IVM8geladenbeide","CEMT IV","RWS","M8","geladen","beide",0,null,null,null,0]
["CEMT IVM8leegbeide","CEMT IV","RWS","M8","leeg","beide",0,null,null,null,0]
["CEMT IVM9geladenbeide","CEMT IV","RWS","M9","geladen","beide",0,null,null,null,0]
["CEMT IVM9leegbeide","CEMT IV","RWS","M9","leeg","beide",0,null,null,null,0]
["CEMT VaBIgeladenbeide","CEMT Va","RWS","BI","geladen","beide",0,null,null,null,0]
["CEMT VaBIleegbeide","CEMT Va","RWS","BI","leeg","beide",0,null,null,null,0]
["CEMT VaBII-1geladenbeide","CEMT Va","RWS","BII-1","geladen","beide",0,null,null,null,0]
["CEMT VaBII-1leegbeide","CEMT Va","RWS","BII-1","leeg","beide",0,null,null,null,0]
["CEMT VaBII-2Bgeladenbeide","CEMT Va","RWS","BII-2B","geladen","beide",0,null,null,null,0]
["CEMT VaBII-2Bleegbeide","CEMT Va","RWS","BII-2B","leeg","beide",0,null,null,null,0]
["CEMT VaBII-2Lgeladenbeide","CEMT Va","RWS","BII-2L","geladen","beide",0,null,null,null,0]
["CEMT VaBII-2Lleegbeide","CEMT Va","RWS","BII-2L","leeg","beide",0,null,null,null,0]
["CEMT VaBII-4geladenbeide","CEMT Va","RWS","BII-4","geladen","beide",0,null,null,null,0]
["CEMT VaBII-4leegbeide","CEMT Va","RWS","BII-4","leeg","beide",0,null,null,null,0]
["CEMT VaBII-6Bgeladenbeide","CEMT Va","RWS","BII-6B","geladen","beide",0,null,null,null,0]
["CEMT VaBII-6Bleegbeide","CEMT Va","RWS","BII-6B","leeg","beide",0,null,null,null,0]
["CEMT VaBII-6Lgeladenbeide","CEMT Va","RWS","BII-6L","geladen","beide",0,null,null,null,0]
["CEMT VaBII-6Lleegbeide","CEMT Va","RWS","BII-6L","leeg","beide",0,null,null,null,0]
["CEMT VaBO1geladenbeide","CEMT Va","RWS","BO1","geladen","beide",0,null,null,null,0]
["CEMT VaBO1leegbeide","CEMT Va","RWS","BO1","leeg","beide",0,null,null,null,0]
["CEMT VaBO2geladenbeide","CEMT Va","RWS","BO2","geladen","beide",0,null,null,null,0]
["CEMT VaBO2leegbeide","CEMT Va","RWS","BO2","leeg","beide",0,null,null,null,0]
["CEMT VaBO3geladenbeide","CEMT Va","RWS","BO3","geladen","beide",0,null,null,null,0]
[{"$f":"+B291&D291&E291&F291","v":"CEMT VaBO3leegbeide"},"CEMT Va","RWS","BO3","leeg","beide",0,null,null,null,0]
["CEMT VaBO4geladenbeide","CEMT Va","RWS","BO4","geladen","beide",0,null,null,null,{"$f":"+G292*ROW()","v":0}]
["CEMT VaBO4leegbeide","CEMT Va","RWS","BO4","leeg","beide",0,null,null,null,0]
["CEMT VaC1bgeladenbeide","CEMT Va","RWS","C1b","geladen","beide",0,null,null,null,0]
["CEMT VaC1bleegbeide","CEMT Va","RWS","C1b","leeg","beide",0,null,null,null,0]
["CEMT VaC1lgeladenbeide","CEMT Va","RWS","C1l","geladen","beide",0,null,null,null,0]
["CEMT VaC1lleegbeide","CEMT Va","RWS","C1l","leeg","beide",0,null,null,null,0]
["CEMT VaC2bgeladenbeide","CEMT Va","RWS","C2b","geladen","beide",0,null,null,null,0]
["CEMT VaC2bleegbeide","CEMT Va","RWS","C2b","leeg","beide",0,null,null,null,0]
["CEMT VaC2lgeladenbeide","CEMT Va","RWS","C2l","geladen","beide",0,null,null,null,0]
["CEMT VaC2lleegbeide","CEMT Va","RWS","C2l","leeg","beide",0,null,null,null,0]
["CEMT VaC3bgeladenbeide","CEMT Va","RWS","C3b","geladen","beide",0,null,null,null,0]
["CEMT VaC3bleegbeide","CEMT Va","RWS","C3b","leeg","beide",0,null,null,null,0]
["CEMT VaC3lgeladenbeide","CEMT Va","RWS","C3l","geladen","beide",0,null,null,null,0]
["CEMT VaC3lleegbeide","CEMT Va","RWS","C3l","leeg","beide",0,null,null,null,0]
["CEMT VaC4geladenbeide","CEMT Va","RWS","C4","geladen","beide",0,null,null,null,0]
["CEMT VaC4leegbeide","CEMT Va","RWS","C4","leeg","beide",0,null,null,null,0]
["CEMT VaM0geladenbeide","CEMT Va","RWS","M0","geladen","beide",0,null,null,null,0]
["CEMT VaM0leegbeide","CEMT Va","RWS","M0","leeg","beide",0,null,null,null,0]
["CEMT VaM1geladenbeide","CEMT Va","RWS","M1","geladen","beide",0,null,null,null,0]
["CEMT VaM1leegbeide","CEMT Va","RWS","M1","leeg","beide",0,null,null,null,0]
["CEMT VaM10geladenbeide","CEMT Va","RWS","M10","geladen","beide",0,null,null,null,0]
["CEMT VaM10leegbeide","CEMT Va","RWS","M10","leeg","beide",0,null,null,null,0]
["CEMT VaM11geladenbeide","CEMT Va","RWS","M11","geladen","beide",0,null,null,null,0]
["CEMT VaM11leegbeide","CEMT Va","RWS","M11","leeg","beide",0,null,null,null,0]
["CEMT VaM12geladenbeide","CEMT Va","RWS","M12","geladen","beide",0,null,null,null,0]
["CEMT VaM12leegbeide","CEMT Va","RWS","M12","leeg","beide",0,null,null,null,0]
["CEMT VaM2geladenbeide","CEMT Va","RWS","M2","geladen","beide",0,null,null,null,0]
["CEMT VaM2leegbeide","CEMT Va","RWS","M2","leeg","beide",0,null,null,null,0]
["CEMT VaM3geladenbeide","CEMT Va","RWS","M3","geladen","beide",0,null,null,null,0]
["CEMT VaM3leegbeide","CEMT Va","RWS","M3","leeg","beide",0,null,null,null,0]
["CEMT VaM4geladenbeide","CEMT Va","RWS","M4","geladen","beide",0,null,null,null,0]
["CEMT VaM4leegbeide","CEMT Va","RWS","M4","leeg","beide",0,null,null,null,0]
["CEMT VaM5geladenbeide","CEMT Va","RWS","M5","geladen","beide",0,null,null,null,0]
["CEMT VaM5leegbeide","CEMT Va","RWS","M5","leeg","beide",0,null,null,null,0]
["CEMT VaM6geladenbeide","CEMT Va","RWS","M6","geladen","beide",0,null,null,null,0]
["CEMT VaM6leegbeide","CEMT Va","RWS","M6","leeg","beide",0,null,null,null,0]
["CEMT VaM7geladenbeide","CEMT Va","RWS","M7","geladen","beide",0,null,null,null,0]
["CEMT VaM7leegbeide","CEMT Va","RWS","M7","leeg","beide",0,null,null,null,0]
["CEMT VaM8geladenbeide","CEMT Va","RWS","M8","geladen","beide",0,null,null,null,0]
["CEMT VaM8leegbeide","CEMT Va","RWS","M8","leeg","beide",0,null,null,null,0]
["CEMT VaM9geladenbeide","CEMT Va","RWS","M9","geladen","beide",0,null,null,null,0]
["CEMT VaM9leegbeide","CEMT Va","RWS","M9","leeg","beide",0,null,null,null,0]
["CEMT VbBIgeladenbeide","CEMT Vb","RWS","BI","geladen","beide",0,null,null,null,0]
["CEMT VbBIleegbeide","CEMT Vb","RWS","BI","leeg","beide",0,null,null,null,0]
["CEMT VbBII-1geladenbeide","CEMT Vb","RWS","BII-1","geladen","beide",0,null,null,null,0]
["CEMT VbBII-1leegbeide","CEMT Vb","RWS","BII-1","leeg","beide",0,null,null,null,0]
[{"$f":"+B338&D338&E338&F338","v":"CEMT VbBII-2Bgeladenbeide"},"CEMT Vb","RWS","BII-2B","geladen","beide",0,null,null,null,{"$f":"+G338*ROW()","v":0}]
["CEMT VbBII-2Bleegbeide","CEMT Vb","RWS","BII-2B","leeg","beide",0,null,null,null,0]
["CEMT VbBII-2Lgeladenbeide","CEMT Vb","RWS","BII-2L","geladen","beide",0,null,null,null,0]
["CEMT VbBII-2Lleegbeide","CEMT Vb","RWS","BII-2L","leeg","beide",0,null,null,null,0]
["CEMT VbBII-4geladenbeide","CEMT Vb","RWS","BII-4","geladen","beide",0,null,null,null,0]
["CEMT VbBII-4leegbeide","CEMT Vb","RWS","BII-4","leeg","beide",0,null,null,null,0]
["CEMT VbBII-6Bgeladenbeide","CEMT Vb","RWS","BII-6B","geladen","beide",0,null,null,null,0]
["CEMT VbBII-6Bleegbeide","CEMT Vb","RWS","BII-6B","leeg","beide",0,null,null,null,0]
["CEMT VbBO1leegbeide","CEMT Vb","RWS","BO1","leeg","beide",0,null,null,null,0]
["CEMT VbBO2geladenbeide","CEMT Vb","RWS","BO2","geladen","beide",0,null,null,null,0]
["CEMT VbBO2leegbeide","CEMT Vb","RWS","BO2","leeg","beide",0,null,null,null,0]
["CEMT VbBO3geladenbeide","CEMT Vb","RWS","BO3","geladen","beide",0,null,null,null,0]
["CEMT VbBO3leegbeide","CEMT Vb","RWS","BO3","leeg","beide",0,null,null,null,0]
["CEMT VbBO4geladenbeide","CEMT Vb","RWS","BO4","geladen","beide",0,null,null,null,0]
["CEMT VbBO4leegbeide","CEMT Vb","RWS","BO4","leeg","beide",0,null,null,null,0]
["CEMT VbC1bgeladenbeide","CEMT Vb","RWS","C1b","geladen","beide",0,null,null,null,0]
["CEMT VbC1bleegbeide","CEMT Vb","RWS","C1b","leeg","beide",0,null,null,null,0]
["CEMT VbC1lgeladenbeide","CEMT Vb","RWS","C1l","geladen","beide",0,null,null,null,0]
["CEMT VbC1lleegbeide","CEMT Vb","RWS","C1l","leeg","beide",0,null,null,null,0]
["CEMT VbC2bgeladenbeide","CEMT Vb","RWS","C2b","geladen","beide",0,null,null,null,0]
["CEMT VbC2bleegbeide","CEMT Vb","RWS","C2b","leeg","beide",0,null,null,null,0]
["CEMT VbC2lgeladenbeide","CEMT Vb","RWS","C2l","geladen","beide",0,null,null,null,0]
["CEMT VbC2lleegbeide","CEMT Vb","RWS","C2l","leeg","beide",0,null,null,null,0]
["CEMT VbC3bgeladenbeide","CEMT Vb","RWS","C3b","geladen","beide",0,null,null,null,0]
["CEMT VbC3bleegbeide","CEMT Vb","RWS","C3b","leeg","beide",0,null,null,null,0]
["CEMT VbC3lgeladenbeide","CEMT Vb","RWS","C3l","geladen","beide",0,null,null,null,0]
["CEMT VbC3lleegbeide","CEMT Vb","RWS","C3l","leeg","beide",0,null,null,null,0]
["CEMT VbC4geladenbeide","CEMT Vb","RWS","C4","geladen","beide",0,null,null,null,0]
["CEMT VbC4leegbeide","CEMT Vb","RWS","C4","leeg","beide",0,null,null,null,0]
["CEMT VbM0geladenbeide","CEMT Vb","RWS","M0","geladen","beide",0,null,null,null,0]
["CEMT VbM0leegbeide","CEMT Vb","RWS","M0","leeg","beide",0,null,null,null,0]
["CEMT VbM1geladenbeide","CEMT Vb","RWS","M1","geladen","beide",0,null,null,null,0]
["CEMT VbM1leegbeide","CEMT Vb","RWS","M1","leeg","beide",0,null,null,null,0]
["CEMT VbM10geladenbeide","CEMT Vb","RWS","M10","geladen","beide",0,null,null,null,0]
["CEMT VbM10leegbeide","CEMT Vb","RWS","M10","leeg","beide",0,null,null,null,0]
["CEMT VbM11geladenbeide","CEMT Vb","RWS","M11","geladen","beide",0,null,null,null,0]
["CEMT VbM11leegbeide","CEMT Vb","RWS","M11","leeg","beide",0,null,null,null,0]
["CEMT VbM12geladenbeide","CEMT Vb","RWS","M12","geladen","beide",0,null,null,null,0]
["CEMT VbM12leegbeide","CEMT Vb","RWS","M12","leeg","beide",0,null,null,null,0]
["CEMT VbM2geladenbeide","CEMT Vb","RWS","M2","geladen","beide",0,null,null,null,0]
["CEMT VbM2leegbeide","CEMT Vb","RWS","M2","leeg","beide",0,null,null,null,0]
["CEMT VbM3geladenbeide","CEMT Vb","RWS","M3","geladen","beide",0,null,null,null,0]
["CEMT VbM3leegbeide","CEMT Vb","RWS","M3","leeg","beide",0,null,null,null,0]
["CEMT VbM4geladenbeide","CEMT Vb","RWS","M4","geladen","beide",0,null,null,null,0]
["CEMT VbM4leegbeide","CEMT Vb","RWS","M4","leeg","beide",0,null,null,null,0]
["CEMT VbM5geladenbeide","CEMT Vb","RWS","M5","geladen","beide",0,null,null,null,0]
["CEMT VbM5leegbeide","CEMT Vb","RWS","M5","leeg","beide",0,null,null,null,0]
["CEMT VbM6geladenbeide","CEMT Vb","RWS","M6","geladen","beide",0,null,null,null,0]
["CEMT VbM6leegbeide","CEMT Vb","RWS","M6","leeg","beide",0,null,null,null,0]
["CEMT VbM7geladenbeide","CEMT Vb","RWS","M7","geladen","beide",0,null,null,null,0]
["CEMT VbM7leegbeide","CEMT Vb","RWS","M7","leeg","beide",0,null,null,null,0]
["CEMT VbM8geladenbeide","CEMT Vb","RWS","M8","geladen","beide",0,null,null,null,0]
["CEMT VbM8leegbeide","CEMT Vb","RWS","M8","leeg","beide",0,null,null,null,0]
["CEMT VbM9geladenbeide","CEMT Vb","RWS","M9","geladen","beide",0,null,null,null,0]
["CEMT VbM9leegbeide","CEMT Vb","RWS","M9","leeg","beide",0,null,null,null,0]
["CEMT VIaBIgeladenbeide","CEMT VIa","RWS","BI","geladen","beide",0,null,null,null,0]
["CEMT VIaBIleegbeide","CEMT VIa","RWS","BI","leeg","beide",0,null,null,null,0]
["CEMT VIaBII-1geladenbeide","CEMT VIa","RWS","BII-1","geladen","beide",0,null,null,null,0]
["CEMT VIaBII-1leegbeide","CEMT VIa","RWS","BII-1","leeg","beide",0,null,null,null,0]
[{"$f":"+B397&D397&E397&F397","v":"CEMT VIaBII-2Bgeladenbeide"},"CEMT VIa","RWS","BII-2B","geladen","beide",0,null,null,null,{"$f":"+G397*ROW()","v":0}]
["CEMT VIaBII-2Bleegbeide","CEMT VIa","RWS","BII-2B","leeg","beide",0,null,null,null,0]
["CEMT VIaBII-2Lgeladenbeide","CEMT VIa","RWS","BII-2L","geladen","beide",0,null,null,null,0]
["CEMT VIaBII-2Lleegbeide","CEMT VIa","RWS","BII-2L","leeg","beide",0,null,null,null,0]
["CEMT VIaBII-4geladenbeide","CEMT VIa","RWS","BII-4","geladen","beide",0,null,null,null,0]
["CEMT VIaBII-4leegbeide","CEMT VIa","RWS","BII-4","leeg","beide",0,null,null,null,0]
["CEMT VIaBII-6Bleegbeide","CEMT VIa","RWS","BII-6B","leeg","beide",0,null,null,null,0]
["CEMT VIaBO1leegbeide","CEMT VIa","RWS","BO1","leeg","beide",0,null,null,null,0]
["CEMT VIaBO2geladenbeide","CEMT VIa","RWS","BO2","geladen","beide",0,null,null,null,0]
["CEMT VIaBO2leegbeide","CEMT VIa","RWS","BO2","leeg","beide",0,null,null,null,0]
["CEMT VIaBO3geladenbeide","CEMT VIa","RWS","BO3","geladen","beide",0,null,null,null,0]
["CEMT VIaBO3leegbeide","CEMT VIa","RWS","BO3","leeg","beide",0,null,null,null,0]
["CEMT VIaBO4geladenbeide","CEMT VIa","RWS","BO4","geladen","beide",0,null,null,null,0]
["CEMT VIaBO4leegbeide","CEMT VIa","RWS","BO4","leeg","beide",0,null,null,null,0]
["CEMT VIaC1bgeladenbeide","CEMT VIa","RWS","C1b","geladen","beide",0,null,null,null,0]
["CEMT VIaC1bleegbeide","CEMT VIa","RWS","C1b","leeg","beide",0,null,null,null,0]
["CEMT VIaC1lgeladenbeide","CEMT VIa","RWS","C1l","geladen","beide",0,null,null,null,0]
["CEMT VIaC2bgeladenbeide","CEMT VIa","RWS","C2b","geladen","beide",0,null,null,null,0]
["CEMT VIaC2bleegbeide","CEMT VIa","RWS","C2b","leeg","beide",0,null,null,null,0]
["CEMT VIaC2lgeladenbeide","CEMT VIa","RWS","C2l","geladen","beide",0,null,null,null,0]
["CEMT VIaC2lleegbeide","CEMT VIa","RWS","C2l","leeg","beide",0,null,null,null,0]
["CEMT VIaC3bgeladenbeide","CEMT VIa","RWS","C3b","geladen","beide",0,null,null,null,0]
["CEMT VIaC3bleegbeide","CEMT VIa","RWS","C3b","leeg","beide",0,null,null,null,0]
["CEMT VIaC3lgeladenbeide","CEMT VIa","RWS","C3l","geladen","beide",0,null,null,null,0]
["CEMT VIaC3lleegbeide","CEMT VIa","RWS","C3l","leeg","beide",0,null,null,null,0]
["CEMT VIaC4geladenbeide","CEMT VIa","RWS","C4","geladen","beide",0,null,null,null,0]
["CEMT VIaC4leegbeide","CEMT VIa","RWS","C4","leeg","beide",0,null,null,null,0]
["CEMT VIaM0geladenbeide","CEMT VIa","RWS","M0","geladen","beide",0,null,null,null,0]
["CEMT VIaM0leegbeide","CEMT VIa","RWS","M0","leeg","beide",0,null,null,null,0]
["CEMT VIaM1geladenbeide","CEMT VIa","RWS","M1","geladen","beide",0,null,null,null,0]
["CEMT VIaM1leegbeide","CEMT VIa","RWS","M1","leeg","beide",0,null,null,null,0]
["CEMT VIaM10geladenbeide","CEMT VIa","RWS","M10","geladen","beide",0,null,null,null,0]
["CEMT VIaM10leegbeide","CEMT VIa","RWS","M10","leeg","beide",0,null,null,null,0]
["CEMT VIaM11geladenbeide","CEMT VIa","RWS","M11","geladen","beide",0,null,null,null,0]
["CEMT VIaM11leegbeide","CEMT VIa","RWS","M11","leeg","beide",0,null,null,null,0]
["CEMT VIaM12geladenbeide","CEMT VIa","RWS","M12","geladen","beide",0,null,null,null,0]
["CEMT VIaM12leegbeide","CEMT VIa","RWS","M12","leeg","beide",0,null,null,null,0]
["CEMT VIaM2geladenbeide","CEMT VIa","RWS","M2","geladen","beide",0,null,null,null,0]
["CEMT VIaM2leegbeide","CEMT VIa","RWS","M2","leeg","beide",0,null,null,null,0]
["CEMT VIaM3geladenbeide","CEMT VIa","RWS","M3","geladen","beide",0,null,null,null,0]
["CEMT VIaM3leegbeide","CEMT VIa","RWS","M3","leeg","beide",0,null,null,null,0]
["CEMT VIaM4geladenbeide","CEMT VIa","RWS","M4","geladen","beide",0,null,null,null,0]
["CEMT VIaM4leegbeide","CEMT VIa","RWS","M4","leeg","beide",0,null,null,null,0]
["CEMT VIaM5geladenbeide","CEMT VIa","RWS","M5","geladen","beide",0,null,null,null,0]
["CEMT VIaM5leegbeide","CEMT VIa","RWS","M5","leeg","beide",0,null,null,null,0]
["CEMT VIaM6geladenbeide","CEMT VIa","RWS","M6","geladen","beide",0,null,null,null,0]
["CEMT VIaM6leegbeide","CEMT VIa","RWS","M6","leeg","beide",0,null,null,null,0]
["CEMT VIaM7geladenbeide","CEMT VIa","RWS","M7","geladen","beide",0,null,null,null,0]
["CEMT VIaM7leegbeide","CEMT VIa","RWS","M7","leeg","beide",0,null,null,null,0]
[{"$f":"+B446&D446&E446&F446","v":"CEMT VIaM8geladenbeide"},"CEMT VIa","RWS","M8","geladen","beide",0,null,null,null,0]
["CEMT VIaM8leegbeide","CEMT VIa","RWS","M8","leeg","beide",0,null,null,null,{"$f":"+G447*ROW()","v":0}]
["CEMT VIaM9geladenbeide","CEMT VIa","RWS","M9","geladen","beide",0,null,null,null,0]
["CEMT VIaM9leegbeide","CEMT VIa","RWS","M9","leeg","beide",0,null,null,null,0]
["CEMT VIbBIgeladenbeide","CEMT VIb","RWS","BI","geladen","beide",0,null,null,null,0]
["CEMT VIbBIleegbeide","CEMT VIb","RWS","BI","leeg","beide",0,null,null,null,0]
["CEMT VIbBII-1geladenbeide","CEMT VIb","RWS","BII-1","geladen","beide",0,null,null,null,0]
["CEMT VIbBII-1leegbeide","CEMT VIb","RWS","BII-1","leeg","beide",0,null,null,null,0]
["CEMT VIbBII-2Bgeladenbeide","CEMT VIb","RWS","BII-2B","geladen","beide",0,null,null,null,0]
["CEMT VIbBII-2Bleegbeide","CEMT VIb","RWS","BII-2B","leeg","beide",0,null,null,null,0]
["CEMT VIbBII-2Lgeladenbeide","CEMT VIb","RWS","BII-2L","geladen","beide",0,null,null,null,0]
["CEMT VIbBII-2Lleegbeide","CEMT VIb","RWS","BII-2L","leeg","beide",0,null,null,null,0]
["CEMT VIbBII-4geladenbeide","CEMT VIb","RWS","BII-4","geladen","beide",0,null,null,null,0]
["CEMT VIbBII-4leegbeide","CEMT VIb","RWS","BII-4","leeg","beide",0,null,null,null,0]
["CEMT VIbBII-6Bgeladenbeide","CEMT VIb","RWS","BII-6B","geladen","beide",0,null,null,null,0]
["CEMT VIbBII-6Bleegbeide","CEMT VIb","RWS","BII-6B","leeg","beide",0,null,null,null,0]
["CEMT VIbBII-6Lgeladenbeide","CEMT VIb","RWS","BII-6L","geladen","beide",0,null,null,null,0]
["CEMT VIbBII-6Lleegbeide","CEMT VIb","RWS","BII-6L","leeg","beide",0,null,null,null,0]
["CEMT VIbBO1geladenbeide","CEMT VIb","RWS","BO1","geladen","beide",0,null,null,null,0]
["CEMT VIbBO1leegbeide","CEMT VIb","RWS","BO1","leeg","beide",0]
["CEMT VIbBO2geladenbeide","CEMT VIb","RWS","BO2","geladen","beide",0]
["CEMT VIbBO2leegbeide","CEMT VIb","RWS","BO2","leeg","beide",0]
["CEMT VIbBO3geladenbeide","CEMT VIb","RWS","BO3","geladen","beide",0]
["CEMT VIbBO3leegbeide","CEMT VIb","RWS","BO3","leeg","beide",0]
["CEMT VIbBO4geladenbeide","CEMT VIb","RWS","BO4","geladen","beide",0,null,null,null,0]
["CEMT VIbBO4leegbeide","CEMT VIb","RWS","BO4","leeg","beide",0,null,null,null,0]
["CEMT VIbC1bgeladenbeide","CEMT VIb","RWS","C1b","geladen","beide",0,null,null,null,0]
["CEMT VIbC1bleegbeide","CEMT VIb","RWS","C1b","leeg","beide",0,null,null,null,0]
["CEMT VIbC1lgeladenbeide","CEMT VIb","RWS","C1l","geladen","beide",0,null,null,null,0]
["CEMT VIbC1lleegbeide","CEMT VIb","RWS","C1l","leeg","beide",0,null,null,null,0]
["CEMT VIbC2bgeladenbeide","CEMT VIb","RWS","C2b","geladen","beide",0,null,null,null,0]
["CEMT VIbC2bleegbeide","CEMT VIb","RWS","C2b","leeg","beide",0,null,null,null,0]
["CEMT VIbC2lgeladenbeide","CEMT VIb","RWS","C2l","geladen","beide",0,null,null,null,0]
["CEMT VIbC2lleegbeide","CEMT VIb","RWS","C2l","leeg","beide",0,null,null,null,0]
["CEMT VIbC3bgeladenbeide","CEMT VIb","RWS","C3b","geladen","beide",0,null,null,null,0]
["CEMT VIbC3bleegbeide","CEMT VIb","RWS","C3b","leeg","beide",0,null,null,null,0]
["CEMT VIbC3lgeladenbeide","CEMT VIb","RWS","C3l","geladen","beide",0,null,null,null,0]
["CEMT VIbC3lleegbeide","CEMT VIb","RWS","C3l","leeg","beide",0,null,null,null,0]
["CEMT VIbC4geladenbeide","CEMT VIb","RWS","C4","geladen","beide",0,null,null,null,0]
["CEMT VIbC4leegbeide","CEMT VIb","RWS","C4","leeg","beide",0,null,null,null,0]
["CEMT VIbM0geladenbeide","CEMT VIb","RWS","M0","geladen","beide",0,null,null,null,0]
["CEMT VIbM0leegbeide","CEMT VIb","RWS","M0","leeg","beide",0,null,null,null,0]
["CEMT VIbM1geladenbeide","CEMT VIb","RWS","M1","geladen","beide",0,null,null,null,0]
["CEMT VIbM1leegbeide","CEMT VIb","RWS","M1","leeg","beide",0,null,null,null,0]
["CEMT VIbM10geladenbeide","CEMT VIb","RWS","M10","geladen","beide",0,null,null,null,0]
["CEMT VIbM10leegbeide","CEMT VIb","RWS","M10","leeg","beide",0,null,null,null,0]
["CEMT VIbM11geladenbeide","CEMT VIb","RWS","M11","geladen","beide",0,null,null,null,0]
["CEMT VIbM11leegbeide","CEMT VIb","RWS","M11","leeg","beide",0,null,null,null,0]
["CEMT VIbM12geladenbeide","CEMT VIb","RWS","M12","geladen","beide",0,null,null,null,0]
["CEMT VIbM12leegbeide","CEMT VIb","RWS","M12","leeg","beide",0,null,null,null,0]
["CEMT VIbM2geladenbeide","CEMT VIb","RWS","M2","geladen","beide",0,null,null,null,0]
[{"$f":"+B497&D497&E497&F497","v":"CEMT VIbM2leegbeide"},"CEMT VIb","RWS","M2","leeg","beide",0,null,null,null,0]
["CEMT VIbM3geladenbeide","CEMT VIb","RWS","M3","geladen","beide",0,null,null,null,{"$f":"+G498*ROW()","v":0}]
["CEMT VIbM3leegbeide","CEMT VIb","RWS","M3","leeg","beide",0,null,null,null,0]
["CEMT VIbM4geladenbeide","CEMT VIb","RWS","M4","geladen","beide",0,null,null,null,0]
["CEMT VIbM4leegbeide","CEMT VIb","RWS","M4","leeg","beide",0,null,null,null,0]
["CEMT VIbM5geladenbeide","CEMT VIb","RWS","M5","geladen","beide",0,null,null,null,0]
["CEMT VIbM5leegbeide","CEMT VIb","RWS","M5","leeg","beide",0,null,null,null,0]
["CEMT VIbM6geladenbeide","CEMT VIb","RWS","M6","geladen","beide",0,null,null,null,0]
["CEMT VIbM6leegbeide","CEMT VIb","RWS","M6","leeg","beide",0,null,null,null,0]
["CEMT VIbM7geladenbeide","CEMT VIb","RWS","M7","geladen","beide",0,null,null,null,0]
["CEMT VIbM7leegbeide","CEMT VIb","RWS","M7","leeg","beide",0,null,null,null,0]
["CEMT VIbM8geladenbeide","CEMT VIb","RWS","M8","geladen","beide",0,null,null,null,0]
["CEMT VIbM8leegbeide","CEMT VIb","RWS","M8","leeg","beide",0,null,null,null,0]
["CEMT VIbM9geladenbeide","CEMT VIb","RWS","M9","geladen","beide",0,null,null,null,0]
["CEMT VIbM9leegbeide","CEMT VIb","RWS","M9","leeg","beide",0,null,null,null,0]
["CEMT VIcBIgeladenbeide","CEMT VIc","RWS","BI","geladen","beide",0,null,null,null,0]
["CEMT VIcBIleegbeide","CEMT VIc","RWS","BI","leeg","beide",0,null,null,null,0]
["CEMT VIcBII-1geladenbeide","CEMT VIc","RWS","BII-1","geladen","beide",0,null,null,null,0]
["CEMT VIcBII-1leegbeide","CEMT VIc","RWS","BII-1","leeg","beide",0,null,null,null,0]
["CEMT VIcBII-2Bgeladenbeide","CEMT VIc","RWS","BII-2B","geladen","beide",0,null,null,null,0]
["CEMT VIcBII-2Bleegbeide","CEMT VIc","RWS","BII-2B","leeg","beide",0,null,null,null,0]
["CEMT VIcBII-2Lgeladenbeide","CEMT VIc","RWS","BII-2L","geladen","beide",0,null,null,null,0]
["CEMT VIcBII-2Lleegbeide","CEMT VIc","RWS","BII-2L","leeg","beide",0,null,null,null,0]
["CEMT VIcBII-4geladenbeide","CEMT VIc","RWS","BII-4","geladen","beide",0,null,null,null,0]
["CEMT VIcBII-4leegbeide","CEMT VIc","RWS","BII-4","leeg","beide",0,null,null,null,0]
["CEMT VIcBII-6Bgeladenbeide","CEMT VIc","RWS","BII-6B","geladen","beide",0,null,null,null,0]
["CEMT VIcBII-6Bleegbeide","CEMT VIc","RWS","BII-6B","leeg","beide",0,null,null,null,0]
["CEMT VIcBII-6Lgeladenbeide","CEMT VIc","RWS","BII-6L","geladen","beide",0,null,null,null,0]
["CEMT VIcBII-6Lleegbeide","CEMT VIc","RWS","BII-6L","leeg","beide",0,null,null,null,0]
["CEMT VIcBO1leegbeide","CEMT VIc","RWS","BO1","leeg","beide",0,null,null,null,0]
["CEMT VIcBO2geladenbeide","CEMT VIc","RWS","BO2","geladen","beide",0,null,null,null,0]
["CEMT VIcBO2leegbeide","CEMT VIc","RWS","BO2","leeg","beide",0,null,null,null,0]
["CEMT VIcBO3geladenbeide","CEMT VIc","RWS","BO3","geladen","beide",0,null,null,null,0]
["CEMT VIcBO3leegbeide","CEMT VIc","RWS","BO3","leeg","beide",0,null,null,null,0]
["CEMT VIcBO4geladenbeide","CEMT VIc","RWS","BO4","geladen","beide",0,null,null,null,0]
["CEMT VIcBO4leegbeide","CEMT VIc","RWS","BO4","leeg","beide",0,null,null,null,0]
["CEMT VIcC1bgeladenbeide","CEMT VIc","RWS","C1b","geladen","beide",0,null,null,null,0]
["CEMT VIcC1bleegbeide","CEMT VIc","RWS","C1b","leeg","beide",0,null,null,null,0]
["CEMT VIcC1lgeladenbeide","CEMT VIc","RWS","C1l","geladen","beide",0,null,null,null,0]
["CEMT VIcC1lleegbeide","CEMT VIc","RWS","C1l","leeg","beide",0,null,null,null,0]
["CEMT VIcC2bgeladenbeide","CEMT VIc","RWS","C2b","geladen","beide",0,null,null,null,0]
["CEMT VIcC2bleegbeide","CEMT VIc","RWS","C2b","leeg","beide",0,null,null,null,0]
["CEMT VIcC2lgeladenbeide","CEMT VIc","RWS","C2l","geladen","beide",0,null,null,null,0]
["CEMT VIcC2lleegbeide","CEMT VIc","RWS","C2l","leeg","beide",0,null,null,null,0]
["CEMT VIcC3bgeladenbeide","CEMT VIc","RWS","C3b","geladen","beide",0,null,null,null,0]
[{"$f":"+B542&D542&E542&F542","v":"CEMT VIcC3bleegbeide"},"CEMT VIc","RWS","C3b","leeg","beide",0,null,null,null,0]
["CEMT VIcC3lgeladenbeide","CEMT VIc","RWS","C3l","geladen","beide",0,null,null,null,{"$f":"+G543*ROW()","v":0}]
["CEMT VIcC3lleegbeide","CEMT VIc","RWS","C3l","leeg","beide",0,null,null,null,0]
["CEMT VIcC4geladenbeide","CEMT VIc","RWS","C4","geladen","beide",0,null,null,null,0]
["CEMT VIcC4leegbeide","CEMT VIc","RWS","C4","leeg","beide",0,null,null,null,0]
["CEMT VIcM0geladenbeide","CEMT VIc","RWS","M0","geladen","beide",0,null,null,null,0]
["CEMT VIcM0leegbeide","CEMT VIc","RWS","M0","leeg","beide",0,null,null,null,0]
["CEMT VIcM1geladenbeide","CEMT VIc","RWS","M1","geladen","beide",0,null,null,null,0]
["CEMT VIcM1leegbeide","CEMT VIc","RWS","M1","leeg","beide",0,null,null,null,0]
["CEMT VIcM10geladenbeide","CEMT VIc","RWS","M10","geladen","beide",0,null,null,null,0]
["CEMT VIcM10leegbeide","CEMT VIc","RWS","M10","leeg","beide",0,null,null,null,0]
["CEMT VIcM11geladenbeide","CEMT VIc","RWS","M11","geladen","beide",0,null,null,null,0]
["CEMT VIcM11leegbeide","CEMT VIc","RWS","M11","leeg","beide",0,null,null,null,0]
["CEMT VIcM12geladenbeide","CEMT VIc","RWS","M12","geladen","beide",0,null,null,null,0]
["CEMT VIcM12leegbeide","CEMT VIc","RWS","M12","leeg","beide",0,null,null,null,0]
["CEMT VIcM2geladenbeide","CEMT VIc","RWS","M2","geladen","beide",0,null,null,null,0]
["CEMT VIcM2leegbeide","CEMT VIc","RWS","M2","leeg","beide",0,null,null,null,0]
["CEMT VIcM3geladenbeide","CEMT VIc","RWS","M3","geladen","beide",0,null,null,null,0]
["CEMT VIcM3leegbeide","CEMT VIc","RWS","M3","leeg","beide",0,null,null,null,0]
["CEMT VIcM4geladenbeide","CEMT VIc","RWS","M4","geladen","beide",0,null,null,null,0]
["CEMT VIcM4leegbeide","CEMT VIc","RWS","M4","leeg","beide",0,null,null,null,0]
["CEMT VIcM5geladenbeide","CEMT VIc","RWS","M5","geladen","beide",0,null,null,null,0]
["CEMT VIcM5leegbeide","CEMT VIc","RWS","M5","leeg","beide",0,null,null,null,0]
["CEMT VIcM6geladenbeide","CEMT VIc","RWS","M6","geladen","beide",0,null,null,null,0]
["CEMT VIcM6leegbeide","CEMT VIc","RWS","M6","leeg","beide",0,null,null,null,0]
["CEMT VIcM7geladenbeide","CEMT VIc","RWS","M7","geladen","beide",0,null,null,null,0]
["CEMT VIcM7leegbeide","CEMT VIc","RWS","M7","leeg","beide",0,null,null,null,0]
["CEMT VIcM8geladenbeide","CEMT VIc","RWS","M8","geladen","beide",0,null,null,null,0]
["CEMT VIcM8leegbeide","CEMT VIc","RWS","M8","leeg","beide",0,null,null,null,0]
["CEMT VIcM9geladenbeide","CEMT VIc","RWS","M9","geladen","beide",0,null,null,null,0]
["CEMT VIcM9leegbeide","CEMT VIc","RWS","M9","leeg","beide",0,null,null,null,0]
["IJsselBIgeladenaf","IJssel","RWS","BI","geladen","af",0,null,null,null,0]
["IJsselBIgeladenop","IJssel","RWS","BI","geladen","op",0,null,null,null,0]
["IJsselBIleegaf","IJssel","RWS","BI","leeg","af",0,null,null,null,0]
["IJsselBIleegop","IJssel","RWS","BI","leeg","op",0,null,null,null,0]
[{"$f":"+B577&D577&E577&F577","v":"IJsselBII-1geladenaf"},"IJssel","RWS","BII-1","geladen","af",0,null,null,null,{"$f":"+G577*ROW()","v":0}]
["IJsselBII-1geladenop","IJssel","RWS","BII-1","geladen","op",0,null,null,null,0]
["IJsselBII-1leegaf","IJssel","RWS","BII-1","leeg","af",0,null,null,null,0]
["IJsselBII-1leegop","IJssel","RWS","BII-1","leeg","op",0,null,null,null,0]
["IJsselBII-2Bgeladenaf","IJssel","RWS","BII-2B","geladen","af",0,null,null,null,0]
["IJsselBII-2Bgeladenop","IJssel","RWS","BII-2B","geladen","op",0,null,null,null,0]
["IJsselBII-2Bleegaf","IJssel","RWS","BII-2B","leeg","af",0,null,null,null,0]
["IJsselBII-2Bleegop","IJssel","RWS","BII-2B","leeg","op",0,null,null,null,0]
["IJsselBII-2Lgeladenaf","IJssel","RWS","BII-2L","geladen","af",0,null,null,null,0]
["IJsselBII-2Lgeladenop","IJssel","RWS","BII-2L","geladen","op",0,null,null,null,0]
["IJsselBII-2Lleegaf","IJssel","RWS","BII-2L","leeg","af",0,null,null,null,0]
["IJsselBII-2Lleegop","IJssel","RWS","BII-2L","leeg","op",0,null,null,null,0]
["IJsselBO1leegaf","IJssel","RWS","BO1","leeg","af",0,null,null,null,0]
["IJsselBO1leegop","IJssel","RWS","BO1","leeg","op",0,null,null,null,0]
["IJsselBO2geladenaf","IJssel","RWS","BO2","geladen","af",0,null,null,null,0]
["IJsselBO2geladenop","IJssel","RWS","BO2","geladen","op",0,null,null,null,0]
["IJsselBO2leegaf","IJssel","RWS","BO2","leeg","af",0,null,null,null,0]
["IJsselBO2leegop","IJssel","RWS","BO2","leeg","op",0,null,null,null,0]
["IJsselBO3geladenop","IJssel","RWS","BO3","geladen","op",0,null,null,null,0]
["IJsselBO3leegaf","IJssel","RWS","BO3","leeg","af",0,null,null,null,0]
["IJsselBO3leegop","IJssel","RWS","BO3","leeg","op",0,null,null,null,0]
["IJsselBO4geladenaf","IJssel","RWS","BO4","geladen","af",0,null,null,null,0]
["IJsselBO4geladenop","IJssel","RWS","BO4","geladen","op",0,null,null,null,0]
["IJsselBO4leegaf","IJssel","RWS","BO4","leeg","af",0,null,null,null,0]
["IJsselBO4leegop","IJssel","RWS","BO4","leeg","op",0,null,null,null,0]
["IJsselC1bleegaf","IJssel","RWS","C1b","leeg","af",0,null,null,null,0]
["IJsselC2bgeladenaf","IJssel","RWS","C2b","geladen","af",0,null,null,null,0]
["IJsselC2bgeladenop","IJssel","RWS","C2b","geladen","op",0,null,null,null,0]
["IJsselC2bleegaf","IJssel","RWS","C2b","leeg","af",0,null,null,null,0]
["IJsselC2bleegop","IJssel","RWS","C2b","leeg","op",0,null,null,null,0]
["IJsselC2lgeladenaf","IJssel","RWS","C2l","geladen","af",0,null,null,null,0]
["IJsselC2lgeladenop","IJssel","RWS","C2l","geladen","op",0,null,null,null,0]
["IJsselC2lleegaf","IJssel","RWS","C2l","leeg","af",0,null,null,null,0]
["IJsselC2lleegop","IJssel","RWS","C2l","leeg","op",0,null,null,null,0]
["IJsselC3bgeladenaf","IJssel","RWS","C3b","geladen","af",0,null,null,null,0]
["IJsselC3bgeladenop","IJssel","RWS","C3b","geladen","op",0,null,null,null,0]
["IJsselC3bleegaf","IJssel","RWS","C3b","leeg","af",0,null,null,null,0]
["IJsselC3lgeladenaf","IJssel","RWS","C3l","geladen","af",0,null,null,null,0]
["IJsselC3lgeladenop","IJssel","RWS","C3l","geladen","op",0,null,null,null,0]
["IJsselC3lleegaf","IJssel","RWS","C3l","leeg","af",0,null,null,null,0]
["IJsselC3lleegop","IJssel","RWS","C3l","leeg","op",0,null,null,null,0]
["IJsselC4geladenop","IJssel","RWS","C4","geladen","op",0,null,null,null,0]
["IJsselM0geladenaf","IJssel","RWS","M0","geladen","af",0,null,null,null,0]
["IJsselM0geladenop","IJssel","RWS","M0","geladen","op",0,null,null,null,0]
["IJsselM0leegaf","IJssel","RWS","M0","leeg","af",0,null,null,null,0]
["IJsselM0leegop","IJssel","RWS","M0","leeg","op",0,null,null,null,0]
["IJsselM1geladenaf","IJssel","RWS","M1","geladen","af",0,null,null,null,0]
["IJsselM1geladenop","IJssel","RWS","M1","geladen","op",0,null,null,null,0]
["IJsselM1leegaf","IJssel","RWS","M1","leeg","af",0,null,null,null,0]
["IJsselM1leegop","IJssel","RWS","M1","leeg","op",0,null,null,null,0]
["IJsselM10geladenaf","IJssel","RWS","M10","geladen","af",0,null,null,null,0]
["IJsselM10geladenop","IJssel","RWS","M10","geladen","op",0,null,null,null,0]
["IJsselM10leegaf","IJssel","RWS","M10","leeg","af",0,null,null,null,0]
["IJsselM11geladenaf","IJssel","RWS","M11","geladen","af",0,null,null,null,0]
[{"$f":"+B631&D631&E631&F631","v":"IJsselM11geladenop"},"IJssel","RWS","M11","geladen","op",0,null,null,null,0]
["IJsselM11leegaf","IJssel","RWS","M11","leeg","af",0,null,null,null,{"$f":"+G632*ROW()","v":0}]
["IJsselM11leegop","IJssel","RWS","M11","leeg","op",0,null,null,null,0]
["IJsselM12geladenaf","IJssel","RWS","M12","geladen","af",0,null,null,null,0]
["IJsselM12geladenop","IJssel","RWS","M12","geladen","op",0,null,null,null,0]
["IJsselM12leegaf","IJssel","RWS","M12","leeg","af",0,null,null,null,0]
["IJsselM12leegop","IJssel","RWS","M12","leeg","op",0,null,null,null,0]
["IJsselM2geladenaf","IJssel","RWS","M2","geladen","af",0,null,null,null,0]
["IJsselM2geladenop","IJssel","RWS","M2","geladen","op",0,null,null,null,0]
["IJsselM2leegaf","IJssel","RWS","M2","leeg","af",0,null,null,null,0]
["IJsselM2leegop","IJssel","RWS","M2","leeg","op",0,null,null,null,0]
["IJsselM3geladenaf","IJssel","RWS","M3","geladen","af",0,null,null,null,0]
["IJsselM3geladenop","IJssel","RWS","M3","geladen","op",0,null,null,null,0]
["IJsselM3leegaf","IJssel","RWS","M3","leeg","af",0,null,null,null,0]
["IJsselM3leegop","IJssel","RWS","M3","leeg","op",0,null,null,null,0]
["IJsselM4geladenaf","IJssel","RWS","M4","geladen","af",0,null,null,null,0]
["IJsselM4geladenop","IJssel","RWS","M4","geladen","op",0,null,null,null,0]
["IJsselM4leegaf","IJssel","RWS","M4","leeg","af",0,null,null,null,0]
["IJsselM4leegop","IJssel","RWS","M4","leeg","op",0,null,null,null,0]
["IJsselM5geladenaf","IJssel","RWS","M5","geladen","af",0,null,null,null,0]
["IJsselM5geladenop","IJssel","RWS","M5","geladen","op",0,null,null,null,0]
["IJsselM5leegaf","IJssel","RWS","M5","leeg","af",0,null,null,null,0]
["IJsselM5leegop","IJssel","RWS","M5","leeg","op",0,null,null,null,0]
["IJsselM6geladenaf","IJssel","RWS","M6","geladen","af",0,null,null,null,0]
["IJsselM6geladenop","IJssel","RWS","M6","geladen","op",0,null,null,null,0]
["IJsselM6leegaf","IJssel","RWS","M6","leeg","af",0,null,null,null,0]
["IJsselM6leegop","IJssel","RWS","M6","leeg","op",0,null,null,null,0]
["IJsselM7geladenaf","IJssel","RWS","M7","geladen","af",0,null,null,null,0]
["IJsselM7geladenop","IJssel","RWS","M7","geladen","op",0,null,null,null,0]
["IJsselM7leegaf","IJssel","RWS","M7","leeg","af",0,null,null,null,0]
["IJsselM7leegop","IJssel","RWS","M7","leeg","op",0,null,null,null,0]
["IJsselM8geladenaf","IJssel","RWS","M8","geladen","af",0,null,null,null,0]
["IJsselM8geladenop","IJssel","RWS","M8","geladen","op",0,null,null,null,0]
["IJsselM8leegaf","IJssel","RWS","M8","leeg","af",0,null,null,null,0]
["IJsselM8leegop","IJssel","RWS","M8","leeg","op",0,null,null,null,0]
["IJsselM9geladenaf","IJssel","RWS","M9","geladen","af",0,null,null,null,0]
["IJsselM9geladenop","IJssel","RWS","M9","geladen","op",0,null,null,null,0]
["IJsselM9leegaf","IJssel","RWS","M9","leeg","af",0,null,null,null,0]
["IJsselM9leegop","IJssel","RWS","M9","leeg","op",0,null,null,null,0]
["LekBIgeladenaf","Lek","RWS","BI","geladen","af",0,null,null,null,0]
["LekBIgeladenop","Lek","RWS","BI","geladen","op",0,null,null,null,0]
["LekBIleegaf","Lek","RWS","BI","leeg","af",0,null,null,null,0]
["LekBIleegop","Lek","RWS","BI","leeg","op",0,null,null,null,0]
[{"$f":"+B674&D674&E674&F674","v":"LekBII-1geladenaf"},"Lek","RWS","BII-1","geladen","af",0]
["LekBII-1geladenop","Lek","RWS","BII-1","geladen","op",0]
["LekBII-1leegaf","Lek","RWS","BII-1","leeg","af",0]
["LekBII-1leegop","Lek","RWS","BII-1","leeg","op",0]
["LekBII-2Bgeladenaf","Lek","RWS","BII-2B","geladen","af",0]
["LekBII-2Bgeladenop","Lek","RWS","BII-2B","geladen","op",0]
["LekBII-2Bleegaf","Lek","RWS","BII-2B","leeg","af",0]
["LekBII-2Bleegop","Lek","RWS","BII-2B","leeg","op",0]
["LekBII-2Lgeladenaf","Lek","RWS","BII-2L","geladen","af",0]
["LekBII-2Lgeladenop","Lek","RWS","BII-2L","geladen","op",0]
["LekBII-2Lleegaf","Lek","RWS","BII-2L","leeg","af",0]
["LekBII-2Lleegop","Lek","RWS","BII-2L","leeg","op",0]
["LekBII-4leegaf","Lek","RWS","BII-4","leeg","af",0]
["LekBO1leegaf","Lek","RWS","BO1","leeg","af",0]
["LekBO1leegop","Lek","RWS","BO1","leeg","op",0]
["LekBO2geladenaf","Lek","RWS","BO2","geladen","af",0]
["LekBO2geladenop","Lek","RWS","BO2","geladen","op",0]
["LekBO2leegaf","Lek","RWS","BO2","leeg","af",0]
["LekBO2leegop","Lek","RWS","BO2","leeg","op",0]
["LekBO3geladenaf","Lek","RWS","BO3","geladen","af",0]
["LekBO3geladenop","Lek","RWS","BO3","geladen","op",0]
["LekBO3leegaf","Lek","RWS","BO3","leeg","af",0]
["LekBO3leegop","Lek","RWS","BO3","leeg","op",0]
["LekBO4geladenaf","Lek","RWS","BO4","geladen","af",0]
["LekBO4geladenop","Lek","RWS","BO4","geladen","op",0]
["LekBO4leegaf","Lek","RWS","BO4","leeg","af",0]
["LekBO4leegop","Lek","RWS","BO4","leeg","op",0]
["LekC1bgeladenaf","Lek","RWS","C1b","geladen","af",0]
["LekC1bgeladenop","Lek","RWS","C1b","geladen","op",0]
["LekC1bleegaf","Lek","RWS","C1b","leeg","af",0]
["LekC1bleegop","Lek","RWS","C1b","leeg","op",0]
["LekC1lgeladenaf","Lek","RWS","C1l","geladen","af",0]
["LekC1lgeladenop","Lek","RWS","C1l","geladen","op",0]
["LekC1lleegaf","Lek","RWS","C1l","leeg","af",0]
["LekC1lleegop","Lek","RWS","C1l","leeg","op",0]
["LekC2bgeladenaf","Lek","RWS","C2b","geladen","af",0]
["LekC2bgeladenop","Lek","RWS","C2b","geladen","op",0]
["LekC2bleegaf","Lek","RWS","C2b","leeg","af",0]
["LekC2bleegop","Lek","RWS","C2b","leeg","op",0]
["LekC2lgeladenaf","Lek","RWS","C2l","geladen","af",0]
["LekC2lgeladenop","Lek","RWS","C2l","geladen","op",0]
["LekC2lleegaf","Lek","RWS","C2l","leeg","af",0]
["LekC2lleegop","Lek","RWS","C2l","leeg","op",0]
["LekC3bgeladenop","Lek","RWS","C3b","geladen","op",0]
["LekC3bleegaf","Lek","RWS","C3b","leeg","af",0]
["LekC3bleegop","Lek","RWS","C3b","leeg","op",0]
["LekC3lgeladenaf","Lek","RWS","C3l","geladen","af",0]
["LekC3lgeladenop","Lek","RWS","C3l","geladen","op",0]
["LekC3lleegaf","Lek","RWS","C3l","leeg","af",0]
["LekC3lleegop","Lek","RWS","C3l","leeg","op",0]
["LekC4geladenaf","Lek","RWS","C4","geladen","af",0]
[{"$f":"+B725&D725&E725&F725","v":"LekC4geladenop"},"Lek","RWS","C4","geladen","op",0]
["LekC4leegop","Lek","RWS","C4","leeg","op",0]
["LekM0geladenaf","Lek","RWS","M0","geladen","af",0]
["LekM0geladenop","Lek","RWS","M0","geladen","op",0]
["LekM0leegaf","Lek","RWS","M0","leeg","af",0]
["LekM0leegop","Lek","RWS","M0","leeg","op",0]
["LekM1geladenaf","Lek","RWS","M1","geladen","af",0]
["LekM1geladenop","Lek","RWS","M1","geladen","op",0]
["LekM1leegaf","Lek","RWS","M1","leeg","af",0]
["LekM1leegop","Lek","RWS","M1","leeg","op",0]
["LekM10geladenaf","Lek","RWS","M10","geladen","af",0]
["LekM10geladenop","Lek","RWS","M10","geladen","op",0]
["LekM10leegaf","Lek","RWS","M10","leeg","af",0]
["LekM10leegop","Lek","RWS","M10","leeg","op",0]
["LekM11geladenaf","Lek","RWS","M11","geladen","af",0]
["LekM11geladenop","Lek","RWS","M11","geladen","op",0]
["LekM11leegaf","Lek","RWS","M11","leeg","af",0]
["LekM11leegop","Lek","RWS","M11","leeg","op",0]
["LekM12geladenaf","Lek","RWS","M12","geladen","af",0]
["LekM12geladenop","Lek","RWS","M12","geladen","op",0]
["LekM12leegaf","Lek","RWS","M12","leeg","af",0]
["LekM12leegop","Lek","RWS","M12","leeg","op",0]
["LekM2geladenaf","Lek","RWS","M2","geladen","af",0]
["LekM2geladenop","Lek","RWS","M2","geladen","op",0]
["LekM2leegaf","Lek","RWS","M2","leeg","af",0]
["LekM2leegop","Lek","RWS","M2","leeg","op",0]
["LekM3geladenaf","Lek","RWS","M3","geladen","af",0]
["LekM3geladenop","Lek","RWS","M3","geladen","op",0]
["LekM3leegaf","Lek","RWS","M3","leeg","af",0]
["LekM3leegop","Lek","RWS","M3","leeg","op",0]
["LekM4geladenaf","Lek","RWS","M4","geladen","af",0]
["LekM4geladenop","Lek","RWS","M4","geladen","op",0]
["LekM4leegaf","Lek","RWS","M4","leeg","af",0]
["LekM4leegop","Lek","RWS","M4","leeg","op",0]
["LekM5geladenaf","Lek","RWS","M5","geladen","af",0]
["LekM5geladenop","Lek","RWS","M5","geladen","op",0]
["LekM5leegaf","Lek","RWS","M5","leeg","af",0]
["LekM5leegop","Lek","RWS","M5","leeg","op",0]
["LekM6geladenaf","Lek","RWS","M6","geladen","af",0]
["LekM6geladenop","Lek","RWS","M6","geladen","op",0]
["LekM6leegaf","Lek","RWS","M6","leeg","af",0]
["LekM6leegop","Lek","RWS","M6","leeg","op",0]
["LekM7geladenaf","Lek","RWS","M7","geladen","af",0]
["LekM7geladenop","Lek","RWS","M7","geladen","op",0]
["LekM7leegaf","Lek","RWS","M7","leeg","af",0]
["LekM7leegop","Lek","RWS","M7","leeg","op",0]
["LekM8geladenaf","Lek","RWS","M8","geladen","af",0]
["LekM8geladenop","Lek","RWS","M8","geladen","op",0]
["LekM8leegaf","Lek","RWS","M8","leeg","af",0]
["LekM8leegop","Lek","RWS","M8","leeg","op",0]
["LekM9geladenaf","Lek","RWS","M9","geladen","af",0]
["LekM9geladenop","Lek","RWS","M9","geladen","op",0]
["LekM9leegaf","Lek","RWS","M9","leeg","af",0]
["LekM9leegop","Lek","RWS","M9","leeg","op",0]
["WaalBIgeladenaf","Waal","RWS","BI","geladen","af",0]
["WaalBIgeladenop","Waal","RWS","BI","geladen","op",0]
["WaalBIleegaf","Waal","RWS","BI","leeg","af",0]
["WaalBIleegop","Waal","RWS","BI","leeg","op",0]
["WaalBII-1geladenaf","Waal","RWS","BII-1","geladen","af",0]
["WaalBII-1geladenop","Waal","RWS","BII-1","geladen","op",0]
[{"$f":"+B785&D785&E785&F785","v":"WaalBII-1leegaf"},"Waal","RWS","BII-1","leeg","af",0]
["WaalBII-1leegop","Waal","RWS","BII-1","leeg","op",0]
["WaalBII-2Bgeladenaf","Waal","RWS","BII-2B","geladen","af",0]
["WaalBII-2Bgeladenop","Waal","RWS","BII-2B","geladen","op",0]
["WaalBII-2Bleegaf","Waal","RWS","BII-2B","leeg","af",0]
["WaalBII-2Bleegop","Waal","RWS","BII-2B","leeg","op",0]
["WaalBII-2Lgeladenaf","Waal","RWS","BII-2L","geladen","af",0]
["WaalBII-2Lgeladenop","Waal","RWS","BII-2L","geladen","op",0]
["WaalBII-2Lleegaf","Waal","RWS","BII-2L","leeg","af",0]
["WaalBII-2Lleegop","Waal","RWS","BII-2L","leeg","op",0]
["WaalBII-4geladenaf","Waal","RWS","BII-4","geladen","af",0]
["WaalBII-4geladenop","Waal","RWS","BII-4","geladen","op",0]
["WaalBII-4leegaf","Waal","RWS","BII-4","leeg","af",0]
["WaalBII-4leegop","Waal","RWS","BII-4","leeg","op",0]
["WaalBII-6Bgeladenaf","Waal","RWS","BII-6B","geladen","af",0]
["WaalBII-6Bgeladenop","Waal","RWS","BII-6B","geladen","op",0]
["WaalBII-6Bleegaf","Waal","RWS","BII-6B","leeg","af",0]
["WaalBII-6Bleegop","Waal","RWS","BII-6B","leeg","op",0]
["WaalBII-6Lgeladenaf","Waal","RWS","BII-6L","geladen","af",0]
["WaalBII-6Lgeladenop","Waal","RWS","BII-6L","geladen","op",0]
["WaalBII-6Lleegaf","Waal","RWS","BII-6L","leeg","af",0]
["WaalBII-6Lleegop","Waal","RWS","BII-6L","leeg","op",0]
["WaalBO1leegaf","Waal","RWS","BO1","leeg","af",0]
["WaalBO1leegop","Waal","RWS","BO1","leeg","op",0]
["WaalBO2geladenaf","Waal","RWS","BO2","geladen","af",0]
["WaalBO2geladenop","Waal","RWS","BO2","geladen","op",0]
["WaalBO2leegaf","Waal","RWS","BO2","leeg","af",0]
["WaalBO2leegop","Waal","RWS","BO2","leeg","op",0]
["WaalBO3geladenaf","Waal","RWS","BO3","geladen","af",0]
["WaalBO3geladenop","Waal","RWS","BO3","geladen","op",0]
["WaalBO3leegaf","Waal","RWS","BO3","leeg","af",0]
["WaalBO3leegop","Waal","RWS","BO3","leeg","op",0]
[{"$f":"+B817&D817&E817&F817","v":"WaalBO4geladenaf"},"Waal","RWS","BO4","geladen","af",0]
["WaalBO4geladenop","Waal","RWS","BO4","geladen","op",0]
["WaalBO4leegaf","Waal","RWS","BO4","leeg","af",0]
["WaalBO4leegop","Waal","RWS","BO4","leeg","op",0]
["WaalC1bgeladenaf","Waal","RWS","C1b","geladen","af",0]
["WaalC1bgeladenop","Waal","RWS","C1b","geladen","op",0]
["WaalC1bleegaf","Waal","RWS","C1b","leeg","af",0]
["WaalC1bleegop","Waal","RWS","C1b","leeg","op",0]
["WaalC1lgeladenaf","Waal","RWS","C1l","geladen","af",0]
["WaalC1lgeladenop","Waal","RWS","C1l","geladen","op",0]
["WaalC1lleegaf","Waal","RWS","C1l","leeg","af",0]
["WaalC1lleegop","Waal","RWS","C1l","leeg","op",0]
["WaalC2bgeladenaf","Waal","RWS","C2b","geladen","af",0]
["WaalC2bgeladenop","Waal","RWS","C2b","geladen","op",0]
["WaalC2bleegaf","Waal","RWS","C2b","leeg","af",0]
["WaalC2bleegop","Waal","RWS","C2b","leeg","op",0]
["WaalC2lgeladenaf","Waal","RWS","C2l","geladen","af",0]
["WaalC2lgeladenop","Waal","RWS","C2l","geladen","op",0]
["WaalC2lleegaf","Waal","RWS","C2l","leeg","af",0]
["WaalC2lleegop","Waal","RWS","C2l","leeg","op",0]
["WaalC3bgeladenaf","Waal","RWS","C3b","geladen","af",0]
["WaalC3bgeladenop","Waal","RWS","C3b","geladen","op",0]
["WaalC3bleegaf","Waal","RWS","C3b","leeg","af",0]
["WaalC3bleegop","Waal","RWS","C3b","leeg","op",0]
["WaalC3lgeladenaf","Waal","RWS","C3l","geladen","af",0]
["WaalC3lgeladenop","Waal","RWS","C3l","geladen","op",0]
["WaalC3lleegaf","Waal","RWS","C3l","leeg","af",0]
["WaalC3lleegop","Waal","RWS","C3l","leeg","op",0]
["WaalC4geladenaf","Waal","RWS","C4","geladen","af",0]
["WaalC4geladenop","Waal","RWS","C4","geladen","op",0]
["WaalC4leegaf","Waal","RWS","C4","leeg","af",0]
["WaalC4leegop","Waal","RWS","C4","leeg","op",0]
["WaalM0geladenaf","Waal","RWS","M0","geladen","af",0]
["WaalM0geladenop","Waal","RWS","M0","geladen","op",0]
["WaalM0leegaf","Waal","RWS","M0","leeg","af",0]
["WaalM0leegop","Waal","RWS","M0","leeg","op",0]
["WaalM1geladenaf","Waal","RWS","M1","geladen","af",0]
["WaalM1geladenop","Waal","RWS","M1","geladen","op",0]
["WaalM1leegaf","Waal","RWS","M1","leeg","af",0]
["WaalM1leegop","Waal","RWS","M1","leeg","op",0]
["WaalM10geladenaf","Waal","RWS","M10","geladen","af",0]
["WaalM10geladenop","Waal","RWS","M10","geladen","op",0]
["WaalM10leegaf","Waal","RWS","M10","leeg","af",0]
["WaalM10leegop","Waal","RWS","M10","leeg","op",0]
["WaalM11geladenaf","Waal","RWS","M11","geladen","af",0]
["WaalM11geladenop","Waal","RWS","M11","geladen","op",0]
["WaalM11leegaf","Waal","RWS","M11","leeg","af",0]
["WaalM11leegop","Waal","RWS","M11","leeg","op",0]
["WaalM12geladenaf","Waal","RWS","M12","geladen","af",0]
["WaalM12geladenop","Waal","RWS","M12","geladen","op",0]
["WaalM12leegaf","Waal","RWS","M12","leeg","af",0]
["WaalM12leegop","Waal","RWS","M12","leeg","op",0]
["WaalM2geladenaf","Waal","RWS","M2","geladen","af",0]
["WaalM2geladenop","Waal","RWS","M2","geladen","op",0]
["WaalM2leegaf","Waal","RWS","M2","leeg","af",0]
["WaalM2leegop","Waal","RWS","M2","leeg","op",0]
["WaalM3geladenaf","Waal","RWS","M3","geladen","af",0]
["WaalM3geladenop","Waal","RWS","M3","geladen","op",0]
["WaalM3leegaf","Waal","RWS","M3","leeg","af",0]
["WaalM3leegop","Waal","RWS","M3","leeg","op",0]
["WaalM4geladenaf","Waal","RWS","M4","geladen","af",0]
["WaalM4geladenop","Waal","RWS","M4","geladen","op",0]
["WaalM4leegaf","Waal","RWS","M4","leeg","af",0]
["WaalM4leegop","Waal","RWS","M4","leeg","op",0]
[{"$f":"+B881&D881&E881&F881","v":"WaalM5geladenaf"},"Waal","RWS","M5","geladen","af",0]
["WaalM5geladenop","Waal","RWS","M5","geladen","op",0]
["WaalM5leegaf","Waal","RWS","M5","leeg","af",0]
["WaalM5leegop","Waal","RWS","M5","leeg","op",0]
["WaalM6geladenaf","Waal","RWS","M6","geladen","af",0]
["WaalM6geladenop","Waal","RWS","M6","geladen","op",0]
["WaalM6leegaf","Waal","RWS","M6","leeg","af",0]
["WaalM6leegop","Waal","RWS","M6","leeg","op",0]
["WaalM7geladenaf","Waal","RWS","M7","geladen","af",0]
["WaalM7geladenop","Waal","RWS","M7","geladen","op",0]
["WaalM7leegaf","Waal","RWS","M7","leeg","af",0]
["WaalM7leegop","Waal","RWS","M7","leeg","op",0]
["WaalM8geladenaf","Waal","RWS","M8","geladen","af",0]
["WaalM8geladenop","Waal","RWS","M8","geladen","op",0]
["WaalM8leegaf","Waal","RWS","M8","leeg","af",0]
["WaalM8leegop","Waal","RWS","M8","leeg","op",0]
["WaalM9geladenaf","Waal","RWS","M9","geladen","af",0]
["WaalM9geladenop","Waal","RWS","M9","geladen","op",0]
["WaalM9leegaf","Waal","RWS","M9","leeg","af",0]
["WaalM9leegop","Waal","RWS","M9","leeg","op",0]
["CEMT IBO1geladenbeide","CEMT I","RWS","BO1","geladen","beide",0]
["CEMT IC1lgeladenbeide","CEMT I","RWS","C1l","geladen","beide",0]
["CEMT IC1lleegbeide","CEMT I","RWS","C1l","leeg","beide",0]
["CEMT VbBO1geladenbeide","CEMT Vb","RWS","BO1","geladen","beide",0]
["CEMT VIaBO1geladenbeide","CEMT VIa","RWS","BO1","geladen","beide",0]
["CEMT VIaC1lleegbeide","CEMT VIa","RWS","C1l","leeg","beide",0]
["CEMT VIcBO1geladenbeide","CEMT VIc","RWS","BO1","geladen","beide",0]
["IJsselBO1geladenaf","IJssel","RWS","BO1","geladen","af",0]
["IJsselBO1geladenop","IJssel","RWS","BO1","geladen","op",0]
["IJsselBO3geladenaf","IJssel","RWS","BO3","geladen","af",0]
["IJsselC1bgeladenaf","IJssel","RWS","C1b","geladen","af",0]
["IJsselC1bgeladenop","IJssel","RWS","C1b","geladen","op",0]
["IJsselC1bleegop","IJssel","RWS","C1b","leeg","op",0]
["IJsselC1lgeladenaf","IJssel","RWS","C1l","geladen","af",0]
["IJsselC1lgeladenop","IJssel","RWS","C1l","geladen","op",0]
["IJsselC1lleegaf","IJssel","RWS","C1l","leeg","af",0]
["IJsselC1lleegop","IJssel","RWS","C1l","leeg","op",0]
["LekBO1geladenaf","Lek","RWS","BO1","geladen","af",0]
["LekBO1geladenop","Lek","RWS","BO1","geladen","op",0]
["WaalBO1geladenaf","Waal","RWS","BO1","geladen","af",0]
["WaalBO1geladenop","Waal","RWS","BO1","geladen","op",0]

{"sheet":"UITVOER","index":2,"n_rows":30,"n_cols":7,"rows_kept":30,"cut":false,"hidden":false,"merged":[[27,1,27,3],[15,1,15,3],[22,1,22,3]]}
[{"$f":"VERSIE!A1","v":"PRELUDE (© TNO)"}]
["Versie",{"$f":"VERSIE","v":"1.2"}]
[{"$f":"'Invulblad (INVOER)'!B1","v":"Gebruiker"},{"$f":"+GEBRUIKER","v":"Calco Rekenaar"}]
[{"$f":"'Invulblad (INVOER)'!B2","v":"Datum veranderd"},{"$f":"+INVOERDATUM","v":"2019-02-05"}]
[{"$f":"'Invulblad (INVOER)'!B3","v":"Naam van het vaartraject"},{"$f":"+TRAJECTNAAM","v":"Kikkerlandse Bocht"}]
[{"$f":"'Invulblad (INVOER)'!B4","v":"Afstand van het vaartraject"},1,{"$f":"'Invulblad (INVOER)'!D4","v":"km"},{"$f":"+IF(OR((ISNUMBER(B6)=FALSE),B6=0),\"Voer traject lengte in Invulblad\",\"\")","v":""}]
["Traject intensiteit",{"$f":"+AANTALINV","v":0},"schepen/periode"]
[null,{"$f":"'Invulblad (INVOER)'!C5","v":2014}]
["Invoercontrole",{"$f":"+IF(AANTALINV=AANTALNOX,\"ok\",\"FOUT\")","v":"ok"}]
["Intern",{"$f":"+IF(AANTALNOX<>AANTALPM10,\"Interne fout Emissieberekening: Controleer verwijzingen!\",\"ok\")","v":"ok"}]
["Sluisemissies",{"$f":"+Sluis","v":"nee"}]
[{"$f":"+IF(Sluis=\"ja\",\"Schuttijd\",\"\")","v":""},{"$f":"+IF(Sluis=\"ja\",Schuttijd,\"\")","v":""},{"$f":"+IF(Sluis=\"ja\",\"Minuten\",\"\")","v":""}]
[]
["Emissie per kilometer (gram/periode)",null,null,null,null,null,{"$f":"+IF(Checksum=Checksumcopy,\"\",\"!\")","v":""}]
[]
[null,"Vaarrichting"]
[{"$f":"+Optellingen!B4","v":"Stof"},{"$f":"+Optellingen!C4","v":"af"},{"$f":"+Optellingen!D4","v":"beide"},{"$f":"+Optellingen!E4","v":"op"},"Totaal"]
[{"$f":"+Optellingen!B5","v":"NOx"},{"$f":"+IF(Sluis=\"ja\",+IF(Optellingen!$C$22>0,(Schuttijd/60)/(Afstand/(Optellingen!$C$17/Optellingen!$C$22))*Optellingen!$C$5/Afstand*Standbyvermogen*Noxfactor,0),Optellingen!$C$5/Afstand)","v":0},{"$f":"+IF(Sluis=\"ja\",+IF(Optellingen!D22>0,(Schuttijd/60)/(Afstand/(Optellingen!D17/Optellingen!D22))*Optellingen!D5/Afstand*Standbyvermogen*Noxfactor,0),Optellingen!D5/Afstand)","v":0},{"$f":"+IF(Sluis=\"ja\",+IF(Optellingen!E22>0,(Schuttijd/60)/(Afstand/(Optellingen!E17/Optellingen!E22))*Optellingen!E5/Afstand*Standbyvermogen*Noxfactor,0),Optellingen!E5/Afstand)","v":0},{"$f":"+IF(Sluis=\"ja\",+IF(Optellingen!F22>0,(Schuttijd/60)/(Afstand/(Optellingen!F17/Optellingen!F22))*Optellingen!F5/Afstand*Standbyvermogen*Noxfactor,0),Optellingen!F5/Afstand)","v":0}]
[{"$f":"+Optellingen!B6","v":"Fijn stof"},{"$f":"+IF(Sluis=\"ja\",+IF(Optellingen!C22>0,(Schuttijd/60)/(Afstand/(Optellingen!C17/Optellingen!C22))*Optellingen!C6/Afstand*Standbyvermogen*Pmfactor,0),Optellingen!C6/Afstand)","v":0},{"$f":"+IF(Sluis=\"ja\",+IF(Optellingen!D22>0,(Schuttijd/60)/(Afstand/(Optellingen!D17/Optellingen!D22))*Optellingen!D6/Afstand*Standbyvermogen*Pmfactor,0),Optellingen!D6/Afstand)","v":0},{"$f":"+IF(Sluis=\"ja\",+IF(Optellingen!E22>0,(Schuttijd/60)/(Afstand/(Optellingen!E17/Optellingen!E22))*Optellingen!E6/Afstand*Standbyvermogen*Pmfactor,0),Optellingen!E6/Afstand)","v":0},{"$f":"+IF(Sluis=\"ja\",+IF(Optellingen!F22>0,(Schuttijd/60)/(Afstand/(Optellingen!F17/Optellingen!F22))*Optellingen!F6/Afstand*Standbyvermogen*Pmfactor,0),Optellingen!F6/Afstand)","v":0}]
[]
[null,{"$f":"+#REF!/Afstand","v":{"$error":"#REF!"}}]
[]
["Warmte-output (MW)","Vaarrichting"]
[null,{"$f":"Optellingen!C11","v":"af"},{"$f":"Optellingen!D11","v":"beide"},{"$f":"Optellingen!E11","v":"op"},"Totaal"]
[{"$f":"+Optellingen!B12","v":"Total"},{"$f":"+IF(Sluis=\"nee\",+MW_af,IF(MW_af=\"-\",\"-\",+Standbyvermogen*MW_af))","v":"-"},{"$f":"+IF(Sluis=\"nee\",+MW_beide,IF(MW_beide=\"-\",\"-\",+Standbyvermogen*MW_beide))","v":"-"},{"$f":"+IF(Sluis=\"nee\",+MW_op,IF(MW_op=\"-\",\"-\",+Standbyvermogen*MW_op))","v":"-"},{"$f":"+IF(Sluis=\"nee\",+MW_totaal,IF(MW_totaal=\"-\",\"-\",+Standbyvermogen*MW_totaal))","v":"-"}]
[]
[]
["Snelheid (km/u)","Vaarrichting"]
[null,{"$f":"Optellingen!C11","v":"af"},{"$f":"Optellingen!D11","v":"beide"},{"$f":"Optellingen!E11","v":"op"},"Totaal"]
[{"$f":"Optellingen!B12","v":"Total"},{"$f":"+IF(Sluis=\"nee\",IF(Optellingen!C22>0,Optellingen!C17/Optellingen!C22,\"-\"),\"sluis\")","v":"-"},{"$f":"+IF(Sluis=\"nee\",IF(Optellingen!D22>0,Optellingen!D17/Optellingen!D22,\"-\"),\"sluis\")","v":"-"},{"$f":"+IF(Sluis=\"nee\",IF(Optellingen!E22>0,Optellingen!E17/Optellingen!E22,\"-\"),\"sluis\")","v":"-"},{"$f":"+IF(Sluis=\"nee\",IF(Optellingen!F22>0,Optellingen!F17/Optellingen!F22,\"-\"),\"sluis\")","v":"-"}]

{"sheet":"Trendfactoren","index":3,"n_rows":65,"n_cols":10,"rows_kept":65,"cut":false,"hidden":false,"merged":[[1,7,1,9]]}
[null,null,null,"NOx","Fijn stof","CO2",null,"NOx","Fijn stof","CO2"]
["Zoekstr","Jaar","Motorvervangingsprofiel",{"$f":"+COLUMN()","v":4},{"$f":"+COLUMN()","v":5},6,null,"gram/kWh"]
[{"$f":"+B3&C3","v":"2010L1"},2010,"L1",1.04,1.1779999999999999,1.014,null,9.7834755141770557,0.37536816077092688,702.57964756562774]
[{"$f":"+B4&C4","v":"2011L1"},2011,"L1",1.03,1.093,1.0109999999999999,null,9.6898176305162522,0.34826000592826323,699.91457573014532]
["2012L1",2012,"L1",1.02,1.0609999999999999,1.0069999999999999,null,9.5948065142549872,0.33815320241550245,697.35456711101142]
["2013L1",2013,"L1",1.01,1.03,1.0029999999999999,null,9.499697647979481,0.32827192606700784,694.90127578984334]
["2014L1",2014,"L1",1,1,1,null,9.4053726309977179,0.31866218948040143,692.55527627922265]
["2015L1",2015,"L1",0.99,0.97099999999999997,0.997,null,9.3124800711900608,0.30935560992168165,690.31626747838823]
["2016L1",2016,"L1",0.98,0.94299999999999995,0.99399999999999999,null,9.2215082411685643,0.30037386713805408,688.18323469273867]
["2017L1",2017,"L1",0.97099999999999997,0.91500000000000004,0.99099999999999999,null,9.1328277106290709,0.29173134922226235,686.15458152873407]
["2018L1",2018,"L1",0.96199999999999997,0.88900000000000001,0.98799999999999999,null,9.0467187826450477,0.28343687719322919,684.22823919549182]
["2019L1",2019,"L1",0.95299999999999996,0.86499999999999999,0.98499999999999999,null,8.9633904179860497,0.27549490987516312,682.40175825774668]
["2020L1",2020,"L1",0.93500000000000005,0.83199999999999996,0.98299999999999998,null,8.7898778408723341,0.26527732780733582,681.08866051092173]
["2021L1",2021,"L1",0.91400000000000003,0.8,0.98199999999999998,null,8.6009856732645176,0.25489145869884378,679.95201031908152]
["2022L1",2022,"L1",0.89400000000000002,0.76700000000000002,0.98,null,8.4048573384853889,0.24456131509508577,678.95252572237632]
["2023L1",2023,"L1",0.872,0.73599999999999999,0.97899999999999998,null,8.2056903682981286,0.2343985879259278,678.06828885732034]
["2024L1",2024,"L1",0.85099999999999998,0.70399999999999996,0.97799999999999998,null,8.0061665661047723,0.22447146591117223,677.28394785720513]
["2025L1",2025,"L1",0.83,0.67400000000000004,0.97699999999999998,null,7.8081680296788702,0.21482502272169648,676.58757181745568]
["2026L1",2026,"L1",0.80900000000000005,0.64500000000000002,0.97599999999999998,null,7.6130796117869322,0.20548990004653461,675.96934626970551]
["2027L1",2027,"L1",0.78900000000000003,0.61699999999999999,0.97499999999999998,null,7.4219445279201892,0.19648682196924272,675.42091812660669]
["2028L1",2028,"L1",0.76900000000000002,0.58899999999999997,0.97499999999999998,null,7.2355554668575035,0.18782926968861438,674.93502294504049]
["2029L1",2029,"L1",0.75900000000000001,0.57399999999999995,0.97399999999999998,null,7.1375832785114159,0.18298710023816125,674.56254224061877]
["2030L1",2030,"L1",0.74099999999999999,0.55100000000000005,0.97299999999999998,null,6.973785768745584,0.17549718879872811,674.18297953013337]
["2010L2",2010,"L2",1.044344180231241,1.1833599789567466,1.0131732854617954,null,9.7133620485368048,0.36343934023881996,699.80556867196549]
["2011L2",2011,"L2",1.0329999999999999,1.0940000000000001,1.01,null,9.605606928927541,0.33613268796268159,697.35106012706069]
["2012L2",2012,"L2",1.0209999999999999,1.0620000000000001,1.006,null,9.5005878369901833,0.32604874116032134,695.01894915442404]
["2013L2",2013,"L2",1.0109999999999999,1.03,1.0029999999999999,null,9.3989130820729248,0.31637607156401037,692.80550549704151]
["2014L2",2014,"L2",1,1,1,null,9.3009203597860335,0.30712492115816614,690.70669224465416]
["2015L2",2015,"L2",0.99,0.97099999999999997,0.997,null,9.2067915669042737,0.29829647136769732,688.71828097943865]
["2016L2",2016,"L2",0.98,0.94399999999999995,0.99399999999999999,null,9.1166101388836704,0.28988630418518485,686.83593608627507]
["2017L2",2017,"L2",0.97099999999999997,0.91800000000000004,0.99199999999999999,null,9.030393582031838,0.28188636640946779,685.05527774242455]
["2018L2",2018,"L2",0.96199999999999997,0.89300000000000002,0.98899999999999999,null,8.9481136311576748,0.27428618644426533,683.3719296041063]
["2019L2",2019,"L2",0.95399999999999996,0.87,0.98699999999999999,null,8.8697095616704686,0.26707367686745542,681.78155517867413]
["2020L2",2020,"L2",0.94599999999999995,0.84699999999999998,0.98499999999999999,null,8.7950974080573143,0.26023568865047531,680.27988563179269]
["2021L2",2021,"L2",0.92,0.80100000000000005,0.98099999999999998,null,8.5544305494759101,0.24599715262329405,677.5018435361975]
["2022L2",2022,"L2",0.89300000000000002,0.755,0.97699999999999998,null,8.3102248192081838,0.23177968428352755,674.74718549410954]
["2023L2",2023,"L2",0.86799999999999999,0.70899999999999996,0.97299999999999998,null,8.0690060900564369,0.21787281906041306,672.06523808230736]
["2024L2",2024,"L2",0.84199999999999997,0.66600000000000004,0.96899999999999997,null,7.833564357472369,0.20439552120517152,669.47554396926296]
["2025L2",2025,"L2",0.81799999999999995,0.623,0.96599999999999997,null,7.6053704993479752,0.19140670889126937,666.98722626216932]
["2026L2",2026,"L2",0.79400000000000004,0.58299999999999996,0.96199999999999997,null,7.3852506135977869,0.17893610329965051,664.60438511952771]
["2027L2",2027,"L2",0.77100000000000002,0.54400000000000004,0.95899999999999996,null,7.1736605239990396,0.16699679037835211,662.32829003134225]
["2028L2",2028,"L2",0.749,0.50700000000000001,0.95599999999999996,null,6.9708224138043553,0.15559147409692006,660.15846763906825]
["2029L2",2029,"L2",0.74399999999999999,0.497,0.95499999999999996,null,6.9198234806723047,0.15254083906746504,659.55597068476709]
["2030L2",2030,"L2",0.72399999999999998,0.46300000000000002,0.95199999999999996,null,6.7324954357147977,0.14206257834889013,657.56874580426904]
["2010L3",2010,"L3",1.0435137734223121,1.1883888137727754,1.0143191258382134,null,9.7963537231651667,0.3664971300736527,704.32889844313877]
["2011L3",2011,"L3",1.0329999999999999,1.099,1.01,null,9.6935872832987648,0.33883342727358218,701.65702146338776]
["2012L3",2012,"L3",1.022,1.0649999999999999,1.0069999999999999,null,9.5904489788193636,0.32836558191016707,699.10962706304417]
["2013L3",2013,"L3",1.0109999999999999,1.032,1.0029999999999999,null,9.4882433597171367,0.31820627117131522,696.68637494997722]
["2014L3",2014,"L3",1,1,1,null,9.3878528225238504,0.30839833379963838,694.3858993697819]
["2015L3",2015,"L3",0.99,0.96899999999999997,0.997,null,9.2898990765868525,0.29896875302085457,692.20603547449457]
["2016L3",2016,"L3",0.97899999999999998,0.94,0.99399999999999999,null,9.1948265496259776,0.28993378378048534,690.14399656422006]
["2017L3",2017,"L3",0.97,0.91200000000000003,0.99099999999999999,null,9.1029514312031949,0.28130199069654127,688.19651596757171]
["2018L3",2018,"L3",0.96,0.88500000000000001,0.98799999999999999,null,9.014493276409036,0.27307622137223164,686.35996240850841]
["2019L3",2019,"L3",0.95099999999999996,0.86,0.98599999999999999,null,8.9295967964691556,0.26525497702674211,684.63043483756019]
["2020L3",2020,"L3",0.94299999999999995,0.83599999999999997,0.98399999999999999,null,8.8483476718336505,0.25783341309570029,683.00384094275137]
["2021L3",2021,"L3",0.92100000000000004,0.79400000000000004,0.98,null,8.6455959849841761,0.2449601807731861,680.45182792423395]
["2022L3",2022,"L3",0.89800000000000002,0.751,0.97599999999999998,null,8.4265525511324579,0.23153715471943886,677.83080184389132]
["2023L3",2023,"L3",0.874,0.70699999999999996,0.97199999999999998,null,8.2011036941848214,0.2180162663530133,675.21756650987879]
["2024L3",2024,"L3",0.84899999999999998,0.66300000000000003,0.96899999999999997,null,7.9741785585802472,0.20461803480923335,672.64858353071111]
["2025L3",2025,"L3",0.82499999999999996,0.621,0.96499999999999997,null,7.7488222287556425,0.19147510342842672,670.14510357594111]
["2026L3",2026,"L3",0.80200000000000005,0.57899999999999996,0.96199999999999997,null,7.5270950676486459,0.17867428624067644,667.72051580253913]
["2027L3",2027,"L3",0.77900000000000003,0.53900000000000003,0.95799999999999996,null,7.3104518962854312,0.16627431995757821,665.38344272403344]
["2028L3",2028,"L3",0.75600000000000001,0.5,0.95499999999999996,null,7.099937065791126,0.15431501089857971,663.13932932531452]
["2029L3",2029,"L3",0.746,0.48199999999999998,0.95299999999999996,null,7.0026430184539921,0.14855755910132781,662.03278205093557]
["2030L3",2030,"L3",0.72599999999999998,0.44800000000000001,0.95099999999999996,null,6.8167014421555718,0.13808747260279036,660.07854870113226]

{"sheet":"Emissieberekening","index":4,"n_rows":1828,"n_cols":12,"rows_kept":1828,"cut":false,"hidden":false,"merged":[]}
["Zoekwaarde","Pluimvaarweg","Scheepstype","Ladingstoestand","Richting","Stof","Emissiefactor (g/km)","Aantal","Afstand","trendfactor",{"$f":"+\"Emissie (gram)\"","v":"Emissie (gram)"}]
[{"$f":"+B2&C2&D2&E2","v":"CEMT 0BIleegbeide"},"CEMT 0","BI","leeg","beide","Fijn stof",6.9008500788216596,{"$f":"VLOOKUP(A2,Begin:Einde,7,FALSE)","v":0},{"$f":"+Afstand","v":1},{"$f":"VLOOKUP(Jaar&L2,Trendfactoren!$A$2:$F$65,(HLOOKUP(F2,Trendfactoren!$A$1:$F$2,2,FALSE)),FALSE)","v":1},{"$f":"+G2*H2*I2*J2","v":0},{"$f":"+VLOOKUP(C2,Scheepstypen!$A$1:$F$44,6,FALSE)","v":"L2"}]
["CEMT 0BIleegbeide","CEMT 0","BI","leeg","beide","NOx",205.61871603558072,{"$f":"VLOOKUP(A3,Begin:Einde,7,FALSE)","v":0},1,{"$f":"VLOOKUP(Jaar&L3,Trendfactoren!$A$2:$F$65,(HLOOKUP(F3,Trendfactoren!$A$1:$F$2,2,FALSE)),FALSE)","v":1},0,{"$f":"+VLOOKUP(C3,Scheepstypen!$A$1:$F$44,6,FALSE)","v":"L2"}]
["CEMT 0BII-1geladenbeide","CEMT 0","BII-1","geladen","beide","Fijn stof",32.082129389842208,{"$f":"VLOOKUP(A4,Begin:Einde,7,FALSE)","v":0},1,{"$f":"VLOOKUP(Jaar&L4,Trendfactoren!$A$2:$F$65,(HLOOKUP(F4,Trendfactoren!$A$1:$F$2,2,FALSE)),FALSE)","v":1},0,{"$f":"+VLOOKUP(C4,Scheepstypen!$A$1:$F$44,6,FALSE)","v":"L2"}]
["CEMT 0BII-1geladenbeide","CEMT 0","BII-1","geladen","beide","NOx",989.53901210864126,{"$f":"VLOOKUP(A5,Begin:Einde,7,FALSE)","v":0},1,{"$f":"VLOOKUP(Jaar&L5,Trendfactoren!$A$2:$F$65,(HLOOKUP(F5,Trendfactoren!$A$1:$F$2,2,FALSE)),FALSE)","v":1},0,{"$f":"+VLOOKUP(C5,Scheepstypen!$A$1:$F$44,6,FALSE)","v":"L2"}]
["CEMT 0BII-1leegbeide","CEMT 0","BII-1","leeg","beide","Fijn stof",15.639503895147667,{"$f":"VLOOKUP(A6,Begin:Einde,7,FALSE)","v":0},1,{"$f":"VLOOKUP(Jaar&L6,Trendfactoren!$A$2:$F$65,(HLOOKUP(F6,Trendfactoren!$A$1:$F$2,2,FALSE)),FALSE)","v":1},0,{"$f":"+VLOOKUP(C6,Scheepstypen!$A$1:$F$44,6,FALSE)","v":"L2"}]
["CEMT 0BII-1leegbeide","CEMT 0","BII-1","leeg","beide","NOx",478.45560787717676,{"$f":"VLOOKUP(A7,Begin:Einde,7,FALSE)","v":0},1,{"$f":"VLOOKUP(Jaar&L7,Trendfactoren!$A$2:$F$65,(HLOOKUP(F7,Trendfactoren!$A$1:$F$2,2,FALSE)),FALSE)","v":1},0,{"$f":"+VLOOKUP(C7,Scheepstypen!$A$1:$F$44,6,FALSE)","v":"L2"}]
["CEMT 0BII-2Bgeladenbeide","CEMT 0","BII-2B","geladen","beide","Fijn stof",99.396962040710562,{"$f":"VLOOKUP(A8,Begin:Einde,7,FALSE)","v":0},1,{"$f":"VLOOKUP(Jaar&L8,Trendfactoren!$A$2:$F$65,(HLOOKUP(F8,Trendfactoren!$A$1:$F$2,2,FALSE)),FALSE)","v":1},0,{"$f":"+VLOOKUP(C8,Scheepstypen!$A$1:$F$44,6,FALSE)","v":"L3"}]
["CEMT 0BII-2Bgeladenbeide","CEMT 0","BII-2B","geladen","beide","NOx",3061.0752552171634,{"$f":"VLOOKUP(A9,Begin:Einde,7,FALSE)","v":0},1,{"$f":"VLOOKUP(Jaar&L9,Trendfactoren!$A$2:$F$65,(HLOOKUP(F9,Trendfactoren!$A$1:$F$2,2,FALSE)),FALSE)","v":1},0,{"$f":"+VLOOKUP(C9,Scheepstypen!$A$1:$F$44,6,FALSE)","v":"L3"}]
["CEMT 0BII-2Bleegbeide","CEMT 0","BII-2B","leeg","beide","Fijn stof",19.115998164504166,{"$f":"VLOOKUP(A10,Begin:Einde,7,FALSE)","v":0},1,{"$f":"VLOOKUP(Jaar&L10,Trendfactoren!$A$2:$F$65,(HLOOKUP(F10,Trendfactoren!$A$1:$F$2,2,FALSE)),FALSE)","v":1},0,{"$f":"+VLOOKUP(C10,Scheepstypen!$A$1:$F$44,6,FALSE)","v":"L3"}]
["CEMT 0BII-2Bleegbeide","CEMT 0","BII-2B","leeg","beide","NOx",526.83647860342035,{"$f":"VLOOKUP(A11,Begin:Einde,7,FALSE)","v":0},1,{"$f":"VLOOKUP(Jaar&L11,Trendfactoren!$A$2:$F$65,(HLOOKUP(F11,Trendfactoren!$A$1:$F$2,2,FALSE)),FALSE)","v":1},0,{"$f":"+VLOOKUP(C11,Scheepstypen!$A$1:$F$44,6,FALSE)","v":"L3"}]
["CEMT 0BII-2Lgeladenbeide","CEMT 0","BII-2L","geladen","beide","Fijn stof",33.044404644397645,{"$f":"VLOOKUP(A12,Begin:Einde,7,FALSE)","v":0},1,{"$f":"VLOOKUP(Jaar&L12,Trendfactoren!$A$2:$F$65,(HLOOKUP(F12,Trendfactoren!$A$1:$F$2,2,FALSE)),FALSE)","v":1},0,{"$f":"+VLOOKUP(C12,Scheepstypen!$A$1:$F$44,6,FALSE)","v":"L3"}]
["CEMT 0BII-2Lgeladenbeide","CEMT 0","BII-2L","geladen","beide","NOx",1017.7251902585679,{"$f":"VLOOKUP(A13,Begin:Einde,7,FALSE)","v":0},1,{"$f":"VLOOKUP(Jaar&L13,Trendfactoren!$A$2:$F$65,(HLOOKUP(F13,Trendfactoren!$A$1:$F$2,2,FALSE)),FALSE)","v":1},0,{"$f":"+VLOOKUP(C13,Scheepstypen!$A$1:$F$44,6,FALSE)","v":"L3"}]
["CEMT 0BII-2Lleegbeide","CEMT 0","BII-2L","leeg","beide","Fijn stof",12.034539245999392,{"$f":"VLOOKUP(A14,Begin:Einde,7,FALSE)","v":0},1,{"$f":"VLOOKUP(Jaar&L14,Trendfactoren!$A$2:$F$65,(HLOOKUP(F14,Trendfactoren!$A$1:$F$2,2,FALSE)),FALSE)","v":1},0,{"$f":"+VLOOKUP(C14,Scheepstypen!$A$1:$F$44,6,FALSE)","v":"L3"}]
["CEMT 0BII-2Lleegbeide","CEMT 0","BII-2L","leeg","beide","NOx",330.0043782334846,{"$f":"VLOOKUP(A15,Begin:Einde,7,FALSE)","v":0},1,{"$f":"VLOOKUP(Jaar&L15,Trendfactoren!$A$2:$F$65,(HLOOKUP(F15,Trendfactoren!$A$1:$F$2,2,FALSE)),FALSE)","v":1},0,{"$f":"+VLOOKUP(C15,Scheepstypen!$A$1:$F$44,6,FALSE)","v":"L3"}]
["CEMT 0BII-4leegbeide","CEMT 0","BII-4","leeg","beide","Fijn stof",38.124237656125686,{"$f":"VLOOKUP(A16,Begin:Einde,7,FALSE)","v":0},1,{"$f":"VLOOKUP(Jaar&L16,Trendfactoren!$A$2:$F$65,(HLOOKUP(F16,Trendfactoren!$A$1:$F$2,2,FALSE)),FALSE)","v":1},0,{"$f":"+VLOOKUP(C16,Scheepstypen!$A$1:$F$44,6,FALSE)","v":"L3"}]
["CEMT 0BII-4leegbeide","CEMT 0","BII-4","leeg","beide","NOx",894.14522777798948,{"$f":"VLOOKUP(A17,Begin:Einde,7,FALSE)","v":0},1,{"$f":"VLOOKUP(Jaar&L17,Trendfactoren!$A$2:$F$65,(HLOOKUP(F17,Trendfactoren!$A$1:$F$2,2,FALSE)),FALSE)","v":1},0,{"$f":"+VLOOKUP(C17,Scheepstypen!$A$1:$F$44,6,FALSE)","v":"L3"}]
["CEMT 0BO1geladenbeide","CEMT 0","BO1","geladen","beide","Fijn stof",7.7667719403703792,{"$f":"VLOOKUP(A18,Begin:Einde,7,FALSE)","v":0},1,{"$f":"VLOOKUP(Jaar&L18,Trendfactoren!$A$2:$F$65,(HLOOKUP(F18,Trendfactoren!$A$1:$F$2,2,FALSE)),FALSE)","v":1},0,{"$f":"+VLOOKUP(C18,Scheepstypen!$A$1:$F$44,6,FALSE)","v":"L1"}]
["CEMT 0BO1geladenbeide","CEMT 0","BO1","geladen","beide","NOx",233.37263485694814,{"$f":"VLOOKUP(A19,Begin:Einde,7,FALSE)","v":0},1,{"$f":"VLOOKUP(Jaar&L19,Trendfactoren!$A$2:$F$65,(HLOOKUP(F19,Trendfactoren!$A$1:$F$2,2,FALSE)),FALSE)","v":1},0,{"$f":"+VLOOKUP(C19,Scheepstypen!$A$1:$F$44,6,FALSE)","v":"L1"}]
["CEMT 0BO1leegbeide","CEMT 0","BO1","leeg","beide","Fijn stof",2.3567365929763691,{"$f":"VLOOKUP(A20,Begin:Einde,7,FALSE)","v":0},1,{"$f":"VLOOKUP(Jaar&L20,Trendfactoren!$A$2:$F$65,(HLOOKUP(F20,Trendfactoren!$A$1:$F$2,2,FALSE)),FALSE)","v":1},0,{"$f":"+VLOOKUP(C20,Scheepstypen!$A$1:$F$44,6,FALSE)","v":"L1"}]
["CEMT 0BO1leegbeide","CEMT 0","BO1","leeg","beide","NOx",70.134515492193046,{"$f":"VLOOKUP(A21,Begin:Einde,7,FALSE)","v":0},1,{"$f":"VLOOKUP(Jaar&L21,Trendfactoren!$A$2:$F$65,(HLOOKUP(F21,Trendfactoren!$A$1:$F$2,2,FALSE)),FALSE)","v":1},0,{"$f":"+VLOOKUP(C21,Scheepstypen!$A$1:$F$44,6,FALSE)","v":"L1"}]
["CEMT 0BO2geladenbeide","CEMT 0","BO2","geladen","beide","Fijn stof",11.143629305748803,{"$f":"VLOOKUP(A22,Begin:Einde,7,FALSE)","v":0},1,{"$f":"VLOOKUP(Jaar&L22,Trendfactoren!$A$2:$F$65,(HLOOKUP(F22,Trendfactoren!$A$1:$F$2,2,FALSE)),FALSE)","v":1},0,{"$f":"+VLOOKUP(C22,Scheepstypen!$A$1:$F$44,6,FALSE)","v":"L1"}]
["CEMT 0BO2geladenbeide","CEMT 0","BO2","geladen","beide","NOx",334.83899783823,{"$f":"VLOOKUP(A23,Begin:Einde,7,FALSE)","v":0},1,{"$f":"VLOOKUP(Jaar&L23,Trendfactoren!$A$2:$F$65,(HLOOKUP(F23,Trendfactoren!$A$1:$F$2,2,FALSE)),FALSE)","v":1},0,{"$f":"+VLOOKUP(C23,Scheepstypen!$A$1:$F$44,6,FALSE)","v":"L1"}]
["CEMT 0BO2leegbeide","CEMT 0","BO2","leeg","beide","Fijn stof",2.8706741505405775,{"$f":"VLOOKUP(A24,Begin:Einde,7,FALSE)","v":0},1,{"$f":"VLOOKUP(Jaar&L24,Trendfactoren!$A$2:$F$65,(HLOOKUP(F24,Trendfactoren!$A$1:$F$2,2,FALSE)),FALSE)","v":1},0,{"$f":"+VLOOKUP(C24,Scheepstypen!$A$1:$F$44,6,FALSE)","v":"L1"}]
["CEMT 0BO2leegbeide","CEMT 0","BO2","leeg","beide","NOx",81.605612475356565,{"$f":"VLOOKUP(A25,Begin:Einde,7,FALSE)","v":0},1,{"$f":"VLOOKUP(Jaar&L25,Trendfactoren!$A$2:$F$65,(HLOOKUP(F25,Trendfactoren!$A$1:$F$2,2,FALSE)),FALSE)","v":1},0,{"$f":"+VLOOKUP(C25,Scheepstypen!$A$1:$F$44,6,FALSE)","v":"L1"}]
["CEMT 0BO3leegbeide","CEMT 0","BO3","leeg","beide","Fijn stof",3.6720595345259812,{"$f":"VLOOKUP(A26,Begin:Einde,7,FALSE)","v":0},1,{"$f":"VLOOKUP(Jaar&L26,Trendfactoren!$A$2:$F$65,(HLOOKUP(F26,Trendfactoren!$A$1:$F$2,2,FALSE)),FALSE)","v":1},0,{"$f":"+VLOOKUP(C26,Scheepstypen!$A$1:$F$44,6,FALSE)","v":"L1"}]
["CEMT 0BO3leegbeide","CEMT 0","BO3","leeg","beide","NOx",104.71250212391762,{"$f":"VLOOKUP(A27,Begin:Einde,7,FALSE)","v":0},1,{"$f":"VLOOKUP(Jaar&L27,Trendfactoren!$A$2:$F$65,(HLOOKUP(F27,Trendfactoren!$A$1:$F$2,2,FALSE)),FALSE)","v":1},0,{"$f":"+VLOOKUP(C27,Scheepstypen!$A$1:$F$44,6,FALSE)","v":"L1"}]
["CEMT 0BO4geladenbeide","CEMT 0","BO4","geladen","beide","Fijn stof",26.352660438873389,{"$f":"VLOOKUP(A28,Begin:Einde,7,FALSE)","v":0},1,{"$f":"VLOOKUP(Jaar&L28,Trendfactoren!$A$2:$F$65,(HLOOKUP(F28,Trendfactoren!$A$1:$F$2,2,FALSE)),FALSE)","v":1},0,{"$f":"+VLOOKUP(C28,Scheepstypen!$A$1:$F$44,6,FALSE)","v":"L1"}]
["CEMT 0BO4geladenbeide","CEMT 0","BO4","geladen","beide","NOx",790.85143113326717,{"$f":"VLOOKUP(A29,Begin:Einde,7,FALSE)","v":0},1,{"$f":"VLOOKUP(Jaar&L29,Trendfactoren!$A$2:$F$65,(HLOOKUP(F29,Trendfactoren!$A$1:$F$2,2,FALSE)),FALSE)","v":1},0,{"$f":"+VLOOKUP(C29,Scheepstypen!$A$1:$F$44,6,FALSE)","v":"L1"}]
["CEMT 0BO4leegbeide","CEMT 0","BO4","leeg","beide","Fijn stof",3.8892820166355371,{"$f":"VLOOKUP(A30,Begin:Einde,7,FALSE)","v":0},1,{"$f":"VLOOKUP(Jaar&L30,Trendfactoren!$A$2:$F$65,(HLOOKUP(F30,Trendfactoren!$A$1:$F$2,2,FALSE)),FALSE)","v":1},0,{"$f":"+VLOOKUP(C30,Scheepstypen!$A$1:$F$44,6,FALSE)","v":"L1"}]
["CEMT 0BO4leegbeide","CEMT 0","BO4","leeg","beide","NOx",103.49133019553841,{"$f":"VLOOKUP(A31,Begin:Einde,7,FALSE)","v":0},1,{"$f":"VLOOKUP(Jaar&L31,Trendfactoren!$A$2:$F$65,(HLOOKUP(F31,Trendfactoren!$A$1:$F$2,2,FALSE)),FALSE)","v":1},0,{"$f":"+VLOOKUP(C31,Scheepstypen!$A$1:$F$44,6,FALSE)","v":"L1"}]
["CEMT 0C2bgeladenbeide","CEMT 0","C2b","geladen","beide","Fijn stof",25.22013545969941,{"$f":"VLOOKUP(A32,Begin:Einde,7,FALSE)","v":0},1,{"$f":"VLOOKUP(Jaar&L32,Trendfactoren!$A$2:$F$65,(HLOOKUP(F32,Trendfactoren!$A$1:$F$2,2,FALSE)),FALSE)","v":1},0,{"$f":"+VLOOKUP(C32,Scheepstypen!$A$1:$F$44,6,FALSE)","v":"L2"}]
["CEMT 0C2bgeladenbeide","CEMT 0","C2b","geladen","beide","NOx",691.88579376236487,{"$f":"VLOOKUP(A33,Begin:Einde,7,FALSE)","v":0},1,{"$f":"VLOOKUP(Jaar&L33,Trendfactoren!$A$2:$F$65,(HLOOKUP(F33,Trendfactoren!$A$1:$F$2,2,FALSE)),FALSE)","v":1},0,{"$f":"+VLOOKUP(C33,Scheepstypen!$A$1:$F$44,6,FALSE)","v":"L2"}]
["CEMT 0C2bleegbeide","CEMT 0","C2b","leeg","beide","Fijn stof",12.183154411150662,{"$f":"VLOOKUP(A34,Begin:Einde,7,FALSE)","v":0},1,{"$f":"VLOOKUP(Jaar&L34,Trendfactoren!$A$2:$F$65,(HLOOKUP(F34,Trendfactoren!$A$1:$F$2,2,FALSE)),FALSE)","v":1},0,{"$f":"+VLOOKUP(C34,Scheepstypen!$A$1:$F$44,6,FALSE)","v":"L2"}]
["CEMT 0C2bleegbeide","CEMT 0","C2b","leeg","beide","NOx",307.61508572570312,{"$f":"VLOOKUP(A35,Begin:Einde,7,FALSE)","v":0},1,{"$f":"VLOOKUP(Jaar&L35,Trendfactoren!$A$2:$F$65,(HLOOKUP(F35,Trendfactoren!$A$1:$F$2,2,FALSE)),FALSE)","v":1},0,{"$f":"+VLOOKUP(C35,Scheepstypen!$A$1:$F$44,6,FALSE)","v":"L2"}]
["CEMT 0C2lgeladenbeide","CEMT 0","C2l","geladen","beide","Fijn stof",13.658381854827297,{"$f":"VLOOKUP(A36,Begin:Einde,7,FALSE)","v":0},1,{"$f":"VLOOKUP(Jaar&L36,Trendfactoren!$A$2:$F$65,(HLOOKUP(F36,Trendfactoren!$A$1:$F$2,2,FALSE)),FALSE)","v":1},0,{"$f":"+VLOOKUP(C36,Scheepstypen!$A$1:$F$44,6,FALSE)","v":"L2"}]
["CEMT 0C2lgeladenbeide","CEMT 0","C2l","geladen","beide","NOx",318.42790384625823,{"$f":"VLOOKUP(A37,Begin:Einde,7,FALSE)","v":0},1,{"$f":"VLOOKUP(Jaar&L37,Trendfactoren!$A$2:$F$65,(HLOOKUP(F37,Trendfactoren!$A$1:$F$2,2,FALSE)),FALSE)","v":1},0,{"$f":"+VLOOKUP(C37,Scheepstypen!$A$1:$F$44,6,FALSE)","v":"L2"}]
["CEMT 0C2lleegbeide","CEMT 0","C2l","leeg","beide","Fijn stof",11.356630308751958,{"$f":"VLOOKUP(A38,Begin:Einde,7,FALSE)","v":0},1,{"$f":"VLOOKUP(Jaar&L38,Trendfactoren!$A$2:$F$65,(HLOOKUP(F38,Trendfactoren!$A$1:$F$2,2,FALSE)),FALSE)","v":1},0,{"$f":"+VLOOKUP(C38,Scheepstypen!$A$1:$F$44,6,FALSE)","v":"L2"}]
["CEMT 0C2lleegbeide","CEMT 0","C2l","leeg","beide","NOx",264.76547678996599,{"$f":"VLOOKUP(A39,Begin:Einde,7,FALSE)","v":0},1,{"$f":"VLOOKUP(Jaar&L39,Trendfactoren!$A$2:$F$65,(HLOOKUP(F39,Trendfactoren!$A$1:$F$2,2,FALSE)),FALSE)","v":1},0,{"$f":"+VLOOKUP(C39,Scheepstypen!$A$1:$F$44,6,FALSE)","v":"L2"}]
["CEMT 0C3bgeladenbeide","CEMT 0","C3b","geladen","beide","Fijn stof",66.192661446181788,{"$f":"VLOOKUP(A40,Begin:Einde,7,FALSE)","v":0},1,{"$f":"VLOOKUP(Jaar&L40,Trendfactoren!$A$2:$F$65,(HLOOKUP(F40,Trendfactoren!$A$1:$F$2,2,FALSE)),FALSE)","v":1},0,{"$f":"+VLOOKUP(C40,Scheepstypen!$A$1:$F$44,6,FALSE)","v":"L3"}]
["CEMT 0C3bgeladenbeide","CEMT 0","C3b","geladen","beide","NOx",2058.5370905179725,{"$f":"VLOOKUP(A41,Begin:Einde,7,FALSE)","v":0},1,{"$f":"VLOOKUP(Jaar&L41,Trendfactoren!$A$2:$F$65,(HLOOKUP(F41,Trendfactoren!$A$1:$F$2,2,FALSE)),FALSE)","v":1},0,{"$f":"+VLOOKUP(C41,Scheepstypen!$A$1:$F$44,6,FALSE)","v":"L3"}]
["CEMT 0C3lgeladenbeide","CEMT 0","C3l","geladen","beide","Fijn stof",23.93135832978145,{"$f":"VLOOKUP(A42,Begin:Einde,7,FALSE)","v":0},1,{"$f":"VLOOKUP(Jaar&L42,Trendfactoren!$A$2:$F$65,(HLOOKUP(F42,Trendfactoren!$A$1:$F$2,2,FALSE)),FALSE)","v":1},0,{"$f":"+VLOOKUP(C42,Scheepstypen!$A$1:$F$44,6,FALSE)","v":"L3"}]
["CEMT 0C3lgeladenbeide","CEMT 0","C3l","geladen","beide","NOx",701.81708145198752,{"$f":"VLOOKUP(A43,Begin:Einde,7,FALSE)","v":0},1,{"$f":"VLOOKUP(Jaar&L43,Trendfactoren!$A$2:$F$65,(HLOOKUP(F43,Trendfactoren!$A$1:$F$2,2,FALSE)),FALSE)","v":1},0,{"$f":"+VLOOKUP(C43,Scheepstypen!$A$1:$F$44,6,FALSE)","v":"L3"}]
["CEMT 0C3lleegbeide","CEMT 0","C3l","leeg","beide","Fijn stof",10.672521850863268,{"$f":"VLOOKUP(A44,Begin:Einde,7,FALSE)","v":0},1,{"$f":"VLOOKUP(Jaar&L44,Trendfactoren!$A$2:$F$65,(HLOOKUP(F44,Trendfactoren!$A$1:$F$2,2,FALSE)),FALSE)","v":1},0,{"$f":"+VLOOKUP(C44,Scheepstypen!$A$1:$F$44,6,FALSE)","v":"L3"}]
["CEMT 0C3lleegbeide","CEMT 0","C3l","leeg","beide","NOx",291.99044603366491,{"$f":"VLOOKUP(A45,Begin:Einde,7,FALSE)","v":0},1,{"$f":"VLOOKUP(Jaar&L45,Trendfactoren!$A$2:$F$65,(HLOOKUP(F45,Trendfactoren!$A$1:$F$2,2,FALSE)),FALSE)","v":1},0,{"$f":"+VLOOKUP(C45,Scheepstypen!$A$1:$F$44,6,FALSE)","v":"L3"}]
["CEMT 0C4geladenbeide","CEMT 0","C4","geladen","beide","Fijn stof",178.42333398576352,{"$f":"VLOOKUP(A46,Begin:Einde,7,FALSE)","v":0},1,{"$f":"VLOOKUP(Jaar&L46,Trendfactoren!$A$2:$F$65,(HLOOKUP(F46,Trendfactoren!$A$1:$F$2,2,FALSE)),FALSE)","v":1},0,{"$f":"+VLOOKUP(C46,Scheepstypen!$A$1:$F$44,6,FALSE)","v":"L3"}]
["CEMT 0C4geladenbeide","CEMT 0","C4","geladen","beide","NOx",5534.55315477573,{"$f":"VLOOKUP(A47,Begin:Einde,7,FALSE)","v":0},1,{"$f":"VLOOKUP(Jaar&L47,Trendfactoren!$A$2:$F$65,(HLOOKUP(F47,Trendfactoren!$A$1:$F$2,2,FALSE)),FALSE)","v":1},0,{"$f":"+VLOOKUP(C47,Scheepstypen!$A$1:$F$44,6,FALSE)","v":"L3"}]
["CEMT 0M0geladenbeide","CEMT 0","M0","geladen","beide","Fijn stof",1.6057343331532163,{"$f":"VLOOKUP(A48,Begin:Einde,7,FALSE)","v":0},1,{"$f":"VLOOKUP(Jaar&L48,Trendfactoren!$A$2:$F$65,(HLOOKUP(F48,Trendfactoren!$A$1:$F$2,2,FALSE)),FALSE)","v":1},0,{"$f":"+VLOOKUP(C48,Scheepstypen!$A$1:$F$44,6,FALSE)","v":"L1"}]
["CEMT 0M0geladenbeide","CEMT 0","M0","geladen","beide","NOx",47.30111491637178,{"$f":"VLOOKUP(A49,Begin:Einde,7,FALSE)","v":0},1,{"$f":"VLOOKUP(Jaar&L49,Trendfactoren!$A$2:$F$65,(HLOOKUP(F49,Trendfactoren!$A$1:$F$2,2,FALSE)),FALSE)","v":1},0,{"$f":"+VLOOKUP(C49,Scheepstypen!$A$1:$F$44,6,FALSE)","v":"L1"}]
["CEMT 0M0leegbeide","CEMT 0","M0","leeg","beide","Fijn stof",1.0132615285140785,{"$f":"VLOOKUP(A50,Begin:Einde,7,FALSE)","v":0},1,{"$f":"VLOOKUP(Jaar&L50,Trendfactoren!$A$2:$F$65,(HLOOKUP(F50,Trendfactoren!$A$1:$F$2,2,FALSE)),FALSE)","v":1},0,{"$f":"+VLOOKUP(C50,Scheepstypen!$A$1:$F$44,6,FALSE)","v":"L1"}]
["CEMT 0M0leegbeide","CEMT 0","M0","leeg","beide","NOx",24.989728150212152,{"$f":"VLOOKUP(A51,Begin:Einde,7,FALSE)","v":0},1,{"$f":"VLOOKUP(Jaar&L51,Trendfactoren!$A$2:$F$65,(HLOOKUP(F51,Trendfactoren!$A$1:$F$2,2,FALSE)),FALSE)","v":1},0,{"$f":"+VLOOKUP(C51,Scheepstypen!$A$1:$F$44,6,FALSE)","v":"L1"}]
["CEMT 0M1geladenbeide","CEMT 0","M1","geladen","beide","Fijn stof",6.619643609146717,{"$f":"VLOOKUP(A52,Begin:Einde,7,FALSE)","v":0},1,{"$f":"VLOOKUP(Jaar&L52,Trendfactoren!$A$2:$F$65,(HLOOKUP(F52,Trendfactoren!$A$1:$F$2,2,FALSE)),FALSE)","v":1},0,{"$f":"+VLOOKUP(C52,Scheepstypen!$A$1:$F$44,6,FALSE)","v":"L1"}]
["CEMT 0M1geladenbeide","CEMT 0","M1","geladen","beide","NOx",198.90421435586242,{"$f":"VLOOKUP(A53,Begin:Einde,7,FALSE)","v":0},1,{"$f":"VLOOKUP(Jaar&L53,Trendfactoren!$A$2:$F$65,(HLOOKUP(F53,Trendfactoren!$A$1:$F$2,2,FALSE)),FALSE)","v":1},0,{"$f":"+VLOOKUP(C53,Scheepstypen!$A$1:$F$44,6,FALSE)","v":"L1"}]
["CEMT 0M1leegbeide","CEMT 0","M1","leeg","beide","Fijn stof",1.7459081020922218,{"$f":"VLOOKUP(A54,Begin:Einde,7,FALSE)","v":0},1,{"$f":"VLOOKUP(Jaar&L54,Trendfactoren!$A$2:$F$65,(HLOOKUP(F54,Trendfactoren!$A$1:$F$2,2,FALSE)),FALSE)","v":1},0,{"$f":"+VLOOKUP(C54,Scheepstypen!$A$1:$F$44,6,FALSE)","v":"L1"}]
["CEMT 0M1leegbeide","CEMT 0","M1","leeg","beide","NOx",50.618655639585043,{"$f":"VLOOKUP(A55,Begin:Einde,7,FALSE)","v":0},1,{"$f":"VLOOKUP(Jaar&L55,Trendfactoren!$A$2:$F$65,(HLOOKUP(F55,Trendfactoren!$A$1:$F$2,2,FALSE)),FALSE)","v":1},0,{"$f":"+VLOOKUP(C55,Scheepstypen!$A$1:$F$44,6,FALSE)","v":"L1"}]
["CEMT 0M10geladenbeide","CEMT 0","M10","geladen","beide","Fijn stof",55.565805633273094,{"$f":"VLOOKUP(A56,Begin:Einde,7,FALSE)","v":0},1,{"$f":"VLOOKUP(Jaar&L56,Trendfactoren!$A$2:$F$65,(HLOOKUP(F56,Trendfactoren!$A$1:$F$2,2,FALSE)),FALSE)","v":1},0,{"$f":"+VLOOKUP(C56,Scheepstypen!$A$1:$F$44,6,FALSE)","v":"L3"}]
["CEMT 0M10geladenbeide","CEMT 0","M10","geladen","beide","NOx",1727.0966673403013,{"$f":"VLOOKUP(A57,Begin:Einde,7,FALSE)","v":0},1,{"$f":"VLOOKUP(Jaar&L57,Trendfactoren!$A$2:$F$65,(HLOOKUP(F57,Trendfactoren!$A$1:$F$2,2,FALSE)),FALSE)","v":1},0,{"$f":"+VLOOKUP(C57,Scheepstypen!$A$1:$F$44,6,FALSE)","v":"L3"}]
["CEMT 0M10leegbeide","CEMT 0","M10","leeg","beide","Fijn stof",11.293796932724161,{"$f":"VLOOKUP(A58,Begin:Einde,7,FALSE)","v":0},1,{"$f":"VLOOKUP(Jaar&L58,Trendfactoren!$A$2:$F$65,(HLOOKUP(F58,Trendfactoren!$A$1:$F$2,2,FALSE)),FALSE)","v":1},0,{"$f":"+VLOOKUP(C58,Scheepstypen!$A$1:$F$44,6,FALSE)","v":"L3"}]
["CEMT 0M10leegbeide","CEMT 0","M10","leeg","beide","NOx",325.39641873076027,{"$f":"VLOOKUP(A59,Begin:Einde,7,FALSE)","v":0},1,{"$f":"VLOOKUP(Jaar&L59,Trendfactoren!$A$2:$F$65,(HLOOKUP(F59,Trendfactoren!$A$1:$F$2,2,FALSE)),FALSE)","v":1},0,{"$f":"+VLOOKUP(C59,Scheepstypen!$A$1:$F$44,6,FALSE)","v":"L3"}]
["CEMT 0M11leegbeide","CEMT 0","M11","leeg","beide","Fijn stof",11.455901637479149,{"$f":"VLOOKUP(A60,Begin:Einde,7,FALSE)","v":0},1,{"$f":"VLOOKUP(Jaar&L60,Trendfactoren!$A$2:$F$65,(HLOOKUP(F60,Trendfactoren!$A$1:$F$2,2,FALSE)),FALSE)","v":1},0,{"$f":"+VLOOKUP(C60,Scheepstypen!$A$1:$F$44,6,FALSE)","v":"L3"}]
["CEMT 0M11leegbeide","CEMT 0","M11","leeg","beide","NOx",292.30666062129706,{"$f":"VLOOKUP(A61,Begin:Einde,7,FALSE)","v":0},1,{"$f":"VLOOKUP(Jaar&L61,Trendfactoren!$A$2:$F$65,(HLOOKUP(F61,Trendfactoren!$A$1:$F$2,2,FALSE)),FALSE)","v":1},0,{"$f":"+VLOOKUP(C61,Scheepstypen!$A$1:$F$44,6,FALSE)","v":"L3"}]
["CEMT 0M12geladenbeide","CEMT 0","M12","geladen","beide","Fijn stof",51.082038559418628,{"$f":"VLOOKUP(A62,Begin:Einde,7,FALSE)","v":0},1,{"$f":"VLOOKUP(Jaar&L62,Trendfactoren!$A$2:$F$65,(HLOOKUP(F62,Trendfactoren!$A$1:$F$2,2,FALSE)),FALSE)","v":1},0,{"$f":"+VLOOKUP(C62,Scheepstypen!$A$1:$F$44,6,FALSE)","v":"L3"}]
["CEMT 0M12geladenbeide","CEMT 0","M12","geladen","beide","NOx",1588.6092013285888,{"$f":"VLOOKUP(A63,Begin:Einde,7,FALSE)","v":0},{"$f":"+Afstand","v":1},{"$f":"VLOOKUP(Jaar&L63,Trendfactoren!$A$2:$F$65,(HLOOKUP(F63,Trendfactoren!$A$1:$F$2,2,FALSE)),FALSE)","v":1},{"$f":"+G63*H63*I63*J63","v":0},{"$f":"+VLOOKUP(C63,Scheepstypen!$A$1:$F$44,6,FALSE)","v":"L3"}]
["CEMT 0M2geladenbeide","CEMT 0","M2","geladen","beide","Fijn stof",4.9705102960172942,{"$f":"VLOOKUP(A64,Begin:Einde,7,FALSE)","v":0},1,{"$f":"VLOOKUP(Jaar&L64,Trendfactoren!$A$2:$F$65,(HLOOKUP(F64,Trendfactoren!$A$1:$F$2,2,FALSE)),FALSE)","v":1},0,{"$f":"+VLOOKUP(C64,Scheepstypen!$A$1:$F$44,6,FALSE)","v":"L1"}]
[{"$f":"+B65&C65&D65&E65","v":"CEMT 0M2geladenbeide"},"CEMT 0","M2","geladen","beide","NOx",147.94991006727435,{"$f":"VLOOKUP(A65,Begin:Einde,7,FALSE)","v":0},1,{"$f":"VLOOKUP(Jaar&L65,Trendfactoren!$A$2:$F$65,(HLOOKUP(F65,Trendfactoren!$A$1:$F$2,2,FALSE)),FALSE)","v":1},0,{"$f":"+VLOOKUP(C65,Scheepstypen!$A$1:$F$44,6,FALSE)","v":"L1"}]
["CEMT 0M2leegbeide","CEMT 0","M2","leeg","beide","Fijn stof",7.4051815761057505,{"$f":"VLOOKUP(A66,Begin:Einde,7,FALSE)","v":0},1,{"$f":"VLOOKUP(Jaar&L66,Trendfactoren!$A$2:$F$65,(HLOOKUP(F66,Trendfactoren!$A$1:$F$2,2,FALSE)),FALSE)","v":1},0,{"$f":"+VLOOKUP(C66,Scheepstypen!$A$1:$F$44,6,FALSE)","v":"L1"}]
["CEMT 0M2leegbeide","CEMT 0","M2","leeg","beide","NOx",222.29449503936436,{"$f":"VLOOKUP(A67,Begin:Einde,7,FALSE)","v":0},1,{"$f":"VLOOKUP(Jaar&L67,Trendfactoren!$A$2:$F$65,(HLOOKUP(F67,Trendfactoren!$A$1:$F$2,2,FALSE)),FALSE)","v":1},0,{"$f":"+VLOOKUP(C67,Scheepstypen!$A$1:$F$44,6,FALSE)","v":"L1"}]
["CEMT 0M3geladenbeide","CEMT 0","M3","geladen","beide","Fijn stof",6.0729470122279681,{"$f":"VLOOKUP(A68,Begin:Einde,7,FALSE)","v":0},1,{"$f":"VLOOKUP(Jaar&L68,Trendfactoren!$A$2:$F$65,(HLOOKUP(F68,Trendfactoren!$A$1:$F$2,2,FALSE)),FALSE)","v":1},0,{"$f":"+VLOOKUP(C68,Scheepstypen!$A$1:$F$44,6,FALSE)","v":"L1"}]
["CEMT 0M3geladenbeide","CEMT 0","M3","geladen","beide","NOx",179.1347173260414,{"$f":"VLOOKUP(A69,Begin:Einde,7,FALSE)","v":0},1,{"$f":"VLOOKUP(Jaar&L69,Trendfactoren!$A$2:$F$65,(HLOOKUP(F69,Trendfactoren!$A$1:$F$2,2,FALSE)),FALSE)","v":1},0,{"$f":"+VLOOKUP(C69,Scheepstypen!$A$1:$F$44,6,FALSE)","v":"L1"}]
["CEMT 0M3leegbeide","CEMT 0","M3","leeg","beide","Fijn stof",2.9646727005493991,{"$f":"VLOOKUP(A70,Begin:Einde,7,FALSE)","v":0},1,{"$f":"VLOOKUP(Jaar&L70,Trendfactoren!$A$2:$F$65,(HLOOKUP(F70,Trendfactoren!$A$1:$F$2,2,FALSE)),FALSE)","v":1},0,{"$f":"+VLOOKUP(C70,Scheepstypen!$A$1:$F$44,6,FALSE)","v":"L1"}]
["CEMT 0M3leegbeide","CEMT 0","M3","leeg","beide","NOx",73.10246709673342,{"$f":"VLOOKUP(A71,Begin:Einde,7,FALSE)","v":0},1,{"$f":"VLOOKUP(Jaar&L71,Trendfactoren!$A$2:$F$65,(HLOOKUP(F71,Trendfactoren!$A$1:$F$2,2,FALSE)),FALSE)","v":1},0,{"$f":"+VLOOKUP(C71,Scheepstypen!$A$1:$F$44,6,FALSE)","v":"L1"}]
["CEMT 0M4geladenbeide","CEMT 0","M4","geladen","beide","Fijn stof",10.53132332872906,{"$f":"VLOOKUP(A72,Begin:Einde,7,FALSE)","v":0},1,{"$f":"VLOOKUP(Jaar&L72,Trendfactoren!$A$2:$F$65,(HLOOKUP(F72,Trendfactoren!$A$1:$F$2,2,FALSE)),FALSE)","v":1},0,{"$f":"+VLOOKUP(C72,Scheepstypen!$A$1:$F$44,6,FALSE)","v":"L1"}]
["CEMT 0M4geladenbeide","CEMT 0","M4","geladen","beide","NOx",314.49332047461758,{"$f":"VLOOKUP(A73,Begin:Einde,7,FALSE)","v":0},1,{"$f":"VLOOKUP(Jaar&L73,Trendfactoren!$A$2:$F$65,(HLOOKUP(F73,Trendfactoren!$A$1:$F$2,2,FALSE)),FALSE)","v":1},0,{"$f":"+VLOOKUP(C73,Scheepstypen!$A$1:$F$44,6,FALSE)","v":"L1"}]
["CEMT 0M4leegbeide","CEMT 0","M4","leeg","beide","Fijn stof",4.4859655135765326,{"$f":"VLOOKUP(A74,Begin:Einde,7,FALSE)","v":0},1,{"$f":"VLOOKUP(Jaar&L74,Trendfactoren!$A$2:$F$65,(HLOOKUP(F74,Trendfactoren!$A$1:$F$2,2,FALSE)),FALSE)","v":1},0,{"$f":"+VLOOKUP(C74,Scheepstypen!$A$1:$F$44,6,FALSE)","v":"L1"}]
["CEMT 0M4leegbeide","CEMT 0","M4","leeg","beide","NOx",127.42524561278017,{"$f":"VLOOKUP(A75,Begin:Einde,7,FALSE)","v":0},1,{"$f":"VLOOKUP(Jaar&L75,Trendfactoren!$A$2:$F$65,(HLOOKUP(F75,Trendfactoren!$A$1:$F$2,2,FALSE)),FALSE)","v":1},0,{"$f":"+VLOOKUP(C75,Scheepstypen!$A$1:$F$44,6,FALSE)","v":"L1"}]
["CEMT 0M5geladenbeide","CEMT 0","M5","geladen","beide","Fijn stof",8.2780429137859581,{"$f":"VLOOKUP(A76,Begin:Einde,7,FALSE)","v":0},1,{"$f":"VLOOKUP(Jaar&L76,Trendfactoren!$A$2:$F$65,(HLOOKUP(F76,Trendfactoren!$A$1:$F$2,2,FALSE)),FALSE)","v":1},0,{"$f":"+VLOOKUP(C76,Scheepstypen!$A$1:$F$44,6,FALSE)","v":"L2"}]
["CEMT 0M5geladenbeide","CEMT 0","M5","geladen","beide","NOx",247.54980979089061,{"$f":"VLOOKUP(A77,Begin:Einde,7,FALSE)","v":0},1,{"$f":"VLOOKUP(Jaar&L77,Trendfactoren!$A$2:$F$65,(HLOOKUP(F77,Trendfactoren!$A$1:$F$2,2,FALSE)),FALSE)","v":1},0,{"$f":"+VLOOKUP(C77,Scheepstypen!$A$1:$F$44,6,FALSE)","v":"L2"}]
["CEMT 0M5leegbeide","CEMT 0","M5","leeg","beide","Fijn stof",2.2633425153192928,{"$f":"VLOOKUP(A78,Begin:Einde,7,FALSE)","v":0},1,{"$f":"VLOOKUP(Jaar&L78,Trendfactoren!$A$2:$F$65,(HLOOKUP(F78,Trendfactoren!$A$1:$F$2,2,FALSE)),FALSE)","v":1},0,{"$f":"+VLOOKUP(C78,Scheepstypen!$A$1:$F$44,6,FALSE)","v":"L2"}]
["CEMT 0M5leegbeide","CEMT 0","M5","leeg","beide","NOx",52.766969067021492,{"$f":"VLOOKUP(A79,Begin:Einde,7,FALSE)","v":0},1,{"$f":"VLOOKUP(Jaar&L79,Trendfactoren!$A$2:$F$65,(HLOOKUP(F79,Trendfactoren!$A$1:$F$2,2,FALSE)),FALSE)","v":1},0,{"$f":"+VLOOKUP(C79,Scheepstypen!$A$1:$F$44,6,FALSE)","v":"L2"}]
["CEMT 0M6geladenbeide","CEMT 0","M6","geladen","beide","Fijn stof",12.159720284482448,{"$f":"VLOOKUP(A80,Begin:Einde,7,FALSE)","v":0},1,{"$f":"VLOOKUP(Jaar&L80,Trendfactoren!$A$2:$F$65,(HLOOKUP(F80,Trendfactoren!$A$1:$F$2,2,FALSE)),FALSE)","v":1},0,{"$f":"+VLOOKUP(C80,Scheepstypen!$A$1:$F$44,6,FALSE)","v":"L2"}]
["CEMT 0M6geladenbeide","CEMT 0","M6","geladen","beide","NOx",375.60920282960586,{"$f":"VLOOKUP(A81,Begin:Einde,7,FALSE)","v":0},1,{"$f":"VLOOKUP(Jaar&L81,Trendfactoren!$A$2:$F$65,(HLOOKUP(F81,Trendfactoren!$A$1:$F$2,2,FALSE)),FALSE)","v":1},0,{"$f":"+VLOOKUP(C81,Scheepstypen!$A$1:$F$44,6,FALSE)","v":"L2"}]
["CEMT 0M6leegbeide","CEMT 0","M6","leeg","beide","Fijn stof",5.7616382112303244,{"$f":"VLOOKUP(A82,Begin:Einde,7,FALSE)","v":0},1,{"$f":"VLOOKUP(Jaar&L82,Trendfactoren!$A$2:$F$65,(HLOOKUP(F82,Trendfactoren!$A$1:$F$2,2,FALSE)),FALSE)","v":1},0,{"$f":"+VLOOKUP(C82,Scheepstypen!$A$1:$F$44,6,FALSE)","v":"L2"}]
["CEMT 0M6leegbeide","CEMT 0","M6","leeg","beide","NOx",168.82202213450202,{"$f":"VLOOKUP(A83,Begin:Einde,7,FALSE)","v":0},1,{"$f":"VLOOKUP(Jaar&L83,Trendfactoren!$A$2:$F$65,(HLOOKUP(F83,Trendfactoren!$A$1:$F$2,2,FALSE)),FALSE)","v":1},0,{"$f":"+VLOOKUP(C83,Scheepstypen!$A$1:$F$44,6,FALSE)","v":"L2"}]
["CEMT 0M7geladenbeide","CEMT 0","M7","geladen","beide","Fijn stof",18.870204945962477,{"$f":"VLOOKUP(A84,Begin:Einde,7,FALSE)","v":0},1,{"$f":"VLOOKUP(Jaar&L84,Trendfactoren!$A$2:$F$65,(HLOOKUP(F84,Trendfactoren!$A$1:$F$2,2,FALSE)),FALSE)","v":1},0,{"$f":"+VLOOKUP(C84,Scheepstypen!$A$1:$F$44,6,FALSE)","v":"L2"}]
["CEMT 0M7geladenbeide","CEMT 0","M7","geladen","beide","NOx",574.47641289309229,{"$f":"VLOOKUP(A85,Begin:Einde,7,FALSE)","v":0},1,{"$f":"VLOOKUP(Jaar&L85,Trendfactoren!$A$2:$F$65,(HLOOKUP(F85,Trendfactoren!$A$1:$F$2,2,FALSE)),FALSE)","v":1},0,{"$f":"+VLOOKUP(C85,Scheepstypen!$A$1:$F$44,6,FALSE)","v":"L2"}]
["CEMT 0M7leegbeide","CEMT 0","M7","leeg","beide","Fijn stof",3.1896117905278785,{"$f":"VLOOKUP(A86,Begin:Einde,7,FALSE)","v":0},1,{"$f":"VLOOKUP(Jaar&L86,Trendfactoren!$A$2:$F$65,(HLOOKUP(F86,Trendfactoren!$A$1:$F$2,2,FALSE)),FALSE)","v":1},0,{"$f":"+VLOOKUP(C86,Scheepstypen!$A$1:$F$44,6,FALSE)","v":"L2"}]
["CEMT 0M7leegbeide","CEMT 0","M7","leeg","beide","NOx",74.361766081546179,{"$f":"VLOOKUP(A87,Begin:Einde,7,FALSE)","v":0},1,{"$f":"VLOOKUP(Jaar&L87,Trendfactoren!$A$2:$F$65,(HLOOKUP(F87,Trendfactoren!$A$1:$F$2,2,FALSE)),FALSE)","v":1},0,{"$f":"+VLOOKUP(C87,Scheepstypen!$A$1:$F$44,6,FALSE)","v":"L2"}]
["CEMT 0M8geladenbeide","CEMT 0","M8","geladen","beide","Fijn stof",19.671235171293485,{"$f":"VLOOKUP(A88,Begin:Einde,7,FALSE)","v":0},1,{"$f":"VLOOKUP(Jaar&L88,Trendfactoren!$A$2:$F$65,(HLOOKUP(F88,Trendfactoren!$A$1:$F$2,2,FALSE)),FALSE)","v":1},0,{"$f":"+VLOOKUP(C88,Scheepstypen!$A$1:$F$44,6,FALSE)","v":"L3"}]
["CEMT 0M8geladenbeide","CEMT 0","M8","geladen","beide","NOx",599.77368050385189,{"$f":"VLOOKUP(A89,Begin:Einde,7,FALSE)","v":0},1,{"$f":"VLOOKUP(Jaar&L89,Trendfactoren!$A$2:$F$65,(HLOOKUP(F89,Trendfactoren!$A$1:$F$2,2,FALSE)),FALSE)","v":1},0,{"$f":"+VLOOKUP(C89,Scheepstypen!$A$1:$F$44,6,FALSE)","v":"L3"}]
["CEMT 0M8leegbeide","CEMT 0","M8","leeg","beide","Fijn stof",7.943848945920859,{"$f":"VLOOKUP(A90,Begin:Einde,7,FALSE)","v":0},1,{"$f":"VLOOKUP(Jaar&L90,Trendfactoren!$A$2:$F$65,(HLOOKUP(F90,Trendfactoren!$A$1:$F$2,2,FALSE)),FALSE)","v":1},0,{"$f":"+VLOOKUP(C90,Scheepstypen!$A$1:$F$44,6,FALSE)","v":"L3"}]
["CEMT 0M8leegbeide","CEMT 0","M8","leeg","beide","NOx",219.06274150074844,{"$f":"VLOOKUP(A91,Begin:Einde,7,FALSE)","v":0},1,{"$f":"VLOOKUP(Jaar&L91,Trendfactoren!$A$2:$F$65,(HLOOKUP(F91,Trendfactoren!$A$1:$F$2,2,FALSE)),FALSE)","v":1},0,{"$f":"+VLOOKUP(C91,Scheepstypen!$A$1:$F$44,6,FALSE)","v":"L3"}]
["CEMT 0M9geladenbeide","CEMT 0","M9","geladen","beide","Fijn stof",18.293901459242935,{"$f":"VLOOKUP(A92,Begin:Einde,7,FALSE)","v":0},1,{"$f":"VLOOKUP(Jaar&L92,Trendfactoren!$A$2:$F$65,(HLOOKUP(F92,Trendfactoren!$A$1:$F$2,2,FALSE)),FALSE)","v":1},0,{"$f":"+VLOOKUP(C92,Scheepstypen!$A$1:$F$44,6,FALSE)","v":"L3"}]
["CEMT 0M9geladenbeide","CEMT 0","M9","geladen","beide","NOx",503.02231896610925,{"$f":"VLOOKUP(A93,Begin:Einde,7,FALSE)","v":0},1,{"$f":"VLOOKUP(Jaar&L93,Trendfactoren!$A$2:$F$65,(HLOOKUP(F93,Trendfactoren!$A$1:$F$2,2,FALSE)),FALSE)","v":1},0,{"$f":"+VLOOKUP(C93,Scheepstypen!$A$1:$F$44,6,FALSE)","v":"L3"}]
["CEMT 0M9leegbeide","CEMT 0","M9","leeg","beide","Fijn stof",11.328798277986728,{"$f":"VLOOKUP(A94,Begin:Einde,7,FALSE)","v":0},1,{"$f":"VLOOKUP(Jaar&L94,Trendfactoren!$A$2:$F$65,(HLOOKUP(F94,Trendfactoren!$A$1:$F$2,2,FALSE)),FALSE)","v":1},0,{"$f":"+VLOOKUP(C94,Scheepstypen!$A$1:$F$44,6,FALSE)","v":"L3"}]
["CEMT 0M9leegbeide","CEMT 0","M9","leeg","beide","NOx",287.97944232987453,{"$f":"VLOOKUP(A95,Begin:Einde,7,FALSE)","v":0},1,{"$f":"VLOOKUP(Jaar&L95,Trendfactoren!$A$2:$F$65,(HLOOKUP(F95,Trendfactoren!$A$1:$F$2,2,FALSE)),FALSE)","v":1},0,{"$f":"+VLOOKUP(C95,Scheepstypen!$A$1:$F$44,6,FALSE)","v":"L3"}]
["CEMT IBIgeladenbeide","CEMT I","BI","geladen","beide","Fijn stof",27.95844476553928,{"$f":"VLOOKUP(A96,Begin:Einde,7,FALSE)","v":0},1,{"$f":"VLOOKUP(Jaar&L96,Trendfactoren!$A$2:$F$65,(HLOOKUP(F96,Trendfactoren!$A$1:$F$2,2,FALSE)),FALSE)","v":1},0,{"$f":"+VLOOKUP(C96,Scheepstypen!$A$1:$F$44,6,FALSE)","v":"L2"}]
["CEMT IBIgeladenbeide","CEMT I","BI","geladen","beide","NOx",863.16531465357184,{"$f":"VLOOKUP(A97,Begin:Einde,7,FALSE)","v":0},1,{"$f":"VLOOKUP(Jaar&L97,Trendfactoren!$A$2:$F$65,(HLOOKUP(F97,Trendfactoren!$A$1:$F$2,2,FALSE)),FALSE)","v":1},0,{"$f":"+VLOOKUP(C97,Scheepstypen!$A$1:$F$44,6,FALSE)","v":"L2"}]
["CEMT IBIleegbeide","CEMT I","BI","leeg","beide","Fijn stof",6.9858066131439749,{"$f":"VLOOKUP(A98,Begin:Einde,7,FALSE)","v":0},1,{"$f":"VLOOKUP(Jaar&L98,Trendfactoren!$A$2:$F$65,(HLOOKUP(F98,Trendfactoren!$A$1:$F$2,2,FALSE)),FALSE)","v":1},0,{"$f":"+VLOOKUP(C98,Scheepstypen!$A$1:$F$44,6,FALSE)","v":"L2"}]
["CEMT IBIleegbeide","CEMT I","BI","leeg","beide","NOx",205.9235296439698,{"$f":"VLOOKUP(A99,Begin:Einde,7,FALSE)","v":0},1,{"$f":"VLOOKUP(Jaar&L99,Trendfactoren!$A$2:$F$65,(HLOOKUP(F99,Trendfactoren!$A$1:$F$2,2,FALSE)),FALSE)","v":1},0,{"$f":"+VLOOKUP(C99,Scheepstypen!$A$1:$F$44,6,FALSE)","v":"L2"}]
["CEMT IBII-1geladenbeide","CEMT I","BII-1","geladen","beide","Fijn stof",15.06593489457822,{"$f":"VLOOKUP(A100,Begin:Einde,7,FALSE)","v":0},1,{"$f":"VLOOKUP(Jaar&L100,Trendfactoren!$A$2:$F$65,(HLOOKUP(F100,Trendfactoren!$A$1:$F$2,2,FALSE)),FALSE)","v":1},0,{"$f":"+VLOOKUP(C100,Scheepstypen!$A$1:$F$44,6,FALSE)","v":"L2"}]
["CEMT IBII-1geladenbeide","CEMT I","BII-1","geladen","beide","NOx",380.86343576935622,{"$f":"VLOOKUP(A101,Begin:Einde,7,FALSE)","v":0},1,{"$f":"VLOOKUP(Jaar&L101,Trendfactoren!$A$2:$F$65,(HLOOKUP(F101,Trendfactoren!$A$1:$F$2,2,FALSE)),FALSE)","v":1},0,{"$f":"+VLOOKUP(C101,Scheepstypen!$A$1:$F$44,6,FALSE)","v":"L2"}]
["CEMT IBII-1leegbeide","CEMT I","BII-1","leeg","beide","Fijn stof",14.171352590842382,{"$f":"VLOOKUP(A102,Begin:Einde,7,FALSE)","v":0},1,{"$f":"VLOOKUP(Jaar&L102,Trendfactoren!$A$2:$F$65,(HLOOKUP(F102,Trendfactoren!$A$1:$F$2,2,FALSE)),FALSE)","v":1},0,{"$f":"+VLOOKUP(C102,Scheepstypen!$A$1:$F$44,6,FALSE)","v":"L2"}]
["CEMT IBII-1leegbeide","CEMT I","BII-1","leeg","beide","NOx",424.87700874804221,{"$f":"VLOOKUP(A103,Begin:Einde,7,FALSE)","v":0},1,{"$f":"VLOOKUP(Jaar&L103,Trendfactoren!$A$2:$F$65,(HLOOKUP(F103,Trendfactoren!$A$1:$F$2,2,FALSE)),FALSE)","v":1},0,{"$f":"+VLOOKUP(C103,Scheepstypen!$A$1:$F$44,6,FALSE)","v":"L2"}]
["CEMT IBII-2Bleegbeide","CEMT I","BII-2B","leeg","beide","Fijn stof",19.783552864161173,{"$f":"VLOOKUP(A104,Begin:Einde,7,FALSE)","v":0},1,{"$f":"VLOOKUP(Jaar&L104,Trendfactoren!$A$2:$F$65,(HLOOKUP(F104,Trendfactoren!$A$1:$F$2,2,FALSE)),FALSE)","v":1},0,{"$f":"+VLOOKUP(C104,Scheepstypen!$A$1:$F$44,6,FALSE)","v":"L3"}]
["CEMT IBII-2Bleegbeide","CEMT I","BII-2B","leeg","beide","NOx",503.52830659571686,{"$f":"VLOOKUP(A105,Begin:Einde,7,FALSE)","v":0},1,{"$f":"VLOOKUP(Jaar&L105,Trendfactoren!$A$2:$F$65,(HLOOKUP(F105,Trendfactoren!$A$1:$F$2,2,FALSE)),FALSE)","v":1},0,{"$f":"+VLOOKUP(C105,Scheepstypen!$A$1:$F$44,6,FALSE)","v":"L3"}]
["CEMT IBII-2Lgeladenbeide","CEMT I","BII-2L","geladen","beide","Fijn stof",21.407329397272747,{"$f":"VLOOKUP(A106,Begin:Einde,7,FALSE)","v":0},1,{"$f":"VLOOKUP(Jaar&L106,Trendfactoren!$A$2:$F$65,(HLOOKUP(F106,Trendfactoren!$A$1:$F$2,2,FALSE)),FALSE)","v":1},0,{"$f":"+VLOOKUP(C106,Scheepstypen!$A$1:$F$44,6,FALSE)","v":"L3"}]
["CEMT IBII-2Lgeladenbeide","CEMT I","BII-2L","geladen","beide","NOx",502.07591277480458,{"$f":"VLOOKUP(A107,Begin:Einde,7,FALSE)","v":0},1,{"$f":"VLOOKUP(Jaar&L107,Trendfactoren!$A$2:$F$65,(HLOOKUP(F107,Trendfactoren!$A$1:$F$2,2,FALSE)),FALSE)","v":1},0,{"$f":"+VLOOKUP(C107,Scheepstypen!$A$1:$F$44,6,FALSE)","v":"L3"}]
["CEMT IBII-2Lleegbeide","CEMT I","BII-2L","leeg","beide","Fijn stof",15.994949331721809,{"$f":"VLOOKUP(A108,Begin:Einde,7,FALSE)","v":0},1,{"$f":"VLOOKUP(Jaar&L108,Trendfactoren!$A$2:$F$65,(HLOOKUP(F108,Trendfactoren!$A$1:$F$2,2,FALSE)),FALSE)","v":1},0,{"$f":"+VLOOKUP(C108,Scheepstypen!$A$1:$F$44,6,FALSE)","v":"L3"}]
["CEMT IBII-2Lleegbeide","CEMT I","BII-2L","leeg","beide","NOx",451.95588900927976,{"$f":"VLOOKUP(A109,Begin:Einde,7,FALSE)","v":0},1,{"$f":"VLOOKUP(Jaar&L109,Trendfactoren!$A$2:$F$65,(HLOOKUP(F109,Trendfactoren!$A$1:$F$2,2,FALSE)),FALSE)","v":1},0,{"$f":"+VLOOKUP(C109,Scheepstypen!$A$1:$F$44,6,FALSE)","v":"L3"}]
["CEMT IBO1leegbeide","CEMT I","BO1","leeg","beide","Fijn stof",3.0002710524415299,{"$f":"VLOOKUP(A110,Begin:Einde,7,FALSE)","v":0},1,{"$f":"VLOOKUP(Jaar&L110,Trendfactoren!$A$2:$F$65,(HLOOKUP(F110,Trendfactoren!$A$1:$F$2,2,FALSE)),FALSE)","v":1},0,{"$f":"+VLOOKUP(C110,Scheepstypen!$A$1:$F$44,6,FALSE)","v":"L1"}]
["CEMT IBO1leegbeide","CEMT I","BO1","leeg","beide","NOx",89.573619931022478,{"$f":"VLOOKUP(A111,Begin:Einde,7,FALSE)","v":0},1,{"$f":"VLOOKUP(Jaar&L111,Trendfactoren!$A$2:$F$65,(HLOOKUP(F111,Trendfactoren!$A$1:$F$2,2,FALSE)),FALSE)","v":1},0,{"$f":"+VLOOKUP(C111,Scheepstypen!$A$1:$F$44,6,FALSE)","v":"L1"}]
["CEMT IBO2geladenbeide","CEMT I","BO2","geladen","beide","Fijn stof",5.7327951912207569,{"$f":"VLOOKUP(A112,Begin:Einde,7,FALSE)","v":0},1,{"$f":"VLOOKUP(Jaar&L112,Trendfactoren!$A$2:$F$65,(HLOOKUP(F112,Trendfactoren!$A$1:$F$2,2,FALSE)),FALSE)","v":1},0,{"$f":"+VLOOKUP(C112,Scheepstypen!$A$1:$F$44,6,FALSE)","v":"L1"}]
["CEMT IBO2geladenbeide","CEMT I","BO2","geladen","beide","NOx",168.55355087608061,{"$f":"VLOOKUP(A113,Begin:Einde,7,FALSE)","v":0},1,{"$f":"VLOOKUP(Jaar&L113,Trendfactoren!$A$2:$F$65,(HLOOKUP(F113,Trendfactoren!$A$1:$F$2,2,FALSE)),FALSE)","v":1},0,{"$f":"+VLOOKUP(C113,Scheepstypen!$A$1:$F$44,6,FALSE)","v":"L1"}]
["CEMT IBO2leegbeide","CEMT I","BO2","leeg","beide","Fijn stof",3.428055255241774,{"$f":"VLOOKUP(A114,Begin:Einde,7,FALSE)","v":0},1,{"$f":"VLOOKUP(Jaar&L114,Trendfactoren!$A$2:$F$65,(HLOOKUP(F114,Trendfactoren!$A$1:$F$2,2,FALSE)),FALSE)","v":1},0,{"$f":"+VLOOKUP(C114,Scheepstypen!$A$1:$F$44,6,FALSE)","v":"L1"}]
["CEMT IBO2leegbeide","CEMT I","BO2","leeg","beide","NOx",100.56980968364564,{"$f":"VLOOKUP(A115,Begin:Einde,7,FALSE)","v":0},1,{"$f":"VLOOKUP(Jaar&L115,Trendfactoren!$A$2:$F$65,(HLOOKUP(F115,Trendfactoren!$A$1:$F$2,2,FALSE)),FALSE)","v":1},0,{"$f":"+VLOOKUP(C115,Scheepstypen!$A$1:$F$44,6,FALSE)","v":"L1"}]
["CEMT IBO3geladenbeide","CEMT I","BO3","geladen","beide","Fijn stof",8.192599306604647,{"$f":"VLOOKUP(A116,Begin:Einde,7,FALSE)","v":0},1,{"$f":"VLOOKUP(Jaar&L116,Trendfactoren!$A$2:$F$65,(HLOOKUP(F116,Trendfactoren!$A$1:$F$2,2,FALSE)),FALSE)","v":1},0,{"$f":"+VLOOKUP(C116,Scheepstypen!$A$1:$F$44,6,FALSE)","v":"L1"}]
["CEMT IBO3geladenbeide","CEMT I","BO3","geladen","beide","NOx",210.28968218399166,{"$f":"VLOOKUP(A117,Begin:Einde,7,FALSE)","v":0},1,{"$f":"VLOOKUP(Jaar&L117,Trendfactoren!$A$2:$F$65,(HLOOKUP(F117,Trendfactoren!$A$1:$F$2,2,FALSE)),FALSE)","v":1},0,{"$f":"+VLOOKUP(C117,Scheepstypen!$A$1:$F$44,6,FALSE)","v":"L1"}]
["CEMT IBO3leegbeide","CEMT I","BO3","leeg","beide","Fijn stof",4.3807086806811117,{"$f":"VLOOKUP(A118,Begin:Einde,7,FALSE)","v":0},1,{"$f":"VLOOKUP(Jaar&L118,Trendfactoren!$A$2:$F$65,(HLOOKUP(F118,Trendfactoren!$A$1:$F$2,2,FALSE)),FALSE)","v":1},0,{"$f":"+VLOOKUP(C118,Scheepstypen!$A$1:$F$44,6,FALSE)","v":"L1"}]
["CEMT IBO3leegbeide","CEMT I","BO3","leeg","beide","NOx",125.93728336612094,{"$f":"VLOOKUP(A119,Begin:Einde,7,FALSE)","v":0},1,{"$f":"VLOOKUP(Jaar&L119,Trendfactoren!$A$2:$F$65,(HLOOKUP(F119,Trendfactoren!$A$1:$F$2,2,FALSE)),FALSE)","v":1},0,{"$f":"+VLOOKUP(C119,Scheepstypen!$A$1:$F$44,6,FALSE)","v":"L1"}]
["CEMT IBO4geladenbeide","CEMT I","BO4","geladen","beide","Fijn stof",7.998997521809839,{"$f":"VLOOKUP(A120,Begin:Einde,7,FALSE)","v":0},1,{"$f":"VLOOKUP(Jaar&L120,Trendfactoren!$A$2:$F$65,(HLOOKUP(F120,Trendfactoren!$A$1:$F$2,2,FALSE)),FALSE)","v":1},0,{"$f":"+VLOOKUP(C120,Scheepstypen!$A$1:$F$44,6,FALSE)","v":"L1"}]
["CEMT IBO4geladenbeide","CEMT I","BO4","geladen","beide","NOx",212.56289048399145,{"$f":"VLOOKUP(A121,Begin:Einde,7,FALSE)","v":0},1,{"$f":"VLOOKUP(Jaar&L121,Trendfactoren!$A$2:$F$65,(HLOOKUP(F121,Trendfactoren!$A$1:$F$2,2,FALSE)),FALSE)","v":1},0,{"$f":"+VLOOKUP(C121,Scheepstypen!$A$1:$F$44,6,FALSE)","v":"L1"}]
["CEMT IBO4leegbeide","CEMT I","BO4","leeg","beide","Fijn stof",5.1930955877780685,{"$f":"VLOOKUP(A122,Begin:Einde,7,FALSE)","v":0},1,{"$f":"VLOOKUP(Jaar&L122,Trendfactoren!$A$2:$F$65,(HLOOKUP(F122,Trendfactoren!$A$1:$F$2,2,FALSE)),FALSE)","v":1},0,{"$f":"+VLOOKUP(C122,Scheepstypen!$A$1:$F$44,6,FALSE)","v":"L1"}]
["CEMT IBO4leegbeide","CEMT I","BO4","leeg","beide","NOx",145.94918947133615,{"$f":"VLOOKUP(A123,Begin:Einde,7,FALSE)","v":0},1,{"$f":"VLOOKUP(Jaar&L123,Trendfactoren!$A$2:$F$65,(HLOOKUP(F123,Trendfactoren!$A$1:$F$2,2,FALSE)),FALSE)","v":1},0,{"$f":"+VLOOKUP(C123,Scheepstypen!$A$1:$F$44,6,FALSE)","v":"L1"}]
["CEMT IC1bleegbeide","CEMT I","C1b","leeg","beide","Fijn stof",5.2176039445449716,{"$f":"VLOOKUP(A124,Begin:Einde,7,FALSE)","v":0},1,{"$f":"VLOOKUP(Jaar&L124,Trendfactoren!$A$2:$F$65,(HLOOKUP(F124,Trendfactoren!$A$1:$F$2,2,FALSE)),FALSE)","v":1},0,{"$f":"+VLOOKUP(C124,Scheepstypen!$A$1:$F$44,6,FALSE)","v":"L1"}]
["CEMT IC1bleegbeide","CEMT I","C1b","leeg","beide","NOx",155.31616285523859,{"$f":"VLOOKUP(A125,Begin:Einde,7,FALSE)","v":0},1,{"$f":"VLOOKUP(Jaar&L125,Trendfactoren!$A$2:$F$65,(HLOOKUP(F125,Trendfactoren!$A$1:$F$2,2,FALSE)),FALSE)","v":1},0,{"$f":"+VLOOKUP(C125,Scheepstypen!$A$1:$F$44,6,FALSE)","v":"L1"}]
["CEMT IC3lgeladenbeide","CEMT I","C3l","geladen","beide","Fijn stof",17.370765552798918,{"$f":"VLOOKUP(A126,Begin:Einde,7,FALSE)","v":0},1,{"$f":"VLOOKUP(Jaar&L126,Trendfactoren!$A$2:$F$65,(HLOOKUP(F126,Trendfactoren!$A$1:$F$2,2,FALSE)),FALSE)","v":1},0,{"$f":"+VLOOKUP(C126,Scheepstypen!$A$1:$F$44,6,FALSE)","v":"L3"}]
["CEMT IC3lgeladenbeide","CEMT I","C3l","geladen","beide","NOx",440.27258260873617,{"$f":"VLOOKUP(A127,Begin:Einde,7,FALSE)","v":0},{"$f":"+Afstand","v":1},{"$f":"VLOOKUP(Jaar&L127,Trendfactoren!$A$2:$F$65,(HLOOKUP(F127,Trendfactoren!$A$1:$F$2,2,FALSE)),FALSE)","v":1},{"$f":"+G127*H127*I127*J127","v":0},{"$f":"+VLOOKUP(C127,Scheepstypen!$A$1:$F$44,6,FALSE)","v":"L3"}]
["CEMT IC3lleegbeide","CEMT I","C3l","leeg","beide","Fijn stof",13.352222981359956,{"$f":"VLOOKUP(A128,Begin:Einde,7,FALSE)","v":0},1,{"$f":"VLOOKUP(Jaar&L128,Trendfactoren!$A$2:$F$65,(HLOOKUP(F128,Trendfactoren!$A$1:$F$2,2,FALSE)),FALSE)","v":1},0,{"$f":"+VLOOKUP(C128,Scheepstypen!$A$1:$F$44,6,FALSE)","v":"L3"}]
[{"$f":"+B129&C129&D129&E129","v":"CEMT IC3lleegbeide"},"CEMT I","C3l","leeg","beide","NOx",376.98477534525279,{"$f":"VLOOKUP(A129,Begin:Einde,7,FALSE)","v":0},1,{"$f":"VLOOKUP(Jaar&L129,Trendfactoren!$A$2:$F$65,(HLOOKUP(F129,Trendfactoren!$A$1:$F$2,2,FALSE)),FALSE)","v":1},0,{"$f":"+VLOOKUP(C129,Scheepstypen!$A$1:$F$44,6,FALSE)","v":"L3"}]
["CEMT IC4geladenbeide","CEMT I","C4","geladen","beide","Fijn stof",8.0234993425372085,{"$f":"VLOOKUP(A130,Begin:Einde,7,FALSE)","v":0},1,{"$f":"VLOOKUP(Jaar&L130,Trendfactoren!$A$2:$F$65,(HLOOKUP(F130,Trendfactoren!$A$1:$F$2,2,FALSE)),FALSE)","v":1},0,{"$f":"+VLOOKUP(C130,Scheepstypen!$A$1:$F$44,6,FALSE)","v":"L3"}]
["CEMT IC4geladenbeide","CEMT I","C4","geladen","beide","NOx",188.17880928975779,{"$f":"VLOOKUP(A131,Begin:Einde,7,FALSE)","v":0},1,{"$f":"VLOOKUP(Jaar&L131,Trendfactoren!$A$2:$F$65,(HLOOKUP(F131,Trendfactoren!$A$1:$F$2,2,FALSE)),FALSE)","v":1},0,{"$f":"+VLOOKUP(C131,Scheepstypen!$A$1:$F$44,6,FALSE)","v":"L3"}]
["CEMT IM0geladenbeide","CEMT I","M0","geladen","beide","Fijn stof",1.6395820966919501,{"$f":"VLOOKUP(A132,Begin:Einde,7,FALSE)","v":0},1,{"$f":"VLOOKUP(Jaar&L132,Trendfactoren!$A$2:$F$65,(HLOOKUP(F132,Trendfactoren!$A$1:$F$2,2,FALSE)),FALSE)","v":1},0,{"$f":"+VLOOKUP(C132,Scheepstypen!$A$1:$F$44,6,FALSE)","v":"L1"}]
["CEMT IM0geladenbeide","CEMT I","M0","geladen","beide","NOx",47.921602579355728,{"$f":"VLOOKUP(A133,Begin:Einde,7,FALSE)","v":0},1,{"$f":"VLOOKUP(Jaar&L133,Trendfactoren!$A$2:$F$65,(HLOOKUP(F133,Trendfactoren!$A$1:$F$2,2,FALSE)),FALSE)","v":1},0,{"$f":"+VLOOKUP(C133,Scheepstypen!$A$1:$F$44,6,FALSE)","v":"L1"}]
["CEMT IM0leegbeide","CEMT I","M0","leeg","beide","Fijn stof",0.83546102335166617,{"$f":"VLOOKUP(A134,Begin:Einde,7,FALSE)","v":0},1,{"$f":"VLOOKUP(Jaar&L134,Trendfactoren!$A$2:$F$65,(HLOOKUP(F134,Trendfactoren!$A$1:$F$2,2,FALSE)),FALSE)","v":1},0,{"$f":"+VLOOKUP(C134,Scheepstypen!$A$1:$F$44,6,FALSE)","v":"L1"}]
["CEMT IM0leegbeide","CEMT I","M0","leeg","beide","NOx",20.503795127083713,{"$f":"VLOOKUP(A135,Begin:Einde,7,FALSE)","v":0},1,{"$f":"VLOOKUP(Jaar&L135,Trendfactoren!$A$2:$F$65,(HLOOKUP(F135,Trendfactoren!$A$1:$F$2,2,FALSE)),FALSE)","v":1},0,{"$f":"+VLOOKUP(C135,Scheepstypen!$A$1:$F$44,6,FALSE)","v":"L1"}]
["CEMT IM1geladenbeide","CEMT I","M1","geladen","beide","Fijn stof",2.3367719658073365,{"$f":"VLOOKUP(A136,Begin:Einde,7,FALSE)","v":0},1,{"$f":"VLOOKUP(Jaar&L136,Trendfactoren!$A$2:$F$65,(HLOOKUP(F136,Trendfactoren!$A$1:$F$2,2,FALSE)),FALSE)","v":1},0,{"$f":"+VLOOKUP(C136,Scheepstypen!$A$1:$F$44,6,FALSE)","v":"L1"}]
["CEMT IM1geladenbeide","CEMT I","M1","geladen","beide","NOx",62.12002064562747,{"$f":"VLOOKUP(A137,Begin:Einde,7,FALSE)","v":0},1,{"$f":"VLOOKUP(Jaar&L137,Trendfactoren!$A$2:$F$65,(HLOOKUP(F137,Trendfactoren!$A$1:$F$2,2,FALSE)),FALSE)","v":1},0,{"$f":"+VLOOKUP(C137,Scheepstypen!$A$1:$F$44,6,FALSE)","v":"L1"}]
["CEMT IM1leegbeide","CEMT I","M1","leeg","beide","Fijn stof",1.4655283757633035,{"$f":"VLOOKUP(A138,Begin:Einde,7,FALSE)","v":0},1,{"$f":"VLOOKUP(Jaar&L138,Trendfactoren!$A$2:$F$65,(HLOOKUP(F138,Trendfactoren!$A$1:$F$2,2,FALSE)),FALSE)","v":1},0,{"$f":"+VLOOKUP(C138,Scheepstypen!$A$1:$F$44,6,FALSE)","v":"L1"}]
["CEMT IM1leegbeide","CEMT I","M1","leeg","beide","NOx",39.906122911667858,{"$f":"VLOOKUP(A139,Begin:Einde,7,FALSE)","v":0},1,{"$f":"VLOOKUP(Jaar&L139,Trendfactoren!$A$2:$F$65,(HLOOKUP(F139,Trendfactoren!$A$1:$F$2,2,FALSE)),FALSE)","v":1},0,{"$f":"+VLOOKUP(C139,Scheepstypen!$A$1:$F$44,6,FALSE)","v":"L1"}]
["CEMT IM10leegbeide","CEMT I","M10","leeg","beide","Fijn stof",10.220583955348459,{"$f":"VLOOKUP(A140,Begin:Einde,7,FALSE)","v":0},1,{"$f":"VLOOKUP(Jaar&L140,Trendfactoren!$A$2:$F$65,(HLOOKUP(F140,Trendfactoren!$A$1:$F$2,2,FALSE)),FALSE)","v":1},0,{"$f":"+VLOOKUP(C140,Scheepstypen!$A$1:$F$44,6,FALSE)","v":"L3"}]
["CEMT IM10leegbeide","CEMT I","M10","leeg","beide","NOx",282.20703407596659,{"$f":"VLOOKUP(A141,Begin:Einde,7,FALSE)","v":0},1,{"$f":"VLOOKUP(Jaar&L141,Trendfactoren!$A$2:$F$65,(HLOOKUP(F141,Trendfactoren!$A$1:$F$2,2,FALSE)),FALSE)","v":1},0,{"$f":"+VLOOKUP(C141,Scheepstypen!$A$1:$F$44,6,FALSE)","v":"L3"}]
["CEMT IM11geladenbeide","CEMT I","M11","geladen","beide","Fijn stof",20.032705296134374,{"$f":"VLOOKUP(A142,Begin:Einde,7,FALSE)","v":0},1,{"$f":"VLOOKUP(Jaar&L142,Trendfactoren!$A$2:$F$65,(HLOOKUP(F142,Trendfactoren!$A$1:$F$2,2,FALSE)),FALSE)","v":1},0,{"$f":"+VLOOKUP(C142,Scheepstypen!$A$1:$F$44,6,FALSE)","v":"L3"}]
["CEMT IM11geladenbeide","CEMT I","M11","geladen","beide","NOx",469.83622339116641,{"$f":"VLOOKUP(A143,Begin:Einde,7,FALSE)","v":0},1,{"$f":"VLOOKUP(Jaar&L143,Trendfactoren!$A$2:$F$65,(HLOOKUP(F143,Trendfactoren!$A$1:$F$2,2,FALSE)),FALSE)","v":1},0,{"$f":"+VLOOKUP(C143,Scheepstypen!$A$1:$F$44,6,FALSE)","v":"L3"}]
["CEMT IM2geladenbeide","CEMT I","M2","geladen","beide","Fijn stof",3.3311771841239421,{"$f":"VLOOKUP(A144,Begin:Einde,7,FALSE)","v":0},1,{"$f":"VLOOKUP(Jaar&L144,Trendfactoren!$A$2:$F$65,(HLOOKUP(F144,Trendfactoren!$A$1:$F$2,2,FALSE)),FALSE)","v":1},0,{"$f":"+VLOOKUP(C144,Scheepstypen!$A$1:$F$44,6,FALSE)","v":"L1"}]
["CEMT IM2geladenbeide","CEMT I","M2","geladen","beide","NOx",88.417540702235641,{"$f":"VLOOKUP(A145,Begin:Einde,7,FALSE)","v":0},1,{"$f":"VLOOKUP(Jaar&L145,Trendfactoren!$A$2:$F$65,(HLOOKUP(F145,Trendfactoren!$A$1:$F$2,2,FALSE)),FALSE)","v":1},0,{"$f":"+VLOOKUP(C145,Scheepstypen!$A$1:$F$44,6,FALSE)","v":"L1"}]
["CEMT IM2leegbeide","CEMT I","M2","leeg","beide","Fijn stof",2.2437423880097045,{"$f":"VLOOKUP(A146,Begin:Einde,7,FALSE)","v":0},1,{"$f":"VLOOKUP(Jaar&L146,Trendfactoren!$A$2:$F$65,(HLOOKUP(F146,Trendfactoren!$A$1:$F$2,2,FALSE)),FALSE)","v":1},0,{"$f":"+VLOOKUP(C146,Scheepstypen!$A$1:$F$44,6,FALSE)","v":"L1"}]
["CEMT IM2leegbeide","CEMT I","M2","leeg","beide","NOx",59.827230457292508,{"$f":"VLOOKUP(A147,Begin:Einde,7,FALSE)","v":0},1,{"$f":"VLOOKUP(Jaar&L147,Trendfactoren!$A$2:$F$65,(HLOOKUP(F147,Trendfactoren!$A$1:$F$2,2,FALSE)),FALSE)","v":1},0,{"$f":"+VLOOKUP(C147,Scheepstypen!$A$1:$F$44,6,FALSE)","v":"L1"}]
["CEMT IM3geladenbeide","CEMT I","M3","geladen","beide","Fijn stof",9.1937575277657597,{"$f":"VLOOKUP(A148,Begin:Einde,7,FALSE)","v":0},1,{"$f":"VLOOKUP(Jaar&L148,Trendfactoren!$A$2:$F$65,(HLOOKUP(F148,Trendfactoren!$A$1:$F$2,2,FALSE)),FALSE)","v":1},0,{"$f":"+VLOOKUP(C148,Scheepstypen!$A$1:$F$44,6,FALSE)","v":"L1"}]
["CEMT IM3geladenbeide","CEMT I","M3","geladen","beide","NOx",275.89245000008663,{"$f":"VLOOKUP(A149,Begin:Einde,7,FALSE)","v":0},1,{"$f":"VLOOKUP(Jaar&L149,Trendfactoren!$A$2:$F$65,(HLOOKUP(F149,Trendfactoren!$A$1:$F$2,2,FALSE)),FALSE)","v":1},0,{"$f":"+VLOOKUP(C149,Scheepstypen!$A$1:$F$44,6,FALSE)","v":"L1"}]
["CEMT IM3leegbeide","CEMT I","M3","leeg","beide","Fijn stof",5.0969915216099437,{"$f":"VLOOKUP(A150,Begin:Einde,7,FALSE)","v":0},1,{"$f":"VLOOKUP(Jaar&L150,Trendfactoren!$A$2:$F$65,(HLOOKUP(F150,Trendfactoren!$A$1:$F$2,2,FALSE)),FALSE)","v":1},0,{"$f":"+VLOOKUP(C150,Scheepstypen!$A$1:$F$44,6,FALSE)","v":"L1"}]
["CEMT IM3leegbeide","CEMT I","M3","leeg","beide","NOx",150.97597647030349,{"$f":"VLOOKUP(A151,Begin:Einde,7,FALSE)","v":0},1,{"$f":"VLOOKUP(Jaar&L151,Trendfactoren!$A$2:$F$65,(HLOOKUP(F151,Trendfactoren!$A$1:$F$2,2,FALSE)),FALSE)","v":1},0,{"$f":"+VLOOKUP(C151,Scheepstypen!$A$1:$F$44,6,FALSE)","v":"L1"}]
["CEMT IM4geladenbeide","CEMT I","M4","geladen","beide","Fijn stof",12.559517857600474,{"$f":"VLOOKUP(A152,Begin:Einde,7,FALSE)","v":0},1,{"$f":"VLOOKUP(Jaar&L152,Trendfactoren!$A$2:$F$65,(HLOOKUP(F152,Trendfactoren!$A$1:$F$2,2,FALSE)),FALSE)","v":1},0,{"$f":"+VLOOKUP(C152,Scheepstypen!$A$1:$F$44,6,FALSE)","v":"L1"}]
["CEMT IM4geladenbeide","CEMT I","M4","geladen","beide","NOx",377.38628535561878,{"$f":"VLOOKUP(A153,Begin:Einde,7,FALSE)","v":0},1,{"$f":"VLOOKUP(Jaar&L153,Trendfactoren!$A$2:$F$65,(HLOOKUP(F153,Trendfactoren!$A$1:$F$2,2,FALSE)),FALSE)","v":1},0,{"$f":"+VLOOKUP(C153,Scheepstypen!$A$1:$F$44,6,FALSE)","v":"L1"}]
["CEMT IM4leegbeide","CEMT I","M4","leeg","beide","Fijn stof",8.1353870235467465,{"$f":"VLOOKUP(A154,Begin:Einde,7,FALSE)","v":0},1,{"$f":"VLOOKUP(Jaar&L154,Trendfactoren!$A$2:$F$65,(HLOOKUP(F154,Trendfactoren!$A$1:$F$2,2,FALSE)),FALSE)","v":1},0,{"$f":"+VLOOKUP(C154,Scheepstypen!$A$1:$F$44,6,FALSE)","v":"L1"}]
["CEMT IM4leegbeide","CEMT I","M4","leeg","beide","NOx",242.04653501493996,{"$f":"VLOOKUP(A155,Begin:Einde,7,FALSE)","v":0},1,{"$f":"VLOOKUP(Jaar&L155,Trendfactoren!$A$2:$F$65,(HLOOKUP(F155,Trendfactoren!$A$1:$F$2,2,FALSE)),FALSE)","v":1},0,{"$f":"+VLOOKUP(C155,Scheepstypen!$A$1:$F$44,6,FALSE)","v":"L1"}]
["CEMT IM5geladenbeide","CEMT I","M5","geladen","beide","Fijn stof",9.1559723204284538,{"$f":"VLOOKUP(A156,Begin:Einde,7,FALSE)","v":0},1,{"$f":"VLOOKUP(Jaar&L156,Trendfactoren!$A$2:$F$65,(HLOOKUP(F156,Trendfactoren!$A$1:$F$2,2,FALSE)),FALSE)","v":1},0,{"$f":"+VLOOKUP(C156,Scheepstypen!$A$1:$F$44,6,FALSE)","v":"L2"}]
["CEMT IM5geladenbeide","CEMT I","M5","geladen","beide","NOx",277.21176929717677,{"$f":"VLOOKUP(A157,Begin:Einde,7,FALSE)","v":0},1,{"$f":"VLOOKUP(Jaar&L157,Trendfactoren!$A$2:$F$65,(HLOOKUP(F157,Trendfactoren!$A$1:$F$2,2,FALSE)),FALSE)","v":1},0,{"$f":"+VLOOKUP(C157,Scheepstypen!$A$1:$F$44,6,FALSE)","v":"L2"}]
["CEMT IM5leegbeide","CEMT I","M5","leeg","beide","Fijn stof",2.3718887282951977,{"$f":"VLOOKUP(A158,Begin:Einde,7,FALSE)","v":0},1,{"$f":"VLOOKUP(Jaar&L158,Trendfactoren!$A$2:$F$65,(HLOOKUP(F158,Trendfactoren!$A$1:$F$2,2,FALSE)),FALSE)","v":1},0,{"$f":"+VLOOKUP(C158,Scheepstypen!$A$1:$F$44,6,FALSE)","v":"L2"}]
["CEMT IM5leegbeide","CEMT I","M5","leeg","beide","NOx",55.29758678116535,{"$f":"VLOOKUP(A159,Begin:Einde,7,FALSE)","v":0},1,{"$f":"VLOOKUP(Jaar&L159,Trendfactoren!$A$2:$F$65,(HLOOKUP(F159,Trendfactoren!$A$1:$F$2,2,FALSE)),FALSE)","v":1},0,{"$f":"+VLOOKUP(C159,Scheepstypen!$A$1:$F$44,6,FALSE)","v":"L2"}]
["CEMT IM6geladenbeide","CEMT I","M6","geladen","beide","Fijn stof",11.209933969204611,{"$f":"VLOOKUP(A160,Begin:Einde,7,FALSE)","v":0},1,{"$f":"VLOOKUP(Jaar&L160,Trendfactoren!$A$2:$F$65,(HLOOKUP(F160,Trendfactoren!$A$1:$F$2,2,FALSE)),FALSE)","v":1},0,{"$f":"+VLOOKUP(C160,Scheepstypen!$A$1:$F$44,6,FALSE)","v":"L2"}]
["CEMT IM6geladenbeide","CEMT I","M6","geladen","beide","NOx",342.56827499840563,{"$f":"VLOOKUP(A161,Begin:Einde,7,FALSE)","v":0},1,{"$f":"VLOOKUP(Jaar&L161,Trendfactoren!$A$2:$F$65,(HLOOKUP(F161,Trendfactoren!$A$1:$F$2,2,FALSE)),FALSE)","v":1},0,{"$f":"+VLOOKUP(C161,Scheepstypen!$A$1:$F$44,6,FALSE)","v":"L2"}]
["CEMT IM6leegbeide","CEMT I","M6","leeg","beide","Fijn stof",5.7811808657414581,{"$f":"VLOOKUP(A162,Begin:Einde,7,FALSE)","v":0},1,{"$f":"VLOOKUP(Jaar&L162,Trendfactoren!$A$2:$F$65,(HLOOKUP(F162,Trendfactoren!$A$1:$F$2,2,FALSE)),FALSE)","v":1},0,{"$f":"+VLOOKUP(C162,Scheepstypen!$A$1:$F$44,6,FALSE)","v":"L2"}]
["CEMT IM6leegbeide","CEMT I","M6","leeg","beide","NOx",168.93881021438793,{"$f":"VLOOKUP(A163,Begin:Einde,7,FALSE)","v":0},1,{"$f":"VLOOKUP(Jaar&L163,Trendfactoren!$A$2:$F$65,(HLOOKUP(F163,Trendfactoren!$A$1:$F$2,2,FALSE)),FALSE)","v":1},0,{"$f":"+VLOOKUP(C163,Scheepstypen!$A$1:$F$44,6,FALSE)","v":"L2"}]
["CEMT IM7geladenbeide","CEMT I","M7","geladen","beide","Fijn stof",21.520464398401469,{"$f":"VLOOKUP(A164,Begin:Einde,7,FALSE)","v":0},1,{"$f":"VLOOKUP(Jaar&L164,Trendfactoren!$A$2:$F$65,(HLOOKUP(F164,Trendfactoren!$A$1:$F$2,2,FALSE)),FALSE)","v":1},0,{"$f":"+VLOOKUP(C164,Scheepstypen!$A$1:$F$44,6,FALSE)","v":"L2"}]
["CEMT IM7geladenbeide","CEMT I","M7","geladen","beide","NOx",657.43838296573074,{"$f":"VLOOKUP(A165,Begin:Einde,7,FALSE)","v":0},1,{"$f":"VLOOKUP(Jaar&L165,Trendfactoren!$A$2:$F$65,(HLOOKUP(F165,Trendfactoren!$A$1:$F$2,2,FALSE)),FALSE)","v":1},0,{"$f":"+VLOOKUP(C165,Scheepstypen!$A$1:$F$44,6,FALSE)","v":"L2"}]
["CEMT IM7leegbeide","CEMT I","M7","leeg","beide","Fijn stof",3.4168079355018914,{"$f":"VLOOKUP(A166,Begin:Einde,7,FALSE)","v":0},1,{"$f":"VLOOKUP(Jaar&L166,Trendfactoren!$A$2:$F$65,(HLOOKUP(F166,Trendfactoren!$A$1:$F$2,2,FALSE)),FALSE)","v":1},0,{"$f":"+VLOOKUP(C166,Scheepstypen!$A$1:$F$44,6,FALSE)","v":"L2"}]
["CEMT IM7leegbeide","CEMT I","M7","leeg","beide","NOx",79.658556944107701,{"$f":"VLOOKUP(A167,Begin:Einde,7,FALSE)","v":0},1,{"$f":"VLOOKUP(Jaar&L167,Trendfactoren!$A$2:$F$65,(HLOOKUP(F167,Trendfactoren!$A$1:$F$2,2,FALSE)),FALSE)","v":1},0,{"$f":"+VLOOKUP(C167,Scheepstypen!$A$1:$F$44,6,FALSE)","v":"L2"}]
["CEMT IM8geladenbeide","CEMT I","M8","geladen","beide","Fijn stof",27.191062080676051,{"$f":"VLOOKUP(A168,Begin:Einde,7,FALSE)","v":0},1,{"$f":"VLOOKUP(Jaar&L168,Trendfactoren!$A$2:$F$65,(HLOOKUP(F168,Trendfactoren!$A$1:$F$2,2,FALSE)),FALSE)","v":1},0,{"$f":"+VLOOKUP(C168,Scheepstypen!$A$1:$F$44,6,FALSE)","v":"L3"}]
["CEMT IM8geladenbeide","CEMT I","M8","geladen","beide","NOx",843.26118125915002,{"$f":"VLOOKUP(A169,Begin:Einde,7,FALSE)","v":0},1,{"$f":"VLOOKUP(Jaar&L169,Trendfactoren!$A$2:$F$65,(HLOOKUP(F169,Trendfactoren!$A$1:$F$2,2,FALSE)),FALSE)","v":1},0,{"$f":"+VLOOKUP(C169,Scheepstypen!$A$1:$F$44,6,FALSE)","v":"L3"}]
["CEMT IM8leegbeide","CEMT I","M8","leeg","beide","Fijn stof",8.6924106291157912,{"$f":"VLOOKUP(A170,Begin:Einde,7,FALSE)","v":0},1,{"$f":"VLOOKUP(Jaar&L170,Trendfactoren!$A$2:$F$65,(HLOOKUP(F170,Trendfactoren!$A$1:$F$2,2,FALSE)),FALSE)","v":1},0,{"$f":"+VLOOKUP(C170,Scheepstypen!$A$1:$F$44,6,FALSE)","v":"L3"}]
["CEMT IM8leegbeide","CEMT I","M8","leeg","beide","NOx",238.97538469159727,{"$f":"VLOOKUP(A171,Begin:Einde,7,FALSE)","v":0},1,{"$f":"VLOOKUP(Jaar&L171,Trendfactoren!$A$2:$F$65,(HLOOKUP(F171,Trendfactoren!$A$1:$F$2,2,FALSE)),FALSE)","v":1},0,{"$f":"+VLOOKUP(C171,Scheepstypen!$A$1:$F$44,6,FALSE)","v":"L3"}]
["CEMT IM9geladenbeide","CEMT I","M9","geladen","beide","Fijn stof",17.398705843137904,{"$f":"VLOOKUP(A172,Begin:Einde,7,FALSE)","v":0},1,{"$f":"VLOOKUP(Jaar&L172,Trendfactoren!$A$2:$F$65,(HLOOKUP(F172,Trendfactoren!$A$1:$F$2,2,FALSE)),FALSE)","v":1},0,{"$f":"+VLOOKUP(C172,Scheepstypen!$A$1:$F$44,6,FALSE)","v":"L3"}]
["CEMT IM9geladenbeide","CEMT I","M9","geladen","beide","NOx",410.47401097892259,{"$f":"VLOOKUP(A173,Begin:Einde,7,FALSE)","v":0},1,{"$f":"VLOOKUP(Jaar&L173,Trendfactoren!$A$2:$F$65,(HLOOKUP(F173,Trendfactoren!$A$1:$F$2,2,FALSE)),FALSE)","v":1},0,{"$f":"+VLOOKUP(C173,Scheepstypen!$A$1:$F$44,6,FALSE)","v":"L3"}]
["CEMT IM9leegbeide","CEMT I","M9","leeg","beide","Fijn stof",12.881230027661235,{"$f":"VLOOKUP(A174,Begin:Einde,7,FALSE)","v":0},1,{"$f":"VLOOKUP(Jaar&L174,Trendfactoren!$A$2:$F$65,(HLOOKUP(F174,Trendfactoren!$A$1:$F$2,2,FALSE)),FALSE)","v":1},0,{"$f":"+VLOOKUP(C174,Scheepstypen!$A$1:$F$44,6,FALSE)","v":"L3"}]
["CEMT IM9leegbeide","CEMT I","M9","leeg","beide","NOx",351.30429988486657,{"$f":"VLOOKUP(A175,Begin:Einde,7,FALSE)","v":0},1,{"$f":"VLOOKUP(Jaar&L175,Trendfactoren!$A$2:$F$65,(HLOOKUP(F175,Trendfactoren!$A$1:$F$2,2,FALSE)),FALSE)","v":1},0,{"$f":"+VLOOKUP(C175,Scheepstypen!$A$1:$F$44,6,FALSE)","v":"L3"}]
["CEMT IIBIgeladenbeide","CEMT II","BI","geladen","beide","Fijn stof",7.6006624402150882,{"$f":"VLOOKUP(A176,Begin:Einde,7,FALSE)","v":0},1,{"$f":"VLOOKUP(Jaar&L176,Trendfactoren!$A$2:$F$65,(HLOOKUP(F176,Trendfactoren!$A$1:$F$2,2,FALSE)),FALSE)","v":1},0,{"$f":"+VLOOKUP(C176,Scheepstypen!$A$1:$F$44,6,FALSE)","v":"L2"}]
["CEMT IIBIgeladenbeide","CEMT II","BI","geladen","beide","NOx",177.19983482708668,{"$f":"VLOOKUP(A177,Begin:Einde,7,FALSE)","v":0},1,{"$f":"VLOOKUP(Jaar&L177,Trendfactoren!$A$2:$F$65,(HLOOKUP(F177,Trendfactoren!$A$1:$F$2,2,FALSE)),FALSE)","v":1},0,{"$f":"+VLOOKUP(C177,Scheepstypen!$A$1:$F$44,6,FALSE)","v":"L2"}]
["CEMT IIBIleegbeide","CEMT II","BI","leeg","beide","Fijn stof",3.7715809914029137,{"$f":"VLOOKUP(A178,Begin:Einde,7,FALSE)","v":0},1,{"$f":"VLOOKUP(Jaar&L178,Trendfactoren!$A$2:$F$65,(HLOOKUP(F178,Trendfactoren!$A$1:$F$2,2,FALSE)),FALSE)","v":1},0,{"$f":"+VLOOKUP(C178,Scheepstypen!$A$1:$F$44,6,FALSE)","v":"L2"}]
["CEMT IIBIleegbeide","CEMT II","BI","leeg","beide","NOx",87.929642181907326,{"$f":"VLOOKUP(A179,Begin:Einde,7,FALSE)","v":0},1,{"$f":"VLOOKUP(Jaar&L179,Trendfactoren!$A$2:$F$65,(HLOOKUP(F179,Trendfactoren!$A$1:$F$2,2,FALSE)),FALSE)","v":1},0,{"$f":"+VLOOKUP(C179,Scheepstypen!$A$1:$F$44,6,FALSE)","v":"L2"}]
["CEMT IIBII-1geladenbeide","CEMT II","BII-1","geladen","beide","Fijn stof",17.200596410737234,{"$f":"VLOOKUP(A180,Begin:Einde,7,FALSE)","v":0},1,{"$f":"VLOOKUP(Jaar&L180,Trendfactoren!$A$2:$F$65,(HLOOKUP(F180,Trendfactoren!$A$1:$F$2,2,FALSE)),FALSE)","v":1},0,{"$f":"+VLOOKUP(C180,Scheepstypen!$A$1:$F$44,6,FALSE)","v":"L2"}]
["CEMT IIBII-1geladenbeide","CEMT II","BII-1","geladen","beide","NOx",401.01015758618064,{"$f":"VLOOKUP(A181,Begin:Einde,7,FALSE)","v":0},1,{"$f":"VLOOKUP(Jaar&L181,Trendfactoren!$A$2:$F$65,(HLOOKUP(F181,Trendfactoren!$A$1:$F$2,2,FALSE)),FALSE)","v":1},0,{"$f":"+VLOOKUP(C181,Scheepstypen!$A$1:$F$44,6,FALSE)","v":"L2"}]
["CEMT IIBII-1leegbeide","CEMT II","BII-1","leeg","beide","Fijn stof",18.842923235007472,{"$f":"VLOOKUP(A182,Begin:Einde,7,FALSE)","v":0},1,{"$f":"VLOOKUP(Jaar&L182,Trendfactoren!$A$2:$F$65,(HLOOKUP(F182,Trendfactoren!$A$1:$F$2,2,FALSE)),FALSE)","v":1},0,{"$f":"+VLOOKUP(C182,Scheepstypen!$A$1:$F$44,6,FALSE)","v":"L2"}]
["CEMT IIBII-1leegbeide","CEMT II","BII-1","leeg","beide","NOx",569.65959544716156,{"$f":"VLOOKUP(A183,Begin:Einde,7,FALSE)","v":0},1,{"$f":"VLOOKUP(Jaar&L183,Trendfactoren!$A$2:$F$65,(HLOOKUP(F183,Trendfactoren!$A$1:$F$2,2,FALSE)),FALSE)","v":1},0,{"$f":"+VLOOKUP(C183,Scheepstypen!$A$1:$F$44,6,FALSE)","v":"L2"}]
["CEMT IIBII-2Bgeladenbeide","CEMT II","BII-2B","geladen","beide","Fijn stof",6.6897198792450476,{"$f":"VLOOKUP(A184,Begin:Einde,7,FALSE)","v":0},1,{"$f":"VLOOKUP(Jaar&L184,Trendfactoren!$A$2:$F$65,(HLOOKUP(F184,Trendfactoren!$A$1:$F$2,2,FALSE)),FALSE)","v":1},0,{"$f":"+VLOOKUP(C184,Scheepstypen!$A$1:$F$44,6,FALSE)","v":"L3"}]
["CEMT IIBII-2Bgeladenbeide","CEMT II","BII-2B","geladen","beide","NOx",156.89706792700679,{"$f":"VLOOKUP(A185,Begin:Einde,7,FALSE)","v":0},1,{"$f":"VLOOKUP(Jaar&L185,Trendfactoren!$A$2:$F$65,(HLOOKUP(F185,Trendfactoren!$A$1:$F$2,2,FALSE)),FALSE)","v":1},0,{"$f":"+VLOOKUP(C185,Scheepstypen!$A$1:$F$44,6,FALSE)","v":"L3"}]
["CEMT IIBII-2Bleegbeide","CEMT II","BII-2B","leeg","beide","Fijn stof",19.816560862312844,{"$f":"VLOOKUP(A186,Begin:Einde,7,FALSE)","v":0},1,{"$f":"VLOOKUP(Jaar&L186,Trendfactoren!$A$2:$F$65,(HLOOKUP(F186,Trendfactoren!$A$1:$F$2,2,FALSE)),FALSE)","v":1},0,{"$f":"+VLOOKUP(C186,Scheepstypen!$A$1:$F$44,6,FALSE)","v":"L3"}]
["CEMT IIBII-2Bleegbeide","CEMT II","BII-2B","leeg","beide","NOx",565.65644446825581,{"$f":"VLOOKUP(A187,Begin:Einde,7,FALSE)","v":0},1,{"$f":"VLOOKUP(Jaar&L187,Trendfactoren!$A$2:$F$65,(HLOOKUP(F187,Trendfactoren!$A$1:$F$2,2,FALSE)),FALSE)","v":1},0,{"$f":"+VLOOKUP(C187,Scheepstypen!$A$1:$F$44,6,FALSE)","v":"L3"}]
["CEMT IIBII-2Lgeladenbeide","CEMT II","BII-2L","geladen","beide","Fijn stof",15.841760363014023,{"$f":"VLOOKUP(A188,Begin:Einde,7,FALSE)","v":0},1,{"$f":"VLOOKUP(Jaar&L188,Trendfactoren!$A$2:$F$65,(HLOOKUP(F188,Trendfactoren!$A$1:$F$2,2,FALSE)),FALSE)","v":1},0,{"$f":"+VLOOKUP(C188,Scheepstypen!$A$1:$F$44,6,FALSE)","v":"L3"}]
["CEMT IIBII-2Lgeladenbeide","CEMT II","BII-2L","geladen","beide","NOx",371.54407009934062,{"$f":"VLOOKUP(A189,Begin:Einde,7,FALSE)","v":0},1,{"$f":"VLOOKUP(Jaar&L189,Trendfactoren!$A$2:$F$65,(HLOOKUP(F189,Trendfactoren!$A$1:$F$2,2,FALSE)),FALSE)","v":1},0,{"$f":"+VLOOKUP(C189,Scheepstypen!$A$1:$F$44,6,FALSE)","v":"L3"}]
["CEMT IIBII-2Lleegbeide","CEMT II","BII-2L","leeg","beide","Fijn stof",17.435143554658499,{"$f":"VLOOKUP(A190,Begin:Einde,7,FALSE)","v":0},1,{"$f":"VLOOKUP(Jaar&L190,Trendfactoren!$A$2:$F$65,(HLOOKUP(F190,Trendfactoren!$A$1:$F$2,2,FALSE)),FALSE)","v":1},0,{"$f":"+VLOOKUP(C190,Scheepstypen!$A$1:$F$44,6,FALSE)","v":"L3"}]
["CEMT IIBII-2Lleegbeide","CEMT II","BII-2L","leeg","beide","NOx",513.49748922156436,{"$f":"VLOOKUP(A191,Begin:Einde,7,FALSE)","v":0},{"$f":"+Afstand","v":1},{"$f":"VLOOKUP(Jaar&L191,Trendfactoren!$A$2:$F$65,(HLOOKUP(F191,Trendfactoren!$A$1:$F$2,2,FALSE)),FALSE)","v":1},{"$f":"+G191*H191*I191*J191","v":0},{"$f":"+VLOOKUP(C191,Scheepstypen!$A$1:$F$44,6,FALSE)","v":"L3"}]
["CEMT IIBII-4leegbeide","CEMT II","BII-4","leeg","beide","Fijn stof",27.255928262976646,{"$f":"VLOOKUP(A192,Begin:Einde,7,FALSE)","v":0},1,{"$f":"VLOOKUP(Jaar&L192,Trendfactoren!$A$2:$F$65,(HLOOKUP(F192,Trendfactoren!$A$1:$F$2,2,FALSE)),FALSE)","v":1},0,{"$f":"+VLOOKUP(C192,Scheepstypen!$A$1:$F$44,6,FALSE)","v":"L3"}]
[{"$f":"+B193&C193&D193&E193","v":"CEMT IIBII-4leegbeide"},"CEMT II","BII-4","leeg","beide","NOx",752.58074388761372,{"$f":"VLOOKUP(A193,Begin:Einde,7,FALSE)","v":0},1,{"$f":"VLOOKUP(Jaar&L193,Trendfactoren!$A$2:$F$65,(HLOOKUP(F193,Trendfactoren!$A$1:$F$2,2,FALSE)),FALSE)","v":1},0,{"$f":"+VLOOKUP(C193,Scheepstypen!$A$1:$F$44,6,FALSE)","v":"L3"}]
["CEMT IIBII-6Bleegbeide","CEMT II","BII-6B","leeg","beide","Fijn stof",60.090136315117093,{"$f":"VLOOKUP(A194,Begin:Einde,7,FALSE)","v":0},1,{"$f":"VLOOKUP(Jaar&L194,Trendfactoren!$A$2:$F$65,(HLOOKUP(F194,Trendfactoren!$A$1:$F$2,2,FALSE)),FALSE)","v":1},0,{"$f":"+VLOOKUP(C194,Scheepstypen!$A$1:$F$44,6,FALSE)","v":"L3"}]
["CEMT IIBII-6Bleegbeide","CEMT II","BII-6B","leeg","beide","NOx",1833.249200228521,{"$f":"VLOOKUP(A195,Begin:Einde,7,FALSE)","v":0},1,{"$f":"VLOOKUP(Jaar&L195,Trendfactoren!$A$2:$F$65,(HLOOKUP(F195,Trendfactoren!$A$1:$F$2,2,FALSE)),FALSE)","v":1},0,{"$f":"+VLOOKUP(C195,Scheepstypen!$A$1:$F$44,6,FALSE)","v":"L3"}]
["CEMT IIBII-6Lgeladenbeide","CEMT II","BII-6L","geladen","beide","Fijn stof",126.42346439916246,{"$f":"VLOOKUP(A196,Begin:Einde,7,FALSE)","v":0},1,{"$f":"VLOOKUP(Jaar&L196,Trendfactoren!$A$2:$F$65,(HLOOKUP(F196,Trendfactoren!$A$1:$F$2,2,FALSE)),FALSE)","v":1},0,{"$f":"+VLOOKUP(C196,Scheepstypen!$A$1:$F$44,6,FALSE)","v":"L3"}]
["CEMT IIBII-6Lgeladenbeide","CEMT II","BII-6L","geladen","beide","NOx",3860.7560676570633,{"$f":"VLOOKUP(A197,Begin:Einde,7,FALSE)","v":0},1,{"$f":"VLOOKUP(Jaar&L197,Trendfactoren!$A$2:$F$65,(HLOOKUP(F197,Trendfactoren!$A$1:$F$2,2,FALSE)),FALSE)","v":1},0,{"$f":"+VLOOKUP(C197,Scheepstypen!$A$1:$F$44,6,FALSE)","v":"L3"}]
["CEMT IIBO1geladenbeide","CEMT II","BO1","geladen","beide","Fijn stof",5.2527415794156296,{"$f":"VLOOKUP(A198,Begin:Einde,7,FALSE)","v":0},1,{"$f":"VLOOKUP(Jaar&L198,Trendfactoren!$A$2:$F$65,(HLOOKUP(F198,Trendfactoren!$A$1:$F$2,2,FALSE)),FALSE)","v":1},0,{"$f":"+VLOOKUP(C198,Scheepstypen!$A$1:$F$44,6,FALSE)","v":"L1"}]
["CEMT IIBO1geladenbeide","CEMT II","BO1","geladen","beide","NOx",157.88686663195986,{"$f":"VLOOKUP(A199,Begin:Einde,7,FALSE)","v":0},1,{"$f":"VLOOKUP(Jaar&L199,Trendfactoren!$A$2:$F$65,(HLOOKUP(F199,Trendfactoren!$A$1:$F$2,2,FALSE)),FALSE)","v":1},0,{"$f":"+VLOOKUP(C199,Scheepstypen!$A$1:$F$44,6,FALSE)","v":"L1"}]
["CEMT IIBO1leegbeide","CEMT II","BO1","leeg","beide","Fijn stof",2.9375953359482101,{"$f":"VLOOKUP(A200,Begin:Einde,7,FALSE)","v":0},1,{"$f":"VLOOKUP(Jaar&L200,Trendfactoren!$A$2:$F$65,(HLOOKUP(F200,Trendfactoren!$A$1:$F$2,2,FALSE)),FALSE)","v":1},0,{"$f":"+VLOOKUP(C200,Scheepstypen!$A$1:$F$44,6,FALSE)","v":"L1"}]
["CEMT IIBO1leegbeide","CEMT II","BO1","leeg","beide","NOx",86.611014444054902,{"$f":"VLOOKUP(A201,Begin:Einde,7,FALSE)","v":0},1,{"$f":"VLOOKUP(Jaar&L201,Trendfactoren!$A$2:$F$65,(HLOOKUP(F201,Trendfactoren!$A$1:$F$2,2,FALSE)),FALSE)","v":1},0,{"$f":"+VLOOKUP(C201,Scheepstypen!$A$1:$F$44,6,FALSE)","v":"L1"}]
["CEMT IIBO2geladenbeide","CEMT II","BO2","geladen","beide","Fijn stof",6.6870711964243448,{"$f":"VLOOKUP(A202,Begin:Einde,7,FALSE)","v":0},1,{"$f":"VLOOKUP(Jaar&L202,Trendfactoren!$A$2:$F$65,(HLOOKUP(F202,Trendfactoren!$A$1:$F$2,2,FALSE)),FALSE)","v":1},0,{"$f":"+VLOOKUP(C202,Scheepstypen!$A$1:$F$44,6,FALSE)","v":"L1"}]
["CEMT IIBO2geladenbeide","CEMT II","BO2","geladen","beide","NOx",197.97749058223354,{"$f":"VLOOKUP(A203,Begin:Einde,7,FALSE)","v":0},1,{"$f":"VLOOKUP(Jaar&L203,Trendfactoren!$A$2:$F$65,(HLOOKUP(F203,Trendfactoren!$A$1:$F$2,2,FALSE)),FALSE)","v":1},0,{"$f":"+VLOOKUP(C203,Scheepstypen!$A$1:$F$44,6,FALSE)","v":"L1"}]
["CEMT IIBO2leegbeide","CEMT II","BO2","leeg","beide","Fijn stof",3.9511784727518404,{"$f":"VLOOKUP(A204,Begin:Einde,7,FALSE)","v":0},1,{"$f":"VLOOKUP(Jaar&L204,Trendfactoren!$A$2:$F$65,(HLOOKUP(F204,Trendfactoren!$A$1:$F$2,2,FALSE)),FALSE)","v":1},0,{"$f":"+VLOOKUP(C204,Scheepstypen!$A$1:$F$44,6,FALSE)","v":"L1"}]
["CEMT IIBO2leegbeide","CEMT II","BO2","leeg","beide","NOx",117.86343310758078,{"$f":"VLOOKUP(A205,Begin:Einde,7,FALSE)","v":0},1,{"$f":"VLOOKUP(Jaar&L205,Trendfactoren!$A$2:$F$65,(HLOOKUP(F205,Trendfactoren!$A$1:$F$2,2,FALSE)),FALSE)","v":1},0,{"$f":"+VLOOKUP(C205,Scheepstypen!$A$1:$F$44,6,FALSE)","v":"L1"}]
["CEMT IIBO3geladenbeide","CEMT II","BO3","geladen","beide","Fijn stof",7.1226670816344217,{"$f":"VLOOKUP(A206,Begin:Einde,7,FALSE)","v":0},1,{"$f":"VLOOKUP(Jaar&L206,Trendfactoren!$A$2:$F$65,(HLOOKUP(F206,Trendfactoren!$A$1:$F$2,2,FALSE)),FALSE)","v":1},0,{"$f":"+VLOOKUP(C206,Scheepstypen!$A$1:$F$44,6,FALSE)","v":"L1"}]
["CEMT IIBO3geladenbeide","CEMT II","BO3","geladen","beide","NOx",209.40380280535464,{"$f":"VLOOKUP(A207,Begin:Einde,7,FALSE)","v":0},1,{"$f":"VLOOKUP(Jaar&L207,Trendfactoren!$A$2:$F$65,(HLOOKUP(F207,Trendfactoren!$A$1:$F$2,2,FALSE)),FALSE)","v":1},0,{"$f":"+VLOOKUP(C207,Scheepstypen!$A$1:$F$44,6,FALSE)","v":"L1"}]
["CEMT IIBO3leegbeide","CEMT II","BO3","leeg","beide","Fijn stof",4.8384736760218088,{"$f":"VLOOKUP(A208,Begin:Einde,7,FALSE)","v":0},1,{"$f":"VLOOKUP(Jaar&L208,Trendfactoren!$A$2:$F$65,(HLOOKUP(F208,Trendfactoren!$A$1:$F$2,2,FALSE)),FALSE)","v":1},0,{"$f":"+VLOOKUP(C208,Scheepstypen!$A$1:$F$44,6,FALSE)","v":"L1"}]
["CEMT IIBO3leegbeide","CEMT II","BO3","leeg","beide","NOx",143.76299105631358,{"$f":"VLOOKUP(A209,Begin:Einde,7,FALSE)","v":0},1,{"$f":"VLOOKUP(Jaar&L209,Trendfactoren!$A$2:$F$65,(HLOOKUP(F209,Trendfactoren!$A$1:$F$2,2,FALSE)),FALSE)","v":1},0,{"$f":"+VLOOKUP(C209,Scheepstypen!$A$1:$F$44,6,FALSE)","v":"L1"}]
["CEMT IIBO4geladenbeide","CEMT II","BO4","geladen","beide","Fijn stof",12.038294174842667,{"$f":"VLOOKUP(A210,Begin:Einde,7,FALSE)","v":0},1,{"$f":"VLOOKUP(Jaar&L210,Trendfactoren!$A$2:$F$65,(HLOOKUP(F210,Trendfactoren!$A$1:$F$2,2,FALSE)),FALSE)","v":1},0,{"$f":"+VLOOKUP(C210,Scheepstypen!$A$1:$F$44,6,FALSE)","v":"L1"}]
["CEMT IIBO4geladenbeide","CEMT II","BO4","geladen","beide","NOx",353.8198926496608,{"$f":"VLOOKUP(A211,Begin:Einde,7,FALSE)","v":0},1,{"$f":"VLOOKUP(Jaar&L211,Trendfactoren!$A$2:$F$65,(HLOOKUP(F211,Trendfactoren!$A$1:$F$2,2,FALSE)),FALSE)","v":1},0,{"$f":"+VLOOKUP(C211,Scheepstypen!$A$1:$F$44,6,FALSE)","v":"L1"}]
["CEMT IIBO4leegbeide","CEMT II","BO4","leeg","beide","Fijn stof",6.9998565274490199,{"$f":"VLOOKUP(A212,Begin:Einde,7,FALSE)","v":0},1,{"$f":"VLOOKUP(Jaar&L212,Trendfactoren!$A$2:$F$65,(HLOOKUP(F212,Trendfactoren!$A$1:$F$2,2,FALSE)),FALSE)","v":1},0,{"$f":"+VLOOKUP(C212,Scheepstypen!$A$1:$F$44,6,FALSE)","v":"L1"}]
["CEMT IIBO4leegbeide","CEMT II","BO4","leeg","beide","NOx",207.04010233341128,{"$f":"VLOOKUP(A213,Begin:Einde,7,FALSE)","v":0},1,{"$f":"VLOOKUP(Jaar&L213,Trendfactoren!$A$2:$F$65,(HLOOKUP(F213,Trendfactoren!$A$1:$F$2,2,FALSE)),FALSE)","v":1},0,{"$f":"+VLOOKUP(C213,Scheepstypen!$A$1:$F$44,6,FALSE)","v":"L1"}]
["CEMT IIC1bgeladenbeide","CEMT II","C1b","geladen","beide","Fijn stof",5.4890158130603064,{"$f":"VLOOKUP(A214,Begin:Einde,7,FALSE)","v":0},1,{"$f":"VLOOKUP(Jaar&L214,Trendfactoren!$A$2:$F$65,(HLOOKUP(F214,Trendfactoren!$A$1:$F$2,2,FALSE)),FALSE)","v":1},0,{"$f":"+VLOOKUP(C214,Scheepstypen!$A$1:$F$44,6,FALSE)","v":"L1"}]
["CEMT IIC1bgeladenbeide","CEMT II","C1b","geladen","beide","NOx",156.90913209545747,{"$f":"VLOOKUP(A215,Begin:Einde,7,FALSE)","v":0},1,{"$f":"VLOOKUP(Jaar&L215,Trendfactoren!$A$2:$F$65,(HLOOKUP(F215,Trendfactoren!$A$1:$F$2,2,FALSE)),FALSE)","v":1},0,{"$f":"+VLOOKUP(C215,Scheepstypen!$A$1:$F$44,6,FALSE)","v":"L1"}]
["CEMT IIC1bleegbeide","CEMT II","C1b","leeg","beide","Fijn stof",5.845919858419534,{"$f":"VLOOKUP(A216,Begin:Einde,7,FALSE)","v":0},1,{"$f":"VLOOKUP(Jaar&L216,Trendfactoren!$A$2:$F$65,(HLOOKUP(F216,Trendfactoren!$A$1:$F$2,2,FALSE)),FALSE)","v":1},0,{"$f":"+VLOOKUP(C216,Scheepstypen!$A$1:$F$44,6,FALSE)","v":"L1"}]
["CEMT IIC1bleegbeide","CEMT II","C1b","leeg","beide","NOx",171.9104431626094,{"$f":"VLOOKUP(A217,Begin:Einde,7,FALSE)","v":0},1,{"$f":"VLOOKUP(Jaar&L217,Trendfactoren!$A$2:$F$65,(HLOOKUP(F217,Trendfactoren!$A$1:$F$2,2,FALSE)),FALSE)","v":1},0,{"$f":"+VLOOKUP(C217,Scheepstypen!$A$1:$F$44,6,FALSE)","v":"L1"}]
["CEMT IIC1lgeladenbeide","CEMT II","C1l","geladen","beide","Fijn stof",5.5687890474739072,{"$f":"VLOOKUP(A218,Begin:Einde,7,FALSE)","v":0},1,{"$f":"VLOOKUP(Jaar&L218,Trendfactoren!$A$2:$F$65,(HLOOKUP(F218,Trendfactoren!$A$1:$F$2,2,FALSE)),FALSE)","v":1},0,{"$f":"+VLOOKUP(C218,Scheepstypen!$A$1:$F$44,6,FALSE)","v":"L1"}]
["CEMT IIC1lgeladenbeide","CEMT II","C1l","geladen","beide","NOx",163.44601883467126,{"$f":"VLOOKUP(A219,Begin:Einde,7,FALSE)","v":0},1,{"$f":"VLOOKUP(Jaar&L219,Trendfactoren!$A$2:$F$65,(HLOOKUP(F219,Trendfactoren!$A$1:$F$2,2,FALSE)),FALSE)","v":1},0,{"$f":"+VLOOKUP(C219,Scheepstypen!$A$1:$F$44,6,FALSE)","v":"L1"}]
["CEMT IIC1lleegbeide","CEMT II","C1l","leeg","beide","Fijn stof",2.9626645855359568,{"$f":"VLOOKUP(A220,Begin:Einde,7,FALSE)","v":0},1,{"$f":"VLOOKUP(Jaar&L220,Trendfactoren!$A$2:$F$65,(HLOOKUP(F220,Trendfactoren!$A$1:$F$2,2,FALSE)),FALSE)","v":1},0,{"$f":"+VLOOKUP(C220,Scheepstypen!$A$1:$F$44,6,FALSE)","v":"L1"}]
["CEMT IIC1lleegbeide","CEMT II","C1l","leeg","beide","NOx",80.812803558086529,{"$f":"VLOOKUP(A221,Begin:Einde,7,FALSE)","v":0},1,{"$f":"VLOOKUP(Jaar&L221,Trendfactoren!$A$2:$F$65,(HLOOKUP(F221,Trendfactoren!$A$1:$F$2,2,FALSE)),FALSE)","v":1},0,{"$f":"+VLOOKUP(C221,Scheepstypen!$A$1:$F$44,6,FALSE)","v":"L1"}]
["CEMT IIC2bgeladenbeide","CEMT II","C2b","geladen","beide","Fijn stof",10.153830359701724,{"$f":"VLOOKUP(A222,Begin:Einde,7,FALSE)","v":0},1,{"$f":"VLOOKUP(Jaar&L222,Trendfactoren!$A$2:$F$65,(HLOOKUP(F222,Trendfactoren!$A$1:$F$2,2,FALSE)),FALSE)","v":1},0,{"$f":"+VLOOKUP(C222,Scheepstypen!$A$1:$F$44,6,FALSE)","v":"L2"}]
["CEMT IIC2bgeladenbeide","CEMT II","C2b","geladen","beide","NOx",236.72371674889013,{"$f":"VLOOKUP(A223,Begin:Einde,7,FALSE)","v":0},1,{"$f":"VLOOKUP(Jaar&L223,Trendfactoren!$A$2:$F$65,(HLOOKUP(F223,Trendfactoren!$A$1:$F$2,2,FALSE)),FALSE)","v":1},0,{"$f":"+VLOOKUP(C223,Scheepstypen!$A$1:$F$44,6,FALSE)","v":"L2"}]
["CEMT IIC2bleegbeide","CEMT II","C2b","leeg","beide","Fijn stof",13.789985852962618,{"$f":"VLOOKUP(A224,Begin:Einde,7,FALSE)","v":0},1,{"$f":"VLOOKUP(Jaar&L224,Trendfactoren!$A$2:$F$65,(HLOOKUP(F224,Trendfactoren!$A$1:$F$2,2,FALSE)),FALSE)","v":1},0,{"$f":"+VLOOKUP(C224,Scheepstypen!$A$1:$F$44,6,FALSE)","v":"L2"}]
["CEMT IIC2bleegbeide","CEMT II","C2b","leeg","beide","NOx",371.27344135872295,{"$f":"VLOOKUP(A225,Begin:Einde,7,FALSE)","v":0},1,{"$f":"VLOOKUP(Jaar&L225,Trendfactoren!$A$2:$F$65,(HLOOKUP(F225,Trendfactoren!$A$1:$F$2,2,FALSE)),FALSE)","v":1},0,{"$f":"+VLOOKUP(C225,Scheepstypen!$A$1:$F$44,6,FALSE)","v":"L2"}]
["CEMT IIC2lgeladenbeide","CEMT II","C2l","geladen","beide","Fijn stof",17.064511536510416,{"$f":"VLOOKUP(A226,Begin:Einde,7,FALSE)","v":0},1,{"$f":"VLOOKUP(Jaar&L226,Trendfactoren!$A$2:$F$65,(HLOOKUP(F226,Trendfactoren!$A$1:$F$2,2,FALSE)),FALSE)","v":1},0,{"$f":"+VLOOKUP(C226,Scheepstypen!$A$1:$F$44,6,FALSE)","v":"L2"}]
["CEMT IIC2lgeladenbeide","CEMT II","C2l","geladen","beide","NOx",478.71995301930417,{"$f":"VLOOKUP(A227,Begin:Einde,7,FALSE)","v":0},1,{"$f":"VLOOKUP(Jaar&L227,Trendfactoren!$A$2:$F$65,(HLOOKUP(F227,Trendfactoren!$A$1:$F$2,2,FALSE)),FALSE)","v":1},0,{"$f":"+VLOOKUP(C227,Scheepstypen!$A$1:$F$44,6,FALSE)","v":"L2"}]
["CEMT IIC2lleegbeide","CEMT II","C2l","leeg","beide","Fijn stof",11.745696571492035,{"$f":"VLOOKUP(A228,Begin:Einde,7,FALSE)","v":0},1,{"$f":"VLOOKUP(Jaar&L228,Trendfactoren!$A$2:$F$65,(HLOOKUP(F228,Trendfactoren!$A$1:$F$2,2,FALSE)),FALSE)","v":1},0,{"$f":"+VLOOKUP(C228,Scheepstypen!$A$1:$F$44,6,FALSE)","v":"L2"}]
["CEMT IIC2lleegbeide","CEMT II","C2l","leeg","beide","NOx",298.03320650871018,{"$f":"VLOOKUP(A229,Begin:Einde,7,FALSE)","v":0},1,{"$f":"VLOOKUP(Jaar&L229,Trendfactoren!$A$2:$F$65,(HLOOKUP(F229,Trendfactoren!$A$1:$F$2,2,FALSE)),FALSE)","v":1},0,{"$f":"+VLOOKUP(C229,Scheepstypen!$A$1:$F$44,6,FALSE)","v":"L2"}]
["CEMT IIC3bgeladenbeide","CEMT II","C3b","geladen","beide","Fijn stof",8.8837008900043433,{"$f":"VLOOKUP(A230,Begin:Einde,7,FALSE)","v":0},1,{"$f":"VLOOKUP(Jaar&L230,Trendfactoren!$A$2:$F$65,(HLOOKUP(F230,Trendfactoren!$A$1:$F$2,2,FALSE)),FALSE)","v":1},0,{"$f":"+VLOOKUP(C230,Scheepstypen!$A$1:$F$44,6,FALSE)","v":"L3"}]
["CEMT IIC3bgeladenbeide","CEMT II","C3b","geladen","beide","NOx",208.35351063152717,{"$f":"VLOOKUP(A231,Begin:Einde,7,FALSE)","v":0},1,{"$f":"VLOOKUP(Jaar&L231,Trendfactoren!$A$2:$F$65,(HLOOKUP(F231,Trendfactoren!$A$1:$F$2,2,FALSE)),FALSE)","v":1},0,{"$f":"+VLOOKUP(C231,Scheepstypen!$A$1:$F$44,6,FALSE)","v":"L3"}]
["CEMT IIC3bleegbeide","CEMT II","C3b","leeg","beide","Fijn stof",14.539976115627031,{"$f":"VLOOKUP(A232,Begin:Einde,7,FALSE)","v":0},1,{"$f":"VLOOKUP(Jaar&L232,Trendfactoren!$A$2:$F$65,(HLOOKUP(F232,Trendfactoren!$A$1:$F$2,2,FALSE)),FALSE)","v":1},0,{"$f":"+VLOOKUP(C232,Scheepstypen!$A$1:$F$44,6,FALSE)","v":"L3"}]
["CEMT IIC3bleegbeide","CEMT II","C3b","leeg","beide","NOx",418.9252015632448,{"$f":"VLOOKUP(A233,Begin:Einde,7,FALSE)","v":0},1,{"$f":"VLOOKUP(Jaar&L233,Trendfactoren!$A$2:$F$65,(HLOOKUP(F233,Trendfactoren!$A$1:$F$2,2,FALSE)),FALSE)","v":1},0,{"$f":"+VLOOKUP(C233,Scheepstypen!$A$1:$F$44,6,FALSE)","v":"L3"}]
["CEMT IIC3lgeladenbeide","CEMT II","C3l","geladen","beide","Fijn stof",16.412895571776978,{"$f":"VLOOKUP(A234,Begin:Einde,7,FALSE)","v":0},1,{"$f":"VLOOKUP(Jaar&L234,Trendfactoren!$A$2:$F$65,(HLOOKUP(F234,Trendfactoren!$A$1:$F$2,2,FALSE)),FALSE)","v":1},0,{"$f":"+VLOOKUP(C234,Scheepstypen!$A$1:$F$44,6,FALSE)","v":"L3"}]
["CEMT IIC3lgeladenbeide","CEMT II","C3l","geladen","beide","NOx",384.93916604690082,{"$f":"VLOOKUP(A235,Begin:Einde,7,FALSE)","v":0},1,{"$f":"VLOOKUP(Jaar&L235,Trendfactoren!$A$2:$F$65,(HLOOKUP(F235,Trendfactoren!$A$1:$F$2,2,FALSE)),FALSE)","v":1},0,{"$f":"+VLOOKUP(C235,Scheepstypen!$A$1:$F$44,6,FALSE)","v":"L3"}]
["CEMT IIC3lleegbeide","CEMT II","C3l","leeg","beide","Fijn stof",14.209955202853903,{"$f":"VLOOKUP(A236,Begin:Einde,7,FALSE)","v":0},1,{"$f":"VLOOKUP(Jaar&L236,Trendfactoren!$A$2:$F$65,(HLOOKUP(F236,Trendfactoren!$A$1:$F$2,2,FALSE)),FALSE)","v":1},0,{"$f":"+VLOOKUP(C236,Scheepstypen!$A$1:$F$44,6,FALSE)","v":"L3"}]
["CEMT IIC3lleegbeide","CEMT II","C3l","leeg","beide","NOx",420.94892372603249,{"$f":"VLOOKUP(A237,Begin:Einde,7,FALSE)","v":0},1,{"$f":"VLOOKUP(Jaar&L237,Trendfactoren!$A$2:$F$65,(HLOOKUP(F237,Trendfactoren!$A$1:$F$2,2,FALSE)),FALSE)","v":1},0,{"$f":"+VLOOKUP(C237,Scheepstypen!$A$1:$F$44,6,FALSE)","v":"L3"}]
["CEMT IIC4geladenbeide","CEMT II","C4","geladen","beide","Fijn stof",5.0219016784335304,{"$f":"VLOOKUP(A238,Begin:Einde,7,FALSE)","v":0},1,{"$f":"VLOOKUP(Jaar&L238,Trendfactoren!$A$2:$F$65,(HLOOKUP(F238,Trendfactoren!$A$1:$F$2,2,FALSE)),FALSE)","v":1},0,{"$f":"+VLOOKUP(C238,Scheepstypen!$A$1:$F$44,6,FALSE)","v":"L3"}]
["CEMT IIC4geladenbeide","CEMT II","C4","geladen","beide","NOx",117.78096287835207,{"$f":"VLOOKUP(A239,Begin:Einde,7,FALSE)","v":0},1,{"$f":"VLOOKUP(Jaar&L239,Trendfactoren!$A$2:$F$65,(HLOOKUP(F239,Trendfactoren!$A$1:$F$2,2,FALSE)),FALSE)","v":1},0,{"$f":"+VLOOKUP(C239,Scheepstypen!$A$1:$F$44,6,FALSE)","v":"L3"}]
["CEMT IIM0geladenbeide","CEMT II","M0","geladen","beide","Fijn stof",1.6379674736482852,{"$f":"VLOOKUP(A240,Begin:Einde,7,FALSE)","v":0},1,{"$f":"VLOOKUP(Jaar&L240,Trendfactoren!$A$2:$F$65,(HLOOKUP(F240,Trendfactoren!$A$1:$F$2,2,FALSE)),FALSE)","v":1},0,{"$f":"+VLOOKUP(C240,Scheepstypen!$A$1:$F$44,6,FALSE)","v":"L1"}]
["CEMT IIM0geladenbeide","CEMT II","M0","geladen","beide","NOx",46.703590875866318,{"$f":"VLOOKUP(A241,Begin:Einde,7,FALSE)","v":0},1,{"$f":"VLOOKUP(Jaar&L241,Trendfactoren!$A$2:$F$65,(HLOOKUP(F241,Trendfactoren!$A$1:$F$2,2,FALSE)),FALSE)","v":1},0,{"$f":"+VLOOKUP(C241,Scheepstypen!$A$1:$F$44,6,FALSE)","v":"L1"}]
["CEMT IIM0leegbeide","CEMT II","M0","leeg","beide","Fijn stof",0.39624841920155301,{"$f":"VLOOKUP(A242,Begin:Einde,7,FALSE)","v":0},1,{"$f":"VLOOKUP(Jaar&L242,Trendfactoren!$A$2:$F$65,(HLOOKUP(F242,Trendfactoren!$A$1:$F$2,2,FALSE)),FALSE)","v":1},0,{"$f":"+VLOOKUP(C242,Scheepstypen!$A$1:$F$44,6,FALSE)","v":"L1"}]
["CEMT IIM0leegbeide","CEMT II","M0","leeg","beide","NOx",8.9765479550309148,{"$f":"VLOOKUP(A243,Begin:Einde,7,FALSE)","v":0},1,{"$f":"VLOOKUP(Jaar&L243,Trendfactoren!$A$2:$F$65,(HLOOKUP(F243,Trendfactoren!$A$1:$F$2,2,FALSE)),FALSE)","v":1},0,{"$f":"+VLOOKUP(C243,Scheepstypen!$A$1:$F$44,6,FALSE)","v":"L1"}]
["CEMT IIM1geladenbeide","CEMT II","M1","geladen","beide","Fijn stof",2.8764646378792897,{"$f":"VLOOKUP(A244,Begin:Einde,7,FALSE)","v":0},1,{"$f":"VLOOKUP(Jaar&L244,Trendfactoren!$A$2:$F$65,(HLOOKUP(F244,Trendfactoren!$A$1:$F$2,2,FALSE)),FALSE)","v":1},0,{"$f":"+VLOOKUP(C244,Scheepstypen!$A$1:$F$44,6,FALSE)","v":"L1"}]
["CEMT IIM1geladenbeide","CEMT II","M1","geladen","beide","NOx",81.984399948333575,{"$f":"VLOOKUP(A245,Begin:Einde,7,FALSE)","v":0},1,{"$f":"VLOOKUP(Jaar&L245,Trendfactoren!$A$2:$F$65,(HLOOKUP(F245,Trendfactoren!$A$1:$F$2,2,FALSE)),FALSE)","v":1},0,{"$f":"+VLOOKUP(C245,Scheepstypen!$A$1:$F$44,6,FALSE)","v":"L1"}]
["CEMT IIM1leegbeide","CEMT II","M1","leeg","beide","Fijn stof",1.5038776882886302,{"$f":"VLOOKUP(A246,Begin:Einde,7,FALSE)","v":0},1,{"$f":"VLOOKUP(Jaar&L246,Trendfactoren!$A$2:$F$65,(HLOOKUP(F246,Trendfactoren!$A$1:$F$2,2,FALSE)),FALSE)","v":1},0,{"$f":"+VLOOKUP(C246,Scheepstypen!$A$1:$F$44,6,FALSE)","v":"L1"}]
["CEMT IIM1leegbeide","CEMT II","M1","leeg","beide","NOx",39.390215225903027,{"$f":"VLOOKUP(A247,Begin:Einde,7,FALSE)","v":0},1,{"$f":"VLOOKUP(Jaar&L247,Trendfactoren!$A$2:$F$65,(HLOOKUP(F247,Trendfactoren!$A$1:$F$2,2,FALSE)),FALSE)","v":1},0,{"$f":"+VLOOKUP(C247,Scheepstypen!$A$1:$F$44,6,FALSE)","v":"L1"}]
["CEMT IIM10geladenbeide","CEMT II","M10","geladen","beide","Fijn stof",17.178890392279435,{"$f":"VLOOKUP(A248,Begin:Einde,7,FALSE)","v":0},1,{"$f":"VLOOKUP(Jaar&L248,Trendfactoren!$A$2:$F$65,(HLOOKUP(F248,Trendfactoren!$A$1:$F$2,2,FALSE)),FALSE)","v":1},0,{"$f":"+VLOOKUP(C248,Scheepstypen!$A$1:$F$44,6,FALSE)","v":"L3"}]
["CEMT IIM10geladenbeide","CEMT II","M10","geladen","beide","NOx",402.90439382227873,{"$f":"VLOOKUP(A249,Begin:Einde,7,FALSE)","v":0},1,{"$f":"VLOOKUP(Jaar&L249,Trendfactoren!$A$2:$F$65,(HLOOKUP(F249,Trendfactoren!$A$1:$F$2,2,FALSE)),FALSE)","v":1},0,{"$f":"+VLOOKUP(C249,Scheepstypen!$A$1:$F$44,6,FALSE)","v":"L3"}]
["CEMT IIM10leegbeide","CEMT II","M10","leeg","beide","Fijn stof",12.583459506424274,{"$f":"VLOOKUP(A250,Begin:Einde,7,FALSE)","v":0},1,{"$f":"VLOOKUP(Jaar&L250,Trendfactoren!$A$2:$F$65,(HLOOKUP(F250,Trendfactoren!$A$1:$F$2,2,FALSE)),FALSE)","v":1},0,{"$f":"+VLOOKUP(C250,Scheepstypen!$A$1:$F$44,6,FALSE)","v":"L3"}]
["CEMT IIM10leegbeide","CEMT II","M10","leeg","beide","NOx",354.49562049575786,{"$f":"VLOOKUP(A251,Begin:Einde,7,FALSE)","v":0},1,{"$f":"VLOOKUP(Jaar&L251,Trendfactoren!$A$2:$F$65,(HLOOKUP(F251,Trendfactoren!$A$1:$F$2,2,FALSE)),FALSE)","v":1},0,{"$f":"+VLOOKUP(C251,Scheepstypen!$A$1:$F$44,6,FALSE)","v":"L3"}]
["CEMT IIM11geladenbeide","CEMT II","M11","geladen","beide","Fijn stof",14.545107824469163,{"$f":"VLOOKUP(A252,Begin:Einde,7,FALSE)","v":0},1,{"$f":"VLOOKUP(Jaar&L252,Trendfactoren!$A$2:$F$65,(HLOOKUP(F252,Trendfactoren!$A$1:$F$2,2,FALSE)),FALSE)","v":1},0,{"$f":"+VLOOKUP(C252,Scheepstypen!$A$1:$F$44,6,FALSE)","v":"L3"}]
["CEMT IIM11geladenbeide","CEMT II","M11","geladen","beide","NOx",341.13308352739512,{"$f":"VLOOKUP(A253,Begin:Einde,7,FALSE)","v":0},1,{"$f":"VLOOKUP(Jaar&L253,Trendfactoren!$A$2:$F$65,(HLOOKUP(F253,Trendfactoren!$A$1:$F$2,2,FALSE)),FALSE)","v":1},0,{"$f":"+VLOOKUP(C253,Scheepstypen!$A$1:$F$44,6,FALSE)","v":"L3"}]
["CEMT IIM11leegbeide","CEMT II","M11","leeg","beide","Fijn stof",16.581592122034611,{"$f":"VLOOKUP(A254,Begin:Einde,7,FALSE)","v":0},1,{"$f":"VLOOKUP(Jaar&L254,Trendfactoren!$A$2:$F$65,(HLOOKUP(F254,Trendfactoren!$A$1:$F$2,2,FALSE)),FALSE)","v":1},0,{"$f":"+VLOOKUP(C254,Scheepstypen!$A$1:$F$44,6,FALSE)","v":"L3"}]
["CEMT IIM11leegbeide","CEMT II","M11","leeg","beide","NOx",461.31533978008741,{"$f":"VLOOKUP(A255,Begin:Einde,7,FALSE)","v":0},{"$f":"+Afstand","v":1},{"$f":"VLOOKUP(Jaar&L255,Trendfactoren!$A$2:$F$65,(HLOOKUP(F255,Trendfactoren!$A$1:$F$2,2,FALSE)),FALSE)","v":1},{"$f":"+G255*H255*I255*J255","v":0},{"$f":"+VLOOKUP(C255,Scheepstypen!$A$1:$F$44,6,FALSE)","v":"L3"}]
["CEMT IIM12geladenbeide","CEMT II","M12","geladen","beide","Fijn stof",11.721434815620308,{"$f":"VLOOKUP(A256,Begin:Einde,7,FALSE)","v":0},1,{"$f":"VLOOKUP(Jaar&L256,Trendfactoren!$A$2:$F$65,(HLOOKUP(F256,Trendfactoren!$A$1:$F$2,2,FALSE)),FALSE)","v":1},0,{"$f":"+VLOOKUP(C256,Scheepstypen!$A$1:$F$44,6,FALSE)","v":"L3"}]
[{"$f":"+B257&C257&D257&E257","v":"CEMT IIM12geladenbeide"},"CEMT II","M12","geladen","beide","NOx",274.90818564377713,{"$f":"VLOOKUP(A257,Begin:Einde,7,FALSE)","v":0},1,{"$f":"VLOOKUP(Jaar&L257,Trendfactoren!$A$2:$F$65,(HLOOKUP(F257,Trendfactoren!$A$1:$F$2,2,FALSE)),FALSE)","v":1},0,{"$f":"+VLOOKUP(C257,Scheepstypen!$A$1:$F$44,6,FALSE)","v":"L3"}]
["CEMT IIM12leegbeide","CEMT II","M12","leeg","beide","Fijn stof",16.914704151754428,{"$f":"VLOOKUP(A258,Begin:Einde,7,FALSE)","v":0},1,{"$f":"VLOOKUP(Jaar&L258,Trendfactoren!$A$2:$F$65,(HLOOKUP(F258,Trendfactoren!$A$1:$F$2,2,FALSE)),FALSE)","v":1},0,{"$f":"+VLOOKUP(C258,Scheepstypen!$A$1:$F$44,6,FALSE)","v":"L3"}]
["CEMT IIM12leegbeide","CEMT II","M12","leeg","beide","NOx",459.81073338289781,{"$f":"VLOOKUP(A259,Begin:Einde,7,FALSE)","v":0},1,{"$f":"VLOOKUP(Jaar&L259,Trendfactoren!$A$2:$F$65,(HLOOKUP(F259,Trendfactoren!$A$1:$F$2,2,FALSE)),FALSE)","v":1},0,{"$f":"+VLOOKUP(C259,Scheepstypen!$A$1:$F$44,6,FALSE)","v":"L3"}]
["CEMT IIM2geladenbeide","CEMT II","M2","geladen","beide","Fijn stof",5.2230398094814134,{"$f":"VLOOKUP(A260,Begin:Einde,7,FALSE)","v":0},1,{"$f":"VLOOKUP(Jaar&L260,Trendfactoren!$A$2:$F$65,(HLOOKUP(F260,Trendfactoren!$A$1:$F$2,2,FALSE)),FALSE)","v":1},0,{"$f":"+VLOOKUP(C260,Scheepstypen!$A$1:$F$44,6,FALSE)","v":"L1"}]
["CEMT IIM2geladenbeide","CEMT II","M2","geladen","beide","NOx",150.2737809935474,{"$f":"VLOOKUP(A261,Begin:Einde,7,FALSE)","v":0},1,{"$f":"VLOOKUP(Jaar&L261,Trendfactoren!$A$2:$F$65,(HLOOKUP(F261,Trendfactoren!$A$1:$F$2,2,FALSE)),FALSE)","v":1},0,{"$f":"+VLOOKUP(C261,Scheepstypen!$A$1:$F$44,6,FALSE)","v":"L1"}]
["CEMT IIM2leegbeide","CEMT II","M2","leeg","beide","Fijn stof",2.4198248498654742,{"$f":"VLOOKUP(A262,Begin:Einde,7,FALSE)","v":0},1,{"$f":"VLOOKUP(Jaar&L262,Trendfactoren!$A$2:$F$65,(HLOOKUP(F262,Trendfactoren!$A$1:$F$2,2,FALSE)),FALSE)","v":1},0,{"$f":"+VLOOKUP(C262,Scheepstypen!$A$1:$F$44,6,FALSE)","v":"L1"}]
["CEMT IIM2leegbeide","CEMT II","M2","leeg","beide","NOx",63.900873977421291,{"$f":"VLOOKUP(A263,Begin:Einde,7,FALSE)","v":0},1,{"$f":"VLOOKUP(Jaar&L263,Trendfactoren!$A$2:$F$65,(HLOOKUP(F263,Trendfactoren!$A$1:$F$2,2,FALSE)),FALSE)","v":1},0,{"$f":"+VLOOKUP(C263,Scheepstypen!$A$1:$F$44,6,FALSE)","v":"L1"}]
["CEMT IIM3geladenbeide","CEMT II","M3","geladen","beide","Fijn stof",6.4256263438254368,{"$f":"VLOOKUP(A264,Begin:Einde,7,FALSE)","v":0},1,{"$f":"VLOOKUP(Jaar&L264,Trendfactoren!$A$2:$F$65,(HLOOKUP(F264,Trendfactoren!$A$1:$F$2,2,FALSE)),FALSE)","v":1},0,{"$f":"+VLOOKUP(C264,Scheepstypen!$A$1:$F$44,6,FALSE)","v":"L1"}]
["CEMT IIM3geladenbeide","CEMT II","M3","geladen","beide","NOx",186.25226319444982,{"$f":"VLOOKUP(A265,Begin:Einde,7,FALSE)","v":0},1,{"$f":"VLOOKUP(Jaar&L265,Trendfactoren!$A$2:$F$65,(HLOOKUP(F265,Trendfactoren!$A$1:$F$2,2,FALSE)),FALSE)","v":1},0,{"$f":"+VLOOKUP(C265,Scheepstypen!$A$1:$F$44,6,FALSE)","v":"L1"}]
["CEMT IIM3leegbeide","CEMT II","M3","leeg","beide","Fijn stof",3.1879726308426095,{"$f":"VLOOKUP(A266,Begin:Einde,7,FALSE)","v":0},1,{"$f":"VLOOKUP(Jaar&L266,Trendfactoren!$A$2:$F$65,(HLOOKUP(F266,Trendfactoren!$A$1:$F$2,2,FALSE)),FALSE)","v":1},0,{"$f":"+VLOOKUP(C266,Scheepstypen!$A$1:$F$44,6,FALSE)","v":"L1"}]
["CEMT IIM3leegbeide","CEMT II","M3","leeg","beide","NOx",84.707198853116438,{"$f":"VLOOKUP(A267,Begin:Einde,7,FALSE)","v":0},1,{"$f":"VLOOKUP(Jaar&L267,Trendfactoren!$A$2:$F$65,(HLOOKUP(F267,Trendfactoren!$A$1:$F$2,2,FALSE)),FALSE)","v":1},0,{"$f":"+VLOOKUP(C267,Scheepstypen!$A$1:$F$44,6,FALSE)","v":"L1"}]
["CEMT IIM4geladenbeide","CEMT II","M4","geladen","beide","Fijn stof",8.6535801204497886,{"$f":"VLOOKUP(A268,Begin:Einde,7,FALSE)","v":0},1,{"$f":"VLOOKUP(Jaar&L268,Trendfactoren!$A$2:$F$65,(HLOOKUP(F268,Trendfactoren!$A$1:$F$2,2,FALSE)),FALSE)","v":1},0,{"$f":"+VLOOKUP(C268,Scheepstypen!$A$1:$F$44,6,FALSE)","v":"L1"}]
["CEMT IIM4geladenbeide","CEMT II","M4","geladen","beide","NOx",255.98833612235998,{"$f":"VLOOKUP(A269,Begin:Einde,7,FALSE)","v":0},1,{"$f":"VLOOKUP(Jaar&L269,Trendfactoren!$A$2:$F$65,(HLOOKUP(F269,Trendfactoren!$A$1:$F$2,2,FALSE)),FALSE)","v":1},0,{"$f":"+VLOOKUP(C269,Scheepstypen!$A$1:$F$44,6,FALSE)","v":"L1"}]
["CEMT IIM4leegbeide","CEMT II","M4","leeg","beide","Fijn stof",3.8392044607675455,{"$f":"VLOOKUP(A270,Begin:Einde,7,FALSE)","v":0},1,{"$f":"VLOOKUP(Jaar&L270,Trendfactoren!$A$2:$F$65,(HLOOKUP(F270,Trendfactoren!$A$1:$F$2,2,FALSE)),FALSE)","v":1},0,{"$f":"+VLOOKUP(C270,Scheepstypen!$A$1:$F$44,6,FALSE)","v":"L1"}]
["CEMT IIM4leegbeide","CEMT II","M4","leeg","beide","NOx",105.11677675294089,{"$f":"VLOOKUP(A271,Begin:Einde,7,FALSE)","v":0},1,{"$f":"VLOOKUP(Jaar&L271,Trendfactoren!$A$2:$F$65,(HLOOKUP(F271,Trendfactoren!$A$1:$F$2,2,FALSE)),FALSE)","v":1},0,{"$f":"+VLOOKUP(C271,Scheepstypen!$A$1:$F$44,6,FALSE)","v":"L1"}]
["CEMT IIM5geladenbeide","CEMT II","M5","geladen","beide","Fijn stof",8.2036460059583991,{"$f":"VLOOKUP(A272,Begin:Einde,7,FALSE)","v":0},1,{"$f":"VLOOKUP(Jaar&L272,Trendfactoren!$A$2:$F$65,(HLOOKUP(F272,Trendfactoren!$A$1:$F$2,2,FALSE)),FALSE)","v":1},0,{"$f":"+VLOOKUP(C272,Scheepstypen!$A$1:$F$44,6,FALSE)","v":"L2"}]
["CEMT IIM5geladenbeide","CEMT II","M5","geladen","beide","NOx",240.03755542062618,{"$f":"VLOOKUP(A273,Begin:Einde,7,FALSE)","v":0},1,{"$f":"VLOOKUP(Jaar&L273,Trendfactoren!$A$2:$F$65,(HLOOKUP(F273,Trendfactoren!$A$1:$F$2,2,FALSE)),FALSE)","v":1},0,{"$f":"+VLOOKUP(C273,Scheepstypen!$A$1:$F$44,6,FALSE)","v":"L2"}]
["CEMT IIM5leegbeide","CEMT II","M5","leeg","beide","Fijn stof",2.6676091991983446,{"$f":"VLOOKUP(A274,Begin:Einde,7,FALSE)","v":0},1,{"$f":"VLOOKUP(Jaar&L274,Trendfactoren!$A$2:$F$65,(HLOOKUP(F274,Trendfactoren!$A$1:$F$2,2,FALSE)),FALSE)","v":1},0,{"$f":"+VLOOKUP(C274,Scheepstypen!$A$1:$F$44,6,FALSE)","v":"L2"}]
["CEMT IIM5leegbeide","CEMT II","M5","leeg","beide","NOx",62.357762779204471,{"$f":"VLOOKUP(A275,Begin:Einde,7,FALSE)","v":0},1,{"$f":"VLOOKUP(Jaar&L275,Trendfactoren!$A$2:$F$65,(HLOOKUP(F275,Trendfactoren!$A$1:$F$2,2,FALSE)),FALSE)","v":1},0,{"$f":"+VLOOKUP(C275,Scheepstypen!$A$1:$F$44,6,FALSE)","v":"L2"}]
["CEMT IIM6geladenbeide","CEMT II","M6","geladen","beide","Fijn stof",9.7612996096922178,{"$f":"VLOOKUP(A276,Begin:Einde,7,FALSE)","v":0},1,{"$f":"VLOOKUP(Jaar&L276,Trendfactoren!$A$2:$F$65,(HLOOKUP(F276,Trendfactoren!$A$1:$F$2,2,FALSE)),FALSE)","v":1},0,{"$f":"+VLOOKUP(C276,Scheepstypen!$A$1:$F$44,6,FALSE)","v":"L2"}]
["CEMT IIM6geladenbeide","CEMT II","M6","geladen","beide","NOx",284.26825198037983,{"$f":"VLOOKUP(A277,Begin:Einde,7,FALSE)","v":0},1,{"$f":"VLOOKUP(Jaar&L277,Trendfactoren!$A$2:$F$65,(HLOOKUP(F277,Trendfactoren!$A$1:$F$2,2,FALSE)),FALSE)","v":1},0,{"$f":"+VLOOKUP(C277,Scheepstypen!$A$1:$F$44,6,FALSE)","v":"L2"}]
["CEMT IIM6leegbeide","CEMT II","M6","leeg","beide","Fijn stof",4.7729274815771507,{"$f":"VLOOKUP(A278,Begin:Einde,7,FALSE)","v":0},1,{"$f":"VLOOKUP(Jaar&L278,Trendfactoren!$A$2:$F$65,(HLOOKUP(F278,Trendfactoren!$A$1:$F$2,2,FALSE)),FALSE)","v":1},0,{"$f":"+VLOOKUP(C278,Scheepstypen!$A$1:$F$44,6,FALSE)","v":"L2"}]
["CEMT IIM6leegbeide","CEMT II","M6","leeg","beide","NOx",120.13817729676299,{"$f":"VLOOKUP(A279,Begin:Einde,7,FALSE)","v":0},1,{"$f":"VLOOKUP(Jaar&L279,Trendfactoren!$A$2:$F$65,(HLOOKUP(F279,Trendfactoren!$A$1:$F$2,2,FALSE)),FALSE)","v":1},0,{"$f":"+VLOOKUP(C279,Scheepstypen!$A$1:$F$44,6,FALSE)","v":"L2"}]
["CEMT IIM7geladenbeide","CEMT II","M7","geladen","beide","Fijn stof",16.914789401073005,{"$f":"VLOOKUP(A280,Begin:Einde,7,FALSE)","v":0},1,{"$f":"VLOOKUP(Jaar&L280,Trendfactoren!$A$2:$F$65,(HLOOKUP(F280,Trendfactoren!$A$1:$F$2,2,FALSE)),FALSE)","v":1},0,{"$f":"+VLOOKUP(C280,Scheepstypen!$A$1:$F$44,6,FALSE)","v":"L2"}]
["CEMT IIM7geladenbeide","CEMT II","M7","geladen","beide","NOx",506.93036959267164,{"$f":"VLOOKUP(A281,Begin:Einde,7,FALSE)","v":0},1,{"$f":"VLOOKUP(Jaar&L281,Trendfactoren!$A$2:$F$65,(HLOOKUP(F281,Trendfactoren!$A$1:$F$2,2,FALSE)),FALSE)","v":1},0,{"$f":"+VLOOKUP(C281,Scheepstypen!$A$1:$F$44,6,FALSE)","v":"L2"}]
["CEMT IIM7leegbeide","CEMT II","M7","leeg","beide","Fijn stof",3.9147552423525198,{"$f":"VLOOKUP(A282,Begin:Einde,7,FALSE)","v":0},1,{"$f":"VLOOKUP(Jaar&L282,Trendfactoren!$A$2:$F$65,(HLOOKUP(F282,Trendfactoren!$A$1:$F$2,2,FALSE)),FALSE)","v":1},0,{"$f":"+VLOOKUP(C282,Scheepstypen!$A$1:$F$44,6,FALSE)","v":"L2"}]
["CEMT IIM7leegbeide","CEMT II","M7","leeg","beide","NOx",91.306010427486726,{"$f":"VLOOKUP(A283,Begin:Einde,7,FALSE)","v":0},1,{"$f":"VLOOKUP(Jaar&L283,Trendfactoren!$A$2:$F$65,(HLOOKUP(F283,Trendfactoren!$A$1:$F$2,2,FALSE)),FALSE)","v":1},0,{"$f":"+VLOOKUP(C283,Scheepstypen!$A$1:$F$44,6,FALSE)","v":"L2"}]
["CEMT IIM8geladenbeide","CEMT II","M8","geladen","beide","Fijn stof",7.1870529604770335,{"$f":"VLOOKUP(A284,Begin:Einde,7,FALSE)","v":0},1,{"$f":"VLOOKUP(Jaar&L284,Trendfactoren!$A$2:$F$65,(HLOOKUP(F284,Trendfactoren!$A$1:$F$2,2,FALSE)),FALSE)","v":1},0,{"$f":"+VLOOKUP(C284,Scheepstypen!$A$1:$F$44,6,FALSE)","v":"L3"}]
["CEMT IIM8geladenbeide","CEMT II","M8","geladen","beide","NOx",168.74979104655131,{"$f":"VLOOKUP(A285,Begin:Einde,7,FALSE)","v":0},1,{"$f":"VLOOKUP(Jaar&L285,Trendfactoren!$A$2:$F$65,(HLOOKUP(F285,Trendfactoren!$A$1:$F$2,2,FALSE)),FALSE)","v":1},0,{"$f":"+VLOOKUP(C285,Scheepstypen!$A$1:$F$44,6,FALSE)","v":"L3"}]
["CEMT IIM8leegbeide","CEMT II","M8","leeg","beide","Fijn stof",11.21924372641941,{"$f":"VLOOKUP(A286,Begin:Einde,7,FALSE)","v":0},1,{"$f":"VLOOKUP(Jaar&L286,Trendfactoren!$A$2:$F$65,(HLOOKUP(F286,Trendfactoren!$A$1:$F$2,2,FALSE)),FALSE)","v":1},0,{"$f":"+VLOOKUP(C286,Scheepstypen!$A$1:$F$44,6,FALSE)","v":"L3"}]
["CEMT IIM8leegbeide","CEMT II","M8","leeg","beide","NOx",280.99961345093334,{"$f":"VLOOKUP(A287,Begin:Einde,7,FALSE)","v":0},1,{"$f":"VLOOKUP(Jaar&L287,Trendfactoren!$A$2:$F$65,(HLOOKUP(F287,Trendfactoren!$A$1:$F$2,2,FALSE)),FALSE)","v":1},0,{"$f":"+VLOOKUP(C287,Scheepstypen!$A$1:$F$44,6,FALSE)","v":"L3"}]
["CEMT IIM9geladenbeide","CEMT II","M9","geladen","beide","Fijn stof",11.950716174326045,{"$f":"VLOOKUP(A288,Begin:Einde,7,FALSE)","v":0},1,{"$f":"VLOOKUP(Jaar&L288,Trendfactoren!$A$2:$F$65,(HLOOKUP(F288,Trendfactoren!$A$1:$F$2,2,FALSE)),FALSE)","v":1},0,{"$f":"+VLOOKUP(C288,Scheepstypen!$A$1:$F$44,6,FALSE)","v":"L3"}]
["CEMT IIM9geladenbeide","CEMT II","M9","geladen","beide","NOx",280.28562648743019,{"$f":"VLOOKUP(A289,Begin:Einde,7,FALSE)","v":0},1,{"$f":"VLOOKUP(Jaar&L289,Trendfactoren!$A$2:$F$65,(HLOOKUP(F289,Trendfactoren!$A$1:$F$2,2,FALSE)),FALSE)","v":1},0,{"$f":"+VLOOKUP(C289,Scheepstypen!$A$1:$F$44,6,FALSE)","v":"L3"}]
["CEMT IIM9leegbeide","CEMT II","M9","leeg","beide","Fijn stof",12.926417744402094,{"$f":"VLOOKUP(A290,Begin:Einde,7,FALSE)","v":0},1,{"$f":"VLOOKUP(Jaar&L290,Trendfactoren!$A$2:$F$65,(HLOOKUP(F290,Trendfactoren!$A$1:$F$2,2,FALSE)),FALSE)","v":1},0,{"$f":"+VLOOKUP(C290,Scheepstypen!$A$1:$F$44,6,FALSE)","v":"L3"}]
["CEMT IIM9leegbeide","CEMT II","M9","leeg","beide","NOx",365.54699967858238,{"$f":"VLOOKUP(A291,Begin:Einde,7,FALSE)","v":0},1,{"$f":"VLOOKUP(Jaar&L291,Trendfactoren!$A$2:$F$65,(HLOOKUP(F291,Trendfactoren!$A$1:$F$2,2,FALSE)),FALSE)","v":1},0,{"$f":"+VLOOKUP(C291,Scheepstypen!$A$1:$F$44,6,FALSE)","v":"L3"}]
["CEMT IIIBIgeladenbeide","CEMT III","BI","geladen","beide","Fijn stof",20.035238911578919,{"$f":"VLOOKUP(A292,Begin:Einde,7,FALSE)","v":0},1,{"$f":"VLOOKUP(Jaar&L292,Trendfactoren!$A$2:$F$65,(HLOOKUP(F292,Trendfactoren!$A$1:$F$2,2,FALSE)),FALSE)","v":1},0,{"$f":"+VLOOKUP(C292,Scheepstypen!$A$1:$F$44,6,FALSE)","v":"L2"}]
["CEMT IIIBIgeladenbeide","CEMT III","BI","geladen","beide","NOx",618.85896246131153,{"$f":"VLOOKUP(A293,Begin:Einde,7,FALSE)","v":0},1,{"$f":"VLOOKUP(Jaar&L293,Trendfactoren!$A$2:$F$65,(HLOOKUP(F293,Trendfactoren!$A$1:$F$2,2,FALSE)),FALSE)","v":1},0,{"$f":"+VLOOKUP(C293,Scheepstypen!$A$1:$F$44,6,FALSE)","v":"L2"}]
["CEMT IIIBIleegbeide","CEMT III","BI","leeg","beide","Fijn stof",7.5923982605685971,{"$f":"VLOOKUP(A294,Begin:Einde,7,FALSE)","v":0},1,{"$f":"VLOOKUP(Jaar&L294,Trendfactoren!$A$2:$F$65,(HLOOKUP(F294,Trendfactoren!$A$1:$F$2,2,FALSE)),FALSE)","v":1},0,{"$f":"+VLOOKUP(C294,Scheepstypen!$A$1:$F$44,6,FALSE)","v":"L2"}]
["CEMT IIIBIleegbeide","CEMT III","BI","leeg","beide","NOx",231.25271763834567,{"$f":"VLOOKUP(A295,Begin:Einde,7,FALSE)","v":0},1,{"$f":"VLOOKUP(Jaar&L295,Trendfactoren!$A$2:$F$65,(HLOOKUP(F295,Trendfactoren!$A$1:$F$2,2,FALSE)),FALSE)","v":1},0,{"$f":"+VLOOKUP(C295,Scheepstypen!$A$1:$F$44,6,FALSE)","v":"L2"}]
["CEMT IIIBII-1geladenbeide","CEMT III","BII-1","geladen","beide","Fijn stof",37.963597123451194,{"$f":"VLOOKUP(A296,Begin:Einde,7,FALSE)","v":0},1,{"$f":"VLOOKUP(Jaar&L296,Trendfactoren!$A$2:$F$65,(HLOOKUP(F296,Trendfactoren!$A$1:$F$2,2,FALSE)),FALSE)","v":1},0,{"$f":"+VLOOKUP(C296,Scheepstypen!$A$1:$F$44,6,FALSE)","v":"L2"}]
["CEMT IIIBII-1geladenbeide","CEMT III","BII-1","geladen","beide","NOx",1168.703396443469,{"$f":"VLOOKUP(A297,Begin:Einde,7,FALSE)","v":0},1,{"$f":"VLOOKUP(Jaar&L297,Trendfactoren!$A$2:$F$65,(HLOOKUP(F297,Trendfactoren!$A$1:$F$2,2,FALSE)),FALSE)","v":1},0,{"$f":"+VLOOKUP(C297,Scheepstypen!$A$1:$F$44,6,FALSE)","v":"L2"}]
["CEMT IIIBII-1leegbeide","CEMT III","BII-1","leeg","beide","Fijn stof",11.129396484599514,{"$f":"VLOOKUP(A298,Begin:Einde,7,FALSE)","v":0},1,{"$f":"VLOOKUP(Jaar&L298,Trendfactoren!$A$2:$F$65,(HLOOKUP(F298,Trendfactoren!$A$1:$F$2,2,FALSE)),FALSE)","v":1},0,{"$f":"+VLOOKUP(C298,Scheepstypen!$A$1:$F$44,6,FALSE)","v":"L2"}]
["CEMT IIIBII-1leegbeide","CEMT III","BII-1","leeg","beide","NOx",326.85190587613977,{"$f":"VLOOKUP(A299,Begin:Einde,7,FALSE)","v":0},1,{"$f":"VLOOKUP(Jaar&L299,Trendfactoren!$A$2:$F$65,(HLOOKUP(F299,Trendfactoren!$A$1:$F$2,2,FALSE)),FALSE)","v":1},0,{"$f":"+VLOOKUP(C299,Scheepstypen!$A$1:$F$44,6,FALSE)","v":"L2"}]
["CEMT IIIBII-2Bgeladenbeide","CEMT III","BII-2B","geladen","beide","Fijn stof",8.5605718578306398,{"$f":"VLOOKUP(A300,Begin:Einde,7,FALSE)","v":0},1,{"$f":"VLOOKUP(Jaar&L300,Trendfactoren!$A$2:$F$65,(HLOOKUP(F300,Trendfactoren!$A$1:$F$2,2,FALSE)),FALSE)","v":1},0,{"$f":"+VLOOKUP(C300,Scheepstypen!$A$1:$F$44,6,FALSE)","v":"L3"}]
["CEMT IIIBII-2Bgeladenbeide","CEMT III","BII-2B","geladen","beide","NOx",200.77501726778615,{"$f":"VLOOKUP(A301,Begin:Einde,7,FALSE)","v":0},1,{"$f":"VLOOKUP(Jaar&L301,Trendfactoren!$A$2:$F$65,(HLOOKUP(F301,Trendfactoren!$A$1:$F$2,2,FALSE)),FALSE)","v":1},0,{"$f":"+VLOOKUP(C301,Scheepstypen!$A$1:$F$44,6,FALSE)","v":"L3"}]
["CEMT IIIBII-2Bleegbeide","CEMT III","BII-2B","leeg","beide","Fijn stof",23.482766324104155,{"$f":"VLOOKUP(A302,Begin:Einde,7,FALSE)","v":0},1,{"$f":"VLOOKUP(Jaar&L302,Trendfactoren!$A$2:$F$65,(HLOOKUP(F302,Trendfactoren!$A$1:$F$2,2,FALSE)),FALSE)","v":1},0,{"$f":"+VLOOKUP(C302,Scheepstypen!$A$1:$F$44,6,FALSE)","v":"L3"}]
["CEMT IIIBII-2Bleegbeide","CEMT III","BII-2B","leeg","beide","NOx",649.64850417729747,{"$f":"VLOOKUP(A303,Begin:Einde,7,FALSE)","v":0},1,{"$f":"VLOOKUP(Jaar&L303,Trendfactoren!$A$2:$F$65,(HLOOKUP(F303,Trendfactoren!$A$1:$F$2,2,FALSE)),FALSE)","v":1},0,{"$f":"+VLOOKUP(C303,Scheepstypen!$A$1:$F$44,6,FALSE)","v":"L3"}]
["CEMT IIIBII-2Lgeladenbeide","CEMT III","BII-2L","geladen","beide","Fijn stof",30.162723585889555,{"$f":"VLOOKUP(A304,Begin:Einde,7,FALSE)","v":0},1,{"$f":"VLOOKUP(Jaar&L304,Trendfactoren!$A$2:$F$65,(HLOOKUP(F304,Trendfactoren!$A$1:$F$2,2,FALSE)),FALSE)","v":1},0,{"$f":"+VLOOKUP(C304,Scheepstypen!$A$1:$F$44,6,FALSE)","v":"L3"}]
["CEMT IIIBII-2Lgeladenbeide","CEMT III","BII-2L","geladen","beide","NOx",707.42018750311468,{"$f":"VLOOKUP(A305,Begin:Einde,7,FALSE)","v":0},1,{"$f":"VLOOKUP(Jaar&L305,Trendfactoren!$A$2:$F$65,(HLOOKUP(F305,Trendfactoren!$A$1:$F$2,2,FALSE)),FALSE)","v":1},0,{"$f":"+VLOOKUP(C305,Scheepstypen!$A$1:$F$44,6,FALSE)","v":"L3"}]
["CEMT IIIBII-2Lleegbeide","CEMT III","BII-2L","leeg","beide","Fijn stof",31.611329132868995,{"$f":"VLOOKUP(A306,Begin:Einde,7,FALSE)","v":0},1,{"$f":"VLOOKUP(Jaar&L306,Trendfactoren!$A$2:$F$65,(HLOOKUP(F306,Trendfactoren!$A$1:$F$2,2,FALSE)),FALSE)","v":1},0,{"$f":"+VLOOKUP(C306,Scheepstypen!$A$1:$F$44,6,FALSE)","v":"L3"}]
["CEMT IIIBII-2Lleegbeide","CEMT III","BII-2L","leeg","beide","NOx",837.054358418211,{"$f":"VLOOKUP(A307,Begin:Einde,7,FALSE)","v":0},1,{"$f":"VLOOKUP(Jaar&L307,Trendfactoren!$A$2:$F$65,(HLOOKUP(F307,Trendfactoren!$A$1:$F$2,2,FALSE)),FALSE)","v":1},0,{"$f":"+VLOOKUP(C307,Scheepstypen!$A$1:$F$44,6,FALSE)","v":"L3"}]
["CEMT IIIBII-4geladenbeide","CEMT III","BII-4","geladen","beide","Fijn stof",4.0411760161765793,{"$f":"VLOOKUP(A308,Begin:Einde,7,FALSE)","v":0},1,{"$f":"VLOOKUP(Jaar&L308,Trendfactoren!$A$2:$F$65,(HLOOKUP(F308,Trendfactoren!$A$1:$F$2,2,FALSE)),FALSE)","v":1},0,{"$f":"+VLOOKUP(C308,Scheepstypen!$A$1:$F$44,6,FALSE)","v":"L3"}]
["CEMT IIIBII-4geladenbeide","CEMT III","BII-4","geladen","beide","NOx",94.779554205579302,{"$f":"VLOOKUP(A309,Begin:Einde,7,FALSE)","v":0},1,{"$f":"VLOOKUP(Jaar&L309,Trendfactoren!$A$2:$F$65,(HLOOKUP(F309,Trendfactoren!$A$1:$F$2,2,FALSE)),FALSE)","v":1},0,{"$f":"+VLOOKUP(C309,Scheepstypen!$A$1:$F$44,6,FALSE)","v":"L3"}]
["CEMT IIIBII-4leegbeide","CEMT III","BII-4","leeg","beide","Fijn stof",42.467775799165011,{"$f":"VLOOKUP(A310,Begin:Einde,7,FALSE)","v":0},1,{"$f":"VLOOKUP(Jaar&L310,Trendfactoren!$A$2:$F$65,(HLOOKUP(F310,Trendfactoren!$A$1:$F$2,2,FALSE)),FALSE)","v":1},0,{"$f":"+VLOOKUP(C310,Scheepstypen!$A$1:$F$44,6,FALSE)","v":"L3"}]
["CEMT IIIBII-4leegbeide","CEMT III","BII-4","leeg","beide","NOx",1103.7824236548593,{"$f":"VLOOKUP(A311,Begin:Einde,7,FALSE)","v":0},1,{"$f":"VLOOKUP(Jaar&L311,Trendfactoren!$A$2:$F$65,(HLOOKUP(F311,Trendfactoren!$A$1:$F$2,2,FALSE)),FALSE)","v":1},0,{"$f":"+VLOOKUP(C311,Scheepstypen!$A$1:$F$44,6,FALSE)","v":"L3"}]
["CEMT IIIBO1geladenbeide","CEMT III","BO1","geladen","beide","Fijn stof",3.5318035817270053,{"$f":"VLOOKUP(A312,Begin:Einde,7,FALSE)","v":0},1,{"$f":"VLOOKUP(Jaar&L312,Trendfactoren!$A$2:$F$65,(HLOOKUP(F312,Trendfactoren!$A$1:$F$2,2,FALSE)),FALSE)","v":1},0,{"$f":"+VLOOKUP(C312,Scheepstypen!$A$1:$F$44,6,FALSE)","v":"L1"}]
["CEMT IIIBO1geladenbeide","CEMT III","BO1","geladen","beide","NOx",105.14612574804653,{"$f":"VLOOKUP(A313,Begin:Einde,7,FALSE)","v":0},1,{"$f":"VLOOKUP(Jaar&L313,Trendfactoren!$A$2:$F$65,(HLOOKUP(F313,Trendfactoren!$A$1:$F$2,2,FALSE)),FALSE)","v":1},0,{"$f":"+VLOOKUP(C313,Scheepstypen!$A$1:$F$44,6,FALSE)","v":"L1"}]
["CEMT IIIBO1leegbeide","CEMT III","BO1","leeg","beide","Fijn stof",3.1697664856974876,{"$f":"VLOOKUP(A314,Begin:Einde,7,FALSE)","v":0},1,{"$f":"VLOOKUP(Jaar&L314,Trendfactoren!$A$2:$F$65,(HLOOKUP(F314,Trendfactoren!$A$1:$F$2,2,FALSE)),FALSE)","v":1},0,{"$f":"+VLOOKUP(C314,Scheepstypen!$A$1:$F$44,6,FALSE)","v":"L1"}]
["CEMT IIIBO1leegbeide","CEMT III","BO1","leeg","beide","NOx",94.04648400622159,{"$f":"VLOOKUP(A315,Begin:Einde,7,FALSE)","v":0},1,{"$f":"VLOOKUP(Jaar&L315,Trendfactoren!$A$2:$F$65,(HLOOKUP(F315,Trendfactoren!$A$1:$F$2,2,FALSE)),FALSE)","v":1},0,{"$f":"+VLOOKUP(C315,Scheepstypen!$A$1:$F$44,6,FALSE)","v":"L1"}]
["CEMT IIIBO2geladenbeide","CEMT III","BO2","geladen","beide","Fijn stof",6.3997676529262391,{"$f":"VLOOKUP(A316,Begin:Einde,7,FALSE)","v":0},1,{"$f":"VLOOKUP(Jaar&L316,Trendfactoren!$A$2:$F$65,(HLOOKUP(F316,Trendfactoren!$A$1:$F$2,2,FALSE)),FALSE)","v":1},0,{"$f":"+VLOOKUP(C316,Scheepstypen!$A$1:$F$44,6,FALSE)","v":"L1"}]
["CEMT IIIBO2geladenbeide","CEMT III","BO2","geladen","beide","NOx",190.55977548500431,{"$f":"VLOOKUP(A317,Begin:Einde,7,FALSE)","v":0},1,{"$f":"VLOOKUP(Jaar&L317,Trendfactoren!$A$2:$F$65,(HLOOKUP(F317,Trendfactoren!$A$1:$F$2,2,FALSE)),FALSE)","v":1},0,{"$f":"+VLOOKUP(C317,Scheepstypen!$A$1:$F$44,6,FALSE)","v":"L1"}]
["CEMT IIIBO2leegbeide","CEMT III","BO2","leeg","beide","Fijn stof",4.353637211349132,{"$f":"VLOOKUP(A318,Begin:Einde,7,FALSE)","v":0},1,{"$f":"VLOOKUP(Jaar&L318,Trendfactoren!$A$2:$F$65,(HLOOKUP(F318,Trendfactoren!$A$1:$F$2,2,FALSE)),FALSE)","v":1},0,{"$f":"+VLOOKUP(C318,Scheepstypen!$A$1:$F$44,6,FALSE)","v":"L1"}]
["CEMT IIIBO2leegbeide","CEMT III","BO2","leeg","beide","NOx",130.0383777129091,{"$f":"VLOOKUP(A319,Begin:Einde,7,FALSE)","v":0},{"$f":"+Afstand","v":1},{"$f":"VLOOKUP(Jaar&L319,Trendfactoren!$A$2:$F$65,(HLOOKUP(F319,Trendfactoren!$A$1:$F$2,2,FALSE)),FALSE)","v":1},{"$f":"+G319*H319*I319*J319","v":0},{"$f":"+VLOOKUP(C319,Scheepstypen!$A$1:$F$44,6,FALSE)","v":"L1"}]
["CEMT IIIBO3geladenbeide","CEMT III","BO3","geladen","beide","Fijn stof",8.1773004803199854,{"$f":"VLOOKUP(A320,Begin:Einde,7,FALSE)","v":0},1,{"$f":"VLOOKUP(Jaar&L320,Trendfactoren!$A$2:$F$65,(HLOOKUP(F320,Trendfactoren!$A$1:$F$2,2,FALSE)),FALSE)","v":1},0,{"$f":"+VLOOKUP(C320,Scheepstypen!$A$1:$F$44,6,FALSE)","v":"L1"}]
[{"$f":"+B321&C321&D321&E321","v":"CEMT IIIBO3geladenbeide"},"CEMT III","BO3","geladen","beide","NOx",237.30712709860197,{"$f":"VLOOKUP(A321,Begin:Einde,7,FALSE)","v":0},1,{"$f":"VLOOKUP(Jaar&L321,Trendfactoren!$A$2:$F$65,(HLOOKUP(F321,Trendfactoren!$A$1:$F$2,2,FALSE)),FALSE)","v":1},0,{"$f":"+VLOOKUP(C321,Scheepstypen!$A$1:$F$44,6,FALSE)","v":"L1"}]
["CEMT IIIBO3leegbeide","CEMT III","BO3","leeg","beide","Fijn stof",5.4815641566985462,{"$f":"VLOOKUP(A322,Begin:Einde,7,FALSE)","v":0},1,{"$f":"VLOOKUP(Jaar&L322,Trendfactoren!$A$2:$F$65,(HLOOKUP(F322,Trendfactoren!$A$1:$F$2,2,FALSE)),FALSE)","v":1},0,{"$f":"+VLOOKUP(C322,Scheepstypen!$A$1:$F$44,6,FALSE)","v":"L1"}]
["CEMT IIIBO3leegbeide","CEMT III","BO3","leeg","beide","NOx",159.5221869990456,{"$f":"VLOOKUP(A323,Begin:Einde,7,FALSE)","v":0},1,{"$f":"VLOOKUP(Jaar&L323,Trendfactoren!$A$2:$F$65,(HLOOKUP(F323,Trendfactoren!$A$1:$F$2,2,FALSE)),FALSE)","v":1},0,{"$f":"+VLOOKUP(C323,Scheepstypen!$A$1:$F$44,6,FALSE)","v":"L1"}]
["CEMT IIIBO4geladenbeide","CEMT III","BO4","geladen","beide","Fijn stof",8.5653553770005288,{"$f":"VLOOKUP(A324,Begin:Einde,7,FALSE)","v":0},1,{"$f":"VLOOKUP(Jaar&L324,Trendfactoren!$A$2:$F$65,(HLOOKUP(F324,Trendfactoren!$A$1:$F$2,2,FALSE)),FALSE)","v":1},0,{"$f":"+VLOOKUP(C324,Scheepstypen!$A$1:$F$44,6,FALSE)","v":"L1"}]
["CEMT IIIBO4geladenbeide","CEMT III","BO4","geladen","beide","NOx",244.24979624467221,{"$f":"VLOOKUP(A325,Begin:Einde,7,FALSE)","v":0},1,{"$f":"VLOOKUP(Jaar&L325,Trendfactoren!$A$2:$F$65,(HLOOKUP(F325,Trendfactoren!$A$1:$F$2,2,FALSE)),FALSE)","v":1},0,{"$f":"+VLOOKUP(C325,Scheepstypen!$A$1:$F$44,6,FALSE)","v":"L1"}]
["CEMT IIIBO4leegbeide","CEMT III","BO4","leeg","beide","Fijn stof",6.5718104042868086,{"$f":"VLOOKUP(A326,Begin:Einde,7,FALSE)","v":0},1,{"$f":"VLOOKUP(Jaar&L326,Trendfactoren!$A$2:$F$65,(HLOOKUP(F326,Trendfactoren!$A$1:$F$2,2,FALSE)),FALSE)","v":1},0,{"$f":"+VLOOKUP(C326,Scheepstypen!$A$1:$F$44,6,FALSE)","v":"L1"}]
["CEMT IIIBO4leegbeide","CEMT III","BO4","leeg","beide","NOx",195.1728494386349,{"$f":"VLOOKUP(A327,Begin:Einde,7,FALSE)","v":0},1,{"$f":"VLOOKUP(Jaar&L327,Trendfactoren!$A$2:$F$65,(HLOOKUP(F327,Trendfactoren!$A$1:$F$2,2,FALSE)),FALSE)","v":1},0,{"$f":"+VLOOKUP(C327,Scheepstypen!$A$1:$F$44,6,FALSE)","v":"L1"}]
["CEMT IIIC1bgeladenbeide","CEMT III","C1b","geladen","beide","Fijn stof",5.2079532194467895,{"$f":"VLOOKUP(A328,Begin:Einde,7,FALSE)","v":0},1,{"$f":"VLOOKUP(Jaar&L328,Trendfactoren!$A$2:$F$65,(HLOOKUP(F328,Trendfactoren!$A$1:$F$2,2,FALSE)),FALSE)","v":1},0,{"$f":"+VLOOKUP(C328,Scheepstypen!$A$1:$F$44,6,FALSE)","v":"L1"}]
["CEMT IIIC1bgeladenbeide","CEMT III","C1b","geladen","beide","NOx",150.99282160746881,{"$f":"VLOOKUP(A329,Begin:Einde,7,FALSE)","v":0},1,{"$f":"VLOOKUP(Jaar&L329,Trendfactoren!$A$2:$F$65,(HLOOKUP(F329,Trendfactoren!$A$1:$F$2,2,FALSE)),FALSE)","v":1},0,{"$f":"+VLOOKUP(C329,Scheepstypen!$A$1:$F$44,6,FALSE)","v":"L1"}]
["CEMT IIIC1bleegbeide","CEMT III","C1b","leeg","beide","Fijn stof",5.605534104783648,{"$f":"VLOOKUP(A330,Begin:Einde,7,FALSE)","v":0},1,{"$f":"VLOOKUP(Jaar&L330,Trendfactoren!$A$2:$F$65,(HLOOKUP(F330,Trendfactoren!$A$1:$F$2,2,FALSE)),FALSE)","v":1},0,{"$f":"+VLOOKUP(C330,Scheepstypen!$A$1:$F$44,6,FALSE)","v":"L1"}]
["CEMT IIIC1bleegbeide","CEMT III","C1b","leeg","beide","NOx",166.94063637748246,{"$f":"VLOOKUP(A331,Begin:Einde,7,FALSE)","v":0},1,{"$f":"VLOOKUP(Jaar&L331,Trendfactoren!$A$2:$F$65,(HLOOKUP(F331,Trendfactoren!$A$1:$F$2,2,FALSE)),FALSE)","v":1},0,{"$f":"+VLOOKUP(C331,Scheepstypen!$A$1:$F$44,6,FALSE)","v":"L1"}]
["CEMT IIIC1lgeladenbeide","CEMT III","C1l","geladen","beide","Fijn stof",4.3581630821940704,{"$f":"VLOOKUP(A332,Begin:Einde,7,FALSE)","v":0},1,{"$f":"VLOOKUP(Jaar&L332,Trendfactoren!$A$2:$F$65,(HLOOKUP(F332,Trendfactoren!$A$1:$F$2,2,FALSE)),FALSE)","v":1},0,{"$f":"+VLOOKUP(C332,Scheepstypen!$A$1:$F$44,6,FALSE)","v":"L1"}]
["CEMT IIIC1lgeladenbeide","CEMT III","C1l","geladen","beide","NOx",128.5843007772302,{"$f":"VLOOKUP(A333,Begin:Einde,7,FALSE)","v":0},1,{"$f":"VLOOKUP(Jaar&L333,Trendfactoren!$A$2:$F$65,(HLOOKUP(F333,Trendfactoren!$A$1:$F$2,2,FALSE)),FALSE)","v":1},0,{"$f":"+VLOOKUP(C333,Scheepstypen!$A$1:$F$44,6,FALSE)","v":"L1"}]
["CEMT IIIC1lleegbeide","CEMT III","C1l","leeg","beide","Fijn stof",2.798930244310077,{"$f":"VLOOKUP(A334,Begin:Einde,7,FALSE)","v":0},1,{"$f":"VLOOKUP(Jaar&L334,Trendfactoren!$A$2:$F$65,(HLOOKUP(F334,Trendfactoren!$A$1:$F$2,2,FALSE)),FALSE)","v":1},0,{"$f":"+VLOOKUP(C334,Scheepstypen!$A$1:$F$44,6,FALSE)","v":"L1"}]
["CEMT IIIC1lleegbeide","CEMT III","C1l","leeg","beide","NOx",79.814334815747912,{"$f":"VLOOKUP(A335,Begin:Einde,7,FALSE)","v":0},1,{"$f":"VLOOKUP(Jaar&L335,Trendfactoren!$A$2:$F$65,(HLOOKUP(F335,Trendfactoren!$A$1:$F$2,2,FALSE)),FALSE)","v":1},0,{"$f":"+VLOOKUP(C335,Scheepstypen!$A$1:$F$44,6,FALSE)","v":"L1"}]
["CEMT IIIC2bgeladenbeide","CEMT III","C2b","geladen","beide","Fijn stof",9.368055242384175,{"$f":"VLOOKUP(A336,Begin:Einde,7,FALSE)","v":0},1,{"$f":"VLOOKUP(Jaar&L336,Trendfactoren!$A$2:$F$65,(HLOOKUP(F336,Trendfactoren!$A$1:$F$2,2,FALSE)),FALSE)","v":1},0,{"$f":"+VLOOKUP(C336,Scheepstypen!$A$1:$F$44,6,FALSE)","v":"L2"}]
["CEMT IIIC2bgeladenbeide","CEMT III","C2b","geladen","beide","NOx",218.40436339053139,{"$f":"VLOOKUP(A337,Begin:Einde,7,FALSE)","v":0},1,{"$f":"VLOOKUP(Jaar&L337,Trendfactoren!$A$2:$F$65,(HLOOKUP(F337,Trendfactoren!$A$1:$F$2,2,FALSE)),FALSE)","v":1},0,{"$f":"+VLOOKUP(C337,Scheepstypen!$A$1:$F$44,6,FALSE)","v":"L2"}]
["CEMT IIIC2bleegbeide","CEMT III","C2b","leeg","beide","Fijn stof",13.027051815503823,{"$f":"VLOOKUP(A338,Begin:Einde,7,FALSE)","v":0},1,{"$f":"VLOOKUP(Jaar&L338,Trendfactoren!$A$2:$F$65,(HLOOKUP(F338,Trendfactoren!$A$1:$F$2,2,FALSE)),FALSE)","v":1},0,{"$f":"+VLOOKUP(C338,Scheepstypen!$A$1:$F$44,6,FALSE)","v":"L2"}]
["CEMT IIIC2bleegbeide","CEMT III","C2b","leeg","beide","NOx",366.2561696388446,{"$f":"VLOOKUP(A339,Begin:Einde,7,FALSE)","v":0},1,{"$f":"VLOOKUP(Jaar&L339,Trendfactoren!$A$2:$F$65,(HLOOKUP(F339,Trendfactoren!$A$1:$F$2,2,FALSE)),FALSE)","v":1},0,{"$f":"+VLOOKUP(C339,Scheepstypen!$A$1:$F$44,6,FALSE)","v":"L2"}]
["CEMT IIIC2lgeladenbeide","CEMT III","C2l","geladen","beide","Fijn stof",37.167494718570751,{"$f":"VLOOKUP(A340,Begin:Einde,7,FALSE)","v":0},1,{"$f":"VLOOKUP(Jaar&L340,Trendfactoren!$A$2:$F$65,(HLOOKUP(F340,Trendfactoren!$A$1:$F$2,2,FALSE)),FALSE)","v":1},0,{"$f":"+VLOOKUP(C340,Scheepstypen!$A$1:$F$44,6,FALSE)","v":"L2"}]
["CEMT IIIC2lgeladenbeide","CEMT III","C2l","geladen","beide","NOx",1146.3191563223384,{"$f":"VLOOKUP(A341,Begin:Einde,7,FALSE)","v":0},1,{"$f":"VLOOKUP(Jaar&L341,Trendfactoren!$A$2:$F$65,(HLOOKUP(F341,Trendfactoren!$A$1:$F$2,2,FALSE)),FALSE)","v":1},0,{"$f":"+VLOOKUP(C341,Scheepstypen!$A$1:$F$44,6,FALSE)","v":"L2"}]
["CEMT IIIC2lleegbeide","CEMT III","C2l","leeg","beide","Fijn stof",16.900293766872849,{"$f":"VLOOKUP(A342,Begin:Einde,7,FALSE)","v":0},1,{"$f":"VLOOKUP(Jaar&L342,Trendfactoren!$A$2:$F$65,(HLOOKUP(F342,Trendfactoren!$A$1:$F$2,2,FALSE)),FALSE)","v":1},0,{"$f":"+VLOOKUP(C342,Scheepstypen!$A$1:$F$44,6,FALSE)","v":"L2"}]
["CEMT IIIC2lleegbeide","CEMT III","C2l","leeg","beide","NOx",518.81914520714997,{"$f":"VLOOKUP(A343,Begin:Einde,7,FALSE)","v":0},1,{"$f":"VLOOKUP(Jaar&L343,Trendfactoren!$A$2:$F$65,(HLOOKUP(F343,Trendfactoren!$A$1:$F$2,2,FALSE)),FALSE)","v":1},0,{"$f":"+VLOOKUP(C343,Scheepstypen!$A$1:$F$44,6,FALSE)","v":"L2"}]
["CEMT IIIC3bgeladenbeide","CEMT III","C3b","geladen","beide","Fijn stof",40.189505072053279,{"$f":"VLOOKUP(A344,Begin:Einde,7,FALSE)","v":0},1,{"$f":"VLOOKUP(Jaar&L344,Trendfactoren!$A$2:$F$65,(HLOOKUP(F344,Trendfactoren!$A$1:$F$2,2,FALSE)),FALSE)","v":1},0,{"$f":"+VLOOKUP(C344,Scheepstypen!$A$1:$F$44,6,FALSE)","v":"L3"}]
["CEMT IIIC3bgeladenbeide","CEMT III","C3b","geladen","beide","NOx",1239.3991115724687,{"$f":"VLOOKUP(A345,Begin:Einde,7,FALSE)","v":0},1,{"$f":"VLOOKUP(Jaar&L345,Trendfactoren!$A$2:$F$65,(HLOOKUP(F345,Trendfactoren!$A$1:$F$2,2,FALSE)),FALSE)","v":1},0,{"$f":"+VLOOKUP(C345,Scheepstypen!$A$1:$F$44,6,FALSE)","v":"L3"}]
["CEMT IIIC3lgeladenbeide","CEMT III","C3l","geladen","beide","Fijn stof",41.26032021600092,{"$f":"VLOOKUP(A346,Begin:Einde,7,FALSE)","v":0},1,{"$f":"VLOOKUP(Jaar&L346,Trendfactoren!$A$2:$F$65,(HLOOKUP(F346,Trendfactoren!$A$1:$F$2,2,FALSE)),FALSE)","v":1},0,{"$f":"+VLOOKUP(C346,Scheepstypen!$A$1:$F$44,6,FALSE)","v":"L3"}]
["CEMT IIIC3lgeladenbeide","CEMT III","C3l","geladen","beide","NOx",1272.2308063319886,{"$f":"VLOOKUP(A347,Begin:Einde,7,FALSE)","v":0},1,{"$f":"VLOOKUP(Jaar&L347,Trendfactoren!$A$2:$F$65,(HLOOKUP(F347,Trendfactoren!$A$1:$F$2,2,FALSE)),FALSE)","v":1},0,{"$f":"+VLOOKUP(C347,Scheepstypen!$A$1:$F$44,6,FALSE)","v":"L3"}]
["CEMT IIIC3lleegbeide","CEMT III","C3l","leeg","beide","Fijn stof",18.245833062714389,{"$f":"VLOOKUP(A348,Begin:Einde,7,FALSE)","v":0},1,{"$f":"VLOOKUP(Jaar&L348,Trendfactoren!$A$2:$F$65,(HLOOKUP(F348,Trendfactoren!$A$1:$F$2,2,FALSE)),FALSE)","v":1},0,{"$f":"+VLOOKUP(C348,Scheepstypen!$A$1:$F$44,6,FALSE)","v":"L3"}]
["CEMT IIIC3lleegbeide","CEMT III","C3l","leeg","beide","NOx",558.34101888040072,{"$f":"VLOOKUP(A349,Begin:Einde,7,FALSE)","v":0},1,{"$f":"VLOOKUP(Jaar&L349,Trendfactoren!$A$2:$F$65,(HLOOKUP(F349,Trendfactoren!$A$1:$F$2,2,FALSE)),FALSE)","v":1},0,{"$f":"+VLOOKUP(C349,Scheepstypen!$A$1:$F$44,6,FALSE)","v":"L3"}]
["CEMT IIIC4geladenbeide","CEMT III","C4","geladen","beide","Fijn stof",4.3860912001459322,{"$f":"VLOOKUP(A350,Begin:Einde,7,FALSE)","v":0},1,{"$f":"VLOOKUP(Jaar&L350,Trendfactoren!$A$2:$F$65,(HLOOKUP(F350,Trendfactoren!$A$1:$F$2,2,FALSE)),FALSE)","v":1},0,{"$f":"+VLOOKUP(C350,Scheepstypen!$A$1:$F$44,6,FALSE)","v":"L3"}]
["CEMT IIIC4geladenbeide","CEMT III","C4","geladen","beide","NOx",102.869008177515,{"$f":"VLOOKUP(A351,Begin:Einde,7,FALSE)","v":0},1,{"$f":"VLOOKUP(Jaar&L351,Trendfactoren!$A$2:$F$65,(HLOOKUP(F351,Trendfactoren!$A$1:$F$2,2,FALSE)),FALSE)","v":1},0,{"$f":"+VLOOKUP(C351,Scheepstypen!$A$1:$F$44,6,FALSE)","v":"L3"}]
["CEMT IIIC4leegbeide","CEMT III","C4","leeg","beide","Fijn stof",26.309388475618405,{"$f":"VLOOKUP(A352,Begin:Einde,7,FALSE)","v":0},1,{"$f":"VLOOKUP(Jaar&L352,Trendfactoren!$A$2:$F$65,(HLOOKUP(F352,Trendfactoren!$A$1:$F$2,2,FALSE)),FALSE)","v":1},0,{"$f":"+VLOOKUP(C352,Scheepstypen!$A$1:$F$44,6,FALSE)","v":"L3"}]
["CEMT IIIC4leegbeide","CEMT III","C4","leeg","beide","NOx",758.02503267584245,{"$f":"VLOOKUP(A353,Begin:Einde,7,FALSE)","v":0},1,{"$f":"VLOOKUP(Jaar&L353,Trendfactoren!$A$2:$F$65,(HLOOKUP(F353,Trendfactoren!$A$1:$F$2,2,FALSE)),FALSE)","v":1},0,{"$f":"+VLOOKUP(C353,Scheepstypen!$A$1:$F$44,6,FALSE)","v":"L3"}]
["CEMT IIIM0geladenbeide","CEMT III","M0","geladen","beide","Fijn stof",1.5420532613422842,{"$f":"VLOOKUP(A354,Begin:Einde,7,FALSE)","v":0},1,{"$f":"VLOOKUP(Jaar&L354,Trendfactoren!$A$2:$F$65,(HLOOKUP(F354,Trendfactoren!$A$1:$F$2,2,FALSE)),FALSE)","v":1},0,{"$f":"+VLOOKUP(C354,Scheepstypen!$A$1:$F$44,6,FALSE)","v":"L1"}]
["CEMT IIIM0geladenbeide","CEMT III","M0","geladen","beide","NOx",44.613622417083995,{"$f":"VLOOKUP(A355,Begin:Einde,7,FALSE)","v":0},1,{"$f":"VLOOKUP(Jaar&L355,Trendfactoren!$A$2:$F$65,(HLOOKUP(F355,Trendfactoren!$A$1:$F$2,2,FALSE)),FALSE)","v":1},0,{"$f":"+VLOOKUP(C355,Scheepstypen!$A$1:$F$44,6,FALSE)","v":"L1"}]
["CEMT IIIM0leegbeide","CEMT III","M0","leeg","beide","Fijn stof",0.32348348396035681,{"$f":"VLOOKUP(A356,Begin:Einde,7,FALSE)","v":0},1,{"$f":"VLOOKUP(Jaar&L356,Trendfactoren!$A$2:$F$65,(HLOOKUP(F356,Trendfactoren!$A$1:$F$2,2,FALSE)),FALSE)","v":1},0,{"$f":"+VLOOKUP(C356,Scheepstypen!$A$1:$F$44,6,FALSE)","v":"L1"}]
["CEMT IIIM0leegbeide","CEMT III","M0","leeg","beide","NOx",7.3281428157662987,{"$f":"VLOOKUP(A357,Begin:Einde,7,FALSE)","v":0},1,{"$f":"VLOOKUP(Jaar&L357,Trendfactoren!$A$2:$F$65,(HLOOKUP(F357,Trendfactoren!$A$1:$F$2,2,FALSE)),FALSE)","v":1},0,{"$f":"+VLOOKUP(C357,Scheepstypen!$A$1:$F$44,6,FALSE)","v":"L1"}]
["CEMT IIIM1geladenbeide","CEMT III","M1","geladen","beide","Fijn stof",2.8919604407127699,{"$f":"VLOOKUP(A358,Begin:Einde,7,FALSE)","v":0},1,{"$f":"VLOOKUP(Jaar&L358,Trendfactoren!$A$2:$F$65,(HLOOKUP(F358,Trendfactoren!$A$1:$F$2,2,FALSE)),FALSE)","v":1},0,{"$f":"+VLOOKUP(C358,Scheepstypen!$A$1:$F$44,6,FALSE)","v":"L1"}]
["CEMT IIIM1geladenbeide","CEMT III","M1","geladen","beide","NOx",85.073503450053195,{"$f":"VLOOKUP(A359,Begin:Einde,7,FALSE)","v":0},1,{"$f":"VLOOKUP(Jaar&L359,Trendfactoren!$A$2:$F$65,(HLOOKUP(F359,Trendfactoren!$A$1:$F$2,2,FALSE)),FALSE)","v":1},0,{"$f":"+VLOOKUP(C359,Scheepstypen!$A$1:$F$44,6,FALSE)","v":"L1"}]
["CEMT IIIM1leegbeide","CEMT III","M1","leeg","beide","Fijn stof",1.4254092318633163,{"$f":"VLOOKUP(A360,Begin:Einde,7,FALSE)","v":0},1,{"$f":"VLOOKUP(Jaar&L360,Trendfactoren!$A$2:$F$65,(HLOOKUP(F360,Trendfactoren!$A$1:$F$2,2,FALSE)),FALSE)","v":1},0,{"$f":"+VLOOKUP(C360,Scheepstypen!$A$1:$F$44,6,FALSE)","v":"L1"}]
["CEMT IIIM1leegbeide","CEMT III","M1","leeg","beide","NOx",39.548161734699661,{"$f":"VLOOKUP(A361,Begin:Einde,7,FALSE)","v":0},1,{"$f":"VLOOKUP(Jaar&L361,Trendfactoren!$A$2:$F$65,(HLOOKUP(F361,Trendfactoren!$A$1:$F$2,2,FALSE)),FALSE)","v":1},0,{"$f":"+VLOOKUP(C361,Scheepstypen!$A$1:$F$44,6,FALSE)","v":"L1"}]
["CEMT IIIM10geladenbeide","CEMT III","M10","geladen","beide","Fijn stof",16.761706282962212,{"$f":"VLOOKUP(A362,Begin:Einde,7,FALSE)","v":0},1,{"$f":"VLOOKUP(Jaar&L362,Trendfactoren!$A$2:$F$65,(HLOOKUP(F362,Trendfactoren!$A$1:$F$2,2,FALSE)),FALSE)","v":1},0,{"$f":"+VLOOKUP(C362,Scheepstypen!$A$1:$F$44,6,FALSE)","v":"L3"}]
["CEMT IIIM10geladenbeide","CEMT III","M10","geladen","beide","NOx",393.11998360494073,{"$f":"VLOOKUP(A363,Begin:Einde,7,FALSE)","v":0},1,{"$f":"VLOOKUP(Jaar&L363,Trendfactoren!$A$2:$F$65,(HLOOKUP(F363,Trendfactoren!$A$1:$F$2,2,FALSE)),FALSE)","v":1},0,{"$f":"+VLOOKUP(C363,Scheepstypen!$A$1:$F$44,6,FALSE)","v":"L3"}]
["CEMT IIIM10leegbeide","CEMT III","M10","leeg","beide","Fijn stof",12.210290718187808,{"$f":"VLOOKUP(A364,Begin:Einde,7,FALSE)","v":0},1,{"$f":"VLOOKUP(Jaar&L364,Trendfactoren!$A$2:$F$65,(HLOOKUP(F364,Trendfactoren!$A$1:$F$2,2,FALSE)),FALSE)","v":1},0,{"$f":"+VLOOKUP(C364,Scheepstypen!$A$1:$F$44,6,FALSE)","v":"L3"}]
["CEMT IIIM10leegbeide","CEMT III","M10","leeg","beide","NOx",344.46153577492947,{"$f":"VLOOKUP(A365,Begin:Einde,7,FALSE)","v":0},1,{"$f":"VLOOKUP(Jaar&L365,Trendfactoren!$A$2:$F$65,(HLOOKUP(F365,Trendfactoren!$A$1:$F$2,2,FALSE)),FALSE)","v":1},0,{"$f":"+VLOOKUP(C365,Scheepstypen!$A$1:$F$44,6,FALSE)","v":"L3"}]
["CEMT IIIM11geladenbeide","CEMT III","M11","geladen","beide","Fijn stof",17.26285143803063,{"$f":"VLOOKUP(A366,Begin:Einde,7,FALSE)","v":0},1,{"$f":"VLOOKUP(Jaar&L366,Trendfactoren!$A$2:$F$65,(HLOOKUP(F366,Trendfactoren!$A$1:$F$2,2,FALSE)),FALSE)","v":1},0,{"$f":"+VLOOKUP(C366,Scheepstypen!$A$1:$F$44,6,FALSE)","v":"L3"}]
["CEMT IIIM11geladenbeide","CEMT III","M11","geladen","beide","NOx",404.87357072897032,{"$f":"VLOOKUP(A367,Begin:Einde,7,FALSE)","v":0},1,{"$f":"VLOOKUP(Jaar&L367,Trendfactoren!$A$2:$F$65,(HLOOKUP(F367,Trendfactoren!$A$1:$F$2,2,FALSE)),FALSE)","v":1},0,{"$f":"+VLOOKUP(C367,Scheepstypen!$A$1:$F$44,6,FALSE)","v":"L3"}]
["CEMT IIIM11leegbeide","CEMT III","M11","leeg","beide","Fijn stof",14.596951135143081,{"$f":"VLOOKUP(A368,Begin:Einde,7,FALSE)","v":0},1,{"$f":"VLOOKUP(Jaar&L368,Trendfactoren!$A$2:$F$65,(HLOOKUP(F368,Trendfactoren!$A$1:$F$2,2,FALSE)),FALSE)","v":1},0,{"$f":"+VLOOKUP(C368,Scheepstypen!$A$1:$F$44,6,FALSE)","v":"L3"}]
["CEMT IIIM11leegbeide","CEMT III","M11","leeg","beide","NOx",403.04568744771859,{"$f":"VLOOKUP(A369,Begin:Einde,7,FALSE)","v":0},1,{"$f":"VLOOKUP(Jaar&L369,Trendfactoren!$A$2:$F$65,(HLOOKUP(F369,Trendfactoren!$A$1:$F$2,2,FALSE)),FALSE)","v":1},0,{"$f":"+VLOOKUP(C369,Scheepstypen!$A$1:$F$44,6,FALSE)","v":"L3"}]
["CEMT IIIM12geladenbeide","CEMT III","M12","geladen","beide","Fijn stof",11.124936100769705,{"$f":"VLOOKUP(A370,Begin:Einde,7,FALSE)","v":0},1,{"$f":"VLOOKUP(Jaar&L370,Trendfactoren!$A$2:$F$65,(HLOOKUP(F370,Trendfactoren!$A$1:$F$2,2,FALSE)),FALSE)","v":1},0,{"$f":"+VLOOKUP(C370,Scheepstypen!$A$1:$F$44,6,FALSE)","v":"L3"}]
["CEMT IIIM12geladenbeide","CEMT III","M12","geladen","beide","NOx",260.91822775740133,{"$f":"VLOOKUP(A371,Begin:Einde,7,FALSE)","v":0},1,{"$f":"VLOOKUP(Jaar&L371,Trendfactoren!$A$2:$F$65,(HLOOKUP(F371,Trendfactoren!$A$1:$F$2,2,FALSE)),FALSE)","v":1},0,{"$f":"+VLOOKUP(C371,Scheepstypen!$A$1:$F$44,6,FALSE)","v":"L3"}]
["CEMT IIIM12leegbeide","CEMT III","M12","leeg","beide","Fijn stof",22.380095301853142,{"$f":"VLOOKUP(A372,Begin:Einde,7,FALSE)","v":0},1,{"$f":"VLOOKUP(Jaar&L372,Trendfactoren!$A$2:$F$65,(HLOOKUP(F372,Trendfactoren!$A$1:$F$2,2,FALSE)),FALSE)","v":1},0,{"$f":"+VLOOKUP(C372,Scheepstypen!$A$1:$F$44,6,FALSE)","v":"L3"}]
["CEMT IIIM12leegbeide","CEMT III","M12","leeg","beide","NOx",589.57915591921596,{"$f":"VLOOKUP(A373,Begin:Einde,7,FALSE)","v":0},1,{"$f":"VLOOKUP(Jaar&L373,Trendfactoren!$A$2:$F$65,(HLOOKUP(F373,Trendfactoren!$A$1:$F$2,2,FALSE)),FALSE)","v":1},0,{"$f":"+VLOOKUP(C373,Scheepstypen!$A$1:$F$44,6,FALSE)","v":"L3"}]
["CEMT IIIM2geladenbeide","CEMT III","M2","geladen","beide","Fijn stof",5.7705907877993461,{"$f":"VLOOKUP(A374,Begin:Einde,7,FALSE)","v":0},1,{"$f":"VLOOKUP(Jaar&L374,Trendfactoren!$A$2:$F$65,(HLOOKUP(F374,Trendfactoren!$A$1:$F$2,2,FALSE)),FALSE)","v":1},0,{"$f":"+VLOOKUP(C374,Scheepstypen!$A$1:$F$44,6,FALSE)","v":"L1"}]
["CEMT IIIM2geladenbeide","CEMT III","M2","geladen","beide","NOx",169.56584684486,{"$f":"VLOOKUP(A375,Begin:Einde,7,FALSE)","v":0},1,{"$f":"VLOOKUP(Jaar&L375,Trendfactoren!$A$2:$F$65,(HLOOKUP(F375,Trendfactoren!$A$1:$F$2,2,FALSE)),FALSE)","v":1},0,{"$f":"+VLOOKUP(C375,Scheepstypen!$A$1:$F$44,6,FALSE)","v":"L1"}]
["CEMT IIIM2leegbeide","CEMT III","M2","leeg","beide","Fijn stof",2.1155198675875146,{"$f":"VLOOKUP(A376,Begin:Einde,7,FALSE)","v":0},1,{"$f":"VLOOKUP(Jaar&L376,Trendfactoren!$A$2:$F$65,(HLOOKUP(F376,Trendfactoren!$A$1:$F$2,2,FALSE)),FALSE)","v":1},0,{"$f":"+VLOOKUP(C376,Scheepstypen!$A$1:$F$44,6,FALSE)","v":"L1"}]
["CEMT IIIM2leegbeide","CEMT III","M2","leeg","beide","NOx",54.872650039111477,{"$f":"VLOOKUP(A377,Begin:Einde,7,FALSE)","v":0},1,{"$f":"VLOOKUP(Jaar&L377,Trendfactoren!$A$2:$F$65,(HLOOKUP(F377,Trendfactoren!$A$1:$F$2,2,FALSE)),FALSE)","v":1},0,{"$f":"+VLOOKUP(C377,Scheepstypen!$A$1:$F$44,6,FALSE)","v":"L1"}]
["CEMT IIIM3geladenbeide","CEMT III","M3","geladen","beide","Fijn stof",5.9940735686260487,{"$f":"VLOOKUP(A378,Begin:Einde,7,FALSE)","v":0},1,{"$f":"VLOOKUP(Jaar&L378,Trendfactoren!$A$2:$F$65,(HLOOKUP(F378,Trendfactoren!$A$1:$F$2,2,FALSE)),FALSE)","v":1},0,{"$f":"+VLOOKUP(C378,Scheepstypen!$A$1:$F$44,6,FALSE)","v":"L1"}]
["CEMT IIIM3geladenbeide","CEMT III","M3","geladen","beide","NOx",170.67353044725365,{"$f":"VLOOKUP(A379,Begin:Einde,7,FALSE)","v":0},1,{"$f":"VLOOKUP(Jaar&L379,Trendfactoren!$A$2:$F$65,(HLOOKUP(F379,Trendfactoren!$A$1:$F$2,2,FALSE)),FALSE)","v":1},0,{"$f":"+VLOOKUP(C379,Scheepstypen!$A$1:$F$44,6,FALSE)","v":"L1"}]
["CEMT IIIM3leegbeide","CEMT III","M3","leeg","beide","Fijn stof",2.8002620706203216,{"$f":"VLOOKUP(A380,Begin:Einde,7,FALSE)","v":0},1,{"$f":"VLOOKUP(Jaar&L380,Trendfactoren!$A$2:$F$65,(HLOOKUP(F380,Trendfactoren!$A$1:$F$2,2,FALSE)),FALSE)","v":1},0,{"$f":"+VLOOKUP(C380,Scheepstypen!$A$1:$F$44,6,FALSE)","v":"L1"}]
["CEMT IIIM3leegbeide","CEMT III","M3","leeg","beide","NOx",73.018835075695776,{"$f":"VLOOKUP(A381,Begin:Einde,7,FALSE)","v":0},1,{"$f":"VLOOKUP(Jaar&L381,Trendfactoren!$A$2:$F$65,(HLOOKUP(F381,Trendfactoren!$A$1:$F$2,2,FALSE)),FALSE)","v":1},0,{"$f":"+VLOOKUP(C381,Scheepstypen!$A$1:$F$44,6,FALSE)","v":"L1"}]
["CEMT IIIM4geladenbeide","CEMT III","M4","geladen","beide","Fijn stof",6.6163692131960854,{"$f":"VLOOKUP(A382,Begin:Einde,7,FALSE)","v":0},1,{"$f":"VLOOKUP(Jaar&L382,Trendfactoren!$A$2:$F$65,(HLOOKUP(F382,Trendfactoren!$A$1:$F$2,2,FALSE)),FALSE)","v":1},0,{"$f":"+VLOOKUP(C382,Scheepstypen!$A$1:$F$44,6,FALSE)","v":"L1"}]
["CEMT IIIM4geladenbeide","CEMT III","M4","geladen","beide","NOx",189.59957271445882,{"$f":"VLOOKUP(A383,Begin:Einde,7,FALSE)","v":0},{"$f":"+Afstand","v":1},{"$f":"VLOOKUP(Jaar&L383,Trendfactoren!$A$2:$F$65,(HLOOKUP(F383,Trendfactoren!$A$1:$F$2,2,FALSE)),FALSE)","v":1},{"$f":"+G383*H383*I383*J383","v":0},{"$f":"+VLOOKUP(C383,Scheepstypen!$A$1:$F$44,6,FALSE)","v":"L1"}]
["CEMT IIIM4leegbeide","CEMT III","M4","leeg","beide","Fijn stof",3.4164385721614283,{"$f":"VLOOKUP(A384,Begin:Einde,7,FALSE)","v":0},1,{"$f":"VLOOKUP(Jaar&L384,Trendfactoren!$A$2:$F$65,(HLOOKUP(F384,Trendfactoren!$A$1:$F$2,2,FALSE)),FALSE)","v":1},0,{"$f":"+VLOOKUP(C384,Scheepstypen!$A$1:$F$44,6,FALSE)","v":"L1"}]
[{"$f":"+B385&C385&D385&E385","v":"CEMT IIIM4leegbeide"},"CEMT III","M4","leeg","beide","NOx",84.472742160213528,{"$f":"VLOOKUP(A385,Begin:Einde,7,FALSE)","v":0},1,{"$f":"VLOOKUP(Jaar&L385,Trendfactoren!$A$2:$F$65,(HLOOKUP(F385,Trendfactoren!$A$1:$F$2,2,FALSE)),FALSE)","v":1},0,{"$f":"+VLOOKUP(C385,Scheepstypen!$A$1:$F$44,6,FALSE)","v":"L1"}]
["CEMT IIIM5geladenbeide","CEMT III","M5","geladen","beide","Fijn stof",5.4511565421248775,{"$f":"VLOOKUP(A386,Begin:Einde,7,FALSE)","v":0},1,{"$f":"VLOOKUP(Jaar&L386,Trendfactoren!$A$2:$F$65,(HLOOKUP(F386,Trendfactoren!$A$1:$F$2,2,FALSE)),FALSE)","v":1},0,{"$f":"+VLOOKUP(C386,Scheepstypen!$A$1:$F$44,6,FALSE)","v":"L2"}]
["CEMT IIIM5geladenbeide","CEMT III","M5","geladen","beide","NOx",137.71469219930498,{"$f":"VLOOKUP(A387,Begin:Einde,7,FALSE)","v":0},1,{"$f":"VLOOKUP(Jaar&L387,Trendfactoren!$A$2:$F$65,(HLOOKUP(F387,Trendfactoren!$A$1:$F$2,2,FALSE)),FALSE)","v":1},0,{"$f":"+VLOOKUP(C387,Scheepstypen!$A$1:$F$44,6,FALSE)","v":"L2"}]
["CEMT IIIM5leegbeide","CEMT III","M5","leeg","beide","Fijn stof",2.3402500156010775,{"$f":"VLOOKUP(A388,Begin:Einde,7,FALSE)","v":0},1,{"$f":"VLOOKUP(Jaar&L388,Trendfactoren!$A$2:$F$65,(HLOOKUP(F388,Trendfactoren!$A$1:$F$2,2,FALSE)),FALSE)","v":1},0,{"$f":"+VLOOKUP(C388,Scheepstypen!$A$1:$F$44,6,FALSE)","v":"L2"}]
["CEMT IIIM5leegbeide","CEMT III","M5","leeg","beide","NOx",54.559970197395408,{"$f":"VLOOKUP(A389,Begin:Einde,7,FALSE)","v":0},1,{"$f":"VLOOKUP(Jaar&L389,Trendfactoren!$A$2:$F$65,(HLOOKUP(F389,Trendfactoren!$A$1:$F$2,2,FALSE)),FALSE)","v":1},0,{"$f":"+VLOOKUP(C389,Scheepstypen!$A$1:$F$44,6,FALSE)","v":"L2"}]
["CEMT IIIM6geladenbeide","CEMT III","M6","geladen","beide","Fijn stof",15.729698902797342,{"$f":"VLOOKUP(A390,Begin:Einde,7,FALSE)","v":0},1,{"$f":"VLOOKUP(Jaar&L390,Trendfactoren!$A$2:$F$65,(HLOOKUP(F390,Trendfactoren!$A$1:$F$2,2,FALSE)),FALSE)","v":1},0,{"$f":"+VLOOKUP(C390,Scheepstypen!$A$1:$F$44,6,FALSE)","v":"L2"}]
["CEMT IIIM6geladenbeide","CEMT III","M6","geladen","beide","NOx",483.5135588825645,{"$f":"VLOOKUP(A391,Begin:Einde,7,FALSE)","v":0},1,{"$f":"VLOOKUP(Jaar&L391,Trendfactoren!$A$2:$F$65,(HLOOKUP(F391,Trendfactoren!$A$1:$F$2,2,FALSE)),FALSE)","v":1},0,{"$f":"+VLOOKUP(C391,Scheepstypen!$A$1:$F$44,6,FALSE)","v":"L2"}]
["CEMT IIIM6leegbeide","CEMT III","M6","leeg","beide","Fijn stof",12.332474724495492,{"$f":"VLOOKUP(A392,Begin:Einde,7,FALSE)","v":0},1,{"$f":"VLOOKUP(Jaar&L392,Trendfactoren!$A$2:$F$65,(HLOOKUP(F392,Trendfactoren!$A$1:$F$2,2,FALSE)),FALSE)","v":1},0,{"$f":"+VLOOKUP(C392,Scheepstypen!$A$1:$F$44,6,FALSE)","v":"L2"}]
["CEMT IIIM6leegbeide","CEMT III","M6","leeg","beide","NOx",378.46111433293862,{"$f":"VLOOKUP(A393,Begin:Einde,7,FALSE)","v":0},1,{"$f":"VLOOKUP(Jaar&L393,Trendfactoren!$A$2:$F$65,(HLOOKUP(F393,Trendfactoren!$A$1:$F$2,2,FALSE)),FALSE)","v":1},0,{"$f":"+VLOOKUP(C393,Scheepstypen!$A$1:$F$44,6,FALSE)","v":"L2"}]
["CEMT IIIM7geladenbeide","CEMT III","M7","geladen","beide","Fijn stof",15.836494483811013,{"$f":"VLOOKUP(A394,Begin:Einde,7,FALSE)","v":0},1,{"$f":"VLOOKUP(Jaar&L394,Trendfactoren!$A$2:$F$65,(HLOOKUP(F394,Trendfactoren!$A$1:$F$2,2,FALSE)),FALSE)","v":1},0,{"$f":"+VLOOKUP(C394,Scheepstypen!$A$1:$F$44,6,FALSE)","v":"L2"}]
["CEMT IIIM7geladenbeide","CEMT III","M7","geladen","beide","NOx",479.99910357571548,{"$f":"VLOOKUP(A395,Begin:Einde,7,FALSE)","v":0},1,{"$f":"VLOOKUP(Jaar&L395,Trendfactoren!$A$2:$F$65,(HLOOKUP(F395,Trendfactoren!$A$1:$F$2,2,FALSE)),FALSE)","v":1},0,{"$f":"+VLOOKUP(C395,Scheepstypen!$A$1:$F$44,6,FALSE)","v":"L2"}]
["CEMT IIIM7leegbeide","CEMT III","M7","leeg","beide","Fijn stof",6.1969444825643558,{"$f":"VLOOKUP(A396,Begin:Einde,7,FALSE)","v":0},1,{"$f":"VLOOKUP(Jaar&L396,Trendfactoren!$A$2:$F$65,(HLOOKUP(F396,Trendfactoren!$A$1:$F$2,2,FALSE)),FALSE)","v":1},0,{"$f":"+VLOOKUP(C396,Scheepstypen!$A$1:$F$44,6,FALSE)","v":"L2"}]
["CEMT IIIM7leegbeide","CEMT III","M7","leeg","beide","NOx",167.48465776070833,{"$f":"VLOOKUP(A397,Begin:Einde,7,FALSE)","v":0},1,{"$f":"VLOOKUP(Jaar&L397,Trendfactoren!$A$2:$F$65,(HLOOKUP(F397,Trendfactoren!$A$1:$F$2,2,FALSE)),FALSE)","v":1},0,{"$f":"+VLOOKUP(C397,Scheepstypen!$A$1:$F$44,6,FALSE)","v":"L2"}]
["CEMT IIIM8geladenbeide","CEMT III","M8","geladen","beide","Fijn stof",29.450340317549919,{"$f":"VLOOKUP(A398,Begin:Einde,7,FALSE)","v":0},1,{"$f":"VLOOKUP(Jaar&L398,Trendfactoren!$A$2:$F$65,(HLOOKUP(F398,Trendfactoren!$A$1:$F$2,2,FALSE)),FALSE)","v":1},0,{"$f":"+VLOOKUP(C398,Scheepstypen!$A$1:$F$44,6,FALSE)","v":"L3"}]
["CEMT IIIM8geladenbeide","CEMT III","M8","geladen","beide","NOx",908.28132969980311,{"$f":"VLOOKUP(A399,Begin:Einde,7,FALSE)","v":0},1,{"$f":"VLOOKUP(Jaar&L399,Trendfactoren!$A$2:$F$65,(HLOOKUP(F399,Trendfactoren!$A$1:$F$2,2,FALSE)),FALSE)","v":1},0,{"$f":"+VLOOKUP(C399,Scheepstypen!$A$1:$F$44,6,FALSE)","v":"L3"}]
["CEMT IIIM8leegbeide","CEMT III","M8","leeg","beide","Fijn stof",19.669717783751352,{"$f":"VLOOKUP(A400,Begin:Einde,7,FALSE)","v":0},1,{"$f":"VLOOKUP(Jaar&L400,Trendfactoren!$A$2:$F$65,(HLOOKUP(F400,Trendfactoren!$A$1:$F$2,2,FALSE)),FALSE)","v":1},0,{"$f":"+VLOOKUP(C400,Scheepstypen!$A$1:$F$44,6,FALSE)","v":"L3"}]
["CEMT IIIM8leegbeide","CEMT III","M8","leeg","beide","NOx",603.22203835451182,{"$f":"VLOOKUP(A401,Begin:Einde,7,FALSE)","v":0},1,{"$f":"VLOOKUP(Jaar&L401,Trendfactoren!$A$2:$F$65,(HLOOKUP(F401,Trendfactoren!$A$1:$F$2,2,FALSE)),FALSE)","v":1},0,{"$f":"+VLOOKUP(C401,Scheepstypen!$A$1:$F$44,6,FALSE)","v":"L3"}]
["CEMT IIIM9geladenbeide","CEMT III","M9","geladen","beide","Fijn stof",11.007180706678048,{"$f":"VLOOKUP(A402,Begin:Einde,7,FALSE)","v":0},1,{"$f":"VLOOKUP(Jaar&L402,Trendfactoren!$A$2:$F$65,(HLOOKUP(F402,Trendfactoren!$A$1:$F$2,2,FALSE)),FALSE)","v":1},0,{"$f":"+VLOOKUP(C402,Scheepstypen!$A$1:$F$44,6,FALSE)","v":"L3"}]
["CEMT IIIM9geladenbeide","CEMT III","M9","geladen","beide","NOx",259.15935418099969,{"$f":"VLOOKUP(A403,Begin:Einde,7,FALSE)","v":0},1,{"$f":"VLOOKUP(Jaar&L403,Trendfactoren!$A$2:$F$65,(HLOOKUP(F403,Trendfactoren!$A$1:$F$2,2,FALSE)),FALSE)","v":1},0,{"$f":"+VLOOKUP(C403,Scheepstypen!$A$1:$F$44,6,FALSE)","v":"L3"}]
["CEMT IIIM9leegbeide","CEMT III","M9","leeg","beide","Fijn stof",13.776659943542771,{"$f":"VLOOKUP(A404,Begin:Einde,7,FALSE)","v":0},1,{"$f":"VLOOKUP(Jaar&L404,Trendfactoren!$A$2:$F$65,(HLOOKUP(F404,Trendfactoren!$A$1:$F$2,2,FALSE)),FALSE)","v":1},0,{"$f":"+VLOOKUP(C404,Scheepstypen!$A$1:$F$44,6,FALSE)","v":"L3"}]
["CEMT IIIM9leegbeide","CEMT III","M9","leeg","beide","NOx",373.19380235016251,{"$f":"VLOOKUP(A405,Begin:Einde,7,FALSE)","v":0},1,{"$f":"VLOOKUP(Jaar&L405,Trendfactoren!$A$2:$F$65,(HLOOKUP(F405,Trendfactoren!$A$1:$F$2,2,FALSE)),FALSE)","v":1},0,{"$f":"+VLOOKUP(C405,Scheepstypen!$A$1:$F$44,6,FALSE)","v":"L3"}]
["CEMT IVBIgeladenbeide","CEMT IV","BI","geladen","beide","Fijn stof",6.8667463276057497,{"$f":"VLOOKUP(A406,Begin:Einde,7,FALSE)","v":0},1,{"$f":"VLOOKUP(Jaar&L406,Trendfactoren!$A$2:$F$65,(HLOOKUP(F406,Trendfactoren!$A$1:$F$2,2,FALSE)),FALSE)","v":1},0,{"$f":"+VLOOKUP(C406,Scheepstypen!$A$1:$F$44,6,FALSE)","v":"L2"}]
["CEMT IVBIgeladenbeide","CEMT IV","BI","geladen","beide","NOx",172.85272154679996,{"$f":"VLOOKUP(A407,Begin:Einde,7,FALSE)","v":0},1,{"$f":"VLOOKUP(Jaar&L407,Trendfactoren!$A$2:$F$65,(HLOOKUP(F407,Trendfactoren!$A$1:$F$2,2,FALSE)),FALSE)","v":1},0,{"$f":"+VLOOKUP(C407,Scheepstypen!$A$1:$F$44,6,FALSE)","v":"L2"}]
["CEMT IVBIleegbeide","CEMT IV","BI","leeg","beide","Fijn stof",5.434865256378548,{"$f":"VLOOKUP(A408,Begin:Einde,7,FALSE)","v":0},1,{"$f":"VLOOKUP(Jaar&L408,Trendfactoren!$A$2:$F$65,(HLOOKUP(F408,Trendfactoren!$A$1:$F$2,2,FALSE)),FALSE)","v":1},0,{"$f":"+VLOOKUP(C408,Scheepstypen!$A$1:$F$44,6,FALSE)","v":"L2"}]
["CEMT IVBIleegbeide","CEMT IV","BI","leeg","beide","NOx",127.17443772020714,{"$f":"VLOOKUP(A409,Begin:Einde,7,FALSE)","v":0},1,{"$f":"VLOOKUP(Jaar&L409,Trendfactoren!$A$2:$F$65,(HLOOKUP(F409,Trendfactoren!$A$1:$F$2,2,FALSE)),FALSE)","v":1},0,{"$f":"+VLOOKUP(C409,Scheepstypen!$A$1:$F$44,6,FALSE)","v":"L2"}]
["CEMT IVBII-1geladenbeide","CEMT IV","BII-1","geladen","beide","Fijn stof",22.490550003782477,{"$f":"VLOOKUP(A410,Begin:Einde,7,FALSE)","v":0},1,{"$f":"VLOOKUP(Jaar&L410,Trendfactoren!$A$2:$F$65,(HLOOKUP(F410,Trendfactoren!$A$1:$F$2,2,FALSE)),FALSE)","v":1},0,{"$f":"+VLOOKUP(C410,Scheepstypen!$A$1:$F$44,6,FALSE)","v":"L2"}]
["CEMT IVBII-1geladenbeide","CEMT IV","BII-1","geladen","beide","NOx",688.68965327513911,{"$f":"VLOOKUP(A411,Begin:Einde,7,FALSE)","v":0},1,{"$f":"VLOOKUP(Jaar&L411,Trendfactoren!$A$2:$F$65,(HLOOKUP(F411,Trendfactoren!$A$1:$F$2,2,FALSE)),FALSE)","v":1},0,{"$f":"+VLOOKUP(C411,Scheepstypen!$A$1:$F$44,6,FALSE)","v":"L2"}]
["CEMT IVBII-1leegbeide","CEMT IV","BII-1","leeg","beide","Fijn stof",8.5538260832886479,{"$f":"VLOOKUP(A412,Begin:Einde,7,FALSE)","v":0},1,{"$f":"VLOOKUP(Jaar&L412,Trendfactoren!$A$2:$F$65,(HLOOKUP(F412,Trendfactoren!$A$1:$F$2,2,FALSE)),FALSE)","v":1},0,{"$f":"+VLOOKUP(C412,Scheepstypen!$A$1:$F$44,6,FALSE)","v":"L2"}]
["CEMT IVBII-1leegbeide","CEMT IV","BII-1","leeg","beide","NOx",239.63959065209494,{"$f":"VLOOKUP(A413,Begin:Einde,7,FALSE)","v":0},1,{"$f":"VLOOKUP(Jaar&L413,Trendfactoren!$A$2:$F$65,(HLOOKUP(F413,Trendfactoren!$A$1:$F$2,2,FALSE)),FALSE)","v":1},0,{"$f":"+VLOOKUP(C413,Scheepstypen!$A$1:$F$44,6,FALSE)","v":"L2"}]
["CEMT IVBII-2Bgeladenbeide","CEMT IV","BII-2B","geladen","beide","Fijn stof",64.326774358080911,{"$f":"VLOOKUP(A414,Begin:Einde,7,FALSE)","v":0},1,{"$f":"VLOOKUP(Jaar&L414,Trendfactoren!$A$2:$F$65,(HLOOKUP(F414,Trendfactoren!$A$1:$F$2,2,FALSE)),FALSE)","v":1},0,{"$f":"+VLOOKUP(C414,Scheepstypen!$A$1:$F$44,6,FALSE)","v":"L3"}]
["CEMT IVBII-2Bgeladenbeide","CEMT IV","BII-2B","geladen","beide","NOx",1989.6625182416497,{"$f":"VLOOKUP(A415,Begin:Einde,7,FALSE)","v":0},1,{"$f":"VLOOKUP(Jaar&L415,Trendfactoren!$A$2:$F$65,(HLOOKUP(F415,Trendfactoren!$A$1:$F$2,2,FALSE)),FALSE)","v":1},0,{"$f":"+VLOOKUP(C415,Scheepstypen!$A$1:$F$44,6,FALSE)","v":"L3"}]
["CEMT IVBII-2Bleegbeide","CEMT IV","BII-2B","leeg","beide","Fijn stof",22.631400638298718,{"$f":"VLOOKUP(A416,Begin:Einde,7,FALSE)","v":0},1,{"$f":"VLOOKUP(Jaar&L416,Trendfactoren!$A$2:$F$65,(HLOOKUP(F416,Trendfactoren!$A$1:$F$2,2,FALSE)),FALSE)","v":1},0,{"$f":"+VLOOKUP(C416,Scheepstypen!$A$1:$F$44,6,FALSE)","v":"L3"}]
["CEMT IVBII-2Bleegbeide","CEMT IV","BII-2B","leeg","beide","NOx",671.45054050357965,{"$f":"VLOOKUP(A417,Begin:Einde,7,FALSE)","v":0},1,{"$f":"VLOOKUP(Jaar&L417,Trendfactoren!$A$2:$F$65,(HLOOKUP(F417,Trendfactoren!$A$1:$F$2,2,FALSE)),FALSE)","v":1},0,{"$f":"+VLOOKUP(C417,Scheepstypen!$A$1:$F$44,6,FALSE)","v":"L3"}]
["CEMT IVBII-2Lgeladenbeide","CEMT IV","BII-2L","geladen","beide","Fijn stof",23.886916544943915,{"$f":"VLOOKUP(A418,Begin:Einde,7,FALSE)","v":0},1,{"$f":"VLOOKUP(Jaar&L418,Trendfactoren!$A$2:$F$65,(HLOOKUP(F418,Trendfactoren!$A$1:$F$2,2,FALSE)),FALSE)","v":1},0,{"$f":"+VLOOKUP(C418,Scheepstypen!$A$1:$F$44,6,FALSE)","v":"L3"}]
["CEMT IVBII-2Lgeladenbeide","CEMT IV","BII-2L","geladen","beide","NOx",721.15172408433716,{"$f":"VLOOKUP(A419,Begin:Einde,7,FALSE)","v":0},1,{"$f":"VLOOKUP(Jaar&L419,Trendfactoren!$A$2:$F$65,(HLOOKUP(F419,Trendfactoren!$A$1:$F$2,2,FALSE)),FALSE)","v":1},0,{"$f":"+VLOOKUP(C419,Scheepstypen!$A$1:$F$44,6,FALSE)","v":"L3"}]
["CEMT IVBII-2Lleegbeide","CEMT IV","BII-2L","leeg","beide","Fijn stof",14.720494480525167,{"$f":"VLOOKUP(A420,Begin:Einde,7,FALSE)","v":0},1,{"$f":"VLOOKUP(Jaar&L420,Trendfactoren!$A$2:$F$65,(HLOOKUP(F420,Trendfactoren!$A$1:$F$2,2,FALSE)),FALSE)","v":1},0,{"$f":"+VLOOKUP(C420,Scheepstypen!$A$1:$F$44,6,FALSE)","v":"L3"}]
["CEMT IVBII-2Lleegbeide","CEMT IV","BII-2L","leeg","beide","NOx",429.08575899961875,{"$f":"VLOOKUP(A421,Begin:Einde,7,FALSE)","v":0},1,{"$f":"VLOOKUP(Jaar&L421,Trendfactoren!$A$2:$F$65,(HLOOKUP(F421,Trendfactoren!$A$1:$F$2,2,FALSE)),FALSE)","v":1},0,{"$f":"+VLOOKUP(C421,Scheepstypen!$A$1:$F$44,6,FALSE)","v":"L3"}]
["CEMT IVBII-4geladenbeide","CEMT IV","BII-4","geladen","beide","Fijn stof",94.785310902734238,{"$f":"VLOOKUP(A422,Begin:Einde,7,FALSE)","v":0},1,{"$f":"VLOOKUP(Jaar&L422,Trendfactoren!$A$2:$F$65,(HLOOKUP(F422,Trendfactoren!$A$1:$F$2,2,FALSE)),FALSE)","v":1},0,{"$f":"+VLOOKUP(C422,Scheepstypen!$A$1:$F$44,6,FALSE)","v":"L3"}]
["CEMT IVBII-4geladenbeide","CEMT IV","BII-4","geladen","beide","NOx",2947.3041990484076,{"$f":"VLOOKUP(A423,Begin:Einde,7,FALSE)","v":0},1,{"$f":"VLOOKUP(Jaar&L423,Trendfactoren!$A$2:$F$65,(HLOOKUP(F423,Trendfactoren!$A$1:$F$2,2,FALSE)),FALSE)","v":1},0,{"$f":"+VLOOKUP(C423,Scheepstypen!$A$1:$F$44,6,FALSE)","v":"L3"}]
["CEMT IVBII-4leegbeide","CEMT IV","BII-4","leeg","beide","Fijn stof",53.948860939885606,{"$f":"VLOOKUP(A424,Begin:Einde,7,FALSE)","v":0},1,{"$f":"VLOOKUP(Jaar&L424,Trendfactoren!$A$2:$F$65,(HLOOKUP(F424,Trendfactoren!$A$1:$F$2,2,FALSE)),FALSE)","v":1},0,{"$f":"+VLOOKUP(C424,Scheepstypen!$A$1:$F$44,6,FALSE)","v":"L3"}]
["CEMT IVBII-4leegbeide","CEMT IV","BII-4","leeg","beide","NOx",1585.3308837087652,{"$f":"VLOOKUP(A425,Begin:Einde,7,FALSE)","v":0},1,{"$f":"VLOOKUP(Jaar&L425,Trendfactoren!$A$2:$F$65,(HLOOKUP(F425,Trendfactoren!$A$1:$F$2,2,FALSE)),FALSE)","v":1},0,{"$f":"+VLOOKUP(C425,Scheepstypen!$A$1:$F$44,6,FALSE)","v":"L3"}]
["CEMT IVBII-6Bleegbeide","CEMT IV","BII-6B","leeg","beide","Fijn stof",57.168869257106842,{"$f":"VLOOKUP(A426,Begin:Einde,7,FALSE)","v":0},1,{"$f":"VLOOKUP(Jaar&L426,Trendfactoren!$A$2:$F$65,(HLOOKUP(F426,Trendfactoren!$A$1:$F$2,2,FALSE)),FALSE)","v":1},0,{"$f":"+VLOOKUP(C426,Scheepstypen!$A$1:$F$44,6,FALSE)","v":"L3"}]
["CEMT IVBII-6Bleegbeide","CEMT IV","BII-6B","leeg","beide","NOx",1727.1035294321503,{"$f":"VLOOKUP(A427,Begin:Einde,7,FALSE)","v":0},1,{"$f":"VLOOKUP(Jaar&L427,Trendfactoren!$A$2:$F$65,(HLOOKUP(F427,Trendfactoren!$A$1:$F$2,2,FALSE)),FALSE)","v":1},0,{"$f":"+VLOOKUP(C427,Scheepstypen!$A$1:$F$44,6,FALSE)","v":"L3"}]
["CEMT IVBII-6Lgeladenbeide","CEMT IV","BII-6L","geladen","beide","Fijn stof",139.1248383016958,{"$f":"VLOOKUP(A428,Begin:Einde,7,FALSE)","v":0},1,{"$f":"VLOOKUP(Jaar&L428,Trendfactoren!$A$2:$F$65,(HLOOKUP(F428,Trendfactoren!$A$1:$F$2,2,FALSE)),FALSE)","v":1},0,{"$f":"+VLOOKUP(C428,Scheepstypen!$A$1:$F$44,6,FALSE)","v":"L3"}]
["CEMT IVBII-6Lgeladenbeide","CEMT IV","BII-6L","geladen","beide","NOx",4023.8980575339597,{"$f":"VLOOKUP(A429,Begin:Einde,7,FALSE)","v":0},1,{"$f":"VLOOKUP(Jaar&L429,Trendfactoren!$A$2:$F$65,(HLOOKUP(F429,Trendfactoren!$A$1:$F$2,2,FALSE)),FALSE)","v":1},0,{"$f":"+VLOOKUP(C429,Scheepstypen!$A$1:$F$44,6,FALSE)","v":"L3"}]
["CEMT IVBO1geladenbeide","CEMT IV","BO1","geladen","beide","Fijn stof",4.3493581831356725,{"$f":"VLOOKUP(A430,Begin:Einde,7,FALSE)","v":0},1,{"$f":"VLOOKUP(Jaar&L430,Trendfactoren!$A$2:$F$65,(HLOOKUP(F430,Trendfactoren!$A$1:$F$2,2,FALSE)),FALSE)","v":1},0,{"$f":"+VLOOKUP(C430,Scheepstypen!$A$1:$F$44,6,FALSE)","v":"L1"}]
["CEMT IVBO1geladenbeide","CEMT IV","BO1","geladen","beide","NOx",129.45046128715404,{"$f":"VLOOKUP(A431,Begin:Einde,7,FALSE)","v":0},1,{"$f":"VLOOKUP(Jaar&L431,Trendfactoren!$A$2:$F$65,(HLOOKUP(F431,Trendfactoren!$A$1:$F$2,2,FALSE)),FALSE)","v":1},0,{"$f":"+VLOOKUP(C431,Scheepstypen!$A$1:$F$44,6,FALSE)","v":"L1"}]
["CEMT IVBO1leegbeide","CEMT IV","BO1","leeg","beide","Fijn stof",2.9525056284968327,{"$f":"VLOOKUP(A432,Begin:Einde,7,FALSE)","v":0},1,{"$f":"VLOOKUP(Jaar&L432,Trendfactoren!$A$2:$F$65,(HLOOKUP(F432,Trendfactoren!$A$1:$F$2,2,FALSE)),FALSE)","v":1},0,{"$f":"+VLOOKUP(C432,Scheepstypen!$A$1:$F$44,6,FALSE)","v":"L1"}]
["CEMT IVBO1leegbeide","CEMT IV","BO1","leeg","beide","NOx",87.807076829874035,{"$f":"VLOOKUP(A433,Begin:Einde,7,FALSE)","v":0},1,{"$f":"VLOOKUP(Jaar&L433,Trendfactoren!$A$2:$F$65,(HLOOKUP(F433,Trendfactoren!$A$1:$F$2,2,FALSE)),FALSE)","v":1},0,{"$f":"+VLOOKUP(C433,Scheepstypen!$A$1:$F$44,6,FALSE)","v":"L1"}]
["CEMT IVBO2geladenbeide","CEMT IV","BO2","geladen","beide","Fijn stof",7.7761474721522132,{"$f":"VLOOKUP(A434,Begin:Einde,7,FALSE)","v":0},1,{"$f":"VLOOKUP(Jaar&L434,Trendfactoren!$A$2:$F$65,(HLOOKUP(F434,Trendfactoren!$A$1:$F$2,2,FALSE)),FALSE)","v":1},0,{"$f":"+VLOOKUP(C434,Scheepstypen!$A$1:$F$44,6,FALSE)","v":"L1"}]
["CEMT IVBO2geladenbeide","CEMT IV","BO2","geladen","beide","NOx",232.47209419602052,{"$f":"VLOOKUP(A435,Begin:Einde,7,FALSE)","v":0},1,{"$f":"VLOOKUP(Jaar&L435,Trendfactoren!$A$2:$F$65,(HLOOKUP(F435,Trendfactoren!$A$1:$F$2,2,FALSE)),FALSE)","v":1},0,{"$f":"+VLOOKUP(C435,Scheepstypen!$A$1:$F$44,6,FALSE)","v":"L1"}]
["CEMT IVBO2leegbeide","CEMT IV","BO2","leeg","beide","Fijn stof",4.2447743708712764,{"$f":"VLOOKUP(A436,Begin:Einde,7,FALSE)","v":0},1,{"$f":"VLOOKUP(Jaar&L436,Trendfactoren!$A$2:$F$65,(HLOOKUP(F436,Trendfactoren!$A$1:$F$2,2,FALSE)),FALSE)","v":1},0,{"$f":"+VLOOKUP(C436,Scheepstypen!$A$1:$F$44,6,FALSE)","v":"L1"}]
["CEMT IVBO2leegbeide","CEMT IV","BO2","leeg","beide","NOx",126.22674089363559,{"$f":"VLOOKUP(A437,Begin:Einde,7,FALSE)","v":0},1,{"$f":"VLOOKUP(Jaar&L437,Trendfactoren!$A$2:$F$65,(HLOOKUP(F437,Trendfactoren!$A$1:$F$2,2,FALSE)),FALSE)","v":1},0,{"$f":"+VLOOKUP(C437,Scheepstypen!$A$1:$F$44,6,FALSE)","v":"L1"}]
["CEMT IVBO3geladenbeide","CEMT IV","BO3","geladen","beide","Fijn stof",10.370071637976569,{"$f":"VLOOKUP(A438,Begin:Einde,7,FALSE)","v":0},1,{"$f":"VLOOKUP(Jaar&L438,Trendfactoren!$A$2:$F$65,(HLOOKUP(F438,Trendfactoren!$A$1:$F$2,2,FALSE)),FALSE)","v":1},0,{"$f":"+VLOOKUP(C438,Scheepstypen!$A$1:$F$44,6,FALSE)","v":"L1"}]
["CEMT IVBO3geladenbeide","CEMT IV","BO3","geladen","beide","NOx",307.50509539396876,{"$f":"VLOOKUP(A439,Begin:Einde,7,FALSE)","v":0},1,{"$f":"VLOOKUP(Jaar&L439,Trendfactoren!$A$2:$F$65,(HLOOKUP(F439,Trendfactoren!$A$1:$F$2,2,FALSE)),FALSE)","v":1},0,{"$f":"+VLOOKUP(C439,Scheepstypen!$A$1:$F$44,6,FALSE)","v":"L1"}]
["CEMT IVBO3leegbeide","CEMT IV","BO3","leeg","beide","Fijn stof",5.7860763438336482,{"$f":"VLOOKUP(A440,Begin:Einde,7,FALSE)","v":0},1,{"$f":"VLOOKUP(Jaar&L440,Trendfactoren!$A$2:$F$65,(HLOOKUP(F440,Trendfactoren!$A$1:$F$2,2,FALSE)),FALSE)","v":1},0,{"$f":"+VLOOKUP(C440,Scheepstypen!$A$1:$F$44,6,FALSE)","v":"L1"}]
["CEMT IVBO3leegbeide","CEMT IV","BO3","leeg","beide","NOx",170.66650073871699,{"$f":"VLOOKUP(A441,Begin:Einde,7,FALSE)","v":0},1,{"$f":"VLOOKUP(Jaar&L441,Trendfactoren!$A$2:$F$65,(HLOOKUP(F441,Trendfactoren!$A$1:$F$2,2,FALSE)),FALSE)","v":1},0,{"$f":"+VLOOKUP(C441,Scheepstypen!$A$1:$F$44,6,FALSE)","v":"L1"}]
["CEMT IVBO4geladenbeide","CEMT IV","BO4","geladen","beide","Fijn stof",10.870366678027491,{"$f":"VLOOKUP(A442,Begin:Einde,7,FALSE)","v":0},1,{"$f":"VLOOKUP(Jaar&L442,Trendfactoren!$A$2:$F$65,(HLOOKUP(F442,Trendfactoren!$A$1:$F$2,2,FALSE)),FALSE)","v":1},0,{"$f":"+VLOOKUP(C442,Scheepstypen!$A$1:$F$44,6,FALSE)","v":"L1"}]
["CEMT IVBO4geladenbeide","CEMT IV","BO4","geladen","beide","NOx",321.40394085436213,{"$f":"VLOOKUP(A443,Begin:Einde,7,FALSE)","v":0},1,{"$f":"VLOOKUP(Jaar&L443,Trendfactoren!$A$2:$F$65,(HLOOKUP(F443,Trendfactoren!$A$1:$F$2,2,FALSE)),FALSE)","v":1},0,{"$f":"+VLOOKUP(C443,Scheepstypen!$A$1:$F$44,6,FALSE)","v":"L1"}]
["CEMT IVBO4leegbeide","CEMT IV","BO4","leeg","beide","Fijn stof",6.2063534943252963,{"$f":"VLOOKUP(A444,Begin:Einde,7,FALSE)","v":0},1,{"$f":"VLOOKUP(Jaar&L444,Trendfactoren!$A$2:$F$65,(HLOOKUP(F444,Trendfactoren!$A$1:$F$2,2,FALSE)),FALSE)","v":1},0,{"$f":"+VLOOKUP(C444,Scheepstypen!$A$1:$F$44,6,FALSE)","v":"L1"}]
["CEMT IVBO4leegbeide","CEMT IV","BO4","leeg","beide","NOx",182.49256858755709,{"$f":"VLOOKUP(A445,Begin:Einde,7,FALSE)","v":0},1,{"$f":"VLOOKUP(Jaar&L445,Trendfactoren!$A$2:$F$65,(HLOOKUP(F445,Trendfactoren!$A$1:$F$2,2,FALSE)),FALSE)","v":1},0,{"$f":"+VLOOKUP(C445,Scheepstypen!$A$1:$F$44,6,FALSE)","v":"L1"}]
["CEMT IVC1bgeladenbeide","CEMT IV","C1b","geladen","beide","Fijn stof",7.1072205941826878,{"$f":"VLOOKUP(A446,Begin:Einde,7,FALSE)","v":0},1,{"$f":"VLOOKUP(Jaar&L446,Trendfactoren!$A$2:$F$65,(HLOOKUP(F446,Trendfactoren!$A$1:$F$2,2,FALSE)),FALSE)","v":1},0,{"$f":"+VLOOKUP(C446,Scheepstypen!$A$1:$F$44,6,FALSE)","v":"L1"}]
["CEMT IVC1bgeladenbeide","CEMT IV","C1b","geladen","beide","NOx",212.48777900591264,{"$f":"VLOOKUP(A447,Begin:Einde,7,FALSE)","v":0},{"$f":"+Afstand","v":1},{"$f":"VLOOKUP(Jaar&L447,Trendfactoren!$A$2:$F$65,(HLOOKUP(F447,Trendfactoren!$A$1:$F$2,2,FALSE)),FALSE)","v":1},{"$f":"+G447*H447*I447*J447","v":0},{"$f":"+VLOOKUP(C447,Scheepstypen!$A$1:$F$44,6,FALSE)","v":"L1"}]
["CEMT IVC1bleegbeide","CEMT IV","C1b","leeg","beide","Fijn stof",3.5590724210282265,{"$f":"VLOOKUP(A448,Begin:Einde,7,FALSE)","v":0},1,{"$f":"VLOOKUP(Jaar&L448,Trendfactoren!$A$2:$F$65,(HLOOKUP(F448,Trendfactoren!$A$1:$F$2,2,FALSE)),FALSE)","v":1},0,{"$f":"+VLOOKUP(C448,Scheepstypen!$A$1:$F$44,6,FALSE)","v":"L1"}]
[{"$f":"+B449&C449&D449&E449","v":"CEMT IVC1bleegbeide"},"CEMT IV","C1b","leeg","beide","NOx",101.27548750641552,{"$f":"VLOOKUP(A449,Begin:Einde,7,FALSE)","v":0},1,{"$f":"VLOOKUP(Jaar&L449,Trendfactoren!$A$2:$F$65,(HLOOKUP(F449,Trendfactoren!$A$1:$F$2,2,FALSE)),FALSE)","v":1},0,{"$f":"+VLOOKUP(C449,Scheepstypen!$A$1:$F$44,6,FALSE)","v":"L1"}]
["CEMT IVC1lgeladenbeide","CEMT IV","C1l","geladen","beide","Fijn stof",4.9491990309982796,{"$f":"VLOOKUP(A450,Begin:Einde,7,FALSE)","v":0},1,{"$f":"VLOOKUP(Jaar&L450,Trendfactoren!$A$2:$F$65,(HLOOKUP(F450,Trendfactoren!$A$1:$F$2,2,FALSE)),FALSE)","v":1},0,{"$f":"+VLOOKUP(C450,Scheepstypen!$A$1:$F$44,6,FALSE)","v":"L1"}]
["CEMT IVC1lgeladenbeide","CEMT IV","C1l","geladen","beide","NOx",146.07149759007498,{"$f":"VLOOKUP(A451,Begin:Einde,7,FALSE)","v":0},1,{"$f":"VLOOKUP(Jaar&L451,Trendfactoren!$A$2:$F$65,(HLOOKUP(F451,Trendfactoren!$A$1:$F$2,2,FALSE)),FALSE)","v":1},0,{"$f":"+VLOOKUP(C451,Scheepstypen!$A$1:$F$44,6,FALSE)","v":"L1"}]
["CEMT IVC1lleegbeide","CEMT IV","C1l","leeg","beide","Fijn stof",3.4851334948924131,{"$f":"VLOOKUP(A452,Begin:Einde,7,FALSE)","v":0},1,{"$f":"VLOOKUP(Jaar&L452,Trendfactoren!$A$2:$F$65,(HLOOKUP(F452,Trendfactoren!$A$1:$F$2,2,FALSE)),FALSE)","v":1},0,{"$f":"+VLOOKUP(C452,Scheepstypen!$A$1:$F$44,6,FALSE)","v":"L1"}]
["CEMT IVC1lleegbeide","CEMT IV","C1l","leeg","beide","NOx",101.53587048659739,{"$f":"VLOOKUP(A453,Begin:Einde,7,FALSE)","v":0},1,{"$f":"VLOOKUP(Jaar&L453,Trendfactoren!$A$2:$F$65,(HLOOKUP(F453,Trendfactoren!$A$1:$F$2,2,FALSE)),FALSE)","v":1},0,{"$f":"+VLOOKUP(C453,Scheepstypen!$A$1:$F$44,6,FALSE)","v":"L1"}]
["CEMT IVC2bgeladenbeide","CEMT IV","C2b","geladen","beide","Fijn stof",16.854250313342934,{"$f":"VLOOKUP(A454,Begin:Einde,7,FALSE)","v":0},1,{"$f":"VLOOKUP(Jaar&L454,Trendfactoren!$A$2:$F$65,(HLOOKUP(F454,Trendfactoren!$A$1:$F$2,2,FALSE)),FALSE)","v":1},0,{"$f":"+VLOOKUP(C454,Scheepstypen!$A$1:$F$44,6,FALSE)","v":"L2"}]
["CEMT IVC2bgeladenbeide","CEMT IV","C2b","geladen","beide","NOx",424.68930350055541,{"$f":"VLOOKUP(A455,Begin:Einde,7,FALSE)","v":0},1,{"$f":"VLOOKUP(Jaar&L455,Trendfactoren!$A$2:$F$65,(HLOOKUP(F455,Trendfactoren!$A$1:$F$2,2,FALSE)),FALSE)","v":1},0,{"$f":"+VLOOKUP(C455,Scheepstypen!$A$1:$F$44,6,FALSE)","v":"L2"}]
["CEMT IVC2bleegbeide","CEMT IV","C2b","leeg","beide","Fijn stof",13.929522524616093,{"$f":"VLOOKUP(A456,Begin:Einde,7,FALSE)","v":0},1,{"$f":"VLOOKUP(Jaar&L456,Trendfactoren!$A$2:$F$65,(HLOOKUP(F456,Trendfactoren!$A$1:$F$2,2,FALSE)),FALSE)","v":1},0,{"$f":"+VLOOKUP(C456,Scheepstypen!$A$1:$F$44,6,FALSE)","v":"L2"}]
["CEMT IVC2bleegbeide","CEMT IV","C2b","leeg","beide","NOx",403.00866858395221,{"$f":"VLOOKUP(A457,Begin:Einde,7,FALSE)","v":0},1,{"$f":"VLOOKUP(Jaar&L457,Trendfactoren!$A$2:$F$65,(HLOOKUP(F457,Trendfactoren!$A$1:$F$2,2,FALSE)),FALSE)","v":1},0,{"$f":"+VLOOKUP(C457,Scheepstypen!$A$1:$F$44,6,FALSE)","v":"L2"}]
["CEMT IVC2lgeladenbeide","CEMT IV","C2l","geladen","beide","Fijn stof",21.262962679824359,{"$f":"VLOOKUP(A458,Begin:Einde,7,FALSE)","v":0},1,{"$f":"VLOOKUP(Jaar&L458,Trendfactoren!$A$2:$F$65,(HLOOKUP(F458,Trendfactoren!$A$1:$F$2,2,FALSE)),FALSE)","v":1},0,{"$f":"+VLOOKUP(C458,Scheepstypen!$A$1:$F$44,6,FALSE)","v":"L2"}]
["CEMT IVC2lgeladenbeide","CEMT IV","C2l","geladen","beide","NOx",635.85251131455232,{"$f":"VLOOKUP(A459,Begin:Einde,7,FALSE)","v":0},1,{"$f":"VLOOKUP(Jaar&L459,Trendfactoren!$A$2:$F$65,(HLOOKUP(F459,Trendfactoren!$A$1:$F$2,2,FALSE)),FALSE)","v":1},0,{"$f":"+VLOOKUP(C459,Scheepstypen!$A$1:$F$44,6,FALSE)","v":"L2"}]
["CEMT IVC2lleegbeide","CEMT IV","C2l","leeg","beide","Fijn stof",14.356930816310697,{"$f":"VLOOKUP(A460,Begin:Einde,7,FALSE)","v":0},1,{"$f":"VLOOKUP(Jaar&L460,Trendfactoren!$A$2:$F$65,(HLOOKUP(F460,Trendfactoren!$A$1:$F$2,2,FALSE)),FALSE)","v":1},0,{"$f":"+VLOOKUP(C460,Scheepstypen!$A$1:$F$44,6,FALSE)","v":"L2"}]
["CEMT IVC2lleegbeide","CEMT IV","C2l","leeg","beide","NOx",422.53071534989925,{"$f":"VLOOKUP(A461,Begin:Einde,7,FALSE)","v":0},1,{"$f":"VLOOKUP(Jaar&L461,Trendfactoren!$A$2:$F$65,(HLOOKUP(F461,Trendfactoren!$A$1:$F$2,2,FALSE)),FALSE)","v":1},0,{"$f":"+VLOOKUP(C461,Scheepstypen!$A$1:$F$44,6,FALSE)","v":"L2"}]
["CEMT IVC3bgeladenbeide","CEMT IV","C3b","geladen","beide","Fijn stof",39.897175368469611,{"$f":"VLOOKUP(A462,Begin:Einde,7,FALSE)","v":0},1,{"$f":"VLOOKUP(Jaar&L462,Trendfactoren!$A$2:$F$65,(HLOOKUP(F462,Trendfactoren!$A$1:$F$2,2,FALSE)),FALSE)","v":1},0,{"$f":"+VLOOKUP(C462,Scheepstypen!$A$1:$F$44,6,FALSE)","v":"L3"}]
["CEMT IVC3bgeladenbeide","CEMT IV","C3b","geladen","beide","NOx",1233.4937202580209,{"$f":"VLOOKUP(A463,Begin:Einde,7,FALSE)","v":0},1,{"$f":"VLOOKUP(Jaar&L463,Trendfactoren!$A$2:$F$65,(HLOOKUP(F463,Trendfactoren!$A$1:$F$2,2,FALSE)),FALSE)","v":1},0,{"$f":"+VLOOKUP(C463,Scheepstypen!$A$1:$F$44,6,FALSE)","v":"L3"}]
["CEMT IVC3bleegbeide","CEMT IV","C3b","leeg","beide","Fijn stof",34.814881168055344,{"$f":"VLOOKUP(A464,Begin:Einde,7,FALSE)","v":0},1,{"$f":"VLOOKUP(Jaar&L464,Trendfactoren!$A$2:$F$65,(HLOOKUP(F464,Trendfactoren!$A$1:$F$2,2,FALSE)),FALSE)","v":1},0,{"$f":"+VLOOKUP(C464,Scheepstypen!$A$1:$F$44,6,FALSE)","v":"L3"}]
["CEMT IVC3bleegbeide","CEMT IV","C3b","leeg","beide","NOx",1073.5664200193216,{"$f":"VLOOKUP(A465,Begin:Einde,7,FALSE)","v":0},1,{"$f":"VLOOKUP(Jaar&L465,Trendfactoren!$A$2:$F$65,(HLOOKUP(F465,Trendfactoren!$A$1:$F$2,2,FALSE)),FALSE)","v":1},0,{"$f":"+VLOOKUP(C465,Scheepstypen!$A$1:$F$44,6,FALSE)","v":"L3"}]
["CEMT IVC3lgeladenbeide","CEMT IV","C3l","geladen","beide","Fijn stof",36.061173452472204,{"$f":"VLOOKUP(A466,Begin:Einde,7,FALSE)","v":0},1,{"$f":"VLOOKUP(Jaar&L466,Trendfactoren!$A$2:$F$65,(HLOOKUP(F466,Trendfactoren!$A$1:$F$2,2,FALSE)),FALSE)","v":1},0,{"$f":"+VLOOKUP(C466,Scheepstypen!$A$1:$F$44,6,FALSE)","v":"L3"}]
["CEMT IVC3lgeladenbeide","CEMT IV","C3l","geladen","beide","NOx",1114.5805587959328,{"$f":"VLOOKUP(A467,Begin:Einde,7,FALSE)","v":0},1,{"$f":"VLOOKUP(Jaar&L467,Trendfactoren!$A$2:$F$65,(HLOOKUP(F467,Trendfactoren!$A$1:$F$2,2,FALSE)),FALSE)","v":1},0,{"$f":"+VLOOKUP(C467,Scheepstypen!$A$1:$F$44,6,FALSE)","v":"L3"}]
["CEMT IVC3lleegbeide","CEMT IV","C3l","leeg","beide","Fijn stof",14.994037496552464,{"$f":"VLOOKUP(A468,Begin:Einde,7,FALSE)","v":0},1,{"$f":"VLOOKUP(Jaar&L468,Trendfactoren!$A$2:$F$65,(HLOOKUP(F468,Trendfactoren!$A$1:$F$2,2,FALSE)),FALSE)","v":1},0,{"$f":"+VLOOKUP(C468,Scheepstypen!$A$1:$F$44,6,FALSE)","v":"L3"}]
["CEMT IVC3lleegbeide","CEMT IV","C3l","leeg","beide","NOx",439.97425216545281,{"$f":"VLOOKUP(A469,Begin:Einde,7,FALSE)","v":0},1,{"$f":"VLOOKUP(Jaar&L469,Trendfactoren!$A$2:$F$65,(HLOOKUP(F469,Trendfactoren!$A$1:$F$2,2,FALSE)),FALSE)","v":1},0,{"$f":"+VLOOKUP(C469,Scheepstypen!$A$1:$F$44,6,FALSE)","v":"L3"}]
["CEMT IVC4geladenbeide","CEMT IV","C4","geladen","beide","Fijn stof",16.605475258105248,{"$f":"VLOOKUP(A470,Begin:Einde,7,FALSE)","v":0},1,{"$f":"VLOOKUP(Jaar&L470,Trendfactoren!$A$2:$F$65,(HLOOKUP(F470,Trendfactoren!$A$1:$F$2,2,FALSE)),FALSE)","v":1},0,{"$f":"+VLOOKUP(C470,Scheepstypen!$A$1:$F$44,6,FALSE)","v":"L3"}]
["CEMT IVC4geladenbeide","CEMT IV","C4","geladen","beide","NOx",389.45582573857945,{"$f":"VLOOKUP(A471,Begin:Einde,7,FALSE)","v":0},1,{"$f":"VLOOKUP(Jaar&L471,Trendfactoren!$A$2:$F$65,(HLOOKUP(F471,Trendfactoren!$A$1:$F$2,2,FALSE)),FALSE)","v":1},0,{"$f":"+VLOOKUP(C471,Scheepstypen!$A$1:$F$44,6,FALSE)","v":"L3"}]
["CEMT IVC4leegbeide","CEMT IV","C4","leeg","beide","Fijn stof",25.829686280404722,{"$f":"VLOOKUP(A472,Begin:Einde,7,FALSE)","v":0},1,{"$f":"VLOOKUP(Jaar&L472,Trendfactoren!$A$2:$F$65,(HLOOKUP(F472,Trendfactoren!$A$1:$F$2,2,FALSE)),FALSE)","v":1},0,{"$f":"+VLOOKUP(C472,Scheepstypen!$A$1:$F$44,6,FALSE)","v":"L3"}]
["CEMT IVC4leegbeide","CEMT IV","C4","leeg","beide","NOx",774.90470614556489,{"$f":"VLOOKUP(A473,Begin:Einde,7,FALSE)","v":0},1,{"$f":"VLOOKUP(Jaar&L473,Trendfactoren!$A$2:$F$65,(HLOOKUP(F473,Trendfactoren!$A$1:$F$2,2,FALSE)),FALSE)","v":1},0,{"$f":"+VLOOKUP(C473,Scheepstypen!$A$1:$F$44,6,FALSE)","v":"L3"}]
["CEMT IVM0geladenbeide","CEMT IV","M0","geladen","beide","Fijn stof",1.3844411728348058,{"$f":"VLOOKUP(A474,Begin:Einde,7,FALSE)","v":0},1,{"$f":"VLOOKUP(Jaar&L474,Trendfactoren!$A$2:$F$65,(HLOOKUP(F474,Trendfactoren!$A$1:$F$2,2,FALSE)),FALSE)","v":1},0,{"$f":"+VLOOKUP(C474,Scheepstypen!$A$1:$F$44,6,FALSE)","v":"L1"}]
["CEMT IVM0geladenbeide","CEMT IV","M0","geladen","beide","NOx",31.372668494251698,{"$f":"VLOOKUP(A475,Begin:Einde,7,FALSE)","v":0},1,{"$f":"VLOOKUP(Jaar&L475,Trendfactoren!$A$2:$F$65,(HLOOKUP(F475,Trendfactoren!$A$1:$F$2,2,FALSE)),FALSE)","v":1},0,{"$f":"+VLOOKUP(C475,Scheepstypen!$A$1:$F$44,6,FALSE)","v":"L1"}]
["CEMT IVM0leegbeide","CEMT IV","M0","leeg","beide","Fijn stof",0.61281531426305458,{"$f":"VLOOKUP(A476,Begin:Einde,7,FALSE)","v":0},1,{"$f":"VLOOKUP(Jaar&L476,Trendfactoren!$A$2:$F$65,(HLOOKUP(F476,Trendfactoren!$A$1:$F$2,2,FALSE)),FALSE)","v":1},0,{"$f":"+VLOOKUP(C476,Scheepstypen!$A$1:$F$44,6,FALSE)","v":"L1"}]
["CEMT IVM0leegbeide","CEMT IV","M0","leeg","beide","NOx",13.894309040104352,{"$f":"VLOOKUP(A477,Begin:Einde,7,FALSE)","v":0},1,{"$f":"VLOOKUP(Jaar&L477,Trendfactoren!$A$2:$F$65,(HLOOKUP(F477,Trendfactoren!$A$1:$F$2,2,FALSE)),FALSE)","v":1},0,{"$f":"+VLOOKUP(C477,Scheepstypen!$A$1:$F$44,6,FALSE)","v":"L1"}]
["CEMT IVM1geladenbeide","CEMT IV","M1","geladen","beide","Fijn stof",2.0087992081618027,{"$f":"VLOOKUP(A478,Begin:Einde,7,FALSE)","v":0},1,{"$f":"VLOOKUP(Jaar&L478,Trendfactoren!$A$2:$F$65,(HLOOKUP(F478,Trendfactoren!$A$1:$F$2,2,FALSE)),FALSE)","v":1},0,{"$f":"+VLOOKUP(C478,Scheepstypen!$A$1:$F$44,6,FALSE)","v":"L1"}]
["CEMT IVM1geladenbeide","CEMT IV","M1","geladen","beide","NOx",55.472252508676412,{"$f":"VLOOKUP(A479,Begin:Einde,7,FALSE)","v":0},1,{"$f":"VLOOKUP(Jaar&L479,Trendfactoren!$A$2:$F$65,(HLOOKUP(F479,Trendfactoren!$A$1:$F$2,2,FALSE)),FALSE)","v":1},0,{"$f":"+VLOOKUP(C479,Scheepstypen!$A$1:$F$44,6,FALSE)","v":"L1"}]
["CEMT IVM1leegbeide","CEMT IV","M1","leeg","beide","Fijn stof",1.4288588481891717,{"$f":"VLOOKUP(A480,Begin:Einde,7,FALSE)","v":0},1,{"$f":"VLOOKUP(Jaar&L480,Trendfactoren!$A$2:$F$65,(HLOOKUP(F480,Trendfactoren!$A$1:$F$2,2,FALSE)),FALSE)","v":1},0,{"$f":"+VLOOKUP(C480,Scheepstypen!$A$1:$F$44,6,FALSE)","v":"L1"}]
["CEMT IVM1leegbeide","CEMT IV","M1","leeg","beide","NOx",37.693451518208398,{"$f":"VLOOKUP(A481,Begin:Einde,7,FALSE)","v":0},1,{"$f":"VLOOKUP(Jaar&L481,Trendfactoren!$A$2:$F$65,(HLOOKUP(F481,Trendfactoren!$A$1:$F$2,2,FALSE)),FALSE)","v":1},0,{"$f":"+VLOOKUP(C481,Scheepstypen!$A$1:$F$44,6,FALSE)","v":"L1"}]
["CEMT IVM10geladenbeide","CEMT IV","M10","geladen","beide","Fijn stof",5.6858672909257786,{"$f":"VLOOKUP(A482,Begin:Einde,7,FALSE)","v":0},1,{"$f":"VLOOKUP(Jaar&L482,Trendfactoren!$A$2:$F$65,(HLOOKUP(F482,Trendfactoren!$A$1:$F$2,2,FALSE)),FALSE)","v":1},0,{"$f":"+VLOOKUP(C482,Scheepstypen!$A$1:$F$44,6,FALSE)","v":"L3"}]
["CEMT IVM10geladenbeide","CEMT IV","M10","geladen","beide","NOx",133.35325285234555,{"$f":"VLOOKUP(A483,Begin:Einde,7,FALSE)","v":0},1,{"$f":"VLOOKUP(Jaar&L483,Trendfactoren!$A$2:$F$65,(HLOOKUP(F483,Trendfactoren!$A$1:$F$2,2,FALSE)),FALSE)","v":1},0,{"$f":"+VLOOKUP(C483,Scheepstypen!$A$1:$F$44,6,FALSE)","v":"L3"}]
["CEMT IVM10leegbeide","CEMT IV","M10","leeg","beide","Fijn stof",9.2012290626508744,{"$f":"VLOOKUP(A484,Begin:Einde,7,FALSE)","v":0},1,{"$f":"VLOOKUP(Jaar&L484,Trendfactoren!$A$2:$F$65,(HLOOKUP(F484,Trendfactoren!$A$1:$F$2,2,FALSE)),FALSE)","v":1},0,{"$f":"+VLOOKUP(C484,Scheepstypen!$A$1:$F$44,6,FALSE)","v":"L3"}]
["CEMT IVM10leegbeide","CEMT IV","M10","leeg","beide","NOx",232.17524222538546,{"$f":"VLOOKUP(A485,Begin:Einde,7,FALSE)","v":0},1,{"$f":"VLOOKUP(Jaar&L485,Trendfactoren!$A$2:$F$65,(HLOOKUP(F485,Trendfactoren!$A$1:$F$2,2,FALSE)),FALSE)","v":1},0,{"$f":"+VLOOKUP(C485,Scheepstypen!$A$1:$F$44,6,FALSE)","v":"L3"}]
["CEMT IVM11geladenbeide","CEMT IV","M11","geladen","beide","Fijn stof",56.535692750212405,{"$f":"VLOOKUP(A486,Begin:Einde,7,FALSE)","v":0},1,{"$f":"VLOOKUP(Jaar&L486,Trendfactoren!$A$2:$F$65,(HLOOKUP(F486,Trendfactoren!$A$1:$F$2,2,FALSE)),FALSE)","v":1},0,{"$f":"+VLOOKUP(C486,Scheepstypen!$A$1:$F$44,6,FALSE)","v":"L3"}]
["CEMT IVM11geladenbeide","CEMT IV","M11","geladen","beide","NOx",1748.4354736235132,{"$f":"VLOOKUP(A487,Begin:Einde,7,FALSE)","v":0},1,{"$f":"VLOOKUP(Jaar&L487,Trendfactoren!$A$2:$F$65,(HLOOKUP(F487,Trendfactoren!$A$1:$F$2,2,FALSE)),FALSE)","v":1},0,{"$f":"+VLOOKUP(C487,Scheepstypen!$A$1:$F$44,6,FALSE)","v":"L3"}]
["CEMT IVM11leegbeide","CEMT IV","M11","leeg","beide","Fijn stof",20.200018254105,{"$f":"VLOOKUP(A488,Begin:Einde,7,FALSE)","v":0},1,{"$f":"VLOOKUP(Jaar&L488,Trendfactoren!$A$2:$F$65,(HLOOKUP(F488,Trendfactoren!$A$1:$F$2,2,FALSE)),FALSE)","v":1},0,{"$f":"+VLOOKUP(C488,Scheepstypen!$A$1:$F$44,6,FALSE)","v":"L3"}]
["CEMT IVM11leegbeide","CEMT IV","M11","leeg","beide","NOx",620.99892469724864,{"$f":"VLOOKUP(A489,Begin:Einde,7,FALSE)","v":0},1,{"$f":"VLOOKUP(Jaar&L489,Trendfactoren!$A$2:$F$65,(HLOOKUP(F489,Trendfactoren!$A$1:$F$2,2,FALSE)),FALSE)","v":1},0,{"$f":"+VLOOKUP(C489,Scheepstypen!$A$1:$F$44,6,FALSE)","v":"L3"}]
["CEMT IVM12geladenbeide","CEMT IV","M12","geladen","beide","Fijn stof",38.829289216493557,{"$f":"VLOOKUP(A490,Begin:Einde,7,FALSE)","v":0},1,{"$f":"VLOOKUP(Jaar&L490,Trendfactoren!$A$2:$F$65,(HLOOKUP(F490,Trendfactoren!$A$1:$F$2,2,FALSE)),FALSE)","v":1},0,{"$f":"+VLOOKUP(C490,Scheepstypen!$A$1:$F$44,6,FALSE)","v":"L3"}]
["CEMT IVM12geladenbeide","CEMT IV","M12","geladen","beide","NOx",1186.0411143590131,{"$f":"VLOOKUP(A491,Begin:Einde,7,FALSE)","v":0},1,{"$f":"VLOOKUP(Jaar&L491,Trendfactoren!$A$2:$F$65,(HLOOKUP(F491,Trendfactoren!$A$1:$F$2,2,FALSE)),FALSE)","v":1},0,{"$f":"+VLOOKUP(C491,Scheepstypen!$A$1:$F$44,6,FALSE)","v":"L3"}]
["CEMT IVM12leegbeide","CEMT IV","M12","leeg","beide","Fijn stof",24.886086056572079,{"$f":"VLOOKUP(A492,Begin:Einde,7,FALSE)","v":0},1,{"$f":"VLOOKUP(Jaar&L492,Trendfactoren!$A$2:$F$65,(HLOOKUP(F492,Trendfactoren!$A$1:$F$2,2,FALSE)),FALSE)","v":1},0,{"$f":"+VLOOKUP(C492,Scheepstypen!$A$1:$F$44,6,FALSE)","v":"L3"}]
["CEMT IVM12leegbeide","CEMT IV","M12","leeg","beide","NOx",758.39048878002154,{"$f":"VLOOKUP(A493,Begin:Einde,7,FALSE)","v":0},1,{"$f":"VLOOKUP(Jaar&L493,Trendfactoren!$A$2:$F$65,(HLOOKUP(F493,Trendfactoren!$A$1:$F$2,2,FALSE)),FALSE)","v":1},0,{"$f":"+VLOOKUP(C493,Scheepstypen!$A$1:$F$44,6,FALSE)","v":"L3"}]
["CEMT IVM2geladenbeide","CEMT IV","M2","geladen","beide","Fijn stof",6.2261280583193646,{"$f":"VLOOKUP(A494,Begin:Einde,7,FALSE)","v":0},1,{"$f":"VLOOKUP(Jaar&L494,Trendfactoren!$A$2:$F$65,(HLOOKUP(F494,Trendfactoren!$A$1:$F$2,2,FALSE)),FALSE)","v":1},0,{"$f":"+VLOOKUP(C494,Scheepstypen!$A$1:$F$44,6,FALSE)","v":"L1"}]
["CEMT IVM2geladenbeide","CEMT IV","M2","geladen","beide","NOx",184.12763033676828,{"$f":"VLOOKUP(A495,Begin:Einde,7,FALSE)","v":0},1,{"$f":"VLOOKUP(Jaar&L495,Trendfactoren!$A$2:$F$65,(HLOOKUP(F495,Trendfactoren!$A$1:$F$2,2,FALSE)),FALSE)","v":1},0,{"$f":"+VLOOKUP(C495,Scheepstypen!$A$1:$F$44,6,FALSE)","v":"L1"}]
["CEMT IVM2leegbeide","CEMT IV","M2","leeg","beide","Fijn stof",2.7152791295885503,{"$f":"VLOOKUP(A496,Begin:Einde,7,FALSE)","v":0},1,{"$f":"VLOOKUP(Jaar&L496,Trendfactoren!$A$2:$F$65,(HLOOKUP(F496,Trendfactoren!$A$1:$F$2,2,FALSE)),FALSE)","v":1},0,{"$f":"+VLOOKUP(C496,Scheepstypen!$A$1:$F$44,6,FALSE)","v":"L1"}]
["CEMT IVM2leegbeide","CEMT IV","M2","leeg","beide","NOx",77.045827849790626,{"$f":"VLOOKUP(A497,Begin:Einde,7,FALSE)","v":0},1,{"$f":"VLOOKUP(Jaar&L497,Trendfactoren!$A$2:$F$65,(HLOOKUP(F497,Trendfactoren!$A$1:$F$2,2,FALSE)),FALSE)","v":1},0,{"$f":"+VLOOKUP(C497,Scheepstypen!$A$1:$F$44,6,FALSE)","v":"L1"}]
["CEMT IVM3geladenbeide","CEMT IV","M3","geladen","beide","Fijn stof",7.3261228100954909,{"$f":"VLOOKUP(A498,Begin:Einde,7,FALSE)","v":0},1,{"$f":"VLOOKUP(Jaar&L498,Trendfactoren!$A$2:$F$65,(HLOOKUP(F498,Trendfactoren!$A$1:$F$2,2,FALSE)),FALSE)","v":1},0,{"$f":"+VLOOKUP(C498,Scheepstypen!$A$1:$F$44,6,FALSE)","v":"L1"}]
["CEMT IVM3geladenbeide","CEMT IV","M3","geladen","beide","NOx",215.80253647309158,{"$f":"VLOOKUP(A499,Begin:Einde,7,FALSE)","v":0},1,{"$f":"VLOOKUP(Jaar&L499,Trendfactoren!$A$2:$F$65,(HLOOKUP(F499,Trendfactoren!$A$1:$F$2,2,FALSE)),FALSE)","v":1},0,{"$f":"+VLOOKUP(C499,Scheepstypen!$A$1:$F$44,6,FALSE)","v":"L1"}]
["CEMT IVM3leegbeide","CEMT IV","M3","leeg","beide","Fijn stof",3.5196017682454221,{"$f":"VLOOKUP(A500,Begin:Einde,7,FALSE)","v":0},1,{"$f":"VLOOKUP(Jaar&L500,Trendfactoren!$A$2:$F$65,(HLOOKUP(F500,Trendfactoren!$A$1:$F$2,2,FALSE)),FALSE)","v":1},0,{"$f":"+VLOOKUP(C500,Scheepstypen!$A$1:$F$44,6,FALSE)","v":"L1"}]
["CEMT IVM3leegbeide","CEMT IV","M3","leeg","beide","NOx",99.150020263151333,{"$f":"VLOOKUP(A501,Begin:Einde,7,FALSE)","v":0},1,{"$f":"VLOOKUP(Jaar&L501,Trendfactoren!$A$2:$F$65,(HLOOKUP(F501,Trendfactoren!$A$1:$F$2,2,FALSE)),FALSE)","v":1},0,{"$f":"+VLOOKUP(C501,Scheepstypen!$A$1:$F$44,6,FALSE)","v":"L1"}]
["CEMT IVM4geladenbeide","CEMT IV","M4","geladen","beide","Fijn stof",8.5508363049971763,{"$f":"VLOOKUP(A502,Begin:Einde,7,FALSE)","v":0},1,{"$f":"VLOOKUP(Jaar&L502,Trendfactoren!$A$2:$F$65,(HLOOKUP(F502,Trendfactoren!$A$1:$F$2,2,FALSE)),FALSE)","v":1},0,{"$f":"+VLOOKUP(C502,Scheepstypen!$A$1:$F$44,6,FALSE)","v":"L1"}]
["CEMT IVM4geladenbeide","CEMT IV","M4","geladen","beide","NOx",251.88711106822714,{"$f":"VLOOKUP(A503,Begin:Einde,7,FALSE)","v":0},1,{"$f":"VLOOKUP(Jaar&L503,Trendfactoren!$A$2:$F$65,(HLOOKUP(F503,Trendfactoren!$A$1:$F$2,2,FALSE)),FALSE)","v":1},0,{"$f":"+VLOOKUP(C503,Scheepstypen!$A$1:$F$44,6,FALSE)","v":"L1"}]
["CEMT IVM4leegbeide","CEMT IV","M4","leeg","beide","Fijn stof",4.3941923943168879,{"$f":"VLOOKUP(A504,Begin:Einde,7,FALSE)","v":0},1,{"$f":"VLOOKUP(Jaar&L504,Trendfactoren!$A$2:$F$65,(HLOOKUP(F504,Trendfactoren!$A$1:$F$2,2,FALSE)),FALSE)","v":1},0,{"$f":"+VLOOKUP(C504,Scheepstypen!$A$1:$F$44,6,FALSE)","v":"L1"}]
["CEMT IVM4leegbeide","CEMT IV","M4","leeg","beide","NOx",125.29367537727461,{"$f":"VLOOKUP(A505,Begin:Einde,7,FALSE)","v":0},1,{"$f":"VLOOKUP(Jaar&L505,Trendfactoren!$A$2:$F$65,(HLOOKUP(F505,Trendfactoren!$A$1:$F$2,2,FALSE)),FALSE)","v":1},0,{"$f":"+VLOOKUP(C505,Scheepstypen!$A$1:$F$44,6,FALSE)","v":"L1"}]
["CEMT IVM5geladenbeide","CEMT IV","M5","geladen","beide","Fijn stof",8.5557446784984261,{"$f":"VLOOKUP(A506,Begin:Einde,7,FALSE)","v":0},1,{"$f":"VLOOKUP(Jaar&L506,Trendfactoren!$A$2:$F$65,(HLOOKUP(F506,Trendfactoren!$A$1:$F$2,2,FALSE)),FALSE)","v":1},0,{"$f":"+VLOOKUP(C506,Scheepstypen!$A$1:$F$44,6,FALSE)","v":"L2"}]
["CEMT IVM5geladenbeide","CEMT IV","M5","geladen","beide","NOx",258.67944739302834,{"$f":"VLOOKUP(A507,Begin:Einde,7,FALSE)","v":0},1,{"$f":"VLOOKUP(Jaar&L507,Trendfactoren!$A$2:$F$65,(HLOOKUP(F507,Trendfactoren!$A$1:$F$2,2,FALSE)),FALSE)","v":1},0,{"$f":"+VLOOKUP(C507,Scheepstypen!$A$1:$F$44,6,FALSE)","v":"L2"}]
["CEMT IVM5leegbeide","CEMT IV","M5","leeg","beide","Fijn stof",4.9085411272071386,{"$f":"VLOOKUP(A508,Begin:Einde,7,FALSE)","v":0},1,{"$f":"VLOOKUP(Jaar&L508,Trendfactoren!$A$2:$F$65,(HLOOKUP(F508,Trendfactoren!$A$1:$F$2,2,FALSE)),FALSE)","v":1},0,{"$f":"+VLOOKUP(C508,Scheepstypen!$A$1:$F$44,6,FALSE)","v":"L2"}]
["CEMT IVM5leegbeide","CEMT IV","M5","leeg","beide","NOx",143.56673220348844,{"$f":"VLOOKUP(A509,Begin:Einde,7,FALSE)","v":0},1,{"$f":"VLOOKUP(Jaar&L509,Trendfactoren!$A$2:$F$65,(HLOOKUP(F509,Trendfactoren!$A$1:$F$2,2,FALSE)),FALSE)","v":1},0,{"$f":"+VLOOKUP(C509,Scheepstypen!$A$1:$F$44,6,FALSE)","v":"L2"}]
["CEMT IVM6geladenbeide","CEMT IV","M6","geladen","beide","Fijn stof",9.8495787874171175,{"$f":"VLOOKUP(A510,Begin:Einde,7,FALSE)","v":0},1,{"$f":"VLOOKUP(Jaar&L510,Trendfactoren!$A$2:$F$65,(HLOOKUP(F510,Trendfactoren!$A$1:$F$2,2,FALSE)),FALSE)","v":1},0,{"$f":"+VLOOKUP(C510,Scheepstypen!$A$1:$F$44,6,FALSE)","v":"L2"}]
["CEMT IVM6geladenbeide","CEMT IV","M6","geladen","beide","NOx",295.28290947806175,{"$f":"VLOOKUP(A511,Begin:Einde,7,FALSE)","v":0},{"$f":"+Afstand","v":1},{"$f":"VLOOKUP(Jaar&L511,Trendfactoren!$A$2:$F$65,(HLOOKUP(F511,Trendfactoren!$A$1:$F$2,2,FALSE)),FALSE)","v":1},{"$f":"+G511*H511*I511*J511","v":0},{"$f":"+VLOOKUP(C511,Scheepstypen!$A$1:$F$44,6,FALSE)","v":"L2"}]
["CEMT IVM6leegbeide","CEMT IV","M6","leeg","beide","Fijn stof",5.74583549914695,{"$f":"VLOOKUP(A512,Begin:Einde,7,FALSE)","v":0},1,{"$f":"VLOOKUP(Jaar&L512,Trendfactoren!$A$2:$F$65,(HLOOKUP(F512,Trendfactoren!$A$1:$F$2,2,FALSE)),FALSE)","v":1},0,{"$f":"+VLOOKUP(C512,Scheepstypen!$A$1:$F$44,6,FALSE)","v":"L2"}]
[{"$f":"+B513&C513&D513&E513","v":"CEMT IVM6leegbeide"},"CEMT IV","M6","leeg","beide","NOx",164.97235737525907,{"$f":"VLOOKUP(A513,Begin:Einde,7,FALSE)","v":0},1,{"$f":"VLOOKUP(Jaar&L513,Trendfactoren!$A$2:$F$65,(HLOOKUP(F513,Trendfactoren!$A$1:$F$2,2,FALSE)),FALSE)","v":1},0,{"$f":"+VLOOKUP(C513,Scheepstypen!$A$1:$F$44,6,FALSE)","v":"L2"}]
["CEMT IVM7geladenbeide","CEMT IV","M7","geladen","beide","Fijn stof",9.8325396714555815,{"$f":"VLOOKUP(A514,Begin:Einde,7,FALSE)","v":0},1,{"$f":"VLOOKUP(Jaar&L514,Trendfactoren!$A$2:$F$65,(HLOOKUP(F514,Trendfactoren!$A$1:$F$2,2,FALSE)),FALSE)","v":1},0,{"$f":"+VLOOKUP(C514,Scheepstypen!$A$1:$F$44,6,FALSE)","v":"L2"}]
["CEMT IVM7geladenbeide","CEMT IV","M7","geladen","beide","NOx",288.80554208334178,{"$f":"VLOOKUP(A515,Begin:Einde,7,FALSE)","v":0},1,{"$f":"VLOOKUP(Jaar&L515,Trendfactoren!$A$2:$F$65,(HLOOKUP(F515,Trendfactoren!$A$1:$F$2,2,FALSE)),FALSE)","v":1},0,{"$f":"+VLOOKUP(C515,Scheepstypen!$A$1:$F$44,6,FALSE)","v":"L2"}]
["CEMT IVM7leegbeide","CEMT IV","M7","leeg","beide","Fijn stof",6.1129652846586726,{"$f":"VLOOKUP(A516,Begin:Einde,7,FALSE)","v":0},1,{"$f":"VLOOKUP(Jaar&L516,Trendfactoren!$A$2:$F$65,(HLOOKUP(F516,Trendfactoren!$A$1:$F$2,2,FALSE)),FALSE)","v":1},0,{"$f":"+VLOOKUP(C516,Scheepstypen!$A$1:$F$44,6,FALSE)","v":"L2"}]
["CEMT IVM7leegbeide","CEMT IV","M7","leeg","beide","NOx",154.99316039202753,{"$f":"VLOOKUP(A517,Begin:Einde,7,FALSE)","v":0},1,{"$f":"VLOOKUP(Jaar&L517,Trendfactoren!$A$2:$F$65,(HLOOKUP(F517,Trendfactoren!$A$1:$F$2,2,FALSE)),FALSE)","v":1},0,{"$f":"+VLOOKUP(C517,Scheepstypen!$A$1:$F$44,6,FALSE)","v":"L2"}]
["CEMT IVM8geladenbeide","CEMT IV","M8","geladen","beide","Fijn stof",15.291041790658374,{"$f":"VLOOKUP(A518,Begin:Einde,7,FALSE)","v":0},1,{"$f":"VLOOKUP(Jaar&L518,Trendfactoren!$A$2:$F$65,(HLOOKUP(F518,Trendfactoren!$A$1:$F$2,2,FALSE)),FALSE)","v":1},0,{"$f":"+VLOOKUP(C518,Scheepstypen!$A$1:$F$44,6,FALSE)","v":"L3"}]
["CEMT IVM8geladenbeide","CEMT IV","M8","geladen","beide","NOx",452.02805250316175,{"$f":"VLOOKUP(A519,Begin:Einde,7,FALSE)","v":0},1,{"$f":"VLOOKUP(Jaar&L519,Trendfactoren!$A$2:$F$65,(HLOOKUP(F519,Trendfactoren!$A$1:$F$2,2,FALSE)),FALSE)","v":1},0,{"$f":"+VLOOKUP(C519,Scheepstypen!$A$1:$F$44,6,FALSE)","v":"L3"}]
["CEMT IVM8leegbeide","CEMT IV","M8","leeg","beide","Fijn stof",9.2872566909565286,{"$f":"VLOOKUP(A520,Begin:Einde,7,FALSE)","v":0},1,{"$f":"VLOOKUP(Jaar&L520,Trendfactoren!$A$2:$F$65,(HLOOKUP(F520,Trendfactoren!$A$1:$F$2,2,FALSE)),FALSE)","v":1},0,{"$f":"+VLOOKUP(C520,Scheepstypen!$A$1:$F$44,6,FALSE)","v":"L3"}]
["CEMT IVM8leegbeide","CEMT IV","M8","leeg","beide","NOx",262.19458252134996,{"$f":"VLOOKUP(A521,Begin:Einde,7,FALSE)","v":0},1,{"$f":"VLOOKUP(Jaar&L521,Trendfactoren!$A$2:$F$65,(HLOOKUP(F521,Trendfactoren!$A$1:$F$2,2,FALSE)),FALSE)","v":1},0,{"$f":"+VLOOKUP(C521,Scheepstypen!$A$1:$F$44,6,FALSE)","v":"L3"}]
["CEMT IVM9geladenbeide","CEMT IV","M9","geladen","beide","Fijn stof",48.02682444428963,{"$f":"VLOOKUP(A522,Begin:Einde,7,FALSE)","v":0},1,{"$f":"VLOOKUP(Jaar&L522,Trendfactoren!$A$2:$F$65,(HLOOKUP(F522,Trendfactoren!$A$1:$F$2,2,FALSE)),FALSE)","v":1},0,{"$f":"+VLOOKUP(C522,Scheepstypen!$A$1:$F$44,6,FALSE)","v":"L3"}]
["CEMT IVM9geladenbeide","CEMT IV","M9","geladen","beide","NOx",1484.9141653304894,{"$f":"VLOOKUP(A523,Begin:Einde,7,FALSE)","v":0},1,{"$f":"VLOOKUP(Jaar&L523,Trendfactoren!$A$2:$F$65,(HLOOKUP(F523,Trendfactoren!$A$1:$F$2,2,FALSE)),FALSE)","v":1},0,{"$f":"+VLOOKUP(C523,Scheepstypen!$A$1:$F$44,6,FALSE)","v":"L3"}]
["CEMT IVM9leegbeide","CEMT IV","M9","leeg","beide","Fijn stof",4.1425951285225127,{"$f":"VLOOKUP(A524,Begin:Einde,7,FALSE)","v":0},1,{"$f":"VLOOKUP(Jaar&L524,Trendfactoren!$A$2:$F$65,(HLOOKUP(F524,Trendfactoren!$A$1:$F$2,2,FALSE)),FALSE)","v":1},0,{"$f":"+VLOOKUP(C524,Scheepstypen!$A$1:$F$44,6,FALSE)","v":"L3"}]
["CEMT IVM9leegbeide","CEMT IV","M9","leeg","beide","NOx",97.15818315358726,{"$f":"VLOOKUP(A525,Begin:Einde,7,FALSE)","v":0},1,{"$f":"VLOOKUP(Jaar&L525,Trendfactoren!$A$2:$F$65,(HLOOKUP(F525,Trendfactoren!$A$1:$F$2,2,FALSE)),FALSE)","v":1},0,{"$f":"+VLOOKUP(C525,Scheepstypen!$A$1:$F$44,6,FALSE)","v":"L3"}]
["CEMT VaBIgeladenbeide","CEMT Va","BI","geladen","beide","Fijn stof",13.620898939826489,{"$f":"VLOOKUP(A526,Begin:Einde,7,FALSE)","v":0},1,{"$f":"VLOOKUP(Jaar&L526,Trendfactoren!$A$2:$F$65,(HLOOKUP(F526,Trendfactoren!$A$1:$F$2,2,FALSE)),FALSE)","v":1},0,{"$f":"+VLOOKUP(C526,Scheepstypen!$A$1:$F$44,6,FALSE)","v":"L2"}]
["CEMT VaBIgeladenbeide","CEMT Va","BI","geladen","beide","NOx",413.87904414020335,{"$f":"VLOOKUP(A527,Begin:Einde,7,FALSE)","v":0},1,{"$f":"VLOOKUP(Jaar&L527,Trendfactoren!$A$2:$F$65,(HLOOKUP(F527,Trendfactoren!$A$1:$F$2,2,FALSE)),FALSE)","v":1},0,{"$f":"+VLOOKUP(C527,Scheepstypen!$A$1:$F$44,6,FALSE)","v":"L2"}]
["CEMT VaBIleegbeide","CEMT Va","BI","leeg","beide","Fijn stof",6.2383557416622066,{"$f":"VLOOKUP(A528,Begin:Einde,7,FALSE)","v":0},1,{"$f":"VLOOKUP(Jaar&L528,Trendfactoren!$A$2:$F$65,(HLOOKUP(F528,Trendfactoren!$A$1:$F$2,2,FALSE)),FALSE)","v":1},0,{"$f":"+VLOOKUP(C528,Scheepstypen!$A$1:$F$44,6,FALSE)","v":"L2"}]
["CEMT VaBIleegbeide","CEMT Va","BI","leeg","beide","NOx",180.19578571443748,{"$f":"VLOOKUP(A529,Begin:Einde,7,FALSE)","v":0},1,{"$f":"VLOOKUP(Jaar&L529,Trendfactoren!$A$2:$F$65,(HLOOKUP(F529,Trendfactoren!$A$1:$F$2,2,FALSE)),FALSE)","v":1},0,{"$f":"+VLOOKUP(C529,Scheepstypen!$A$1:$F$44,6,FALSE)","v":"L2"}]
["CEMT VaBII-1geladenbeide","CEMT Va","BII-1","geladen","beide","Fijn stof",21.041673858272283,{"$f":"VLOOKUP(A530,Begin:Einde,7,FALSE)","v":0},1,{"$f":"VLOOKUP(Jaar&L530,Trendfactoren!$A$2:$F$65,(HLOOKUP(F530,Trendfactoren!$A$1:$F$2,2,FALSE)),FALSE)","v":1},0,{"$f":"+VLOOKUP(C530,Scheepstypen!$A$1:$F$44,6,FALSE)","v":"L2"}]
["CEMT VaBII-1geladenbeide","CEMT Va","BII-1","geladen","beide","NOx",635.08395613346602,{"$f":"VLOOKUP(A531,Begin:Einde,7,FALSE)","v":0},1,{"$f":"VLOOKUP(Jaar&L531,Trendfactoren!$A$2:$F$65,(HLOOKUP(F531,Trendfactoren!$A$1:$F$2,2,FALSE)),FALSE)","v":1},0,{"$f":"+VLOOKUP(C531,Scheepstypen!$A$1:$F$44,6,FALSE)","v":"L2"}]
["CEMT VaBII-1leegbeide","CEMT Va","BII-1","leeg","beide","Fijn stof",8.8084579816226007,{"$f":"VLOOKUP(A532,Begin:Einde,7,FALSE)","v":0},1,{"$f":"VLOOKUP(Jaar&L532,Trendfactoren!$A$2:$F$65,(HLOOKUP(F532,Trendfactoren!$A$1:$F$2,2,FALSE)),FALSE)","v":1},0,{"$f":"+VLOOKUP(C532,Scheepstypen!$A$1:$F$44,6,FALSE)","v":"L2"}]
["CEMT VaBII-1leegbeide","CEMT Va","BII-1","leeg","beide","NOx",246.57107331710873,{"$f":"VLOOKUP(A533,Begin:Einde,7,FALSE)","v":0},1,{"$f":"VLOOKUP(Jaar&L533,Trendfactoren!$A$2:$F$65,(HLOOKUP(F533,Trendfactoren!$A$1:$F$2,2,FALSE)),FALSE)","v":1},0,{"$f":"+VLOOKUP(C533,Scheepstypen!$A$1:$F$44,6,FALSE)","v":"L2"}]
["CEMT VaBII-2Bgeladenbeide","CEMT Va","BII-2B","geladen","beide","Fijn stof",63.860404528104006,{"$f":"VLOOKUP(A534,Begin:Einde,7,FALSE)","v":0},1,{"$f":"VLOOKUP(Jaar&L534,Trendfactoren!$A$2:$F$65,(HLOOKUP(F534,Trendfactoren!$A$1:$F$2,2,FALSE)),FALSE)","v":1},0,{"$f":"+VLOOKUP(C534,Scheepstypen!$A$1:$F$44,6,FALSE)","v":"L3"}]
["CEMT VaBII-2Bgeladenbeide","CEMT Va","BII-2B","geladen","beide","NOx",1967.9120970140571,{"$f":"VLOOKUP(A535,Begin:Einde,7,FALSE)","v":0},1,{"$f":"VLOOKUP(Jaar&L535,Trendfactoren!$A$2:$F$65,(HLOOKUP(F535,Trendfactoren!$A$1:$F$2,2,FALSE)),FALSE)","v":1},0,{"$f":"+VLOOKUP(C535,Scheepstypen!$A$1:$F$44,6,FALSE)","v":"L3"}]
["CEMT VaBII-2Bleegbeide","CEMT Va","BII-2B","leeg","beide","Fijn stof",24.47599034044978,{"$f":"VLOOKUP(A536,Begin:Einde,7,FALSE)","v":0},1,{"$f":"VLOOKUP(Jaar&L536,Trendfactoren!$A$2:$F$65,(HLOOKUP(F536,Trendfactoren!$A$1:$F$2,2,FALSE)),FALSE)","v":1},0,{"$f":"+VLOOKUP(C536,Scheepstypen!$A$1:$F$44,6,FALSE)","v":"L3"}]
["CEMT VaBII-2Bleegbeide","CEMT Va","BII-2B","leeg","beide","NOx",736.1482135961603,{"$f":"VLOOKUP(A537,Begin:Einde,7,FALSE)","v":0},1,{"$f":"VLOOKUP(Jaar&L537,Trendfactoren!$A$2:$F$65,(HLOOKUP(F537,Trendfactoren!$A$1:$F$2,2,FALSE)),FALSE)","v":1},0,{"$f":"+VLOOKUP(C537,Scheepstypen!$A$1:$F$44,6,FALSE)","v":"L3"}]
["CEMT VaBII-2Lgeladenbeide","CEMT Va","BII-2L","geladen","beide","Fijn stof",18.776674273407156,{"$f":"VLOOKUP(A538,Begin:Einde,7,FALSE)","v":0},1,{"$f":"VLOOKUP(Jaar&L538,Trendfactoren!$A$2:$F$65,(HLOOKUP(F538,Trendfactoren!$A$1:$F$2,2,FALSE)),FALSE)","v":1},0,{"$f":"+VLOOKUP(C538,Scheepstypen!$A$1:$F$44,6,FALSE)","v":"L3"}]
["CEMT VaBII-2Lgeladenbeide","CEMT Va","BII-2L","geladen","beide","NOx",531.69989899149471,{"$f":"VLOOKUP(A539,Begin:Einde,7,FALSE)","v":0},1,{"$f":"VLOOKUP(Jaar&L539,Trendfactoren!$A$2:$F$65,(HLOOKUP(F539,Trendfactoren!$A$1:$F$2,2,FALSE)),FALSE)","v":1},0,{"$f":"+VLOOKUP(C539,Scheepstypen!$A$1:$F$44,6,FALSE)","v":"L3"}]
["CEMT VaBII-2Lleegbeide","CEMT Va","BII-2L","leeg","beide","Fijn stof",14.662869122458396,{"$f":"VLOOKUP(A540,Begin:Einde,7,FALSE)","v":0},1,{"$f":"VLOOKUP(Jaar&L540,Trendfactoren!$A$2:$F$65,(HLOOKUP(F540,Trendfactoren!$A$1:$F$2,2,FALSE)),FALSE)","v":1},0,{"$f":"+VLOOKUP(C540,Scheepstypen!$A$1:$F$44,6,FALSE)","v":"L3"}]
["CEMT VaBII-2Lleegbeide","CEMT Va","BII-2L","leeg","beide","NOx",424.99922594682886,{"$f":"VLOOKUP(A541,Begin:Einde,7,FALSE)","v":0},1,{"$f":"VLOOKUP(Jaar&L541,Trendfactoren!$A$2:$F$65,(HLOOKUP(F541,Trendfactoren!$A$1:$F$2,2,FALSE)),FALSE)","v":1},0,{"$f":"+VLOOKUP(C541,Scheepstypen!$A$1:$F$44,6,FALSE)","v":"L3"}]
["CEMT VaBII-4geladenbeide","CEMT Va","BII-4","geladen","beide","Fijn stof",40.249238991639274,{"$f":"VLOOKUP(A542,Begin:Einde,7,FALSE)","v":0},1,{"$f":"VLOOKUP(Jaar&L542,Trendfactoren!$A$2:$F$65,(HLOOKUP(F542,Trendfactoren!$A$1:$F$2,2,FALSE)),FALSE)","v":1},0,{"$f":"+VLOOKUP(C542,Scheepstypen!$A$1:$F$44,6,FALSE)","v":"L3"}]
["CEMT VaBII-4geladenbeide","CEMT Va","BII-4","geladen","beide","NOx",1153.8187231770457,{"$f":"VLOOKUP(A543,Begin:Einde,7,FALSE)","v":0},1,{"$f":"VLOOKUP(Jaar&L543,Trendfactoren!$A$2:$F$65,(HLOOKUP(F543,Trendfactoren!$A$1:$F$2,2,FALSE)),FALSE)","v":1},0,{"$f":"+VLOOKUP(C543,Scheepstypen!$A$1:$F$44,6,FALSE)","v":"L3"}]
["CEMT VaBII-4leegbeide","CEMT Va","BII-4","leeg","beide","Fijn stof",39.173883889675857,{"$f":"VLOOKUP(A544,Begin:Einde,7,FALSE)","v":0},1,{"$f":"VLOOKUP(Jaar&L544,Trendfactoren!$A$2:$F$65,(HLOOKUP(F544,Trendfactoren!$A$1:$F$2,2,FALSE)),FALSE)","v":1},0,{"$f":"+VLOOKUP(C544,Scheepstypen!$A$1:$F$44,6,FALSE)","v":"L3"}]
["CEMT VaBII-4leegbeide","CEMT Va","BII-4","leeg","beide","NOx",1193.97137533553,{"$f":"VLOOKUP(A545,Begin:Einde,7,FALSE)","v":0},1,{"$f":"VLOOKUP(Jaar&L545,Trendfactoren!$A$2:$F$65,(HLOOKUP(F545,Trendfactoren!$A$1:$F$2,2,FALSE)),FALSE)","v":1},0,{"$f":"+VLOOKUP(C545,Scheepstypen!$A$1:$F$44,6,FALSE)","v":"L3"}]
["CEMT VaBII-6Bgeladenbeide","CEMT Va","BII-6B","geladen","beide","Fijn stof",110.05780133497187,{"$f":"VLOOKUP(A546,Begin:Einde,7,FALSE)","v":0},1,{"$f":"VLOOKUP(Jaar&L546,Trendfactoren!$A$2:$F$65,(HLOOKUP(F546,Trendfactoren!$A$1:$F$2,2,FALSE)),FALSE)","v":1},0,{"$f":"+VLOOKUP(C546,Scheepstypen!$A$1:$F$44,6,FALSE)","v":"L3"}]
["CEMT VaBII-6Bgeladenbeide","CEMT Va","BII-6B","geladen","beide","NOx",3410.4185810788654,{"$f":"VLOOKUP(A547,Begin:Einde,7,FALSE)","v":0},1,{"$f":"VLOOKUP(Jaar&L547,Trendfactoren!$A$2:$F$65,(HLOOKUP(F547,Trendfactoren!$A$1:$F$2,2,FALSE)),FALSE)","v":1},0,{"$f":"+VLOOKUP(C547,Scheepstypen!$A$1:$F$44,6,FALSE)","v":"L3"}]
["CEMT VaBII-6Bleegbeide","CEMT Va","BII-6B","leeg","beide","Fijn stof",71.504225461405468,{"$f":"VLOOKUP(A548,Begin:Einde,7,FALSE)","v":0},1,{"$f":"VLOOKUP(Jaar&L548,Trendfactoren!$A$2:$F$65,(HLOOKUP(F548,Trendfactoren!$A$1:$F$2,2,FALSE)),FALSE)","v":1},0,{"$f":"+VLOOKUP(C548,Scheepstypen!$A$1:$F$44,6,FALSE)","v":"L3"}]
["CEMT VaBII-6Bleegbeide","CEMT Va","BII-6B","leeg","beide","NOx",2222.0777401275395,{"$f":"VLOOKUP(A549,Begin:Einde,7,FALSE)","v":0},1,{"$f":"VLOOKUP(Jaar&L549,Trendfactoren!$A$2:$F$65,(HLOOKUP(F549,Trendfactoren!$A$1:$F$2,2,FALSE)),FALSE)","v":1},0,{"$f":"+VLOOKUP(C549,Scheepstypen!$A$1:$F$44,6,FALSE)","v":"L3"}]
["CEMT VaBII-6Lgeladenbeide","CEMT Va","BII-6L","geladen","beide","Fijn stof",73.132819749944332,{"$f":"VLOOKUP(A550,Begin:Einde,7,FALSE)","v":0},1,{"$f":"VLOOKUP(Jaar&L550,Trendfactoren!$A$2:$F$65,(HLOOKUP(F550,Trendfactoren!$A$1:$F$2,2,FALSE)),FALSE)","v":1},0,{"$f":"+VLOOKUP(C550,Scheepstypen!$A$1:$F$44,6,FALSE)","v":"L3"}]
["CEMT VaBII-6Lgeladenbeide","CEMT Va","BII-6L","geladen","beide","NOx",2251.7912650087601,{"$f":"VLOOKUP(A551,Begin:Einde,7,FALSE)","v":0},1,{"$f":"VLOOKUP(Jaar&L551,Trendfactoren!$A$2:$F$65,(HLOOKUP(F551,Trendfactoren!$A$1:$F$2,2,FALSE)),FALSE)","v":1},0,{"$f":"+VLOOKUP(C551,Scheepstypen!$A$1:$F$44,6,FALSE)","v":"L3"}]
["CEMT VaBII-6Lleegbeide","CEMT Va","BII-6L","leeg","beide","Fijn stof",43.989846492433564,{"$f":"VLOOKUP(A552,Begin:Einde,7,FALSE)","v":0},1,{"$f":"VLOOKUP(Jaar&L552,Trendfactoren!$A$2:$F$65,(HLOOKUP(F552,Trendfactoren!$A$1:$F$2,2,FALSE)),FALSE)","v":1},0,{"$f":"+VLOOKUP(C552,Scheepstypen!$A$1:$F$44,6,FALSE)","v":"L3"}]
["CEMT VaBII-6Lleegbeide","CEMT Va","BII-6L","leeg","beide","NOx",1355.1278303140984,{"$f":"VLOOKUP(A553,Begin:Einde,7,FALSE)","v":0},1,{"$f":"VLOOKUP(Jaar&L553,Trendfactoren!$A$2:$F$65,(HLOOKUP(F553,Trendfactoren!$A$1:$F$2,2,FALSE)),FALSE)","v":1},0,{"$f":"+VLOOKUP(C553,Scheepstypen!$A$1:$F$44,6,FALSE)","v":"L3"}]
["CEMT VaBO1geladenbeide","CEMT Va","BO1","geladen","beide","Fijn stof",4.473702394718333,{"$f":"VLOOKUP(A554,Begin:Einde,7,FALSE)","v":0},1,{"$f":"VLOOKUP(Jaar&L554,Trendfactoren!$A$2:$F$65,(HLOOKUP(F554,Trendfactoren!$A$1:$F$2,2,FALSE)),FALSE)","v":1},0,{"$f":"+VLOOKUP(C554,Scheepstypen!$A$1:$F$44,6,FALSE)","v":"L1"}]
["CEMT VaBO1geladenbeide","CEMT Va","BO1","geladen","beide","NOx",130.78712842959925,{"$f":"VLOOKUP(A555,Begin:Einde,7,FALSE)","v":0},1,{"$f":"VLOOKUP(Jaar&L555,Trendfactoren!$A$2:$F$65,(HLOOKUP(F555,Trendfactoren!$A$1:$F$2,2,FALSE)),FALSE)","v":1},0,{"$f":"+VLOOKUP(C555,Scheepstypen!$A$1:$F$44,6,FALSE)","v":"L1"}]
["CEMT VaBO1leegbeide","CEMT Va","BO1","leeg","beide","Fijn stof",3.1902559098118894,{"$f":"VLOOKUP(A556,Begin:Einde,7,FALSE)","v":0},1,{"$f":"VLOOKUP(Jaar&L556,Trendfactoren!$A$2:$F$65,(HLOOKUP(F556,Trendfactoren!$A$1:$F$2,2,FALSE)),FALSE)","v":1},0,{"$f":"+VLOOKUP(C556,Scheepstypen!$A$1:$F$44,6,FALSE)","v":"L1"}]
["CEMT VaBO1leegbeide","CEMT Va","BO1","leeg","beide","NOx",94.965421301030574,{"$f":"VLOOKUP(A557,Begin:Einde,7,FALSE)","v":0},1,{"$f":"VLOOKUP(Jaar&L557,Trendfactoren!$A$2:$F$65,(HLOOKUP(F557,Trendfactoren!$A$1:$F$2,2,FALSE)),FALSE)","v":1},0,{"$f":"+VLOOKUP(C557,Scheepstypen!$A$1:$F$44,6,FALSE)","v":"L1"}]
["CEMT VaBO2geladenbeide","CEMT Va","BO2","geladen","beide","Fijn stof",7.6400480341245034,{"$f":"VLOOKUP(A558,Begin:Einde,7,FALSE)","v":0},1,{"$f":"VLOOKUP(Jaar&L558,Trendfactoren!$A$2:$F$65,(HLOOKUP(F558,Trendfactoren!$A$1:$F$2,2,FALSE)),FALSE)","v":1},0,{"$f":"+VLOOKUP(C558,Scheepstypen!$A$1:$F$44,6,FALSE)","v":"L1"}]
["CEMT VaBO2geladenbeide","CEMT Va","BO2","geladen","beide","NOx",228.03369223791839,{"$f":"VLOOKUP(A559,Begin:Einde,7,FALSE)","v":0},1,{"$f":"VLOOKUP(Jaar&L559,Trendfactoren!$A$2:$F$65,(HLOOKUP(F559,Trendfactoren!$A$1:$F$2,2,FALSE)),FALSE)","v":1},0,{"$f":"+VLOOKUP(C559,Scheepstypen!$A$1:$F$44,6,FALSE)","v":"L1"}]
["CEMT VaBO2leegbeide","CEMT Va","BO2","leeg","beide","Fijn stof",4.3746194041816606,{"$f":"VLOOKUP(A560,Begin:Einde,7,FALSE)","v":0},1,{"$f":"VLOOKUP(Jaar&L560,Trendfactoren!$A$2:$F$65,(HLOOKUP(F560,Trendfactoren!$A$1:$F$2,2,FALSE)),FALSE)","v":1},0,{"$f":"+VLOOKUP(C560,Scheepstypen!$A$1:$F$44,6,FALSE)","v":"L1"}]
["CEMT VaBO2leegbeide","CEMT Va","BO2","leeg","beide","NOx",129.94380813067613,{"$f":"VLOOKUP(A561,Begin:Einde,7,FALSE)","v":0},1,{"$f":"VLOOKUP(Jaar&L561,Trendfactoren!$A$2:$F$65,(HLOOKUP(F561,Trendfactoren!$A$1:$F$2,2,FALSE)),FALSE)","v":1},0,{"$f":"+VLOOKUP(C561,Scheepstypen!$A$1:$F$44,6,FALSE)","v":"L1"}]
["CEMT VaBO3geladenbeide","CEMT Va","BO3","geladen","beide","Fijn stof",12.274687450783297,{"$f":"VLOOKUP(A562,Begin:Einde,7,FALSE)","v":0},1,{"$f":"VLOOKUP(Jaar&L562,Trendfactoren!$A$2:$F$65,(HLOOKUP(F562,Trendfactoren!$A$1:$F$2,2,FALSE)),FALSE)","v":1},0,{"$f":"+VLOOKUP(C562,Scheepstypen!$A$1:$F$44,6,FALSE)","v":"L1"}]
["CEMT VaBO3geladenbeide","CEMT Va","BO3","geladen","beide","NOx",366.67055793640441,{"$f":"VLOOKUP(A563,Begin:Einde,7,FALSE)","v":0},1,{"$f":"VLOOKUP(Jaar&L563,Trendfactoren!$A$2:$F$65,(HLOOKUP(F563,Trendfactoren!$A$1:$F$2,2,FALSE)),FALSE)","v":1},0,{"$f":"+VLOOKUP(C563,Scheepstypen!$A$1:$F$44,6,FALSE)","v":"L1"}]
["CEMT VaBO3leegbeide","CEMT Va","BO3","leeg","beide","Fijn stof",5.6796815100957652,{"$f":"VLOOKUP(A564,Begin:Einde,7,FALSE)","v":0},1,{"$f":"VLOOKUP(Jaar&L564,Trendfactoren!$A$2:$F$65,(HLOOKUP(F564,Trendfactoren!$A$1:$F$2,2,FALSE)),FALSE)","v":1},0,{"$f":"+VLOOKUP(C564,Scheepstypen!$A$1:$F$44,6,FALSE)","v":"L1"}]
["CEMT VaBO3leegbeide","CEMT Va","BO3","leeg","beide","NOx",168.79842315574902,{"$f":"VLOOKUP(A565,Begin:Einde,7,FALSE)","v":0},1,{"$f":"VLOOKUP(Jaar&L565,Trendfactoren!$A$2:$F$65,(HLOOKUP(F565,Trendfactoren!$A$1:$F$2,2,FALSE)),FALSE)","v":1},0,{"$f":"+VLOOKUP(C565,Scheepstypen!$A$1:$F$44,6,FALSE)","v":"L1"}]
["CEMT VaBO4geladenbeide","CEMT Va","BO4","geladen","beide","Fijn stof",14.54988744521866,{"$f":"VLOOKUP(A566,Begin:Einde,7,FALSE)","v":0},1,{"$f":"VLOOKUP(Jaar&L566,Trendfactoren!$A$2:$F$65,(HLOOKUP(F566,Trendfactoren!$A$1:$F$2,2,FALSE)),FALSE)","v":1},0,{"$f":"+VLOOKUP(C566,Scheepstypen!$A$1:$F$44,6,FALSE)","v":"L1"}]
["CEMT VaBO4geladenbeide","CEMT Va","BO4","geladen","beide","NOx",433.15769718414464,{"$f":"VLOOKUP(A567,Begin:Einde,7,FALSE)","v":0},1,{"$f":"VLOOKUP(Jaar&L567,Trendfactoren!$A$2:$F$65,(HLOOKUP(F567,Trendfactoren!$A$1:$F$2,2,FALSE)),FALSE)","v":1},0,{"$f":"+VLOOKUP(C567,Scheepstypen!$A$1:$F$44,6,FALSE)","v":"L1"}]
["CEMT VaBO4leegbeide","CEMT Va","BO4","leeg","beide","Fijn stof",6.808236084551325,{"$f":"VLOOKUP(A568,Begin:Einde,7,FALSE)","v":0},1,{"$f":"VLOOKUP(Jaar&L568,Trendfactoren!$A$2:$F$65,(HLOOKUP(F568,Trendfactoren!$A$1:$F$2,2,FALSE)),FALSE)","v":1},0,{"$f":"+VLOOKUP(C568,Scheepstypen!$A$1:$F$44,6,FALSE)","v":"L1"}]
["CEMT VaBO4leegbeide","CEMT Va","BO4","leeg","beide","NOx",200.79113011165472,{"$f":"VLOOKUP(A569,Begin:Einde,7,FALSE)","v":0},1,{"$f":"VLOOKUP(Jaar&L569,Trendfactoren!$A$2:$F$65,(HLOOKUP(F569,Trendfactoren!$A$1:$F$2,2,FALSE)),FALSE)","v":1},0,{"$f":"+VLOOKUP(C569,Scheepstypen!$A$1:$F$44,6,FALSE)","v":"L1"}]
["CEMT VaC1bgeladenbeide","CEMT Va","C1b","geladen","beide","Fijn stof",6.9268744433440075,{"$f":"VLOOKUP(A570,Begin:Einde,7,FALSE)","v":0},1,{"$f":"VLOOKUP(Jaar&L570,Trendfactoren!$A$2:$F$65,(HLOOKUP(F570,Trendfactoren!$A$1:$F$2,2,FALSE)),FALSE)","v":1},0,{"$f":"+VLOOKUP(C570,Scheepstypen!$A$1:$F$44,6,FALSE)","v":"L1"}]
["CEMT VaC1bgeladenbeide","CEMT Va","C1b","geladen","beide","NOx",207.09523913773461,{"$f":"VLOOKUP(A571,Begin:Einde,7,FALSE)","v":0},1,{"$f":"VLOOKUP(Jaar&L571,Trendfactoren!$A$2:$F$65,(HLOOKUP(F571,Trendfactoren!$A$1:$F$2,2,FALSE)),FALSE)","v":1},0,{"$f":"+VLOOKUP(C571,Scheepstypen!$A$1:$F$44,6,FALSE)","v":"L1"}]
["CEMT VaC1bleegbeide","CEMT Va","C1b","leeg","beide","Fijn stof",3.7261193327764714,{"$f":"VLOOKUP(A572,Begin:Einde,7,FALSE)","v":0},1,{"$f":"VLOOKUP(Jaar&L572,Trendfactoren!$A$2:$F$65,(HLOOKUP(F572,Trendfactoren!$A$1:$F$2,2,FALSE)),FALSE)","v":1},0,{"$f":"+VLOOKUP(C572,Scheepstypen!$A$1:$F$44,6,FALSE)","v":"L1"}]
["CEMT VaC1bleegbeide","CEMT Va","C1b","leeg","beide","NOx",109.82926347308933,{"$f":"VLOOKUP(A573,Begin:Einde,7,FALSE)","v":0},1,{"$f":"VLOOKUP(Jaar&L573,Trendfactoren!$A$2:$F$65,(HLOOKUP(F573,Trendfactoren!$A$1:$F$2,2,FALSE)),FALSE)","v":1},0,{"$f":"+VLOOKUP(C573,Scheepstypen!$A$1:$F$44,6,FALSE)","v":"L1"}]
["CEMT VaC1lgeladenbeide","CEMT Va","C1l","geladen","beide","Fijn stof",4.3511922071021907,{"$f":"VLOOKUP(A574,Begin:Einde,7,FALSE)","v":0},1,{"$f":"VLOOKUP(Jaar&L574,Trendfactoren!$A$2:$F$65,(HLOOKUP(F574,Trendfactoren!$A$1:$F$2,2,FALSE)),FALSE)","v":1},0,{"$f":"+VLOOKUP(C574,Scheepstypen!$A$1:$F$44,6,FALSE)","v":"L1"}]
["CEMT VaC1lgeladenbeide","CEMT Va","C1l","geladen","beide","NOx",128.96159780534802,{"$f":"VLOOKUP(A575,Begin:Einde,7,FALSE)","v":0},{"$f":"+Afstand","v":1},{"$f":"VLOOKUP(Jaar&L575,Trendfactoren!$A$2:$F$65,(HLOOKUP(F575,Trendfactoren!$A$1:$F$2,2,FALSE)),FALSE)","v":1},{"$f":"+G575*H575*I575*J575","v":0},{"$f":"+VLOOKUP(C575,Scheepstypen!$A$1:$F$44,6,FALSE)","v":"L1"}]
["CEMT VaC1lleegbeide","CEMT Va","C1l","leeg","beide","Fijn stof",2.4301693325596907,{"$f":"VLOOKUP(A576,Begin:Einde,7,FALSE)","v":0},1,{"$f":"VLOOKUP(Jaar&L576,Trendfactoren!$A$2:$F$65,(HLOOKUP(F576,Trendfactoren!$A$1:$F$2,2,FALSE)),FALSE)","v":1},0,{"$f":"+VLOOKUP(C576,Scheepstypen!$A$1:$F$44,6,FALSE)","v":"L1"}]
[{"$f":"+B577&C577&D577&E577","v":"CEMT VaC1lleegbeide"},"CEMT Va","C1l","leeg","beide","NOx",64.026282341417087,{"$f":"VLOOKUP(A577,Begin:Einde,7,FALSE)","v":0},1,{"$f":"VLOOKUP(Jaar&L577,Trendfactoren!$A$2:$F$65,(HLOOKUP(F577,Trendfactoren!$A$1:$F$2,2,FALSE)),FALSE)","v":1},0,{"$f":"+VLOOKUP(C577,Scheepstypen!$A$1:$F$44,6,FALSE)","v":"L1"}]
["CEMT VaC2bgeladenbeide","CEMT Va","C2b","geladen","beide","Fijn stof",17.631621892876801,{"$f":"VLOOKUP(A578,Begin:Einde,7,FALSE)","v":0},1,{"$f":"VLOOKUP(Jaar&L578,Trendfactoren!$A$2:$F$65,(HLOOKUP(F578,Trendfactoren!$A$1:$F$2,2,FALSE)),FALSE)","v":1},0,{"$f":"+VLOOKUP(C578,Scheepstypen!$A$1:$F$44,6,FALSE)","v":"L2"}]
["CEMT VaC2bgeladenbeide","CEMT Va","C2b","geladen","beide","NOx",513.8738541750439,{"$f":"VLOOKUP(A579,Begin:Einde,7,FALSE)","v":0},1,{"$f":"VLOOKUP(Jaar&L579,Trendfactoren!$A$2:$F$65,(HLOOKUP(F579,Trendfactoren!$A$1:$F$2,2,FALSE)),FALSE)","v":1},0,{"$f":"+VLOOKUP(C579,Scheepstypen!$A$1:$F$44,6,FALSE)","v":"L2"}]
["CEMT VaC2bleegbeide","CEMT Va","C2b","leeg","beide","Fijn stof",12.290560232719255,{"$f":"VLOOKUP(A580,Begin:Einde,7,FALSE)","v":0},1,{"$f":"VLOOKUP(Jaar&L580,Trendfactoren!$A$2:$F$65,(HLOOKUP(F580,Trendfactoren!$A$1:$F$2,2,FALSE)),FALSE)","v":1},0,{"$f":"+VLOOKUP(C580,Scheepstypen!$A$1:$F$44,6,FALSE)","v":"L2"}]
["CEMT VaC2bleegbeide","CEMT Va","C2b","leeg","beide","NOx",355.04612462852901,{"$f":"VLOOKUP(A581,Begin:Einde,7,FALSE)","v":0},1,{"$f":"VLOOKUP(Jaar&L581,Trendfactoren!$A$2:$F$65,(HLOOKUP(F581,Trendfactoren!$A$1:$F$2,2,FALSE)),FALSE)","v":1},0,{"$f":"+VLOOKUP(C581,Scheepstypen!$A$1:$F$44,6,FALSE)","v":"L2"}]
["CEMT VaC2lgeladenbeide","CEMT Va","C2l","geladen","beide","Fijn stof",17.103122203832896,{"$f":"VLOOKUP(A582,Begin:Einde,7,FALSE)","v":0},1,{"$f":"VLOOKUP(Jaar&L582,Trendfactoren!$A$2:$F$65,(HLOOKUP(F582,Trendfactoren!$A$1:$F$2,2,FALSE)),FALSE)","v":1},0,{"$f":"+VLOOKUP(C582,Scheepstypen!$A$1:$F$44,6,FALSE)","v":"L2"}]
["CEMT VaC2lgeladenbeide","CEMT Va","C2l","geladen","beide","NOx",509.25228330997476,{"$f":"VLOOKUP(A583,Begin:Einde,7,FALSE)","v":0},1,{"$f":"VLOOKUP(Jaar&L583,Trendfactoren!$A$2:$F$65,(HLOOKUP(F583,Trendfactoren!$A$1:$F$2,2,FALSE)),FALSE)","v":1},0,{"$f":"+VLOOKUP(C583,Scheepstypen!$A$1:$F$44,6,FALSE)","v":"L2"}]
["CEMT VaC2lleegbeide","CEMT Va","C2l","leeg","beide","Fijn stof",11.564749020279045,{"$f":"VLOOKUP(A584,Begin:Einde,7,FALSE)","v":0},1,{"$f":"VLOOKUP(Jaar&L584,Trendfactoren!$A$2:$F$65,(HLOOKUP(F584,Trendfactoren!$A$1:$F$2,2,FALSE)),FALSE)","v":1},0,{"$f":"+VLOOKUP(C584,Scheepstypen!$A$1:$F$44,6,FALSE)","v":"L2"}]
["CEMT VaC2lleegbeide","CEMT Va","C2l","leeg","beide","NOx",331.39079092476749,{"$f":"VLOOKUP(A585,Begin:Einde,7,FALSE)","v":0},1,{"$f":"VLOOKUP(Jaar&L585,Trendfactoren!$A$2:$F$65,(HLOOKUP(F585,Trendfactoren!$A$1:$F$2,2,FALSE)),FALSE)","v":1},0,{"$f":"+VLOOKUP(C585,Scheepstypen!$A$1:$F$44,6,FALSE)","v":"L2"}]
["CEMT VaC3bgeladenbeide","CEMT Va","C3b","geladen","beide","Fijn stof",39.456103356852239,{"$f":"VLOOKUP(A586,Begin:Einde,7,FALSE)","v":0},1,{"$f":"VLOOKUP(Jaar&L586,Trendfactoren!$A$2:$F$65,(HLOOKUP(F586,Trendfactoren!$A$1:$F$2,2,FALSE)),FALSE)","v":1},0,{"$f":"+VLOOKUP(C586,Scheepstypen!$A$1:$F$44,6,FALSE)","v":"L3"}]
["CEMT VaC3bgeladenbeide","CEMT Va","C3b","geladen","beide","NOx",1224.5835657491873,{"$f":"VLOOKUP(A587,Begin:Einde,7,FALSE)","v":0},1,{"$f":"VLOOKUP(Jaar&L587,Trendfactoren!$A$2:$F$65,(HLOOKUP(F587,Trendfactoren!$A$1:$F$2,2,FALSE)),FALSE)","v":1},0,{"$f":"+VLOOKUP(C587,Scheepstypen!$A$1:$F$44,6,FALSE)","v":"L3"}]
["CEMT VaC3bleegbeide","CEMT Va","C3b","leeg","beide","Fijn stof",26.376211903886404,{"$f":"VLOOKUP(A588,Begin:Einde,7,FALSE)","v":0},1,{"$f":"VLOOKUP(Jaar&L588,Trendfactoren!$A$2:$F$65,(HLOOKUP(F588,Trendfactoren!$A$1:$F$2,2,FALSE)),FALSE)","v":1},0,{"$f":"+VLOOKUP(C588,Scheepstypen!$A$1:$F$44,6,FALSE)","v":"L3"}]
["CEMT VaC3bleegbeide","CEMT Va","C3b","leeg","beide","NOx",814.92338770069932,{"$f":"VLOOKUP(A589,Begin:Einde,7,FALSE)","v":0},1,{"$f":"VLOOKUP(Jaar&L589,Trendfactoren!$A$2:$F$65,(HLOOKUP(F589,Trendfactoren!$A$1:$F$2,2,FALSE)),FALSE)","v":1},0,{"$f":"+VLOOKUP(C589,Scheepstypen!$A$1:$F$44,6,FALSE)","v":"L3"}]
["CEMT VaC3lgeladenbeide","CEMT Va","C3l","geladen","beide","Fijn stof",15.076914138621726,{"$f":"VLOOKUP(A590,Begin:Einde,7,FALSE)","v":0},1,{"$f":"VLOOKUP(Jaar&L590,Trendfactoren!$A$2:$F$65,(HLOOKUP(F590,Trendfactoren!$A$1:$F$2,2,FALSE)),FALSE)","v":1},0,{"$f":"+VLOOKUP(C590,Scheepstypen!$A$1:$F$44,6,FALSE)","v":"L3"}]
["CEMT VaC3lgeladenbeide","CEMT Va","C3l","geladen","beide","NOx",354.9711999697347,{"$f":"VLOOKUP(A591,Begin:Einde,7,FALSE)","v":0},1,{"$f":"VLOOKUP(Jaar&L591,Trendfactoren!$A$2:$F$65,(HLOOKUP(F591,Trendfactoren!$A$1:$F$2,2,FALSE)),FALSE)","v":1},0,{"$f":"+VLOOKUP(C591,Scheepstypen!$A$1:$F$44,6,FALSE)","v":"L3"}]
["CEMT VaC3lleegbeide","CEMT Va","C3l","leeg","beide","Fijn stof",11.03421641170911,{"$f":"VLOOKUP(A592,Begin:Einde,7,FALSE)","v":0},1,{"$f":"VLOOKUP(Jaar&L592,Trendfactoren!$A$2:$F$65,(HLOOKUP(F592,Trendfactoren!$A$1:$F$2,2,FALSE)),FALSE)","v":1},0,{"$f":"+VLOOKUP(C592,Scheepstypen!$A$1:$F$44,6,FALSE)","v":"L3"}]
["CEMT VaC3lleegbeide","CEMT Va","C3l","leeg","beide","NOx",304.37329457496901,{"$f":"VLOOKUP(A593,Begin:Einde,7,FALSE)","v":0},1,{"$f":"VLOOKUP(Jaar&L593,Trendfactoren!$A$2:$F$65,(HLOOKUP(F593,Trendfactoren!$A$1:$F$2,2,FALSE)),FALSE)","v":1},0,{"$f":"+VLOOKUP(C593,Scheepstypen!$A$1:$F$44,6,FALSE)","v":"L3"}]
["CEMT VaC4geladenbeide","CEMT Va","C4","geladen","beide","Fijn stof",28.907234305779259,{"$f":"VLOOKUP(A594,Begin:Einde,7,FALSE)","v":0},1,{"$f":"VLOOKUP(Jaar&L594,Trendfactoren!$A$2:$F$65,(HLOOKUP(F594,Trendfactoren!$A$1:$F$2,2,FALSE)),FALSE)","v":1},0,{"$f":"+VLOOKUP(C594,Scheepstypen!$A$1:$F$44,6,FALSE)","v":"L3"}]
["CEMT VaC4geladenbeide","CEMT Va","C4","geladen","beide","NOx",678.25487401269868,{"$f":"VLOOKUP(A595,Begin:Einde,7,FALSE)","v":0},1,{"$f":"VLOOKUP(Jaar&L595,Trendfactoren!$A$2:$F$65,(HLOOKUP(F595,Trendfactoren!$A$1:$F$2,2,FALSE)),FALSE)","v":1},0,{"$f":"+VLOOKUP(C595,Scheepstypen!$A$1:$F$44,6,FALSE)","v":"L3"}]
["CEMT VaC4leegbeide","CEMT Va","C4","leeg","beide","Fijn stof",20.417548509146894,{"$f":"VLOOKUP(A596,Begin:Einde,7,FALSE)","v":0},1,{"$f":"VLOOKUP(Jaar&L596,Trendfactoren!$A$2:$F$65,(HLOOKUP(F596,Trendfactoren!$A$1:$F$2,2,FALSE)),FALSE)","v":1},0,{"$f":"+VLOOKUP(C596,Scheepstypen!$A$1:$F$44,6,FALSE)","v":"L3"}]
["CEMT VaC4leegbeide","CEMT Va","C4","leeg","beide","NOx",588.26957875321295,{"$f":"VLOOKUP(A597,Begin:Einde,7,FALSE)","v":0},1,{"$f":"VLOOKUP(Jaar&L597,Trendfactoren!$A$2:$F$65,(HLOOKUP(F597,Trendfactoren!$A$1:$F$2,2,FALSE)),FALSE)","v":1},0,{"$f":"+VLOOKUP(C597,Scheepstypen!$A$1:$F$44,6,FALSE)","v":"L3"}]
["CEMT VaM0geladenbeide","CEMT Va","M0","geladen","beide","Fijn stof",1.4211467770017061,{"$f":"VLOOKUP(A598,Begin:Einde,7,FALSE)","v":0},1,{"$f":"VLOOKUP(Jaar&L598,Trendfactoren!$A$2:$F$65,(HLOOKUP(F598,Trendfactoren!$A$1:$F$2,2,FALSE)),FALSE)","v":1},0,{"$f":"+VLOOKUP(C598,Scheepstypen!$A$1:$F$44,6,FALSE)","v":"L1"}]
["CEMT VaM0geladenbeide","CEMT Va","M0","geladen","beide","NOx",38.809083990090571,{"$f":"VLOOKUP(A599,Begin:Einde,7,FALSE)","v":0},1,{"$f":"VLOOKUP(Jaar&L599,Trendfactoren!$A$2:$F$65,(HLOOKUP(F599,Trendfactoren!$A$1:$F$2,2,FALSE)),FALSE)","v":1},0,{"$f":"+VLOOKUP(C599,Scheepstypen!$A$1:$F$44,6,FALSE)","v":"L1"}]
["CEMT VaM0leegbeide","CEMT Va","M0","leeg","beide","Fijn stof",1.0179094323419267,{"$f":"VLOOKUP(A600,Begin:Einde,7,FALSE)","v":0},1,{"$f":"VLOOKUP(Jaar&L600,Trendfactoren!$A$2:$F$65,(HLOOKUP(F600,Trendfactoren!$A$1:$F$2,2,FALSE)),FALSE)","v":1},0,{"$f":"+VLOOKUP(C600,Scheepstypen!$A$1:$F$44,6,FALSE)","v":"L1"}]
["CEMT VaM0leegbeide","CEMT Va","M0","leeg","beide","NOx",26.47202303570765,{"$f":"VLOOKUP(A601,Begin:Einde,7,FALSE)","v":0},1,{"$f":"VLOOKUP(Jaar&L601,Trendfactoren!$A$2:$F$65,(HLOOKUP(F601,Trendfactoren!$A$1:$F$2,2,FALSE)),FALSE)","v":1},0,{"$f":"+VLOOKUP(C601,Scheepstypen!$A$1:$F$44,6,FALSE)","v":"L1"}]
["CEMT VaM1geladenbeide","CEMT Va","M1","geladen","beide","Fijn stof",2.7749876484451681,{"$f":"VLOOKUP(A602,Begin:Einde,7,FALSE)","v":0},1,{"$f":"VLOOKUP(Jaar&L602,Trendfactoren!$A$2:$F$65,(HLOOKUP(F602,Trendfactoren!$A$1:$F$2,2,FALSE)),FALSE)","v":1},0,{"$f":"+VLOOKUP(C602,Scheepstypen!$A$1:$F$44,6,FALSE)","v":"L1"}]
["CEMT VaM1geladenbeide","CEMT Va","M1","geladen","beide","NOx",80.833795966164374,{"$f":"VLOOKUP(A603,Begin:Einde,7,FALSE)","v":0},1,{"$f":"VLOOKUP(Jaar&L603,Trendfactoren!$A$2:$F$65,(HLOOKUP(F603,Trendfactoren!$A$1:$F$2,2,FALSE)),FALSE)","v":1},0,{"$f":"+VLOOKUP(C603,Scheepstypen!$A$1:$F$44,6,FALSE)","v":"L1"}]
["CEMT VaM1leegbeide","CEMT Va","M1","leeg","beide","Fijn stof",1.7618287164829223,{"$f":"VLOOKUP(A604,Begin:Einde,7,FALSE)","v":0},1,{"$f":"VLOOKUP(Jaar&L604,Trendfactoren!$A$2:$F$65,(HLOOKUP(F604,Trendfactoren!$A$1:$F$2,2,FALSE)),FALSE)","v":1},0,{"$f":"+VLOOKUP(C604,Scheepstypen!$A$1:$F$44,6,FALSE)","v":"L1"}]
["CEMT VaM1leegbeide","CEMT Va","M1","leeg","beide","NOx",50.094317464902751,{"$f":"VLOOKUP(A605,Begin:Einde,7,FALSE)","v":0},1,{"$f":"VLOOKUP(Jaar&L605,Trendfactoren!$A$2:$F$65,(HLOOKUP(F605,Trendfactoren!$A$1:$F$2,2,FALSE)),FALSE)","v":1},0,{"$f":"+VLOOKUP(C605,Scheepstypen!$A$1:$F$44,6,FALSE)","v":"L1"}]
["CEMT VaM10geladenbeide","CEMT Va","M10","geladen","beide","Fijn stof",34.371640768901074,{"$f":"VLOOKUP(A606,Begin:Einde,7,FALSE)","v":0},1,{"$f":"VLOOKUP(Jaar&L606,Trendfactoren!$A$2:$F$65,(HLOOKUP(F606,Trendfactoren!$A$1:$F$2,2,FALSE)),FALSE)","v":1},0,{"$f":"+VLOOKUP(C606,Scheepstypen!$A$1:$F$44,6,FALSE)","v":"L3"}]
["CEMT VaM10geladenbeide","CEMT Va","M10","geladen","beide","NOx",1063.0963158545671,{"$f":"VLOOKUP(A607,Begin:Einde,7,FALSE)","v":0},1,{"$f":"VLOOKUP(Jaar&L607,Trendfactoren!$A$2:$F$65,(HLOOKUP(F607,Trendfactoren!$A$1:$F$2,2,FALSE)),FALSE)","v":1},0,{"$f":"+VLOOKUP(C607,Scheepstypen!$A$1:$F$44,6,FALSE)","v":"L3"}]
["CEMT VaM10leegbeide","CEMT Va","M10","leeg","beide","Fijn stof",14.878487322415026,{"$f":"VLOOKUP(A608,Begin:Einde,7,FALSE)","v":0},1,{"$f":"VLOOKUP(Jaar&L608,Trendfactoren!$A$2:$F$65,(HLOOKUP(F608,Trendfactoren!$A$1:$F$2,2,FALSE)),FALSE)","v":1},0,{"$f":"+VLOOKUP(C608,Scheepstypen!$A$1:$F$44,6,FALSE)","v":"L3"}]
["CEMT VaM10leegbeide","CEMT Va","M10","leeg","beide","NOx",456.66915001774919,{"$f":"VLOOKUP(A609,Begin:Einde,7,FALSE)","v":0},1,{"$f":"VLOOKUP(Jaar&L609,Trendfactoren!$A$2:$F$65,(HLOOKUP(F609,Trendfactoren!$A$1:$F$2,2,FALSE)),FALSE)","v":1},0,{"$f":"+VLOOKUP(C609,Scheepstypen!$A$1:$F$44,6,FALSE)","v":"L3"}]
["CEMT VaM11geladenbeide","CEMT Va","M11","geladen","beide","Fijn stof",34.892615611542688,{"$f":"VLOOKUP(A610,Begin:Einde,7,FALSE)","v":0},1,{"$f":"VLOOKUP(Jaar&L610,Trendfactoren!$A$2:$F$65,(HLOOKUP(F610,Trendfactoren!$A$1:$F$2,2,FALSE)),FALSE)","v":1},0,{"$f":"+VLOOKUP(C610,Scheepstypen!$A$1:$F$44,6,FALSE)","v":"L3"}]
["CEMT VaM11geladenbeide","CEMT Va","M11","geladen","beide","NOx",1069.0216526045165,{"$f":"VLOOKUP(A611,Begin:Einde,7,FALSE)","v":0},1,{"$f":"VLOOKUP(Jaar&L611,Trendfactoren!$A$2:$F$65,(HLOOKUP(F611,Trendfactoren!$A$1:$F$2,2,FALSE)),FALSE)","v":1},0,{"$f":"+VLOOKUP(C611,Scheepstypen!$A$1:$F$44,6,FALSE)","v":"L3"}]
["CEMT VaM11leegbeide","CEMT Va","M11","leeg","beide","Fijn stof",15.865263010606499,{"$f":"VLOOKUP(A612,Begin:Einde,7,FALSE)","v":0},1,{"$f":"VLOOKUP(Jaar&L612,Trendfactoren!$A$2:$F$65,(HLOOKUP(F612,Trendfactoren!$A$1:$F$2,2,FALSE)),FALSE)","v":1},0,{"$f":"+VLOOKUP(C612,Scheepstypen!$A$1:$F$44,6,FALSE)","v":"L3"}]
["CEMT VaM11leegbeide","CEMT Va","M11","leeg","beide","NOx",476.75585829466462,{"$f":"VLOOKUP(A613,Begin:Einde,7,FALSE)","v":0},1,{"$f":"VLOOKUP(Jaar&L613,Trendfactoren!$A$2:$F$65,(HLOOKUP(F613,Trendfactoren!$A$1:$F$2,2,FALSE)),FALSE)","v":1},0,{"$f":"+VLOOKUP(C613,Scheepstypen!$A$1:$F$44,6,FALSE)","v":"L3"}]
["CEMT VaM12geladenbeide","CEMT Va","M12","geladen","beide","Fijn stof",38.841184648803733,{"$f":"VLOOKUP(A614,Begin:Einde,7,FALSE)","v":0},1,{"$f":"VLOOKUP(Jaar&L614,Trendfactoren!$A$2:$F$65,(HLOOKUP(F614,Trendfactoren!$A$1:$F$2,2,FALSE)),FALSE)","v":1},0,{"$f":"+VLOOKUP(C614,Scheepstypen!$A$1:$F$44,6,FALSE)","v":"L3"}]
["CEMT VaM12geladenbeide","CEMT Va","M12","geladen","beide","NOx",1180.6982775730053,{"$f":"VLOOKUP(A615,Begin:Einde,7,FALSE)","v":0},1,{"$f":"VLOOKUP(Jaar&L615,Trendfactoren!$A$2:$F$65,(HLOOKUP(F615,Trendfactoren!$A$1:$F$2,2,FALSE)),FALSE)","v":1},0,{"$f":"+VLOOKUP(C615,Scheepstypen!$A$1:$F$44,6,FALSE)","v":"L3"}]
["CEMT VaM12leegbeide","CEMT Va","M12","leeg","beide","Fijn stof",24.101665985753829,{"$f":"VLOOKUP(A616,Begin:Einde,7,FALSE)","v":0},1,{"$f":"VLOOKUP(Jaar&L616,Trendfactoren!$A$2:$F$65,(HLOOKUP(F616,Trendfactoren!$A$1:$F$2,2,FALSE)),FALSE)","v":1},0,{"$f":"+VLOOKUP(C616,Scheepstypen!$A$1:$F$44,6,FALSE)","v":"L3"}]
["CEMT VaM12leegbeide","CEMT Va","M12","leeg","beide","NOx",742.12582786119606,{"$f":"VLOOKUP(A617,Begin:Einde,7,FALSE)","v":0},1,{"$f":"VLOOKUP(Jaar&L617,Trendfactoren!$A$2:$F$65,(HLOOKUP(F617,Trendfactoren!$A$1:$F$2,2,FALSE)),FALSE)","v":1},0,{"$f":"+VLOOKUP(C617,Scheepstypen!$A$1:$F$44,6,FALSE)","v":"L3"}]
["CEMT VaM2geladenbeide","CEMT Va","M2","geladen","beide","Fijn stof",6.2884023446670918,{"$f":"VLOOKUP(A618,Begin:Einde,7,FALSE)","v":0},1,{"$f":"VLOOKUP(Jaar&L618,Trendfactoren!$A$2:$F$65,(HLOOKUP(F618,Trendfactoren!$A$1:$F$2,2,FALSE)),FALSE)","v":1},0,{"$f":"+VLOOKUP(C618,Scheepstypen!$A$1:$F$44,6,FALSE)","v":"L1"}]
["CEMT VaM2geladenbeide","CEMT Va","M2","geladen","beide","NOx",186.48277085254267,{"$f":"VLOOKUP(A619,Begin:Einde,7,FALSE)","v":0},1,{"$f":"VLOOKUP(Jaar&L619,Trendfactoren!$A$2:$F$65,(HLOOKUP(F619,Trendfactoren!$A$1:$F$2,2,FALSE)),FALSE)","v":1},0,{"$f":"+VLOOKUP(C619,Scheepstypen!$A$1:$F$44,6,FALSE)","v":"L1"}]
["CEMT VaM2leegbeide","CEMT Va","M2","leeg","beide","Fijn stof",2.9014156190682967,{"$f":"VLOOKUP(A620,Begin:Einde,7,FALSE)","v":0},1,{"$f":"VLOOKUP(Jaar&L620,Trendfactoren!$A$2:$F$65,(HLOOKUP(F620,Trendfactoren!$A$1:$F$2,2,FALSE)),FALSE)","v":1},0,{"$f":"+VLOOKUP(C620,Scheepstypen!$A$1:$F$44,6,FALSE)","v":"L1"}]
["CEMT VaM2leegbeide","CEMT Va","M2","leeg","beide","NOx",82.999219878743801,{"$f":"VLOOKUP(A621,Begin:Einde,7,FALSE)","v":0},1,{"$f":"VLOOKUP(Jaar&L621,Trendfactoren!$A$2:$F$65,(HLOOKUP(F621,Trendfactoren!$A$1:$F$2,2,FALSE)),FALSE)","v":1},0,{"$f":"+VLOOKUP(C621,Scheepstypen!$A$1:$F$44,6,FALSE)","v":"L1"}]
["CEMT VaM3geladenbeide","CEMT Va","M3","geladen","beide","Fijn stof",7.6242760216549019,{"$f":"VLOOKUP(A622,Begin:Einde,7,FALSE)","v":0},1,{"$f":"VLOOKUP(Jaar&L622,Trendfactoren!$A$2:$F$65,(HLOOKUP(F622,Trendfactoren!$A$1:$F$2,2,FALSE)),FALSE)","v":1},0,{"$f":"+VLOOKUP(C622,Scheepstypen!$A$1:$F$44,6,FALSE)","v":"L1"}]
["CEMT VaM3geladenbeide","CEMT Va","M3","geladen","beide","NOx",225.71597921809072,{"$f":"VLOOKUP(A623,Begin:Einde,7,FALSE)","v":0},1,{"$f":"VLOOKUP(Jaar&L623,Trendfactoren!$A$2:$F$65,(HLOOKUP(F623,Trendfactoren!$A$1:$F$2,2,FALSE)),FALSE)","v":1},0,{"$f":"+VLOOKUP(C623,Scheepstypen!$A$1:$F$44,6,FALSE)","v":"L1"}]
["CEMT VaM3leegbeide","CEMT Va","M3","leeg","beide","Fijn stof",4.1492744807858193,{"$f":"VLOOKUP(A624,Begin:Einde,7,FALSE)","v":0},1,{"$f":"VLOOKUP(Jaar&L624,Trendfactoren!$A$2:$F$65,(HLOOKUP(F624,Trendfactoren!$A$1:$F$2,2,FALSE)),FALSE)","v":1},0,{"$f":"+VLOOKUP(C624,Scheepstypen!$A$1:$F$44,6,FALSE)","v":"L1"}]
["CEMT VaM3leegbeide","CEMT Va","M3","leeg","beide","NOx",120.92994488508363,{"$f":"VLOOKUP(A625,Begin:Einde,7,FALSE)","v":0},1,{"$f":"VLOOKUP(Jaar&L625,Trendfactoren!$A$2:$F$65,(HLOOKUP(F625,Trendfactoren!$A$1:$F$2,2,FALSE)),FALSE)","v":1},0,{"$f":"+VLOOKUP(C625,Scheepstypen!$A$1:$F$44,6,FALSE)","v":"L1"}]
["CEMT VaM4geladenbeide","CEMT Va","M4","geladen","beide","Fijn stof",8.5463259558039351,{"$f":"VLOOKUP(A626,Begin:Einde,7,FALSE)","v":0},1,{"$f":"VLOOKUP(Jaar&L626,Trendfactoren!$A$2:$F$65,(HLOOKUP(F626,Trendfactoren!$A$1:$F$2,2,FALSE)),FALSE)","v":1},0,{"$f":"+VLOOKUP(C626,Scheepstypen!$A$1:$F$44,6,FALSE)","v":"L1"}]
["CEMT VaM4geladenbeide","CEMT Va","M4","geladen","beide","NOx",251.82939205083849,{"$f":"VLOOKUP(A627,Begin:Einde,7,FALSE)","v":0},1,{"$f":"VLOOKUP(Jaar&L627,Trendfactoren!$A$2:$F$65,(HLOOKUP(F627,Trendfactoren!$A$1:$F$2,2,FALSE)),FALSE)","v":1},0,{"$f":"+VLOOKUP(C627,Scheepstypen!$A$1:$F$44,6,FALSE)","v":"L1"}]
["CEMT VaM4leegbeide","CEMT Va","M4","leeg","beide","Fijn stof",4.9942160785112071,{"$f":"VLOOKUP(A628,Begin:Einde,7,FALSE)","v":0},1,{"$f":"VLOOKUP(Jaar&L628,Trendfactoren!$A$2:$F$65,(HLOOKUP(F628,Trendfactoren!$A$1:$F$2,2,FALSE)),FALSE)","v":1},0,{"$f":"+VLOOKUP(C628,Scheepstypen!$A$1:$F$44,6,FALSE)","v":"L1"}]
["CEMT VaM4leegbeide","CEMT Va","M4","leeg","beide","NOx",145.35441354345988,{"$f":"VLOOKUP(A629,Begin:Einde,7,FALSE)","v":0},1,{"$f":"VLOOKUP(Jaar&L629,Trendfactoren!$A$2:$F$65,(HLOOKUP(F629,Trendfactoren!$A$1:$F$2,2,FALSE)),FALSE)","v":1},0,{"$f":"+VLOOKUP(C629,Scheepstypen!$A$1:$F$44,6,FALSE)","v":"L1"}]
["CEMT VaM5geladenbeide","CEMT Va","M5","geladen","beide","Fijn stof",9.0162539597653399,{"$f":"VLOOKUP(A630,Begin:Einde,7,FALSE)","v":0},1,{"$f":"VLOOKUP(Jaar&L630,Trendfactoren!$A$2:$F$65,(HLOOKUP(F630,Trendfactoren!$A$1:$F$2,2,FALSE)),FALSE)","v":1},0,{"$f":"+VLOOKUP(C630,Scheepstypen!$A$1:$F$44,6,FALSE)","v":"L2"}]
["CEMT VaM5geladenbeide","CEMT Va","M5","geladen","beide","NOx",271.7117087454248,{"$f":"VLOOKUP(A631,Begin:Einde,7,FALSE)","v":0},1,{"$f":"VLOOKUP(Jaar&L631,Trendfactoren!$A$2:$F$65,(HLOOKUP(F631,Trendfactoren!$A$1:$F$2,2,FALSE)),FALSE)","v":1},0,{"$f":"+VLOOKUP(C631,Scheepstypen!$A$1:$F$44,6,FALSE)","v":"L2"}]
["CEMT VaM5leegbeide","CEMT Va","M5","leeg","beide","Fijn stof",5.5974585557233549,{"$f":"VLOOKUP(A632,Begin:Einde,7,FALSE)","v":0},1,{"$f":"VLOOKUP(Jaar&L632,Trendfactoren!$A$2:$F$65,(HLOOKUP(F632,Trendfactoren!$A$1:$F$2,2,FALSE)),FALSE)","v":1},0,{"$f":"+VLOOKUP(C632,Scheepstypen!$A$1:$F$44,6,FALSE)","v":"L2"}]
["CEMT VaM5leegbeide","CEMT Va","M5","leeg","beide","NOx",166.30500393033608,{"$f":"VLOOKUP(A633,Begin:Einde,7,FALSE)","v":0},1,{"$f":"VLOOKUP(Jaar&L633,Trendfactoren!$A$2:$F$65,(HLOOKUP(F633,Trendfactoren!$A$1:$F$2,2,FALSE)),FALSE)","v":1},0,{"$f":"+VLOOKUP(C633,Scheepstypen!$A$1:$F$44,6,FALSE)","v":"L2"}]
["CEMT VaM6geladenbeide","CEMT Va","M6","geladen","beide","Fijn stof",10.64374688463869,{"$f":"VLOOKUP(A634,Begin:Einde,7,FALSE)","v":0},1,{"$f":"VLOOKUP(Jaar&L634,Trendfactoren!$A$2:$F$65,(HLOOKUP(F634,Trendfactoren!$A$1:$F$2,2,FALSE)),FALSE)","v":1},0,{"$f":"+VLOOKUP(C634,Scheepstypen!$A$1:$F$44,6,FALSE)","v":"L2"}]
["CEMT VaM6geladenbeide","CEMT Va","M6","geladen","beide","NOx",320.91794343464557,{"$f":"VLOOKUP(A635,Begin:Einde,7,FALSE)","v":0},1,{"$f":"VLOOKUP(Jaar&L635,Trendfactoren!$A$2:$F$65,(HLOOKUP(F635,Trendfactoren!$A$1:$F$2,2,FALSE)),FALSE)","v":1},0,{"$f":"+VLOOKUP(C635,Scheepstypen!$A$1:$F$44,6,FALSE)","v":"L2"}]
["CEMT VaM6leegbeide","CEMT Va","M6","leeg","beide","Fijn stof",6.5508756704552029,{"$f":"VLOOKUP(A636,Begin:Einde,7,FALSE)","v":0},1,{"$f":"VLOOKUP(Jaar&L636,Trendfactoren!$A$2:$F$65,(HLOOKUP(F636,Trendfactoren!$A$1:$F$2,2,FALSE)),FALSE)","v":1},0,{"$f":"+VLOOKUP(C636,Scheepstypen!$A$1:$F$44,6,FALSE)","v":"L2"}]
["CEMT VaM6leegbeide","CEMT Va","M6","leeg","beide","NOx",193.56555981270779,{"$f":"VLOOKUP(A637,Begin:Einde,7,FALSE)","v":0},1,{"$f":"VLOOKUP(Jaar&L637,Trendfactoren!$A$2:$F$65,(HLOOKUP(F637,Trendfactoren!$A$1:$F$2,2,FALSE)),FALSE)","v":1},0,{"$f":"+VLOOKUP(C637,Scheepstypen!$A$1:$F$44,6,FALSE)","v":"L2"}]
["CEMT VaM7geladenbeide","CEMT Va","M7","geladen","beide","Fijn stof",11.951296730613352,{"$f":"VLOOKUP(A638,Begin:Einde,7,FALSE)","v":0},{"$f":"+Afstand","v":1},{"$f":"VLOOKUP(Jaar&L638,Trendfactoren!$A$2:$F$65,(HLOOKUP(F638,Trendfactoren!$A$1:$F$2,2,FALSE)),FALSE)","v":1},{"$f":"+G638*H638*I638*J638","v":0},{"$f":"+VLOOKUP(C638,Scheepstypen!$A$1:$F$44,6,FALSE)","v":"L2"}]
["CEMT VaM7geladenbeide","CEMT Va","M7","geladen","beide","NOx",358.65627829805641,{"$f":"VLOOKUP(A639,Begin:Einde,7,FALSE)","v":0},1,{"$f":"VLOOKUP(Jaar&L639,Trendfactoren!$A$2:$F$65,(HLOOKUP(F639,Trendfactoren!$A$1:$F$2,2,FALSE)),FALSE)","v":1},0,{"$f":"+VLOOKUP(C639,Scheepstypen!$A$1:$F$44,6,FALSE)","v":"L2"}]
["CEMT VaM7leegbeide","CEMT Va","M7","leeg","beide","Fijn stof",6.8677500867952936,{"$f":"VLOOKUP(A640,Begin:Einde,7,FALSE)","v":0},1,{"$f":"VLOOKUP(Jaar&L640,Trendfactoren!$A$2:$F$65,(HLOOKUP(F640,Trendfactoren!$A$1:$F$2,2,FALSE)),FALSE)","v":1},0,{"$f":"+VLOOKUP(C640,Scheepstypen!$A$1:$F$44,6,FALSE)","v":"L2"}]
[{"$f":"+B641&C641&D641&E641","v":"CEMT VaM7leegbeide"},"CEMT Va","M7","leeg","beide","NOx",193.94955871738645,{"$f":"VLOOKUP(A641,Begin:Einde,7,FALSE)","v":0},1,{"$f":"VLOOKUP(Jaar&L641,Trendfactoren!$A$2:$F$65,(HLOOKUP(F641,Trendfactoren!$A$1:$F$2,2,FALSE)),FALSE)","v":1},0,{"$f":"+VLOOKUP(C641,Scheepstypen!$A$1:$F$44,6,FALSE)","v":"L2"}]
["CEMT VaM8geladenbeide","CEMT Va","M8","geladen","beide","Fijn stof",18.877406659917682,{"$f":"VLOOKUP(A642,Begin:Einde,7,FALSE)","v":0},1,{"$f":"VLOOKUP(Jaar&L642,Trendfactoren!$A$2:$F$65,(HLOOKUP(F642,Trendfactoren!$A$1:$F$2,2,FALSE)),FALSE)","v":1},0,{"$f":"+VLOOKUP(C642,Scheepstypen!$A$1:$F$44,6,FALSE)","v":"L3"}]
["CEMT VaM8geladenbeide","CEMT Va","M8","geladen","beide","NOx",571.98804296567732,{"$f":"VLOOKUP(A643,Begin:Einde,7,FALSE)","v":0},1,{"$f":"VLOOKUP(Jaar&L643,Trendfactoren!$A$2:$F$65,(HLOOKUP(F643,Trendfactoren!$A$1:$F$2,2,FALSE)),FALSE)","v":1},0,{"$f":"+VLOOKUP(C643,Scheepstypen!$A$1:$F$44,6,FALSE)","v":"L3"}]
["CEMT VaM8leegbeide","CEMT Va","M8","leeg","beide","Fijn stof",10.375894566035859,{"$f":"VLOOKUP(A644,Begin:Einde,7,FALSE)","v":0},1,{"$f":"VLOOKUP(Jaar&L644,Trendfactoren!$A$2:$F$65,(HLOOKUP(F644,Trendfactoren!$A$1:$F$2,2,FALSE)),FALSE)","v":1},0,{"$f":"+VLOOKUP(C644,Scheepstypen!$A$1:$F$44,6,FALSE)","v":"L3"}]
["CEMT VaM8leegbeide","CEMT Va","M8","leeg","beide","NOx",303.6271062302385,{"$f":"VLOOKUP(A645,Begin:Einde,7,FALSE)","v":0},1,{"$f":"VLOOKUP(Jaar&L645,Trendfactoren!$A$2:$F$65,(HLOOKUP(F645,Trendfactoren!$A$1:$F$2,2,FALSE)),FALSE)","v":1},0,{"$f":"+VLOOKUP(C645,Scheepstypen!$A$1:$F$44,6,FALSE)","v":"L3"}]
["CEMT VaM9geladenbeide","CEMT Va","M9","geladen","beide","Fijn stof",25.904872435982465,{"$f":"VLOOKUP(A646,Begin:Einde,7,FALSE)","v":0},1,{"$f":"VLOOKUP(Jaar&L646,Trendfactoren!$A$2:$F$65,(HLOOKUP(F646,Trendfactoren!$A$1:$F$2,2,FALSE)),FALSE)","v":1},0,{"$f":"+VLOOKUP(C646,Scheepstypen!$A$1:$F$44,6,FALSE)","v":"L3"}]
["CEMT VaM9geladenbeide","CEMT Va","M9","geladen","beide","NOx",789.36699198171789,{"$f":"VLOOKUP(A647,Begin:Einde,7,FALSE)","v":0},1,{"$f":"VLOOKUP(Jaar&L647,Trendfactoren!$A$2:$F$65,(HLOOKUP(F647,Trendfactoren!$A$1:$F$2,2,FALSE)),FALSE)","v":1},0,{"$f":"+VLOOKUP(C647,Scheepstypen!$A$1:$F$44,6,FALSE)","v":"L3"}]
["CEMT VaM9leegbeide","CEMT Va","M9","leeg","beide","Fijn stof",13.594450247353704,{"$f":"VLOOKUP(A648,Begin:Einde,7,FALSE)","v":0},1,{"$f":"VLOOKUP(Jaar&L648,Trendfactoren!$A$2:$F$65,(HLOOKUP(F648,Trendfactoren!$A$1:$F$2,2,FALSE)),FALSE)","v":1},0,{"$f":"+VLOOKUP(C648,Scheepstypen!$A$1:$F$44,6,FALSE)","v":"L3"}]
["CEMT VaM9leegbeide","CEMT Va","M9","leeg","beide","NOx",402.38887853150572,{"$f":"VLOOKUP(A649,Begin:Einde,7,FALSE)","v":0},1,{"$f":"VLOOKUP(Jaar&L649,Trendfactoren!$A$2:$F$65,(HLOOKUP(F649,Trendfactoren!$A$1:$F$2,2,FALSE)),FALSE)","v":1},0,{"$f":"+VLOOKUP(C649,Scheepstypen!$A$1:$F$44,6,FALSE)","v":"L3"}]
["CEMT VbBIgeladenbeide","CEMT Vb","BI","geladen","beide","Fijn stof",15.744462551998781,{"$f":"VLOOKUP(A650,Begin:Einde,7,FALSE)","v":0},1,{"$f":"VLOOKUP(Jaar&L650,Trendfactoren!$A$2:$F$65,(HLOOKUP(F650,Trendfactoren!$A$1:$F$2,2,FALSE)),FALSE)","v":1},0,{"$f":"+VLOOKUP(C650,Scheepstypen!$A$1:$F$44,6,FALSE)","v":"L2"}]
["CEMT VbBIgeladenbeide","CEMT Vb","BI","geladen","beide","NOx",483.42698943892185,{"$f":"VLOOKUP(A651,Begin:Einde,7,FALSE)","v":0},1,{"$f":"VLOOKUP(Jaar&L651,Trendfactoren!$A$2:$F$65,(HLOOKUP(F651,Trendfactoren!$A$1:$F$2,2,FALSE)),FALSE)","v":1},0,{"$f":"+VLOOKUP(C651,Scheepstypen!$A$1:$F$44,6,FALSE)","v":"L2"}]
["CEMT VbBIleegbeide","CEMT Vb","BI","leeg","beide","Fijn stof",6.2254020643860049,{"$f":"VLOOKUP(A652,Begin:Einde,7,FALSE)","v":0},1,{"$f":"VLOOKUP(Jaar&L652,Trendfactoren!$A$2:$F$65,(HLOOKUP(F652,Trendfactoren!$A$1:$F$2,2,FALSE)),FALSE)","v":1},0,{"$f":"+VLOOKUP(C652,Scheepstypen!$A$1:$F$44,6,FALSE)","v":"L2"}]
["CEMT VbBIleegbeide","CEMT Vb","BI","leeg","beide","NOx",180.99007872063359,{"$f":"VLOOKUP(A653,Begin:Einde,7,FALSE)","v":0},1,{"$f":"VLOOKUP(Jaar&L653,Trendfactoren!$A$2:$F$65,(HLOOKUP(F653,Trendfactoren!$A$1:$F$2,2,FALSE)),FALSE)","v":1},0,{"$f":"+VLOOKUP(C653,Scheepstypen!$A$1:$F$44,6,FALSE)","v":"L2"}]
["CEMT VbBII-1geladenbeide","CEMT Vb","BII-1","geladen","beide","Fijn stof",22.02215674711735,{"$f":"VLOOKUP(A654,Begin:Einde,7,FALSE)","v":0},1,{"$f":"VLOOKUP(Jaar&L654,Trendfactoren!$A$2:$F$65,(HLOOKUP(F654,Trendfactoren!$A$1:$F$2,2,FALSE)),FALSE)","v":1},0,{"$f":"+VLOOKUP(C654,Scheepstypen!$A$1:$F$44,6,FALSE)","v":"L2"}]
["CEMT VbBII-1geladenbeide","CEMT Vb","BII-1","geladen","beide","NOx",672.39253636391607,{"$f":"VLOOKUP(A655,Begin:Einde,7,FALSE)","v":0},1,{"$f":"VLOOKUP(Jaar&L655,Trendfactoren!$A$2:$F$65,(HLOOKUP(F655,Trendfactoren!$A$1:$F$2,2,FALSE)),FALSE)","v":1},0,{"$f":"+VLOOKUP(C655,Scheepstypen!$A$1:$F$44,6,FALSE)","v":"L2"}]
["CEMT VbBII-1leegbeide","CEMT Vb","BII-1","leeg","beide","Fijn stof",9.5776317498945733,{"$f":"VLOOKUP(A656,Begin:Einde,7,FALSE)","v":0},1,{"$f":"VLOOKUP(Jaar&L656,Trendfactoren!$A$2:$F$65,(HLOOKUP(F656,Trendfactoren!$A$1:$F$2,2,FALSE)),FALSE)","v":1},0,{"$f":"+VLOOKUP(C656,Scheepstypen!$A$1:$F$44,6,FALSE)","v":"L2"}]
["CEMT VbBII-1leegbeide","CEMT Vb","BII-1","leeg","beide","NOx",277.16709018186623,{"$f":"VLOOKUP(A657,Begin:Einde,7,FALSE)","v":0},1,{"$f":"VLOOKUP(Jaar&L657,Trendfactoren!$A$2:$F$65,(HLOOKUP(F657,Trendfactoren!$A$1:$F$2,2,FALSE)),FALSE)","v":1},0,{"$f":"+VLOOKUP(C657,Scheepstypen!$A$1:$F$44,6,FALSE)","v":"L2"}]
["CEMT VbBII-2Bgeladenbeide","CEMT Vb","BII-2B","geladen","beide","Fijn stof",64.082444675519866,{"$f":"VLOOKUP(A658,Begin:Einde,7,FALSE)","v":0},1,{"$f":"VLOOKUP(Jaar&L658,Trendfactoren!$A$2:$F$65,(HLOOKUP(F658,Trendfactoren!$A$1:$F$2,2,FALSE)),FALSE)","v":1},0,{"$f":"+VLOOKUP(C658,Scheepstypen!$A$1:$F$44,6,FALSE)","v":"L3"}]
["CEMT VbBII-2Bgeladenbeide","CEMT Vb","BII-2B","geladen","beide","NOx",1984.1232224183243,{"$f":"VLOOKUP(A659,Begin:Einde,7,FALSE)","v":0},1,{"$f":"VLOOKUP(Jaar&L659,Trendfactoren!$A$2:$F$65,(HLOOKUP(F659,Trendfactoren!$A$1:$F$2,2,FALSE)),FALSE)","v":1},0,{"$f":"+VLOOKUP(C659,Scheepstypen!$A$1:$F$44,6,FALSE)","v":"L3"}]
["CEMT VbBII-2Bleegbeide","CEMT Vb","BII-2B","leeg","beide","Fijn stof",24.24110067101881,{"$f":"VLOOKUP(A660,Begin:Einde,7,FALSE)","v":0},1,{"$f":"VLOOKUP(Jaar&L660,Trendfactoren!$A$2:$F$65,(HLOOKUP(F660,Trendfactoren!$A$1:$F$2,2,FALSE)),FALSE)","v":1},0,{"$f":"+VLOOKUP(C660,Scheepstypen!$A$1:$F$44,6,FALSE)","v":"L3"}]
["CEMT VbBII-2Bleegbeide","CEMT Vb","BII-2B","leeg","beide","NOx",730.87048593866086,{"$f":"VLOOKUP(A661,Begin:Einde,7,FALSE)","v":0},1,{"$f":"VLOOKUP(Jaar&L661,Trendfactoren!$A$2:$F$65,(HLOOKUP(F661,Trendfactoren!$A$1:$F$2,2,FALSE)),FALSE)","v":1},0,{"$f":"+VLOOKUP(C661,Scheepstypen!$A$1:$F$44,6,FALSE)","v":"L3"}]
["CEMT VbBII-2Lgeladenbeide","CEMT Vb","BII-2L","geladen","beide","Fijn stof",23.888301917517143,{"$f":"VLOOKUP(A662,Begin:Einde,7,FALSE)","v":0},1,{"$f":"VLOOKUP(Jaar&L662,Trendfactoren!$A$2:$F$65,(HLOOKUP(F662,Trendfactoren!$A$1:$F$2,2,FALSE)),FALSE)","v":1},0,{"$f":"+VLOOKUP(C662,Scheepstypen!$A$1:$F$44,6,FALSE)","v":"L3"}]
["CEMT VbBII-2Lgeladenbeide","CEMT Vb","BII-2L","geladen","beide","NOx",718.6297517707136,{"$f":"VLOOKUP(A663,Begin:Einde,7,FALSE)","v":0},1,{"$f":"VLOOKUP(Jaar&L663,Trendfactoren!$A$2:$F$65,(HLOOKUP(F663,Trendfactoren!$A$1:$F$2,2,FALSE)),FALSE)","v":1},0,{"$f":"+VLOOKUP(C663,Scheepstypen!$A$1:$F$44,6,FALSE)","v":"L3"}]
["CEMT VbBII-2Lleegbeide","CEMT Vb","BII-2L","leeg","beide","Fijn stof",13.423088324653083,{"$f":"VLOOKUP(A664,Begin:Einde,7,FALSE)","v":0},1,{"$f":"VLOOKUP(Jaar&L664,Trendfactoren!$A$2:$F$65,(HLOOKUP(F664,Trendfactoren!$A$1:$F$2,2,FALSE)),FALSE)","v":1},0,{"$f":"+VLOOKUP(C664,Scheepstypen!$A$1:$F$44,6,FALSE)","v":"L3"}]
["CEMT VbBII-2Lleegbeide","CEMT Vb","BII-2L","leeg","beide","NOx",380.84913525780087,{"$f":"VLOOKUP(A665,Begin:Einde,7,FALSE)","v":0},1,{"$f":"VLOOKUP(Jaar&L665,Trendfactoren!$A$2:$F$65,(HLOOKUP(F665,Trendfactoren!$A$1:$F$2,2,FALSE)),FALSE)","v":1},0,{"$f":"+VLOOKUP(C665,Scheepstypen!$A$1:$F$44,6,FALSE)","v":"L3"}]
["CEMT VbBII-4geladenbeide","CEMT Vb","BII-4","geladen","beide","Fijn stof",37.037233893706549,{"$f":"VLOOKUP(A666,Begin:Einde,7,FALSE)","v":0},1,{"$f":"VLOOKUP(Jaar&L666,Trendfactoren!$A$2:$F$65,(HLOOKUP(F666,Trendfactoren!$A$1:$F$2,2,FALSE)),FALSE)","v":1},0,{"$f":"+VLOOKUP(C666,Scheepstypen!$A$1:$F$44,6,FALSE)","v":"L3"}]
["CEMT VbBII-4geladenbeide","CEMT Vb","BII-4","geladen","beide","NOx",939.20782277422143,{"$f":"VLOOKUP(A667,Begin:Einde,7,FALSE)","v":0},1,{"$f":"VLOOKUP(Jaar&L667,Trendfactoren!$A$2:$F$65,(HLOOKUP(F667,Trendfactoren!$A$1:$F$2,2,FALSE)),FALSE)","v":1},0,{"$f":"+VLOOKUP(C667,Scheepstypen!$A$1:$F$44,6,FALSE)","v":"L3"}]
["CEMT VbBII-4leegbeide","CEMT Vb","BII-4","leeg","beide","Fijn stof",39.690539753336758,{"$f":"VLOOKUP(A668,Begin:Einde,7,FALSE)","v":0},1,{"$f":"VLOOKUP(Jaar&L668,Trendfactoren!$A$2:$F$65,(HLOOKUP(F668,Trendfactoren!$A$1:$F$2,2,FALSE)),FALSE)","v":1},0,{"$f":"+VLOOKUP(C668,Scheepstypen!$A$1:$F$44,6,FALSE)","v":"L3"}]
["CEMT VbBII-4leegbeide","CEMT Vb","BII-4","leeg","beide","NOx",1205.6110764938621,{"$f":"VLOOKUP(A669,Begin:Einde,7,FALSE)","v":0},1,{"$f":"VLOOKUP(Jaar&L669,Trendfactoren!$A$2:$F$65,(HLOOKUP(F669,Trendfactoren!$A$1:$F$2,2,FALSE)),FALSE)","v":1},0,{"$f":"+VLOOKUP(C669,Scheepstypen!$A$1:$F$44,6,FALSE)","v":"L3"}]
["CEMT VbBII-6Bgeladenbeide","CEMT Vb","BII-6B","geladen","beide","Fijn stof",80.689387268486968,{"$f":"VLOOKUP(A670,Begin:Einde,7,FALSE)","v":0},1,{"$f":"VLOOKUP(Jaar&L670,Trendfactoren!$A$2:$F$65,(HLOOKUP(F670,Trendfactoren!$A$1:$F$2,2,FALSE)),FALSE)","v":1},0,{"$f":"+VLOOKUP(C670,Scheepstypen!$A$1:$F$44,6,FALSE)","v":"L3"}]
["CEMT VbBII-6Bgeladenbeide","CEMT Vb","BII-6B","geladen","beide","NOx",2450.5270255649311,{"$f":"VLOOKUP(A671,Begin:Einde,7,FALSE)","v":0},1,{"$f":"VLOOKUP(Jaar&L671,Trendfactoren!$A$2:$F$65,(HLOOKUP(F671,Trendfactoren!$A$1:$F$2,2,FALSE)),FALSE)","v":1},0,{"$f":"+VLOOKUP(C671,Scheepstypen!$A$1:$F$44,6,FALSE)","v":"L3"}]
["CEMT VbBII-6Bleegbeide","CEMT Vb","BII-6B","leeg","beide","Fijn stof",123.60326715038273,{"$f":"VLOOKUP(A672,Begin:Einde,7,FALSE)","v":0},1,{"$f":"VLOOKUP(Jaar&L672,Trendfactoren!$A$2:$F$65,(HLOOKUP(F672,Trendfactoren!$A$1:$F$2,2,FALSE)),FALSE)","v":1},0,{"$f":"+VLOOKUP(C672,Scheepstypen!$A$1:$F$44,6,FALSE)","v":"L3"}]
["CEMT VbBII-6Bleegbeide","CEMT Vb","BII-6B","leeg","beide","NOx",3336.9605026962759,{"$f":"VLOOKUP(A673,Begin:Einde,7,FALSE)","v":0},1,{"$f":"VLOOKUP(Jaar&L673,Trendfactoren!$A$2:$F$65,(HLOOKUP(F673,Trendfactoren!$A$1:$F$2,2,FALSE)),FALSE)","v":1},0,{"$f":"+VLOOKUP(C673,Scheepstypen!$A$1:$F$44,6,FALSE)","v":"L3"}]
["CEMT VbBO1leegbeide","CEMT Vb","BO1","leeg","beide","Fijn stof",2.5628894693937028,{"$f":"VLOOKUP(A674,Begin:Einde,7,FALSE)","v":0},1,{"$f":"VLOOKUP(Jaar&L674,Trendfactoren!$A$2:$F$65,(HLOOKUP(F674,Trendfactoren!$A$1:$F$2,2,FALSE)),FALSE)","v":1},0,{"$f":"+VLOOKUP(C674,Scheepstypen!$A$1:$F$44,6,FALSE)","v":"L1"}]
["CEMT VbBO1leegbeide","CEMT Vb","BO1","leeg","beide","NOx",76.51255752855441,{"$f":"VLOOKUP(A675,Begin:Einde,7,FALSE)","v":0},1,{"$f":"VLOOKUP(Jaar&L675,Trendfactoren!$A$2:$F$65,(HLOOKUP(F675,Trendfactoren!$A$1:$F$2,2,FALSE)),FALSE)","v":1},0,{"$f":"+VLOOKUP(C675,Scheepstypen!$A$1:$F$44,6,FALSE)","v":"L1"}]
["CEMT VbBO2geladenbeide","CEMT Vb","BO2","geladen","beide","Fijn stof",7.3746738194477786,{"$f":"VLOOKUP(A676,Begin:Einde,7,FALSE)","v":0},1,{"$f":"VLOOKUP(Jaar&L676,Trendfactoren!$A$2:$F$65,(HLOOKUP(F676,Trendfactoren!$A$1:$F$2,2,FALSE)),FALSE)","v":1},0,{"$f":"+VLOOKUP(C676,Scheepstypen!$A$1:$F$44,6,FALSE)","v":"L1"}]
["CEMT VbBO2geladenbeide","CEMT Vb","BO2","geladen","beide","NOx",218.51130538436144,{"$f":"VLOOKUP(A677,Begin:Einde,7,FALSE)","v":0},1,{"$f":"VLOOKUP(Jaar&L677,Trendfactoren!$A$2:$F$65,(HLOOKUP(F677,Trendfactoren!$A$1:$F$2,2,FALSE)),FALSE)","v":1},0,{"$f":"+VLOOKUP(C677,Scheepstypen!$A$1:$F$44,6,FALSE)","v":"L1"}]
["CEMT VbBO2leegbeide","CEMT Vb","BO2","leeg","beide","Fijn stof",3.5944000873573385,{"$f":"VLOOKUP(A678,Begin:Einde,7,FALSE)","v":0},1,{"$f":"VLOOKUP(Jaar&L678,Trendfactoren!$A$2:$F$65,(HLOOKUP(F678,Trendfactoren!$A$1:$F$2,2,FALSE)),FALSE)","v":1},0,{"$f":"+VLOOKUP(C678,Scheepstypen!$A$1:$F$44,6,FALSE)","v":"L1"}]
["CEMT VbBO2leegbeide","CEMT Vb","BO2","leeg","beide","NOx",107.38832008396147,{"$f":"VLOOKUP(A679,Begin:Einde,7,FALSE)","v":0},1,{"$f":"VLOOKUP(Jaar&L679,Trendfactoren!$A$2:$F$65,(HLOOKUP(F679,Trendfactoren!$A$1:$F$2,2,FALSE)),FALSE)","v":1},0,{"$f":"+VLOOKUP(C679,Scheepstypen!$A$1:$F$44,6,FALSE)","v":"L1"}]
["CEMT VbBO3geladenbeide","CEMT Vb","BO3","geladen","beide","Fijn stof",12.170781560081025,{"$f":"VLOOKUP(A680,Begin:Einde,7,FALSE)","v":0},1,{"$f":"VLOOKUP(Jaar&L680,Trendfactoren!$A$2:$F$65,(HLOOKUP(F680,Trendfactoren!$A$1:$F$2,2,FALSE)),FALSE)","v":1},0,{"$f":"+VLOOKUP(C680,Scheepstypen!$A$1:$F$44,6,FALSE)","v":"L1"}]
["CEMT VbBO3geladenbeide","CEMT Vb","BO3","geladen","beide","NOx",364.73306507561477,{"$f":"VLOOKUP(A681,Begin:Einde,7,FALSE)","v":0},1,{"$f":"VLOOKUP(Jaar&L681,Trendfactoren!$A$2:$F$65,(HLOOKUP(F681,Trendfactoren!$A$1:$F$2,2,FALSE)),FALSE)","v":1},0,{"$f":"+VLOOKUP(C681,Scheepstypen!$A$1:$F$44,6,FALSE)","v":"L1"}]
["CEMT VbBO3leegbeide","CEMT Vb","BO3","leeg","beide","Fijn stof",4.6390931588100806,{"$f":"VLOOKUP(A682,Begin:Einde,7,FALSE)","v":0},1,{"$f":"VLOOKUP(Jaar&L682,Trendfactoren!$A$2:$F$65,(HLOOKUP(F682,Trendfactoren!$A$1:$F$2,2,FALSE)),FALSE)","v":1},0,{"$f":"+VLOOKUP(C682,Scheepstypen!$A$1:$F$44,6,FALSE)","v":"L1"}]
["CEMT VbBO3leegbeide","CEMT Vb","BO3","leeg","beide","NOx",137.31536002110272,{"$f":"VLOOKUP(A683,Begin:Einde,7,FALSE)","v":0},1,{"$f":"VLOOKUP(Jaar&L683,Trendfactoren!$A$2:$F$65,(HLOOKUP(F683,Trendfactoren!$A$1:$F$2,2,FALSE)),FALSE)","v":1},0,{"$f":"+VLOOKUP(C683,Scheepstypen!$A$1:$F$44,6,FALSE)","v":"L1"}]
["CEMT VbBO4geladenbeide","CEMT Vb","BO4","geladen","beide","Fijn stof",13.409191188483579,{"$f":"VLOOKUP(A684,Begin:Einde,7,FALSE)","v":0},1,{"$f":"VLOOKUP(Jaar&L684,Trendfactoren!$A$2:$F$65,(HLOOKUP(F684,Trendfactoren!$A$1:$F$2,2,FALSE)),FALSE)","v":1},0,{"$f":"+VLOOKUP(C684,Scheepstypen!$A$1:$F$44,6,FALSE)","v":"L1"}]
["CEMT VbBO4geladenbeide","CEMT Vb","BO4","geladen","beide","NOx",398.2703843434544,{"$f":"VLOOKUP(A685,Begin:Einde,7,FALSE)","v":0},1,{"$f":"VLOOKUP(Jaar&L685,Trendfactoren!$A$2:$F$65,(HLOOKUP(F685,Trendfactoren!$A$1:$F$2,2,FALSE)),FALSE)","v":1},0,{"$f":"+VLOOKUP(C685,Scheepstypen!$A$1:$F$44,6,FALSE)","v":"L1"}]
["CEMT VbBO4leegbeide","CEMT Vb","BO4","leeg","beide","Fijn stof",5.5537471952340862,{"$f":"VLOOKUP(A686,Begin:Einde,7,FALSE)","v":0},1,{"$f":"VLOOKUP(Jaar&L686,Trendfactoren!$A$2:$F$65,(HLOOKUP(F686,Trendfactoren!$A$1:$F$2,2,FALSE)),FALSE)","v":1},0,{"$f":"+VLOOKUP(C686,Scheepstypen!$A$1:$F$44,6,FALSE)","v":"L1"}]
["CEMT VbBO4leegbeide","CEMT Vb","BO4","leeg","beide","NOx",159.89686629503717,{"$f":"VLOOKUP(A687,Begin:Einde,7,FALSE)","v":0},1,{"$f":"VLOOKUP(Jaar&L687,Trendfactoren!$A$2:$F$65,(HLOOKUP(F687,Trendfactoren!$A$1:$F$2,2,FALSE)),FALSE)","v":1},0,{"$f":"+VLOOKUP(C687,Scheepstypen!$A$1:$F$44,6,FALSE)","v":"L1"}]
["CEMT VbC1bgeladenbeide","CEMT Vb","C1b","geladen","beide","Fijn stof",7.2086719454518642,{"$f":"VLOOKUP(A688,Begin:Einde,7,FALSE)","v":0},1,{"$f":"VLOOKUP(Jaar&L688,Trendfactoren!$A$2:$F$65,(HLOOKUP(F688,Trendfactoren!$A$1:$F$2,2,FALSE)),FALSE)","v":1},0,{"$f":"+VLOOKUP(C688,Scheepstypen!$A$1:$F$44,6,FALSE)","v":"L1"}]
["CEMT VbC1bgeladenbeide","CEMT Vb","C1b","geladen","beide","NOx",205.55256065381255,{"$f":"VLOOKUP(A689,Begin:Einde,7,FALSE)","v":0},1,{"$f":"VLOOKUP(Jaar&L689,Trendfactoren!$A$2:$F$65,(HLOOKUP(F689,Trendfactoren!$A$1:$F$2,2,FALSE)),FALSE)","v":1},0,{"$f":"+VLOOKUP(C689,Scheepstypen!$A$1:$F$44,6,FALSE)","v":"L1"}]
["CEMT VbC1bleegbeide","CEMT Vb","C1b","leeg","beide","Fijn stof",3.4418847441389002,{"$f":"VLOOKUP(A690,Begin:Einde,7,FALSE)","v":0},1,{"$f":"VLOOKUP(Jaar&L690,Trendfactoren!$A$2:$F$65,(HLOOKUP(F690,Trendfactoren!$A$1:$F$2,2,FALSE)),FALSE)","v":1},0,{"$f":"+VLOOKUP(C690,Scheepstypen!$A$1:$F$44,6,FALSE)","v":"L1"}]
["CEMT VbC1bleegbeide","CEMT Vb","C1b","leeg","beide","NOx",99.995602559078321,{"$f":"VLOOKUP(A691,Begin:Einde,7,FALSE)","v":0},1,{"$f":"VLOOKUP(Jaar&L691,Trendfactoren!$A$2:$F$65,(HLOOKUP(F691,Trendfactoren!$A$1:$F$2,2,FALSE)),FALSE)","v":1},0,{"$f":"+VLOOKUP(C691,Scheepstypen!$A$1:$F$44,6,FALSE)","v":"L1"}]
["CEMT VbC1lgeladenbeide","CEMT Vb","C1l","geladen","beide","Fijn stof",5.0916416332855006,{"$f":"VLOOKUP(A692,Begin:Einde,7,FALSE)","v":0},1,{"$f":"VLOOKUP(Jaar&L692,Trendfactoren!$A$2:$F$65,(HLOOKUP(F692,Trendfactoren!$A$1:$F$2,2,FALSE)),FALSE)","v":1},0,{"$f":"+VLOOKUP(C692,Scheepstypen!$A$1:$F$44,6,FALSE)","v":"L1"}]
["CEMT VbC1lgeladenbeide","CEMT Vb","C1l","geladen","beide","NOx",143.34324880493247,{"$f":"VLOOKUP(A693,Begin:Einde,7,FALSE)","v":0},1,{"$f":"VLOOKUP(Jaar&L693,Trendfactoren!$A$2:$F$65,(HLOOKUP(F693,Trendfactoren!$A$1:$F$2,2,FALSE)),FALSE)","v":1},0,{"$f":"+VLOOKUP(C693,Scheepstypen!$A$1:$F$44,6,FALSE)","v":"L1"}]
["CEMT VbC1lleegbeide","CEMT Vb","C1l","leeg","beide","Fijn stof",2.6497030628213478,{"$f":"VLOOKUP(A694,Begin:Einde,7,FALSE)","v":0},1,{"$f":"VLOOKUP(Jaar&L694,Trendfactoren!$A$2:$F$65,(HLOOKUP(F694,Trendfactoren!$A$1:$F$2,2,FALSE)),FALSE)","v":1},0,{"$f":"+VLOOKUP(C694,Scheepstypen!$A$1:$F$44,6,FALSE)","v":"L1"}]
["CEMT VbC1lleegbeide","CEMT Vb","C1l","leeg","beide","NOx",72.848681881043376,{"$f":"VLOOKUP(A695,Begin:Einde,7,FALSE)","v":0},1,{"$f":"VLOOKUP(Jaar&L695,Trendfactoren!$A$2:$F$65,(HLOOKUP(F695,Trendfactoren!$A$1:$F$2,2,FALSE)),FALSE)","v":1},0,{"$f":"+VLOOKUP(C695,Scheepstypen!$A$1:$F$44,6,FALSE)","v":"L1"}]
["CEMT VbC2bgeladenbeide","CEMT Vb","C2b","geladen","beide","Fijn stof",17.62772990582905,{"$f":"VLOOKUP(A696,Begin:Einde,7,FALSE)","v":0},1,{"$f":"VLOOKUP(Jaar&L696,Trendfactoren!$A$2:$F$65,(HLOOKUP(F696,Trendfactoren!$A$1:$F$2,2,FALSE)),FALSE)","v":1},0,{"$f":"+VLOOKUP(C696,Scheepstypen!$A$1:$F$44,6,FALSE)","v":"L2"}]
["CEMT VbC2bgeladenbeide","CEMT Vb","C2b","geladen","beide","NOx",510.80988375128049,{"$f":"VLOOKUP(A697,Begin:Einde,7,FALSE)","v":0},1,{"$f":"VLOOKUP(Jaar&L697,Trendfactoren!$A$2:$F$65,(HLOOKUP(F697,Trendfactoren!$A$1:$F$2,2,FALSE)),FALSE)","v":1},0,{"$f":"+VLOOKUP(C697,Scheepstypen!$A$1:$F$44,6,FALSE)","v":"L2"}]
["CEMT VbC2bleegbeide","CEMT Vb","C2b","leeg","beide","Fijn stof",12.381933186939936,{"$f":"VLOOKUP(A698,Begin:Einde,7,FALSE)","v":0},1,{"$f":"VLOOKUP(Jaar&L698,Trendfactoren!$A$2:$F$65,(HLOOKUP(F698,Trendfactoren!$A$1:$F$2,2,FALSE)),FALSE)","v":1},0,{"$f":"+VLOOKUP(C698,Scheepstypen!$A$1:$F$44,6,FALSE)","v":"L2"}]
["CEMT VbC2bleegbeide","CEMT Vb","C2b","leeg","beide","NOx",334.75319927987204,{"$f":"VLOOKUP(A699,Begin:Einde,7,FALSE)","v":0},1,{"$f":"VLOOKUP(Jaar&L699,Trendfactoren!$A$2:$F$65,(HLOOKUP(F699,Trendfactoren!$A$1:$F$2,2,FALSE)),FALSE)","v":1},0,{"$f":"+VLOOKUP(C699,Scheepstypen!$A$1:$F$44,6,FALSE)","v":"L2"}]
["CEMT VbC2lgeladenbeide","CEMT Vb","C2l","geladen","beide","Fijn stof",14.066168409957712,{"$f":"VLOOKUP(A700,Begin:Einde,7,FALSE)","v":0},1,{"$f":"VLOOKUP(Jaar&L700,Trendfactoren!$A$2:$F$65,(HLOOKUP(F700,Trendfactoren!$A$1:$F$2,2,FALSE)),FALSE)","v":1},0,{"$f":"+VLOOKUP(C700,Scheepstypen!$A$1:$F$44,6,FALSE)","v":"L2"}]
["CEMT VbC2lgeladenbeide","CEMT Vb","C2l","geladen","beide","NOx",409.50457113948494,{"$f":"VLOOKUP(A701,Begin:Einde,7,FALSE)","v":0},1,{"$f":"VLOOKUP(Jaar&L701,Trendfactoren!$A$2:$F$65,(HLOOKUP(F701,Trendfactoren!$A$1:$F$2,2,FALSE)),FALSE)","v":1},0,{"$f":"+VLOOKUP(C701,Scheepstypen!$A$1:$F$44,6,FALSE)","v":"L2"}]
["CEMT VbC2lleegbeide","CEMT Vb","C2l","leeg","beide","Fijn stof",9.9832161284303211,{"$f":"VLOOKUP(A702,Begin:Einde,7,FALSE)","v":0},{"$f":"+Afstand","v":1},{"$f":"VLOOKUP(Jaar&L702,Trendfactoren!$A$2:$F$65,(HLOOKUP(F702,Trendfactoren!$A$1:$F$2,2,FALSE)),FALSE)","v":1},{"$f":"+G702*H702*I702*J702","v":0},{"$f":"+VLOOKUP(C702,Scheepstypen!$A$1:$F$44,6,FALSE)","v":"L2"}]
["CEMT VbC2lleegbeide","CEMT Vb","C2l","leeg","beide","NOx",281.7879541584399,{"$f":"VLOOKUP(A703,Begin:Einde,7,FALSE)","v":0},1,{"$f":"VLOOKUP(Jaar&L703,Trendfactoren!$A$2:$F$65,(HLOOKUP(F703,Trendfactoren!$A$1:$F$2,2,FALSE)),FALSE)","v":1},0,{"$f":"+VLOOKUP(C703,Scheepstypen!$A$1:$F$44,6,FALSE)","v":"L2"}]
["CEMT VbC3bgeladenbeide","CEMT Vb","C3b","geladen","beide","Fijn stof",39.695108621312883,{"$f":"VLOOKUP(A704,Begin:Einde,7,FALSE)","v":0},1,{"$f":"VLOOKUP(Jaar&L704,Trendfactoren!$A$2:$F$65,(HLOOKUP(F704,Trendfactoren!$A$1:$F$2,2,FALSE)),FALSE)","v":1},0,{"$f":"+VLOOKUP(C704,Scheepstypen!$A$1:$F$44,6,FALSE)","v":"L3"}]
[{"$f":"+B705&C705&D705&E705","v":"CEMT VbC3bgeladenbeide"},"CEMT Vb","C3b","geladen","beide","NOx",1229.41174295989,{"$f":"VLOOKUP(A705,Begin:Einde,7,FALSE)","v":0},1,{"$f":"VLOOKUP(Jaar&L705,Trendfactoren!$A$2:$F$65,(HLOOKUP(F705,Trendfactoren!$A$1:$F$2,2,FALSE)),FALSE)","v":1},0,{"$f":"+VLOOKUP(C705,Scheepstypen!$A$1:$F$44,6,FALSE)","v":"L3"}]
["CEMT VbC3bleegbeide","CEMT Vb","C3b","leeg","beide","Fijn stof",26.192922325694166,{"$f":"VLOOKUP(A706,Begin:Einde,7,FALSE)","v":0},1,{"$f":"VLOOKUP(Jaar&L706,Trendfactoren!$A$2:$F$65,(HLOOKUP(F706,Trendfactoren!$A$1:$F$2,2,FALSE)),FALSE)","v":1},0,{"$f":"+VLOOKUP(C706,Scheepstypen!$A$1:$F$44,6,FALSE)","v":"L3"}]
["CEMT VbC3bleegbeide","CEMT Vb","C3b","leeg","beide","NOx",810.96704678038429,{"$f":"VLOOKUP(A707,Begin:Einde,7,FALSE)","v":0},1,{"$f":"VLOOKUP(Jaar&L707,Trendfactoren!$A$2:$F$65,(HLOOKUP(F707,Trendfactoren!$A$1:$F$2,2,FALSE)),FALSE)","v":1},0,{"$f":"+VLOOKUP(C707,Scheepstypen!$A$1:$F$44,6,FALSE)","v":"L3"}]
["CEMT VbC3lgeladenbeide","CEMT Vb","C3l","geladen","beide","Fijn stof",16.167830568984645,{"$f":"VLOOKUP(A708,Begin:Einde,7,FALSE)","v":0},1,{"$f":"VLOOKUP(Jaar&L708,Trendfactoren!$A$2:$F$65,(HLOOKUP(F708,Trendfactoren!$A$1:$F$2,2,FALSE)),FALSE)","v":1},0,{"$f":"+VLOOKUP(C708,Scheepstypen!$A$1:$F$44,6,FALSE)","v":"L3"}]
["CEMT VbC3lgeladenbeide","CEMT Vb","C3l","geladen","beide","NOx",460.39743546792079,{"$f":"VLOOKUP(A709,Begin:Einde,7,FALSE)","v":0},1,{"$f":"VLOOKUP(Jaar&L709,Trendfactoren!$A$2:$F$65,(HLOOKUP(F709,Trendfactoren!$A$1:$F$2,2,FALSE)),FALSE)","v":1},0,{"$f":"+VLOOKUP(C709,Scheepstypen!$A$1:$F$44,6,FALSE)","v":"L3"}]
["CEMT VbC3lleegbeide","CEMT Vb","C3l","leeg","beide","Fijn stof",12.719907482641862,{"$f":"VLOOKUP(A710,Begin:Einde,7,FALSE)","v":0},1,{"$f":"VLOOKUP(Jaar&L710,Trendfactoren!$A$2:$F$65,(HLOOKUP(F710,Trendfactoren!$A$1:$F$2,2,FALSE)),FALSE)","v":1},0,{"$f":"+VLOOKUP(C710,Scheepstypen!$A$1:$F$44,6,FALSE)","v":"L3"}]
["CEMT VbC3lleegbeide","CEMT Vb","C3l","leeg","beide","NOx",357.75648140088197,{"$f":"VLOOKUP(A711,Begin:Einde,7,FALSE)","v":0},1,{"$f":"VLOOKUP(Jaar&L711,Trendfactoren!$A$2:$F$65,(HLOOKUP(F711,Trendfactoren!$A$1:$F$2,2,FALSE)),FALSE)","v":1},0,{"$f":"+VLOOKUP(C711,Scheepstypen!$A$1:$F$44,6,FALSE)","v":"L3"}]
["CEMT VbC4geladenbeide","CEMT Vb","C4","geladen","beide","Fijn stof",28.738436733611305,{"$f":"VLOOKUP(A712,Begin:Einde,7,FALSE)","v":0},1,{"$f":"VLOOKUP(Jaar&L712,Trendfactoren!$A$2:$F$65,(HLOOKUP(F712,Trendfactoren!$A$1:$F$2,2,FALSE)),FALSE)","v":1},0,{"$f":"+VLOOKUP(C712,Scheepstypen!$A$1:$F$44,6,FALSE)","v":"L3"}]
["CEMT VbC4geladenbeide","CEMT Vb","C4","geladen","beide","NOx",787.36045549025482,{"$f":"VLOOKUP(A713,Begin:Einde,7,FALSE)","v":0},1,{"$f":"VLOOKUP(Jaar&L713,Trendfactoren!$A$2:$F$65,(HLOOKUP(F713,Trendfactoren!$A$1:$F$2,2,FALSE)),FALSE)","v":1},0,{"$f":"+VLOOKUP(C713,Scheepstypen!$A$1:$F$44,6,FALSE)","v":"L3"}]
["CEMT VbC4leegbeide","CEMT Vb","C4","leeg","beide","Fijn stof",49.619606833996919,{"$f":"VLOOKUP(A714,Begin:Einde,7,FALSE)","v":0},1,{"$f":"VLOOKUP(Jaar&L714,Trendfactoren!$A$2:$F$65,(HLOOKUP(F714,Trendfactoren!$A$1:$F$2,2,FALSE)),FALSE)","v":1},0,{"$f":"+VLOOKUP(C714,Scheepstypen!$A$1:$F$44,6,FALSE)","v":"L3"}]
["CEMT VbC4leegbeide","CEMT Vb","C4","leeg","beide","NOx",1430.9508107537979,{"$f":"VLOOKUP(A715,Begin:Einde,7,FALSE)","v":0},1,{"$f":"VLOOKUP(Jaar&L715,Trendfactoren!$A$2:$F$65,(HLOOKUP(F715,Trendfactoren!$A$1:$F$2,2,FALSE)),FALSE)","v":1},0,{"$f":"+VLOOKUP(C715,Scheepstypen!$A$1:$F$44,6,FALSE)","v":"L3"}]
["CEMT VbM0geladenbeide","CEMT Vb","M0","geladen","beide","Fijn stof",1.6593129080538711,{"$f":"VLOOKUP(A716,Begin:Einde,7,FALSE)","v":0},1,{"$f":"VLOOKUP(Jaar&L716,Trendfactoren!$A$2:$F$65,(HLOOKUP(F716,Trendfactoren!$A$1:$F$2,2,FALSE)),FALSE)","v":1},0,{"$f":"+VLOOKUP(C716,Scheepstypen!$A$1:$F$44,6,FALSE)","v":"L1"}]
["CEMT VbM0geladenbeide","CEMT Vb","M0","geladen","beide","NOx",47.091207450801285,{"$f":"VLOOKUP(A717,Begin:Einde,7,FALSE)","v":0},1,{"$f":"VLOOKUP(Jaar&L717,Trendfactoren!$A$2:$F$65,(HLOOKUP(F717,Trendfactoren!$A$1:$F$2,2,FALSE)),FALSE)","v":1},0,{"$f":"+VLOOKUP(C717,Scheepstypen!$A$1:$F$44,6,FALSE)","v":"L1"}]
["CEMT VbM0leegbeide","CEMT Vb","M0","leeg","beide","Fijn stof",0.83887650597975871,{"$f":"VLOOKUP(A718,Begin:Einde,7,FALSE)","v":0},1,{"$f":"VLOOKUP(Jaar&L718,Trendfactoren!$A$2:$F$65,(HLOOKUP(F718,Trendfactoren!$A$1:$F$2,2,FALSE)),FALSE)","v":1},0,{"$f":"+VLOOKUP(C718,Scheepstypen!$A$1:$F$44,6,FALSE)","v":"L1"}]
["CEMT VbM0leegbeide","CEMT Vb","M0","leeg","beide","NOx",20.527244679121004,{"$f":"VLOOKUP(A719,Begin:Einde,7,FALSE)","v":0},1,{"$f":"VLOOKUP(Jaar&L719,Trendfactoren!$A$2:$F$65,(HLOOKUP(F719,Trendfactoren!$A$1:$F$2,2,FALSE)),FALSE)","v":1},0,{"$f":"+VLOOKUP(C719,Scheepstypen!$A$1:$F$44,6,FALSE)","v":"L1"}]
["CEMT VbM1geladenbeide","CEMT Vb","M1","geladen","beide","Fijn stof",2.7139310716853524,{"$f":"VLOOKUP(A720,Begin:Einde,7,FALSE)","v":0},1,{"$f":"VLOOKUP(Jaar&L720,Trendfactoren!$A$2:$F$65,(HLOOKUP(F720,Trendfactoren!$A$1:$F$2,2,FALSE)),FALSE)","v":1},0,{"$f":"+VLOOKUP(C720,Scheepstypen!$A$1:$F$44,6,FALSE)","v":"L1"}]
["CEMT VbM1geladenbeide","CEMT Vb","M1","geladen","beide","NOx",79.012398575641839,{"$f":"VLOOKUP(A721,Begin:Einde,7,FALSE)","v":0},1,{"$f":"VLOOKUP(Jaar&L721,Trendfactoren!$A$2:$F$65,(HLOOKUP(F721,Trendfactoren!$A$1:$F$2,2,FALSE)),FALSE)","v":1},0,{"$f":"+VLOOKUP(C721,Scheepstypen!$A$1:$F$44,6,FALSE)","v":"L1"}]
["CEMT VbM1leegbeide","CEMT Vb","M1","leeg","beide","Fijn stof",1.7314527835902758,{"$f":"VLOOKUP(A722,Begin:Einde,7,FALSE)","v":0},1,{"$f":"VLOOKUP(Jaar&L722,Trendfactoren!$A$2:$F$65,(HLOOKUP(F722,Trendfactoren!$A$1:$F$2,2,FALSE)),FALSE)","v":1},0,{"$f":"+VLOOKUP(C722,Scheepstypen!$A$1:$F$44,6,FALSE)","v":"L1"}]
["CEMT VbM1leegbeide","CEMT Vb","M1","leeg","beide","NOx",49.412251892918604,{"$f":"VLOOKUP(A723,Begin:Einde,7,FALSE)","v":0},1,{"$f":"VLOOKUP(Jaar&L723,Trendfactoren!$A$2:$F$65,(HLOOKUP(F723,Trendfactoren!$A$1:$F$2,2,FALSE)),FALSE)","v":1},0,{"$f":"+VLOOKUP(C723,Scheepstypen!$A$1:$F$44,6,FALSE)","v":"L1"}]
["CEMT VbM10geladenbeide","CEMT Vb","M10","geladen","beide","Fijn stof",17.854771078261859,{"$f":"VLOOKUP(A724,Begin:Einde,7,FALSE)","v":0},1,{"$f":"VLOOKUP(Jaar&L724,Trendfactoren!$A$2:$F$65,(HLOOKUP(F724,Trendfactoren!$A$1:$F$2,2,FALSE)),FALSE)","v":1},0,{"$f":"+VLOOKUP(C724,Scheepstypen!$A$1:$F$44,6,FALSE)","v":"L3"}]
["CEMT VbM10geladenbeide","CEMT Vb","M10","geladen","beide","NOx",525.58657047027873,{"$f":"VLOOKUP(A725,Begin:Einde,7,FALSE)","v":0},1,{"$f":"VLOOKUP(Jaar&L725,Trendfactoren!$A$2:$F$65,(HLOOKUP(F725,Trendfactoren!$A$1:$F$2,2,FALSE)),FALSE)","v":1},0,{"$f":"+VLOOKUP(C725,Scheepstypen!$A$1:$F$44,6,FALSE)","v":"L3"}]
["CEMT VbM10leegbeide","CEMT Vb","M10","leeg","beide","Fijn stof",10.059671992430745,{"$f":"VLOOKUP(A726,Begin:Einde,7,FALSE)","v":0},1,{"$f":"VLOOKUP(Jaar&L726,Trendfactoren!$A$2:$F$65,(HLOOKUP(F726,Trendfactoren!$A$1:$F$2,2,FALSE)),FALSE)","v":1},0,{"$f":"+VLOOKUP(C726,Scheepstypen!$A$1:$F$44,6,FALSE)","v":"L3"}]
["CEMT VbM10leegbeide","CEMT Vb","M10","leeg","beide","NOx",253.93709928642471,{"$f":"VLOOKUP(A727,Begin:Einde,7,FALSE)","v":0},1,{"$f":"VLOOKUP(Jaar&L727,Trendfactoren!$A$2:$F$65,(HLOOKUP(F727,Trendfactoren!$A$1:$F$2,2,FALSE)),FALSE)","v":1},0,{"$f":"+VLOOKUP(C727,Scheepstypen!$A$1:$F$44,6,FALSE)","v":"L3"}]
["CEMT VbM11geladenbeide","CEMT Vb","M11","geladen","beide","Fijn stof",27.465058948397211,{"$f":"VLOOKUP(A728,Begin:Einde,7,FALSE)","v":0},1,{"$f":"VLOOKUP(Jaar&L728,Trendfactoren!$A$2:$F$65,(HLOOKUP(F728,Trendfactoren!$A$1:$F$2,2,FALSE)),FALSE)","v":1},0,{"$f":"+VLOOKUP(C728,Scheepstypen!$A$1:$F$44,6,FALSE)","v":"L3"}]
["CEMT VbM11geladenbeide","CEMT Vb","M11","geladen","beide","NOx",820.43801335791738,{"$f":"VLOOKUP(A729,Begin:Einde,7,FALSE)","v":0},1,{"$f":"VLOOKUP(Jaar&L729,Trendfactoren!$A$2:$F$65,(HLOOKUP(F729,Trendfactoren!$A$1:$F$2,2,FALSE)),FALSE)","v":1},0,{"$f":"+VLOOKUP(C729,Scheepstypen!$A$1:$F$44,6,FALSE)","v":"L3"}]
["CEMT VbM11leegbeide","CEMT Vb","M11","leeg","beide","Fijn stof",17.47134947050759,{"$f":"VLOOKUP(A730,Begin:Einde,7,FALSE)","v":0},1,{"$f":"VLOOKUP(Jaar&L730,Trendfactoren!$A$2:$F$65,(HLOOKUP(F730,Trendfactoren!$A$1:$F$2,2,FALSE)),FALSE)","v":1},0,{"$f":"+VLOOKUP(C730,Scheepstypen!$A$1:$F$44,6,FALSE)","v":"L3"}]
["CEMT VbM11leegbeide","CEMT Vb","M11","leeg","beide","NOx",433.34135477523563,{"$f":"VLOOKUP(A731,Begin:Einde,7,FALSE)","v":0},1,{"$f":"VLOOKUP(Jaar&L731,Trendfactoren!$A$2:$F$65,(HLOOKUP(F731,Trendfactoren!$A$1:$F$2,2,FALSE)),FALSE)","v":1},0,{"$f":"+VLOOKUP(C731,Scheepstypen!$A$1:$F$44,6,FALSE)","v":"L3"}]
["CEMT VbM12geladenbeide","CEMT Vb","M12","geladen","beide","Fijn stof",34.597227462609631,{"$f":"VLOOKUP(A732,Begin:Einde,7,FALSE)","v":0},1,{"$f":"VLOOKUP(Jaar&L732,Trendfactoren!$A$2:$F$65,(HLOOKUP(F732,Trendfactoren!$A$1:$F$2,2,FALSE)),FALSE)","v":1},0,{"$f":"+VLOOKUP(C732,Scheepstypen!$A$1:$F$44,6,FALSE)","v":"L3"}]
["CEMT VbM12geladenbeide","CEMT Vb","M12","geladen","beide","NOx",1007.6609167207478,{"$f":"VLOOKUP(A733,Begin:Einde,7,FALSE)","v":0},1,{"$f":"VLOOKUP(Jaar&L733,Trendfactoren!$A$2:$F$65,(HLOOKUP(F733,Trendfactoren!$A$1:$F$2,2,FALSE)),FALSE)","v":1},0,{"$f":"+VLOOKUP(C733,Scheepstypen!$A$1:$F$44,6,FALSE)","v":"L3"}]
["CEMT VbM12leegbeide","CEMT Vb","M12","leeg","beide","Fijn stof",21.984662552464215,{"$f":"VLOOKUP(A734,Begin:Einde,7,FALSE)","v":0},1,{"$f":"VLOOKUP(Jaar&L734,Trendfactoren!$A$2:$F$65,(HLOOKUP(F734,Trendfactoren!$A$1:$F$2,2,FALSE)),FALSE)","v":1},0,{"$f":"+VLOOKUP(C734,Scheepstypen!$A$1:$F$44,6,FALSE)","v":"L3"}]
["CEMT VbM12leegbeide","CEMT Vb","M12","leeg","beide","NOx",531.23050244798185,{"$f":"VLOOKUP(A735,Begin:Einde,7,FALSE)","v":0},1,{"$f":"VLOOKUP(Jaar&L735,Trendfactoren!$A$2:$F$65,(HLOOKUP(F735,Trendfactoren!$A$1:$F$2,2,FALSE)),FALSE)","v":1},0,{"$f":"+VLOOKUP(C735,Scheepstypen!$A$1:$F$44,6,FALSE)","v":"L3"}]
["CEMT VbM2geladenbeide","CEMT Vb","M2","geladen","beide","Fijn stof",6.8727376051639713,{"$f":"VLOOKUP(A736,Begin:Einde,7,FALSE)","v":0},1,{"$f":"VLOOKUP(Jaar&L736,Trendfactoren!$A$2:$F$65,(HLOOKUP(F736,Trendfactoren!$A$1:$F$2,2,FALSE)),FALSE)","v":1},0,{"$f":"+VLOOKUP(C736,Scheepstypen!$A$1:$F$44,6,FALSE)","v":"L1"}]
["CEMT VbM2geladenbeide","CEMT Vb","M2","geladen","beide","NOx",204.91790221894695,{"$f":"VLOOKUP(A737,Begin:Einde,7,FALSE)","v":0},1,{"$f":"VLOOKUP(Jaar&L737,Trendfactoren!$A$2:$F$65,(HLOOKUP(F737,Trendfactoren!$A$1:$F$2,2,FALSE)),FALSE)","v":1},0,{"$f":"+VLOOKUP(C737,Scheepstypen!$A$1:$F$44,6,FALSE)","v":"L1"}]
["CEMT VbM2leegbeide","CEMT Vb","M2","leeg","beide","Fijn stof",3.2371939005842179,{"$f":"VLOOKUP(A738,Begin:Einde,7,FALSE)","v":0},1,{"$f":"VLOOKUP(Jaar&L738,Trendfactoren!$A$2:$F$65,(HLOOKUP(F738,Trendfactoren!$A$1:$F$2,2,FALSE)),FALSE)","v":1},0,{"$f":"+VLOOKUP(C738,Scheepstypen!$A$1:$F$44,6,FALSE)","v":"L1"}]
["CEMT VbM2leegbeide","CEMT Vb","M2","leeg","beide","NOx",95.365177322362157,{"$f":"VLOOKUP(A739,Begin:Einde,7,FALSE)","v":0},1,{"$f":"VLOOKUP(Jaar&L739,Trendfactoren!$A$2:$F$65,(HLOOKUP(F739,Trendfactoren!$A$1:$F$2,2,FALSE)),FALSE)","v":1},0,{"$f":"+VLOOKUP(C739,Scheepstypen!$A$1:$F$44,6,FALSE)","v":"L1"}]
["CEMT VbM3geladenbeide","CEMT Vb","M3","geladen","beide","Fijn stof",8.7418573237961628,{"$f":"VLOOKUP(A740,Begin:Einde,7,FALSE)","v":0},1,{"$f":"VLOOKUP(Jaar&L740,Trendfactoren!$A$2:$F$65,(HLOOKUP(F740,Trendfactoren!$A$1:$F$2,2,FALSE)),FALSE)","v":1},0,{"$f":"+VLOOKUP(C740,Scheepstypen!$A$1:$F$44,6,FALSE)","v":"L1"}]
["CEMT VbM3geladenbeide","CEMT Vb","M3","geladen","beide","NOx",260.96904295344029,{"$f":"VLOOKUP(A741,Begin:Einde,7,FALSE)","v":0},1,{"$f":"VLOOKUP(Jaar&L741,Trendfactoren!$A$2:$F$65,(HLOOKUP(F741,Trendfactoren!$A$1:$F$2,2,FALSE)),FALSE)","v":1},0,{"$f":"+VLOOKUP(C741,Scheepstypen!$A$1:$F$44,6,FALSE)","v":"L1"}]
["CEMT VbM3leegbeide","CEMT Vb","M3","leeg","beide","Fijn stof",4.3500605965559602,{"$f":"VLOOKUP(A742,Begin:Einde,7,FALSE)","v":0},1,{"$f":"VLOOKUP(Jaar&L742,Trendfactoren!$A$2:$F$65,(HLOOKUP(F742,Trendfactoren!$A$1:$F$2,2,FALSE)),FALSE)","v":1},0,{"$f":"+VLOOKUP(C742,Scheepstypen!$A$1:$F$44,6,FALSE)","v":"L1"}]
["CEMT VbM3leegbeide","CEMT Vb","M3","leeg","beide","NOx",128.23750286045319,{"$f":"VLOOKUP(A743,Begin:Einde,7,FALSE)","v":0},1,{"$f":"VLOOKUP(Jaar&L743,Trendfactoren!$A$2:$F$65,(HLOOKUP(F743,Trendfactoren!$A$1:$F$2,2,FALSE)),FALSE)","v":1},0,{"$f":"+VLOOKUP(C743,Scheepstypen!$A$1:$F$44,6,FALSE)","v":"L1"}]
["CEMT VbM4geladenbeide","CEMT Vb","M4","geladen","beide","Fijn stof",10.145891817221584,{"$f":"VLOOKUP(A744,Begin:Einde,7,FALSE)","v":0},1,{"$f":"VLOOKUP(Jaar&L744,Trendfactoren!$A$2:$F$65,(HLOOKUP(F744,Trendfactoren!$A$1:$F$2,2,FALSE)),FALSE)","v":1},0,{"$f":"+VLOOKUP(C744,Scheepstypen!$A$1:$F$44,6,FALSE)","v":"L1"}]
["CEMT VbM4geladenbeide","CEMT Vb","M4","geladen","beide","NOx",302.77246872803295,{"$f":"VLOOKUP(A745,Begin:Einde,7,FALSE)","v":0},1,{"$f":"VLOOKUP(Jaar&L745,Trendfactoren!$A$2:$F$65,(HLOOKUP(F745,Trendfactoren!$A$1:$F$2,2,FALSE)),FALSE)","v":1},0,{"$f":"+VLOOKUP(C745,Scheepstypen!$A$1:$F$44,6,FALSE)","v":"L1"}]
["CEMT VbM4leegbeide","CEMT Vb","M4","leeg","beide","Fijn stof",5.2834067514804266,{"$f":"VLOOKUP(A746,Begin:Einde,7,FALSE)","v":0},1,{"$f":"VLOOKUP(Jaar&L746,Trendfactoren!$A$2:$F$65,(HLOOKUP(F746,Trendfactoren!$A$1:$F$2,2,FALSE)),FALSE)","v":1},0,{"$f":"+VLOOKUP(C746,Scheepstypen!$A$1:$F$44,6,FALSE)","v":"L1"}]
["CEMT VbM4leegbeide","CEMT Vb","M4","leeg","beide","NOx",155.67076301711236,{"$f":"VLOOKUP(A747,Begin:Einde,7,FALSE)","v":0},1,{"$f":"VLOOKUP(Jaar&L747,Trendfactoren!$A$2:$F$65,(HLOOKUP(F747,Trendfactoren!$A$1:$F$2,2,FALSE)),FALSE)","v":1},0,{"$f":"+VLOOKUP(C747,Scheepstypen!$A$1:$F$44,6,FALSE)","v":"L1"}]
["CEMT VbM5geladenbeide","CEMT Vb","M5","geladen","beide","Fijn stof",10.940335519785281,{"$f":"VLOOKUP(A748,Begin:Einde,7,FALSE)","v":0},1,{"$f":"VLOOKUP(Jaar&L748,Trendfactoren!$A$2:$F$65,(HLOOKUP(F748,Trendfactoren!$A$1:$F$2,2,FALSE)),FALSE)","v":1},0,{"$f":"+VLOOKUP(C748,Scheepstypen!$A$1:$F$44,6,FALSE)","v":"L2"}]
["CEMT VbM5geladenbeide","CEMT Vb","M5","geladen","beide","NOx",334.70266890527944,{"$f":"VLOOKUP(A749,Begin:Einde,7,FALSE)","v":0},1,{"$f":"VLOOKUP(Jaar&L749,Trendfactoren!$A$2:$F$65,(HLOOKUP(F749,Trendfactoren!$A$1:$F$2,2,FALSE)),FALSE)","v":1},0,{"$f":"+VLOOKUP(C749,Scheepstypen!$A$1:$F$44,6,FALSE)","v":"L2"}]
["CEMT VbM5leegbeide","CEMT Vb","M5","leeg","beide","Fijn stof",6.20936395256523,{"$f":"VLOOKUP(A750,Begin:Einde,7,FALSE)","v":0},1,{"$f":"VLOOKUP(Jaar&L750,Trendfactoren!$A$2:$F$65,(HLOOKUP(F750,Trendfactoren!$A$1:$F$2,2,FALSE)),FALSE)","v":1},0,{"$f":"+VLOOKUP(C750,Scheepstypen!$A$1:$F$44,6,FALSE)","v":"L2"}]
["CEMT VbM5leegbeide","CEMT Vb","M5","leeg","beide","NOx",187.71834488934579,{"$f":"VLOOKUP(A751,Begin:Einde,7,FALSE)","v":0},1,{"$f":"VLOOKUP(Jaar&L751,Trendfactoren!$A$2:$F$65,(HLOOKUP(F751,Trendfactoren!$A$1:$F$2,2,FALSE)),FALSE)","v":1},0,{"$f":"+VLOOKUP(C751,Scheepstypen!$A$1:$F$44,6,FALSE)","v":"L2"}]
["CEMT VbM6geladenbeide","CEMT Vb","M6","geladen","beide","Fijn stof",13.832225352264444,{"$f":"VLOOKUP(A752,Begin:Einde,7,FALSE)","v":0},1,{"$f":"VLOOKUP(Jaar&L752,Trendfactoren!$A$2:$F$65,(HLOOKUP(F752,Trendfactoren!$A$1:$F$2,2,FALSE)),FALSE)","v":1},0,{"$f":"+VLOOKUP(C752,Scheepstypen!$A$1:$F$44,6,FALSE)","v":"L2"}]
["CEMT VbM6geladenbeide","CEMT Vb","M6","geladen","beide","NOx",423.07756846187408,{"$f":"VLOOKUP(A753,Begin:Einde,7,FALSE)","v":0},1,{"$f":"VLOOKUP(Jaar&L753,Trendfactoren!$A$2:$F$65,(HLOOKUP(F753,Trendfactoren!$A$1:$F$2,2,FALSE)),FALSE)","v":1},0,{"$f":"+VLOOKUP(C753,Scheepstypen!$A$1:$F$44,6,FALSE)","v":"L2"}]
["CEMT VbM6leegbeide","CEMT Vb","M6","leeg","beide","Fijn stof",7.5255083195102621,{"$f":"VLOOKUP(A754,Begin:Einde,7,FALSE)","v":0},1,{"$f":"VLOOKUP(Jaar&L754,Trendfactoren!$A$2:$F$65,(HLOOKUP(F754,Trendfactoren!$A$1:$F$2,2,FALSE)),FALSE)","v":1},0,{"$f":"+VLOOKUP(C754,Scheepstypen!$A$1:$F$44,6,FALSE)","v":"L2"}]
["CEMT VbM6leegbeide","CEMT Vb","M6","leeg","beide","NOx",227.38902553531699,{"$f":"VLOOKUP(A755,Begin:Einde,7,FALSE)","v":0},1,{"$f":"VLOOKUP(Jaar&L755,Trendfactoren!$A$2:$F$65,(HLOOKUP(F755,Trendfactoren!$A$1:$F$2,2,FALSE)),FALSE)","v":1},0,{"$f":"+VLOOKUP(C755,Scheepstypen!$A$1:$F$44,6,FALSE)","v":"L2"}]
["CEMT VbM7geladenbeide","CEMT Vb","M7","geladen","beide","Fijn stof",14.615174518813422,{"$f":"VLOOKUP(A756,Begin:Einde,7,FALSE)","v":0},1,{"$f":"VLOOKUP(Jaar&L756,Trendfactoren!$A$2:$F$65,(HLOOKUP(F756,Trendfactoren!$A$1:$F$2,2,FALSE)),FALSE)","v":1},0,{"$f":"+VLOOKUP(C756,Scheepstypen!$A$1:$F$44,6,FALSE)","v":"L2"}]
["CEMT VbM7geladenbeide","CEMT Vb","M7","geladen","beide","NOx",443.91284961185124,{"$f":"VLOOKUP(A757,Begin:Einde,7,FALSE)","v":0},1,{"$f":"VLOOKUP(Jaar&L757,Trendfactoren!$A$2:$F$65,(HLOOKUP(F757,Trendfactoren!$A$1:$F$2,2,FALSE)),FALSE)","v":1},0,{"$f":"+VLOOKUP(C757,Scheepstypen!$A$1:$F$44,6,FALSE)","v":"L2"}]
["CEMT VbM7leegbeide","CEMT Vb","M7","leeg","beide","Fijn stof",8.9202505052408227,{"$f":"VLOOKUP(A758,Begin:Einde,7,FALSE)","v":0},1,{"$f":"VLOOKUP(Jaar&L758,Trendfactoren!$A$2:$F$65,(HLOOKUP(F758,Trendfactoren!$A$1:$F$2,2,FALSE)),FALSE)","v":1},0,{"$f":"+VLOOKUP(C758,Scheepstypen!$A$1:$F$44,6,FALSE)","v":"L2"}]
["CEMT VbM7leegbeide","CEMT Vb","M7","leeg","beide","NOx",267.86778578741746,{"$f":"VLOOKUP(A759,Begin:Einde,7,FALSE)","v":0},1,{"$f":"VLOOKUP(Jaar&L759,Trendfactoren!$A$2:$F$65,(HLOOKUP(F759,Trendfactoren!$A$1:$F$2,2,FALSE)),FALSE)","v":1},0,{"$f":"+VLOOKUP(C759,Scheepstypen!$A$1:$F$44,6,FALSE)","v":"L2"}]
["CEMT VbM8geladenbeide","CEMT Vb","M8","geladen","beide","Fijn stof",22.930571179360438,{"$f":"VLOOKUP(A760,Begin:Einde,7,FALSE)","v":0},1,{"$f":"VLOOKUP(Jaar&L760,Trendfactoren!$A$2:$F$65,(HLOOKUP(F760,Trendfactoren!$A$1:$F$2,2,FALSE)),FALSE)","v":1},0,{"$f":"+VLOOKUP(C760,Scheepstypen!$A$1:$F$44,6,FALSE)","v":"L3"}]
["CEMT VbM8geladenbeide","CEMT Vb","M8","geladen","beide","NOx",701.62531422473728,{"$f":"VLOOKUP(A761,Begin:Einde,7,FALSE)","v":0},1,{"$f":"VLOOKUP(Jaar&L761,Trendfactoren!$A$2:$F$65,(HLOOKUP(F761,Trendfactoren!$A$1:$F$2,2,FALSE)),FALSE)","v":1},0,{"$f":"+VLOOKUP(C761,Scheepstypen!$A$1:$F$44,6,FALSE)","v":"L3"}]
["CEMT VbM8leegbeide","CEMT Vb","M8","leeg","beide","Fijn stof",12.296783241660773,{"$f":"VLOOKUP(A762,Begin:Einde,7,FALSE)","v":0},1,{"$f":"VLOOKUP(Jaar&L762,Trendfactoren!$A$2:$F$65,(HLOOKUP(F762,Trendfactoren!$A$1:$F$2,2,FALSE)),FALSE)","v":1},0,{"$f":"+VLOOKUP(C762,Scheepstypen!$A$1:$F$44,6,FALSE)","v":"L3"}]
["CEMT VbM8leegbeide","CEMT Vb","M8","leeg","beide","NOx",370.13875860601917,{"$f":"VLOOKUP(A763,Begin:Einde,7,FALSE)","v":0},1,{"$f":"VLOOKUP(Jaar&L763,Trendfactoren!$A$2:$F$65,(HLOOKUP(F763,Trendfactoren!$A$1:$F$2,2,FALSE)),FALSE)","v":1},0,{"$f":"+VLOOKUP(C763,Scheepstypen!$A$1:$F$44,6,FALSE)","v":"L3"}]
["CEMT VbM9geladenbeide","CEMT Vb","M9","geladen","beide","Fijn stof",23.955415336867436,{"$f":"VLOOKUP(A764,Begin:Einde,7,FALSE)","v":0},{"$f":"+Afstand","v":1},{"$f":"VLOOKUP(Jaar&L764,Trendfactoren!$A$2:$F$65,(HLOOKUP(F764,Trendfactoren!$A$1:$F$2,2,FALSE)),FALSE)","v":1},{"$f":"+G764*H764*I764*J764","v":0},{"$f":"+VLOOKUP(C764,Scheepstypen!$A$1:$F$44,6,FALSE)","v":"L3"}]
["CEMT VbM9geladenbeide","CEMT Vb","M9","geladen","beide","NOx",719.78764732323589,{"$f":"VLOOKUP(A765,Begin:Einde,7,FALSE)","v":0},1,{"$f":"VLOOKUP(Jaar&L765,Trendfactoren!$A$2:$F$65,(HLOOKUP(F765,Trendfactoren!$A$1:$F$2,2,FALSE)),FALSE)","v":1},0,{"$f":"+VLOOKUP(C765,Scheepstypen!$A$1:$F$44,6,FALSE)","v":"L3"}]
["CEMT VbM9leegbeide","CEMT Vb","M9","leeg","beide","Fijn stof",11.941515311036806,{"$f":"VLOOKUP(A766,Begin:Einde,7,FALSE)","v":0},1,{"$f":"VLOOKUP(Jaar&L766,Trendfactoren!$A$2:$F$65,(HLOOKUP(F766,Trendfactoren!$A$1:$F$2,2,FALSE)),FALSE)","v":1},0,{"$f":"+VLOOKUP(C766,Scheepstypen!$A$1:$F$44,6,FALSE)","v":"L3"}]
["CEMT VbM9leegbeide","CEMT Vb","M9","leeg","beide","NOx",319.37488913671643,{"$f":"VLOOKUP(A767,Begin:Einde,7,FALSE)","v":0},1,{"$f":"VLOOKUP(Jaar&L767,Trendfactoren!$A$2:$F$65,(HLOOKUP(F767,Trendfactoren!$A$1:$F$2,2,FALSE)),FALSE)","v":1},0,{"$f":"+VLOOKUP(C767,Scheepstypen!$A$1:$F$44,6,FALSE)","v":"L3"}]
["CEMT VIaBIgeladenbeide","CEMT VIa","BI","geladen","beide","Fijn stof",13.384364712519346,{"$f":"VLOOKUP(A768,Begin:Einde,7,FALSE)","v":0},1,{"$f":"VLOOKUP(Jaar&L768,Trendfactoren!$A$2:$F$65,(HLOOKUP(F768,Trendfactoren!$A$1:$F$2,2,FALSE)),FALSE)","v":1},0,{"$f":"+VLOOKUP(C768,Scheepstypen!$A$1:$F$44,6,FALSE)","v":"L2"}]
[{"$f":"+B769&C769&D769&E769","v":"CEMT VIaBIgeladenbeide"},"CEMT VIa","BI","geladen","beide","NOx",387.50048845026549,{"$f":"VLOOKUP(A769,Begin:Einde,7,FALSE)","v":0},1,{"$f":"VLOOKUP(Jaar&L769,Trendfactoren!$A$2:$F$65,(HLOOKUP(F769,Trendfactoren!$A$1:$F$2,2,FALSE)),FALSE)","v":1},0,{"$f":"+VLOOKUP(C769,Scheepstypen!$A$1:$F$44,6,FALSE)","v":"L2"}]
["CEMT VIaBIleegbeide","CEMT VIa","BI","leeg","beide","Fijn stof",8.2227520858358378,{"$f":"VLOOKUP(A770,Begin:Einde,7,FALSE)","v":0},1,{"$f":"VLOOKUP(Jaar&L770,Trendfactoren!$A$2:$F$65,(HLOOKUP(F770,Trendfactoren!$A$1:$F$2,2,FALSE)),FALSE)","v":1},0,{"$f":"+VLOOKUP(C770,Scheepstypen!$A$1:$F$44,6,FALSE)","v":"L2"}]
["CEMT VIaBIleegbeide","CEMT VIa","BI","leeg","beide","NOx",225.78598886724376,{"$f":"VLOOKUP(A771,Begin:Einde,7,FALSE)","v":0},1,{"$f":"VLOOKUP(Jaar&L771,Trendfactoren!$A$2:$F$65,(HLOOKUP(F771,Trendfactoren!$A$1:$F$2,2,FALSE)),FALSE)","v":1},0,{"$f":"+VLOOKUP(C771,Scheepstypen!$A$1:$F$44,6,FALSE)","v":"L2"}]
["CEMT VIaBII-1geladenbeide","CEMT VIa","BII-1","geladen","beide","Fijn stof",14.048506514207395,{"$f":"VLOOKUP(A772,Begin:Einde,7,FALSE)","v":0},1,{"$f":"VLOOKUP(Jaar&L772,Trendfactoren!$A$2:$F$65,(HLOOKUP(F772,Trendfactoren!$A$1:$F$2,2,FALSE)),FALSE)","v":1},0,{"$f":"+VLOOKUP(C772,Scheepstypen!$A$1:$F$44,6,FALSE)","v":"L2"}]
["CEMT VIaBII-1geladenbeide","CEMT VIa","BII-1","geladen","beide","NOx",395.3149290411406,{"$f":"VLOOKUP(A773,Begin:Einde,7,FALSE)","v":0},1,{"$f":"VLOOKUP(Jaar&L773,Trendfactoren!$A$2:$F$65,(HLOOKUP(F773,Trendfactoren!$A$1:$F$2,2,FALSE)),FALSE)","v":1},0,{"$f":"+VLOOKUP(C773,Scheepstypen!$A$1:$F$44,6,FALSE)","v":"L2"}]
["CEMT VIaBII-1leegbeide","CEMT VIa","BII-1","leeg","beide","Fijn stof",11.319476600500819,{"$f":"VLOOKUP(A774,Begin:Einde,7,FALSE)","v":0},1,{"$f":"VLOOKUP(Jaar&L774,Trendfactoren!$A$2:$F$65,(HLOOKUP(F774,Trendfactoren!$A$1:$F$2,2,FALSE)),FALSE)","v":1},0,{"$f":"+VLOOKUP(C774,Scheepstypen!$A$1:$F$44,6,FALSE)","v":"L2"}]
["CEMT VIaBII-1leegbeide","CEMT VIa","BII-1","leeg","beide","NOx",307.19367694034906,{"$f":"VLOOKUP(A775,Begin:Einde,7,FALSE)","v":0},1,{"$f":"VLOOKUP(Jaar&L775,Trendfactoren!$A$2:$F$65,(HLOOKUP(F775,Trendfactoren!$A$1:$F$2,2,FALSE)),FALSE)","v":1},0,{"$f":"+VLOOKUP(C775,Scheepstypen!$A$1:$F$44,6,FALSE)","v":"L2"}]
["CEMT VIaBII-2Bgeladenbeide","CEMT VIa","BII-2B","geladen","beide","Fijn stof",43.825244927953811,{"$f":"VLOOKUP(A776,Begin:Einde,7,FALSE)","v":0},1,{"$f":"VLOOKUP(Jaar&L776,Trendfactoren!$A$2:$F$65,(HLOOKUP(F776,Trendfactoren!$A$1:$F$2,2,FALSE)),FALSE)","v":1},0,{"$f":"+VLOOKUP(C776,Scheepstypen!$A$1:$F$44,6,FALSE)","v":"L3"}]
["CEMT VIaBII-2Bgeladenbeide","CEMT VIa","BII-2B","geladen","beide","NOx",1282.3469068343954,{"$f":"VLOOKUP(A777,Begin:Einde,7,FALSE)","v":0},1,{"$f":"VLOOKUP(Jaar&L777,Trendfactoren!$A$2:$F$65,(HLOOKUP(F777,Trendfactoren!$A$1:$F$2,2,FALSE)),FALSE)","v":1},0,{"$f":"+VLOOKUP(C777,Scheepstypen!$A$1:$F$44,6,FALSE)","v":"L3"}]
["CEMT VIaBII-2Bleegbeide","CEMT VIa","BII-2B","leeg","beide","Fijn stof",28.189084002628999,{"$f":"VLOOKUP(A778,Begin:Einde,7,FALSE)","v":0},1,{"$f":"VLOOKUP(Jaar&L778,Trendfactoren!$A$2:$F$65,(HLOOKUP(F778,Trendfactoren!$A$1:$F$2,2,FALSE)),FALSE)","v":1},0,{"$f":"+VLOOKUP(C778,Scheepstypen!$A$1:$F$44,6,FALSE)","v":"L3"}]
["CEMT VIaBII-2Bleegbeide","CEMT VIa","BII-2B","leeg","beide","NOx",786.38274297517671,{"$f":"VLOOKUP(A779,Begin:Einde,7,FALSE)","v":0},1,{"$f":"VLOOKUP(Jaar&L779,Trendfactoren!$A$2:$F$65,(HLOOKUP(F779,Trendfactoren!$A$1:$F$2,2,FALSE)),FALSE)","v":1},0,{"$f":"+VLOOKUP(C779,Scheepstypen!$A$1:$F$44,6,FALSE)","v":"L3"}]
["CEMT VIaBII-2Lgeladenbeide","CEMT VIa","BII-2L","geladen","beide","Fijn stof",24.251912616592904,{"$f":"VLOOKUP(A780,Begin:Einde,7,FALSE)","v":0},1,{"$f":"VLOOKUP(Jaar&L780,Trendfactoren!$A$2:$F$65,(HLOOKUP(F780,Trendfactoren!$A$1:$F$2,2,FALSE)),FALSE)","v":1},0,{"$f":"+VLOOKUP(C780,Scheepstypen!$A$1:$F$44,6,FALSE)","v":"L3"}]
["CEMT VIaBII-2Lgeladenbeide","CEMT VIa","BII-2L","geladen","beide","NOx",678.00070779738201,{"$f":"VLOOKUP(A781,Begin:Einde,7,FALSE)","v":0},1,{"$f":"VLOOKUP(Jaar&L781,Trendfactoren!$A$2:$F$65,(HLOOKUP(F781,Trendfactoren!$A$1:$F$2,2,FALSE)),FALSE)","v":1},0,{"$f":"+VLOOKUP(C781,Scheepstypen!$A$1:$F$44,6,FALSE)","v":"L3"}]
["CEMT VIaBII-2Lleegbeide","CEMT VIa","BII-2L","leeg","beide","Fijn stof",18.728545878457965,{"$f":"VLOOKUP(A782,Begin:Einde,7,FALSE)","v":0},1,{"$f":"VLOOKUP(Jaar&L782,Trendfactoren!$A$2:$F$65,(HLOOKUP(F782,Trendfactoren!$A$1:$F$2,2,FALSE)),FALSE)","v":1},0,{"$f":"+VLOOKUP(C782,Scheepstypen!$A$1:$F$44,6,FALSE)","v":"L3"}]
["CEMT VIaBII-2Lleegbeide","CEMT VIa","BII-2L","leeg","beide","NOx",463.40822979216131,{"$f":"VLOOKUP(A783,Begin:Einde,7,FALSE)","v":0},1,{"$f":"VLOOKUP(Jaar&L783,Trendfactoren!$A$2:$F$65,(HLOOKUP(F783,Trendfactoren!$A$1:$F$2,2,FALSE)),FALSE)","v":1},0,{"$f":"+VLOOKUP(C783,Scheepstypen!$A$1:$F$44,6,FALSE)","v":"L3"}]
["CEMT VIaBII-4geladenbeide","CEMT VIa","BII-4","geladen","beide","Fijn stof",43.215757367424096,{"$f":"VLOOKUP(A784,Begin:Einde,7,FALSE)","v":0},1,{"$f":"VLOOKUP(Jaar&L784,Trendfactoren!$A$2:$F$65,(HLOOKUP(F784,Trendfactoren!$A$1:$F$2,2,FALSE)),FALSE)","v":1},0,{"$f":"+VLOOKUP(C784,Scheepstypen!$A$1:$F$44,6,FALSE)","v":"L3"}]
["CEMT VIaBII-4geladenbeide","CEMT VIa","BII-4","geladen","beide","NOx",1260.4137604642663,{"$f":"VLOOKUP(A785,Begin:Einde,7,FALSE)","v":0},1,{"$f":"VLOOKUP(Jaar&L785,Trendfactoren!$A$2:$F$65,(HLOOKUP(F785,Trendfactoren!$A$1:$F$2,2,FALSE)),FALSE)","v":1},0,{"$f":"+VLOOKUP(C785,Scheepstypen!$A$1:$F$44,6,FALSE)","v":"L3"}]
["CEMT VIaBII-4leegbeide","CEMT VIa","BII-4","leeg","beide","Fijn stof",46.588641688413993,{"$f":"VLOOKUP(A786,Begin:Einde,7,FALSE)","v":0},1,{"$f":"VLOOKUP(Jaar&L786,Trendfactoren!$A$2:$F$65,(HLOOKUP(F786,Trendfactoren!$A$1:$F$2,2,FALSE)),FALSE)","v":1},0,{"$f":"+VLOOKUP(C786,Scheepstypen!$A$1:$F$44,6,FALSE)","v":"L3"}]
["CEMT VIaBII-4leegbeide","CEMT VIa","BII-4","leeg","beide","NOx",1303.4845287597709,{"$f":"VLOOKUP(A787,Begin:Einde,7,FALSE)","v":0},1,{"$f":"VLOOKUP(Jaar&L787,Trendfactoren!$A$2:$F$65,(HLOOKUP(F787,Trendfactoren!$A$1:$F$2,2,FALSE)),FALSE)","v":1},0,{"$f":"+VLOOKUP(C787,Scheepstypen!$A$1:$F$44,6,FALSE)","v":"L3"}]
["CEMT VIaBII-6Bleegbeide","CEMT VIa","BII-6B","leeg","beide","Fijn stof",52.129750143909007,{"$f":"VLOOKUP(A788,Begin:Einde,7,FALSE)","v":0},1,{"$f":"VLOOKUP(Jaar&L788,Trendfactoren!$A$2:$F$65,(HLOOKUP(F788,Trendfactoren!$A$1:$F$2,2,FALSE)),FALSE)","v":1},0,{"$f":"+VLOOKUP(C788,Scheepstypen!$A$1:$F$44,6,FALSE)","v":"L3"}]
["CEMT VIaBII-6Bleegbeide","CEMT VIa","BII-6B","leeg","beide","NOx",1605.0976349948928,{"$f":"VLOOKUP(A789,Begin:Einde,7,FALSE)","v":0},1,{"$f":"VLOOKUP(Jaar&L789,Trendfactoren!$A$2:$F$65,(HLOOKUP(F789,Trendfactoren!$A$1:$F$2,2,FALSE)),FALSE)","v":1},0,{"$f":"+VLOOKUP(C789,Scheepstypen!$A$1:$F$44,6,FALSE)","v":"L3"}]
["CEMT VIaBO1leegbeide","CEMT VIa","BO1","leeg","beide","Fijn stof",4.0777199870572636,{"$f":"VLOOKUP(A790,Begin:Einde,7,FALSE)","v":0},1,{"$f":"VLOOKUP(Jaar&L790,Trendfactoren!$A$2:$F$65,(HLOOKUP(F790,Trendfactoren!$A$1:$F$2,2,FALSE)),FALSE)","v":1},0,{"$f":"+VLOOKUP(C790,Scheepstypen!$A$1:$F$44,6,FALSE)","v":"L1"}]
["CEMT VIaBO1leegbeide","CEMT VIa","BO1","leeg","beide","NOx",116.04602078491129,{"$f":"VLOOKUP(A791,Begin:Einde,7,FALSE)","v":0},1,{"$f":"VLOOKUP(Jaar&L791,Trendfactoren!$A$2:$F$65,(HLOOKUP(F791,Trendfactoren!$A$1:$F$2,2,FALSE)),FALSE)","v":1},0,{"$f":"+VLOOKUP(C791,Scheepstypen!$A$1:$F$44,6,FALSE)","v":"L1"}]
["CEMT VIaBO2geladenbeide","CEMT VIa","BO2","geladen","beide","Fijn stof",7.5265424415322242,{"$f":"VLOOKUP(A792,Begin:Einde,7,FALSE)","v":0},1,{"$f":"VLOOKUP(Jaar&L792,Trendfactoren!$A$2:$F$65,(HLOOKUP(F792,Trendfactoren!$A$1:$F$2,2,FALSE)),FALSE)","v":1},0,{"$f":"+VLOOKUP(C792,Scheepstypen!$A$1:$F$44,6,FALSE)","v":"L1"}]
["CEMT VIaBO2geladenbeide","CEMT VIa","BO2","geladen","beide","NOx",216.91849958044273,{"$f":"VLOOKUP(A793,Begin:Einde,7,FALSE)","v":0},1,{"$f":"VLOOKUP(Jaar&L793,Trendfactoren!$A$2:$F$65,(HLOOKUP(F793,Trendfactoren!$A$1:$F$2,2,FALSE)),FALSE)","v":1},0,{"$f":"+VLOOKUP(C793,Scheepstypen!$A$1:$F$44,6,FALSE)","v":"L1"}]
["CEMT VIaBO2leegbeide","CEMT VIa","BO2","leeg","beide","Fijn stof",5.7435779317539737,{"$f":"VLOOKUP(A794,Begin:Einde,7,FALSE)","v":0},1,{"$f":"VLOOKUP(Jaar&L794,Trendfactoren!$A$2:$F$65,(HLOOKUP(F794,Trendfactoren!$A$1:$F$2,2,FALSE)),FALSE)","v":1},0,{"$f":"+VLOOKUP(C794,Scheepstypen!$A$1:$F$44,6,FALSE)","v":"L1"}]
["CEMT VIaBO2leegbeide","CEMT VIa","BO2","leeg","beide","NOx",161.78236918052178,{"$f":"VLOOKUP(A795,Begin:Einde,7,FALSE)","v":0},1,{"$f":"VLOOKUP(Jaar&L795,Trendfactoren!$A$2:$F$65,(HLOOKUP(F795,Trendfactoren!$A$1:$F$2,2,FALSE)),FALSE)","v":1},0,{"$f":"+VLOOKUP(C795,Scheepstypen!$A$1:$F$44,6,FALSE)","v":"L1"}]
["CEMT VIaBO3geladenbeide","CEMT VIa","BO3","geladen","beide","Fijn stof",11.752594096620607,{"$f":"VLOOKUP(A796,Begin:Einde,7,FALSE)","v":0},1,{"$f":"VLOOKUP(Jaar&L796,Trendfactoren!$A$2:$F$65,(HLOOKUP(F796,Trendfactoren!$A$1:$F$2,2,FALSE)),FALSE)","v":1},0,{"$f":"+VLOOKUP(C796,Scheepstypen!$A$1:$F$44,6,FALSE)","v":"L1"}]
["CEMT VIaBO3geladenbeide","CEMT VIa","BO3","geladen","beide","NOx",341.39843412603994,{"$f":"VLOOKUP(A797,Begin:Einde,7,FALSE)","v":0},1,{"$f":"VLOOKUP(Jaar&L797,Trendfactoren!$A$2:$F$65,(HLOOKUP(F797,Trendfactoren!$A$1:$F$2,2,FALSE)),FALSE)","v":1},0,{"$f":"+VLOOKUP(C797,Scheepstypen!$A$1:$F$44,6,FALSE)","v":"L1"}]
["CEMT VIaBO3leegbeide","CEMT VIa","BO3","leeg","beide","Fijn stof",7.2222885840903164,{"$f":"VLOOKUP(A798,Begin:Einde,7,FALSE)","v":0},1,{"$f":"VLOOKUP(Jaar&L798,Trendfactoren!$A$2:$F$65,(HLOOKUP(F798,Trendfactoren!$A$1:$F$2,2,FALSE)),FALSE)","v":1},0,{"$f":"+VLOOKUP(C798,Scheepstypen!$A$1:$F$44,6,FALSE)","v":"L1"}]
["CEMT VIaBO3leegbeide","CEMT VIa","BO3","leeg","beide","NOx",204.74473945567013,{"$f":"VLOOKUP(A799,Begin:Einde,7,FALSE)","v":0},1,{"$f":"VLOOKUP(Jaar&L799,Trendfactoren!$A$2:$F$65,(HLOOKUP(F799,Trendfactoren!$A$1:$F$2,2,FALSE)),FALSE)","v":1},0,{"$f":"+VLOOKUP(C799,Scheepstypen!$A$1:$F$44,6,FALSE)","v":"L1"}]
["CEMT VIaBO4geladenbeide","CEMT VIa","BO4","geladen","beide","Fijn stof",14.821325459523432,{"$f":"VLOOKUP(A800,Begin:Einde,7,FALSE)","v":0},1,{"$f":"VLOOKUP(Jaar&L800,Trendfactoren!$A$2:$F$65,(HLOOKUP(F800,Trendfactoren!$A$1:$F$2,2,FALSE)),FALSE)","v":1},0,{"$f":"+VLOOKUP(C800,Scheepstypen!$A$1:$F$44,6,FALSE)","v":"L1"}]
["CEMT VIaBO4geladenbeide","CEMT VIa","BO4","geladen","beide","NOx",423.52123702136322,{"$f":"VLOOKUP(A801,Begin:Einde,7,FALSE)","v":0},1,{"$f":"VLOOKUP(Jaar&L801,Trendfactoren!$A$2:$F$65,(HLOOKUP(F801,Trendfactoren!$A$1:$F$2,2,FALSE)),FALSE)","v":1},0,{"$f":"+VLOOKUP(C801,Scheepstypen!$A$1:$F$44,6,FALSE)","v":"L1"}]
["CEMT VIaBO4leegbeide","CEMT VIa","BO4","leeg","beide","Fijn stof",9.1130668364975467,{"$f":"VLOOKUP(A802,Begin:Einde,7,FALSE)","v":0},1,{"$f":"VLOOKUP(Jaar&L802,Trendfactoren!$A$2:$F$65,(HLOOKUP(F802,Trendfactoren!$A$1:$F$2,2,FALSE)),FALSE)","v":1},0,{"$f":"+VLOOKUP(C802,Scheepstypen!$A$1:$F$44,6,FALSE)","v":"L1"}]
["CEMT VIaBO4leegbeide","CEMT VIa","BO4","leeg","beide","NOx",253.51743998748714,{"$f":"VLOOKUP(A803,Begin:Einde,7,FALSE)","v":0},1,{"$f":"VLOOKUP(Jaar&L803,Trendfactoren!$A$2:$F$65,(HLOOKUP(F803,Trendfactoren!$A$1:$F$2,2,FALSE)),FALSE)","v":1},0,{"$f":"+VLOOKUP(C803,Scheepstypen!$A$1:$F$44,6,FALSE)","v":"L1"}]
["CEMT VIaC1bgeladenbeide","CEMT VIa","C1b","geladen","beide","Fijn stof",7.9915550562403359,{"$f":"VLOOKUP(A804,Begin:Einde,7,FALSE)","v":0},1,{"$f":"VLOOKUP(Jaar&L804,Trendfactoren!$A$2:$F$65,(HLOOKUP(F804,Trendfactoren!$A$1:$F$2,2,FALSE)),FALSE)","v":1},0,{"$f":"+VLOOKUP(C804,Scheepstypen!$A$1:$F$44,6,FALSE)","v":"L1"}]
["CEMT VIaC1bgeladenbeide","CEMT VIa","C1b","geladen","beide","NOx",228.84558267233609,{"$f":"VLOOKUP(A805,Begin:Einde,7,FALSE)","v":0},1,{"$f":"VLOOKUP(Jaar&L805,Trendfactoren!$A$2:$F$65,(HLOOKUP(F805,Trendfactoren!$A$1:$F$2,2,FALSE)),FALSE)","v":1},0,{"$f":"+VLOOKUP(C805,Scheepstypen!$A$1:$F$44,6,FALSE)","v":"L1"}]
["CEMT VIaC1bleegbeide","CEMT VIa","C1b","leeg","beide","Fijn stof",3.3258484988492096,{"$f":"VLOOKUP(A806,Begin:Einde,7,FALSE)","v":0},1,{"$f":"VLOOKUP(Jaar&L806,Trendfactoren!$A$2:$F$65,(HLOOKUP(F806,Trendfactoren!$A$1:$F$2,2,FALSE)),FALSE)","v":1},0,{"$f":"+VLOOKUP(C806,Scheepstypen!$A$1:$F$44,6,FALSE)","v":"L1"}]
["CEMT VIaC1bleegbeide","CEMT VIa","C1b","leeg","beide","NOx",97.71342113582179,{"$f":"VLOOKUP(A807,Begin:Einde,7,FALSE)","v":0},1,{"$f":"VLOOKUP(Jaar&L807,Trendfactoren!$A$2:$F$65,(HLOOKUP(F807,Trendfactoren!$A$1:$F$2,2,FALSE)),FALSE)","v":1},0,{"$f":"+VLOOKUP(C807,Scheepstypen!$A$1:$F$44,6,FALSE)","v":"L1"}]
["CEMT VIaC1lgeladenbeide","CEMT VIa","C1l","geladen","beide","Fijn stof",3.6296475462193665,{"$f":"VLOOKUP(A808,Begin:Einde,7,FALSE)","v":0},1,{"$f":"VLOOKUP(Jaar&L808,Trendfactoren!$A$2:$F$65,(HLOOKUP(F808,Trendfactoren!$A$1:$F$2,2,FALSE)),FALSE)","v":1},0,{"$f":"+VLOOKUP(C808,Scheepstypen!$A$1:$F$44,6,FALSE)","v":"L1"}]
["CEMT VIaC1lgeladenbeide","CEMT VIa","C1l","geladen","beide","NOx",107.0900016810394,{"$f":"VLOOKUP(A809,Begin:Einde,7,FALSE)","v":0},1,{"$f":"VLOOKUP(Jaar&L809,Trendfactoren!$A$2:$F$65,(HLOOKUP(F809,Trendfactoren!$A$1:$F$2,2,FALSE)),FALSE)","v":1},0,{"$f":"+VLOOKUP(C809,Scheepstypen!$A$1:$F$44,6,FALSE)","v":"L1"}]
["CEMT VIaC2bgeladenbeide","CEMT VIa","C2b","geladen","beide","Fijn stof",16.490121524736534,{"$f":"VLOOKUP(A810,Begin:Einde,7,FALSE)","v":0},1,{"$f":"VLOOKUP(Jaar&L810,Trendfactoren!$A$2:$F$65,(HLOOKUP(F810,Trendfactoren!$A$1:$F$2,2,FALSE)),FALSE)","v":1},0,{"$f":"+VLOOKUP(C810,Scheepstypen!$A$1:$F$44,6,FALSE)","v":"L2"}]
["CEMT VIaC2bgeladenbeide","CEMT VIa","C2b","geladen","beide","NOx",438.96853544895248,{"$f":"VLOOKUP(A811,Begin:Einde,7,FALSE)","v":0},1,{"$f":"VLOOKUP(Jaar&L811,Trendfactoren!$A$2:$F$65,(HLOOKUP(F811,Trendfactoren!$A$1:$F$2,2,FALSE)),FALSE)","v":1},0,{"$f":"+VLOOKUP(C811,Scheepstypen!$A$1:$F$44,6,FALSE)","v":"L2"}]
["CEMT VIaC2bleegbeide","CEMT VIa","C2b","leeg","beide","Fijn stof",19.336215205017073,{"$f":"VLOOKUP(A812,Begin:Einde,7,FALSE)","v":0},1,{"$f":"VLOOKUP(Jaar&L812,Trendfactoren!$A$2:$F$65,(HLOOKUP(F812,Trendfactoren!$A$1:$F$2,2,FALSE)),FALSE)","v":1},0,{"$f":"+VLOOKUP(C812,Scheepstypen!$A$1:$F$44,6,FALSE)","v":"L2"}]
["CEMT VIaC2bleegbeide","CEMT VIa","C2b","leeg","beide","NOx",535.69072204993086,{"$f":"VLOOKUP(A813,Begin:Einde,7,FALSE)","v":0},1,{"$f":"VLOOKUP(Jaar&L813,Trendfactoren!$A$2:$F$65,(HLOOKUP(F813,Trendfactoren!$A$1:$F$2,2,FALSE)),FALSE)","v":1},0,{"$f":"+VLOOKUP(C813,Scheepstypen!$A$1:$F$44,6,FALSE)","v":"L2"}]
["CEMT VIaC2lgeladenbeide","CEMT VIa","C2l","geladen","beide","Fijn stof",14.812038314797833,{"$f":"VLOOKUP(A814,Begin:Einde,7,FALSE)","v":0},1,{"$f":"VLOOKUP(Jaar&L814,Trendfactoren!$A$2:$F$65,(HLOOKUP(F814,Trendfactoren!$A$1:$F$2,2,FALSE)),FALSE)","v":1},0,{"$f":"+VLOOKUP(C814,Scheepstypen!$A$1:$F$44,6,FALSE)","v":"L2"}]
["CEMT VIaC2lgeladenbeide","CEMT VIa","C2l","geladen","beide","NOx",423.24689869390807,{"$f":"VLOOKUP(A815,Begin:Einde,7,FALSE)","v":0},1,{"$f":"VLOOKUP(Jaar&L815,Trendfactoren!$A$2:$F$65,(HLOOKUP(F815,Trendfactoren!$A$1:$F$2,2,FALSE)),FALSE)","v":1},0,{"$f":"+VLOOKUP(C815,Scheepstypen!$A$1:$F$44,6,FALSE)","v":"L2"}]
["CEMT VIaC2lleegbeide","CEMT VIa","C2l","leeg","beide","Fijn stof",15.291638757571127,{"$f":"VLOOKUP(A816,Begin:Einde,7,FALSE)","v":0},1,{"$f":"VLOOKUP(Jaar&L816,Trendfactoren!$A$2:$F$65,(HLOOKUP(F816,Trendfactoren!$A$1:$F$2,2,FALSE)),FALSE)","v":1},0,{"$f":"+VLOOKUP(C816,Scheepstypen!$A$1:$F$44,6,FALSE)","v":"L2"}]
["CEMT VIaC2lleegbeide","CEMT VIa","C2l","leeg","beide","NOx",419.78999164222427,{"$f":"VLOOKUP(A817,Begin:Einde,7,FALSE)","v":0},1,{"$f":"VLOOKUP(Jaar&L817,Trendfactoren!$A$2:$F$65,(HLOOKUP(F817,Trendfactoren!$A$1:$F$2,2,FALSE)),FALSE)","v":1},0,{"$f":"+VLOOKUP(C817,Scheepstypen!$A$1:$F$44,6,FALSE)","v":"L2"}]
["CEMT VIaC3bgeladenbeide","CEMT VIa","C3b","geladen","beide","Fijn stof",39.501711386892488,{"$f":"VLOOKUP(A818,Begin:Einde,7,FALSE)","v":0},1,{"$f":"VLOOKUP(Jaar&L818,Trendfactoren!$A$2:$F$65,(HLOOKUP(F818,Trendfactoren!$A$1:$F$2,2,FALSE)),FALSE)","v":1},0,{"$f":"+VLOOKUP(C818,Scheepstypen!$A$1:$F$44,6,FALSE)","v":"L3"}]
["CEMT VIaC3bgeladenbeide","CEMT VIa","C3b","geladen","beide","NOx",1209.2676013361151,{"$f":"VLOOKUP(A819,Begin:Einde,7,FALSE)","v":0},1,{"$f":"VLOOKUP(Jaar&L819,Trendfactoren!$A$2:$F$65,(HLOOKUP(F819,Trendfactoren!$A$1:$F$2,2,FALSE)),FALSE)","v":1},0,{"$f":"+VLOOKUP(C819,Scheepstypen!$A$1:$F$44,6,FALSE)","v":"L3"}]
["CEMT VIaC3bleegbeide","CEMT VIa","C3b","leeg","beide","Fijn stof",23.185621653391326,{"$f":"VLOOKUP(A820,Begin:Einde,7,FALSE)","v":0},1,{"$f":"VLOOKUP(Jaar&L820,Trendfactoren!$A$2:$F$65,(HLOOKUP(F820,Trendfactoren!$A$1:$F$2,2,FALSE)),FALSE)","v":1},0,{"$f":"+VLOOKUP(C820,Scheepstypen!$A$1:$F$44,6,FALSE)","v":"L3"}]
["CEMT VIaC3bleegbeide","CEMT VIa","C3b","leeg","beide","NOx",687.89026467089195,{"$f":"VLOOKUP(A821,Begin:Einde,7,FALSE)","v":0},1,{"$f":"VLOOKUP(Jaar&L821,Trendfactoren!$A$2:$F$65,(HLOOKUP(F821,Trendfactoren!$A$1:$F$2,2,FALSE)),FALSE)","v":1},0,{"$f":"+VLOOKUP(C821,Scheepstypen!$A$1:$F$44,6,FALSE)","v":"L3"}]
["CEMT VIaC3lgeladenbeide","CEMT VIa","C3l","geladen","beide","Fijn stof",21.351384218289862,{"$f":"VLOOKUP(A822,Begin:Einde,7,FALSE)","v":0},1,{"$f":"VLOOKUP(Jaar&L822,Trendfactoren!$A$2:$F$65,(HLOOKUP(F822,Trendfactoren!$A$1:$F$2,2,FALSE)),FALSE)","v":1},0,{"$f":"+VLOOKUP(C822,Scheepstypen!$A$1:$F$44,6,FALSE)","v":"L3"}]
["CEMT VIaC3lgeladenbeide","CEMT VIa","C3l","geladen","beide","NOx",624.541090851798,{"$f":"VLOOKUP(A823,Begin:Einde,7,FALSE)","v":0},1,{"$f":"VLOOKUP(Jaar&L823,Trendfactoren!$A$2:$F$65,(HLOOKUP(F823,Trendfactoren!$A$1:$F$2,2,FALSE)),FALSE)","v":1},0,{"$f":"+VLOOKUP(C823,Scheepstypen!$A$1:$F$44,6,FALSE)","v":"L3"}]
["CEMT VIaC3lleegbeide","CEMT VIa","C3l","leeg","beide","Fijn stof",12.276797247408307,{"$f":"VLOOKUP(A824,Begin:Einde,7,FALSE)","v":0},1,{"$f":"VLOOKUP(Jaar&L824,Trendfactoren!$A$2:$F$65,(HLOOKUP(F824,Trendfactoren!$A$1:$F$2,2,FALSE)),FALSE)","v":1},0,{"$f":"+VLOOKUP(C824,Scheepstypen!$A$1:$F$44,6,FALSE)","v":"L3"}]
["CEMT VIaC3lleegbeide","CEMT VIa","C3l","leeg","beide","NOx",302.64468184185836,{"$f":"VLOOKUP(A825,Begin:Einde,7,FALSE)","v":0},1,{"$f":"VLOOKUP(Jaar&L825,Trendfactoren!$A$2:$F$65,(HLOOKUP(F825,Trendfactoren!$A$1:$F$2,2,FALSE)),FALSE)","v":1},0,{"$f":"+VLOOKUP(C825,Scheepstypen!$A$1:$F$44,6,FALSE)","v":"L3"}]
["CEMT VIaC4geladenbeide","CEMT VIa","C4","geladen","beide","Fijn stof",36.291981771878454,{"$f":"VLOOKUP(A826,Begin:Einde,7,FALSE)","v":0},1,{"$f":"VLOOKUP(Jaar&L826,Trendfactoren!$A$2:$F$65,(HLOOKUP(F826,Trendfactoren!$A$1:$F$2,2,FALSE)),FALSE)","v":1},0,{"$f":"+VLOOKUP(C826,Scheepstypen!$A$1:$F$44,6,FALSE)","v":"L3"}]
["CEMT VIaC4geladenbeide","CEMT VIa","C4","geladen","beide","NOx",1073.6831994840929,{"$f":"VLOOKUP(A827,Begin:Einde,7,FALSE)","v":0},1,{"$f":"VLOOKUP(Jaar&L827,Trendfactoren!$A$2:$F$65,(HLOOKUP(F827,Trendfactoren!$A$1:$F$2,2,FALSE)),FALSE)","v":1},0,{"$f":"+VLOOKUP(C827,Scheepstypen!$A$1:$F$44,6,FALSE)","v":"L3"}]
["CEMT VIaC4leegbeide","CEMT VIa","C4","leeg","beide","Fijn stof",28.289717646565048,{"$f":"VLOOKUP(A828,Begin:Einde,7,FALSE)","v":0},{"$f":"+Afstand","v":1},{"$f":"VLOOKUP(Jaar&L828,Trendfactoren!$A$2:$F$65,(HLOOKUP(F828,Trendfactoren!$A$1:$F$2,2,FALSE)),FALSE)","v":1},{"$f":"+G828*H828*I828*J828","v":0},{"$f":"+VLOOKUP(C828,Scheepstypen!$A$1:$F$44,6,FALSE)","v":"L3"}]
["CEMT VIaC4leegbeide","CEMT VIa","C4","leeg","beide","NOx",871.28694204187548,{"$f":"VLOOKUP(A829,Begin:Einde,7,FALSE)","v":0},1,{"$f":"VLOOKUP(Jaar&L829,Trendfactoren!$A$2:$F$65,(HLOOKUP(F829,Trendfactoren!$A$1:$F$2,2,FALSE)),FALSE)","v":1},0,{"$f":"+VLOOKUP(C829,Scheepstypen!$A$1:$F$44,6,FALSE)","v":"L3"}]
["CEMT VIaM0geladenbeide","CEMT VIa","M0","geladen","beide","Fijn stof",2.2527908281203488,{"$f":"VLOOKUP(A830,Begin:Einde,7,FALSE)","v":0},1,{"$f":"VLOOKUP(Jaar&L830,Trendfactoren!$A$2:$F$65,(HLOOKUP(F830,Trendfactoren!$A$1:$F$2,2,FALSE)),FALSE)","v":1},0,{"$f":"+VLOOKUP(C830,Scheepstypen!$A$1:$F$44,6,FALSE)","v":"L1"}]
["CEMT VIaM0geladenbeide","CEMT VIa","M0","geladen","beide","NOx",63.090279291416465,{"$f":"VLOOKUP(A831,Begin:Einde,7,FALSE)","v":0},1,{"$f":"VLOOKUP(Jaar&L831,Trendfactoren!$A$2:$F$65,(HLOOKUP(F831,Trendfactoren!$A$1:$F$2,2,FALSE)),FALSE)","v":1},0,{"$f":"+VLOOKUP(C831,Scheepstypen!$A$1:$F$44,6,FALSE)","v":"L1"}]
["CEMT VIaM0leegbeide","CEMT VIa","M0","leeg","beide","Fijn stof",1.1480283052594795,{"$f":"VLOOKUP(A832,Begin:Einde,7,FALSE)","v":0},1,{"$f":"VLOOKUP(Jaar&L832,Trendfactoren!$A$2:$F$65,(HLOOKUP(F832,Trendfactoren!$A$1:$F$2,2,FALSE)),FALSE)","v":1},0,{"$f":"+VLOOKUP(C832,Scheepstypen!$A$1:$F$44,6,FALSE)","v":"L1"}]
[{"$f":"+B833&C833&D833&E833","v":"CEMT VIaM0leegbeide"},"CEMT VIa","M0","leeg","beide","NOx",30.64906991675571,{"$f":"VLOOKUP(A833,Begin:Einde,7,FALSE)","v":0},1,{"$f":"VLOOKUP(Jaar&L833,Trendfactoren!$A$2:$F$65,(HLOOKUP(F833,Trendfactoren!$A$1:$F$2,2,FALSE)),FALSE)","v":1},0,{"$f":"+VLOOKUP(C833,Scheepstypen!$A$1:$F$44,6,FALSE)","v":"L1"}]
["CEMT VIaM1geladenbeide","CEMT VIa","M1","geladen","beide","Fijn stof",2.613878188162468,{"$f":"VLOOKUP(A834,Begin:Einde,7,FALSE)","v":0},1,{"$f":"VLOOKUP(Jaar&L834,Trendfactoren!$A$2:$F$65,(HLOOKUP(F834,Trendfactoren!$A$1:$F$2,2,FALSE)),FALSE)","v":1},0,{"$f":"+VLOOKUP(C834,Scheepstypen!$A$1:$F$44,6,FALSE)","v":"L1"}]
["CEMT VIaM1geladenbeide","CEMT VIa","M1","geladen","beide","NOx",76.062701859058066,{"$f":"VLOOKUP(A835,Begin:Einde,7,FALSE)","v":0},1,{"$f":"VLOOKUP(Jaar&L835,Trendfactoren!$A$2:$F$65,(HLOOKUP(F835,Trendfactoren!$A$1:$F$2,2,FALSE)),FALSE)","v":1},0,{"$f":"+VLOOKUP(C835,Scheepstypen!$A$1:$F$44,6,FALSE)","v":"L1"}]
["CEMT VIaM1leegbeide","CEMT VIa","M1","leeg","beide","Fijn stof",1.8601142041778684,{"$f":"VLOOKUP(A836,Begin:Einde,7,FALSE)","v":0},1,{"$f":"VLOOKUP(Jaar&L836,Trendfactoren!$A$2:$F$65,(HLOOKUP(F836,Trendfactoren!$A$1:$F$2,2,FALSE)),FALSE)","v":1},0,{"$f":"+VLOOKUP(C836,Scheepstypen!$A$1:$F$44,6,FALSE)","v":"L1"}]
["CEMT VIaM1leegbeide","CEMT VIa","M1","leeg","beide","NOx",50.74697708334768,{"$f":"VLOOKUP(A837,Begin:Einde,7,FALSE)","v":0},1,{"$f":"VLOOKUP(Jaar&L837,Trendfactoren!$A$2:$F$65,(HLOOKUP(F837,Trendfactoren!$A$1:$F$2,2,FALSE)),FALSE)","v":1},0,{"$f":"+VLOOKUP(C837,Scheepstypen!$A$1:$F$44,6,FALSE)","v":"L1"}]
["CEMT VIaM10geladenbeide","CEMT VIa","M10","geladen","beide","Fijn stof",17.290129081683776,{"$f":"VLOOKUP(A838,Begin:Einde,7,FALSE)","v":0},1,{"$f":"VLOOKUP(Jaar&L838,Trendfactoren!$A$2:$F$65,(HLOOKUP(F838,Trendfactoren!$A$1:$F$2,2,FALSE)),FALSE)","v":1},0,{"$f":"+VLOOKUP(C838,Scheepstypen!$A$1:$F$44,6,FALSE)","v":"L3"}]
["CEMT VIaM10geladenbeide","CEMT VIa","M10","geladen","beide","NOx",502.08406232010816,{"$f":"VLOOKUP(A839,Begin:Einde,7,FALSE)","v":0},1,{"$f":"VLOOKUP(Jaar&L839,Trendfactoren!$A$2:$F$65,(HLOOKUP(F839,Trendfactoren!$A$1:$F$2,2,FALSE)),FALSE)","v":1},0,{"$f":"+VLOOKUP(C839,Scheepstypen!$A$1:$F$44,6,FALSE)","v":"L3"}]
["CEMT VIaM10leegbeide","CEMT VIa","M10","leeg","beide","Fijn stof",10.751217046249769,{"$f":"VLOOKUP(A840,Begin:Einde,7,FALSE)","v":0},1,{"$f":"VLOOKUP(Jaar&L840,Trendfactoren!$A$2:$F$65,(HLOOKUP(F840,Trendfactoren!$A$1:$F$2,2,FALSE)),FALSE)","v":1},0,{"$f":"+VLOOKUP(C840,Scheepstypen!$A$1:$F$44,6,FALSE)","v":"L3"}]
["CEMT VIaM10leegbeide","CEMT VIa","M10","leeg","beide","NOx",282.56513452599103,{"$f":"VLOOKUP(A841,Begin:Einde,7,FALSE)","v":0},1,{"$f":"VLOOKUP(Jaar&L841,Trendfactoren!$A$2:$F$65,(HLOOKUP(F841,Trendfactoren!$A$1:$F$2,2,FALSE)),FALSE)","v":1},0,{"$f":"+VLOOKUP(C841,Scheepstypen!$A$1:$F$44,6,FALSE)","v":"L3"}]
["CEMT VIaM11geladenbeide","CEMT VIa","M11","geladen","beide","Fijn stof",17.044249595123301,{"$f":"VLOOKUP(A842,Begin:Einde,7,FALSE)","v":0},1,{"$f":"VLOOKUP(Jaar&L842,Trendfactoren!$A$2:$F$65,(HLOOKUP(F842,Trendfactoren!$A$1:$F$2,2,FALSE)),FALSE)","v":1},0,{"$f":"+VLOOKUP(C842,Scheepstypen!$A$1:$F$44,6,FALSE)","v":"L3"}]
["CEMT VIaM11geladenbeide","CEMT VIa","M11","geladen","beide","NOx",494.88250120060849,{"$f":"VLOOKUP(A843,Begin:Einde,7,FALSE)","v":0},1,{"$f":"VLOOKUP(Jaar&L843,Trendfactoren!$A$2:$F$65,(HLOOKUP(F843,Trendfactoren!$A$1:$F$2,2,FALSE)),FALSE)","v":1},0,{"$f":"+VLOOKUP(C843,Scheepstypen!$A$1:$F$44,6,FALSE)","v":"L3"}]
["CEMT VIaM11leegbeide","CEMT VIa","M11","leeg","beide","Fijn stof",12.757548372495327,{"$f":"VLOOKUP(A844,Begin:Einde,7,FALSE)","v":0},1,{"$f":"VLOOKUP(Jaar&L844,Trendfactoren!$A$2:$F$65,(HLOOKUP(F844,Trendfactoren!$A$1:$F$2,2,FALSE)),FALSE)","v":1},0,{"$f":"+VLOOKUP(C844,Scheepstypen!$A$1:$F$44,6,FALSE)","v":"L3"}]
["CEMT VIaM11leegbeide","CEMT VIa","M11","leeg","beide","NOx",371.79666739250126,{"$f":"VLOOKUP(A845,Begin:Einde,7,FALSE)","v":0},1,{"$f":"VLOOKUP(Jaar&L845,Trendfactoren!$A$2:$F$65,(HLOOKUP(F845,Trendfactoren!$A$1:$F$2,2,FALSE)),FALSE)","v":1},0,{"$f":"+VLOOKUP(C845,Scheepstypen!$A$1:$F$44,6,FALSE)","v":"L3"}]
["CEMT VIaM12geladenbeide","CEMT VIa","M12","geladen","beide","Fijn stof",17.16187382251448,{"$f":"VLOOKUP(A846,Begin:Einde,7,FALSE)","v":0},1,{"$f":"VLOOKUP(Jaar&L846,Trendfactoren!$A$2:$F$65,(HLOOKUP(F846,Trendfactoren!$A$1:$F$2,2,FALSE)),FALSE)","v":1},0,{"$f":"+VLOOKUP(C846,Scheepstypen!$A$1:$F$44,6,FALSE)","v":"L3"}]
["CEMT VIaM12geladenbeide","CEMT VIa","M12","geladen","beide","NOx",488.85794564260664,{"$f":"VLOOKUP(A847,Begin:Einde,7,FALSE)","v":0},1,{"$f":"VLOOKUP(Jaar&L847,Trendfactoren!$A$2:$F$65,(HLOOKUP(F847,Trendfactoren!$A$1:$F$2,2,FALSE)),FALSE)","v":1},0,{"$f":"+VLOOKUP(C847,Scheepstypen!$A$1:$F$44,6,FALSE)","v":"L3"}]
["CEMT VIaM12leegbeide","CEMT VIa","M12","leeg","beide","Fijn stof",13.674664510647968,{"$f":"VLOOKUP(A848,Begin:Einde,7,FALSE)","v":0},1,{"$f":"VLOOKUP(Jaar&L848,Trendfactoren!$A$2:$F$65,(HLOOKUP(F848,Trendfactoren!$A$1:$F$2,2,FALSE)),FALSE)","v":1},0,{"$f":"+VLOOKUP(C848,Scheepstypen!$A$1:$F$44,6,FALSE)","v":"L3"}]
["CEMT VIaM12leegbeide","CEMT VIa","M12","leeg","beide","NOx",342.64638916312066,{"$f":"VLOOKUP(A849,Begin:Einde,7,FALSE)","v":0},1,{"$f":"VLOOKUP(Jaar&L849,Trendfactoren!$A$2:$F$65,(HLOOKUP(F849,Trendfactoren!$A$1:$F$2,2,FALSE)),FALSE)","v":1},0,{"$f":"+VLOOKUP(C849,Scheepstypen!$A$1:$F$44,6,FALSE)","v":"L3"}]
["CEMT VIaM2geladenbeide","CEMT VIa","M2","geladen","beide","Fijn stof",6.3385684774502691,{"$f":"VLOOKUP(A850,Begin:Einde,7,FALSE)","v":0},1,{"$f":"VLOOKUP(Jaar&L850,Trendfactoren!$A$2:$F$65,(HLOOKUP(F850,Trendfactoren!$A$1:$F$2,2,FALSE)),FALSE)","v":1},0,{"$f":"+VLOOKUP(C850,Scheepstypen!$A$1:$F$44,6,FALSE)","v":"L1"}]
["CEMT VIaM2geladenbeide","CEMT VIa","M2","geladen","beide","NOx",181.94950660775842,{"$f":"VLOOKUP(A851,Begin:Einde,7,FALSE)","v":0},1,{"$f":"VLOOKUP(Jaar&L851,Trendfactoren!$A$2:$F$65,(HLOOKUP(F851,Trendfactoren!$A$1:$F$2,2,FALSE)),FALSE)","v":1},0,{"$f":"+VLOOKUP(C851,Scheepstypen!$A$1:$F$44,6,FALSE)","v":"L1"}]
["CEMT VIaM2leegbeide","CEMT VIa","M2","leeg","beide","Fijn stof",3.6400307469349333,{"$f":"VLOOKUP(A852,Begin:Einde,7,FALSE)","v":0},1,{"$f":"VLOOKUP(Jaar&L852,Trendfactoren!$A$2:$F$65,(HLOOKUP(F852,Trendfactoren!$A$1:$F$2,2,FALSE)),FALSE)","v":1},0,{"$f":"+VLOOKUP(C852,Scheepstypen!$A$1:$F$44,6,FALSE)","v":"L1"}]
["CEMT VIaM2leegbeide","CEMT VIa","M2","leeg","beide","NOx",101.67108912631078,{"$f":"VLOOKUP(A853,Begin:Einde,7,FALSE)","v":0},1,{"$f":"VLOOKUP(Jaar&L853,Trendfactoren!$A$2:$F$65,(HLOOKUP(F853,Trendfactoren!$A$1:$F$2,2,FALSE)),FALSE)","v":1},0,{"$f":"+VLOOKUP(C853,Scheepstypen!$A$1:$F$44,6,FALSE)","v":"L1"}]
["CEMT VIaM3geladenbeide","CEMT VIa","M3","geladen","beide","Fijn stof",7.49667300589139,{"$f":"VLOOKUP(A854,Begin:Einde,7,FALSE)","v":0},1,{"$f":"VLOOKUP(Jaar&L854,Trendfactoren!$A$2:$F$65,(HLOOKUP(F854,Trendfactoren!$A$1:$F$2,2,FALSE)),FALSE)","v":1},0,{"$f":"+VLOOKUP(C854,Scheepstypen!$A$1:$F$44,6,FALSE)","v":"L1"}]
["CEMT VIaM3geladenbeide","CEMT VIa","M3","geladen","beide","NOx",215.88356486544964,{"$f":"VLOOKUP(A855,Begin:Einde,7,FALSE)","v":0},1,{"$f":"VLOOKUP(Jaar&L855,Trendfactoren!$A$2:$F$65,(HLOOKUP(F855,Trendfactoren!$A$1:$F$2,2,FALSE)),FALSE)","v":1},0,{"$f":"+VLOOKUP(C855,Scheepstypen!$A$1:$F$44,6,FALSE)","v":"L1"}]
["CEMT VIaM3leegbeide","CEMT VIa","M3","leeg","beide","Fijn stof",5.0335586568095607,{"$f":"VLOOKUP(A856,Begin:Einde,7,FALSE)","v":0},1,{"$f":"VLOOKUP(Jaar&L856,Trendfactoren!$A$2:$F$65,(HLOOKUP(F856,Trendfactoren!$A$1:$F$2,2,FALSE)),FALSE)","v":1},0,{"$f":"+VLOOKUP(C856,Scheepstypen!$A$1:$F$44,6,FALSE)","v":"L1"}]
["CEMT VIaM3leegbeide","CEMT VIa","M3","leeg","beide","NOx",140.05917440628917,{"$f":"VLOOKUP(A857,Begin:Einde,7,FALSE)","v":0},1,{"$f":"VLOOKUP(Jaar&L857,Trendfactoren!$A$2:$F$65,(HLOOKUP(F857,Trendfactoren!$A$1:$F$2,2,FALSE)),FALSE)","v":1},0,{"$f":"+VLOOKUP(C857,Scheepstypen!$A$1:$F$44,6,FALSE)","v":"L1"}]
["CEMT VIaM4geladenbeide","CEMT VIa","M4","geladen","beide","Fijn stof",8.4118771678776287,{"$f":"VLOOKUP(A858,Begin:Einde,7,FALSE)","v":0},1,{"$f":"VLOOKUP(Jaar&L858,Trendfactoren!$A$2:$F$65,(HLOOKUP(F858,Trendfactoren!$A$1:$F$2,2,FALSE)),FALSE)","v":1},0,{"$f":"+VLOOKUP(C858,Scheepstypen!$A$1:$F$44,6,FALSE)","v":"L1"}]
["CEMT VIaM4geladenbeide","CEMT VIa","M4","geladen","beide","NOx",240.30660638257723,{"$f":"VLOOKUP(A859,Begin:Einde,7,FALSE)","v":0},1,{"$f":"VLOOKUP(Jaar&L859,Trendfactoren!$A$2:$F$65,(HLOOKUP(F859,Trendfactoren!$A$1:$F$2,2,FALSE)),FALSE)","v":1},0,{"$f":"+VLOOKUP(C859,Scheepstypen!$A$1:$F$44,6,FALSE)","v":"L1"}]
["CEMT VIaM4leegbeide","CEMT VIa","M4","leeg","beide","Fijn stof",5.8098860167776856,{"$f":"VLOOKUP(A860,Begin:Einde,7,FALSE)","v":0},1,{"$f":"VLOOKUP(Jaar&L860,Trendfactoren!$A$2:$F$65,(HLOOKUP(F860,Trendfactoren!$A$1:$F$2,2,FALSE)),FALSE)","v":1},0,{"$f":"+VLOOKUP(C860,Scheepstypen!$A$1:$F$44,6,FALSE)","v":"L1"}]
["CEMT VIaM4leegbeide","CEMT VIa","M4","leeg","beide","NOx",162.15876079480401,{"$f":"VLOOKUP(A861,Begin:Einde,7,FALSE)","v":0},1,{"$f":"VLOOKUP(Jaar&L861,Trendfactoren!$A$2:$F$65,(HLOOKUP(F861,Trendfactoren!$A$1:$F$2,2,FALSE)),FALSE)","v":1},0,{"$f":"+VLOOKUP(C861,Scheepstypen!$A$1:$F$44,6,FALSE)","v":"L1"}]
["CEMT VIaM5geladenbeide","CEMT VIa","M5","geladen","beide","Fijn stof",8.5021584565003057,{"$f":"VLOOKUP(A862,Begin:Einde,7,FALSE)","v":0},1,{"$f":"VLOOKUP(Jaar&L862,Trendfactoren!$A$2:$F$65,(HLOOKUP(F862,Trendfactoren!$A$1:$F$2,2,FALSE)),FALSE)","v":1},0,{"$f":"+VLOOKUP(C862,Scheepstypen!$A$1:$F$44,6,FALSE)","v":"L2"}]
["CEMT VIaM5geladenbeide","CEMT VIa","M5","geladen","beide","NOx",245.73621793372649,{"$f":"VLOOKUP(A863,Begin:Einde,7,FALSE)","v":0},1,{"$f":"VLOOKUP(Jaar&L863,Trendfactoren!$A$2:$F$65,(HLOOKUP(F863,Trendfactoren!$A$1:$F$2,2,FALSE)),FALSE)","v":1},0,{"$f":"+VLOOKUP(C863,Scheepstypen!$A$1:$F$44,6,FALSE)","v":"L2"}]
["CEMT VIaM5leegbeide","CEMT VIa","M5","leeg","beide","Fijn stof",6.9775033442696444,{"$f":"VLOOKUP(A864,Begin:Einde,7,FALSE)","v":0},1,{"$f":"VLOOKUP(Jaar&L864,Trendfactoren!$A$2:$F$65,(HLOOKUP(F864,Trendfactoren!$A$1:$F$2,2,FALSE)),FALSE)","v":1},0,{"$f":"+VLOOKUP(C864,Scheepstypen!$A$1:$F$44,6,FALSE)","v":"L2"}]
["CEMT VIaM5leegbeide","CEMT VIa","M5","leeg","beide","NOx",196.07674996665767,{"$f":"VLOOKUP(A865,Begin:Einde,7,FALSE)","v":0},1,{"$f":"VLOOKUP(Jaar&L865,Trendfactoren!$A$2:$F$65,(HLOOKUP(F865,Trendfactoren!$A$1:$F$2,2,FALSE)),FALSE)","v":1},0,{"$f":"+VLOOKUP(C865,Scheepstypen!$A$1:$F$44,6,FALSE)","v":"L2"}]
["CEMT VIaM6geladenbeide","CEMT VIa","M6","geladen","beide","Fijn stof",11.35540200481125,{"$f":"VLOOKUP(A866,Begin:Einde,7,FALSE)","v":0},1,{"$f":"VLOOKUP(Jaar&L866,Trendfactoren!$A$2:$F$65,(HLOOKUP(F866,Trendfactoren!$A$1:$F$2,2,FALSE)),FALSE)","v":1},0,{"$f":"+VLOOKUP(C866,Scheepstypen!$A$1:$F$44,6,FALSE)","v":"L2"}]
["CEMT VIaM6geladenbeide","CEMT VIa","M6","geladen","beide","NOx",339.10369012853431,{"$f":"VLOOKUP(A867,Begin:Einde,7,FALSE)","v":0},1,{"$f":"VLOOKUP(Jaar&L867,Trendfactoren!$A$2:$F$65,(HLOOKUP(F867,Trendfactoren!$A$1:$F$2,2,FALSE)),FALSE)","v":1},0,{"$f":"+VLOOKUP(C867,Scheepstypen!$A$1:$F$44,6,FALSE)","v":"L2"}]
["CEMT VIaM6leegbeide","CEMT VIa","M6","leeg","beide","Fijn stof",7.585670766107814,{"$f":"VLOOKUP(A868,Begin:Einde,7,FALSE)","v":0},1,{"$f":"VLOOKUP(Jaar&L868,Trendfactoren!$A$2:$F$65,(HLOOKUP(F868,Trendfactoren!$A$1:$F$2,2,FALSE)),FALSE)","v":1},0,{"$f":"+VLOOKUP(C868,Scheepstypen!$A$1:$F$44,6,FALSE)","v":"L2"}]
["CEMT VIaM6leegbeide","CEMT VIa","M6","leeg","beide","NOx",218.65867579472703,{"$f":"VLOOKUP(A869,Begin:Einde,7,FALSE)","v":0},1,{"$f":"VLOOKUP(Jaar&L869,Trendfactoren!$A$2:$F$65,(HLOOKUP(F869,Trendfactoren!$A$1:$F$2,2,FALSE)),FALSE)","v":1},0,{"$f":"+VLOOKUP(C869,Scheepstypen!$A$1:$F$44,6,FALSE)","v":"L2"}]
["CEMT VIaM7geladenbeide","CEMT VIa","M7","geladen","beide","Fijn stof",10.272087833192842,{"$f":"VLOOKUP(A870,Begin:Einde,7,FALSE)","v":0},1,{"$f":"VLOOKUP(Jaar&L870,Trendfactoren!$A$2:$F$65,(HLOOKUP(F870,Trendfactoren!$A$1:$F$2,2,FALSE)),FALSE)","v":1},0,{"$f":"+VLOOKUP(C870,Scheepstypen!$A$1:$F$44,6,FALSE)","v":"L2"}]
["CEMT VIaM7geladenbeide","CEMT VIa","M7","geladen","beide","NOx",302.05618960420531,{"$f":"VLOOKUP(A871,Begin:Einde,7,FALSE)","v":0},1,{"$f":"VLOOKUP(Jaar&L871,Trendfactoren!$A$2:$F$65,(HLOOKUP(F871,Trendfactoren!$A$1:$F$2,2,FALSE)),FALSE)","v":1},0,{"$f":"+VLOOKUP(C871,Scheepstypen!$A$1:$F$44,6,FALSE)","v":"L2"}]
["CEMT VIaM7leegbeide","CEMT VIa","M7","leeg","beide","Fijn stof",8.2887328861157563,{"$f":"VLOOKUP(A872,Begin:Einde,7,FALSE)","v":0},1,{"$f":"VLOOKUP(Jaar&L872,Trendfactoren!$A$2:$F$65,(HLOOKUP(F872,Trendfactoren!$A$1:$F$2,2,FALSE)),FALSE)","v":1},0,{"$f":"+VLOOKUP(C872,Scheepstypen!$A$1:$F$44,6,FALSE)","v":"L2"}]
["CEMT VIaM7leegbeide","CEMT VIa","M7","leeg","beide","NOx",241.62338635647114,{"$f":"VLOOKUP(A873,Begin:Einde,7,FALSE)","v":0},1,{"$f":"VLOOKUP(Jaar&L873,Trendfactoren!$A$2:$F$65,(HLOOKUP(F873,Trendfactoren!$A$1:$F$2,2,FALSE)),FALSE)","v":1},0,{"$f":"+VLOOKUP(C873,Scheepstypen!$A$1:$F$44,6,FALSE)","v":"L2"}]
["CEMT VIaM8geladenbeide","CEMT VIa","M8","geladen","beide","Fijn stof",17.212972579340466,{"$f":"VLOOKUP(A874,Begin:Einde,7,FALSE)","v":0},1,{"$f":"VLOOKUP(Jaar&L874,Trendfactoren!$A$2:$F$65,(HLOOKUP(F874,Trendfactoren!$A$1:$F$2,2,FALSE)),FALSE)","v":1},0,{"$f":"+VLOOKUP(C874,Scheepstypen!$A$1:$F$44,6,FALSE)","v":"L3"}]
["CEMT VIaM8geladenbeide","CEMT VIa","M8","geladen","beide","NOx",507.46201926350022,{"$f":"VLOOKUP(A875,Begin:Einde,7,FALSE)","v":0},1,{"$f":"VLOOKUP(Jaar&L875,Trendfactoren!$A$2:$F$65,(HLOOKUP(F875,Trendfactoren!$A$1:$F$2,2,FALSE)),FALSE)","v":1},0,{"$f":"+VLOOKUP(C875,Scheepstypen!$A$1:$F$44,6,FALSE)","v":"L3"}]
["CEMT VIaM8leegbeide","CEMT VIa","M8","leeg","beide","Fijn stof",9.8846934586509168,{"$f":"VLOOKUP(A876,Begin:Einde,7,FALSE)","v":0},1,{"$f":"VLOOKUP(Jaar&L876,Trendfactoren!$A$2:$F$65,(HLOOKUP(F876,Trendfactoren!$A$1:$F$2,2,FALSE)),FALSE)","v":1},0,{"$f":"+VLOOKUP(C876,Scheepstypen!$A$1:$F$44,6,FALSE)","v":"L3"}]
["CEMT VIaM8leegbeide","CEMT VIa","M8","leeg","beide","NOx",276.44494866732703,{"$f":"VLOOKUP(A877,Begin:Einde,7,FALSE)","v":0},1,{"$f":"VLOOKUP(Jaar&L877,Trendfactoren!$A$2:$F$65,(HLOOKUP(F877,Trendfactoren!$A$1:$F$2,2,FALSE)),FALSE)","v":1},0,{"$f":"+VLOOKUP(C877,Scheepstypen!$A$1:$F$44,6,FALSE)","v":"L3"}]
["CEMT VIaM9geladenbeide","CEMT VIa","M9","geladen","beide","Fijn stof",16.167254703880051,{"$f":"VLOOKUP(A878,Begin:Einde,7,FALSE)","v":0},1,{"$f":"VLOOKUP(Jaar&L878,Trendfactoren!$A$2:$F$65,(HLOOKUP(F878,Trendfactoren!$A$1:$F$2,2,FALSE)),FALSE)","v":1},0,{"$f":"+VLOOKUP(C878,Scheepstypen!$A$1:$F$44,6,FALSE)","v":"L3"}]
["CEMT VIaM9geladenbeide","CEMT VIa","M9","geladen","beide","NOx",439.38784048861845,{"$f":"VLOOKUP(A879,Begin:Einde,7,FALSE)","v":0},1,{"$f":"VLOOKUP(Jaar&L879,Trendfactoren!$A$2:$F$65,(HLOOKUP(F879,Trendfactoren!$A$1:$F$2,2,FALSE)),FALSE)","v":1},0,{"$f":"+VLOOKUP(C879,Scheepstypen!$A$1:$F$44,6,FALSE)","v":"L3"}]
["CEMT VIaM9leegbeide","CEMT VIa","M9","leeg","beide","Fijn stof",12.506902067651554,{"$f":"VLOOKUP(A880,Begin:Einde,7,FALSE)","v":0},1,{"$f":"VLOOKUP(Jaar&L880,Trendfactoren!$A$2:$F$65,(HLOOKUP(F880,Trendfactoren!$A$1:$F$2,2,FALSE)),FALSE)","v":1},0,{"$f":"+VLOOKUP(C880,Scheepstypen!$A$1:$F$44,6,FALSE)","v":"L3"}]
["CEMT VIaM9leegbeide","CEMT VIa","M9","leeg","beide","NOx",329.05671693168858,{"$f":"VLOOKUP(A881,Begin:Einde,7,FALSE)","v":0},1,{"$f":"VLOOKUP(Jaar&L881,Trendfactoren!$A$2:$F$65,(HLOOKUP(F881,Trendfactoren!$A$1:$F$2,2,FALSE)),FALSE)","v":1},0,{"$f":"+VLOOKUP(C881,Scheepstypen!$A$1:$F$44,6,FALSE)","v":"L3"}]
["CEMT VIbBIgeladenbeide","CEMT VIb","BI","geladen","beide","Fijn stof",13.714170373823096,{"$f":"VLOOKUP(A882,Begin:Einde,7,FALSE)","v":0},1,{"$f":"VLOOKUP(Jaar&L882,Trendfactoren!$A$2:$F$65,(HLOOKUP(F882,Trendfactoren!$A$1:$F$2,2,FALSE)),FALSE)","v":1},0,{"$f":"+VLOOKUP(C882,Scheepstypen!$A$1:$F$44,6,FALSE)","v":"L2"}]
["CEMT VIbBIgeladenbeide","CEMT VIb","BI","geladen","beide","NOx",417.47333295751253,{"$f":"VLOOKUP(A883,Begin:Einde,7,FALSE)","v":0},1,{"$f":"VLOOKUP(Jaar&L883,Trendfactoren!$A$2:$F$65,(HLOOKUP(F883,Trendfactoren!$A$1:$F$2,2,FALSE)),FALSE)","v":1},0,{"$f":"+VLOOKUP(C883,Scheepstypen!$A$1:$F$44,6,FALSE)","v":"L2"}]
["CEMT VIbBIleegbeide","CEMT VIb","BI","leeg","beide","Fijn stof",6.4356576527881106,{"$f":"VLOOKUP(A884,Begin:Einde,7,FALSE)","v":0},1,{"$f":"VLOOKUP(Jaar&L884,Trendfactoren!$A$2:$F$65,(HLOOKUP(F884,Trendfactoren!$A$1:$F$2,2,FALSE)),FALSE)","v":1},0,{"$f":"+VLOOKUP(C884,Scheepstypen!$A$1:$F$44,6,FALSE)","v":"L2"}]
["CEMT VIbBIleegbeide","CEMT VIb","BI","leeg","beide","NOx",186.00381719289388,{"$f":"VLOOKUP(A885,Begin:Einde,7,FALSE)","v":0},1,{"$f":"VLOOKUP(Jaar&L885,Trendfactoren!$A$2:$F$65,(HLOOKUP(F885,Trendfactoren!$A$1:$F$2,2,FALSE)),FALSE)","v":1},0,{"$f":"+VLOOKUP(C885,Scheepstypen!$A$1:$F$44,6,FALSE)","v":"L2"}]
["CEMT VIbBII-1geladenbeide","CEMT VIb","BII-1","geladen","beide","Fijn stof",22.4767228576859,{"$f":"VLOOKUP(A886,Begin:Einde,7,FALSE)","v":0},1,{"$f":"VLOOKUP(Jaar&L886,Trendfactoren!$A$2:$F$65,(HLOOKUP(F886,Trendfactoren!$A$1:$F$2,2,FALSE)),FALSE)","v":1},0,{"$f":"+VLOOKUP(C886,Scheepstypen!$A$1:$F$44,6,FALSE)","v":"L2"}]
["CEMT VIbBII-1geladenbeide","CEMT VIb","BII-1","geladen","beide","NOx",683.49153749536868,{"$f":"VLOOKUP(A887,Begin:Einde,7,FALSE)","v":0},1,{"$f":"VLOOKUP(Jaar&L887,Trendfactoren!$A$2:$F$65,(HLOOKUP(F887,Trendfactoren!$A$1:$F$2,2,FALSE)),FALSE)","v":1},0,{"$f":"+VLOOKUP(C887,Scheepstypen!$A$1:$F$44,6,FALSE)","v":"L2"}]
["CEMT VIbBII-1leegbeide","CEMT VIb","BII-1","leeg","beide","Fijn stof",9.397942309267254,{"$f":"VLOOKUP(A888,Begin:Einde,7,FALSE)","v":0},1,{"$f":"VLOOKUP(Jaar&L888,Trendfactoren!$A$2:$F$65,(HLOOKUP(F888,Trendfactoren!$A$1:$F$2,2,FALSE)),FALSE)","v":1},0,{"$f":"+VLOOKUP(C888,Scheepstypen!$A$1:$F$44,6,FALSE)","v":"L2"}]
["CEMT VIbBII-1leegbeide","CEMT VIb","BII-1","leeg","beide","NOx",269.76871579143352,{"$f":"VLOOKUP(A889,Begin:Einde,7,FALSE)","v":0},1,{"$f":"VLOOKUP(Jaar&L889,Trendfactoren!$A$2:$F$65,(HLOOKUP(F889,Trendfactoren!$A$1:$F$2,2,FALSE)),FALSE)","v":1},0,{"$f":"+VLOOKUP(C889,Scheepstypen!$A$1:$F$44,6,FALSE)","v":"L2"}]
["CEMT VIbBII-2Bgeladenbeide","CEMT VIb","BII-2B","geladen","beide","Fijn stof",42.069719332610291,{"$f":"VLOOKUP(A890,Begin:Einde,7,FALSE)","v":0},1,{"$f":"VLOOKUP(Jaar&L890,Trendfactoren!$A$2:$F$65,(HLOOKUP(F890,Trendfactoren!$A$1:$F$2,2,FALSE)),FALSE)","v":1},0,{"$f":"+VLOOKUP(C890,Scheepstypen!$A$1:$F$44,6,FALSE)","v":"L3"}]
["CEMT VIbBII-2Bgeladenbeide","CEMT VIb","BII-2B","geladen","beide","NOx",1274.2967044301654,{"$f":"VLOOKUP(A891,Begin:Einde,7,FALSE)","v":0},1,{"$f":"VLOOKUP(Jaar&L891,Trendfactoren!$A$2:$F$65,(HLOOKUP(F891,Trendfactoren!$A$1:$F$2,2,FALSE)),FALSE)","v":1},0,{"$f":"+VLOOKUP(C891,Scheepstypen!$A$1:$F$44,6,FALSE)","v":"L3"}]
["CEMT VIbBII-2Bleegbeide","CEMT VIb","BII-2B","leeg","beide","Fijn stof",21.099399653731137,{"$f":"VLOOKUP(A892,Begin:Einde,7,FALSE)","v":0},{"$f":"+Afstand","v":1},{"$f":"VLOOKUP(Jaar&L892,Trendfactoren!$A$2:$F$65,(HLOOKUP(F892,Trendfactoren!$A$1:$F$2,2,FALSE)),FALSE)","v":1},{"$f":"+G892*H892*I892*J892","v":0},{"$f":"+VLOOKUP(C892,Scheepstypen!$A$1:$F$44,6,FALSE)","v":"L3"}]
["CEMT VIbBII-2Bleegbeide","CEMT VIb","BII-2B","leeg","beide","NOx",608.70424245263587,{"$f":"VLOOKUP(A893,Begin:Einde,7,FALSE)","v":0},1,{"$f":"VLOOKUP(Jaar&L893,Trendfactoren!$A$2:$F$65,(HLOOKUP(F893,Trendfactoren!$A$1:$F$2,2,FALSE)),FALSE)","v":1},0,{"$f":"+VLOOKUP(C893,Scheepstypen!$A$1:$F$44,6,FALSE)","v":"L3"}]
["CEMT VIbBII-2Lgeladenbeide","CEMT VIb","BII-2L","geladen","beide","Fijn stof",22.820775380518533,{"$f":"VLOOKUP(A894,Begin:Einde,7,FALSE)","v":0},1,{"$f":"VLOOKUP(Jaar&L894,Trendfactoren!$A$2:$F$65,(HLOOKUP(F894,Trendfactoren!$A$1:$F$2,2,FALSE)),FALSE)","v":1},0,{"$f":"+VLOOKUP(C894,Scheepstypen!$A$1:$F$44,6,FALSE)","v":"L3"}]
["CEMT VIbBII-2Lgeladenbeide","CEMT VIb","BII-2L","geladen","beide","NOx",686.88091248319051,{"$f":"VLOOKUP(A895,Begin:Einde,7,FALSE)","v":0},1,{"$f":"VLOOKUP(Jaar&L895,Trendfactoren!$A$2:$F$65,(HLOOKUP(F895,Trendfactoren!$A$1:$F$2,2,FALSE)),FALSE)","v":1},0,{"$f":"+VLOOKUP(C895,Scheepstypen!$A$1:$F$44,6,FALSE)","v":"L3"}]
["CEMT VIbBII-2Lleegbeide","CEMT VIb","BII-2L","leeg","beide","Fijn stof",14.237825886144524,{"$f":"VLOOKUP(A896,Begin:Einde,7,FALSE)","v":0},1,{"$f":"VLOOKUP(Jaar&L896,Trendfactoren!$A$2:$F$65,(HLOOKUP(F896,Trendfactoren!$A$1:$F$2,2,FALSE)),FALSE)","v":1},0,{"$f":"+VLOOKUP(C896,Scheepstypen!$A$1:$F$44,6,FALSE)","v":"L3"}]
[{"$f":"+B897&C897&D897&E897","v":"CEMT VIbBII-2Lleegbeide"},"CEMT VIb","BII-2L","leeg","beide","NOx",412.82067887757228,{"$f":"VLOOKUP(A897,Begin:Einde,7,FALSE)","v":0},1,{"$f":"VLOOKUP(Jaar&L897,Trendfactoren!$A$2:$F$65,(HLOOKUP(F897,Trendfactoren!$A$1:$F$2,2,FALSE)),FALSE)","v":1},0,{"$f":"+VLOOKUP(C897,Scheepstypen!$A$1:$F$44,6,FALSE)","v":"L3"}]
["CEMT VIbBII-4geladenbeide","CEMT VIb","BII-4","geladen","beide","Fijn stof",40.390570187765924,{"$f":"VLOOKUP(A898,Begin:Einde,7,FALSE)","v":0},1,{"$f":"VLOOKUP(Jaar&L898,Trendfactoren!$A$2:$F$65,(HLOOKUP(F898,Trendfactoren!$A$1:$F$2,2,FALSE)),FALSE)","v":1},0,{"$f":"+VLOOKUP(C898,Scheepstypen!$A$1:$F$44,6,FALSE)","v":"L3"}]
["CEMT VIbBII-4geladenbeide","CEMT VIb","BII-4","geladen","beide","NOx",1154.7218689272622,{"$f":"VLOOKUP(A899,Begin:Einde,7,FALSE)","v":0},1,{"$f":"VLOOKUP(Jaar&L899,Trendfactoren!$A$2:$F$65,(HLOOKUP(F899,Trendfactoren!$A$1:$F$2,2,FALSE)),FALSE)","v":1},0,{"$f":"+VLOOKUP(C899,Scheepstypen!$A$1:$F$44,6,FALSE)","v":"L3"}]
["CEMT VIbBII-4leegbeide","CEMT VIb","BII-4","leeg","beide","Fijn stof",27.908637495307346,{"$f":"VLOOKUP(A900,Begin:Einde,7,FALSE)","v":0},1,{"$f":"VLOOKUP(Jaar&L900,Trendfactoren!$A$2:$F$65,(HLOOKUP(F900,Trendfactoren!$A$1:$F$2,2,FALSE)),FALSE)","v":1},0,{"$f":"+VLOOKUP(C900,Scheepstypen!$A$1:$F$44,6,FALSE)","v":"L3"}]
["CEMT VIbBII-4leegbeide","CEMT VIb","BII-4","leeg","beide","NOx",752.53961032352606,{"$f":"VLOOKUP(A901,Begin:Einde,7,FALSE)","v":0},1,{"$f":"VLOOKUP(Jaar&L901,Trendfactoren!$A$2:$F$65,(HLOOKUP(F901,Trendfactoren!$A$1:$F$2,2,FALSE)),FALSE)","v":1},0,{"$f":"+VLOOKUP(C901,Scheepstypen!$A$1:$F$44,6,FALSE)","v":"L3"}]
["CEMT VIbBII-6Bgeladenbeide","CEMT VIb","BII-6B","geladen","beide","Fijn stof",76.268994161038023,{"$f":"VLOOKUP(A902,Begin:Einde,7,FALSE)","v":0},1,{"$f":"VLOOKUP(Jaar&L902,Trendfactoren!$A$2:$F$65,(HLOOKUP(F902,Trendfactoren!$A$1:$F$2,2,FALSE)),FALSE)","v":1},0,{"$f":"+VLOOKUP(C902,Scheepstypen!$A$1:$F$44,6,FALSE)","v":"L3"}]
["CEMT VIbBII-6Bgeladenbeide","CEMT VIb","BII-6B","geladen","beide","NOx",2348.8155570693825,{"$f":"VLOOKUP(A903,Begin:Einde,7,FALSE)","v":0},1,{"$f":"VLOOKUP(Jaar&L903,Trendfactoren!$A$2:$F$65,(HLOOKUP(F903,Trendfactoren!$A$1:$F$2,2,FALSE)),FALSE)","v":1},0,{"$f":"+VLOOKUP(C903,Scheepstypen!$A$1:$F$44,6,FALSE)","v":"L3"}]
["CEMT VIbBII-6Bleegbeide","CEMT VIb","BII-6B","leeg","beide","Fijn stof",56.465868681242732,{"$f":"VLOOKUP(A904,Begin:Einde,7,FALSE)","v":0},1,{"$f":"VLOOKUP(Jaar&L904,Trendfactoren!$A$2:$F$65,(HLOOKUP(F904,Trendfactoren!$A$1:$F$2,2,FALSE)),FALSE)","v":1},0,{"$f":"+VLOOKUP(C904,Scheepstypen!$A$1:$F$44,6,FALSE)","v":"L3"}]
["CEMT VIbBII-6Bleegbeide","CEMT VIb","BII-6B","leeg","beide","NOx",1700.9696788718047,{"$f":"VLOOKUP(A905,Begin:Einde,7,FALSE)","v":0},1,{"$f":"VLOOKUP(Jaar&L905,Trendfactoren!$A$2:$F$65,(HLOOKUP(F905,Trendfactoren!$A$1:$F$2,2,FALSE)),FALSE)","v":1},0,{"$f":"+VLOOKUP(C905,Scheepstypen!$A$1:$F$44,6,FALSE)","v":"L3"}]
["CEMT VIbBII-6Lgeladenbeide","CEMT VIb","BII-6L","geladen","beide","Fijn stof",47.396246206644058,{"$f":"VLOOKUP(A906,Begin:Einde,7,FALSE)","v":0},1,{"$f":"VLOOKUP(Jaar&L906,Trendfactoren!$A$2:$F$65,(HLOOKUP(F906,Trendfactoren!$A$1:$F$2,2,FALSE)),FALSE)","v":1},0,{"$f":"+VLOOKUP(C906,Scheepstypen!$A$1:$F$44,6,FALSE)","v":"L3"}]
["CEMT VIbBII-6Lgeladenbeide","CEMT VIb","BII-6L","geladen","beide","NOx",1413.3833654712007,{"$f":"VLOOKUP(A907,Begin:Einde,7,FALSE)","v":0},1,{"$f":"VLOOKUP(Jaar&L907,Trendfactoren!$A$2:$F$65,(HLOOKUP(F907,Trendfactoren!$A$1:$F$2,2,FALSE)),FALSE)","v":1},0,{"$f":"+VLOOKUP(C907,Scheepstypen!$A$1:$F$44,6,FALSE)","v":"L3"}]
["CEMT VIbBII-6Lleegbeide","CEMT VIb","BII-6L","leeg","beide","Fijn stof",40.888108424188758,{"$f":"VLOOKUP(A908,Begin:Einde,7,FALSE)","v":0},1,{"$f":"VLOOKUP(Jaar&L908,Trendfactoren!$A$2:$F$65,(HLOOKUP(F908,Trendfactoren!$A$1:$F$2,2,FALSE)),FALSE)","v":1},0,{"$f":"+VLOOKUP(C908,Scheepstypen!$A$1:$F$44,6,FALSE)","v":"L3"}]
["CEMT VIbBII-6Lleegbeide","CEMT VIb","BII-6L","leeg","beide","NOx",1224.6546280817502,{"$f":"VLOOKUP(A909,Begin:Einde,7,FALSE)","v":0},1,{"$f":"VLOOKUP(Jaar&L909,Trendfactoren!$A$2:$F$65,(HLOOKUP(F909,Trendfactoren!$A$1:$F$2,2,FALSE)),FALSE)","v":1},0,{"$f":"+VLOOKUP(C909,Scheepstypen!$A$1:$F$44,6,FALSE)","v":"L3"}]
["CEMT VIbBO1geladenbeide","CEMT VIb","BO1","geladen","beide","Fijn stof",4.0549909080936324,{"$f":"VLOOKUP(A910,Begin:Einde,7,FALSE)","v":0},1,{"$f":"VLOOKUP(Jaar&L910,Trendfactoren!$A$2:$F$65,(HLOOKUP(F910,Trendfactoren!$A$1:$F$2,2,FALSE)),FALSE)","v":1},0,{"$f":"+VLOOKUP(C910,Scheepstypen!$A$1:$F$44,6,FALSE)","v":"L1"}]
["CEMT VIbBO1geladenbeide","CEMT VIb","BO1","geladen","beide","NOx",120.68917331372667,{"$f":"VLOOKUP(A911,Begin:Einde,7,FALSE)","v":0},1,{"$f":"VLOOKUP(Jaar&L911,Trendfactoren!$A$2:$F$65,(HLOOKUP(F911,Trendfactoren!$A$1:$F$2,2,FALSE)),FALSE)","v":1},0,{"$f":"+VLOOKUP(C911,Scheepstypen!$A$1:$F$44,6,FALSE)","v":"L1"}]
["CEMT VIbBO1leegbeide","CEMT VIb","BO1","leeg","beide","Fijn stof",2.5088972202108515,{"$f":"VLOOKUP(A912,Begin:Einde,7,FALSE)","v":0},1,{"$f":"VLOOKUP(Jaar&L912,Trendfactoren!$A$2:$F$65,(HLOOKUP(F912,Trendfactoren!$A$1:$F$2,2,FALSE)),FALSE)","v":1},0,{"$f":"+VLOOKUP(C912,Scheepstypen!$A$1:$F$44,6,FALSE)","v":"L1"}]
["CEMT VIbBO1leegbeide","CEMT VIb","BO1","leeg","beide","NOx",74.78551308134611,{"$f":"VLOOKUP(A913,Begin:Einde,7,FALSE)","v":0},1,{"$f":"VLOOKUP(Jaar&L913,Trendfactoren!$A$2:$F$65,(HLOOKUP(F913,Trendfactoren!$A$1:$F$2,2,FALSE)),FALSE)","v":1},0,{"$f":"+VLOOKUP(C913,Scheepstypen!$A$1:$F$44,6,FALSE)","v":"L1"}]
["CEMT VIbBO2geladenbeide","CEMT VIb","BO2","geladen","beide","Fijn stof",7.0278739470390823,{"$f":"VLOOKUP(A914,Begin:Einde,7,FALSE)","v":0},1,{"$f":"VLOOKUP(Jaar&L914,Trendfactoren!$A$2:$F$65,(HLOOKUP(F914,Trendfactoren!$A$1:$F$2,2,FALSE)),FALSE)","v":1},0,{"$f":"+VLOOKUP(C914,Scheepstypen!$A$1:$F$44,6,FALSE)","v":"L1"}]
["CEMT VIbBO2geladenbeide","CEMT VIb","BO2","geladen","beide","NOx",208.10789323950797,{"$f":"VLOOKUP(A915,Begin:Einde,7,FALSE)","v":0},1,{"$f":"VLOOKUP(Jaar&L915,Trendfactoren!$A$2:$F$65,(HLOOKUP(F915,Trendfactoren!$A$1:$F$2,2,FALSE)),FALSE)","v":1},0,{"$f":"+VLOOKUP(C915,Scheepstypen!$A$1:$F$44,6,FALSE)","v":"L1"}]
["CEMT VIbBO2leegbeide","CEMT VIb","BO2","leeg","beide","Fijn stof",3.6162830955189889,{"$f":"VLOOKUP(A916,Begin:Einde,7,FALSE)","v":0},1,{"$f":"VLOOKUP(Jaar&L916,Trendfactoren!$A$2:$F$65,(HLOOKUP(F916,Trendfactoren!$A$1:$F$2,2,FALSE)),FALSE)","v":1},0,{"$f":"+VLOOKUP(C916,Scheepstypen!$A$1:$F$44,6,FALSE)","v":"L1"}]
["CEMT VIbBO2leegbeide","CEMT VIb","BO2","leeg","beide","NOx",107.66902110229084,{"$f":"VLOOKUP(A917,Begin:Einde,7,FALSE)","v":0},1,{"$f":"VLOOKUP(Jaar&L917,Trendfactoren!$A$2:$F$65,(HLOOKUP(F917,Trendfactoren!$A$1:$F$2,2,FALSE)),FALSE)","v":1},0,{"$f":"+VLOOKUP(C917,Scheepstypen!$A$1:$F$44,6,FALSE)","v":"L1"}]
["CEMT VIbBO3geladenbeide","CEMT VIb","BO3","geladen","beide","Fijn stof",9.1669101129097612,{"$f":"VLOOKUP(A918,Begin:Einde,7,FALSE)","v":0},1,{"$f":"VLOOKUP(Jaar&L918,Trendfactoren!$A$2:$F$65,(HLOOKUP(F918,Trendfactoren!$A$1:$F$2,2,FALSE)),FALSE)","v":1},0,{"$f":"+VLOOKUP(C918,Scheepstypen!$A$1:$F$44,6,FALSE)","v":"L1"}]
["CEMT VIbBO3geladenbeide","CEMT VIb","BO3","geladen","beide","NOx",274.76447155670451,{"$f":"VLOOKUP(A919,Begin:Einde,7,FALSE)","v":0},1,{"$f":"VLOOKUP(Jaar&L919,Trendfactoren!$A$2:$F$65,(HLOOKUP(F919,Trendfactoren!$A$1:$F$2,2,FALSE)),FALSE)","v":1},0,{"$f":"+VLOOKUP(C919,Scheepstypen!$A$1:$F$44,6,FALSE)","v":"L1"}]
["CEMT VIbBO3leegbeide","CEMT VIb","BO3","leeg","beide","Fijn stof",4.4553988205462529,{"$f":"VLOOKUP(A920,Begin:Einde,7,FALSE)","v":0},1,{"$f":"VLOOKUP(Jaar&L920,Trendfactoren!$A$2:$F$65,(HLOOKUP(F920,Trendfactoren!$A$1:$F$2,2,FALSE)),FALSE)","v":1},0,{"$f":"+VLOOKUP(C920,Scheepstypen!$A$1:$F$44,6,FALSE)","v":"L1"}]
["CEMT VIbBO3leegbeide","CEMT VIb","BO3","leeg","beide","NOx",131.84600480345361,{"$f":"VLOOKUP(A921,Begin:Einde,7,FALSE)","v":0},1,{"$f":"VLOOKUP(Jaar&L921,Trendfactoren!$A$2:$F$65,(HLOOKUP(F921,Trendfactoren!$A$1:$F$2,2,FALSE)),FALSE)","v":1},0,{"$f":"+VLOOKUP(C921,Scheepstypen!$A$1:$F$44,6,FALSE)","v":"L1"}]
["CEMT VIbBO4geladenbeide","CEMT VIb","BO4","geladen","beide","Fijn stof",11.77300313283077,{"$f":"VLOOKUP(A922,Begin:Einde,7,FALSE)","v":0},1,{"$f":"VLOOKUP(Jaar&L922,Trendfactoren!$A$2:$F$65,(HLOOKUP(F922,Trendfactoren!$A$1:$F$2,2,FALSE)),FALSE)","v":1},0,{"$f":"+VLOOKUP(C922,Scheepstypen!$A$1:$F$44,6,FALSE)","v":"L1"}]
["CEMT VIbBO4geladenbeide","CEMT VIb","BO4","geladen","beide","NOx",351.12472481176644,{"$f":"VLOOKUP(A923,Begin:Einde,7,FALSE)","v":0},1,{"$f":"VLOOKUP(Jaar&L923,Trendfactoren!$A$2:$F$65,(HLOOKUP(F923,Trendfactoren!$A$1:$F$2,2,FALSE)),FALSE)","v":1},0,{"$f":"+VLOOKUP(C923,Scheepstypen!$A$1:$F$44,6,FALSE)","v":"L1"}]
["CEMT VIbBO4leegbeide","CEMT VIb","BO4","leeg","beide","Fijn stof",5.5595492474294641,{"$f":"VLOOKUP(A924,Begin:Einde,7,FALSE)","v":0},1,{"$f":"VLOOKUP(Jaar&L924,Trendfactoren!$A$2:$F$65,(HLOOKUP(F924,Trendfactoren!$A$1:$F$2,2,FALSE)),FALSE)","v":1},0,{"$f":"+VLOOKUP(C924,Scheepstypen!$A$1:$F$44,6,FALSE)","v":"L1"}]
["CEMT VIbBO4leegbeide","CEMT VIb","BO4","leeg","beide","NOx",159.4145971580638,{"$f":"VLOOKUP(A925,Begin:Einde,7,FALSE)","v":0},1,{"$f":"VLOOKUP(Jaar&L925,Trendfactoren!$A$2:$F$65,(HLOOKUP(F925,Trendfactoren!$A$1:$F$2,2,FALSE)),FALSE)","v":1},0,{"$f":"+VLOOKUP(C925,Scheepstypen!$A$1:$F$44,6,FALSE)","v":"L1"}]
["CEMT VIbC1bgeladenbeide","CEMT VIb","C1b","geladen","beide","Fijn stof",5.6620600953366527,{"$f":"VLOOKUP(A926,Begin:Einde,7,FALSE)","v":0},1,{"$f":"VLOOKUP(Jaar&L926,Trendfactoren!$A$2:$F$65,(HLOOKUP(F926,Trendfactoren!$A$1:$F$2,2,FALSE)),FALSE)","v":1},0,{"$f":"+VLOOKUP(C926,Scheepstypen!$A$1:$F$44,6,FALSE)","v":"L1"}]
["CEMT VIbC1bgeladenbeide","CEMT VIb","C1b","geladen","beide","NOx",166.42121076213778,{"$f":"VLOOKUP(A927,Begin:Einde,7,FALSE)","v":0},1,{"$f":"VLOOKUP(Jaar&L927,Trendfactoren!$A$2:$F$65,(HLOOKUP(F927,Trendfactoren!$A$1:$F$2,2,FALSE)),FALSE)","v":1},0,{"$f":"+VLOOKUP(C927,Scheepstypen!$A$1:$F$44,6,FALSE)","v":"L1"}]
["CEMT VIbC1bleegbeide","CEMT VIb","C1b","leeg","beide","Fijn stof",3.3381297421363518,{"$f":"VLOOKUP(A928,Begin:Einde,7,FALSE)","v":0},1,{"$f":"VLOOKUP(Jaar&L928,Trendfactoren!$A$2:$F$65,(HLOOKUP(F928,Trendfactoren!$A$1:$F$2,2,FALSE)),FALSE)","v":1},0,{"$f":"+VLOOKUP(C928,Scheepstypen!$A$1:$F$44,6,FALSE)","v":"L1"}]
["CEMT VIbC1bleegbeide","CEMT VIb","C1b","leeg","beide","NOx",96.525956881533943,{"$f":"VLOOKUP(A929,Begin:Einde,7,FALSE)","v":0},1,{"$f":"VLOOKUP(Jaar&L929,Trendfactoren!$A$2:$F$65,(HLOOKUP(F929,Trendfactoren!$A$1:$F$2,2,FALSE)),FALSE)","v":1},0,{"$f":"+VLOOKUP(C929,Scheepstypen!$A$1:$F$44,6,FALSE)","v":"L1"}]
["CEMT VIbC1lgeladenbeide","CEMT VIb","C1l","geladen","beide","Fijn stof",4.2646014171505735,{"$f":"VLOOKUP(A930,Begin:Einde,7,FALSE)","v":0},1,{"$f":"VLOOKUP(Jaar&L930,Trendfactoren!$A$2:$F$65,(HLOOKUP(F930,Trendfactoren!$A$1:$F$2,2,FALSE)),FALSE)","v":1},0,{"$f":"+VLOOKUP(C930,Scheepstypen!$A$1:$F$44,6,FALSE)","v":"L1"}]
["CEMT VIbC1lgeladenbeide","CEMT VIb","C1l","geladen","beide","NOx",124.02372268186815,{"$f":"VLOOKUP(A931,Begin:Einde,7,FALSE)","v":0},1,{"$f":"VLOOKUP(Jaar&L931,Trendfactoren!$A$2:$F$65,(HLOOKUP(F931,Trendfactoren!$A$1:$F$2,2,FALSE)),FALSE)","v":1},0,{"$f":"+VLOOKUP(C931,Scheepstypen!$A$1:$F$44,6,FALSE)","v":"L1"}]
["CEMT VIbC1lleegbeide","CEMT VIb","C1l","leeg","beide","Fijn stof",3.2878110126701845,{"$f":"VLOOKUP(A932,Begin:Einde,7,FALSE)","v":0},1,{"$f":"VLOOKUP(Jaar&L932,Trendfactoren!$A$2:$F$65,(HLOOKUP(F932,Trendfactoren!$A$1:$F$2,2,FALSE)),FALSE)","v":1},0,{"$f":"+VLOOKUP(C932,Scheepstypen!$A$1:$F$44,6,FALSE)","v":"L1"}]
["CEMT VIbC1lleegbeide","CEMT VIb","C1l","leeg","beide","NOx",94.680173478640484,{"$f":"VLOOKUP(A933,Begin:Einde,7,FALSE)","v":0},1,{"$f":"VLOOKUP(Jaar&L933,Trendfactoren!$A$2:$F$65,(HLOOKUP(F933,Trendfactoren!$A$1:$F$2,2,FALSE)),FALSE)","v":1},0,{"$f":"+VLOOKUP(C933,Scheepstypen!$A$1:$F$44,6,FALSE)","v":"L1"}]
["CEMT VIbC2bgeladenbeide","CEMT VIb","C2b","geladen","beide","Fijn stof",13.48561733409346,{"$f":"VLOOKUP(A934,Begin:Einde,7,FALSE)","v":0},1,{"$f":"VLOOKUP(Jaar&L934,Trendfactoren!$A$2:$F$65,(HLOOKUP(F934,Trendfactoren!$A$1:$F$2,2,FALSE)),FALSE)","v":1},0,{"$f":"+VLOOKUP(C934,Scheepstypen!$A$1:$F$44,6,FALSE)","v":"L2"}]
["CEMT VIbC2bgeladenbeide","CEMT VIb","C2b","geladen","beide","NOx",363.58374653587509,{"$f":"VLOOKUP(A935,Begin:Einde,7,FALSE)","v":0},1,{"$f":"VLOOKUP(Jaar&L935,Trendfactoren!$A$2:$F$65,(HLOOKUP(F935,Trendfactoren!$A$1:$F$2,2,FALSE)),FALSE)","v":1},0,{"$f":"+VLOOKUP(C935,Scheepstypen!$A$1:$F$44,6,FALSE)","v":"L2"}]
["CEMT VIbC2bleegbeide","CEMT VIb","C2b","leeg","beide","Fijn stof",12.12418201496962,{"$f":"VLOOKUP(A936,Begin:Einde,7,FALSE)","v":0},1,{"$f":"VLOOKUP(Jaar&L936,Trendfactoren!$A$2:$F$65,(HLOOKUP(F936,Trendfactoren!$A$1:$F$2,2,FALSE)),FALSE)","v":1},0,{"$f":"+VLOOKUP(C936,Scheepstypen!$A$1:$F$44,6,FALSE)","v":"L2"}]
["CEMT VIbC2bleegbeide","CEMT VIb","C2b","leeg","beide","NOx",346.87422796882043,{"$f":"VLOOKUP(A937,Begin:Einde,7,FALSE)","v":0},1,{"$f":"VLOOKUP(Jaar&L937,Trendfactoren!$A$2:$F$65,(HLOOKUP(F937,Trendfactoren!$A$1:$F$2,2,FALSE)),FALSE)","v":1},0,{"$f":"+VLOOKUP(C937,Scheepstypen!$A$1:$F$44,6,FALSE)","v":"L2"}]
["CEMT VIbC2lgeladenbeide","CEMT VIb","C2l","geladen","beide","Fijn stof",15.363685159249114,{"$f":"VLOOKUP(A938,Begin:Einde,7,FALSE)","v":0},1,{"$f":"VLOOKUP(Jaar&L938,Trendfactoren!$A$2:$F$65,(HLOOKUP(F938,Trendfactoren!$A$1:$F$2,2,FALSE)),FALSE)","v":1},0,{"$f":"+VLOOKUP(C938,Scheepstypen!$A$1:$F$44,6,FALSE)","v":"L2"}]
["CEMT VIbC2lgeladenbeide","CEMT VIb","C2l","geladen","beide","NOx",451.20527774231414,{"$f":"VLOOKUP(A939,Begin:Einde,7,FALSE)","v":0},1,{"$f":"VLOOKUP(Jaar&L939,Trendfactoren!$A$2:$F$65,(HLOOKUP(F939,Trendfactoren!$A$1:$F$2,2,FALSE)),FALSE)","v":1},0,{"$f":"+VLOOKUP(C939,Scheepstypen!$A$1:$F$44,6,FALSE)","v":"L2"}]
["CEMT VIbC2lleegbeide","CEMT VIb","C2l","leeg","beide","Fijn stof",11.47951902288678,{"$f":"VLOOKUP(A940,Begin:Einde,7,FALSE)","v":0},1,{"$f":"VLOOKUP(Jaar&L940,Trendfactoren!$A$2:$F$65,(HLOOKUP(F940,Trendfactoren!$A$1:$F$2,2,FALSE)),FALSE)","v":1},0,{"$f":"+VLOOKUP(C940,Scheepstypen!$A$1:$F$44,6,FALSE)","v":"L2"}]
["CEMT VIbC2lleegbeide","CEMT VIb","C2l","leeg","beide","NOx",330.35428473660761,{"$f":"VLOOKUP(A941,Begin:Einde,7,FALSE)","v":0},1,{"$f":"VLOOKUP(Jaar&L941,Trendfactoren!$A$2:$F$65,(HLOOKUP(F941,Trendfactoren!$A$1:$F$2,2,FALSE)),FALSE)","v":1},0,{"$f":"+VLOOKUP(C941,Scheepstypen!$A$1:$F$44,6,FALSE)","v":"L2"}]
["CEMT VIbC3bgeladenbeide","CEMT VIb","C3b","geladen","beide","Fijn stof",38.423101864442927,{"$f":"VLOOKUP(A942,Begin:Einde,7,FALSE)","v":0},1,{"$f":"VLOOKUP(Jaar&L942,Trendfactoren!$A$2:$F$65,(HLOOKUP(F942,Trendfactoren!$A$1:$F$2,2,FALSE)),FALSE)","v":1},0,{"$f":"+VLOOKUP(C942,Scheepstypen!$A$1:$F$44,6,FALSE)","v":"L3"}]
["CEMT VIbC3bgeladenbeide","CEMT VIb","C3b","geladen","beide","NOx",1178.9358220225861,{"$f":"VLOOKUP(A943,Begin:Einde,7,FALSE)","v":0},1,{"$f":"VLOOKUP(Jaar&L943,Trendfactoren!$A$2:$F$65,(HLOOKUP(F943,Trendfactoren!$A$1:$F$2,2,FALSE)),FALSE)","v":1},0,{"$f":"+VLOOKUP(C943,Scheepstypen!$A$1:$F$44,6,FALSE)","v":"L3"}]
["CEMT VIbC3bleegbeide","CEMT VIb","C3b","leeg","beide","Fijn stof",16.188325369981676,{"$f":"VLOOKUP(A944,Begin:Einde,7,FALSE)","v":0},1,{"$f":"VLOOKUP(Jaar&L944,Trendfactoren!$A$2:$F$65,(HLOOKUP(F944,Trendfactoren!$A$1:$F$2,2,FALSE)),FALSE)","v":1},0,{"$f":"+VLOOKUP(C944,Scheepstypen!$A$1:$F$44,6,FALSE)","v":"L3"}]
["CEMT VIbC3bleegbeide","CEMT VIb","C3b","leeg","beide","NOx",481.93085815046516,{"$f":"VLOOKUP(A945,Begin:Einde,7,FALSE)","v":0},1,{"$f":"VLOOKUP(Jaar&L945,Trendfactoren!$A$2:$F$65,(HLOOKUP(F945,Trendfactoren!$A$1:$F$2,2,FALSE)),FALSE)","v":1},0,{"$f":"+VLOOKUP(C945,Scheepstypen!$A$1:$F$44,6,FALSE)","v":"L3"}]
["CEMT VIbC3lgeladenbeide","CEMT VIb","C3l","geladen","beide","Fijn stof",22.776490434035146,{"$f":"VLOOKUP(A946,Begin:Einde,7,FALSE)","v":0},1,{"$f":"VLOOKUP(Jaar&L946,Trendfactoren!$A$2:$F$65,(HLOOKUP(F946,Trendfactoren!$A$1:$F$2,2,FALSE)),FALSE)","v":1},0,{"$f":"+VLOOKUP(C946,Scheepstypen!$A$1:$F$44,6,FALSE)","v":"L3"}]
["CEMT VIbC3lgeladenbeide","CEMT VIb","C3l","geladen","beide","NOx",690.6763963800571,{"$f":"VLOOKUP(A947,Begin:Einde,7,FALSE)","v":0},1,{"$f":"VLOOKUP(Jaar&L947,Trendfactoren!$A$2:$F$65,(HLOOKUP(F947,Trendfactoren!$A$1:$F$2,2,FALSE)),FALSE)","v":1},0,{"$f":"+VLOOKUP(C947,Scheepstypen!$A$1:$F$44,6,FALSE)","v":"L3"}]
["CEMT VIbC3lleegbeide","CEMT VIb","C3l","leeg","beide","Fijn stof",13.919438517857699,{"$f":"VLOOKUP(A948,Begin:Einde,7,FALSE)","v":0},1,{"$f":"VLOOKUP(Jaar&L948,Trendfactoren!$A$2:$F$65,(HLOOKUP(F948,Trendfactoren!$A$1:$F$2,2,FALSE)),FALSE)","v":1},0,{"$f":"+VLOOKUP(C948,Scheepstypen!$A$1:$F$44,6,FALSE)","v":"L3"}]
["CEMT VIbC3lleegbeide","CEMT VIb","C3l","leeg","beide","NOx",414.7839881353629,{"$f":"VLOOKUP(A949,Begin:Einde,7,FALSE)","v":0},1,{"$f":"VLOOKUP(Jaar&L949,Trendfactoren!$A$2:$F$65,(HLOOKUP(F949,Trendfactoren!$A$1:$F$2,2,FALSE)),FALSE)","v":1},0,{"$f":"+VLOOKUP(C949,Scheepstypen!$A$1:$F$44,6,FALSE)","v":"L3"}]
["CEMT VIbC4geladenbeide","CEMT VIb","C4","geladen","beide","Fijn stof",42.552268952371328,{"$f":"VLOOKUP(A950,Begin:Einde,7,FALSE)","v":0},1,{"$f":"VLOOKUP(Jaar&L950,Trendfactoren!$A$2:$F$65,(HLOOKUP(F950,Trendfactoren!$A$1:$F$2,2,FALSE)),FALSE)","v":1},0,{"$f":"+VLOOKUP(C950,Scheepstypen!$A$1:$F$44,6,FALSE)","v":"L3"}]
["CEMT VIbC4geladenbeide","CEMT VIb","C4","geladen","beide","NOx",1297.7304644061433,{"$f":"VLOOKUP(A951,Begin:Einde,7,FALSE)","v":0},1,{"$f":"VLOOKUP(Jaar&L951,Trendfactoren!$A$2:$F$65,(HLOOKUP(F951,Trendfactoren!$A$1:$F$2,2,FALSE)),FALSE)","v":1},0,{"$f":"+VLOOKUP(C951,Scheepstypen!$A$1:$F$44,6,FALSE)","v":"L3"}]
["CEMT VIbC4leegbeide","CEMT VIb","C4","leeg","beide","Fijn stof",30.52824047039902,{"$f":"VLOOKUP(A952,Begin:Einde,7,FALSE)","v":0},1,{"$f":"VLOOKUP(Jaar&L952,Trendfactoren!$A$2:$F$65,(HLOOKUP(F952,Trendfactoren!$A$1:$F$2,2,FALSE)),FALSE)","v":1},0,{"$f":"+VLOOKUP(C952,Scheepstypen!$A$1:$F$44,6,FALSE)","v":"L3"}]
["CEMT VIbC4leegbeide","CEMT VIb","C4","leeg","beide","NOx",921.65610140877072,{"$f":"VLOOKUP(A953,Begin:Einde,7,FALSE)","v":0},1,{"$f":"VLOOKUP(Jaar&L953,Trendfactoren!$A$2:$F$65,(HLOOKUP(F953,Trendfactoren!$A$1:$F$2,2,FALSE)),FALSE)","v":1},0,{"$f":"+VLOOKUP(C953,Scheepstypen!$A$1:$F$44,6,FALSE)","v":"L3"}]
["CEMT VIbM0geladenbeide","CEMT VIb","M0","geladen","beide","Fijn stof",1.7494642211030758,{"$f":"VLOOKUP(A954,Begin:Einde,7,FALSE)","v":0},1,{"$f":"VLOOKUP(Jaar&L954,Trendfactoren!$A$2:$F$65,(HLOOKUP(F954,Trendfactoren!$A$1:$F$2,2,FALSE)),FALSE)","v":1},0,{"$f":"+VLOOKUP(C954,Scheepstypen!$A$1:$F$44,6,FALSE)","v":"L1"}]
["CEMT VIbM0geladenbeide","CEMT VIb","M0","geladen","beide","NOx",50.134443796436763,{"$f":"VLOOKUP(A955,Begin:Einde,7,FALSE)","v":0},1,{"$f":"VLOOKUP(Jaar&L955,Trendfactoren!$A$2:$F$65,(HLOOKUP(F955,Trendfactoren!$A$1:$F$2,2,FALSE)),FALSE)","v":1},0,{"$f":"+VLOOKUP(C955,Scheepstypen!$A$1:$F$44,6,FALSE)","v":"L1"}]
["CEMT VIbM0leegbeide","CEMT VIb","M0","leeg","beide","Fijn stof",1.1748566547298305,{"$f":"VLOOKUP(A956,Begin:Einde,7,FALSE)","v":0},{"$f":"+Afstand","v":1},{"$f":"VLOOKUP(Jaar&L956,Trendfactoren!$A$2:$F$65,(HLOOKUP(F956,Trendfactoren!$A$1:$F$2,2,FALSE)),FALSE)","v":1},{"$f":"+G956*H956*I956*J956","v":0},{"$f":"+VLOOKUP(C956,Scheepstypen!$A$1:$F$44,6,FALSE)","v":"L1"}]
["CEMT VIbM0leegbeide","CEMT VIb","M0","leeg","beide","NOx",31.552061341325672,{"$f":"VLOOKUP(A957,Begin:Einde,7,FALSE)","v":0},1,{"$f":"VLOOKUP(Jaar&L957,Trendfactoren!$A$2:$F$65,(HLOOKUP(F957,Trendfactoren!$A$1:$F$2,2,FALSE)),FALSE)","v":1},0,{"$f":"+VLOOKUP(C957,Scheepstypen!$A$1:$F$44,6,FALSE)","v":"L1"}]
["CEMT VIbM1geladenbeide","CEMT VIb","M1","geladen","beide","Fijn stof",2.9601320030188405,{"$f":"VLOOKUP(A958,Begin:Einde,7,FALSE)","v":0},1,{"$f":"VLOOKUP(Jaar&L958,Trendfactoren!$A$2:$F$65,(HLOOKUP(F958,Trendfactoren!$A$1:$F$2,2,FALSE)),FALSE)","v":1},0,{"$f":"+VLOOKUP(C958,Scheepstypen!$A$1:$F$44,6,FALSE)","v":"L1"}]
["CEMT VIbM1geladenbeide","CEMT VIb","M1","geladen","beide","NOx",86.787306979249266,{"$f":"VLOOKUP(A959,Begin:Einde,7,FALSE)","v":0},1,{"$f":"VLOOKUP(Jaar&L959,Trendfactoren!$A$2:$F$65,(HLOOKUP(F959,Trendfactoren!$A$1:$F$2,2,FALSE)),FALSE)","v":1},0,{"$f":"+VLOOKUP(C959,Scheepstypen!$A$1:$F$44,6,FALSE)","v":"L1"}]
["CEMT VIbM1leegbeide","CEMT VIb","M1","leeg","beide","Fijn stof",1.8985141750016752,{"$f":"VLOOKUP(A960,Begin:Einde,7,FALSE)","v":0},1,{"$f":"VLOOKUP(Jaar&L960,Trendfactoren!$A$2:$F$65,(HLOOKUP(F960,Trendfactoren!$A$1:$F$2,2,FALSE)),FALSE)","v":1},0,{"$f":"+VLOOKUP(C960,Scheepstypen!$A$1:$F$44,6,FALSE)","v":"L1"}]
[{"$f":"+B961&C961&D961&E961","v":"CEMT VIbM1leegbeide"},"CEMT VIb","M1","leeg","beide","NOx",54.10332226857409,{"$f":"VLOOKUP(A961,Begin:Einde,7,FALSE)","v":0},1,{"$f":"VLOOKUP(Jaar&L961,Trendfactoren!$A$2:$F$65,(HLOOKUP(F961,Trendfactoren!$A$1:$F$2,2,FALSE)),FALSE)","v":1},0,{"$f":"+VLOOKUP(C961,Scheepstypen!$A$1:$F$44,6,FALSE)","v":"L1"}]
["CEMT VIbM10geladenbeide","CEMT VIb","M10","geladen","beide","Fijn stof",23.462743782511343,{"$f":"VLOOKUP(A962,Begin:Einde,7,FALSE)","v":0},1,{"$f":"VLOOKUP(Jaar&L962,Trendfactoren!$A$2:$F$65,(HLOOKUP(F962,Trendfactoren!$A$1:$F$2,2,FALSE)),FALSE)","v":1},0,{"$f":"+VLOOKUP(C962,Scheepstypen!$A$1:$F$44,6,FALSE)","v":"L3"}]
["CEMT VIbM10geladenbeide","CEMT VIb","M10","geladen","beide","NOx",715.45254700886824,{"$f":"VLOOKUP(A963,Begin:Einde,7,FALSE)","v":0},1,{"$f":"VLOOKUP(Jaar&L963,Trendfactoren!$A$2:$F$65,(HLOOKUP(F963,Trendfactoren!$A$1:$F$2,2,FALSE)),FALSE)","v":1},0,{"$f":"+VLOOKUP(C963,Scheepstypen!$A$1:$F$44,6,FALSE)","v":"L3"}]
["CEMT VIbM10leegbeide","CEMT VIb","M10","leeg","beide","Fijn stof",13.831574287075826,{"$f":"VLOOKUP(A964,Begin:Einde,7,FALSE)","v":0},1,{"$f":"VLOOKUP(Jaar&L964,Trendfactoren!$A$2:$F$65,(HLOOKUP(F964,Trendfactoren!$A$1:$F$2,2,FALSE)),FALSE)","v":1},0,{"$f":"+VLOOKUP(C964,Scheepstypen!$A$1:$F$44,6,FALSE)","v":"L3"}]
["CEMT VIbM10leegbeide","CEMT VIb","M10","leeg","beide","NOx",416.48808497817311,{"$f":"VLOOKUP(A965,Begin:Einde,7,FALSE)","v":0},1,{"$f":"VLOOKUP(Jaar&L965,Trendfactoren!$A$2:$F$65,(HLOOKUP(F965,Trendfactoren!$A$1:$F$2,2,FALSE)),FALSE)","v":1},0,{"$f":"+VLOOKUP(C965,Scheepstypen!$A$1:$F$44,6,FALSE)","v":"L3"}]
["CEMT VIbM11geladenbeide","CEMT VIb","M11","geladen","beide","Fijn stof",26.760979430669487,{"$f":"VLOOKUP(A966,Begin:Einde,7,FALSE)","v":0},1,{"$f":"VLOOKUP(Jaar&L966,Trendfactoren!$A$2:$F$65,(HLOOKUP(F966,Trendfactoren!$A$1:$F$2,2,FALSE)),FALSE)","v":1},0,{"$f":"+VLOOKUP(C966,Scheepstypen!$A$1:$F$44,6,FALSE)","v":"L3"}]
["CEMT VIbM11geladenbeide","CEMT VIb","M11","geladen","beide","NOx",811.84307463379139,{"$f":"VLOOKUP(A967,Begin:Einde,7,FALSE)","v":0},1,{"$f":"VLOOKUP(Jaar&L967,Trendfactoren!$A$2:$F$65,(HLOOKUP(F967,Trendfactoren!$A$1:$F$2,2,FALSE)),FALSE)","v":1},0,{"$f":"+VLOOKUP(C967,Scheepstypen!$A$1:$F$44,6,FALSE)","v":"L3"}]
["CEMT VIbM11leegbeide","CEMT VIb","M11","leeg","beide","Fijn stof",16.284332663103903,{"$f":"VLOOKUP(A968,Begin:Einde,7,FALSE)","v":0},1,{"$f":"VLOOKUP(Jaar&L968,Trendfactoren!$A$2:$F$65,(HLOOKUP(F968,Trendfactoren!$A$1:$F$2,2,FALSE)),FALSE)","v":1},0,{"$f":"+VLOOKUP(C968,Scheepstypen!$A$1:$F$44,6,FALSE)","v":"L3"}]
["CEMT VIbM11leegbeide","CEMT VIb","M11","leeg","beide","NOx",486.04631172044577,{"$f":"VLOOKUP(A969,Begin:Einde,7,FALSE)","v":0},1,{"$f":"VLOOKUP(Jaar&L969,Trendfactoren!$A$2:$F$65,(HLOOKUP(F969,Trendfactoren!$A$1:$F$2,2,FALSE)),FALSE)","v":1},0,{"$f":"+VLOOKUP(C969,Scheepstypen!$A$1:$F$44,6,FALSE)","v":"L3"}]
["CEMT VIbM12geladenbeide","CEMT VIb","M12","geladen","beide","Fijn stof",27.714060442649764,{"$f":"VLOOKUP(A970,Begin:Einde,7,FALSE)","v":0},1,{"$f":"VLOOKUP(Jaar&L970,Trendfactoren!$A$2:$F$65,(HLOOKUP(F970,Trendfactoren!$A$1:$F$2,2,FALSE)),FALSE)","v":1},0,{"$f":"+VLOOKUP(C970,Scheepstypen!$A$1:$F$44,6,FALSE)","v":"L3"}]
["CEMT VIbM12geladenbeide","CEMT VIb","M12","geladen","beide","NOx",831.07274721482952,{"$f":"VLOOKUP(A971,Begin:Einde,7,FALSE)","v":0},1,{"$f":"VLOOKUP(Jaar&L971,Trendfactoren!$A$2:$F$65,(HLOOKUP(F971,Trendfactoren!$A$1:$F$2,2,FALSE)),FALSE)","v":1},0,{"$f":"+VLOOKUP(C971,Scheepstypen!$A$1:$F$44,6,FALSE)","v":"L3"}]
["CEMT VIbM12leegbeide","CEMT VIb","M12","leeg","beide","Fijn stof",19.932555727862525,{"$f":"VLOOKUP(A972,Begin:Einde,7,FALSE)","v":0},1,{"$f":"VLOOKUP(Jaar&L972,Trendfactoren!$A$2:$F$65,(HLOOKUP(F972,Trendfactoren!$A$1:$F$2,2,FALSE)),FALSE)","v":1},0,{"$f":"+VLOOKUP(C972,Scheepstypen!$A$1:$F$44,6,FALSE)","v":"L3"}]
["CEMT VIbM12leegbeide","CEMT VIb","M12","leeg","beide","NOx",587.4085981267724,{"$f":"VLOOKUP(A973,Begin:Einde,7,FALSE)","v":0},1,{"$f":"VLOOKUP(Jaar&L973,Trendfactoren!$A$2:$F$65,(HLOOKUP(F973,Trendfactoren!$A$1:$F$2,2,FALSE)),FALSE)","v":1},0,{"$f":"+VLOOKUP(C973,Scheepstypen!$A$1:$F$44,6,FALSE)","v":"L3"}]
["CEMT VIbM2geladenbeide","CEMT VIb","M2","geladen","beide","Fijn stof",6.2517124065315555,{"$f":"VLOOKUP(A974,Begin:Einde,7,FALSE)","v":0},1,{"$f":"VLOOKUP(Jaar&L974,Trendfactoren!$A$2:$F$65,(HLOOKUP(F974,Trendfactoren!$A$1:$F$2,2,FALSE)),FALSE)","v":1},0,{"$f":"+VLOOKUP(C974,Scheepstypen!$A$1:$F$44,6,FALSE)","v":"L1"}]
["CEMT VIbM2geladenbeide","CEMT VIb","M2","geladen","beide","NOx",185.8175388549009,{"$f":"VLOOKUP(A975,Begin:Einde,7,FALSE)","v":0},1,{"$f":"VLOOKUP(Jaar&L975,Trendfactoren!$A$2:$F$65,(HLOOKUP(F975,Trendfactoren!$A$1:$F$2,2,FALSE)),FALSE)","v":1},0,{"$f":"+VLOOKUP(C975,Scheepstypen!$A$1:$F$44,6,FALSE)","v":"L1"}]
["CEMT VIbM2leegbeide","CEMT VIb","M2","leeg","beide","Fijn stof",3.2694519690335078,{"$f":"VLOOKUP(A976,Begin:Einde,7,FALSE)","v":0},1,{"$f":"VLOOKUP(Jaar&L976,Trendfactoren!$A$2:$F$65,(HLOOKUP(F976,Trendfactoren!$A$1:$F$2,2,FALSE)),FALSE)","v":1},0,{"$f":"+VLOOKUP(C976,Scheepstypen!$A$1:$F$44,6,FALSE)","v":"L1"}]
["CEMT VIbM2leegbeide","CEMT VIb","M2","leeg","beide","NOx",95.925209044548467,{"$f":"VLOOKUP(A977,Begin:Einde,7,FALSE)","v":0},1,{"$f":"VLOOKUP(Jaar&L977,Trendfactoren!$A$2:$F$65,(HLOOKUP(F977,Trendfactoren!$A$1:$F$2,2,FALSE)),FALSE)","v":1},0,{"$f":"+VLOOKUP(C977,Scheepstypen!$A$1:$F$44,6,FALSE)","v":"L1"}]
["CEMT VIbM3geladenbeide","CEMT VIb","M3","geladen","beide","Fijn stof",7.7256359526429321,{"$f":"VLOOKUP(A978,Begin:Einde,7,FALSE)","v":0},1,{"$f":"VLOOKUP(Jaar&L978,Trendfactoren!$A$2:$F$65,(HLOOKUP(F978,Trendfactoren!$A$1:$F$2,2,FALSE)),FALSE)","v":1},0,{"$f":"+VLOOKUP(C978,Scheepstypen!$A$1:$F$44,6,FALSE)","v":"L1"}]
["CEMT VIbM3geladenbeide","CEMT VIb","M3","geladen","beide","NOx",229.14706184417992,{"$f":"VLOOKUP(A979,Begin:Einde,7,FALSE)","v":0},1,{"$f":"VLOOKUP(Jaar&L979,Trendfactoren!$A$2:$F$65,(HLOOKUP(F979,Trendfactoren!$A$1:$F$2,2,FALSE)),FALSE)","v":1},0,{"$f":"+VLOOKUP(C979,Scheepstypen!$A$1:$F$44,6,FALSE)","v":"L1"}]
["CEMT VIbM3leegbeide","CEMT VIb","M3","leeg","beide","Fijn stof",4.4608510125702603,{"$f":"VLOOKUP(A980,Begin:Einde,7,FALSE)","v":0},1,{"$f":"VLOOKUP(Jaar&L980,Trendfactoren!$A$2:$F$65,(HLOOKUP(F980,Trendfactoren!$A$1:$F$2,2,FALSE)),FALSE)","v":1},0,{"$f":"+VLOOKUP(C980,Scheepstypen!$A$1:$F$44,6,FALSE)","v":"L1"}]
["CEMT VIbM3leegbeide","CEMT VIb","M3","leeg","beide","NOx",130.86591545966604,{"$f":"VLOOKUP(A981,Begin:Einde,7,FALSE)","v":0},1,{"$f":"VLOOKUP(Jaar&L981,Trendfactoren!$A$2:$F$65,(HLOOKUP(F981,Trendfactoren!$A$1:$F$2,2,FALSE)),FALSE)","v":1},0,{"$f":"+VLOOKUP(C981,Scheepstypen!$A$1:$F$44,6,FALSE)","v":"L1"}]
["CEMT VIbM4geladenbeide","CEMT VIb","M4","geladen","beide","Fijn stof",9.0731872507531577,{"$f":"VLOOKUP(A982,Begin:Einde,7,FALSE)","v":0},1,{"$f":"VLOOKUP(Jaar&L982,Trendfactoren!$A$2:$F$65,(HLOOKUP(F982,Trendfactoren!$A$1:$F$2,2,FALSE)),FALSE)","v":1},0,{"$f":"+VLOOKUP(C982,Scheepstypen!$A$1:$F$44,6,FALSE)","v":"L1"}]
["CEMT VIbM4geladenbeide","CEMT VIb","M4","geladen","beide","NOx",268.93639239935783,{"$f":"VLOOKUP(A983,Begin:Einde,7,FALSE)","v":0},1,{"$f":"VLOOKUP(Jaar&L983,Trendfactoren!$A$2:$F$65,(HLOOKUP(F983,Trendfactoren!$A$1:$F$2,2,FALSE)),FALSE)","v":1},0,{"$f":"+VLOOKUP(C983,Scheepstypen!$A$1:$F$44,6,FALSE)","v":"L1"}]
["CEMT VIbM4leegbeide","CEMT VIb","M4","leeg","beide","Fijn stof",5.4257407430561075,{"$f":"VLOOKUP(A984,Begin:Einde,7,FALSE)","v":0},1,{"$f":"VLOOKUP(Jaar&L984,Trendfactoren!$A$2:$F$65,(HLOOKUP(F984,Trendfactoren!$A$1:$F$2,2,FALSE)),FALSE)","v":1},0,{"$f":"+VLOOKUP(C984,Scheepstypen!$A$1:$F$44,6,FALSE)","v":"L1"}]
["CEMT VIbM4leegbeide","CEMT VIb","M4","leeg","beide","NOx",159.35550800033204,{"$f":"VLOOKUP(A985,Begin:Einde,7,FALSE)","v":0},1,{"$f":"VLOOKUP(Jaar&L985,Trendfactoren!$A$2:$F$65,(HLOOKUP(F985,Trendfactoren!$A$1:$F$2,2,FALSE)),FALSE)","v":1},0,{"$f":"+VLOOKUP(C985,Scheepstypen!$A$1:$F$44,6,FALSE)","v":"L1"}]
["CEMT VIbM5geladenbeide","CEMT VIb","M5","geladen","beide","Fijn stof",9.8440049955223472,{"$f":"VLOOKUP(A986,Begin:Einde,7,FALSE)","v":0},1,{"$f":"VLOOKUP(Jaar&L986,Trendfactoren!$A$2:$F$65,(HLOOKUP(F986,Trendfactoren!$A$1:$F$2,2,FALSE)),FALSE)","v":1},0,{"$f":"+VLOOKUP(C986,Scheepstypen!$A$1:$F$44,6,FALSE)","v":"L2"}]
["CEMT VIbM5geladenbeide","CEMT VIb","M5","geladen","beide","NOx",298.47097612589437,{"$f":"VLOOKUP(A987,Begin:Einde,7,FALSE)","v":0},1,{"$f":"VLOOKUP(Jaar&L987,Trendfactoren!$A$2:$F$65,(HLOOKUP(F987,Trendfactoren!$A$1:$F$2,2,FALSE)),FALSE)","v":1},0,{"$f":"+VLOOKUP(C987,Scheepstypen!$A$1:$F$44,6,FALSE)","v":"L2"}]
["CEMT VIbM5leegbeide","CEMT VIb","M5","leeg","beide","Fijn stof",6.0714586175690828,{"$f":"VLOOKUP(A988,Begin:Einde,7,FALSE)","v":0},1,{"$f":"VLOOKUP(Jaar&L988,Trendfactoren!$A$2:$F$65,(HLOOKUP(F988,Trendfactoren!$A$1:$F$2,2,FALSE)),FALSE)","v":1},0,{"$f":"+VLOOKUP(C988,Scheepstypen!$A$1:$F$44,6,FALSE)","v":"L2"}]
["CEMT VIbM5leegbeide","CEMT VIb","M5","leeg","beide","NOx",182.40800838584408,{"$f":"VLOOKUP(A989,Begin:Einde,7,FALSE)","v":0},1,{"$f":"VLOOKUP(Jaar&L989,Trendfactoren!$A$2:$F$65,(HLOOKUP(F989,Trendfactoren!$A$1:$F$2,2,FALSE)),FALSE)","v":1},0,{"$f":"+VLOOKUP(C989,Scheepstypen!$A$1:$F$44,6,FALSE)","v":"L2"}]
["CEMT VIbM6geladenbeide","CEMT VIb","M6","geladen","beide","Fijn stof",12.146540540523432,{"$f":"VLOOKUP(A990,Begin:Einde,7,FALSE)","v":0},1,{"$f":"VLOOKUP(Jaar&L990,Trendfactoren!$A$2:$F$65,(HLOOKUP(F990,Trendfactoren!$A$1:$F$2,2,FALSE)),FALSE)","v":1},0,{"$f":"+VLOOKUP(C990,Scheepstypen!$A$1:$F$44,6,FALSE)","v":"L2"}]
["CEMT VIbM6geladenbeide","CEMT VIb","M6","geladen","beide","NOx",368.49794504577454,{"$f":"VLOOKUP(A991,Begin:Einde,7,FALSE)","v":0},1,{"$f":"VLOOKUP(Jaar&L991,Trendfactoren!$A$2:$F$65,(HLOOKUP(F991,Trendfactoren!$A$1:$F$2,2,FALSE)),FALSE)","v":1},0,{"$f":"+VLOOKUP(C991,Scheepstypen!$A$1:$F$44,6,FALSE)","v":"L2"}]
["CEMT VIbM6leegbeide","CEMT VIb","M6","leeg","beide","Fijn stof",7.4619781712062219,{"$f":"VLOOKUP(A992,Begin:Einde,7,FALSE)","v":0},1,{"$f":"VLOOKUP(Jaar&L992,Trendfactoren!$A$2:$F$65,(HLOOKUP(F992,Trendfactoren!$A$1:$F$2,2,FALSE)),FALSE)","v":1},0,{"$f":"+VLOOKUP(C992,Scheepstypen!$A$1:$F$44,6,FALSE)","v":"L2"}]
["CEMT VIbM6leegbeide","CEMT VIb","M6","leeg","beide","NOx",223.40420973347091,{"$f":"VLOOKUP(A993,Begin:Einde,7,FALSE)","v":0},1,{"$f":"VLOOKUP(Jaar&L993,Trendfactoren!$A$2:$F$65,(HLOOKUP(F993,Trendfactoren!$A$1:$F$2,2,FALSE)),FALSE)","v":1},0,{"$f":"+VLOOKUP(C993,Scheepstypen!$A$1:$F$44,6,FALSE)","v":"L2"}]
["CEMT VIbM7geladenbeide","CEMT VIb","M7","geladen","beide","Fijn stof",12.50194205172666,{"$f":"VLOOKUP(A994,Begin:Einde,7,FALSE)","v":0},1,{"$f":"VLOOKUP(Jaar&L994,Trendfactoren!$A$2:$F$65,(HLOOKUP(F994,Trendfactoren!$A$1:$F$2,2,FALSE)),FALSE)","v":1},0,{"$f":"+VLOOKUP(C994,Scheepstypen!$A$1:$F$44,6,FALSE)","v":"L2"}]
["CEMT VIbM7geladenbeide","CEMT VIb","M7","geladen","beide","NOx",377.22779243629503,{"$f":"VLOOKUP(A995,Begin:Einde,7,FALSE)","v":0},1,{"$f":"VLOOKUP(Jaar&L995,Trendfactoren!$A$2:$F$65,(HLOOKUP(F995,Trendfactoren!$A$1:$F$2,2,FALSE)),FALSE)","v":1},0,{"$f":"+VLOOKUP(C995,Scheepstypen!$A$1:$F$44,6,FALSE)","v":"L2"}]
["CEMT VIbM7leegbeide","CEMT VIb","M7","leeg","beide","Fijn stof",8.7469510986556696,{"$f":"VLOOKUP(A996,Begin:Einde,7,FALSE)","v":0},1,{"$f":"VLOOKUP(Jaar&L996,Trendfactoren!$A$2:$F$65,(HLOOKUP(F996,Trendfactoren!$A$1:$F$2,2,FALSE)),FALSE)","v":1},0,{"$f":"+VLOOKUP(C996,Scheepstypen!$A$1:$F$44,6,FALSE)","v":"L2"}]
["CEMT VIbM7leegbeide","CEMT VIb","M7","leeg","beide","NOx",261.53164873149387,{"$f":"VLOOKUP(A997,Begin:Einde,7,FALSE)","v":0},1,{"$f":"VLOOKUP(Jaar&L997,Trendfactoren!$A$2:$F$65,(HLOOKUP(F997,Trendfactoren!$A$1:$F$2,2,FALSE)),FALSE)","v":1},0,{"$f":"+VLOOKUP(C997,Scheepstypen!$A$1:$F$44,6,FALSE)","v":"L2"}]
["CEMT VIbM8geladenbeide","CEMT VIb","M8","geladen","beide","Fijn stof",18.27166653273288,{"$f":"VLOOKUP(A998,Begin:Einde,7,FALSE)","v":0},1,{"$f":"VLOOKUP(Jaar&L998,Trendfactoren!$A$2:$F$65,(HLOOKUP(F998,Trendfactoren!$A$1:$F$2,2,FALSE)),FALSE)","v":1},0,{"$f":"+VLOOKUP(C998,Scheepstypen!$A$1:$F$44,6,FALSE)","v":"L3"}]
["CEMT VIbM8geladenbeide","CEMT VIb","M8","geladen","beide","NOx",556.4243832495514,{"$f":"VLOOKUP(A999,Begin:Einde,7,FALSE)","v":0},1,{"$f":"VLOOKUP(Jaar&L999,Trendfactoren!$A$2:$F$65,(HLOOKUP(F999,Trendfactoren!$A$1:$F$2,2,FALSE)),FALSE)","v":1},0,{"$f":"+VLOOKUP(C999,Scheepstypen!$A$1:$F$44,6,FALSE)","v":"L3"}]
["CEMT VIbM8leegbeide","CEMT VIb","M8","leeg","beide","Fijn stof",11.449259103755848,{"$f":"VLOOKUP(A1000,Begin:Einde,7,FALSE)","v":0},1,{"$f":"VLOOKUP(Jaar&L1000,Trendfactoren!$A$2:$F$65,(HLOOKUP(F1000,Trendfactoren!$A$1:$F$2,2,FALSE)),FALSE)","v":1},0,{"$f":"+VLOOKUP(C1000,Scheepstypen!$A$1:$F$44,6,FALSE)","v":"L3"}]
["CEMT VIbM8leegbeide","CEMT VIb","M8","leeg","beide","NOx",341.94512497672275,{"$f":"VLOOKUP(A1001,Begin:Einde,7,FALSE)","v":0},1,{"$f":"VLOOKUP(Jaar&L1001,Trendfactoren!$A$2:$F$65,(HLOOKUP(F1001,Trendfactoren!$A$1:$F$2,2,FALSE)),FALSE)","v":1},0,{"$f":"+VLOOKUP(C1001,Scheepstypen!$A$1:$F$44,6,FALSE)","v":"L3"}]
["CEMT VIbM9geladenbeide","CEMT VIb","M9","geladen","beide","Fijn stof",19.67809895401966,{"$f":"VLOOKUP(A1002,Begin:Einde,7,FALSE)","v":0},1,{"$f":"VLOOKUP(Jaar&L1002,Trendfactoren!$A$2:$F$65,(HLOOKUP(F1002,Trendfactoren!$A$1:$F$2,2,FALSE)),FALSE)","v":1},0,{"$f":"+VLOOKUP(C1002,Scheepstypen!$A$1:$F$44,6,FALSE)","v":"L3"}]
["CEMT VIbM9geladenbeide","CEMT VIb","M9","geladen","beide","NOx",592.48825617780176,{"$f":"VLOOKUP(A1003,Begin:Einde,7,FALSE)","v":0},1,{"$f":"VLOOKUP(Jaar&L1003,Trendfactoren!$A$2:$F$65,(HLOOKUP(F1003,Trendfactoren!$A$1:$F$2,2,FALSE)),FALSE)","v":1},0,{"$f":"+VLOOKUP(C1003,Scheepstypen!$A$1:$F$44,6,FALSE)","v":"L3"}]
["CEMT VIbM9leegbeide","CEMT VIb","M9","leeg","beide","Fijn stof",14.218328401101093,{"$f":"VLOOKUP(A1004,Begin:Einde,7,FALSE)","v":0},1,{"$f":"VLOOKUP(Jaar&L1004,Trendfactoren!$A$2:$F$65,(HLOOKUP(F1004,Trendfactoren!$A$1:$F$2,2,FALSE)),FALSE)","v":1},0,{"$f":"+VLOOKUP(C1004,Scheepstypen!$A$1:$F$44,6,FALSE)","v":"L3"}]
["CEMT VIbM9leegbeide","CEMT VIb","M9","leeg","beide","NOx",419.84649709311452,{"$f":"VLOOKUP(A1005,Begin:Einde,7,FALSE)","v":0},1,{"$f":"VLOOKUP(Jaar&L1005,Trendfactoren!$A$2:$F$65,(HLOOKUP(F1005,Trendfactoren!$A$1:$F$2,2,FALSE)),FALSE)","v":1},0,{"$f":"+VLOOKUP(C1005,Scheepstypen!$A$1:$F$44,6,FALSE)","v":"L3"}]
["CEMT VIcBIgeladenbeide","CEMT VIc","BI","geladen","beide","Fijn stof",13.398377214196445,{"$f":"VLOOKUP(A1006,Begin:Einde,7,FALSE)","v":0},1,{"$f":"VLOOKUP(Jaar&L1006,Trendfactoren!$A$2:$F$65,(HLOOKUP(F1006,Trendfactoren!$A$1:$F$2,2,FALSE)),FALSE)","v":1},{"$f":"+G1006*H1006*I1006*J1006","v":0},{"$f":"+VLOOKUP(C1006,Scheepstypen!$A$1:$F$44,6,FALSE)","v":"L2"}]
["CEMT VIcBIgeladenbeide","CEMT VIc","BI","geladen","beide","NOx",412.60344501470763,{"$f":"VLOOKUP(A1007,Begin:Einde,7,FALSE)","v":0},1,{"$f":"VLOOKUP(Jaar&L1007,Trendfactoren!$A$2:$F$65,(HLOOKUP(F1007,Trendfactoren!$A$1:$F$2,2,FALSE)),FALSE)","v":1},0,{"$f":"+VLOOKUP(C1007,Scheepstypen!$A$1:$F$44,6,FALSE)","v":"L2"}]
["CEMT VIcBIleegbeide","CEMT VIc","BI","leeg","beide","Fijn stof",5.7429068431393304,{"$f":"VLOOKUP(A1008,Begin:Einde,7,FALSE)","v":0},1,{"$f":"VLOOKUP(Jaar&L1008,Trendfactoren!$A$2:$F$65,(HLOOKUP(F1008,Trendfactoren!$A$1:$F$2,2,FALSE)),FALSE)","v":1},0,{"$f":"+VLOOKUP(C1008,Scheepstypen!$A$1:$F$44,6,FALSE)","v":"L2"}]
["CEMT VIcBIleegbeide","CEMT VIc","BI","leeg","beide","NOx",168.39756975339952,{"$f":"VLOOKUP(A1009,Begin:Einde,7,FALSE)","v":0},1,{"$f":"VLOOKUP(Jaar&L1009,Trendfactoren!$A$2:$F$65,(HLOOKUP(F1009,Trendfactoren!$A$1:$F$2,2,FALSE)),FALSE)","v":1},0,{"$f":"+VLOOKUP(C1009,Scheepstypen!$A$1:$F$44,6,FALSE)","v":"L2"}]
["CEMT VIcBII-1geladenbeide","CEMT VIc","BII-1","geladen","beide","Fijn stof",21.966108055889826,{"$f":"VLOOKUP(A1010,Begin:Einde,7,FALSE)","v":0},1,{"$f":"VLOOKUP(Jaar&L1010,Trendfactoren!$A$2:$F$65,(HLOOKUP(F1010,Trendfactoren!$A$1:$F$2,2,FALSE)),FALSE)","v":1},0,{"$f":"+VLOOKUP(C1010,Scheepstypen!$A$1:$F$44,6,FALSE)","v":"L2"}]
["CEMT VIcBII-1geladenbeide","CEMT VIc","BII-1","geladen","beide","NOx",673.15017219740048,{"$f":"VLOOKUP(A1011,Begin:Einde,7,FALSE)","v":0},1,{"$f":"VLOOKUP(Jaar&L1011,Trendfactoren!$A$2:$F$65,(HLOOKUP(F1011,Trendfactoren!$A$1:$F$2,2,FALSE)),FALSE)","v":1},0,{"$f":"+VLOOKUP(C1011,Scheepstypen!$A$1:$F$44,6,FALSE)","v":"L2"}]
["CEMT VIcBII-1leegbeide","CEMT VIc","BII-1","leeg","beide","Fijn stof",9.5408645437079169,{"$f":"VLOOKUP(A1012,Begin:Einde,7,FALSE)","v":0},1,{"$f":"VLOOKUP(Jaar&L1012,Trendfactoren!$A$2:$F$65,(HLOOKUP(F1012,Trendfactoren!$A$1:$F$2,2,FALSE)),FALSE)","v":1},0,{"$f":"+VLOOKUP(C1012,Scheepstypen!$A$1:$F$44,6,FALSE)","v":"L2"}]
["CEMT VIcBII-1leegbeide","CEMT VIc","BII-1","leeg","beide","NOx",284.42832341654719,{"$f":"VLOOKUP(A1013,Begin:Einde,7,FALSE)","v":0},1,{"$f":"VLOOKUP(Jaar&L1013,Trendfactoren!$A$2:$F$65,(HLOOKUP(F1013,Trendfactoren!$A$1:$F$2,2,FALSE)),FALSE)","v":1},0,{"$f":"+VLOOKUP(C1013,Scheepstypen!$A$1:$F$44,6,FALSE)","v":"L2"}]
["CEMT VIcBII-2Bgeladenbeide","CEMT VIc","BII-2B","geladen","beide","Fijn stof",47.939959273001833,{"$f":"VLOOKUP(A1014,Begin:Einde,7,FALSE)","v":0},1,{"$f":"VLOOKUP(Jaar&L1014,Trendfactoren!$A$2:$F$65,(HLOOKUP(F1014,Trendfactoren!$A$1:$F$2,2,FALSE)),FALSE)","v":1},0,{"$f":"+VLOOKUP(C1014,Scheepstypen!$A$1:$F$44,6,FALSE)","v":"L3"}]
["CEMT VIcBII-2Bgeladenbeide","CEMT VIc","BII-2B","geladen","beide","NOx",1481.175742013774,{"$f":"VLOOKUP(A1015,Begin:Einde,7,FALSE)","v":0},1,{"$f":"VLOOKUP(Jaar&L1015,Trendfactoren!$A$2:$F$65,(HLOOKUP(F1015,Trendfactoren!$A$1:$F$2,2,FALSE)),FALSE)","v":1},0,{"$f":"+VLOOKUP(C1015,Scheepstypen!$A$1:$F$44,6,FALSE)","v":"L3"}]
["CEMT VIcBII-2Bleegbeide","CEMT VIc","BII-2B","leeg","beide","Fijn stof",20.024787789923412,{"$f":"VLOOKUP(A1016,Begin:Einde,7,FALSE)","v":0},1,{"$f":"VLOOKUP(Jaar&L1016,Trendfactoren!$A$2:$F$65,(HLOOKUP(F1016,Trendfactoren!$A$1:$F$2,2,FALSE)),FALSE)","v":1},0,{"$f":"+VLOOKUP(C1016,Scheepstypen!$A$1:$F$44,6,FALSE)","v":"L3"}]
["CEMT VIcBII-2Bleegbeide","CEMT VIc","BII-2B","leeg","beide","NOx",600.10672138581083,{"$f":"VLOOKUP(A1017,Begin:Einde,7,FALSE)","v":0},1,{"$f":"VLOOKUP(Jaar&L1017,Trendfactoren!$A$2:$F$65,(HLOOKUP(F1017,Trendfactoren!$A$1:$F$2,2,FALSE)),FALSE)","v":1},0,{"$f":"+VLOOKUP(C1017,Scheepstypen!$A$1:$F$44,6,FALSE)","v":"L3"}]
["CEMT VIcBII-2Lgeladenbeide","CEMT VIc","BII-2L","geladen","beide","Fijn stof",24.925260716976336,{"$f":"VLOOKUP(A1018,Begin:Einde,7,FALSE)","v":0},1,{"$f":"VLOOKUP(Jaar&L1018,Trendfactoren!$A$2:$F$65,(HLOOKUP(F1018,Trendfactoren!$A$1:$F$2,2,FALSE)),FALSE)","v":1},0,{"$f":"+VLOOKUP(C1018,Scheepstypen!$A$1:$F$44,6,FALSE)","v":"L3"}]
["CEMT VIcBII-2Lgeladenbeide","CEMT VIc","BII-2L","geladen","beide","NOx",768.43309343948556,{"$f":"VLOOKUP(A1019,Begin:Einde,7,FALSE)","v":0},1,{"$f":"VLOOKUP(Jaar&L1019,Trendfactoren!$A$2:$F$65,(HLOOKUP(F1019,Trendfactoren!$A$1:$F$2,2,FALSE)),FALSE)","v":1},0,{"$f":"+VLOOKUP(C1019,Scheepstypen!$A$1:$F$44,6,FALSE)","v":"L3"}]
["CEMT VIcBII-2Lleegbeide","CEMT VIc","BII-2L","leeg","beide","Fijn stof",13.140147927836104,{"$f":"VLOOKUP(A1020,Begin:Einde,7,FALSE)","v":0},{"$f":"+Afstand","v":1},{"$f":"VLOOKUP(Jaar&L1020,Trendfactoren!$A$2:$F$65,(HLOOKUP(F1020,Trendfactoren!$A$1:$F$2,2,FALSE)),FALSE)","v":1},0,{"$f":"+VLOOKUP(C1020,Scheepstypen!$A$1:$F$44,6,FALSE)","v":"L3"}]
["CEMT VIcBII-2Lleegbeide","CEMT VIc","BII-2L","leeg","beide","NOx",386.63373862118897,{"$f":"VLOOKUP(A1021,Begin:Einde,7,FALSE)","v":0},1,{"$f":"VLOOKUP(Jaar&L1021,Trendfactoren!$A$2:$F$65,(HLOOKUP(F1021,Trendfactoren!$A$1:$F$2,2,FALSE)),FALSE)","v":1},0,{"$f":"+VLOOKUP(C1021,Scheepstypen!$A$1:$F$44,6,FALSE)","v":"L3"}]
["CEMT VIcBII-4geladenbeide","CEMT VIc","BII-4","geladen","beide","Fijn stof",59.342300360296164,{"$f":"VLOOKUP(A1022,Begin:Einde,7,FALSE)","v":0},1,{"$f":"VLOOKUP(Jaar&L1022,Trendfactoren!$A$2:$F$65,(HLOOKUP(F1022,Trendfactoren!$A$1:$F$2,2,FALSE)),FALSE)","v":1},0,{"$f":"+VLOOKUP(C1022,Scheepstypen!$A$1:$F$44,6,FALSE)","v":"L3"}]
["CEMT VIcBII-4geladenbeide","CEMT VIc","BII-4","geladen","beide","NOx",1829.357528153525,{"$f":"VLOOKUP(A1023,Begin:Einde,7,FALSE)","v":0},1,{"$f":"VLOOKUP(Jaar&L1023,Trendfactoren!$A$2:$F$65,(HLOOKUP(F1023,Trendfactoren!$A$1:$F$2,2,FALSE)),FALSE)","v":1},0,{"$f":"+VLOOKUP(C1023,Scheepstypen!$A$1:$F$44,6,FALSE)","v":"L3"}]
["CEMT VIcBII-4leegbeide","CEMT VIc","BII-4","leeg","beide","Fijn stof",29.997042376138989,{"$f":"VLOOKUP(A1024,Begin:Einde,7,FALSE)","v":0},1,{"$f":"VLOOKUP(Jaar&L1024,Trendfactoren!$A$2:$F$65,(HLOOKUP(F1024,Trendfactoren!$A$1:$F$2,2,FALSE)),FALSE)","v":1},0,{"$f":"+VLOOKUP(C1024,Scheepstypen!$A$1:$F$44,6,FALSE)","v":"L3"}]
[{"$f":"+B1025&C1025&D1025&E1025","v":"CEMT VIcBII-4leegbeide"},"CEMT VIc","BII-4","leeg","beide","NOx",899.80620789760371,{"$f":"VLOOKUP(A1025,Begin:Einde,7,FALSE)","v":0},1,{"$f":"VLOOKUP(Jaar&L1025,Trendfactoren!$A$2:$F$65,(HLOOKUP(F1025,Trendfactoren!$A$1:$F$2,2,FALSE)),FALSE)","v":1},0,{"$f":"+VLOOKUP(C1025,Scheepstypen!$A$1:$F$44,6,FALSE)","v":"L3"}]
["CEMT VIcBII-6Bgeladenbeide","CEMT VIc","BII-6B","geladen","beide","Fijn stof",92.150107009511018,{"$f":"VLOOKUP(A1026,Begin:Einde,7,FALSE)","v":0},1,{"$f":"VLOOKUP(Jaar&L1026,Trendfactoren!$A$2:$F$65,(HLOOKUP(F1026,Trendfactoren!$A$1:$F$2,2,FALSE)),FALSE)","v":1},0,{"$f":"+VLOOKUP(C1026,Scheepstypen!$A$1:$F$44,6,FALSE)","v":"L3"}]
["CEMT VIcBII-6Bgeladenbeide","CEMT VIc","BII-6B","geladen","beide","NOx",2861.9737016803792,{"$f":"VLOOKUP(A1027,Begin:Einde,7,FALSE)","v":0},1,{"$f":"VLOOKUP(Jaar&L1027,Trendfactoren!$A$2:$F$65,(HLOOKUP(F1027,Trendfactoren!$A$1:$F$2,2,FALSE)),FALSE)","v":1},0,{"$f":"+VLOOKUP(C1027,Scheepstypen!$A$1:$F$44,6,FALSE)","v":"L3"}]
["CEMT VIcBII-6Bleegbeide","CEMT VIc","BII-6B","leeg","beide","Fijn stof",44.169745952766867,{"$f":"VLOOKUP(A1028,Begin:Einde,7,FALSE)","v":0},1,{"$f":"VLOOKUP(Jaar&L1028,Trendfactoren!$A$2:$F$65,(HLOOKUP(F1028,Trendfactoren!$A$1:$F$2,2,FALSE)),FALSE)","v":1},0,{"$f":"+VLOOKUP(C1028,Scheepstypen!$A$1:$F$44,6,FALSE)","v":"L3"}]
["CEMT VIcBII-6Bleegbeide","CEMT VIc","BII-6B","leeg","beide","NOx",1349.6445380938735,{"$f":"VLOOKUP(A1029,Begin:Einde,7,FALSE)","v":0},1,{"$f":"VLOOKUP(Jaar&L1029,Trendfactoren!$A$2:$F$65,(HLOOKUP(F1029,Trendfactoren!$A$1:$F$2,2,FALSE)),FALSE)","v":1},0,{"$f":"+VLOOKUP(C1029,Scheepstypen!$A$1:$F$44,6,FALSE)","v":"L3"}]
["CEMT VIcBII-6Lgeladenbeide","CEMT VIc","BII-6L","geladen","beide","Fijn stof",57.560523135791193,{"$f":"VLOOKUP(A1030,Begin:Einde,7,FALSE)","v":0},1,{"$f":"VLOOKUP(Jaar&L1030,Trendfactoren!$A$2:$F$65,(HLOOKUP(F1030,Trendfactoren!$A$1:$F$2,2,FALSE)),FALSE)","v":1},0,{"$f":"+VLOOKUP(C1030,Scheepstypen!$A$1:$F$44,6,FALSE)","v":"L3"}]
["CEMT VIcBII-6Lgeladenbeide","CEMT VIc","BII-6L","geladen","beide","NOx",1778.0927932871214,{"$f":"VLOOKUP(A1031,Begin:Einde,7,FALSE)","v":0},1,{"$f":"VLOOKUP(Jaar&L1031,Trendfactoren!$A$2:$F$65,(HLOOKUP(F1031,Trendfactoren!$A$1:$F$2,2,FALSE)),FALSE)","v":1},0,{"$f":"+VLOOKUP(C1031,Scheepstypen!$A$1:$F$44,6,FALSE)","v":"L3"}]
["CEMT VIcBII-6Lleegbeide","CEMT VIc","BII-6L","leeg","beide","Fijn stof",36.684946146307567,{"$f":"VLOOKUP(A1032,Begin:Einde,7,FALSE)","v":0},1,{"$f":"VLOOKUP(Jaar&L1032,Trendfactoren!$A$2:$F$65,(HLOOKUP(F1032,Trendfactoren!$A$1:$F$2,2,FALSE)),FALSE)","v":1},0,{"$f":"+VLOOKUP(C1032,Scheepstypen!$A$1:$F$44,6,FALSE)","v":"L3"}]
["CEMT VIcBII-6Lleegbeide","CEMT VIc","BII-6L","leeg","beide","NOx",1129.8491892395448,{"$f":"VLOOKUP(A1033,Begin:Einde,7,FALSE)","v":0},1,{"$f":"VLOOKUP(Jaar&L1033,Trendfactoren!$A$2:$F$65,(HLOOKUP(F1033,Trendfactoren!$A$1:$F$2,2,FALSE)),FALSE)","v":1},0,{"$f":"+VLOOKUP(C1033,Scheepstypen!$A$1:$F$44,6,FALSE)","v":"L3"}]
["CEMT VIcBO1leegbeide","CEMT VIc","BO1","leeg","beide","Fijn stof",2.4401750671029534,{"$f":"VLOOKUP(A1034,Begin:Einde,7,FALSE)","v":0},1,{"$f":"VLOOKUP(Jaar&L1034,Trendfactoren!$A$2:$F$65,(HLOOKUP(F1034,Trendfactoren!$A$1:$F$2,2,FALSE)),FALSE)","v":1},0,{"$f":"+VLOOKUP(C1034,Scheepstypen!$A$1:$F$44,6,FALSE)","v":"L1"}]
["CEMT VIcBO1leegbeide","CEMT VIc","BO1","leeg","beide","NOx",73.312698496368299,{"$f":"VLOOKUP(A1035,Begin:Einde,7,FALSE)","v":0},1,{"$f":"VLOOKUP(Jaar&L1035,Trendfactoren!$A$2:$F$65,(HLOOKUP(F1035,Trendfactoren!$A$1:$F$2,2,FALSE)),FALSE)","v":1},0,{"$f":"+VLOOKUP(C1035,Scheepstypen!$A$1:$F$44,6,FALSE)","v":"L1"}]
["CEMT VIcBO2geladenbeide","CEMT VIc","BO2","geladen","beide","Fijn stof",7.2296581649814247,{"$f":"VLOOKUP(A1036,Begin:Einde,7,FALSE)","v":0},1,{"$f":"VLOOKUP(Jaar&L1036,Trendfactoren!$A$2:$F$65,(HLOOKUP(F1036,Trendfactoren!$A$1:$F$2,2,FALSE)),FALSE)","v":1},0,{"$f":"+VLOOKUP(C1036,Scheepstypen!$A$1:$F$44,6,FALSE)","v":"L1"}]
["CEMT VIcBO2geladenbeide","CEMT VIc","BO2","geladen","beide","NOx",217.30901039606641,{"$f":"VLOOKUP(A1037,Begin:Einde,7,FALSE)","v":0},1,{"$f":"VLOOKUP(Jaar&L1037,Trendfactoren!$A$2:$F$65,(HLOOKUP(F1037,Trendfactoren!$A$1:$F$2,2,FALSE)),FALSE)","v":1},0,{"$f":"+VLOOKUP(C1037,Scheepstypen!$A$1:$F$44,6,FALSE)","v":"L1"}]
["CEMT VIcBO2leegbeide","CEMT VIc","BO2","leeg","beide","Fijn stof",3.3690603151666925,{"$f":"VLOOKUP(A1038,Begin:Einde,7,FALSE)","v":0},1,{"$f":"VLOOKUP(Jaar&L1038,Trendfactoren!$A$2:$F$65,(HLOOKUP(F1038,Trendfactoren!$A$1:$F$2,2,FALSE)),FALSE)","v":1},0,{"$f":"+VLOOKUP(C1038,Scheepstypen!$A$1:$F$44,6,FALSE)","v":"L1"}]
["CEMT VIcBO2leegbeide","CEMT VIc","BO2","leeg","beide","NOx",100.19917632925868,{"$f":"VLOOKUP(A1039,Begin:Einde,7,FALSE)","v":0},1,{"$f":"VLOOKUP(Jaar&L1039,Trendfactoren!$A$2:$F$65,(HLOOKUP(F1039,Trendfactoren!$A$1:$F$2,2,FALSE)),FALSE)","v":1},0,{"$f":"+VLOOKUP(C1039,Scheepstypen!$A$1:$F$44,6,FALSE)","v":"L1"}]
["CEMT VIcBO3geladenbeide","CEMT VIc","BO3","geladen","beide","Fijn stof",8.8637410775037058,{"$f":"VLOOKUP(A1040,Begin:Einde,7,FALSE)","v":0},1,{"$f":"VLOOKUP(Jaar&L1040,Trendfactoren!$A$2:$F$65,(HLOOKUP(F1040,Trendfactoren!$A$1:$F$2,2,FALSE)),FALSE)","v":1},0,{"$f":"+VLOOKUP(C1040,Scheepstypen!$A$1:$F$44,6,FALSE)","v":"L1"}]
["CEMT VIcBO3geladenbeide","CEMT VIc","BO3","geladen","beide","NOx",263.85334481732002,{"$f":"VLOOKUP(A1041,Begin:Einde,7,FALSE)","v":0},1,{"$f":"VLOOKUP(Jaar&L1041,Trendfactoren!$A$2:$F$65,(HLOOKUP(F1041,Trendfactoren!$A$1:$F$2,2,FALSE)),FALSE)","v":1},0,{"$f":"+VLOOKUP(C1041,Scheepstypen!$A$1:$F$44,6,FALSE)","v":"L1"}]
["CEMT VIcBO3leegbeide","CEMT VIc","BO3","leeg","beide","Fijn stof",4.2530625689219193,{"$f":"VLOOKUP(A1042,Begin:Einde,7,FALSE)","v":0},1,{"$f":"VLOOKUP(Jaar&L1042,Trendfactoren!$A$2:$F$65,(HLOOKUP(F1042,Trendfactoren!$A$1:$F$2,2,FALSE)),FALSE)","v":1},0,{"$f":"+VLOOKUP(C1042,Scheepstypen!$A$1:$F$44,6,FALSE)","v":"L1"}]
["CEMT VIcBO3leegbeide","CEMT VIc","BO3","leeg","beide","NOx",125.43481871070601,{"$f":"VLOOKUP(A1043,Begin:Einde,7,FALSE)","v":0},1,{"$f":"VLOOKUP(Jaar&L1043,Trendfactoren!$A$2:$F$65,(HLOOKUP(F1043,Trendfactoren!$A$1:$F$2,2,FALSE)),FALSE)","v":1},0,{"$f":"+VLOOKUP(C1043,Scheepstypen!$A$1:$F$44,6,FALSE)","v":"L1"}]
["CEMT VIcBO4geladenbeide","CEMT VIc","BO4","geladen","beide","Fijn stof",11.504384121504387,{"$f":"VLOOKUP(A1044,Begin:Einde,7,FALSE)","v":0},1,{"$f":"VLOOKUP(Jaar&L1044,Trendfactoren!$A$2:$F$65,(HLOOKUP(F1044,Trendfactoren!$A$1:$F$2,2,FALSE)),FALSE)","v":1},0,{"$f":"+VLOOKUP(C1044,Scheepstypen!$A$1:$F$44,6,FALSE)","v":"L1"}]
["CEMT VIcBO4geladenbeide","CEMT VIc","BO4","geladen","beide","NOx",345.60918073782557,{"$f":"VLOOKUP(A1045,Begin:Einde,7,FALSE)","v":0},1,{"$f":"VLOOKUP(Jaar&L1045,Trendfactoren!$A$2:$F$65,(HLOOKUP(F1045,Trendfactoren!$A$1:$F$2,2,FALSE)),FALSE)","v":1},0,{"$f":"+VLOOKUP(C1045,Scheepstypen!$A$1:$F$44,6,FALSE)","v":"L1"}]
["CEMT VIcBO4leegbeide","CEMT VIc","BO4","leeg","beide","Fijn stof",4.9634476304736888,{"$f":"VLOOKUP(A1046,Begin:Einde,7,FALSE)","v":0},1,{"$f":"VLOOKUP(Jaar&L1046,Trendfactoren!$A$2:$F$65,(HLOOKUP(F1046,Trendfactoren!$A$1:$F$2,2,FALSE)),FALSE)","v":1},0,{"$f":"+VLOOKUP(C1046,Scheepstypen!$A$1:$F$44,6,FALSE)","v":"L1"}]
["CEMT VIcBO4leegbeide","CEMT VIc","BO4","leeg","beide","NOx",143.65577879419649,{"$f":"VLOOKUP(A1047,Begin:Einde,7,FALSE)","v":0},1,{"$f":"VLOOKUP(Jaar&L1047,Trendfactoren!$A$2:$F$65,(HLOOKUP(F1047,Trendfactoren!$A$1:$F$2,2,FALSE)),FALSE)","v":1},0,{"$f":"+VLOOKUP(C1047,Scheepstypen!$A$1:$F$44,6,FALSE)","v":"L1"}]
["CEMT VIcC1bgeladenbeide","CEMT VIc","C1b","geladen","beide","Fijn stof",5.4736505604886965,{"$f":"VLOOKUP(A1048,Begin:Einde,7,FALSE)","v":0},1,{"$f":"VLOOKUP(Jaar&L1048,Trendfactoren!$A$2:$F$65,(HLOOKUP(F1048,Trendfactoren!$A$1:$F$2,2,FALSE)),FALSE)","v":1},0,{"$f":"+VLOOKUP(C1048,Scheepstypen!$A$1:$F$44,6,FALSE)","v":"L1"}]
["CEMT VIcC1bgeladenbeide","CEMT VIc","C1b","geladen","beide","NOx",164.44481346850733,{"$f":"VLOOKUP(A1049,Begin:Einde,7,FALSE)","v":0},1,{"$f":"VLOOKUP(Jaar&L1049,Trendfactoren!$A$2:$F$65,(HLOOKUP(F1049,Trendfactoren!$A$1:$F$2,2,FALSE)),FALSE)","v":1},0,{"$f":"+VLOOKUP(C1049,Scheepstypen!$A$1:$F$44,6,FALSE)","v":"L1"}]
["CEMT VIcC1bleegbeide","CEMT VIc","C1b","leeg","beide","Fijn stof",2.7139505972611224,{"$f":"VLOOKUP(A1050,Begin:Einde,7,FALSE)","v":0},1,{"$f":"VLOOKUP(Jaar&L1050,Trendfactoren!$A$2:$F$65,(HLOOKUP(F1050,Trendfactoren!$A$1:$F$2,2,FALSE)),FALSE)","v":1},0,{"$f":"+VLOOKUP(C1050,Scheepstypen!$A$1:$F$44,6,FALSE)","v":"L1"}]
["CEMT VIcC1bleegbeide","CEMT VIc","C1b","leeg","beide","NOx",78.684857777440044,{"$f":"VLOOKUP(A1051,Begin:Einde,7,FALSE)","v":0},1,{"$f":"VLOOKUP(Jaar&L1051,Trendfactoren!$A$2:$F$65,(HLOOKUP(F1051,Trendfactoren!$A$1:$F$2,2,FALSE)),FALSE)","v":1},0,{"$f":"+VLOOKUP(C1051,Scheepstypen!$A$1:$F$44,6,FALSE)","v":"L1"}]
["CEMT VIcC1lgeladenbeide","CEMT VIc","C1l","geladen","beide","Fijn stof",3.6296475462193665,{"$f":"VLOOKUP(A1052,Begin:Einde,7,FALSE)","v":0},1,{"$f":"VLOOKUP(Jaar&L1052,Trendfactoren!$A$2:$F$65,(HLOOKUP(F1052,Trendfactoren!$A$1:$F$2,2,FALSE)),FALSE)","v":1},0,{"$f":"+VLOOKUP(C1052,Scheepstypen!$A$1:$F$44,6,FALSE)","v":"L1"}]
["CEMT VIcC1lgeladenbeide","CEMT VIc","C1l","geladen","beide","NOx",107.09000168103931,{"$f":"VLOOKUP(A1053,Begin:Einde,7,FALSE)","v":0},1,{"$f":"VLOOKUP(Jaar&L1053,Trendfactoren!$A$2:$F$65,(HLOOKUP(F1053,Trendfactoren!$A$1:$F$2,2,FALSE)),FALSE)","v":1},0,{"$f":"+VLOOKUP(C1053,Scheepstypen!$A$1:$F$44,6,FALSE)","v":"L1"}]
["CEMT VIcC1lleegbeide","CEMT VIc","C1l","leeg","beide","Fijn stof",2.6867877662349149,{"$f":"VLOOKUP(A1054,Begin:Einde,7,FALSE)","v":0},1,{"$f":"VLOOKUP(Jaar&L1054,Trendfactoren!$A$2:$F$65,(HLOOKUP(F1054,Trendfactoren!$A$1:$F$2,2,FALSE)),FALSE)","v":1},0,{"$f":"+VLOOKUP(C1054,Scheepstypen!$A$1:$F$44,6,FALSE)","v":"L1"}]
["CEMT VIcC1lleegbeide","CEMT VIc","C1l","leeg","beide","NOx",76.616478309550843,{"$f":"VLOOKUP(A1055,Begin:Einde,7,FALSE)","v":0},1,{"$f":"VLOOKUP(Jaar&L1055,Trendfactoren!$A$2:$F$65,(HLOOKUP(F1055,Trendfactoren!$A$1:$F$2,2,FALSE)),FALSE)","v":1},0,{"$f":"+VLOOKUP(C1055,Scheepstypen!$A$1:$F$44,6,FALSE)","v":"L1"}]
["CEMT VIcC2bgeladenbeide","CEMT VIc","C2b","geladen","beide","Fijn stof",13.56693067490836,{"$f":"VLOOKUP(A1056,Begin:Einde,7,FALSE)","v":0},1,{"$f":"VLOOKUP(Jaar&L1056,Trendfactoren!$A$2:$F$65,(HLOOKUP(F1056,Trendfactoren!$A$1:$F$2,2,FALSE)),FALSE)","v":1},0,{"$f":"+VLOOKUP(C1056,Scheepstypen!$A$1:$F$44,6,FALSE)","v":"L2"}]
["CEMT VIcC2bgeladenbeide","CEMT VIc","C2b","geladen","beide","NOx",343.6946164198485,{"$f":"VLOOKUP(A1057,Begin:Einde,7,FALSE)","v":0},1,{"$f":"VLOOKUP(Jaar&L1057,Trendfactoren!$A$2:$F$65,(HLOOKUP(F1057,Trendfactoren!$A$1:$F$2,2,FALSE)),FALSE)","v":1},0,{"$f":"+VLOOKUP(C1057,Scheepstypen!$A$1:$F$44,6,FALSE)","v":"L2"}]
["CEMT VIcC2bleegbeide","CEMT VIc","C2b","leeg","beide","Fijn stof",10.300486280108782,{"$f":"VLOOKUP(A1058,Begin:Einde,7,FALSE)","v":0},1,{"$f":"VLOOKUP(Jaar&L1058,Trendfactoren!$A$2:$F$65,(HLOOKUP(F1058,Trendfactoren!$A$1:$F$2,2,FALSE)),FALSE)","v":1},0,{"$f":"+VLOOKUP(C1058,Scheepstypen!$A$1:$F$44,6,FALSE)","v":"L2"}]
["CEMT VIcC2bleegbeide","CEMT VIc","C2b","leeg","beide","NOx",294.70476968351579,{"$f":"VLOOKUP(A1059,Begin:Einde,7,FALSE)","v":0},1,{"$f":"VLOOKUP(Jaar&L1059,Trendfactoren!$A$2:$F$65,(HLOOKUP(F1059,Trendfactoren!$A$1:$F$2,2,FALSE)),FALSE)","v":1},0,{"$f":"+VLOOKUP(C1059,Scheepstypen!$A$1:$F$44,6,FALSE)","v":"L2"}]
["CEMT VIcC2lgeladenbeide","CEMT VIc","C2l","geladen","beide","Fijn stof",17.815560473631209,{"$f":"VLOOKUP(A1060,Begin:Einde,7,FALSE)","v":0},1,{"$f":"VLOOKUP(Jaar&L1060,Trendfactoren!$A$2:$F$65,(HLOOKUP(F1060,Trendfactoren!$A$1:$F$2,2,FALSE)),FALSE)","v":1},0,{"$f":"+VLOOKUP(C1060,Scheepstypen!$A$1:$F$44,6,FALSE)","v":"L2"}]
["CEMT VIcC2lgeladenbeide","CEMT VIc","C2l","geladen","beide","NOx",548.36590033660707,{"$f":"VLOOKUP(A1061,Begin:Einde,7,FALSE)","v":0},1,{"$f":"VLOOKUP(Jaar&L1061,Trendfactoren!$A$2:$F$65,(HLOOKUP(F1061,Trendfactoren!$A$1:$F$2,2,FALSE)),FALSE)","v":1},0,{"$f":"+VLOOKUP(C1061,Scheepstypen!$A$1:$F$44,6,FALSE)","v":"L2"}]
["CEMT VIcC2lleegbeide","CEMT VIc","C2l","leeg","beide","Fijn stof",12.035821424947613,{"$f":"VLOOKUP(A1062,Begin:Einde,7,FALSE)","v":0},1,{"$f":"VLOOKUP(Jaar&L1062,Trendfactoren!$A$2:$F$65,(HLOOKUP(F1062,Trendfactoren!$A$1:$F$2,2,FALSE)),FALSE)","v":1},0,{"$f":"+VLOOKUP(C1062,Scheepstypen!$A$1:$F$44,6,FALSE)","v":"L2"}]
["CEMT VIcC2lleegbeide","CEMT VIc","C2l","leeg","beide","NOx",364.03661844019013,{"$f":"VLOOKUP(A1063,Begin:Einde,7,FALSE)","v":0},1,{"$f":"VLOOKUP(Jaar&L1063,Trendfactoren!$A$2:$F$65,(HLOOKUP(F1063,Trendfactoren!$A$1:$F$2,2,FALSE)),FALSE)","v":1},0,{"$f":"+VLOOKUP(C1063,Scheepstypen!$A$1:$F$44,6,FALSE)","v":"L2"}]
["CEMT VIcC3bgeladenbeide","CEMT VIc","C3b","geladen","beide","Fijn stof",37.674859836868421,{"$f":"VLOOKUP(A1064,Begin:Einde,7,FALSE)","v":0},1,{"$f":"VLOOKUP(Jaar&L1064,Trendfactoren!$A$2:$F$65,(HLOOKUP(F1064,Trendfactoren!$A$1:$F$2,2,FALSE)),FALSE)","v":1},0,{"$f":"+VLOOKUP(C1064,Scheepstypen!$A$1:$F$44,6,FALSE)","v":"L3"}]
["CEMT VIcC3bgeladenbeide","CEMT VIc","C3b","geladen","beide","NOx",1170.4816775964309,{"$f":"VLOOKUP(A1065,Begin:Einde,7,FALSE)","v":0},1,{"$f":"VLOOKUP(Jaar&L1065,Trendfactoren!$A$2:$F$65,(HLOOKUP(F1065,Trendfactoren!$A$1:$F$2,2,FALSE)),FALSE)","v":1},0,{"$f":"+VLOOKUP(C1065,Scheepstypen!$A$1:$F$44,6,FALSE)","v":"L3"}]
["CEMT VIcC3bleegbeide","CEMT VIc","C3b","leeg","beide","Fijn stof",16.112032785444754,{"$f":"VLOOKUP(A1066,Begin:Einde,7,FALSE)","v":0},1,{"$f":"VLOOKUP(Jaar&L1066,Trendfactoren!$A$2:$F$65,(HLOOKUP(F1066,Trendfactoren!$A$1:$F$2,2,FALSE)),FALSE)","v":1},0,{"$f":"+VLOOKUP(C1066,Scheepstypen!$A$1:$F$44,6,FALSE)","v":"L3"}]
["CEMT VIcC3bleegbeide","CEMT VIc","C3b","leeg","beide","NOx",495.70455684343841,{"$f":"VLOOKUP(A1067,Begin:Einde,7,FALSE)","v":0},1,{"$f":"VLOOKUP(Jaar&L1067,Trendfactoren!$A$2:$F$65,(HLOOKUP(F1067,Trendfactoren!$A$1:$F$2,2,FALSE)),FALSE)","v":1},0,{"$f":"+VLOOKUP(C1067,Scheepstypen!$A$1:$F$44,6,FALSE)","v":"L3"}]
["CEMT VIcC3lgeladenbeide","CEMT VIc","C3l","geladen","beide","Fijn stof",24.560096634593993,{"$f":"VLOOKUP(A1068,Begin:Einde,7,FALSE)","v":0},1,{"$f":"VLOOKUP(Jaar&L1068,Trendfactoren!$A$2:$F$65,(HLOOKUP(F1068,Trendfactoren!$A$1:$F$2,2,FALSE)),FALSE)","v":1},0,{"$f":"+VLOOKUP(C1068,Scheepstypen!$A$1:$F$44,6,FALSE)","v":"L3"}]
["CEMT VIcC3lgeladenbeide","CEMT VIc","C3l","geladen","beide","NOx",759.59298718466277,{"$f":"VLOOKUP(A1069,Begin:Einde,7,FALSE)","v":0},1,{"$f":"VLOOKUP(Jaar&L1069,Trendfactoren!$A$2:$F$65,(HLOOKUP(F1069,Trendfactoren!$A$1:$F$2,2,FALSE)),FALSE)","v":1},0,{"$f":"+VLOOKUP(C1069,Scheepstypen!$A$1:$F$44,6,FALSE)","v":"L3"}]
["CEMT VIcC3lleegbeide","CEMT VIc","C3l","leeg","beide","Fijn stof",13.01699996754242,{"$f":"VLOOKUP(A1070,Begin:Einde,7,FALSE)","v":0},1,{"$f":"VLOOKUP(Jaar&L1070,Trendfactoren!$A$2:$F$65,(HLOOKUP(F1070,Trendfactoren!$A$1:$F$2,2,FALSE)),FALSE)","v":1},{"$f":"+G1070*H1070*I1070*J1070","v":0},{"$f":"+VLOOKUP(C1070,Scheepstypen!$A$1:$F$44,6,FALSE)","v":"L3"}]
["CEMT VIcC3lleegbeide","CEMT VIc","C3l","leeg","beide","NOx",396.41823708315968,{"$f":"VLOOKUP(A1071,Begin:Einde,7,FALSE)","v":0},1,{"$f":"VLOOKUP(Jaar&L1071,Trendfactoren!$A$2:$F$65,(HLOOKUP(F1071,Trendfactoren!$A$1:$F$2,2,FALSE)),FALSE)","v":1},0,{"$f":"+VLOOKUP(C1071,Scheepstypen!$A$1:$F$44,6,FALSE)","v":"L3"}]
["CEMT VIcC4geladenbeide","CEMT VIc","C4","geladen","beide","Fijn stof",38.227687236683202,{"$f":"VLOOKUP(A1072,Begin:Einde,7,FALSE)","v":0},1,{"$f":"VLOOKUP(Jaar&L1072,Trendfactoren!$A$2:$F$65,(HLOOKUP(F1072,Trendfactoren!$A$1:$F$2,2,FALSE)),FALSE)","v":1},0,{"$f":"+VLOOKUP(C1072,Scheepstypen!$A$1:$F$44,6,FALSE)","v":"L3"}]
["CEMT VIcC4geladenbeide","CEMT VIc","C4","geladen","beide","NOx",1176.0237626745636,{"$f":"VLOOKUP(A1073,Begin:Einde,7,FALSE)","v":0},1,{"$f":"VLOOKUP(Jaar&L1073,Trendfactoren!$A$2:$F$65,(HLOOKUP(F1073,Trendfactoren!$A$1:$F$2,2,FALSE)),FALSE)","v":1},0,{"$f":"+VLOOKUP(C1073,Scheepstypen!$A$1:$F$44,6,FALSE)","v":"L3"}]
["CEMT VIcC4leegbeide","CEMT VIc","C4","leeg","beide","Fijn stof",23.599059758506947,{"$f":"VLOOKUP(A1074,Begin:Einde,7,FALSE)","v":0},1,{"$f":"VLOOKUP(Jaar&L1074,Trendfactoren!$A$2:$F$65,(HLOOKUP(F1074,Trendfactoren!$A$1:$F$2,2,FALSE)),FALSE)","v":1},0,{"$f":"+VLOOKUP(C1074,Scheepstypen!$A$1:$F$44,6,FALSE)","v":"L3"}]
["CEMT VIcC4leegbeide","CEMT VIc","C4","leeg","beide","NOx",711.46364127371555,{"$f":"VLOOKUP(A1075,Begin:Einde,7,FALSE)","v":0},1,{"$f":"VLOOKUP(Jaar&L1075,Trendfactoren!$A$2:$F$65,(HLOOKUP(F1075,Trendfactoren!$A$1:$F$2,2,FALSE)),FALSE)","v":1},0,{"$f":"+VLOOKUP(C1075,Scheepstypen!$A$1:$F$44,6,FALSE)","v":"L3"}]
["CEMT VIcM0geladenbeide","CEMT VIc","M0","geladen","beide","Fijn stof",1.5648083138961419,{"$f":"VLOOKUP(A1076,Begin:Einde,7,FALSE)","v":0},1,{"$f":"VLOOKUP(Jaar&L1076,Trendfactoren!$A$2:$F$65,(HLOOKUP(F1076,Trendfactoren!$A$1:$F$2,2,FALSE)),FALSE)","v":1},0,{"$f":"+VLOOKUP(C1076,Scheepstypen!$A$1:$F$44,6,FALSE)","v":"L1"}]
["CEMT VIcM0geladenbeide","CEMT VIc","M0","geladen","beide","NOx",46.12558243433525,{"$f":"VLOOKUP(A1077,Begin:Einde,7,FALSE)","v":0},1,{"$f":"VLOOKUP(Jaar&L1077,Trendfactoren!$A$2:$F$65,(HLOOKUP(F1077,Trendfactoren!$A$1:$F$2,2,FALSE)),FALSE)","v":1},0,{"$f":"+VLOOKUP(C1077,Scheepstypen!$A$1:$F$44,6,FALSE)","v":"L1"}]
["CEMT VIcM0leegbeide","CEMT VIc","M0","leeg","beide","Fijn stof",1.1213123316528189,{"$f":"VLOOKUP(A1078,Begin:Einde,7,FALSE)","v":0},1,{"$f":"VLOOKUP(Jaar&L1078,Trendfactoren!$A$2:$F$65,(HLOOKUP(F1078,Trendfactoren!$A$1:$F$2,2,FALSE)),FALSE)","v":1},0,{"$f":"+VLOOKUP(C1078,Scheepstypen!$A$1:$F$44,6,FALSE)","v":"L1"}]
["CEMT VIcM0leegbeide","CEMT VIc","M0","leeg","beide","NOx",32.008715777975183,{"$f":"VLOOKUP(A1079,Begin:Einde,7,FALSE)","v":0},1,{"$f":"VLOOKUP(Jaar&L1079,Trendfactoren!$A$2:$F$65,(HLOOKUP(F1079,Trendfactoren!$A$1:$F$2,2,FALSE)),FALSE)","v":1},0,{"$f":"+VLOOKUP(C1079,Scheepstypen!$A$1:$F$44,6,FALSE)","v":"L1"}]
["CEMT VIcM1geladenbeide","CEMT VIc","M1","geladen","beide","Fijn stof",3.1569817137200289,{"$f":"VLOOKUP(A1080,Begin:Einde,7,FALSE)","v":0},1,{"$f":"VLOOKUP(Jaar&L1080,Trendfactoren!$A$2:$F$65,(HLOOKUP(F1080,Trendfactoren!$A$1:$F$2,2,FALSE)),FALSE)","v":1},0,{"$f":"+VLOOKUP(C1080,Scheepstypen!$A$1:$F$44,6,FALSE)","v":"L1"}]
["CEMT VIcM1geladenbeide","CEMT VIc","M1","geladen","beide","NOx",94.148712319830139,{"$f":"VLOOKUP(A1081,Begin:Einde,7,FALSE)","v":0},1,{"$f":"VLOOKUP(Jaar&L1081,Trendfactoren!$A$2:$F$65,(HLOOKUP(F1081,Trendfactoren!$A$1:$F$2,2,FALSE)),FALSE)","v":1},0,{"$f":"+VLOOKUP(C1081,Scheepstypen!$A$1:$F$44,6,FALSE)","v":"L1"}]
["CEMT VIcM1leegbeide","CEMT VIc","M1","leeg","beide","Fijn stof",1.8992186865462701,{"$f":"VLOOKUP(A1082,Begin:Einde,7,FALSE)","v":0},1,{"$f":"VLOOKUP(Jaar&L1082,Trendfactoren!$A$2:$F$65,(HLOOKUP(F1082,Trendfactoren!$A$1:$F$2,2,FALSE)),FALSE)","v":1},0,{"$f":"+VLOOKUP(C1082,Scheepstypen!$A$1:$F$44,6,FALSE)","v":"L1"}]
["CEMT VIcM1leegbeide","CEMT VIc","M1","leeg","beide","NOx",56.446428921970593,{"$f":"VLOOKUP(A1083,Begin:Einde,7,FALSE)","v":0},1,{"$f":"VLOOKUP(Jaar&L1083,Trendfactoren!$A$2:$F$65,(HLOOKUP(F1083,Trendfactoren!$A$1:$F$2,2,FALSE)),FALSE)","v":1},0,{"$f":"+VLOOKUP(C1083,Scheepstypen!$A$1:$F$44,6,FALSE)","v":"L1"}]
["CEMT VIcM10geladenbeide","CEMT VIc","M10","geladen","beide","Fijn stof",25.783908063491317,{"$f":"VLOOKUP(A1084,Begin:Einde,7,FALSE)","v":0},{"$f":"+Afstand","v":1},{"$f":"VLOOKUP(Jaar&L1084,Trendfactoren!$A$2:$F$65,(HLOOKUP(F1084,Trendfactoren!$A$1:$F$2,2,FALSE)),FALSE)","v":1},0,{"$f":"+VLOOKUP(C1084,Scheepstypen!$A$1:$F$44,6,FALSE)","v":"L3"}]
["CEMT VIcM10geladenbeide","CEMT VIc","M10","geladen","beide","NOx",799.78056355697709,{"$f":"VLOOKUP(A1085,Begin:Einde,7,FALSE)","v":0},1,{"$f":"VLOOKUP(Jaar&L1085,Trendfactoren!$A$2:$F$65,(HLOOKUP(F1085,Trendfactoren!$A$1:$F$2,2,FALSE)),FALSE)","v":1},0,{"$f":"+VLOOKUP(C1085,Scheepstypen!$A$1:$F$44,6,FALSE)","v":"L3"}]
["CEMT VIcM10leegbeide","CEMT VIc","M10","leeg","beide","Fijn stof",13.896047309829552,{"$f":"VLOOKUP(A1086,Begin:Einde,7,FALSE)","v":0},1,{"$f":"VLOOKUP(Jaar&L1086,Trendfactoren!$A$2:$F$65,(HLOOKUP(F1086,Trendfactoren!$A$1:$F$2,2,FALSE)),FALSE)","v":1},0,{"$f":"+VLOOKUP(C1086,Scheepstypen!$A$1:$F$44,6,FALSE)","v":"L3"}]
["CEMT VIcM10leegbeide","CEMT VIc","M10","leeg","beide","NOx",425.89356094027187,{"$f":"VLOOKUP(A1087,Begin:Einde,7,FALSE)","v":0},1,{"$f":"VLOOKUP(Jaar&L1087,Trendfactoren!$A$2:$F$65,(HLOOKUP(F1087,Trendfactoren!$A$1:$F$2,2,FALSE)),FALSE)","v":1},0,{"$f":"+VLOOKUP(C1087,Scheepstypen!$A$1:$F$44,6,FALSE)","v":"L3"}]
["CEMT VIcM11geladenbeide","CEMT VIc","M11","geladen","beide","Fijn stof",27.876510831693189,{"$f":"VLOOKUP(A1088,Begin:Einde,7,FALSE)","v":0},1,{"$f":"VLOOKUP(Jaar&L1088,Trendfactoren!$A$2:$F$65,(HLOOKUP(F1088,Trendfactoren!$A$1:$F$2,2,FALSE)),FALSE)","v":1},0,{"$f":"+VLOOKUP(C1088,Scheepstypen!$A$1:$F$44,6,FALSE)","v":"L3"}]
[{"$f":"+B1089&C1089&D1089&E1089","v":"CEMT VIcM11geladenbeide"},"CEMT VIc","M11","geladen","beide","NOx",861.74703251139454,{"$f":"VLOOKUP(A1089,Begin:Einde,7,FALSE)","v":0},1,{"$f":"VLOOKUP(Jaar&L1089,Trendfactoren!$A$2:$F$65,(HLOOKUP(F1089,Trendfactoren!$A$1:$F$2,2,FALSE)),FALSE)","v":1},0,{"$f":"+VLOOKUP(C1089,Scheepstypen!$A$1:$F$44,6,FALSE)","v":"L3"}]
["CEMT VIcM11leegbeide","CEMT VIc","M11","leeg","beide","Fijn stof",15.456758509594604,{"$f":"VLOOKUP(A1090,Begin:Einde,7,FALSE)","v":0},1,{"$f":"VLOOKUP(Jaar&L1090,Trendfactoren!$A$2:$F$65,(HLOOKUP(F1090,Trendfactoren!$A$1:$F$2,2,FALSE)),FALSE)","v":1},0,{"$f":"+VLOOKUP(C1090,Scheepstypen!$A$1:$F$44,6,FALSE)","v":"L3"}]
["CEMT VIcM11leegbeide","CEMT VIc","M11","leeg","beide","NOx",469.89109326208876,{"$f":"VLOOKUP(A1091,Begin:Einde,7,FALSE)","v":0},1,{"$f":"VLOOKUP(Jaar&L1091,Trendfactoren!$A$2:$F$65,(HLOOKUP(F1091,Trendfactoren!$A$1:$F$2,2,FALSE)),FALSE)","v":1},0,{"$f":"+VLOOKUP(C1091,Scheepstypen!$A$1:$F$44,6,FALSE)","v":"L3"}]
["CEMT VIcM12geladenbeide","CEMT VIc","M12","geladen","beide","Fijn stof",30.000701551532522,{"$f":"VLOOKUP(A1092,Begin:Einde,7,FALSE)","v":0},1,{"$f":"VLOOKUP(Jaar&L1092,Trendfactoren!$A$2:$F$65,(HLOOKUP(F1092,Trendfactoren!$A$1:$F$2,2,FALSE)),FALSE)","v":1},0,{"$f":"+VLOOKUP(C1092,Scheepstypen!$A$1:$F$44,6,FALSE)","v":"L3"}]
["CEMT VIcM12geladenbeide","CEMT VIc","M12","geladen","beide","NOx",924.87219983828186,{"$f":"VLOOKUP(A1093,Begin:Einde,7,FALSE)","v":0},1,{"$f":"VLOOKUP(Jaar&L1093,Trendfactoren!$A$2:$F$65,(HLOOKUP(F1093,Trendfactoren!$A$1:$F$2,2,FALSE)),FALSE)","v":1},0,{"$f":"+VLOOKUP(C1093,Scheepstypen!$A$1:$F$44,6,FALSE)","v":"L3"}]
["CEMT VIcM12leegbeide","CEMT VIc","M12","leeg","beide","Fijn stof",20.417828130243514,{"$f":"VLOOKUP(A1094,Begin:Einde,7,FALSE)","v":0},1,{"$f":"VLOOKUP(Jaar&L1094,Trendfactoren!$A$2:$F$65,(HLOOKUP(F1094,Trendfactoren!$A$1:$F$2,2,FALSE)),FALSE)","v":1},0,{"$f":"+VLOOKUP(C1094,Scheepstypen!$A$1:$F$44,6,FALSE)","v":"L3"}]
["CEMT VIcM12leegbeide","CEMT VIc","M12","leeg","beide","NOx",620.77348206372699,{"$f":"VLOOKUP(A1095,Begin:Einde,7,FALSE)","v":0},1,{"$f":"VLOOKUP(Jaar&L1095,Trendfactoren!$A$2:$F$65,(HLOOKUP(F1095,Trendfactoren!$A$1:$F$2,2,FALSE)),FALSE)","v":1},0,{"$f":"+VLOOKUP(C1095,Scheepstypen!$A$1:$F$44,6,FALSE)","v":"L3"}]
["CEMT VIcM2geladenbeide","CEMT VIc","M2","geladen","beide","Fijn stof",6.5260879830804193,{"$f":"VLOOKUP(A1096,Begin:Einde,7,FALSE)","v":0},1,{"$f":"VLOOKUP(Jaar&L1096,Trendfactoren!$A$2:$F$65,(HLOOKUP(F1096,Trendfactoren!$A$1:$F$2,2,FALSE)),FALSE)","v":1},0,{"$f":"+VLOOKUP(C1096,Scheepstypen!$A$1:$F$44,6,FALSE)","v":"L1"}]
["CEMT VIcM2geladenbeide","CEMT VIc","M2","geladen","beide","NOx",195.91301424522928,{"$f":"VLOOKUP(A1097,Begin:Einde,7,FALSE)","v":0},1,{"$f":"VLOOKUP(Jaar&L1097,Trendfactoren!$A$2:$F$65,(HLOOKUP(F1097,Trendfactoren!$A$1:$F$2,2,FALSE)),FALSE)","v":1},0,{"$f":"+VLOOKUP(C1097,Scheepstypen!$A$1:$F$44,6,FALSE)","v":"L1"}]
["CEMT VIcM2leegbeide","CEMT VIc","M2","leeg","beide","Fijn stof",3.3346012075380598,{"$f":"VLOOKUP(A1098,Begin:Einde,7,FALSE)","v":0},1,{"$f":"VLOOKUP(Jaar&L1098,Trendfactoren!$A$2:$F$65,(HLOOKUP(F1098,Trendfactoren!$A$1:$F$2,2,FALSE)),FALSE)","v":1},0,{"$f":"+VLOOKUP(C1098,Scheepstypen!$A$1:$F$44,6,FALSE)","v":"L1"}]
["CEMT VIcM2leegbeide","CEMT VIc","M2","leeg","beide","NOx",99.214568240908335,{"$f":"VLOOKUP(A1099,Begin:Einde,7,FALSE)","v":0},1,{"$f":"VLOOKUP(Jaar&L1099,Trendfactoren!$A$2:$F$65,(HLOOKUP(F1099,Trendfactoren!$A$1:$F$2,2,FALSE)),FALSE)","v":1},0,{"$f":"+VLOOKUP(C1099,Scheepstypen!$A$1:$F$44,6,FALSE)","v":"L1"}]
["CEMT VIcM3geladenbeide","CEMT VIc","M3","geladen","beide","Fijn stof",8.3551061948290837,{"$f":"VLOOKUP(A1100,Begin:Einde,7,FALSE)","v":0},1,{"$f":"VLOOKUP(Jaar&L1100,Trendfactoren!$A$2:$F$65,(HLOOKUP(F1100,Trendfactoren!$A$1:$F$2,2,FALSE)),FALSE)","v":1},0,{"$f":"+VLOOKUP(C1100,Scheepstypen!$A$1:$F$44,6,FALSE)","v":"L1"}]
["CEMT VIcM3geladenbeide","CEMT VIc","M3","geladen","beide","NOx",250.84092552189165,{"$f":"VLOOKUP(A1101,Begin:Einde,7,FALSE)","v":0},1,{"$f":"VLOOKUP(Jaar&L1101,Trendfactoren!$A$2:$F$65,(HLOOKUP(F1101,Trendfactoren!$A$1:$F$2,2,FALSE)),FALSE)","v":1},0,{"$f":"+VLOOKUP(C1101,Scheepstypen!$A$1:$F$44,6,FALSE)","v":"L1"}]
["CEMT VIcM3leegbeide","CEMT VIc","M3","leeg","beide","Fijn stof",4.4785218672743277,{"$f":"VLOOKUP(A1102,Begin:Einde,7,FALSE)","v":0},1,{"$f":"VLOOKUP(Jaar&L1102,Trendfactoren!$A$2:$F$65,(HLOOKUP(F1102,Trendfactoren!$A$1:$F$2,2,FALSE)),FALSE)","v":1},0,{"$f":"+VLOOKUP(C1102,Scheepstypen!$A$1:$F$44,6,FALSE)","v":"L1"}]
["CEMT VIcM3leegbeide","CEMT VIc","M3","leeg","beide","NOx",133.85383100216453,{"$f":"VLOOKUP(A1103,Begin:Einde,7,FALSE)","v":0},1,{"$f":"VLOOKUP(Jaar&L1103,Trendfactoren!$A$2:$F$65,(HLOOKUP(F1103,Trendfactoren!$A$1:$F$2,2,FALSE)),FALSE)","v":1},0,{"$f":"+VLOOKUP(C1103,Scheepstypen!$A$1:$F$44,6,FALSE)","v":"L1"}]
["CEMT VIcM4geladenbeide","CEMT VIc","M4","geladen","beide","Fijn stof",9.8740063672273326,{"$f":"VLOOKUP(A1104,Begin:Einde,7,FALSE)","v":0},1,{"$f":"VLOOKUP(Jaar&L1104,Trendfactoren!$A$2:$F$65,(HLOOKUP(F1104,Trendfactoren!$A$1:$F$2,2,FALSE)),FALSE)","v":1},0,{"$f":"+VLOOKUP(C1104,Scheepstypen!$A$1:$F$44,6,FALSE)","v":"L1"}]
["CEMT VIcM4geladenbeide","CEMT VIc","M4","geladen","beide","NOx",296.44266410782154,{"$f":"VLOOKUP(A1105,Begin:Einde,7,FALSE)","v":0},1,{"$f":"VLOOKUP(Jaar&L1105,Trendfactoren!$A$2:$F$65,(HLOOKUP(F1105,Trendfactoren!$A$1:$F$2,2,FALSE)),FALSE)","v":1},0,{"$f":"+VLOOKUP(C1105,Scheepstypen!$A$1:$F$44,6,FALSE)","v":"L1"}]
["CEMT VIcM4leegbeide","CEMT VIc","M4","leeg","beide","Fijn stof",5.749114399666265,{"$f":"VLOOKUP(A1106,Begin:Einde,7,FALSE)","v":0},1,{"$f":"VLOOKUP(Jaar&L1106,Trendfactoren!$A$2:$F$65,(HLOOKUP(F1106,Trendfactoren!$A$1:$F$2,2,FALSE)),FALSE)","v":1},0,{"$f":"+VLOOKUP(C1106,Scheepstypen!$A$1:$F$44,6,FALSE)","v":"L1"}]
["CEMT VIcM4leegbeide","CEMT VIc","M4","leeg","beide","NOx",171.42385200651245,{"$f":"VLOOKUP(A1107,Begin:Einde,7,FALSE)","v":0},1,{"$f":"VLOOKUP(Jaar&L1107,Trendfactoren!$A$2:$F$65,(HLOOKUP(F1107,Trendfactoren!$A$1:$F$2,2,FALSE)),FALSE)","v":1},0,{"$f":"+VLOOKUP(C1107,Scheepstypen!$A$1:$F$44,6,FALSE)","v":"L1"}]
["CEMT VIcM5geladenbeide","CEMT VIc","M5","geladen","beide","Fijn stof",10.784604802263633,{"$f":"VLOOKUP(A1108,Begin:Einde,7,FALSE)","v":0},1,{"$f":"VLOOKUP(Jaar&L1108,Trendfactoren!$A$2:$F$65,(HLOOKUP(F1108,Trendfactoren!$A$1:$F$2,2,FALSE)),FALSE)","v":1},0,{"$f":"+VLOOKUP(C1108,Scheepstypen!$A$1:$F$44,6,FALSE)","v":"L2"}]
["CEMT VIcM5geladenbeide","CEMT VIc","M5","geladen","beide","NOx",332.15009214571211,{"$f":"VLOOKUP(A1109,Begin:Einde,7,FALSE)","v":0},1,{"$f":"VLOOKUP(Jaar&L1109,Trendfactoren!$A$2:$F$65,(HLOOKUP(F1109,Trendfactoren!$A$1:$F$2,2,FALSE)),FALSE)","v":1},0,{"$f":"+VLOOKUP(C1109,Scheepstypen!$A$1:$F$44,6,FALSE)","v":"L2"}]
["CEMT VIcM5leegbeide","CEMT VIc","M5","leeg","beide","Fijn stof",6.2566392565880404,{"$f":"VLOOKUP(A1110,Begin:Einde,7,FALSE)","v":0},1,{"$f":"VLOOKUP(Jaar&L1110,Trendfactoren!$A$2:$F$65,(HLOOKUP(F1110,Trendfactoren!$A$1:$F$2,2,FALSE)),FALSE)","v":1},0,{"$f":"+VLOOKUP(C1110,Scheepstypen!$A$1:$F$44,6,FALSE)","v":"L2"}]
["CEMT VIcM5leegbeide","CEMT VIc","M5","leeg","beide","NOx",191.98375590797599,{"$f":"VLOOKUP(A1111,Begin:Einde,7,FALSE)","v":0},1,{"$f":"VLOOKUP(Jaar&L1111,Trendfactoren!$A$2:$F$65,(HLOOKUP(F1111,Trendfactoren!$A$1:$F$2,2,FALSE)),FALSE)","v":1},0,{"$f":"+VLOOKUP(C1111,Scheepstypen!$A$1:$F$44,6,FALSE)","v":"L2"}]
["CEMT VIcM6geladenbeide","CEMT VIc","M6","geladen","beide","Fijn stof",12.955729813348851,{"$f":"VLOOKUP(A1112,Begin:Einde,7,FALSE)","v":0},1,{"$f":"VLOOKUP(Jaar&L1112,Trendfactoren!$A$2:$F$65,(HLOOKUP(F1112,Trendfactoren!$A$1:$F$2,2,FALSE)),FALSE)","v":1},0,{"$f":"+VLOOKUP(C1112,Scheepstypen!$A$1:$F$44,6,FALSE)","v":"L2"}]
["CEMT VIcM6geladenbeide","CEMT VIc","M6","geladen","beide","NOx",399.26976484258859,{"$f":"VLOOKUP(A1113,Begin:Einde,7,FALSE)","v":0},1,{"$f":"VLOOKUP(Jaar&L1113,Trendfactoren!$A$2:$F$65,(HLOOKUP(F1113,Trendfactoren!$A$1:$F$2,2,FALSE)),FALSE)","v":1},0,{"$f":"+VLOOKUP(C1113,Scheepstypen!$A$1:$F$44,6,FALSE)","v":"L2"}]
["CEMT VIcM6leegbeide","CEMT VIc","M6","leeg","beide","Fijn stof",7.6245793655142036,{"$f":"VLOOKUP(A1114,Begin:Einde,7,FALSE)","v":0},1,{"$f":"VLOOKUP(Jaar&L1114,Trendfactoren!$A$2:$F$65,(HLOOKUP(F1114,Trendfactoren!$A$1:$F$2,2,FALSE)),FALSE)","v":1},0,{"$f":"+VLOOKUP(C1114,Scheepstypen!$A$1:$F$44,6,FALSE)","v":"L2"}]
["CEMT VIcM6leegbeide","CEMT VIc","M6","leeg","beide","NOx",233.54280917101917,{"$f":"VLOOKUP(A1115,Begin:Einde,7,FALSE)","v":0},1,{"$f":"VLOOKUP(Jaar&L1115,Trendfactoren!$A$2:$F$65,(HLOOKUP(F1115,Trendfactoren!$A$1:$F$2,2,FALSE)),FALSE)","v":1},0,{"$f":"+VLOOKUP(C1115,Scheepstypen!$A$1:$F$44,6,FALSE)","v":"L2"}]
["CEMT VIcM7geladenbeide","CEMT VIc","M7","geladen","beide","Fijn stof",14.107397361923571,{"$f":"VLOOKUP(A1116,Begin:Einde,7,FALSE)","v":0},1,{"$f":"VLOOKUP(Jaar&L1116,Trendfactoren!$A$2:$F$65,(HLOOKUP(F1116,Trendfactoren!$A$1:$F$2,2,FALSE)),FALSE)","v":1},0,{"$f":"+VLOOKUP(C1116,Scheepstypen!$A$1:$F$44,6,FALSE)","v":"L2"}]
["CEMT VIcM7geladenbeide","CEMT VIc","M7","geladen","beide","NOx",433.8572491857924,{"$f":"VLOOKUP(A1117,Begin:Einde,7,FALSE)","v":0},1,{"$f":"VLOOKUP(Jaar&L1117,Trendfactoren!$A$2:$F$65,(HLOOKUP(F1117,Trendfactoren!$A$1:$F$2,2,FALSE)),FALSE)","v":1},0,{"$f":"+VLOOKUP(C1117,Scheepstypen!$A$1:$F$44,6,FALSE)","v":"L2"}]
["CEMT VIcM7leegbeide","CEMT VIc","M7","leeg","beide","Fijn stof",8.790934316673777,{"$f":"VLOOKUP(A1118,Begin:Einde,7,FALSE)","v":0},1,{"$f":"VLOOKUP(Jaar&L1118,Trendfactoren!$A$2:$F$65,(HLOOKUP(F1118,Trendfactoren!$A$1:$F$2,2,FALSE)),FALSE)","v":1},0,{"$f":"+VLOOKUP(C1118,Scheepstypen!$A$1:$F$44,6,FALSE)","v":"L2"}]
["CEMT VIcM7leegbeide","CEMT VIc","M7","leeg","beide","NOx",268.52298790303473,{"$f":"VLOOKUP(A1119,Begin:Einde,7,FALSE)","v":0},1,{"$f":"VLOOKUP(Jaar&L1119,Trendfactoren!$A$2:$F$65,(HLOOKUP(F1119,Trendfactoren!$A$1:$F$2,2,FALSE)),FALSE)","v":1},0,{"$f":"+VLOOKUP(C1119,Scheepstypen!$A$1:$F$44,6,FALSE)","v":"L2"}]
["CEMT VIcM8geladenbeide","CEMT VIc","M8","geladen","beide","Fijn stof",20.149360503425648,{"$f":"VLOOKUP(A1120,Begin:Einde,7,FALSE)","v":0},1,{"$f":"VLOOKUP(Jaar&L1120,Trendfactoren!$A$2:$F$65,(HLOOKUP(F1120,Trendfactoren!$A$1:$F$2,2,FALSE)),FALSE)","v":1},0,{"$f":"+VLOOKUP(C1120,Scheepstypen!$A$1:$F$44,6,FALSE)","v":"L3"}]
["CEMT VIcM8geladenbeide","CEMT VIc","M8","geladen","beide","NOx",623.25802883323684,{"$f":"VLOOKUP(A1121,Begin:Einde,7,FALSE)","v":0},1,{"$f":"VLOOKUP(Jaar&L1121,Trendfactoren!$A$2:$F$65,(HLOOKUP(F1121,Trendfactoren!$A$1:$F$2,2,FALSE)),FALSE)","v":1},0,{"$f":"+VLOOKUP(C1121,Scheepstypen!$A$1:$F$44,6,FALSE)","v":"L3"}]
["CEMT VIcM8leegbeide","CEMT VIc","M8","leeg","beide","Fijn stof",11.851358802978064,{"$f":"VLOOKUP(A1122,Begin:Einde,7,FALSE)","v":0},1,{"$f":"VLOOKUP(Jaar&L1122,Trendfactoren!$A$2:$F$65,(HLOOKUP(F1122,Trendfactoren!$A$1:$F$2,2,FALSE)),FALSE)","v":1},0,{"$f":"+VLOOKUP(C1122,Scheepstypen!$A$1:$F$44,6,FALSE)","v":"L3"}]
["CEMT VIcM8leegbeide","CEMT VIc","M8","leeg","beide","NOx",364.59973454130193,{"$f":"VLOOKUP(A1123,Begin:Einde,7,FALSE)","v":0},1,{"$f":"VLOOKUP(Jaar&L1123,Trendfactoren!$A$2:$F$65,(HLOOKUP(F1123,Trendfactoren!$A$1:$F$2,2,FALSE)),FALSE)","v":1},0,{"$f":"+VLOOKUP(C1123,Scheepstypen!$A$1:$F$44,6,FALSE)","v":"L3"}]
["CEMT VIcM9geladenbeide","CEMT VIc","M9","geladen","beide","Fijn stof",21.072327011241551,{"$f":"VLOOKUP(A1124,Begin:Einde,7,FALSE)","v":0},1,{"$f":"VLOOKUP(Jaar&L1124,Trendfactoren!$A$2:$F$65,(HLOOKUP(F1124,Trendfactoren!$A$1:$F$2,2,FALSE)),FALSE)","v":1},0,{"$f":"+VLOOKUP(C1124,Scheepstypen!$A$1:$F$44,6,FALSE)","v":"L3"}]
["CEMT VIcM9geladenbeide","CEMT VIc","M9","geladen","beide","NOx",651.43880069541422,{"$f":"VLOOKUP(A1125,Begin:Einde,7,FALSE)","v":0},1,{"$f":"VLOOKUP(Jaar&L1125,Trendfactoren!$A$2:$F$65,(HLOOKUP(F1125,Trendfactoren!$A$1:$F$2,2,FALSE)),FALSE)","v":1},0,{"$f":"+VLOOKUP(C1125,Scheepstypen!$A$1:$F$44,6,FALSE)","v":"L3"}]
["CEMT VIcM9leegbeide","CEMT VIc","M9","leeg","beide","Fijn stof",14.090764109374526,{"$f":"VLOOKUP(A1126,Begin:Einde,7,FALSE)","v":0},1,{"$f":"VLOOKUP(Jaar&L1126,Trendfactoren!$A$2:$F$65,(HLOOKUP(F1126,Trendfactoren!$A$1:$F$2,2,FALSE)),FALSE)","v":1},0,{"$f":"+VLOOKUP(C1126,Scheepstypen!$A$1:$F$44,6,FALSE)","v":"L3"}]
["CEMT VIcM9leegbeide","CEMT VIc","M9","leeg","beide","NOx",428.45266573617573,{"$f":"VLOOKUP(A1127,Begin:Einde,7,FALSE)","v":0},1,{"$f":"VLOOKUP(Jaar&L1127,Trendfactoren!$A$2:$F$65,(HLOOKUP(F1127,Trendfactoren!$A$1:$F$2,2,FALSE)),FALSE)","v":1},0,{"$f":"+VLOOKUP(C1127,Scheepstypen!$A$1:$F$44,6,FALSE)","v":"L3"}]
["IJsselBIgeladenaf","IJssel","BI","geladen","af","Fijn stof",4.7265993944888196,{"$f":"VLOOKUP(A1128,Begin:Einde,7,FALSE)","v":0},1,{"$f":"VLOOKUP(Jaar&L1128,Trendfactoren!$A$2:$F$65,(HLOOKUP(F1128,Trendfactoren!$A$1:$F$2,2,FALSE)),FALSE)","v":1},0,{"$f":"+VLOOKUP(C1128,Scheepstypen!$A$1:$F$44,6,FALSE)","v":"L2"}]
["IJsselBIgeladenaf","IJssel","BI","geladen","af","NOx",119.771071251802,{"$f":"VLOOKUP(A1129,Begin:Einde,7,FALSE)","v":0},1,{"$f":"VLOOKUP(Jaar&L1129,Trendfactoren!$A$2:$F$65,(HLOOKUP(F1129,Trendfactoren!$A$1:$F$2,2,FALSE)),FALSE)","v":1},0,{"$f":"+VLOOKUP(C1129,Scheepstypen!$A$1:$F$44,6,FALSE)","v":"L2"}]
["IJsselBIgeladenop","IJssel","BI","geladen","op","Fijn stof",25.156054500088931,{"$f":"VLOOKUP(A1130,Begin:Einde,7,FALSE)","v":0},1,{"$f":"VLOOKUP(Jaar&L1130,Trendfactoren!$A$2:$F$65,(HLOOKUP(F1130,Trendfactoren!$A$1:$F$2,2,FALSE)),FALSE)","v":1},0,{"$f":"+VLOOKUP(C1130,Scheepstypen!$A$1:$F$44,6,FALSE)","v":"L2"}]
["IJsselBIgeladenop","IJssel","BI","geladen","op","NOx",776.64669405272048,{"$f":"VLOOKUP(A1131,Begin:Einde,7,FALSE)","v":0},1,{"$f":"VLOOKUP(Jaar&L1131,Trendfactoren!$A$2:$F$65,(HLOOKUP(F1131,Trendfactoren!$A$1:$F$2,2,FALSE)),FALSE)","v":1},0,{"$f":"+VLOOKUP(C1131,Scheepstypen!$A$1:$F$44,6,FALSE)","v":"L2"}]
["IJsselBIleegaf","IJssel","BI","leeg","af","Fijn stof",3.1408450386819311,{"$f":"VLOOKUP(A1132,Begin:Einde,7,FALSE)","v":0},1,{"$f":"VLOOKUP(Jaar&L1132,Trendfactoren!$A$2:$F$65,(HLOOKUP(F1132,Trendfactoren!$A$1:$F$2,2,FALSE)),FALSE)","v":1},0,{"$f":"+VLOOKUP(C1132,Scheepstypen!$A$1:$F$44,6,FALSE)","v":"L2"}]
["IJsselBIleegaf","IJssel","BI","leeg","af","NOx",79.588377080881557,{"$f":"VLOOKUP(A1133,Begin:Einde,7,FALSE)","v":0},1,{"$f":"VLOOKUP(Jaar&L1133,Trendfactoren!$A$2:$F$65,(HLOOKUP(F1133,Trendfactoren!$A$1:$F$2,2,FALSE)),FALSE)","v":1},0,{"$f":"+VLOOKUP(C1133,Scheepstypen!$A$1:$F$44,6,FALSE)","v":"L2"}]
["IJsselBIleegop","IJssel","BI","leeg","op","Fijn stof",10.660548330371544,{"$f":"VLOOKUP(A1134,Begin:Einde,7,FALSE)","v":0},1,{"$f":"VLOOKUP(Jaar&L1134,Trendfactoren!$A$2:$F$65,(HLOOKUP(F1134,Trendfactoren!$A$1:$F$2,2,FALSE)),FALSE)","v":1},{"$f":"+G1134*H1134*I1134*J1134","v":0},{"$f":"+VLOOKUP(C1134,Scheepstypen!$A$1:$F$44,6,FALSE)","v":"L2"}]
["IJsselBIleegop","IJssel","BI","leeg","op","NOx",326.2383842590325,{"$f":"VLOOKUP(A1135,Begin:Einde,7,FALSE)","v":0},1,{"$f":"VLOOKUP(Jaar&L1135,Trendfactoren!$A$2:$F$65,(HLOOKUP(F1135,Trendfactoren!$A$1:$F$2,2,FALSE)),FALSE)","v":1},0,{"$f":"+VLOOKUP(C1135,Scheepstypen!$A$1:$F$44,6,FALSE)","v":"L2"}]
["IJsselBII-1geladenaf","IJssel","BII-1","geladen","af","Fijn stof",9.5331688405667521,{"$f":"VLOOKUP(A1136,Begin:Einde,7,FALSE)","v":0},1,{"$f":"VLOOKUP(Jaar&L1136,Trendfactoren!$A$2:$F$65,(HLOOKUP(F1136,Trendfactoren!$A$1:$F$2,2,FALSE)),FALSE)","v":1},0,{"$f":"+VLOOKUP(C1136,Scheepstypen!$A$1:$F$44,6,FALSE)","v":"L2"}]
["IJsselBII-1geladenaf","IJssel","BII-1","geladen","af","NOx",279.55338533598439,{"$f":"VLOOKUP(A1137,Begin:Einde,7,FALSE)","v":0},1,{"$f":"VLOOKUP(Jaar&L1137,Trendfactoren!$A$2:$F$65,(HLOOKUP(F1137,Trendfactoren!$A$1:$F$2,2,FALSE)),FALSE)","v":1},0,{"$f":"+VLOOKUP(C1137,Scheepstypen!$A$1:$F$44,6,FALSE)","v":"L2"}]
["IJsselBII-1geladenop","IJssel","BII-1","geladen","op","Fijn stof",41.583686464197356,{"$f":"VLOOKUP(A1138,Begin:Einde,7,FALSE)","v":0},1,{"$f":"VLOOKUP(Jaar&L1138,Trendfactoren!$A$2:$F$65,(HLOOKUP(F1138,Trendfactoren!$A$1:$F$2,2,FALSE)),FALSE)","v":1},0,{"$f":"+VLOOKUP(C1138,Scheepstypen!$A$1:$F$44,6,FALSE)","v":"L2"}]
["IJsselBII-1geladenop","IJssel","BII-1","geladen","op","NOx",1284.3270223892243,{"$f":"VLOOKUP(A1139,Begin:Einde,7,FALSE)","v":0},1,{"$f":"VLOOKUP(Jaar&L1139,Trendfactoren!$A$2:$F$65,(HLOOKUP(F1139,Trendfactoren!$A$1:$F$2,2,FALSE)),FALSE)","v":1},0,{"$f":"+VLOOKUP(C1139,Scheepstypen!$A$1:$F$44,6,FALSE)","v":"L2"}]
["IJsselBII-1leegaf","IJssel","BII-1","leeg","af","Fijn stof",5.4628118248779325,{"$f":"VLOOKUP(A1140,Begin:Einde,7,FALSE)","v":0},1,{"$f":"VLOOKUP(Jaar&L1140,Trendfactoren!$A$2:$F$65,(HLOOKUP(F1140,Trendfactoren!$A$1:$F$2,2,FALSE)),FALSE)","v":1},0,{"$f":"+VLOOKUP(C1140,Scheepstypen!$A$1:$F$44,6,FALSE)","v":"L2"}]
["IJsselBII-1leegaf","IJssel","BII-1","leeg","af","NOx",140.10994955843631,{"$f":"VLOOKUP(A1141,Begin:Einde,7,FALSE)","v":0},1,{"$f":"VLOOKUP(Jaar&L1141,Trendfactoren!$A$2:$F$65,(HLOOKUP(F1141,Trendfactoren!$A$1:$F$2,2,FALSE)),FALSE)","v":1},0,{"$f":"+VLOOKUP(C1141,Scheepstypen!$A$1:$F$44,6,FALSE)","v":"L2"}]
["IJsselBII-1leegop","IJssel","BII-1","leeg","op","Fijn stof",19.308646927474779,{"$f":"VLOOKUP(A1142,Begin:Einde,7,FALSE)","v":0},1,{"$f":"VLOOKUP(Jaar&L1142,Trendfactoren!$A$2:$F$65,(HLOOKUP(F1142,Trendfactoren!$A$1:$F$2,2,FALSE)),FALSE)","v":1},0,{"$f":"+VLOOKUP(C1142,Scheepstypen!$A$1:$F$44,6,FALSE)","v":"L2"}]
["IJsselBII-1leegop","IJssel","BII-1","leeg","op","NOx",590.71156431518705,{"$f":"VLOOKUP(A1143,Begin:Einde,7,FALSE)","v":0},1,{"$f":"VLOOKUP(Jaar&L1143,Trendfactoren!$A$2:$F$65,(HLOOKUP(F1143,Trendfactoren!$A$1:$F$2,2,FALSE)),FALSE)","v":1},0,{"$f":"+VLOOKUP(C1143,Scheepstypen!$A$1:$F$44,6,FALSE)","v":"L2"}]
["IJsselBII-2Bgeladenaf","IJssel","BII-2B","geladen","af","Fijn stof",20.097673741305226,{"$f":"VLOOKUP(A1144,Begin:Einde,7,FALSE)","v":0},1,{"$f":"VLOOKUP(Jaar&L1144,Trendfactoren!$A$2:$F$65,(HLOOKUP(F1144,Trendfactoren!$A$1:$F$2,2,FALSE)),FALSE)","v":1},0,{"$f":"+VLOOKUP(C1144,Scheepstypen!$A$1:$F$44,6,FALSE)","v":"L3"}]
["IJsselBII-2Bgeladenaf","IJssel","BII-2B","geladen","af","NOx",593.09774553287559,{"$f":"VLOOKUP(A1145,Begin:Einde,7,FALSE)","v":0},1,{"$f":"VLOOKUP(Jaar&L1145,Trendfactoren!$A$2:$F$65,(HLOOKUP(F1145,Trendfactoren!$A$1:$F$2,2,FALSE)),FALSE)","v":1},0,{"$f":"+VLOOKUP(C1145,Scheepstypen!$A$1:$F$44,6,FALSE)","v":"L3"}]
["IJsselBII-2Bgeladenop","IJssel","BII-2B","geladen","op","Fijn stof",63.444138429014011,{"$f":"VLOOKUP(A1146,Begin:Einde,7,FALSE)","v":0},1,{"$f":"VLOOKUP(Jaar&L1146,Trendfactoren!$A$2:$F$65,(HLOOKUP(F1146,Trendfactoren!$A$1:$F$2,2,FALSE)),FALSE)","v":1},0,{"$f":"+VLOOKUP(C1146,Scheepstypen!$A$1:$F$44,6,FALSE)","v":"L3"}]
["IJsselBII-2Bgeladenop","IJssel","BII-2B","geladen","op","NOx",1971.9710493572552,{"$f":"VLOOKUP(A1147,Begin:Einde,7,FALSE)","v":0},1,{"$f":"VLOOKUP(Jaar&L1147,Trendfactoren!$A$2:$F$65,(HLOOKUP(F1147,Trendfactoren!$A$1:$F$2,2,FALSE)),FALSE)","v":1},0,{"$f":"+VLOOKUP(C1147,Scheepstypen!$A$1:$F$44,6,FALSE)","v":"L3"}]
["IJsselBII-2Bleegaf","IJssel","BII-2B","leeg","af","Fijn stof",9.5385429215226107,{"$f":"VLOOKUP(A1148,Begin:Einde,7,FALSE)","v":0},{"$f":"+Afstand","v":1},{"$f":"VLOOKUP(Jaar&L1148,Trendfactoren!$A$2:$F$65,(HLOOKUP(F1148,Trendfactoren!$A$1:$F$2,2,FALSE)),FALSE)","v":1},0,{"$f":"+VLOOKUP(C1148,Scheepstypen!$A$1:$F$44,6,FALSE)","v":"L3"}]
["IJsselBII-2Bleegaf","IJssel","BII-2B","leeg","af","NOx",243.38369137714753,{"$f":"VLOOKUP(A1149,Begin:Einde,7,FALSE)","v":0},1,{"$f":"VLOOKUP(Jaar&L1149,Trendfactoren!$A$2:$F$65,(HLOOKUP(F1149,Trendfactoren!$A$1:$F$2,2,FALSE)),FALSE)","v":1},0,{"$f":"+VLOOKUP(C1149,Scheepstypen!$A$1:$F$44,6,FALSE)","v":"L3"}]
["IJsselBII-2Bleegop","IJssel","BII-2B","leeg","op","Fijn stof",36.254961363481449,{"$f":"VLOOKUP(A1150,Begin:Einde,7,FALSE)","v":0},1,{"$f":"VLOOKUP(Jaar&L1150,Trendfactoren!$A$2:$F$65,(HLOOKUP(F1150,Trendfactoren!$A$1:$F$2,2,FALSE)),FALSE)","v":1},0,{"$f":"+VLOOKUP(C1150,Scheepstypen!$A$1:$F$44,6,FALSE)","v":"L3"}]
["IJsselBII-2Bleegop","IJssel","BII-2B","leeg","op","NOx",1126.6772305113714,{"$f":"VLOOKUP(A1151,Begin:Einde,7,FALSE)","v":0},1,{"$f":"VLOOKUP(Jaar&L1151,Trendfactoren!$A$2:$F$65,(HLOOKUP(F1151,Trendfactoren!$A$1:$F$2,2,FALSE)),FALSE)","v":1},0,{"$f":"+VLOOKUP(C1151,Scheepstypen!$A$1:$F$44,6,FALSE)","v":"L3"}]
["IJsselBII-2Lgeladenaf","IJssel","BII-2L","geladen","af","Fijn stof",11.608816421319336,{"$f":"VLOOKUP(A1152,Begin:Einde,7,FALSE)","v":0},1,{"$f":"VLOOKUP(Jaar&L1152,Trendfactoren!$A$2:$F$65,(HLOOKUP(F1152,Trendfactoren!$A$1:$F$2,2,FALSE)),FALSE)","v":1},0,{"$f":"+VLOOKUP(C1152,Scheepstypen!$A$1:$F$44,6,FALSE)","v":"L3"}]
[{"$f":"+B1153&C1153&D1153&E1153","v":"IJsselBII-2Lgeladenaf"},"IJssel","BII-2L","geladen","af","NOx",296.2084058735187,{"$f":"VLOOKUP(A1153,Begin:Einde,7,FALSE)","v":0},1,{"$f":"VLOOKUP(Jaar&L1153,Trendfactoren!$A$2:$F$65,(HLOOKUP(F1153,Trendfactoren!$A$1:$F$2,2,FALSE)),FALSE)","v":1},0,{"$f":"+VLOOKUP(C1153,Scheepstypen!$A$1:$F$44,6,FALSE)","v":"L3"}]
["IJsselBII-2Lgeladenop","IJssel","BII-2L","geladen","op","Fijn stof",58.728004888246893,{"$f":"VLOOKUP(A1154,Begin:Einde,7,FALSE)","v":0},1,{"$f":"VLOOKUP(Jaar&L1154,Trendfactoren!$A$2:$F$65,(HLOOKUP(F1154,Trendfactoren!$A$1:$F$2,2,FALSE)),FALSE)","v":1},0,{"$f":"+VLOOKUP(C1154,Scheepstypen!$A$1:$F$44,6,FALSE)","v":"L3"}]
["IJsselBII-2Lgeladenop","IJssel","BII-2L","geladen","op","NOx",1825.3841614653011,{"$f":"VLOOKUP(A1155,Begin:Einde,7,FALSE)","v":0},1,{"$f":"VLOOKUP(Jaar&L1155,Trendfactoren!$A$2:$F$65,(HLOOKUP(F1155,Trendfactoren!$A$1:$F$2,2,FALSE)),FALSE)","v":1},0,{"$f":"+VLOOKUP(C1155,Scheepstypen!$A$1:$F$44,6,FALSE)","v":"L3"}]
["IJsselBII-2Lleegaf","IJssel","BII-2L","leeg","af","Fijn stof",7.1357752301760211,{"$f":"VLOOKUP(A1156,Begin:Einde,7,FALSE)","v":0},1,{"$f":"VLOOKUP(Jaar&L1156,Trendfactoren!$A$2:$F$65,(HLOOKUP(F1156,Trendfactoren!$A$1:$F$2,2,FALSE)),FALSE)","v":1},0,{"$f":"+VLOOKUP(C1156,Scheepstypen!$A$1:$F$44,6,FALSE)","v":"L3"}]
["IJsselBII-2Lleegaf","IJssel","BII-2L","leeg","af","NOx",182.07511678110961,{"$f":"VLOOKUP(A1157,Begin:Einde,7,FALSE)","v":0},1,{"$f":"VLOOKUP(Jaar&L1157,Trendfactoren!$A$2:$F$65,(HLOOKUP(F1157,Trendfactoren!$A$1:$F$2,2,FALSE)),FALSE)","v":1},0,{"$f":"+VLOOKUP(C1157,Scheepstypen!$A$1:$F$44,6,FALSE)","v":"L3"}]
["IJsselBII-2Lleegop","IJssel","BII-2L","leeg","op","Fijn stof",23.678326775486472,{"$f":"VLOOKUP(A1158,Begin:Einde,7,FALSE)","v":0},1,{"$f":"VLOOKUP(Jaar&L1158,Trendfactoren!$A$2:$F$65,(HLOOKUP(F1158,Trendfactoren!$A$1:$F$2,2,FALSE)),FALSE)","v":1},0,{"$f":"+VLOOKUP(C1158,Scheepstypen!$A$1:$F$44,6,FALSE)","v":"L3"}]
["IJsselBII-2Lleegop","IJssel","BII-2L","leeg","op","NOx",736.3764025166779,{"$f":"VLOOKUP(A1159,Begin:Einde,7,FALSE)","v":0},1,{"$f":"VLOOKUP(Jaar&L1159,Trendfactoren!$A$2:$F$65,(HLOOKUP(F1159,Trendfactoren!$A$1:$F$2,2,FALSE)),FALSE)","v":1},0,{"$f":"+VLOOKUP(C1159,Scheepstypen!$A$1:$F$44,6,FALSE)","v":"L3"}]
["IJsselBO1leegaf","IJssel","BO1","leeg","af","Fijn stof",1.2411009078731612,{"$f":"VLOOKUP(A1160,Begin:Einde,7,FALSE)","v":0},1,{"$f":"VLOOKUP(Jaar&L1160,Trendfactoren!$A$2:$F$65,(HLOOKUP(F1160,Trendfactoren!$A$1:$F$2,2,FALSE)),FALSE)","v":1},0,{"$f":"+VLOOKUP(C1160,Scheepstypen!$A$1:$F$44,6,FALSE)","v":"L1"}]
["IJsselBO1leegaf","IJssel","BO1","leeg","af","NOx",33.118048655416722,{"$f":"VLOOKUP(A1161,Begin:Einde,7,FALSE)","v":0},1,{"$f":"VLOOKUP(Jaar&L1161,Trendfactoren!$A$2:$F$65,(HLOOKUP(F1161,Trendfactoren!$A$1:$F$2,2,FALSE)),FALSE)","v":1},0,{"$f":"+VLOOKUP(C1161,Scheepstypen!$A$1:$F$44,6,FALSE)","v":"L1"}]
["IJsselBO1leegop","IJssel","BO1","leeg","op","Fijn stof",5.296763829112348,{"$f":"VLOOKUP(A1162,Begin:Einde,7,FALSE)","v":0},1,{"$f":"VLOOKUP(Jaar&L1162,Trendfactoren!$A$2:$F$65,(HLOOKUP(F1162,Trendfactoren!$A$1:$F$2,2,FALSE)),FALSE)","v":1},0,{"$f":"+VLOOKUP(C1162,Scheepstypen!$A$1:$F$44,6,FALSE)","v":"L1"}]
["IJsselBO1leegop","IJssel","BO1","leeg","op","NOx",159.15488963822702,{"$f":"VLOOKUP(A1163,Begin:Einde,7,FALSE)","v":0},1,{"$f":"VLOOKUP(Jaar&L1163,Trendfactoren!$A$2:$F$65,(HLOOKUP(F1163,Trendfactoren!$A$1:$F$2,2,FALSE)),FALSE)","v":1},0,{"$f":"+VLOOKUP(C1163,Scheepstypen!$A$1:$F$44,6,FALSE)","v":"L1"}]
["IJsselBO2geladenaf","IJssel","BO2","geladen","af","Fijn stof",1.6516060149308516,{"$f":"VLOOKUP(A1164,Begin:Einde,7,FALSE)","v":0},1,{"$f":"VLOOKUP(Jaar&L1164,Trendfactoren!$A$2:$F$65,(HLOOKUP(F1164,Trendfactoren!$A$1:$F$2,2,FALSE)),FALSE)","v":1},0,{"$f":"+VLOOKUP(C1164,Scheepstypen!$A$1:$F$44,6,FALSE)","v":"L1"}]
["IJsselBO2geladenaf","IJssel","BO2","geladen","af","NOx",40.747596712008644,{"$f":"VLOOKUP(A1165,Begin:Einde,7,FALSE)","v":0},1,{"$f":"VLOOKUP(Jaar&L1165,Trendfactoren!$A$2:$F$65,(HLOOKUP(F1165,Trendfactoren!$A$1:$F$2,2,FALSE)),FALSE)","v":1},0,{"$f":"+VLOOKUP(C1165,Scheepstypen!$A$1:$F$44,6,FALSE)","v":"L1"}]
["IJsselBO2geladenop","IJssel","BO2","geladen","op","Fijn stof",11.504613239504296,{"$f":"VLOOKUP(A1166,Begin:Einde,7,FALSE)","v":0},1,{"$f":"VLOOKUP(Jaar&L1166,Trendfactoren!$A$2:$F$65,(HLOOKUP(F1166,Trendfactoren!$A$1:$F$2,2,FALSE)),FALSE)","v":1},0,{"$f":"+VLOOKUP(C1166,Scheepstypen!$A$1:$F$44,6,FALSE)","v":"L1"}]
["IJsselBO2geladenop","IJssel","BO2","geladen","op","NOx",346.05121748655768,{"$f":"VLOOKUP(A1167,Begin:Einde,7,FALSE)","v":0},1,{"$f":"VLOOKUP(Jaar&L1167,Trendfactoren!$A$2:$F$65,(HLOOKUP(F1167,Trendfactoren!$A$1:$F$2,2,FALSE)),FALSE)","v":1},0,{"$f":"+VLOOKUP(C1167,Scheepstypen!$A$1:$F$44,6,FALSE)","v":"L1"}]
["IJsselBO2leegaf","IJssel","BO2","leeg","af","Fijn stof",1.6400500219304679,{"$f":"VLOOKUP(A1168,Begin:Einde,7,FALSE)","v":0},1,{"$f":"VLOOKUP(Jaar&L1168,Trendfactoren!$A$2:$F$65,(HLOOKUP(F1168,Trendfactoren!$A$1:$F$2,2,FALSE)),FALSE)","v":1},0,{"$f":"+VLOOKUP(C1168,Scheepstypen!$A$1:$F$44,6,FALSE)","v":"L1"}]
["IJsselBO2leegaf","IJssel","BO2","leeg","af","NOx",43.763771405734474,{"$f":"VLOOKUP(A1169,Begin:Einde,7,FALSE)","v":0},1,{"$f":"VLOOKUP(Jaar&L1169,Trendfactoren!$A$2:$F$65,(HLOOKUP(F1169,Trendfactoren!$A$1:$F$2,2,FALSE)),FALSE)","v":1},0,{"$f":"+VLOOKUP(C1169,Scheepstypen!$A$1:$F$44,6,FALSE)","v":"L1"}]
["IJsselBO2leegop","IJssel","BO2","leeg","op","Fijn stof",7.1462494329272932,{"$f":"VLOOKUP(A1170,Begin:Einde,7,FALSE)","v":0},1,{"$f":"VLOOKUP(Jaar&L1170,Trendfactoren!$A$2:$F$65,(HLOOKUP(F1170,Trendfactoren!$A$1:$F$2,2,FALSE)),FALSE)","v":1},0,{"$f":"+VLOOKUP(C1170,Scheepstypen!$A$1:$F$44,6,FALSE)","v":"L1"}]
["IJsselBO2leegop","IJssel","BO2","leeg","op","NOx",214.79231288980247,{"$f":"VLOOKUP(A1171,Begin:Einde,7,FALSE)","v":0},1,{"$f":"VLOOKUP(Jaar&L1171,Trendfactoren!$A$2:$F$65,(HLOOKUP(F1171,Trendfactoren!$A$1:$F$2,2,FALSE)),FALSE)","v":1},0,{"$f":"+VLOOKUP(C1171,Scheepstypen!$A$1:$F$44,6,FALSE)","v":"L1"}]
["IJsselBO3geladenop","IJssel","BO3","geladen","op","Fijn stof",16.387614255204806,{"$f":"VLOOKUP(A1172,Begin:Einde,7,FALSE)","v":0},1,{"$f":"VLOOKUP(Jaar&L1172,Trendfactoren!$A$2:$F$65,(HLOOKUP(F1172,Trendfactoren!$A$1:$F$2,2,FALSE)),FALSE)","v":1},0,{"$f":"+VLOOKUP(C1172,Scheepstypen!$A$1:$F$44,6,FALSE)","v":"L1"}]
["IJsselBO3geladenop","IJssel","BO3","geladen","op","NOx",492.40801031864106,{"$f":"VLOOKUP(A1173,Begin:Einde,7,FALSE)","v":0},1,{"$f":"VLOOKUP(Jaar&L1173,Trendfactoren!$A$2:$F$65,(HLOOKUP(F1173,Trendfactoren!$A$1:$F$2,2,FALSE)),FALSE)","v":1},0,{"$f":"+VLOOKUP(C1173,Scheepstypen!$A$1:$F$44,6,FALSE)","v":"L1"}]
["IJsselBO3leegaf","IJssel","BO3","leeg","af","Fijn stof",1.9915338427487448,{"$f":"VLOOKUP(A1174,Begin:Einde,7,FALSE)","v":0},1,{"$f":"VLOOKUP(Jaar&L1174,Trendfactoren!$A$2:$F$65,(HLOOKUP(F1174,Trendfactoren!$A$1:$F$2,2,FALSE)),FALSE)","v":1},0,{"$f":"+VLOOKUP(C1174,Scheepstypen!$A$1:$F$44,6,FALSE)","v":"L1"}]
["IJsselBO3leegaf","IJssel","BO3","leeg","af","NOx",53.142910688936972,{"$f":"VLOOKUP(A1175,Begin:Einde,7,FALSE)","v":0},1,{"$f":"VLOOKUP(Jaar&L1175,Trendfactoren!$A$2:$F$65,(HLOOKUP(F1175,Trendfactoren!$A$1:$F$2,2,FALSE)),FALSE)","v":1},0,{"$f":"+VLOOKUP(C1175,Scheepstypen!$A$1:$F$44,6,FALSE)","v":"L1"}]
["IJsselBO3leegop","IJssel","BO3","leeg","op","Fijn stof",8.9041484370288213,{"$f":"VLOOKUP(A1176,Begin:Einde,7,FALSE)","v":0},1,{"$f":"VLOOKUP(Jaar&L1176,Trendfactoren!$A$2:$F$65,(HLOOKUP(F1176,Trendfactoren!$A$1:$F$2,2,FALSE)),FALSE)","v":1},0,{"$f":"+VLOOKUP(C1176,Scheepstypen!$A$1:$F$44,6,FALSE)","v":"L1"}]
["IJsselBO3leegop","IJssel","BO3","leeg","op","NOx",267.83094252437616,{"$f":"VLOOKUP(A1177,Begin:Einde,7,FALSE)","v":0},1,{"$f":"VLOOKUP(Jaar&L1177,Trendfactoren!$A$2:$F$65,(HLOOKUP(F1177,Trendfactoren!$A$1:$F$2,2,FALSE)),FALSE)","v":1},0,{"$f":"+VLOOKUP(C1177,Scheepstypen!$A$1:$F$44,6,FALSE)","v":"L1"}]
["IJsselBO4geladenaf","IJssel","BO4","geladen","af","Fijn stof",3.0387869217002059,{"$f":"VLOOKUP(A1178,Begin:Einde,7,FALSE)","v":0},1,{"$f":"VLOOKUP(Jaar&L1178,Trendfactoren!$A$2:$F$65,(HLOOKUP(F1178,Trendfactoren!$A$1:$F$2,2,FALSE)),FALSE)","v":1},0,{"$f":"+VLOOKUP(C1178,Scheepstypen!$A$1:$F$44,6,FALSE)","v":"L1"}]
["IJsselBO4geladenaf","IJssel","BO4","geladen","af","NOx",68.840190158304978,{"$f":"VLOOKUP(A1179,Begin:Einde,7,FALSE)","v":0},1,{"$f":"VLOOKUP(Jaar&L1179,Trendfactoren!$A$2:$F$65,(HLOOKUP(F1179,Trendfactoren!$A$1:$F$2,2,FALSE)),FALSE)","v":1},0,{"$f":"+VLOOKUP(C1179,Scheepstypen!$A$1:$F$44,6,FALSE)","v":"L1"}]
["IJsselBO4geladenop","IJssel","BO4","geladen","op","Fijn stof",17.98836420382483,{"$f":"VLOOKUP(A1180,Begin:Einde,7,FALSE)","v":0},1,{"$f":"VLOOKUP(Jaar&L1180,Trendfactoren!$A$2:$F$65,(HLOOKUP(F1180,Trendfactoren!$A$1:$F$2,2,FALSE)),FALSE)","v":1},0,{"$f":"+VLOOKUP(C1180,Scheepstypen!$A$1:$F$44,6,FALSE)","v":"L1"}]
["IJsselBO4geladenop","IJssel","BO4","geladen","op","NOx",540.69411507054895,{"$f":"VLOOKUP(A1181,Begin:Einde,7,FALSE)","v":0},1,{"$f":"VLOOKUP(Jaar&L1181,Trendfactoren!$A$2:$F$65,(HLOOKUP(F1181,Trendfactoren!$A$1:$F$2,2,FALSE)),FALSE)","v":1},0,{"$f":"+VLOOKUP(C1181,Scheepstypen!$A$1:$F$44,6,FALSE)","v":"L1"}]
["IJsselBO4leegaf","IJssel","BO4","leeg","af","Fijn stof",2.9843610829881198,{"$f":"VLOOKUP(A1182,Begin:Einde,7,FALSE)","v":0},1,{"$f":"VLOOKUP(Jaar&L1182,Trendfactoren!$A$2:$F$65,(HLOOKUP(F1182,Trendfactoren!$A$1:$F$2,2,FALSE)),FALSE)","v":1},0,{"$f":"+VLOOKUP(C1182,Scheepstypen!$A$1:$F$44,6,FALSE)","v":"L1"}]
["IJsselBO4leegaf","IJssel","BO4","leeg","af","NOx",73.628662497759578,{"$f":"VLOOKUP(A1183,Begin:Einde,7,FALSE)","v":0},1,{"$f":"VLOOKUP(Jaar&L1183,Trendfactoren!$A$2:$F$65,(HLOOKUP(F1183,Trendfactoren!$A$1:$F$2,2,FALSE)),FALSE)","v":1},0,{"$f":"+VLOOKUP(C1183,Scheepstypen!$A$1:$F$44,6,FALSE)","v":"L1"}]
["IJsselBO4leegop","IJssel","BO4","leeg","op","Fijn stof",10.65921912221312,{"$f":"VLOOKUP(A1184,Begin:Einde,7,FALSE)","v":0},1,{"$f":"VLOOKUP(Jaar&L1184,Trendfactoren!$A$2:$F$65,(HLOOKUP(F1184,Trendfactoren!$A$1:$F$2,2,FALSE)),FALSE)","v":1},0,{"$f":"+VLOOKUP(C1184,Scheepstypen!$A$1:$F$44,6,FALSE)","v":"L1"}]
["IJsselBO4leegop","IJssel","BO4","leeg","op","NOx",317.30062892684879,{"$f":"VLOOKUP(A1185,Begin:Einde,7,FALSE)","v":0},1,{"$f":"VLOOKUP(Jaar&L1185,Trendfactoren!$A$2:$F$65,(HLOOKUP(F1185,Trendfactoren!$A$1:$F$2,2,FALSE)),FALSE)","v":1},0,{"$f":"+VLOOKUP(C1185,Scheepstypen!$A$1:$F$44,6,FALSE)","v":"L1"}]
["IJsselC1bleegaf","IJssel","C1b","leeg","af","Fijn stof",1.6159797759069348,{"$f":"VLOOKUP(A1186,Begin:Einde,7,FALSE)","v":0},1,{"$f":"VLOOKUP(Jaar&L1186,Trendfactoren!$A$2:$F$65,(HLOOKUP(F1186,Trendfactoren!$A$1:$F$2,2,FALSE)),FALSE)","v":1},0,{"$f":"+VLOOKUP(C1186,Scheepstypen!$A$1:$F$44,6,FALSE)","v":"L1"}]
["IJsselC1bleegaf","IJssel","C1b","leeg","af","NOx",36.608145925271756,{"$f":"VLOOKUP(A1187,Begin:Einde,7,FALSE)","v":0},1,{"$f":"VLOOKUP(Jaar&L1187,Trendfactoren!$A$2:$F$65,(HLOOKUP(F1187,Trendfactoren!$A$1:$F$2,2,FALSE)),FALSE)","v":1},0,{"$f":"+VLOOKUP(C1187,Scheepstypen!$A$1:$F$44,6,FALSE)","v":"L1"}]
["IJsselC2bgeladenaf","IJssel","C2b","geladen","af","Fijn stof",1.765788291895581,{"$f":"VLOOKUP(A1188,Begin:Einde,7,FALSE)","v":0},1,{"$f":"VLOOKUP(Jaar&L1188,Trendfactoren!$A$2:$F$65,(HLOOKUP(F1188,Trendfactoren!$A$1:$F$2,2,FALSE)),FALSE)","v":1},0,{"$f":"+VLOOKUP(C1188,Scheepstypen!$A$1:$F$44,6,FALSE)","v":"L2"}]
["IJsselC2bgeladenaf","IJssel","C2b","geladen","af","NOx",41.167121435095062,{"$f":"VLOOKUP(A1189,Begin:Einde,7,FALSE)","v":0},1,{"$f":"VLOOKUP(Jaar&L1189,Trendfactoren!$A$2:$F$65,(HLOOKUP(F1189,Trendfactoren!$A$1:$F$2,2,FALSE)),FALSE)","v":1},0,{"$f":"+VLOOKUP(C1189,Scheepstypen!$A$1:$F$44,6,FALSE)","v":"L2"}]
["IJsselC2bgeladenop","IJssel","C2b","geladen","op","Fijn stof",26.322959523661392,{"$f":"VLOOKUP(A1190,Begin:Einde,7,FALSE)","v":0},1,{"$f":"VLOOKUP(Jaar&L1190,Trendfactoren!$A$2:$F$65,(HLOOKUP(F1190,Trendfactoren!$A$1:$F$2,2,FALSE)),FALSE)","v":1},0,{"$f":"+VLOOKUP(C1190,Scheepstypen!$A$1:$F$44,6,FALSE)","v":"L2"}]
["IJsselC2bgeladenop","IJssel","C2b","geladen","op","NOx",667.01846243682257,{"$f":"VLOOKUP(A1191,Begin:Einde,7,FALSE)","v":0},1,{"$f":"VLOOKUP(Jaar&L1191,Trendfactoren!$A$2:$F$65,(HLOOKUP(F1191,Trendfactoren!$A$1:$F$2,2,FALSE)),FALSE)","v":1},0,{"$f":"+VLOOKUP(C1191,Scheepstypen!$A$1:$F$44,6,FALSE)","v":"L2"}]
["IJsselC2bleegaf","IJssel","C2b","leeg","af","Fijn stof",7.0736009578622792,{"$f":"VLOOKUP(A1192,Begin:Einde,7,FALSE)","v":0},1,{"$f":"VLOOKUP(Jaar&L1192,Trendfactoren!$A$2:$F$65,(HLOOKUP(F1192,Trendfactoren!$A$1:$F$2,2,FALSE)),FALSE)","v":1},0,{"$f":"+VLOOKUP(C1192,Scheepstypen!$A$1:$F$44,6,FALSE)","v":"L2"}]
["IJsselC2bleegaf","IJssel","C2b","leeg","af","NOx",179.24361546670994,{"$f":"VLOOKUP(A1193,Begin:Einde,7,FALSE)","v":0},1,{"$f":"VLOOKUP(Jaar&L1193,Trendfactoren!$A$2:$F$65,(HLOOKUP(F1193,Trendfactoren!$A$1:$F$2,2,FALSE)),FALSE)","v":1},0,{"$f":"+VLOOKUP(C1193,Scheepstypen!$A$1:$F$44,6,FALSE)","v":"L2"}]
["IJsselC2bleegop","IJssel","C2b","leeg","op","Fijn stof",23.065172433219768,{"$f":"VLOOKUP(A1194,Begin:Einde,7,FALSE)","v":0},1,{"$f":"VLOOKUP(Jaar&L1194,Trendfactoren!$A$2:$F$65,(HLOOKUP(F1194,Trendfactoren!$A$1:$F$2,2,FALSE)),FALSE)","v":1},0,{"$f":"+VLOOKUP(C1194,Scheepstypen!$A$1:$F$44,6,FALSE)","v":"L2"}]
["IJsselC2bleegop","IJssel","C2b","leeg","op","NOx",711.95240556593421,{"$f":"VLOOKUP(A1195,Begin:Einde,7,FALSE)","v":0},1,{"$f":"VLOOKUP(Jaar&L1195,Trendfactoren!$A$2:$F$65,(HLOOKUP(F1195,Trendfactoren!$A$1:$F$2,2,FALSE)),FALSE)","v":1},0,{"$f":"+VLOOKUP(C1195,Scheepstypen!$A$1:$F$44,6,FALSE)","v":"L2"}]
["IJsselC2lgeladenaf","IJssel","C2l","geladen","af","Fijn stof",8.0952652870504256,{"$f":"VLOOKUP(A1196,Begin:Einde,7,FALSE)","v":0},1,{"$f":"VLOOKUP(Jaar&L1196,Trendfactoren!$A$2:$F$65,(HLOOKUP(F1196,Trendfactoren!$A$1:$F$2,2,FALSE)),FALSE)","v":1},0,{"$f":"+VLOOKUP(C1196,Scheepstypen!$A$1:$F$44,6,FALSE)","v":"L2"}]
["IJsselC2lgeladenaf","IJssel","C2l","geladen","af","NOx",205.13238262334596,{"$f":"VLOOKUP(A1197,Begin:Einde,7,FALSE)","v":0},1,{"$f":"VLOOKUP(Jaar&L1197,Trendfactoren!$A$2:$F$65,(HLOOKUP(F1197,Trendfactoren!$A$1:$F$2,2,FALSE)),FALSE)","v":1},0,{"$f":"+VLOOKUP(C1197,Scheepstypen!$A$1:$F$44,6,FALSE)","v":"L2"}]
["IJsselC2lgeladenop","IJssel","C2l","geladen","op","Fijn stof",31.723436305949569,{"$f":"VLOOKUP(A1198,Begin:Einde,7,FALSE)","v":0},1,{"$f":"VLOOKUP(Jaar&L1198,Trendfactoren!$A$2:$F$65,(HLOOKUP(F1198,Trendfactoren!$A$1:$F$2,2,FALSE)),FALSE)","v":1},{"$f":"+G1198*H1198*I1198*J1198","v":0},{"$f":"+VLOOKUP(C1198,Scheepstypen!$A$1:$F$44,6,FALSE)","v":"L2"}]
["IJsselC2lgeladenop","IJssel","C2l","geladen","op","NOx",970.51858455580759,{"$f":"VLOOKUP(A1199,Begin:Einde,7,FALSE)","v":0},1,{"$f":"VLOOKUP(Jaar&L1199,Trendfactoren!$A$2:$F$65,(HLOOKUP(F1199,Trendfactoren!$A$1:$F$2,2,FALSE)),FALSE)","v":1},0,{"$f":"+VLOOKUP(C1199,Scheepstypen!$A$1:$F$44,6,FALSE)","v":"L2"}]
["IJsselC2lleegaf","IJssel","C2l","leeg","af","Fijn stof",7.2373888972016251,{"$f":"VLOOKUP(A1200,Begin:Einde,7,FALSE)","v":0},1,{"$f":"VLOOKUP(Jaar&L1200,Trendfactoren!$A$2:$F$65,(HLOOKUP(F1200,Trendfactoren!$A$1:$F$2,2,FALSE)),FALSE)","v":1},0,{"$f":"+VLOOKUP(C1200,Scheepstypen!$A$1:$F$44,6,FALSE)","v":"L2"}]
["IJsselC2lleegaf","IJssel","C2l","leeg","af","NOx",183.39396867321841,{"$f":"VLOOKUP(A1201,Begin:Einde,7,FALSE)","v":0},1,{"$f":"VLOOKUP(Jaar&L1201,Trendfactoren!$A$2:$F$65,(HLOOKUP(F1201,Trendfactoren!$A$1:$F$2,2,FALSE)),FALSE)","v":1},0,{"$f":"+VLOOKUP(C1201,Scheepstypen!$A$1:$F$44,6,FALSE)","v":"L2"}]
["IJsselC2lleegop","IJssel","C2l","leeg","op","Fijn stof",22.571744733441484,{"$f":"VLOOKUP(A1202,Begin:Einde,7,FALSE)","v":0},1,{"$f":"VLOOKUP(Jaar&L1202,Trendfactoren!$A$2:$F$65,(HLOOKUP(F1202,Trendfactoren!$A$1:$F$2,2,FALSE)),FALSE)","v":1},0,{"$f":"+VLOOKUP(C1202,Scheepstypen!$A$1:$F$44,6,FALSE)","v":"L2"}]
["IJsselC2lleegop","IJssel","C2l","leeg","op","NOx",690.37855345174137,{"$f":"VLOOKUP(A1203,Begin:Einde,7,FALSE)","v":0},1,{"$f":"VLOOKUP(Jaar&L1203,Trendfactoren!$A$2:$F$65,(HLOOKUP(F1203,Trendfactoren!$A$1:$F$2,2,FALSE)),FALSE)","v":1},0,{"$f":"+VLOOKUP(C1203,Scheepstypen!$A$1:$F$44,6,FALSE)","v":"L2"}]
["IJsselC3bgeladenaf","IJssel","C3b","geladen","af","Fijn stof",20.966492796695626,{"$f":"VLOOKUP(A1204,Begin:Einde,7,FALSE)","v":0},1,{"$f":"VLOOKUP(Jaar&L1204,Trendfactoren!$A$2:$F$65,(HLOOKUP(F1204,Trendfactoren!$A$1:$F$2,2,FALSE)),FALSE)","v":1},0,{"$f":"+VLOOKUP(C1204,Scheepstypen!$A$1:$F$44,6,FALSE)","v":"L3"}]
["IJsselC3bgeladenaf","IJssel","C3b","geladen","af","NOx",645.88263334288615,{"$f":"VLOOKUP(A1205,Begin:Einde,7,FALSE)","v":0},1,{"$f":"VLOOKUP(Jaar&L1205,Trendfactoren!$A$2:$F$65,(HLOOKUP(F1205,Trendfactoren!$A$1:$F$2,2,FALSE)),FALSE)","v":1},0,{"$f":"+VLOOKUP(C1205,Scheepstypen!$A$1:$F$44,6,FALSE)","v":"L3"}]
["IJsselC3bgeladenop","IJssel","C3b","geladen","op","Fijn stof",39.291479655045322,{"$f":"VLOOKUP(A1206,Begin:Einde,7,FALSE)","v":0},1,{"$f":"VLOOKUP(Jaar&L1206,Trendfactoren!$A$2:$F$65,(HLOOKUP(F1206,Trendfactoren!$A$1:$F$2,2,FALSE)),FALSE)","v":1},0,{"$f":"+VLOOKUP(C1206,Scheepstypen!$A$1:$F$44,6,FALSE)","v":"L3"}]
["IJsselC3bgeladenop","IJssel","C3b","geladen","op","NOx",1221.2579804019435,{"$f":"VLOOKUP(A1207,Begin:Einde,7,FALSE)","v":0},1,{"$f":"VLOOKUP(Jaar&L1207,Trendfactoren!$A$2:$F$65,(HLOOKUP(F1207,Trendfactoren!$A$1:$F$2,2,FALSE)),FALSE)","v":1},0,{"$f":"+VLOOKUP(C1207,Scheepstypen!$A$1:$F$44,6,FALSE)","v":"L3"}]
["IJsselC3bleegaf","IJssel","C3b","leeg","af","Fijn stof",10.380017121680204,{"$f":"VLOOKUP(A1208,Begin:Einde,7,FALSE)","v":0},1,{"$f":"VLOOKUP(Jaar&L1208,Trendfactoren!$A$2:$F$65,(HLOOKUP(F1208,Trendfactoren!$A$1:$F$2,2,FALSE)),FALSE)","v":1},0,{"$f":"+VLOOKUP(C1208,Scheepstypen!$A$1:$F$44,6,FALSE)","v":"L3"}]
["IJsselC3bleegaf","IJssel","C3b","leeg","af","NOx",306.3222556354105,{"$f":"VLOOKUP(A1209,Begin:Einde,7,FALSE)","v":0},1,{"$f":"VLOOKUP(Jaar&L1209,Trendfactoren!$A$2:$F$65,(HLOOKUP(F1209,Trendfactoren!$A$1:$F$2,2,FALSE)),FALSE)","v":1},0,{"$f":"+VLOOKUP(C1209,Scheepstypen!$A$1:$F$44,6,FALSE)","v":"L3"}]
["IJsselC3lgeladenaf","IJssel","C3l","geladen","af","Fijn stof",12.273914200273827,{"$f":"VLOOKUP(A1210,Begin:Einde,7,FALSE)","v":0},1,{"$f":"VLOOKUP(Jaar&L1210,Trendfactoren!$A$2:$F$65,(HLOOKUP(F1210,Trendfactoren!$A$1:$F$2,2,FALSE)),FALSE)","v":1},0,{"$f":"+VLOOKUP(C1210,Scheepstypen!$A$1:$F$44,6,FALSE)","v":"L3"}]
["IJsselC3lgeladenaf","IJssel","C3l","geladen","af","NOx",362.2126090187781,{"$f":"VLOOKUP(A1211,Begin:Einde,7,FALSE)","v":0},1,{"$f":"VLOOKUP(Jaar&L1211,Trendfactoren!$A$2:$F$65,(HLOOKUP(F1211,Trendfactoren!$A$1:$F$2,2,FALSE)),FALSE)","v":1},0,{"$f":"+VLOOKUP(C1211,Scheepstypen!$A$1:$F$44,6,FALSE)","v":"L3"}]
["IJsselC3lgeladenop","IJssel","C3l","geladen","op","Fijn stof",41.87313136314927,{"$f":"VLOOKUP(A1212,Begin:Einde,7,FALSE)","v":0},{"$f":"+Afstand","v":1},{"$f":"VLOOKUP(Jaar&L1212,Trendfactoren!$A$2:$F$65,(HLOOKUP(F1212,Trendfactoren!$A$1:$F$2,2,FALSE)),FALSE)","v":1},0,{"$f":"+VLOOKUP(C1212,Scheepstypen!$A$1:$F$44,6,FALSE)","v":"L3"}]
["IJsselC3lgeladenop","IJssel","C3l","geladen","op","NOx",1301.5008925757884,{"$f":"VLOOKUP(A1213,Begin:Einde,7,FALSE)","v":0},1,{"$f":"VLOOKUP(Jaar&L1213,Trendfactoren!$A$2:$F$65,(HLOOKUP(F1213,Trendfactoren!$A$1:$F$2,2,FALSE)),FALSE)","v":1},0,{"$f":"+VLOOKUP(C1213,Scheepstypen!$A$1:$F$44,6,FALSE)","v":"L3"}]
["IJsselC3lleegaf","IJssel","C3l","leeg","af","Fijn stof",6.8186372811601395,{"$f":"VLOOKUP(A1214,Begin:Einde,7,FALSE)","v":0},1,{"$f":"VLOOKUP(Jaar&L1214,Trendfactoren!$A$2:$F$65,(HLOOKUP(F1214,Trendfactoren!$A$1:$F$2,2,FALSE)),FALSE)","v":1},0,{"$f":"+VLOOKUP(C1214,Scheepstypen!$A$1:$F$44,6,FALSE)","v":"L3"}]
["IJsselC3lleegaf","IJssel","C3l","leeg","af","NOx",173.98308371669859,{"$f":"VLOOKUP(A1215,Begin:Einde,7,FALSE)","v":0},1,{"$f":"VLOOKUP(Jaar&L1215,Trendfactoren!$A$2:$F$65,(HLOOKUP(F1215,Trendfactoren!$A$1:$F$2,2,FALSE)),FALSE)","v":1},0,{"$f":"+VLOOKUP(C1215,Scheepstypen!$A$1:$F$44,6,FALSE)","v":"L3"}]
["IJsselC3lleegop","IJssel","C3l","leeg","op","Fijn stof",23.068636606657527,{"$f":"VLOOKUP(A1216,Begin:Einde,7,FALSE)","v":0},1,{"$f":"VLOOKUP(Jaar&L1216,Trendfactoren!$A$2:$F$65,(HLOOKUP(F1216,Trendfactoren!$A$1:$F$2,2,FALSE)),FALSE)","v":1},0,{"$f":"+VLOOKUP(C1216,Scheepstypen!$A$1:$F$44,6,FALSE)","v":"L3"}]
[{"$f":"+B1217&C1217&D1217&E1217","v":"IJsselC3lleegop"},"IJssel","C3l","leeg","op","NOx",710.29333456778579,{"$f":"VLOOKUP(A1217,Begin:Einde,7,FALSE)","v":0},1,{"$f":"VLOOKUP(Jaar&L1217,Trendfactoren!$A$2:$F$65,(HLOOKUP(F1217,Trendfactoren!$A$1:$F$2,2,FALSE)),FALSE)","v":1},0,{"$f":"+VLOOKUP(C1217,Scheepstypen!$A$1:$F$44,6,FALSE)","v":"L3"}]
["IJsselC4geladenop","IJssel","C4","geladen","op","Fijn stof",43.048784454853362,{"$f":"VLOOKUP(A1218,Begin:Einde,7,FALSE)","v":0},1,{"$f":"VLOOKUP(Jaar&L1218,Trendfactoren!$A$2:$F$65,(HLOOKUP(F1218,Trendfactoren!$A$1:$F$2,2,FALSE)),FALSE)","v":1},0,{"$f":"+VLOOKUP(C1218,Scheepstypen!$A$1:$F$44,6,FALSE)","v":"L3"}]
["IJsselC4geladenop","IJssel","C4","geladen","op","NOx",1270.4026016518503,{"$f":"VLOOKUP(A1219,Begin:Einde,7,FALSE)","v":0},1,{"$f":"VLOOKUP(Jaar&L1219,Trendfactoren!$A$2:$F$65,(HLOOKUP(F1219,Trendfactoren!$A$1:$F$2,2,FALSE)),FALSE)","v":1},0,{"$f":"+VLOOKUP(C1219,Scheepstypen!$A$1:$F$44,6,FALSE)","v":"L3"}]
["IJsselM0geladenaf","IJssel","M0","geladen","af","Fijn stof",0.63334689853337434,{"$f":"VLOOKUP(A1220,Begin:Einde,7,FALSE)","v":0},1,{"$f":"VLOOKUP(Jaar&L1220,Trendfactoren!$A$2:$F$65,(HLOOKUP(F1220,Trendfactoren!$A$1:$F$2,2,FALSE)),FALSE)","v":1},0,{"$f":"+VLOOKUP(C1220,Scheepstypen!$A$1:$F$44,6,FALSE)","v":"L1"}]
["IJsselM0geladenaf","IJssel","M0","geladen","af","NOx",15.625617590960333,{"$f":"VLOOKUP(A1221,Begin:Einde,7,FALSE)","v":0},1,{"$f":"VLOOKUP(Jaar&L1221,Trendfactoren!$A$2:$F$65,(HLOOKUP(F1221,Trendfactoren!$A$1:$F$2,2,FALSE)),FALSE)","v":1},0,{"$f":"+VLOOKUP(C1221,Scheepstypen!$A$1:$F$44,6,FALSE)","v":"L1"}]
["IJsselM0geladenop","IJssel","M0","geladen","op","Fijn stof",3.5442273330240015,{"$f":"VLOOKUP(A1222,Begin:Einde,7,FALSE)","v":0},1,{"$f":"VLOOKUP(Jaar&L1222,Trendfactoren!$A$2:$F$65,(HLOOKUP(F1222,Trendfactoren!$A$1:$F$2,2,FALSE)),FALSE)","v":1},0,{"$f":"+VLOOKUP(C1222,Scheepstypen!$A$1:$F$44,6,FALSE)","v":"L1"}]
["IJsselM0geladenop","IJssel","M0","geladen","op","NOx",106.52759792567777,{"$f":"VLOOKUP(A1223,Begin:Einde,7,FALSE)","v":0},1,{"$f":"VLOOKUP(Jaar&L1223,Trendfactoren!$A$2:$F$65,(HLOOKUP(F1223,Trendfactoren!$A$1:$F$2,2,FALSE)),FALSE)","v":1},0,{"$f":"+VLOOKUP(C1223,Scheepstypen!$A$1:$F$44,6,FALSE)","v":"L1"}]
["IJsselM0leegaf","IJssel","M0","leeg","af","Fijn stof",0.2488595211030234,{"$f":"VLOOKUP(A1224,Begin:Einde,7,FALSE)","v":0},1,{"$f":"VLOOKUP(Jaar&L1224,Trendfactoren!$A$2:$F$65,(HLOOKUP(F1224,Trendfactoren!$A$1:$F$2,2,FALSE)),FALSE)","v":1},0,{"$f":"+VLOOKUP(C1224,Scheepstypen!$A$1:$F$44,6,FALSE)","v":"L1"}]
["IJsselM0leegaf","IJssel","M0","leeg","af","NOx",5.6376235638962493,{"$f":"VLOOKUP(A1225,Begin:Einde,7,FALSE)","v":0},1,{"$f":"VLOOKUP(Jaar&L1225,Trendfactoren!$A$2:$F$65,(HLOOKUP(F1225,Trendfactoren!$A$1:$F$2,2,FALSE)),FALSE)","v":1},0,{"$f":"+VLOOKUP(C1225,Scheepstypen!$A$1:$F$44,6,FALSE)","v":"L1"}]
["IJsselM0leegop","IJssel","M0","leeg","op","Fijn stof",1.410952816535445,{"$f":"VLOOKUP(A1226,Begin:Einde,7,FALSE)","v":0},1,{"$f":"VLOOKUP(Jaar&L1226,Trendfactoren!$A$2:$F$65,(HLOOKUP(F1226,Trendfactoren!$A$1:$F$2,2,FALSE)),FALSE)","v":1},0,{"$f":"+VLOOKUP(C1226,Scheepstypen!$A$1:$F$44,6,FALSE)","v":"L1"}]
["IJsselM0leegop","IJssel","M0","leeg","op","NOx",39.284078962926344,{"$f":"VLOOKUP(A1227,Begin:Einde,7,FALSE)","v":0},1,{"$f":"VLOOKUP(Jaar&L1227,Trendfactoren!$A$2:$F$65,(HLOOKUP(F1227,Trendfactoren!$A$1:$F$2,2,FALSE)),FALSE)","v":1},0,{"$f":"+VLOOKUP(C1227,Scheepstypen!$A$1:$F$44,6,FALSE)","v":"L1"}]
["IJsselM1geladenaf","IJssel","M1","geladen","af","Fijn stof",1.1157996988430992,{"$f":"VLOOKUP(A1228,Begin:Einde,7,FALSE)","v":0},1,{"$f":"VLOOKUP(Jaar&L1228,Trendfactoren!$A$2:$F$65,(HLOOKUP(F1228,Trendfactoren!$A$1:$F$2,2,FALSE)),FALSE)","v":1},0,{"$f":"+VLOOKUP(C1228,Scheepstypen!$A$1:$F$44,6,FALSE)","v":"L1"}]
["IJsselM1geladenaf","IJssel","M1","geladen","af","NOx",29.750784730105867,{"$f":"VLOOKUP(A1229,Begin:Einde,7,FALSE)","v":0},1,{"$f":"VLOOKUP(Jaar&L1229,Trendfactoren!$A$2:$F$65,(HLOOKUP(F1229,Trendfactoren!$A$1:$F$2,2,FALSE)),FALSE)","v":1},0,{"$f":"+VLOOKUP(C1229,Scheepstypen!$A$1:$F$44,6,FALSE)","v":"L1"}]
["IJsselM1geladenop","IJssel","M1","geladen","op","Fijn stof",4.8481954970011634,{"$f":"VLOOKUP(A1230,Begin:Einde,7,FALSE)","v":0},1,{"$f":"VLOOKUP(Jaar&L1230,Trendfactoren!$A$2:$F$65,(HLOOKUP(F1230,Trendfactoren!$A$1:$F$2,2,FALSE)),FALSE)","v":1},0,{"$f":"+VLOOKUP(C1230,Scheepstypen!$A$1:$F$44,6,FALSE)","v":"L1"}]
["IJsselM1geladenop","IJssel","M1","geladen","op","NOx",145.67650062643619,{"$f":"VLOOKUP(A1231,Begin:Einde,7,FALSE)","v":0},1,{"$f":"VLOOKUP(Jaar&L1231,Trendfactoren!$A$2:$F$65,(HLOOKUP(F1231,Trendfactoren!$A$1:$F$2,2,FALSE)),FALSE)","v":1},0,{"$f":"+VLOOKUP(C1231,Scheepstypen!$A$1:$F$44,6,FALSE)","v":"L1"}]
["IJsselM1leegaf","IJssel","M1","leeg","af","Fijn stof",0.58096071688073225,{"$f":"VLOOKUP(A1232,Begin:Einde,7,FALSE)","v":0},1,{"$f":"VLOOKUP(Jaar&L1232,Trendfactoren!$A$2:$F$65,(HLOOKUP(F1232,Trendfactoren!$A$1:$F$2,2,FALSE)),FALSE)","v":1},0,{"$f":"+VLOOKUP(C1232,Scheepstypen!$A$1:$F$44,6,FALSE)","v":"L1"}]
["IJsselM1leegaf","IJssel","M1","leeg","af","NOx",13.160990637079086,{"$f":"VLOOKUP(A1233,Begin:Einde,7,FALSE)","v":0},1,{"$f":"VLOOKUP(Jaar&L1233,Trendfactoren!$A$2:$F$65,(HLOOKUP(F1233,Trendfactoren!$A$1:$F$2,2,FALSE)),FALSE)","v":1},0,{"$f":"+VLOOKUP(C1233,Scheepstypen!$A$1:$F$44,6,FALSE)","v":"L1"}]
["IJsselM1leegop","IJssel","M1","leeg","op","Fijn stof",2.3373072077301833,{"$f":"VLOOKUP(A1234,Begin:Einde,7,FALSE)","v":0},1,{"$f":"VLOOKUP(Jaar&L1234,Trendfactoren!$A$2:$F$65,(HLOOKUP(F1234,Trendfactoren!$A$1:$F$2,2,FALSE)),FALSE)","v":1},0,{"$f":"+VLOOKUP(C1234,Scheepstypen!$A$1:$F$44,6,FALSE)","v":"L1"}]
["IJsselM1leegop","IJssel","M1","leeg","op","NOx",67.765343431470527,{"$f":"VLOOKUP(A1235,Begin:Einde,7,FALSE)","v":0},1,{"$f":"VLOOKUP(Jaar&L1235,Trendfactoren!$A$2:$F$65,(HLOOKUP(F1235,Trendfactoren!$A$1:$F$2,2,FALSE)),FALSE)","v":1},0,{"$f":"+VLOOKUP(C1235,Scheepstypen!$A$1:$F$44,6,FALSE)","v":"L1"}]
["IJsselM10geladenaf","IJssel","M10","geladen","af","Fijn stof",0.70746923525770111,{"$f":"VLOOKUP(A1236,Begin:Einde,7,FALSE)","v":0},1,{"$f":"VLOOKUP(Jaar&L1236,Trendfactoren!$A$2:$F$65,(HLOOKUP(F1236,Trendfactoren!$A$1:$F$2,2,FALSE)),FALSE)","v":1},0,{"$f":"+VLOOKUP(C1236,Scheepstypen!$A$1:$F$44,6,FALSE)","v":"L3"}]
["IJsselM10geladenaf","IJssel","M10","geladen","af","NOx",16.592600387480161,{"$f":"VLOOKUP(A1237,Begin:Einde,7,FALSE)","v":0},1,{"$f":"VLOOKUP(Jaar&L1237,Trendfactoren!$A$2:$F$65,(HLOOKUP(F1237,Trendfactoren!$A$1:$F$2,2,FALSE)),FALSE)","v":1},0,{"$f":"+VLOOKUP(C1237,Scheepstypen!$A$1:$F$44,6,FALSE)","v":"L3"}]
["IJsselM10geladenop","IJssel","M10","geladen","op","Fijn stof",31.227286734562536,{"$f":"VLOOKUP(A1238,Begin:Einde,7,FALSE)","v":0},1,{"$f":"VLOOKUP(Jaar&L1238,Trendfactoren!$A$2:$F$65,(HLOOKUP(F1238,Trendfactoren!$A$1:$F$2,2,FALSE)),FALSE)","v":1},0,{"$f":"+VLOOKUP(C1238,Scheepstypen!$A$1:$F$44,6,FALSE)","v":"L3"}]
["IJsselM10geladenop","IJssel","M10","geladen","op","NOx",971.14282119630479,{"$f":"VLOOKUP(A1239,Begin:Einde,7,FALSE)","v":0},1,{"$f":"VLOOKUP(Jaar&L1239,Trendfactoren!$A$2:$F$65,(HLOOKUP(F1239,Trendfactoren!$A$1:$F$2,2,FALSE)),FALSE)","v":1},0,{"$f":"+VLOOKUP(C1239,Scheepstypen!$A$1:$F$44,6,FALSE)","v":"L3"}]
["IJsselM10leegaf","IJssel","M10","leeg","af","Fijn stof",6.8410137606271206,{"$f":"VLOOKUP(A1240,Begin:Einde,7,FALSE)","v":0},1,{"$f":"VLOOKUP(Jaar&L1240,Trendfactoren!$A$2:$F$65,(HLOOKUP(F1240,Trendfactoren!$A$1:$F$2,2,FALSE)),FALSE)","v":1},0,{"$f":"+VLOOKUP(C1240,Scheepstypen!$A$1:$F$44,6,FALSE)","v":"L3"}]
["IJsselM10leegaf","IJssel","M10","leeg","af","NOx",197.10301074618087,{"$f":"VLOOKUP(A1241,Begin:Einde,7,FALSE)","v":0},1,{"$f":"VLOOKUP(Jaar&L1241,Trendfactoren!$A$2:$F$65,(HLOOKUP(F1241,Trendfactoren!$A$1:$F$2,2,FALSE)),FALSE)","v":1},0,{"$f":"+VLOOKUP(C1241,Scheepstypen!$A$1:$F$44,6,FALSE)","v":"L3"}]
["IJsselM11geladenaf","IJssel","M11","geladen","af","Fijn stof",3.0922253465186875,{"$f":"VLOOKUP(A1242,Begin:Einde,7,FALSE)","v":0},1,{"$f":"VLOOKUP(Jaar&L1242,Trendfactoren!$A$2:$F$65,(HLOOKUP(F1242,Trendfactoren!$A$1:$F$2,2,FALSE)),FALSE)","v":1},0,{"$f":"+VLOOKUP(C1242,Scheepstypen!$A$1:$F$44,6,FALSE)","v":"L3"}]
["IJsselM11geladenaf","IJssel","M11","geladen","af","NOx",72.523379004788225,{"$f":"VLOOKUP(A1243,Begin:Einde,7,FALSE)","v":0},1,{"$f":"VLOOKUP(Jaar&L1243,Trendfactoren!$A$2:$F$65,(HLOOKUP(F1243,Trendfactoren!$A$1:$F$2,2,FALSE)),FALSE)","v":1},0,{"$f":"+VLOOKUP(C1243,Scheepstypen!$A$1:$F$44,6,FALSE)","v":"L3"}]
["IJsselM11geladenop","IJssel","M11","geladen","op","Fijn stof",38.897317241335216,{"$f":"VLOOKUP(A1244,Begin:Einde,7,FALSE)","v":0},1,{"$f":"VLOOKUP(Jaar&L1244,Trendfactoren!$A$2:$F$65,(HLOOKUP(F1244,Trendfactoren!$A$1:$F$2,2,FALSE)),FALSE)","v":1},0,{"$f":"+VLOOKUP(C1244,Scheepstypen!$A$1:$F$44,6,FALSE)","v":"L3"}]
["IJsselM11geladenop","IJssel","M11","geladen","op","NOx",1197.6652820962772,{"$f":"VLOOKUP(A1245,Begin:Einde,7,FALSE)","v":0},1,{"$f":"VLOOKUP(Jaar&L1245,Trendfactoren!$A$2:$F$65,(HLOOKUP(F1245,Trendfactoren!$A$1:$F$2,2,FALSE)),FALSE)","v":1},0,{"$f":"+VLOOKUP(C1245,Scheepstypen!$A$1:$F$44,6,FALSE)","v":"L3"}]
["IJsselM11leegaf","IJssel","M11","leeg","af","Fijn stof",9.1493583538112357,{"$f":"VLOOKUP(A1246,Begin:Einde,7,FALSE)","v":0},1,{"$f":"VLOOKUP(Jaar&L1246,Trendfactoren!$A$2:$F$65,(HLOOKUP(F1246,Trendfactoren!$A$1:$F$2,2,FALSE)),FALSE)","v":1},0,{"$f":"+VLOOKUP(C1246,Scheepstypen!$A$1:$F$44,6,FALSE)","v":"L3"}]
["IJsselM11leegaf","IJssel","M11","leeg","af","NOx",233.45333015783743,{"$f":"VLOOKUP(A1247,Begin:Einde,7,FALSE)","v":0},1,{"$f":"VLOOKUP(Jaar&L1247,Trendfactoren!$A$2:$F$65,(HLOOKUP(F1247,Trendfactoren!$A$1:$F$2,2,FALSE)),FALSE)","v":1},0,{"$f":"+VLOOKUP(C1247,Scheepstypen!$A$1:$F$44,6,FALSE)","v":"L3"}]
["IJsselM11leegop","IJssel","M11","leeg","op","Fijn stof",36.679835420126928,{"$f":"VLOOKUP(A1248,Begin:Einde,7,FALSE)","v":0},1,{"$f":"VLOOKUP(Jaar&L1248,Trendfactoren!$A$2:$F$65,(HLOOKUP(F1248,Trendfactoren!$A$1:$F$2,2,FALSE)),FALSE)","v":1},0,{"$f":"+VLOOKUP(C1248,Scheepstypen!$A$1:$F$44,6,FALSE)","v":"L3"}]
["IJsselM11leegop","IJssel","M11","leeg","op","NOx",1141.4829242870874,{"$f":"VLOOKUP(A1249,Begin:Einde,7,FALSE)","v":0},1,{"$f":"VLOOKUP(Jaar&L1249,Trendfactoren!$A$2:$F$65,(HLOOKUP(F1249,Trendfactoren!$A$1:$F$2,2,FALSE)),FALSE)","v":1},0,{"$f":"+VLOOKUP(C1249,Scheepstypen!$A$1:$F$44,6,FALSE)","v":"L3"}]
["IJsselM12geladenaf","IJssel","M12","geladen","af","Fijn stof",4.2131574420517905,{"$f":"VLOOKUP(A1250,Begin:Einde,7,FALSE)","v":0},1,{"$f":"VLOOKUP(Jaar&L1250,Trendfactoren!$A$2:$F$65,(HLOOKUP(F1250,Trendfactoren!$A$1:$F$2,2,FALSE)),FALSE)","v":1},0,{"$f":"+VLOOKUP(C1250,Scheepstypen!$A$1:$F$44,6,FALSE)","v":"L3"}]
["IJsselM12geladenaf","IJssel","M12","geladen","af","NOx",98.813113449433899,{"$f":"VLOOKUP(A1251,Begin:Einde,7,FALSE)","v":0},1,{"$f":"VLOOKUP(Jaar&L1251,Trendfactoren!$A$2:$F$65,(HLOOKUP(F1251,Trendfactoren!$A$1:$F$2,2,FALSE)),FALSE)","v":1},0,{"$f":"+VLOOKUP(C1251,Scheepstypen!$A$1:$F$44,6,FALSE)","v":"L3"}]
["IJsselM12geladenop","IJssel","M12","geladen","op","Fijn stof",30.129812230664964,{"$f":"VLOOKUP(A1252,Begin:Einde,7,FALSE)","v":0},1,{"$f":"VLOOKUP(Jaar&L1252,Trendfactoren!$A$2:$F$65,(HLOOKUP(F1252,Trendfactoren!$A$1:$F$2,2,FALSE)),FALSE)","v":1},0,{"$f":"+VLOOKUP(C1252,Scheepstypen!$A$1:$F$44,6,FALSE)","v":"L3"}]
["IJsselM12geladenop","IJssel","M12","geladen","op","NOx",889.15383627755602,{"$f":"VLOOKUP(A1253,Begin:Einde,7,FALSE)","v":0},1,{"$f":"VLOOKUP(Jaar&L1253,Trendfactoren!$A$2:$F$65,(HLOOKUP(F1253,Trendfactoren!$A$1:$F$2,2,FALSE)),FALSE)","v":1},0,{"$f":"+VLOOKUP(C1253,Scheepstypen!$A$1:$F$44,6,FALSE)","v":"L3"}]
["IJsselM12leegaf","IJssel","M12","leeg","af","Fijn stof",11.110549650280095,{"$f":"VLOOKUP(A1254,Begin:Einde,7,FALSE)","v":0},1,{"$f":"VLOOKUP(Jaar&L1254,Trendfactoren!$A$2:$F$65,(HLOOKUP(F1254,Trendfactoren!$A$1:$F$2,2,FALSE)),FALSE)","v":1},0,{"$f":"+VLOOKUP(C1254,Scheepstypen!$A$1:$F$44,6,FALSE)","v":"L3"}]
["IJsselM12leegaf","IJssel","M12","leeg","af","NOx",283.49472339351735,{"$f":"VLOOKUP(A1255,Begin:Einde,7,FALSE)","v":0},1,{"$f":"VLOOKUP(Jaar&L1255,Trendfactoren!$A$2:$F$65,(HLOOKUP(F1255,Trendfactoren!$A$1:$F$2,2,FALSE)),FALSE)","v":1},0,{"$f":"+VLOOKUP(C1255,Scheepstypen!$A$1:$F$44,6,FALSE)","v":"L3"}]
["IJsselM12leegop","IJssel","M12","leeg","op","Fijn stof",37.104353341436877,{"$f":"VLOOKUP(A1256,Begin:Einde,7,FALSE)","v":0},1,{"$f":"VLOOKUP(Jaar&L1256,Trendfactoren!$A$2:$F$65,(HLOOKUP(F1256,Trendfactoren!$A$1:$F$2,2,FALSE)),FALSE)","v":1},0,{"$f":"+VLOOKUP(C1256,Scheepstypen!$A$1:$F$44,6,FALSE)","v":"L3"}]
["IJsselM12leegop","IJssel","M12","leeg","op","NOx",1153.0079395116031,{"$f":"VLOOKUP(A1257,Begin:Einde,7,FALSE)","v":0},1,{"$f":"VLOOKUP(Jaar&L1257,Trendfactoren!$A$2:$F$65,(HLOOKUP(F1257,Trendfactoren!$A$1:$F$2,2,FALSE)),FALSE)","v":1},0,{"$f":"+VLOOKUP(C1257,Scheepstypen!$A$1:$F$44,6,FALSE)","v":"L3"}]
["IJsselM2geladenaf","IJssel","M2","geladen","af","Fijn stof",1.9524338862037467,{"$f":"VLOOKUP(A1258,Begin:Einde,7,FALSE)","v":0},1,{"$f":"VLOOKUP(Jaar&L1258,Trendfactoren!$A$2:$F$65,(HLOOKUP(F1258,Trendfactoren!$A$1:$F$2,2,FALSE)),FALSE)","v":1},0,{"$f":"+VLOOKUP(C1258,Scheepstypen!$A$1:$F$44,6,FALSE)","v":"L1"}]
["IJsselM2geladenaf","IJssel","M2","geladen","af","NOx",52.470193574475125,{"$f":"VLOOKUP(A1259,Begin:Einde,7,FALSE)","v":0},1,{"$f":"VLOOKUP(Jaar&L1259,Trendfactoren!$A$2:$F$65,(HLOOKUP(F1259,Trendfactoren!$A$1:$F$2,2,FALSE)),FALSE)","v":1},0,{"$f":"+VLOOKUP(C1259,Scheepstypen!$A$1:$F$44,6,FALSE)","v":"L1"}]
["IJsselM2geladenop","IJssel","M2","geladen","op","Fijn stof",6.9591878202462176,{"$f":"VLOOKUP(A1260,Begin:Einde,7,FALSE)","v":0},1,{"$f":"VLOOKUP(Jaar&L1260,Trendfactoren!$A$2:$F$65,(HLOOKUP(F1260,Trendfactoren!$A$1:$F$2,2,FALSE)),FALSE)","v":1},0,{"$f":"+VLOOKUP(C1260,Scheepstypen!$A$1:$F$44,6,FALSE)","v":"L1"}]
["IJsselM2geladenop","IJssel","M2","geladen","op","NOx",209.1066933011802,{"$f":"VLOOKUP(A1261,Begin:Einde,7,FALSE)","v":0},1,{"$f":"VLOOKUP(Jaar&L1261,Trendfactoren!$A$2:$F$65,(HLOOKUP(F1261,Trendfactoren!$A$1:$F$2,2,FALSE)),FALSE)","v":1},0,{"$f":"+VLOOKUP(C1261,Scheepstypen!$A$1:$F$44,6,FALSE)","v":"L1"}]
["IJsselM2leegaf","IJssel","M2","leeg","af","Fijn stof",1.4430407245829915,{"$f":"VLOOKUP(A1262,Begin:Einde,7,FALSE)","v":0},1,{"$f":"VLOOKUP(Jaar&L1262,Trendfactoren!$A$2:$F$65,(HLOOKUP(F1262,Trendfactoren!$A$1:$F$2,2,FALSE)),FALSE)","v":1},{"$f":"+G1262*H1262*I1262*J1262","v":0},{"$f":"+VLOOKUP(C1262,Scheepstypen!$A$1:$F$44,6,FALSE)","v":"L1"}]
["IJsselM2leegaf","IJssel","M2","leeg","af","NOx",38.006898378302516,{"$f":"VLOOKUP(A1263,Begin:Einde,7,FALSE)","v":0},1,{"$f":"VLOOKUP(Jaar&L1263,Trendfactoren!$A$2:$F$65,(HLOOKUP(F1263,Trendfactoren!$A$1:$F$2,2,FALSE)),FALSE)","v":1},0,{"$f":"+VLOOKUP(C1263,Scheepstypen!$A$1:$F$44,6,FALSE)","v":"L1"}]
["IJsselM2leegop","IJssel","M2","leeg","op","Fijn stof",6.5202363013592288,{"$f":"VLOOKUP(A1264,Begin:Einde,7,FALSE)","v":0},1,{"$f":"VLOOKUP(Jaar&L1264,Trendfactoren!$A$2:$F$65,(HLOOKUP(F1264,Trendfactoren!$A$1:$F$2,2,FALSE)),FALSE)","v":1},0,{"$f":"+VLOOKUP(C1264,Scheepstypen!$A$1:$F$44,6,FALSE)","v":"L1"}]
["IJsselM2leegop","IJssel","M2","leeg","op","NOx",195.90332319570376,{"$f":"VLOOKUP(A1265,Begin:Einde,7,FALSE)","v":0},1,{"$f":"VLOOKUP(Jaar&L1265,Trendfactoren!$A$2:$F$65,(HLOOKUP(F1265,Trendfactoren!$A$1:$F$2,2,FALSE)),FALSE)","v":1},0,{"$f":"+VLOOKUP(C1265,Scheepstypen!$A$1:$F$44,6,FALSE)","v":"L1"}]
["IJsselM3geladenaf","IJssel","M3","geladen","af","Fijn stof",2.5274467665898763,{"$f":"VLOOKUP(A1266,Begin:Einde,7,FALSE)","v":0},1,{"$f":"VLOOKUP(Jaar&L1266,Trendfactoren!$A$2:$F$65,(HLOOKUP(F1266,Trendfactoren!$A$1:$F$2,2,FALSE)),FALSE)","v":1},0,{"$f":"+VLOOKUP(C1266,Scheepstypen!$A$1:$F$44,6,FALSE)","v":"L1"}]
["IJsselM3geladenaf","IJssel","M3","geladen","af","NOx",68.37730448457971,{"$f":"VLOOKUP(A1267,Begin:Einde,7,FALSE)","v":0},1,{"$f":"VLOOKUP(Jaar&L1267,Trendfactoren!$A$2:$F$65,(HLOOKUP(F1267,Trendfactoren!$A$1:$F$2,2,FALSE)),FALSE)","v":1},0,{"$f":"+VLOOKUP(C1267,Scheepstypen!$A$1:$F$44,6,FALSE)","v":"L1"}]
["IJsselM3geladenop","IJssel","M3","geladen","op","Fijn stof",8.8477389632999675,{"$f":"VLOOKUP(A1268,Begin:Einde,7,FALSE)","v":0},1,{"$f":"VLOOKUP(Jaar&L1268,Trendfactoren!$A$2:$F$65,(HLOOKUP(F1268,Trendfactoren!$A$1:$F$2,2,FALSE)),FALSE)","v":1},0,{"$f":"+VLOOKUP(C1268,Scheepstypen!$A$1:$F$44,6,FALSE)","v":"L1"}]
["IJsselM3geladenop","IJssel","M3","geladen","op","NOx",265.85306871947756,{"$f":"VLOOKUP(A1269,Begin:Einde,7,FALSE)","v":0},1,{"$f":"VLOOKUP(Jaar&L1269,Trendfactoren!$A$2:$F$65,(HLOOKUP(F1269,Trendfactoren!$A$1:$F$2,2,FALSE)),FALSE)","v":1},0,{"$f":"+VLOOKUP(C1269,Scheepstypen!$A$1:$F$44,6,FALSE)","v":"L1"}]
["IJsselM3leegaf","IJssel","M3","leeg","af","Fijn stof",1.9402114883770087,{"$f":"VLOOKUP(A1270,Begin:Einde,7,FALSE)","v":0},1,{"$f":"VLOOKUP(Jaar&L1270,Trendfactoren!$A$2:$F$65,(HLOOKUP(F1270,Trendfactoren!$A$1:$F$2,2,FALSE)),FALSE)","v":1},0,{"$f":"+VLOOKUP(C1270,Scheepstypen!$A$1:$F$44,6,FALSE)","v":"L1"}]
["IJsselM3leegaf","IJssel","M3","leeg","af","NOx",51.006800113185975,{"$f":"VLOOKUP(A1271,Begin:Einde,7,FALSE)","v":0},1,{"$f":"VLOOKUP(Jaar&L1271,Trendfactoren!$A$2:$F$65,(HLOOKUP(F1271,Trendfactoren!$A$1:$F$2,2,FALSE)),FALSE)","v":1},0,{"$f":"+VLOOKUP(C1271,Scheepstypen!$A$1:$F$44,6,FALSE)","v":"L1"}]
["IJsselM3leegop","IJssel","M3","leeg","op","Fijn stof",7.6035234271492609,{"$f":"VLOOKUP(A1272,Begin:Einde,7,FALSE)","v":0},1,{"$f":"VLOOKUP(Jaar&L1272,Trendfactoren!$A$2:$F$65,(HLOOKUP(F1272,Trendfactoren!$A$1:$F$2,2,FALSE)),FALSE)","v":1},0,{"$f":"+VLOOKUP(C1272,Scheepstypen!$A$1:$F$44,6,FALSE)","v":"L1"}]
["IJsselM3leegop","IJssel","M3","leeg","op","NOx",228.37403057673907,{"$f":"VLOOKUP(A1273,Begin:Einde,7,FALSE)","v":0},1,{"$f":"VLOOKUP(Jaar&L1273,Trendfactoren!$A$2:$F$65,(HLOOKUP(F1273,Trendfactoren!$A$1:$F$2,2,FALSE)),FALSE)","v":1},0,{"$f":"+VLOOKUP(C1273,Scheepstypen!$A$1:$F$44,6,FALSE)","v":"L1"}]
["IJsselM4geladenaf","IJssel","M4","geladen","af","Fijn stof",2.8953815215386851,{"$f":"VLOOKUP(A1274,Begin:Einde,7,FALSE)","v":0},1,{"$f":"VLOOKUP(Jaar&L1274,Trendfactoren!$A$2:$F$65,(HLOOKUP(F1274,Trendfactoren!$A$1:$F$2,2,FALSE)),FALSE)","v":1},0,{"$f":"+VLOOKUP(C1274,Scheepstypen!$A$1:$F$44,6,FALSE)","v":"L1"}]
["IJsselM4geladenaf","IJssel","M4","geladen","af","NOx",77.554048841186116,{"$f":"VLOOKUP(A1275,Begin:Einde,7,FALSE)","v":0},1,{"$f":"VLOOKUP(Jaar&L1275,Trendfactoren!$A$2:$F$65,(HLOOKUP(F1275,Trendfactoren!$A$1:$F$2,2,FALSE)),FALSE)","v":1},0,{"$f":"+VLOOKUP(C1275,Scheepstypen!$A$1:$F$44,6,FALSE)","v":"L1"}]
["IJsselM4geladenop","IJssel","M4","geladen","op","Fijn stof",10.852977191538825,{"$f":"VLOOKUP(A1276,Begin:Einde,7,FALSE)","v":0},{"$f":"+Afstand","v":1},{"$f":"VLOOKUP(Jaar&L1276,Trendfactoren!$A$2:$F$65,(HLOOKUP(F1276,Trendfactoren!$A$1:$F$2,2,FALSE)),FALSE)","v":1},0,{"$f":"+VLOOKUP(C1276,Scheepstypen!$A$1:$F$44,6,FALSE)","v":"L1"}]
["IJsselM4geladenop","IJssel","M4","geladen","op","NOx",326.1057045942527,{"$f":"VLOOKUP(A1277,Begin:Einde,7,FALSE)","v":0},1,{"$f":"VLOOKUP(Jaar&L1277,Trendfactoren!$A$2:$F$65,(HLOOKUP(F1277,Trendfactoren!$A$1:$F$2,2,FALSE)),FALSE)","v":1},0,{"$f":"+VLOOKUP(C1277,Scheepstypen!$A$1:$F$44,6,FALSE)","v":"L1"}]
["IJsselM4leegaf","IJssel","M4","leeg","af","Fijn stof",2.2874748571830255,{"$f":"VLOOKUP(A1278,Begin:Einde,7,FALSE)","v":0},1,{"$f":"VLOOKUP(Jaar&L1278,Trendfactoren!$A$2:$F$65,(HLOOKUP(F1278,Trendfactoren!$A$1:$F$2,2,FALSE)),FALSE)","v":1},0,{"$f":"+VLOOKUP(C1278,Scheepstypen!$A$1:$F$44,6,FALSE)","v":"L1"}]
["IJsselM4leegaf","IJssel","M4","leeg","af","NOx",61.246681293667578,{"$f":"VLOOKUP(A1279,Begin:Einde,7,FALSE)","v":0},1,{"$f":"VLOOKUP(Jaar&L1279,Trendfactoren!$A$2:$F$65,(HLOOKUP(F1279,Trendfactoren!$A$1:$F$2,2,FALSE)),FALSE)","v":1},0,{"$f":"+VLOOKUP(C1279,Scheepstypen!$A$1:$F$44,6,FALSE)","v":"L1"}]
["IJsselM4leegop","IJssel","M4","leeg","op","Fijn stof",9.0980479617306393,{"$f":"VLOOKUP(A1280,Begin:Einde,7,FALSE)","v":0},1,{"$f":"VLOOKUP(Jaar&L1280,Trendfactoren!$A$2:$F$65,(HLOOKUP(F1280,Trendfactoren!$A$1:$F$2,2,FALSE)),FALSE)","v":1},0,{"$f":"+VLOOKUP(C1280,Scheepstypen!$A$1:$F$44,6,FALSE)","v":"L1"}]
[{"$f":"+B1281&C1281&D1281&E1281","v":"IJsselM4leegop"},"IJssel","M4","leeg","op","NOx",273.21418289450116,{"$f":"VLOOKUP(A1281,Begin:Einde,7,FALSE)","v":0},1,{"$f":"VLOOKUP(Jaar&L1281,Trendfactoren!$A$2:$F$65,(HLOOKUP(F1281,Trendfactoren!$A$1:$F$2,2,FALSE)),FALSE)","v":1},0,{"$f":"+VLOOKUP(C1281,Scheepstypen!$A$1:$F$44,6,FALSE)","v":"L1"}]
["IJsselM5geladenaf","IJssel","M5","geladen","af","Fijn stof",3.2546550005675234,{"$f":"VLOOKUP(A1282,Begin:Einde,7,FALSE)","v":0},1,{"$f":"VLOOKUP(Jaar&L1282,Trendfactoren!$A$2:$F$65,(HLOOKUP(F1282,Trendfactoren!$A$1:$F$2,2,FALSE)),FALSE)","v":1},0,{"$f":"+VLOOKUP(C1282,Scheepstypen!$A$1:$F$44,6,FALSE)","v":"L2"}]
["IJsselM5geladenaf","IJssel","M5","geladen","af","NOx",88.221618242639209,{"$f":"VLOOKUP(A1283,Begin:Einde,7,FALSE)","v":0},1,{"$f":"VLOOKUP(Jaar&L1283,Trendfactoren!$A$2:$F$65,(HLOOKUP(F1283,Trendfactoren!$A$1:$F$2,2,FALSE)),FALSE)","v":1},0,{"$f":"+VLOOKUP(C1283,Scheepstypen!$A$1:$F$44,6,FALSE)","v":"L2"}]
["IJsselM5geladenop","IJssel","M5","geladen","op","Fijn stof",12.815279473737945,{"$f":"VLOOKUP(A1284,Begin:Einde,7,FALSE)","v":0},1,{"$f":"VLOOKUP(Jaar&L1284,Trendfactoren!$A$2:$F$65,(HLOOKUP(F1284,Trendfactoren!$A$1:$F$2,2,FALSE)),FALSE)","v":1},0,{"$f":"+VLOOKUP(C1284,Scheepstypen!$A$1:$F$44,6,FALSE)","v":"L2"}]
["IJsselM5geladenop","IJssel","M5","geladen","op","NOx",395.64598104280168,{"$f":"VLOOKUP(A1285,Begin:Einde,7,FALSE)","v":0},1,{"$f":"VLOOKUP(Jaar&L1285,Trendfactoren!$A$2:$F$65,(HLOOKUP(F1285,Trendfactoren!$A$1:$F$2,2,FALSE)),FALSE)","v":1},0,{"$f":"+VLOOKUP(C1285,Scheepstypen!$A$1:$F$44,6,FALSE)","v":"L2"}]
["IJsselM5leegaf","IJssel","M5","leeg","af","Fijn stof",2.800942335781337,{"$f":"VLOOKUP(A1286,Begin:Einde,7,FALSE)","v":0},1,{"$f":"VLOOKUP(Jaar&L1286,Trendfactoren!$A$2:$F$65,(HLOOKUP(F1286,Trendfactoren!$A$1:$F$2,2,FALSE)),FALSE)","v":1},0,{"$f":"+VLOOKUP(C1286,Scheepstypen!$A$1:$F$44,6,FALSE)","v":"L2"}]
["IJsselM5leegaf","IJssel","M5","leeg","af","NOx",76.821849096523223,{"$f":"VLOOKUP(A1287,Begin:Einde,7,FALSE)","v":0},1,{"$f":"VLOOKUP(Jaar&L1287,Trendfactoren!$A$2:$F$65,(HLOOKUP(F1287,Trendfactoren!$A$1:$F$2,2,FALSE)),FALSE)","v":1},0,{"$f":"+VLOOKUP(C1287,Scheepstypen!$A$1:$F$44,6,FALSE)","v":"L2"}]
["IJsselM5leegop","IJssel","M5","leeg","op","Fijn stof",10.388782865532125,{"$f":"VLOOKUP(A1288,Begin:Einde,7,FALSE)","v":0},1,{"$f":"VLOOKUP(Jaar&L1288,Trendfactoren!$A$2:$F$65,(HLOOKUP(F1288,Trendfactoren!$A$1:$F$2,2,FALSE)),FALSE)","v":1},0,{"$f":"+VLOOKUP(C1288,Scheepstypen!$A$1:$F$44,6,FALSE)","v":"L2"}]
["IJsselM5leegop","IJssel","M5","leeg","op","NOx",320.38397918528568,{"$f":"VLOOKUP(A1289,Begin:Einde,7,FALSE)","v":0},1,{"$f":"VLOOKUP(Jaar&L1289,Trendfactoren!$A$2:$F$65,(HLOOKUP(F1289,Trendfactoren!$A$1:$F$2,2,FALSE)),FALSE)","v":1},0,{"$f":"+VLOOKUP(C1289,Scheepstypen!$A$1:$F$44,6,FALSE)","v":"L2"}]
["IJsselM6geladenaf","IJssel","M6","geladen","af","Fijn stof",3.6276551111373121,{"$f":"VLOOKUP(A1290,Begin:Einde,7,FALSE)","v":0},1,{"$f":"VLOOKUP(Jaar&L1290,Trendfactoren!$A$2:$F$65,(HLOOKUP(F1290,Trendfactoren!$A$1:$F$2,2,FALSE)),FALSE)","v":1},0,{"$f":"+VLOOKUP(C1290,Scheepstypen!$A$1:$F$44,6,FALSE)","v":"L2"}]
["IJsselM6geladenaf","IJssel","M6","geladen","af","NOx",92.558738357324444,{"$f":"VLOOKUP(A1291,Begin:Einde,7,FALSE)","v":0},1,{"$f":"VLOOKUP(Jaar&L1291,Trendfactoren!$A$2:$F$65,(HLOOKUP(F1291,Trendfactoren!$A$1:$F$2,2,FALSE)),FALSE)","v":1},0,{"$f":"+VLOOKUP(C1291,Scheepstypen!$A$1:$F$44,6,FALSE)","v":"L2"}]
["IJsselM6geladenop","IJssel","M6","geladen","op","Fijn stof",15.537753105596336,{"$f":"VLOOKUP(A1292,Begin:Einde,7,FALSE)","v":0},1,{"$f":"VLOOKUP(Jaar&L1292,Trendfactoren!$A$2:$F$65,(HLOOKUP(F1292,Trendfactoren!$A$1:$F$2,2,FALSE)),FALSE)","v":1},0,{"$f":"+VLOOKUP(C1292,Scheepstypen!$A$1:$F$44,6,FALSE)","v":"L2"}]
["IJsselM6geladenop","IJssel","M6","geladen","op","NOx",479.40145639359173,{"$f":"VLOOKUP(A1293,Begin:Einde,7,FALSE)","v":0},1,{"$f":"VLOOKUP(Jaar&L1293,Trendfactoren!$A$2:$F$65,(HLOOKUP(F1293,Trendfactoren!$A$1:$F$2,2,FALSE)),FALSE)","v":1},0,{"$f":"+VLOOKUP(C1293,Scheepstypen!$A$1:$F$44,6,FALSE)","v":"L2"}]
["IJsselM6leegaf","IJssel","M6","leeg","af","Fijn stof",3.0250260359779251,{"$f":"VLOOKUP(A1294,Begin:Einde,7,FALSE)","v":0},1,{"$f":"VLOOKUP(Jaar&L1294,Trendfactoren!$A$2:$F$65,(HLOOKUP(F1294,Trendfactoren!$A$1:$F$2,2,FALSE)),FALSE)","v":1},0,{"$f":"+VLOOKUP(C1294,Scheepstypen!$A$1:$F$44,6,FALSE)","v":"L2"}]
["IJsselM6leegaf","IJssel","M6","leeg","af","NOx",78.405932744572468,{"$f":"VLOOKUP(A1295,Begin:Einde,7,FALSE)","v":0},1,{"$f":"VLOOKUP(Jaar&L1295,Trendfactoren!$A$2:$F$65,(HLOOKUP(F1295,Trendfactoren!$A$1:$F$2,2,FALSE)),FALSE)","v":1},0,{"$f":"+VLOOKUP(C1295,Scheepstypen!$A$1:$F$44,6,FALSE)","v":"L2"}]
["IJsselM6leegop","IJssel","M6","leeg","op","Fijn stof",10.387132984111105,{"$f":"VLOOKUP(A1296,Begin:Einde,7,FALSE)","v":0},1,{"$f":"VLOOKUP(Jaar&L1296,Trendfactoren!$A$2:$F$65,(HLOOKUP(F1296,Trendfactoren!$A$1:$F$2,2,FALSE)),FALSE)","v":1},0,{"$f":"+VLOOKUP(C1296,Scheepstypen!$A$1:$F$44,6,FALSE)","v":"L2"}]
["IJsselM6leegop","IJssel","M6","leeg","op","NOx",317.38838826539109,{"$f":"VLOOKUP(A1297,Begin:Einde,7,FALSE)","v":0},1,{"$f":"VLOOKUP(Jaar&L1297,Trendfactoren!$A$2:$F$65,(HLOOKUP(F1297,Trendfactoren!$A$1:$F$2,2,FALSE)),FALSE)","v":1},0,{"$f":"+VLOOKUP(C1297,Scheepstypen!$A$1:$F$44,6,FALSE)","v":"L2"}]
["IJsselM7geladenaf","IJssel","M7","geladen","af","Fijn stof",3.3932844923178096,{"$f":"VLOOKUP(A1298,Begin:Einde,7,FALSE)","v":0},1,{"$f":"VLOOKUP(Jaar&L1298,Trendfactoren!$A$2:$F$65,(HLOOKUP(F1298,Trendfactoren!$A$1:$F$2,2,FALSE)),FALSE)","v":1},0,{"$f":"+VLOOKUP(C1298,Scheepstypen!$A$1:$F$44,6,FALSE)","v":"L2"}]
["IJsselM7geladenaf","IJssel","M7","geladen","af","NOx",80.733431283907308,{"$f":"VLOOKUP(A1299,Begin:Einde,7,FALSE)","v":0},1,{"$f":"VLOOKUP(Jaar&L1299,Trendfactoren!$A$2:$F$65,(HLOOKUP(F1299,Trendfactoren!$A$1:$F$2,2,FALSE)),FALSE)","v":1},0,{"$f":"+VLOOKUP(C1299,Scheepstypen!$A$1:$F$44,6,FALSE)","v":"L2"}]
["IJsselM7geladenop","IJssel","M7","geladen","op","Fijn stof",19.220059993234781,{"$f":"VLOOKUP(A1300,Begin:Einde,7,FALSE)","v":0},1,{"$f":"VLOOKUP(Jaar&L1300,Trendfactoren!$A$2:$F$65,(HLOOKUP(F1300,Trendfactoren!$A$1:$F$2,2,FALSE)),FALSE)","v":1},0,{"$f":"+VLOOKUP(C1300,Scheepstypen!$A$1:$F$44,6,FALSE)","v":"L2"}]
["IJsselM7geladenop","IJssel","M7","geladen","op","NOx",593.38963436915822,{"$f":"VLOOKUP(A1301,Begin:Einde,7,FALSE)","v":0},1,{"$f":"VLOOKUP(Jaar&L1301,Trendfactoren!$A$2:$F$65,(HLOOKUP(F1301,Trendfactoren!$A$1:$F$2,2,FALSE)),FALSE)","v":1},0,{"$f":"+VLOOKUP(C1301,Scheepstypen!$A$1:$F$44,6,FALSE)","v":"L2"}]
["IJsselM7leegaf","IJssel","M7","leeg","af","Fijn stof",3.38053307970933,{"$f":"VLOOKUP(A1302,Begin:Einde,7,FALSE)","v":0},1,{"$f":"VLOOKUP(Jaar&L1302,Trendfactoren!$A$2:$F$65,(HLOOKUP(F1302,Trendfactoren!$A$1:$F$2,2,FALSE)),FALSE)","v":1},0,{"$f":"+VLOOKUP(C1302,Scheepstypen!$A$1:$F$44,6,FALSE)","v":"L2"}]
["IJsselM7leegaf","IJssel","M7","leeg","af","NOx",79.154834638277791,{"$f":"VLOOKUP(A1303,Begin:Einde,7,FALSE)","v":0},1,{"$f":"VLOOKUP(Jaar&L1303,Trendfactoren!$A$2:$F$65,(HLOOKUP(F1303,Trendfactoren!$A$1:$F$2,2,FALSE)),FALSE)","v":1},0,{"$f":"+VLOOKUP(C1303,Scheepstypen!$A$1:$F$44,6,FALSE)","v":"L2"}]
["IJsselM7leegop","IJssel","M7","leeg","op","Fijn stof",7.6327447709475802,{"$f":"VLOOKUP(A1304,Begin:Einde,7,FALSE)","v":0},1,{"$f":"VLOOKUP(Jaar&L1304,Trendfactoren!$A$2:$F$65,(HLOOKUP(F1304,Trendfactoren!$A$1:$F$2,2,FALSE)),FALSE)","v":1},0,{"$f":"+VLOOKUP(C1304,Scheepstypen!$A$1:$F$44,6,FALSE)","v":"L2"}]
["IJsselM7leegop","IJssel","M7","leeg","op","NOx",231.52055481146036,{"$f":"VLOOKUP(A1305,Begin:Einde,7,FALSE)","v":0},1,{"$f":"VLOOKUP(Jaar&L1305,Trendfactoren!$A$2:$F$65,(HLOOKUP(F1305,Trendfactoren!$A$1:$F$2,2,FALSE)),FALSE)","v":1},0,{"$f":"+VLOOKUP(C1305,Scheepstypen!$A$1:$F$44,6,FALSE)","v":"L2"}]
["IJsselM8geladenaf","IJssel","M8","geladen","af","Fijn stof",6.4416249254210012,{"$f":"VLOOKUP(A1306,Begin:Einde,7,FALSE)","v":0},1,{"$f":"VLOOKUP(Jaar&L1306,Trendfactoren!$A$2:$F$65,(HLOOKUP(F1306,Trendfactoren!$A$1:$F$2,2,FALSE)),FALSE)","v":1},0,{"$f":"+VLOOKUP(C1306,Scheepstypen!$A$1:$F$44,6,FALSE)","v":"L3"}]
["IJsselM8geladenaf","IJssel","M8","geladen","af","NOx",169.99323323189989,{"$f":"VLOOKUP(A1307,Begin:Einde,7,FALSE)","v":0},1,{"$f":"VLOOKUP(Jaar&L1307,Trendfactoren!$A$2:$F$65,(HLOOKUP(F1307,Trendfactoren!$A$1:$F$2,2,FALSE)),FALSE)","v":1},0,{"$f":"+VLOOKUP(C1307,Scheepstypen!$A$1:$F$44,6,FALSE)","v":"L3"}]
["IJsselM8geladenop","IJssel","M8","geladen","op","Fijn stof",28.291149372756006,{"$f":"VLOOKUP(A1308,Begin:Einde,7,FALSE)","v":0},1,{"$f":"VLOOKUP(Jaar&L1308,Trendfactoren!$A$2:$F$65,(HLOOKUP(F1308,Trendfactoren!$A$1:$F$2,2,FALSE)),FALSE)","v":1},0,{"$f":"+VLOOKUP(C1308,Scheepstypen!$A$1:$F$44,6,FALSE)","v":"L3"}]
["IJsselM8geladenop","IJssel","M8","geladen","op","NOx",879.34030254751667,{"$f":"VLOOKUP(A1309,Begin:Einde,7,FALSE)","v":0},1,{"$f":"VLOOKUP(Jaar&L1309,Trendfactoren!$A$2:$F$65,(HLOOKUP(F1309,Trendfactoren!$A$1:$F$2,2,FALSE)),FALSE)","v":1},0,{"$f":"+VLOOKUP(C1309,Scheepstypen!$A$1:$F$44,6,FALSE)","v":"L3"}]
["IJsselM8leegaf","IJssel","M8","leeg","af","Fijn stof",5.3870788779173244,{"$f":"VLOOKUP(A1310,Begin:Einde,7,FALSE)","v":0},1,{"$f":"VLOOKUP(Jaar&L1310,Trendfactoren!$A$2:$F$65,(HLOOKUP(F1310,Trendfactoren!$A$1:$F$2,2,FALSE)),FALSE)","v":1},0,{"$f":"+VLOOKUP(C1310,Scheepstypen!$A$1:$F$44,6,FALSE)","v":"L3"}]
["IJsselM8leegaf","IJssel","M8","leeg","af","NOx",147.77760159646135,{"$f":"VLOOKUP(A1311,Begin:Einde,7,FALSE)","v":0},1,{"$f":"VLOOKUP(Jaar&L1311,Trendfactoren!$A$2:$F$65,(HLOOKUP(F1311,Trendfactoren!$A$1:$F$2,2,FALSE)),FALSE)","v":1},0,{"$f":"+VLOOKUP(C1311,Scheepstypen!$A$1:$F$44,6,FALSE)","v":"L3"}]
["IJsselM8leegop","IJssel","M8","leeg","op","Fijn stof",24.392003415556509,{"$f":"VLOOKUP(A1312,Begin:Einde,7,FALSE)","v":0},1,{"$f":"VLOOKUP(Jaar&L1312,Trendfactoren!$A$2:$F$65,(HLOOKUP(F1312,Trendfactoren!$A$1:$F$2,2,FALSE)),FALSE)","v":1},0,{"$f":"+VLOOKUP(C1312,Scheepstypen!$A$1:$F$44,6,FALSE)","v":"L3"}]
["IJsselM8leegop","IJssel","M8","leeg","op","NOx",758.07384336783718,{"$f":"VLOOKUP(A1313,Begin:Einde,7,FALSE)","v":0},1,{"$f":"VLOOKUP(Jaar&L1313,Trendfactoren!$A$2:$F$65,(HLOOKUP(F1313,Trendfactoren!$A$1:$F$2,2,FALSE)),FALSE)","v":1},0,{"$f":"+VLOOKUP(C1313,Scheepstypen!$A$1:$F$44,6,FALSE)","v":"L3"}]
["IJsselM9geladenaf","IJssel","M9","geladen","af","Fijn stof",9.8874088900417156,{"$f":"VLOOKUP(A1314,Begin:Einde,7,FALSE)","v":0},1,{"$f":"VLOOKUP(Jaar&L1314,Trendfactoren!$A$2:$F$65,(HLOOKUP(F1314,Trendfactoren!$A$1:$F$2,2,FALSE)),FALSE)","v":1},0,{"$f":"+VLOOKUP(C1314,Scheepstypen!$A$1:$F$44,6,FALSE)","v":"L3"}]
["IJsselM9geladenaf","IJssel","M9","geladen","af","NOx",289.01180421474277,{"$f":"VLOOKUP(A1315,Begin:Einde,7,FALSE)","v":0},1,{"$f":"VLOOKUP(Jaar&L1315,Trendfactoren!$A$2:$F$65,(HLOOKUP(F1315,Trendfactoren!$A$1:$F$2,2,FALSE)),FALSE)","v":1},0,{"$f":"+VLOOKUP(C1315,Scheepstypen!$A$1:$F$44,6,FALSE)","v":"L3"}]
["IJsselM9geladenop","IJssel","M9","geladen","op","Fijn stof",43.569515030518033,{"$f":"VLOOKUP(A1316,Begin:Einde,7,FALSE)","v":0},1,{"$f":"VLOOKUP(Jaar&L1316,Trendfactoren!$A$2:$F$65,(HLOOKUP(F1316,Trendfactoren!$A$1:$F$2,2,FALSE)),FALSE)","v":1},0,{"$f":"+VLOOKUP(C1316,Scheepstypen!$A$1:$F$44,6,FALSE)","v":"L3"}]
["IJsselM9geladenop","IJssel","M9","geladen","op","NOx",1351.5362693756601,{"$f":"VLOOKUP(A1317,Begin:Einde,7,FALSE)","v":0},1,{"$f":"VLOOKUP(Jaar&L1317,Trendfactoren!$A$2:$F$65,(HLOOKUP(F1317,Trendfactoren!$A$1:$F$2,2,FALSE)),FALSE)","v":1},0,{"$f":"+VLOOKUP(C1317,Scheepstypen!$A$1:$F$44,6,FALSE)","v":"L3"}]
["IJsselM9leegaf","IJssel","M9","leeg","af","Fijn stof",7.5143739296371788,{"$f":"VLOOKUP(A1318,Begin:Einde,7,FALSE)","v":0},1,{"$f":"VLOOKUP(Jaar&L1318,Trendfactoren!$A$2:$F$65,(HLOOKUP(F1318,Trendfactoren!$A$1:$F$2,2,FALSE)),FALSE)","v":1},0,{"$f":"+VLOOKUP(C1318,Scheepstypen!$A$1:$F$44,6,FALSE)","v":"L3"}]
["IJsselM9leegaf","IJssel","M9","leeg","af","NOx",191.90447428503148,{"$f":"VLOOKUP(A1319,Begin:Einde,7,FALSE)","v":0},1,{"$f":"VLOOKUP(Jaar&L1319,Trendfactoren!$A$2:$F$65,(HLOOKUP(F1319,Trendfactoren!$A$1:$F$2,2,FALSE)),FALSE)","v":1},0,{"$f":"+VLOOKUP(C1319,Scheepstypen!$A$1:$F$44,6,FALSE)","v":"L3"}]
["IJsselM9leegop","IJssel","M9","leeg","op","Fijn stof",29.80317536452937,{"$f":"VLOOKUP(A1320,Begin:Einde,7,FALSE)","v":0},1,{"$f":"VLOOKUP(Jaar&L1320,Trendfactoren!$A$2:$F$65,(HLOOKUP(F1320,Trendfactoren!$A$1:$F$2,2,FALSE)),FALSE)","v":1},0,{"$f":"+VLOOKUP(C1320,Scheepstypen!$A$1:$F$44,6,FALSE)","v":"L3"}]
["IJsselM9leegop","IJssel","M9","leeg","op","NOx",918.33768437297465,{"$f":"VLOOKUP(A1321,Begin:Einde,7,FALSE)","v":0},1,{"$f":"VLOOKUP(Jaar&L1321,Trendfactoren!$A$2:$F$65,(HLOOKUP(F1321,Trendfactoren!$A$1:$F$2,2,FALSE)),FALSE)","v":1},0,{"$f":"+VLOOKUP(C1321,Scheepstypen!$A$1:$F$44,6,FALSE)","v":"L3"}]
["LekBIgeladenaf","Lek","BI","geladen","af","Fijn stof",6.2781257761542095,{"$f":"VLOOKUP(A1322,Begin:Einde,7,FALSE)","v":0},1,{"$f":"VLOOKUP(Jaar&L1322,Trendfactoren!$A$2:$F$65,(HLOOKUP(F1322,Trendfactoren!$A$1:$F$2,2,FALSE)),FALSE)","v":1},0,{"$f":"+VLOOKUP(C1322,Scheepstypen!$A$1:$F$44,6,FALSE)","v":"L2"}]
["LekBIgeladenaf","Lek","BI","geladen","af","NOx",185.45759896387884,{"$f":"VLOOKUP(A1323,Begin:Einde,7,FALSE)","v":0},1,{"$f":"VLOOKUP(Jaar&L1323,Trendfactoren!$A$2:$F$65,(HLOOKUP(F1323,Trendfactoren!$A$1:$F$2,2,FALSE)),FALSE)","v":1},0,{"$f":"+VLOOKUP(C1323,Scheepstypen!$A$1:$F$44,6,FALSE)","v":"L2"}]
["LekBIgeladenop","Lek","BI","geladen","op","Fijn stof",19.053957138620913,{"$f":"VLOOKUP(A1324,Begin:Einde,7,FALSE)","v":0},1,{"$f":"VLOOKUP(Jaar&L1324,Trendfactoren!$A$2:$F$65,(HLOOKUP(F1324,Trendfactoren!$A$1:$F$2,2,FALSE)),FALSE)","v":1},0,{"$f":"+VLOOKUP(C1324,Scheepstypen!$A$1:$F$44,6,FALSE)","v":"L2"}]
["LekBIgeladenop","Lek","BI","geladen","op","NOx",586.46537095947144,{"$f":"VLOOKUP(A1325,Begin:Einde,7,FALSE)","v":0},1,{"$f":"VLOOKUP(Jaar&L1325,Trendfactoren!$A$2:$F$65,(HLOOKUP(F1325,Trendfactoren!$A$1:$F$2,2,FALSE)),FALSE)","v":1},0,{"$f":"+VLOOKUP(C1325,Scheepstypen!$A$1:$F$44,6,FALSE)","v":"L2"}]
["LekBIleegaf","Lek","BI","leeg","af","Fijn stof",3.598366041113426,{"$f":"VLOOKUP(A1326,Begin:Einde,7,FALSE)","v":0},1,{"$f":"VLOOKUP(Jaar&L1326,Trendfactoren!$A$2:$F$65,(HLOOKUP(F1326,Trendfactoren!$A$1:$F$2,2,FALSE)),FALSE)","v":1},{"$f":"+G1326*H1326*I1326*J1326","v":0},{"$f":"+VLOOKUP(C1326,Scheepstypen!$A$1:$F$44,6,FALSE)","v":"L2"}]
["LekBIleegaf","Lek","BI","leeg","af","NOx",90.803552450516435,{"$f":"VLOOKUP(A1327,Begin:Einde,7,FALSE)","v":0},1,{"$f":"VLOOKUP(Jaar&L1327,Trendfactoren!$A$2:$F$65,(HLOOKUP(F1327,Trendfactoren!$A$1:$F$2,2,FALSE)),FALSE)","v":1},0,{"$f":"+VLOOKUP(C1327,Scheepstypen!$A$1:$F$44,6,FALSE)","v":"L2"}]
["LekBIleegop","Lek","BI","leeg","op","Fijn stof",9.1106531272543911,{"$f":"VLOOKUP(A1328,Begin:Einde,7,FALSE)","v":0},1,{"$f":"VLOOKUP(Jaar&L1328,Trendfactoren!$A$2:$F$65,(HLOOKUP(F1328,Trendfactoren!$A$1:$F$2,2,FALSE)),FALSE)","v":1},0,{"$f":"+VLOOKUP(C1328,Scheepstypen!$A$1:$F$44,6,FALSE)","v":"L2"}]
["LekBIleegop","Lek","BI","leeg","op","NOx",278.3865387937289,{"$f":"VLOOKUP(A1329,Begin:Einde,7,FALSE)","v":0},1,{"$f":"VLOOKUP(Jaar&L1329,Trendfactoren!$A$2:$F$65,(HLOOKUP(F1329,Trendfactoren!$A$1:$F$2,2,FALSE)),FALSE)","v":1},0,{"$f":"+VLOOKUP(C1329,Scheepstypen!$A$1:$F$44,6,FALSE)","v":"L2"}]
["LekBII-1geladenaf","Lek","BII-1","geladen","af","Fijn stof",9.6118626393989075,{"$f":"VLOOKUP(A1330,Begin:Einde,7,FALSE)","v":0},1,{"$f":"VLOOKUP(Jaar&L1330,Trendfactoren!$A$2:$F$65,(HLOOKUP(F1330,Trendfactoren!$A$1:$F$2,2,FALSE)),FALSE)","v":1},0,{"$f":"+VLOOKUP(C1330,Scheepstypen!$A$1:$F$44,6,FALSE)","v":"L2"}]
["LekBII-1geladenaf","Lek","BII-1","geladen","af","NOx",282.11937727061786,{"$f":"VLOOKUP(A1331,Begin:Einde,7,FALSE)","v":0},1,{"$f":"VLOOKUP(Jaar&L1331,Trendfactoren!$A$2:$F$65,(HLOOKUP(F1331,Trendfactoren!$A$1:$F$2,2,FALSE)),FALSE)","v":1},0,{"$f":"+VLOOKUP(C1331,Scheepstypen!$A$1:$F$44,6,FALSE)","v":"L2"}]
["LekBII-1geladenop","Lek","BII-1","geladen","op","Fijn stof",35.038057049963811,{"$f":"VLOOKUP(A1332,Begin:Einde,7,FALSE)","v":0},1,{"$f":"VLOOKUP(Jaar&L1332,Trendfactoren!$A$2:$F$65,(HLOOKUP(F1332,Trendfactoren!$A$1:$F$2,2,FALSE)),FALSE)","v":1},0,{"$f":"+VLOOKUP(C1332,Scheepstypen!$A$1:$F$44,6,FALSE)","v":"L2"}]
["LekBII-1geladenop","Lek","BII-1","geladen","op","NOx",1080.2471007628412,{"$f":"VLOOKUP(A1333,Begin:Einde,7,FALSE)","v":0},1,{"$f":"VLOOKUP(Jaar&L1333,Trendfactoren!$A$2:$F$65,(HLOOKUP(F1333,Trendfactoren!$A$1:$F$2,2,FALSE)),FALSE)","v":1},0,{"$f":"+VLOOKUP(C1333,Scheepstypen!$A$1:$F$44,6,FALSE)","v":"L2"}]
["LekBII-1leegaf","Lek","BII-1","leeg","af","Fijn stof",6.0117382909831871,{"$f":"VLOOKUP(A1334,Begin:Einde,7,FALSE)","v":0},1,{"$f":"VLOOKUP(Jaar&L1334,Trendfactoren!$A$2:$F$65,(HLOOKUP(F1334,Trendfactoren!$A$1:$F$2,2,FALSE)),FALSE)","v":1},0,{"$f":"+VLOOKUP(C1334,Scheepstypen!$A$1:$F$44,6,FALSE)","v":"L2"}]
["LekBII-1leegaf","Lek","BII-1","leeg","af","NOx",163.9060729829213,{"$f":"VLOOKUP(A1335,Begin:Einde,7,FALSE)","v":0},1,{"$f":"VLOOKUP(Jaar&L1335,Trendfactoren!$A$2:$F$65,(HLOOKUP(F1335,Trendfactoren!$A$1:$F$2,2,FALSE)),FALSE)","v":1},0,{"$f":"+VLOOKUP(C1335,Scheepstypen!$A$1:$F$44,6,FALSE)","v":"L2"}]
["LekBII-1leegop","Lek","BII-1","leeg","op","Fijn stof",13.897146148661562,{"$f":"VLOOKUP(A1336,Begin:Einde,7,FALSE)","v":0},1,{"$f":"VLOOKUP(Jaar&L1336,Trendfactoren!$A$2:$F$65,(HLOOKUP(F1336,Trendfactoren!$A$1:$F$2,2,FALSE)),FALSE)","v":1},0,{"$f":"+VLOOKUP(C1336,Scheepstypen!$A$1:$F$44,6,FALSE)","v":"L2"}]
["LekBII-1leegop","Lek","BII-1","leeg","op","NOx",426.46076651802218,{"$f":"VLOOKUP(A1337,Begin:Einde,7,FALSE)","v":0},1,{"$f":"VLOOKUP(Jaar&L1337,Trendfactoren!$A$2:$F$65,(HLOOKUP(F1337,Trendfactoren!$A$1:$F$2,2,FALSE)),FALSE)","v":1},0,{"$f":"+VLOOKUP(C1337,Scheepstypen!$A$1:$F$44,6,FALSE)","v":"L2"}]
["LekBII-2Bgeladenaf","Lek","BII-2B","geladen","af","Fijn stof",20.02050315592556,{"$f":"VLOOKUP(A1338,Begin:Einde,7,FALSE)","v":0},1,{"$f":"VLOOKUP(Jaar&L1338,Trendfactoren!$A$2:$F$65,(HLOOKUP(F1338,Trendfactoren!$A$1:$F$2,2,FALSE)),FALSE)","v":1},0,{"$f":"+VLOOKUP(C1338,Scheepstypen!$A$1:$F$44,6,FALSE)","v":"L3"}]
["LekBII-2Bgeladenaf","Lek","BII-2B","geladen","af","NOx",600.62603728556667,{"$f":"VLOOKUP(A1339,Begin:Einde,7,FALSE)","v":0},1,{"$f":"VLOOKUP(Jaar&L1339,Trendfactoren!$A$2:$F$65,(HLOOKUP(F1339,Trendfactoren!$A$1:$F$2,2,FALSE)),FALSE)","v":1},0,{"$f":"+VLOOKUP(C1339,Scheepstypen!$A$1:$F$44,6,FALSE)","v":"L3"}]
["LekBII-2Bgeladenop","Lek","BII-2B","geladen","op","Fijn stof",74.682074025973208,{"$f":"VLOOKUP(A1340,Begin:Einde,7,FALSE)","v":0},{"$f":"+Afstand","v":1},{"$f":"VLOOKUP(Jaar&L1340,Trendfactoren!$A$2:$F$65,(HLOOKUP(F1340,Trendfactoren!$A$1:$F$2,2,FALSE)),FALSE)","v":1},0,{"$f":"+VLOOKUP(C1340,Scheepstypen!$A$1:$F$44,6,FALSE)","v":"L3"}]
["LekBII-2Bgeladenop","Lek","BII-2B","geladen","op","NOx",2321.2686235774509,{"$f":"VLOOKUP(A1341,Begin:Einde,7,FALSE)","v":0},1,{"$f":"VLOOKUP(Jaar&L1341,Trendfactoren!$A$2:$F$65,(HLOOKUP(F1341,Trendfactoren!$A$1:$F$2,2,FALSE)),FALSE)","v":1},0,{"$f":"+VLOOKUP(C1341,Scheepstypen!$A$1:$F$44,6,FALSE)","v":"L3"}]
["LekBII-2Bleegaf","Lek","BII-2B","leeg","af","Fijn stof",11.458333097524122,{"$f":"VLOOKUP(A1342,Begin:Einde,7,FALSE)","v":0},1,{"$f":"VLOOKUP(Jaar&L1342,Trendfactoren!$A$2:$F$65,(HLOOKUP(F1342,Trendfactoren!$A$1:$F$2,2,FALSE)),FALSE)","v":1},0,{"$f":"+VLOOKUP(C1342,Scheepstypen!$A$1:$F$44,6,FALSE)","v":"L3"}]
["LekBII-2Bleegaf","Lek","BII-2B","leeg","af","NOx",292.05454666661734,{"$f":"VLOOKUP(A1343,Begin:Einde,7,FALSE)","v":0},1,{"$f":"VLOOKUP(Jaar&L1343,Trendfactoren!$A$2:$F$65,(HLOOKUP(F1343,Trendfactoren!$A$1:$F$2,2,FALSE)),FALSE)","v":1},0,{"$f":"+VLOOKUP(C1343,Scheepstypen!$A$1:$F$44,6,FALSE)","v":"L3"}]
["LekBII-2Bleegop","Lek","BII-2B","leeg","op","Fijn stof",28.095581712302245,{"$f":"VLOOKUP(A1344,Begin:Einde,7,FALSE)","v":0},1,{"$f":"VLOOKUP(Jaar&L1344,Trendfactoren!$A$2:$F$65,(HLOOKUP(F1344,Trendfactoren!$A$1:$F$2,2,FALSE)),FALSE)","v":1},0,{"$f":"+VLOOKUP(C1344,Scheepstypen!$A$1:$F$44,6,FALSE)","v":"L3"}]
[{"$f":"+B1345&C1345&D1345&E1345","v":"LekBII-2Bleegop"},"Lek","BII-2B","leeg","op","NOx",865.30780479428915,{"$f":"VLOOKUP(A1345,Begin:Einde,7,FALSE)","v":0},1,{"$f":"VLOOKUP(Jaar&L1345,Trendfactoren!$A$2:$F$65,(HLOOKUP(F1345,Trendfactoren!$A$1:$F$2,2,FALSE)),FALSE)","v":1},0,{"$f":"+VLOOKUP(C1345,Scheepstypen!$A$1:$F$44,6,FALSE)","v":"L3"}]
["LekBII-2Lgeladenaf","Lek","BII-2L","geladen","af","Fijn stof",10.261956712300341,{"$f":"VLOOKUP(A1346,Begin:Einde,7,FALSE)","v":0},1,{"$f":"VLOOKUP(Jaar&L1346,Trendfactoren!$A$2:$F$65,(HLOOKUP(F1346,Trendfactoren!$A$1:$F$2,2,FALSE)),FALSE)","v":1},0,{"$f":"+VLOOKUP(C1346,Scheepstypen!$A$1:$F$44,6,FALSE)","v":"L3"}]
["LekBII-2Lgeladenaf","Lek","BII-2L","geladen","af","NOx",283.34940354154162,{"$f":"VLOOKUP(A1347,Begin:Einde,7,FALSE)","v":0},1,{"$f":"VLOOKUP(Jaar&L1347,Trendfactoren!$A$2:$F$65,(HLOOKUP(F1347,Trendfactoren!$A$1:$F$2,2,FALSE)),FALSE)","v":1},0,{"$f":"+VLOOKUP(C1347,Scheepstypen!$A$1:$F$44,6,FALSE)","v":"L3"}]
["LekBII-2Lgeladenop","Lek","BII-2L","geladen","op","Fijn stof",36.887952763409082,{"$f":"VLOOKUP(A1348,Begin:Einde,7,FALSE)","v":0},1,{"$f":"VLOOKUP(Jaar&L1348,Trendfactoren!$A$2:$F$65,(HLOOKUP(F1348,Trendfactoren!$A$1:$F$2,2,FALSE)),FALSE)","v":1},0,{"$f":"+VLOOKUP(C1348,Scheepstypen!$A$1:$F$44,6,FALSE)","v":"L3"}]
["LekBII-2Lgeladenop","Lek","BII-2L","geladen","op","NOx",1142.9327895478536,{"$f":"VLOOKUP(A1349,Begin:Einde,7,FALSE)","v":0},1,{"$f":"VLOOKUP(Jaar&L1349,Trendfactoren!$A$2:$F$65,(HLOOKUP(F1349,Trendfactoren!$A$1:$F$2,2,FALSE)),FALSE)","v":1},0,{"$f":"+VLOOKUP(C1349,Scheepstypen!$A$1:$F$44,6,FALSE)","v":"L3"}]
["LekBII-2Lleegaf","Lek","BII-2L","leeg","af","Fijn stof",9.0278863168884591,{"$f":"VLOOKUP(A1350,Begin:Einde,7,FALSE)","v":0},1,{"$f":"VLOOKUP(Jaar&L1350,Trendfactoren!$A$2:$F$65,(HLOOKUP(F1350,Trendfactoren!$A$1:$F$2,2,FALSE)),FALSE)","v":1},0,{"$f":"+VLOOKUP(C1350,Scheepstypen!$A$1:$F$44,6,FALSE)","v":"L3"}]
["LekBII-2Lleegaf","Lek","BII-2L","leeg","af","NOx",245.8134868831082,{"$f":"VLOOKUP(A1351,Begin:Einde,7,FALSE)","v":0},1,{"$f":"VLOOKUP(Jaar&L1351,Trendfactoren!$A$2:$F$65,(HLOOKUP(F1351,Trendfactoren!$A$1:$F$2,2,FALSE)),FALSE)","v":1},0,{"$f":"+VLOOKUP(C1351,Scheepstypen!$A$1:$F$44,6,FALSE)","v":"L3"}]
["LekBII-2Lleegop","Lek","BII-2L","leeg","op","Fijn stof",19.807301981201981,{"$f":"VLOOKUP(A1352,Begin:Einde,7,FALSE)","v":0},1,{"$f":"VLOOKUP(Jaar&L1352,Trendfactoren!$A$2:$F$65,(HLOOKUP(F1352,Trendfactoren!$A$1:$F$2,2,FALSE)),FALSE)","v":1},0,{"$f":"+VLOOKUP(C1352,Scheepstypen!$A$1:$F$44,6,FALSE)","v":"L3"}]
["LekBII-2Lleegop","Lek","BII-2L","leeg","op","NOx",609.0551969167085,{"$f":"VLOOKUP(A1353,Begin:Einde,7,FALSE)","v":0},1,{"$f":"VLOOKUP(Jaar&L1353,Trendfactoren!$A$2:$F$65,(HLOOKUP(F1353,Trendfactoren!$A$1:$F$2,2,FALSE)),FALSE)","v":1},0,{"$f":"+VLOOKUP(C1353,Scheepstypen!$A$1:$F$44,6,FALSE)","v":"L3"}]
["LekBII-4leegaf","Lek","BII-4","leeg","af","Fijn stof",18.721816872522687,{"$f":"VLOOKUP(A1354,Begin:Einde,7,FALSE)","v":0},1,{"$f":"VLOOKUP(Jaar&L1354,Trendfactoren!$A$2:$F$65,(HLOOKUP(F1354,Trendfactoren!$A$1:$F$2,2,FALSE)),FALSE)","v":1},0,{"$f":"+VLOOKUP(C1354,Scheepstypen!$A$1:$F$44,6,FALSE)","v":"L3"}]
["LekBII-4leegaf","Lek","BII-4","leeg","af","NOx",539.41222768050568,{"$f":"VLOOKUP(A1355,Begin:Einde,7,FALSE)","v":0},1,{"$f":"VLOOKUP(Jaar&L1355,Trendfactoren!$A$2:$F$65,(HLOOKUP(F1355,Trendfactoren!$A$1:$F$2,2,FALSE)),FALSE)","v":1},0,{"$f":"+VLOOKUP(C1355,Scheepstypen!$A$1:$F$44,6,FALSE)","v":"L3"}]
["LekBO1leegaf","Lek","BO1","leeg","af","Fijn stof",1.3879575854130892,{"$f":"VLOOKUP(A1356,Begin:Einde,7,FALSE)","v":0},1,{"$f":"VLOOKUP(Jaar&L1356,Trendfactoren!$A$2:$F$65,(HLOOKUP(F1356,Trendfactoren!$A$1:$F$2,2,FALSE)),FALSE)","v":1},0,{"$f":"+VLOOKUP(C1356,Scheepstypen!$A$1:$F$44,6,FALSE)","v":"L1"}]
["LekBO1leegaf","Lek","BO1","leeg","af","NOx",38.5970089327583,{"$f":"VLOOKUP(A1357,Begin:Einde,7,FALSE)","v":0},1,{"$f":"VLOOKUP(Jaar&L1357,Trendfactoren!$A$2:$F$65,(HLOOKUP(F1357,Trendfactoren!$A$1:$F$2,2,FALSE)),FALSE)","v":1},0,{"$f":"+VLOOKUP(C1357,Scheepstypen!$A$1:$F$44,6,FALSE)","v":"L1"}]
["LekBO1leegop","Lek","BO1","leeg","op","Fijn stof",4.5351905735734039,{"$f":"VLOOKUP(A1358,Begin:Einde,7,FALSE)","v":0},1,{"$f":"VLOOKUP(Jaar&L1358,Trendfactoren!$A$2:$F$65,(HLOOKUP(F1358,Trendfactoren!$A$1:$F$2,2,FALSE)),FALSE)","v":1},0,{"$f":"+VLOOKUP(C1358,Scheepstypen!$A$1:$F$44,6,FALSE)","v":"L1"}]
["LekBO1leegop","Lek","BO1","leeg","op","NOx",136.19280140418294,{"$f":"VLOOKUP(A1359,Begin:Einde,7,FALSE)","v":0},1,{"$f":"VLOOKUP(Jaar&L1359,Trendfactoren!$A$2:$F$65,(HLOOKUP(F1359,Trendfactoren!$A$1:$F$2,2,FALSE)),FALSE)","v":1},0,{"$f":"+VLOOKUP(C1359,Scheepstypen!$A$1:$F$44,6,FALSE)","v":"L1"}]
["LekBO2geladenaf","Lek","BO2","geladen","af","Fijn stof",2.1461984558363958,{"$f":"VLOOKUP(A1360,Begin:Einde,7,FALSE)","v":0},1,{"$f":"VLOOKUP(Jaar&L1360,Trendfactoren!$A$2:$F$65,(HLOOKUP(F1360,Trendfactoren!$A$1:$F$2,2,FALSE)),FALSE)","v":1},0,{"$f":"+VLOOKUP(C1360,Scheepstypen!$A$1:$F$44,6,FALSE)","v":"L1"}]
["LekBO2geladenaf","Lek","BO2","geladen","af","NOx",57.270045033142502,{"$f":"VLOOKUP(A1361,Begin:Einde,7,FALSE)","v":0},1,{"$f":"VLOOKUP(Jaar&L1361,Trendfactoren!$A$2:$F$65,(HLOOKUP(F1361,Trendfactoren!$A$1:$F$2,2,FALSE)),FALSE)","v":1},0,{"$f":"+VLOOKUP(C1361,Scheepstypen!$A$1:$F$44,6,FALSE)","v":"L1"}]
["LekBO2geladenop","Lek","BO2","geladen","op","Fijn stof",10.027846146602078,{"$f":"VLOOKUP(A1362,Begin:Einde,7,FALSE)","v":0},1,{"$f":"VLOOKUP(Jaar&L1362,Trendfactoren!$A$2:$F$65,(HLOOKUP(F1362,Trendfactoren!$A$1:$F$2,2,FALSE)),FALSE)","v":1},0,{"$f":"+VLOOKUP(C1362,Scheepstypen!$A$1:$F$44,6,FALSE)","v":"L1"}]
["LekBO2geladenop","Lek","BO2","geladen","op","NOx",300.41760633422797,{"$f":"VLOOKUP(A1363,Begin:Einde,7,FALSE)","v":0},1,{"$f":"VLOOKUP(Jaar&L1363,Trendfactoren!$A$2:$F$65,(HLOOKUP(F1363,Trendfactoren!$A$1:$F$2,2,FALSE)),FALSE)","v":1},0,{"$f":"+VLOOKUP(C1363,Scheepstypen!$A$1:$F$44,6,FALSE)","v":"L1"}]
["LekBO2leegaf","Lek","BO2","leeg","af","Fijn stof",1.8729355943527481,{"$f":"VLOOKUP(A1364,Begin:Einde,7,FALSE)","v":0},1,{"$f":"VLOOKUP(Jaar&L1364,Trendfactoren!$A$2:$F$65,(HLOOKUP(F1364,Trendfactoren!$A$1:$F$2,2,FALSE)),FALSE)","v":1},0,{"$f":"+VLOOKUP(C1364,Scheepstypen!$A$1:$F$44,6,FALSE)","v":"L1"}]
["LekBO2leegaf","Lek","BO2","leeg","af","NOx",51.86178172867006,{"$f":"VLOOKUP(A1365,Begin:Einde,7,FALSE)","v":0},1,{"$f":"VLOOKUP(Jaar&L1365,Trendfactoren!$A$2:$F$65,(HLOOKUP(F1365,Trendfactoren!$A$1:$F$2,2,FALSE)),FALSE)","v":1},0,{"$f":"+VLOOKUP(C1365,Scheepstypen!$A$1:$F$44,6,FALSE)","v":"L1"}]
["LekBO2leegop","Lek","BO2","leeg","op","Fijn stof",6.023770381321925,{"$f":"VLOOKUP(A1366,Begin:Einde,7,FALSE)","v":0},1,{"$f":"VLOOKUP(Jaar&L1366,Trendfactoren!$A$2:$F$65,(HLOOKUP(F1366,Trendfactoren!$A$1:$F$2,2,FALSE)),FALSE)","v":1},0,{"$f":"+VLOOKUP(C1366,Scheepstypen!$A$1:$F$44,6,FALSE)","v":"L1"}]
["LekBO2leegop","Lek","BO2","leeg","op","NOx",180.53851030389279,{"$f":"VLOOKUP(A1367,Begin:Einde,7,FALSE)","v":0},1,{"$f":"VLOOKUP(Jaar&L1367,Trendfactoren!$A$2:$F$65,(HLOOKUP(F1367,Trendfactoren!$A$1:$F$2,2,FALSE)),FALSE)","v":1},0,{"$f":"+VLOOKUP(C1367,Scheepstypen!$A$1:$F$44,6,FALSE)","v":"L1"}]
["LekBO3geladenaf","Lek","BO3","geladen","af","Fijn stof",3.5694935803944534,{"$f":"VLOOKUP(A1368,Begin:Einde,7,FALSE)","v":0},1,{"$f":"VLOOKUP(Jaar&L1368,Trendfactoren!$A$2:$F$65,(HLOOKUP(F1368,Trendfactoren!$A$1:$F$2,2,FALSE)),FALSE)","v":1},0,{"$f":"+VLOOKUP(C1368,Scheepstypen!$A$1:$F$44,6,FALSE)","v":"L1"}]
["LekBO3geladenaf","Lek","BO3","geladen","af","NOx",98.464031225254985,{"$f":"VLOOKUP(A1369,Begin:Einde,7,FALSE)","v":0},1,{"$f":"VLOOKUP(Jaar&L1369,Trendfactoren!$A$2:$F$65,(HLOOKUP(F1369,Trendfactoren!$A$1:$F$2,2,FALSE)),FALSE)","v":1},0,{"$f":"+VLOOKUP(C1369,Scheepstypen!$A$1:$F$44,6,FALSE)","v":"L1"}]
["LekBO3geladenop","Lek","BO3","geladen","op","Fijn stof",12.384236281679689,{"$f":"VLOOKUP(A1370,Begin:Einde,7,FALSE)","v":0},1,{"$f":"VLOOKUP(Jaar&L1370,Trendfactoren!$A$2:$F$65,(HLOOKUP(F1370,Trendfactoren!$A$1:$F$2,2,FALSE)),FALSE)","v":1},0,{"$f":"+VLOOKUP(C1370,Scheepstypen!$A$1:$F$44,6,FALSE)","v":"L1"}]
["LekBO3geladenop","Lek","BO3","geladen","op","NOx",371.3173062823754,{"$f":"VLOOKUP(A1371,Begin:Einde,7,FALSE)","v":0},1,{"$f":"VLOOKUP(Jaar&L1371,Trendfactoren!$A$2:$F$65,(HLOOKUP(F1371,Trendfactoren!$A$1:$F$2,2,FALSE)),FALSE)","v":1},0,{"$f":"+VLOOKUP(C1371,Scheepstypen!$A$1:$F$44,6,FALSE)","v":"L1"}]
["LekBO3leegaf","Lek","BO3","leeg","af","Fijn stof",2.6026456201765953,{"$f":"VLOOKUP(A1372,Begin:Einde,7,FALSE)","v":0},1,{"$f":"VLOOKUP(Jaar&L1372,Trendfactoren!$A$2:$F$65,(HLOOKUP(F1372,Trendfactoren!$A$1:$F$2,2,FALSE)),FALSE)","v":1},0,{"$f":"+VLOOKUP(C1372,Scheepstypen!$A$1:$F$44,6,FALSE)","v":"L1"}]
["LekBO3leegaf","Lek","BO3","leeg","af","NOx",69.042993893074808,{"$f":"VLOOKUP(A1373,Begin:Einde,7,FALSE)","v":0},1,{"$f":"VLOOKUP(Jaar&L1373,Trendfactoren!$A$2:$F$65,(HLOOKUP(F1373,Trendfactoren!$A$1:$F$2,2,FALSE)),FALSE)","v":1},0,{"$f":"+VLOOKUP(C1373,Scheepstypen!$A$1:$F$44,6,FALSE)","v":"L1"}]
["LekBO3leegop","Lek","BO3","leeg","op","Fijn stof",7.610178832169133,{"$f":"VLOOKUP(A1374,Begin:Einde,7,FALSE)","v":0},1,{"$f":"VLOOKUP(Jaar&L1374,Trendfactoren!$A$2:$F$65,(HLOOKUP(F1374,Trendfactoren!$A$1:$F$2,2,FALSE)),FALSE)","v":1},0,{"$f":"+VLOOKUP(C1374,Scheepstypen!$A$1:$F$44,6,FALSE)","v":"L1"}]
["LekBO3leegop","Lek","BO3","leeg","op","NOx",228.25851360633902,{"$f":"VLOOKUP(A1375,Begin:Einde,7,FALSE)","v":0},1,{"$f":"VLOOKUP(Jaar&L1375,Trendfactoren!$A$2:$F$65,(HLOOKUP(F1375,Trendfactoren!$A$1:$F$2,2,FALSE)),FALSE)","v":1},0,{"$f":"+VLOOKUP(C1375,Scheepstypen!$A$1:$F$44,6,FALSE)","v":"L1"}]
["LekBO4geladenaf","Lek","BO4","geladen","af","Fijn stof",4.1707107976429061,{"$f":"VLOOKUP(A1376,Begin:Einde,7,FALSE)","v":0},1,{"$f":"VLOOKUP(Jaar&L1376,Trendfactoren!$A$2:$F$65,(HLOOKUP(F1376,Trendfactoren!$A$1:$F$2,2,FALSE)),FALSE)","v":1},0,{"$f":"+VLOOKUP(C1376,Scheepstypen!$A$1:$F$44,6,FALSE)","v":"L1"}]
["LekBO4geladenaf","Lek","BO4","geladen","af","NOx",111.10204436916523,{"$f":"VLOOKUP(A1377,Begin:Einde,7,FALSE)","v":0},1,{"$f":"VLOOKUP(Jaar&L1377,Trendfactoren!$A$2:$F$65,(HLOOKUP(F1377,Trendfactoren!$A$1:$F$2,2,FALSE)),FALSE)","v":1},0,{"$f":"+VLOOKUP(C1377,Scheepstypen!$A$1:$F$44,6,FALSE)","v":"L1"}]
["LekBO4geladenop","Lek","BO4","geladen","op","Fijn stof",18.619174424467158,{"$f":"VLOOKUP(A1378,Begin:Einde,7,FALSE)","v":0},1,{"$f":"VLOOKUP(Jaar&L1378,Trendfactoren!$A$2:$F$65,(HLOOKUP(F1378,Trendfactoren!$A$1:$F$2,2,FALSE)),FALSE)","v":1},0,{"$f":"+VLOOKUP(C1378,Scheepstypen!$A$1:$F$44,6,FALSE)","v":"L1"}]
["LekBO4geladenop","Lek","BO4","geladen","op","NOx",556.60846081820443,{"$f":"VLOOKUP(A1379,Begin:Einde,7,FALSE)","v":0},1,{"$f":"VLOOKUP(Jaar&L1379,Trendfactoren!$A$2:$F$65,(HLOOKUP(F1379,Trendfactoren!$A$1:$F$2,2,FALSE)),FALSE)","v":1},0,{"$f":"+VLOOKUP(C1379,Scheepstypen!$A$1:$F$44,6,FALSE)","v":"L1"}]
["LekBO4leegaf","Lek","BO4","leeg","af","Fijn stof",3.052217475200163,{"$f":"VLOOKUP(A1380,Begin:Einde,7,FALSE)","v":0},1,{"$f":"VLOOKUP(Jaar&L1380,Trendfactoren!$A$2:$F$65,(HLOOKUP(F1380,Trendfactoren!$A$1:$F$2,2,FALSE)),FALSE)","v":1},0,{"$f":"+VLOOKUP(C1380,Scheepstypen!$A$1:$F$44,6,FALSE)","v":"L1"}]
["LekBO4leegaf","Lek","BO4","leeg","af","NOx",80.49516341969958,{"$f":"VLOOKUP(A1381,Begin:Einde,7,FALSE)","v":0},1,{"$f":"VLOOKUP(Jaar&L1381,Trendfactoren!$A$2:$F$65,(HLOOKUP(F1381,Trendfactoren!$A$1:$F$2,2,FALSE)),FALSE)","v":1},0,{"$f":"+VLOOKUP(C1381,Scheepstypen!$A$1:$F$44,6,FALSE)","v":"L1"}]
["LekBO4leegop","Lek","BO4","leeg","op","Fijn stof",8.9384193041877378,{"$f":"VLOOKUP(A1382,Begin:Einde,7,FALSE)","v":0},1,{"$f":"VLOOKUP(Jaar&L1382,Trendfactoren!$A$2:$F$65,(HLOOKUP(F1382,Trendfactoren!$A$1:$F$2,2,FALSE)),FALSE)","v":1},0,{"$f":"+VLOOKUP(C1382,Scheepstypen!$A$1:$F$44,6,FALSE)","v":"L1"}]
["LekBO4leegop","Lek","BO4","leeg","op","NOx",268.06009415871586,{"$f":"VLOOKUP(A1383,Begin:Einde,7,FALSE)","v":0},1,{"$f":"VLOOKUP(Jaar&L1383,Trendfactoren!$A$2:$F$65,(HLOOKUP(F1383,Trendfactoren!$A$1:$F$2,2,FALSE)),FALSE)","v":1},0,{"$f":"+VLOOKUP(C1383,Scheepstypen!$A$1:$F$44,6,FALSE)","v":"L1"}]
["LekC1bgeladenaf","Lek","C1b","geladen","af","Fijn stof",2.310624762870348,{"$f":"VLOOKUP(A1384,Begin:Einde,7,FALSE)","v":0},1,{"$f":"VLOOKUP(Jaar&L1384,Trendfactoren!$A$2:$F$65,(HLOOKUP(F1384,Trendfactoren!$A$1:$F$2,2,FALSE)),FALSE)","v":1},0,{"$f":"+VLOOKUP(C1384,Scheepstypen!$A$1:$F$44,6,FALSE)","v":"L1"}]
["LekC1bgeladenaf","Lek","C1b","geladen","af","NOx",64.072290537596857,{"$f":"VLOOKUP(A1385,Begin:Einde,7,FALSE)","v":0},1,{"$f":"VLOOKUP(Jaar&L1385,Trendfactoren!$A$2:$F$65,(HLOOKUP(F1385,Trendfactoren!$A$1:$F$2,2,FALSE)),FALSE)","v":1},0,{"$f":"+VLOOKUP(C1385,Scheepstypen!$A$1:$F$44,6,FALSE)","v":"L1"}]
["LekC1bgeladenop","Lek","C1b","geladen","op","Fijn stof",9.3430264061196979,{"$f":"VLOOKUP(A1386,Begin:Einde,7,FALSE)","v":0},1,{"$f":"VLOOKUP(Jaar&L1386,Trendfactoren!$A$2:$F$65,(HLOOKUP(F1386,Trendfactoren!$A$1:$F$2,2,FALSE)),FALSE)","v":1},0,{"$f":"+VLOOKUP(C1386,Scheepstypen!$A$1:$F$44,6,FALSE)","v":"L1"}]
["LekC1bgeladenop","Lek","C1b","geladen","op","NOx",280.4701153071299,{"$f":"VLOOKUP(A1387,Begin:Einde,7,FALSE)","v":0},1,{"$f":"VLOOKUP(Jaar&L1387,Trendfactoren!$A$2:$F$65,(HLOOKUP(F1387,Trendfactoren!$A$1:$F$2,2,FALSE)),FALSE)","v":1},0,{"$f":"+VLOOKUP(C1387,Scheepstypen!$A$1:$F$44,6,FALSE)","v":"L1"}]
["LekC1bleegaf","Lek","C1b","leeg","af","Fijn stof",1.6739220382290525,{"$f":"VLOOKUP(A1388,Begin:Einde,7,FALSE)","v":0},1,{"$f":"VLOOKUP(Jaar&L1388,Trendfactoren!$A$2:$F$65,(HLOOKUP(F1388,Trendfactoren!$A$1:$F$2,2,FALSE)),FALSE)","v":1},{"$f":"+G1388*H1388*I1388*J1388","v":0},{"$f":"+VLOOKUP(C1388,Scheepstypen!$A$1:$F$44,6,FALSE)","v":"L1"}]
["LekC1bleegaf","Lek","C1b","leeg","af","NOx",44.350585112767604,{"$f":"VLOOKUP(A1389,Begin:Einde,7,FALSE)","v":0},1,{"$f":"VLOOKUP(Jaar&L1389,Trendfactoren!$A$2:$F$65,(HLOOKUP(F1389,Trendfactoren!$A$1:$F$2,2,FALSE)),FALSE)","v":1},0,{"$f":"+VLOOKUP(C1389,Scheepstypen!$A$1:$F$44,6,FALSE)","v":"L1"}]
["LekC1bleegop","Lek","C1b","leeg","op","Fijn stof",4.8699273958105289,{"$f":"VLOOKUP(A1390,Begin:Einde,7,FALSE)","v":0},1,{"$f":"VLOOKUP(Jaar&L1390,Trendfactoren!$A$2:$F$65,(HLOOKUP(F1390,Trendfactoren!$A$1:$F$2,2,FALSE)),FALSE)","v":1},0,{"$f":"+VLOOKUP(C1390,Scheepstypen!$A$1:$F$44,6,FALSE)","v":"L1"}]
["LekC1bleegop","Lek","C1b","leeg","op","NOx",146.30716618814196,{"$f":"VLOOKUP(A1391,Begin:Einde,7,FALSE)","v":0},1,{"$f":"VLOOKUP(Jaar&L1391,Trendfactoren!$A$2:$F$65,(HLOOKUP(F1391,Trendfactoren!$A$1:$F$2,2,FALSE)),FALSE)","v":1},0,{"$f":"+VLOOKUP(C1391,Scheepstypen!$A$1:$F$44,6,FALSE)","v":"L1"}]
["LekC1lgeladenaf","Lek","C1l","geladen","af","Fijn stof",1.7607297080106346,{"$f":"VLOOKUP(A1392,Begin:Einde,7,FALSE)","v":0},1,{"$f":"VLOOKUP(Jaar&L1392,Trendfactoren!$A$2:$F$65,(HLOOKUP(F1392,Trendfactoren!$A$1:$F$2,2,FALSE)),FALSE)","v":1},0,{"$f":"+VLOOKUP(C1392,Scheepstypen!$A$1:$F$44,6,FALSE)","v":"L1"}]
["LekC1lgeladenaf","Lek","C1l","geladen","af","NOx",46.984037936819625,{"$f":"VLOOKUP(A1393,Begin:Einde,7,FALSE)","v":0},1,{"$f":"VLOOKUP(Jaar&L1393,Trendfactoren!$A$2:$F$65,(HLOOKUP(F1393,Trendfactoren!$A$1:$F$2,2,FALSE)),FALSE)","v":1},0,{"$f":"+VLOOKUP(C1393,Scheepstypen!$A$1:$F$44,6,FALSE)","v":"L1"}]
["LekC1lgeladenop","Lek","C1l","geladen","op","Fijn stof",7.0762128770481514,{"$f":"VLOOKUP(A1394,Begin:Einde,7,FALSE)","v":0},1,{"$f":"VLOOKUP(Jaar&L1394,Trendfactoren!$A$2:$F$65,(HLOOKUP(F1394,Trendfactoren!$A$1:$F$2,2,FALSE)),FALSE)","v":1},0,{"$f":"+VLOOKUP(C1394,Scheepstypen!$A$1:$F$44,6,FALSE)","v":"L1"}]
["LekC1lgeladenop","Lek","C1l","geladen","op","NOx",210.23577557827176,{"$f":"VLOOKUP(A1395,Begin:Einde,7,FALSE)","v":0},1,{"$f":"VLOOKUP(Jaar&L1395,Trendfactoren!$A$2:$F$65,(HLOOKUP(F1395,Trendfactoren!$A$1:$F$2,2,FALSE)),FALSE)","v":1},0,{"$f":"+VLOOKUP(C1395,Scheepstypen!$A$1:$F$44,6,FALSE)","v":"L1"}]
["LekC1lleegaf","Lek","C1l","leeg","af","Fijn stof",1.6384318776898472,{"$f":"VLOOKUP(A1396,Begin:Einde,7,FALSE)","v":0},1,{"$f":"VLOOKUP(Jaar&L1396,Trendfactoren!$A$2:$F$65,(HLOOKUP(F1396,Trendfactoren!$A$1:$F$2,2,FALSE)),FALSE)","v":1},0,{"$f":"+VLOOKUP(C1396,Scheepstypen!$A$1:$F$44,6,FALSE)","v":"L1"}]
["LekC1lleegaf","Lek","C1l","leeg","af","NOx",37.116772227811119,{"$f":"VLOOKUP(A1397,Begin:Einde,7,FALSE)","v":0},1,{"$f":"VLOOKUP(Jaar&L1397,Trendfactoren!$A$2:$F$65,(HLOOKUP(F1397,Trendfactoren!$A$1:$F$2,2,FALSE)),FALSE)","v":1},0,{"$f":"+VLOOKUP(C1397,Scheepstypen!$A$1:$F$44,6,FALSE)","v":"L1"}]
["LekC1lleegop","Lek","C1l","leeg","op","Fijn stof",4.0604070785821538,{"$f":"VLOOKUP(A1398,Begin:Einde,7,FALSE)","v":0},1,{"$f":"VLOOKUP(Jaar&L1398,Trendfactoren!$A$2:$F$65,(HLOOKUP(F1398,Trendfactoren!$A$1:$F$2,2,FALSE)),FALSE)","v":1},0,{"$f":"+VLOOKUP(C1398,Scheepstypen!$A$1:$F$44,6,FALSE)","v":"L1"}]
["LekC1lleegop","Lek","C1l","leeg","op","NOx",120.88330038560387,{"$f":"VLOOKUP(A1399,Begin:Einde,7,FALSE)","v":0},1,{"$f":"VLOOKUP(Jaar&L1399,Trendfactoren!$A$2:$F$65,(HLOOKUP(F1399,Trendfactoren!$A$1:$F$2,2,FALSE)),FALSE)","v":1},0,{"$f":"+VLOOKUP(C1399,Scheepstypen!$A$1:$F$44,6,FALSE)","v":"L1"}]
["LekC2bgeladenaf","Lek","C2b","geladen","af","Fijn stof",7.6872252019970517,{"$f":"VLOOKUP(A1400,Begin:Einde,7,FALSE)","v":0},1,{"$f":"VLOOKUP(Jaar&L1400,Trendfactoren!$A$2:$F$65,(HLOOKUP(F1400,Trendfactoren!$A$1:$F$2,2,FALSE)),FALSE)","v":1},0,{"$f":"+VLOOKUP(C1400,Scheepstypen!$A$1:$F$44,6,FALSE)","v":"L2"}]
["LekC2bgeladenaf","Lek","C2b","geladen","af","NOx",179.21793617161984,{"$f":"VLOOKUP(A1401,Begin:Einde,7,FALSE)","v":0},1,{"$f":"VLOOKUP(Jaar&L1401,Trendfactoren!$A$2:$F$65,(HLOOKUP(F1401,Trendfactoren!$A$1:$F$2,2,FALSE)),FALSE)","v":1},0,{"$f":"+VLOOKUP(C1401,Scheepstypen!$A$1:$F$44,6,FALSE)","v":"L2"}]
["LekC2bgeladenop","Lek","C2b","geladen","op","Fijn stof",26.577145070757844,{"$f":"VLOOKUP(A1402,Begin:Einde,7,FALSE)","v":0},{"$f":"+Afstand","v":1},{"$f":"VLOOKUP(Jaar&L1402,Trendfactoren!$A$2:$F$65,(HLOOKUP(F1402,Trendfactoren!$A$1:$F$2,2,FALSE)),FALSE)","v":1},0,{"$f":"+VLOOKUP(C1402,Scheepstypen!$A$1:$F$44,6,FALSE)","v":"L2"}]
["LekC2bgeladenop","Lek","C2b","geladen","op","NOx",811.45477581317812,{"$f":"VLOOKUP(A1403,Begin:Einde,7,FALSE)","v":0},1,{"$f":"VLOOKUP(Jaar&L1403,Trendfactoren!$A$2:$F$65,(HLOOKUP(F1403,Trendfactoren!$A$1:$F$2,2,FALSE)),FALSE)","v":1},0,{"$f":"+VLOOKUP(C1403,Scheepstypen!$A$1:$F$44,6,FALSE)","v":"L2"}]
["LekC2bleegaf","Lek","C2b","leeg","af","Fijn stof",6.1476106512253876,{"$f":"VLOOKUP(A1404,Begin:Einde,7,FALSE)","v":0},1,{"$f":"VLOOKUP(Jaar&L1404,Trendfactoren!$A$2:$F$65,(HLOOKUP(F1404,Trendfactoren!$A$1:$F$2,2,FALSE)),FALSE)","v":1},0,{"$f":"+VLOOKUP(C1404,Scheepstypen!$A$1:$F$44,6,FALSE)","v":"L2"}]
["LekC2bleegaf","Lek","C2b","leeg","af","NOx",143.3237695460069,{"$f":"VLOOKUP(A1405,Begin:Einde,7,FALSE)","v":0},1,{"$f":"VLOOKUP(Jaar&L1405,Trendfactoren!$A$2:$F$65,(HLOOKUP(F1405,Trendfactoren!$A$1:$F$2,2,FALSE)),FALSE)","v":1},0,{"$f":"+VLOOKUP(C1405,Scheepstypen!$A$1:$F$44,6,FALSE)","v":"L2"}]
["LekC2bleegop","Lek","C2b","leeg","op","Fijn stof",16.078717561893697,{"$f":"VLOOKUP(A1406,Begin:Einde,7,FALSE)","v":0},1,{"$f":"VLOOKUP(Jaar&L1406,Trendfactoren!$A$2:$F$65,(HLOOKUP(F1406,Trendfactoren!$A$1:$F$2,2,FALSE)),FALSE)","v":1},0,{"$f":"+VLOOKUP(C1406,Scheepstypen!$A$1:$F$44,6,FALSE)","v":"L2"}]
["LekC2bleegop","Lek","C2b","leeg","op","NOx",477.81301490880554,{"$f":"VLOOKUP(A1407,Begin:Einde,7,FALSE)","v":0},1,{"$f":"VLOOKUP(Jaar&L1407,Trendfactoren!$A$2:$F$65,(HLOOKUP(F1407,Trendfactoren!$A$1:$F$2,2,FALSE)),FALSE)","v":1},0,{"$f":"+VLOOKUP(C1407,Scheepstypen!$A$1:$F$44,6,FALSE)","v":"L2"}]
["LekC2lgeladenaf","Lek","C2l","geladen","af","Fijn stof",8.0511119251139167,{"$f":"VLOOKUP(A1408,Begin:Einde,7,FALSE)","v":0},1,{"$f":"VLOOKUP(Jaar&L1408,Trendfactoren!$A$2:$F$65,(HLOOKUP(F1408,Trendfactoren!$A$1:$F$2,2,FALSE)),FALSE)","v":1},0,{"$f":"+VLOOKUP(C1408,Scheepstypen!$A$1:$F$44,6,FALSE)","v":"L2"}]
[{"$f":"+B1409&C1409&D1409&E1409","v":"LekC2lgeladenaf"},"Lek","C2l","geladen","af","NOx",204.0135453754356,{"$f":"VLOOKUP(A1409,Begin:Einde,7,FALSE)","v":0},1,{"$f":"VLOOKUP(Jaar&L1409,Trendfactoren!$A$2:$F$65,(HLOOKUP(F1409,Trendfactoren!$A$1:$F$2,2,FALSE)),FALSE)","v":1},0,{"$f":"+VLOOKUP(C1409,Scheepstypen!$A$1:$F$44,6,FALSE)","v":"L2"}]
["LekC2lgeladenop","Lek","C2l","geladen","op","Fijn stof",21.909818839566274,{"$f":"VLOOKUP(A1410,Begin:Einde,7,FALSE)","v":0},1,{"$f":"VLOOKUP(Jaar&L1410,Trendfactoren!$A$2:$F$65,(HLOOKUP(F1410,Trendfactoren!$A$1:$F$2,2,FALSE)),FALSE)","v":1},0,{"$f":"+VLOOKUP(C1410,Scheepstypen!$A$1:$F$44,6,FALSE)","v":"L2"}]
["LekC2lgeladenop","Lek","C2l","geladen","op","NOx",668.63446511085124,{"$f":"VLOOKUP(A1411,Begin:Einde,7,FALSE)","v":0},1,{"$f":"VLOOKUP(Jaar&L1411,Trendfactoren!$A$2:$F$65,(HLOOKUP(F1411,Trendfactoren!$A$1:$F$2,2,FALSE)),FALSE)","v":1},0,{"$f":"+VLOOKUP(C1411,Scheepstypen!$A$1:$F$44,6,FALSE)","v":"L2"}]
["LekC2lleegaf","Lek","C2l","leeg","af","Fijn stof",6.7963940982295954,{"$f":"VLOOKUP(A1412,Begin:Einde,7,FALSE)","v":0},1,{"$f":"VLOOKUP(Jaar&L1412,Trendfactoren!$A$2:$F$65,(HLOOKUP(F1412,Trendfactoren!$A$1:$F$2,2,FALSE)),FALSE)","v":1},0,{"$f":"+VLOOKUP(C1412,Scheepstypen!$A$1:$F$44,6,FALSE)","v":"L2"}]
["LekC2lleegaf","Lek","C2l","leeg","af","NOx",186.1994758043864,{"$f":"VLOOKUP(A1413,Begin:Einde,7,FALSE)","v":0},1,{"$f":"VLOOKUP(Jaar&L1413,Trendfactoren!$A$2:$F$65,(HLOOKUP(F1413,Trendfactoren!$A$1:$F$2,2,FALSE)),FALSE)","v":1},0,{"$f":"+VLOOKUP(C1413,Scheepstypen!$A$1:$F$44,6,FALSE)","v":"L2"}]
["LekC2lleegop","Lek","C2l","leeg","op","Fijn stof",16.545772903385139,{"$f":"VLOOKUP(A1414,Begin:Einde,7,FALSE)","v":0},1,{"$f":"VLOOKUP(Jaar&L1414,Trendfactoren!$A$2:$F$65,(HLOOKUP(F1414,Trendfactoren!$A$1:$F$2,2,FALSE)),FALSE)","v":1},0,{"$f":"+VLOOKUP(C1414,Scheepstypen!$A$1:$F$44,6,FALSE)","v":"L2"}]
["LekC2lleegop","Lek","C2l","leeg","op","NOx",509.80306919066419,{"$f":"VLOOKUP(A1415,Begin:Einde,7,FALSE)","v":0},1,{"$f":"VLOOKUP(Jaar&L1415,Trendfactoren!$A$2:$F$65,(HLOOKUP(F1415,Trendfactoren!$A$1:$F$2,2,FALSE)),FALSE)","v":1},0,{"$f":"+VLOOKUP(C1415,Scheepstypen!$A$1:$F$44,6,FALSE)","v":"L2"}]
["LekC3bgeladenop","Lek","C3b","geladen","op","Fijn stof",40.281513484561458,{"$f":"VLOOKUP(A1416,Begin:Einde,7,FALSE)","v":0},1,{"$f":"VLOOKUP(Jaar&L1416,Trendfactoren!$A$2:$F$65,(HLOOKUP(F1416,Trendfactoren!$A$1:$F$2,2,FALSE)),FALSE)","v":1},0,{"$f":"+VLOOKUP(C1416,Scheepstypen!$A$1:$F$44,6,FALSE)","v":"L3"}]
["LekC3bgeladenop","Lek","C3b","geladen","op","NOx",1241.2577857797796,{"$f":"VLOOKUP(A1417,Begin:Einde,7,FALSE)","v":0},1,{"$f":"VLOOKUP(Jaar&L1417,Trendfactoren!$A$2:$F$65,(HLOOKUP(F1417,Trendfactoren!$A$1:$F$2,2,FALSE)),FALSE)","v":1},0,{"$f":"+VLOOKUP(C1417,Scheepstypen!$A$1:$F$44,6,FALSE)","v":"L3"}]
["LekC3bleegaf","Lek","C3b","leeg","af","Fijn stof",10.780163127351608,{"$f":"VLOOKUP(A1418,Begin:Einde,7,FALSE)","v":0},1,{"$f":"VLOOKUP(Jaar&L1418,Trendfactoren!$A$2:$F$65,(HLOOKUP(F1418,Trendfactoren!$A$1:$F$2,2,FALSE)),FALSE)","v":1},0,{"$f":"+VLOOKUP(C1418,Scheepstypen!$A$1:$F$44,6,FALSE)","v":"L3"}]
["LekC3bleegaf","Lek","C3b","leeg","af","NOx",323.41078593505711,{"$f":"VLOOKUP(A1419,Begin:Einde,7,FALSE)","v":0},1,{"$f":"VLOOKUP(Jaar&L1419,Trendfactoren!$A$2:$F$65,(HLOOKUP(F1419,Trendfactoren!$A$1:$F$2,2,FALSE)),FALSE)","v":1},0,{"$f":"+VLOOKUP(C1419,Scheepstypen!$A$1:$F$44,6,FALSE)","v":"L3"}]
["LekC3bleegop","Lek","C3b","leeg","op","Fijn stof",31.19540135739371,{"$f":"VLOOKUP(A1420,Begin:Einde,7,FALSE)","v":0},1,{"$f":"VLOOKUP(Jaar&L1420,Trendfactoren!$A$2:$F$65,(HLOOKUP(F1420,Trendfactoren!$A$1:$F$2,2,FALSE)),FALSE)","v":1},0,{"$f":"+VLOOKUP(C1420,Scheepstypen!$A$1:$F$44,6,FALSE)","v":"L3"}]
["LekC3bleegop","Lek","C3b","leeg","op","NOx",970.29605490552512,{"$f":"VLOOKUP(A1421,Begin:Einde,7,FALSE)","v":0},1,{"$f":"VLOOKUP(Jaar&L1421,Trendfactoren!$A$2:$F$65,(HLOOKUP(F1421,Trendfactoren!$A$1:$F$2,2,FALSE)),FALSE)","v":1},0,{"$f":"+VLOOKUP(C1421,Scheepstypen!$A$1:$F$44,6,FALSE)","v":"L3"}]
["LekC3lgeladenaf","Lek","C3l","geladen","af","Fijn stof",13.611277158320119,{"$f":"VLOOKUP(A1422,Begin:Einde,7,FALSE)","v":0},1,{"$f":"VLOOKUP(Jaar&L1422,Trendfactoren!$A$2:$F$65,(HLOOKUP(F1422,Trendfactoren!$A$1:$F$2,2,FALSE)),FALSE)","v":1},0,{"$f":"+VLOOKUP(C1422,Scheepstypen!$A$1:$F$44,6,FALSE)","v":"L3"}]
["LekC3lgeladenaf","Lek","C3l","geladen","af","NOx",415.58459967996941,{"$f":"VLOOKUP(A1423,Begin:Einde,7,FALSE)","v":0},1,{"$f":"VLOOKUP(Jaar&L1423,Trendfactoren!$A$2:$F$65,(HLOOKUP(F1423,Trendfactoren!$A$1:$F$2,2,FALSE)),FALSE)","v":1},0,{"$f":"+VLOOKUP(C1423,Scheepstypen!$A$1:$F$44,6,FALSE)","v":"L3"}]
["LekC3lgeladenop","Lek","C3l","geladen","op","Fijn stof",34.798345011246283,{"$f":"VLOOKUP(A1424,Begin:Einde,7,FALSE)","v":0},1,{"$f":"VLOOKUP(Jaar&L1424,Trendfactoren!$A$2:$F$65,(HLOOKUP(F1424,Trendfactoren!$A$1:$F$2,2,FALSE)),FALSE)","v":1},0,{"$f":"+VLOOKUP(C1424,Scheepstypen!$A$1:$F$44,6,FALSE)","v":"L3"}]
["LekC3lgeladenop","Lek","C3l","geladen","op","NOx",1078.8564598318449,{"$f":"VLOOKUP(A1425,Begin:Einde,7,FALSE)","v":0},1,{"$f":"VLOOKUP(Jaar&L1425,Trendfactoren!$A$2:$F$65,(HLOOKUP(F1425,Trendfactoren!$A$1:$F$2,2,FALSE)),FALSE)","v":1},0,{"$f":"+VLOOKUP(C1425,Scheepstypen!$A$1:$F$44,6,FALSE)","v":"L3"}]
["LekC3lleegaf","Lek","C3l","leeg","af","Fijn stof",8.1563811502618613,{"$f":"VLOOKUP(A1426,Begin:Einde,7,FALSE)","v":0},1,{"$f":"VLOOKUP(Jaar&L1426,Trendfactoren!$A$2:$F$65,(HLOOKUP(F1426,Trendfactoren!$A$1:$F$2,2,FALSE)),FALSE)","v":1},0,{"$f":"+VLOOKUP(C1426,Scheepstypen!$A$1:$F$44,6,FALSE)","v":"L3"}]
["LekC3lleegaf","Lek","C3l","leeg","af","NOx",228.25218579530758,{"$f":"VLOOKUP(A1427,Begin:Einde,7,FALSE)","v":0},1,{"$f":"VLOOKUP(Jaar&L1427,Trendfactoren!$A$2:$F$65,(HLOOKUP(F1427,Trendfactoren!$A$1:$F$2,2,FALSE)),FALSE)","v":1},0,{"$f":"+VLOOKUP(C1427,Scheepstypen!$A$1:$F$44,6,FALSE)","v":"L3"}]
["LekC3lleegop","Lek","C3l","leeg","op","Fijn stof",22.452890254324405,{"$f":"VLOOKUP(A1428,Begin:Einde,7,FALSE)","v":0},1,{"$f":"VLOOKUP(Jaar&L1428,Trendfactoren!$A$2:$F$65,(HLOOKUP(F1428,Trendfactoren!$A$1:$F$2,2,FALSE)),FALSE)","v":1},0,{"$f":"+VLOOKUP(C1428,Scheepstypen!$A$1:$F$44,6,FALSE)","v":"L3"}]
["LekC3lleegop","Lek","C3l","leeg","op","NOx",695.08285993358595,{"$f":"VLOOKUP(A1429,Begin:Einde,7,FALSE)","v":0},1,{"$f":"VLOOKUP(Jaar&L1429,Trendfactoren!$A$2:$F$65,(HLOOKUP(F1429,Trendfactoren!$A$1:$F$2,2,FALSE)),FALSE)","v":1},0,{"$f":"+VLOOKUP(C1429,Scheepstypen!$A$1:$F$44,6,FALSE)","v":"L3"}]
["LekC4geladenaf","Lek","C4","geladen","af","Fijn stof",14.549397717001412,{"$f":"VLOOKUP(A1430,Begin:Einde,7,FALSE)","v":0},1,{"$f":"VLOOKUP(Jaar&L1430,Trendfactoren!$A$2:$F$65,(HLOOKUP(F1430,Trendfactoren!$A$1:$F$2,2,FALSE)),FALSE)","v":1},0,{"$f":"+VLOOKUP(C1430,Scheepstypen!$A$1:$F$44,6,FALSE)","v":"L3"}]
["LekC4geladenaf","Lek","C4","geladen","af","NOx",401.7326598210621,{"$f":"VLOOKUP(A1431,Begin:Einde,7,FALSE)","v":0},1,{"$f":"VLOOKUP(Jaar&L1431,Trendfactoren!$A$2:$F$65,(HLOOKUP(F1431,Trendfactoren!$A$1:$F$2,2,FALSE)),FALSE)","v":1},0,{"$f":"+VLOOKUP(C1431,Scheepstypen!$A$1:$F$44,6,FALSE)","v":"L3"}]
["LekC4geladenop","Lek","C4","geladen","op","Fijn stof",35.466956036942953,{"$f":"VLOOKUP(A1432,Begin:Einde,7,FALSE)","v":0},1,{"$f":"VLOOKUP(Jaar&L1432,Trendfactoren!$A$2:$F$65,(HLOOKUP(F1432,Trendfactoren!$A$1:$F$2,2,FALSE)),FALSE)","v":1},0,{"$f":"+VLOOKUP(C1432,Scheepstypen!$A$1:$F$44,6,FALSE)","v":"L3"}]
["LekC4geladenop","Lek","C4","geladen","op","NOx",1064.0280662849118,{"$f":"VLOOKUP(A1433,Begin:Einde,7,FALSE)","v":0},1,{"$f":"VLOOKUP(Jaar&L1433,Trendfactoren!$A$2:$F$65,(HLOOKUP(F1433,Trendfactoren!$A$1:$F$2,2,FALSE)),FALSE)","v":1},0,{"$f":"+VLOOKUP(C1433,Scheepstypen!$A$1:$F$44,6,FALSE)","v":"L3"}]
["LekC4leegop","Lek","C4","leeg","op","Fijn stof",32.591558718971626,{"$f":"VLOOKUP(A1434,Begin:Einde,7,FALSE)","v":0},1,{"$f":"VLOOKUP(Jaar&L1434,Trendfactoren!$A$2:$F$65,(HLOOKUP(F1434,Trendfactoren!$A$1:$F$2,2,FALSE)),FALSE)","v":1},0,{"$f":"+VLOOKUP(C1434,Scheepstypen!$A$1:$F$44,6,FALSE)","v":"L3"}]
["LekC4leegop","Lek","C4","leeg","op","NOx",994.85126328238346,{"$f":"VLOOKUP(A1435,Begin:Einde,7,FALSE)","v":0},1,{"$f":"VLOOKUP(Jaar&L1435,Trendfactoren!$A$2:$F$65,(HLOOKUP(F1435,Trendfactoren!$A$1:$F$2,2,FALSE)),FALSE)","v":1},0,{"$f":"+VLOOKUP(C1435,Scheepstypen!$A$1:$F$44,6,FALSE)","v":"L3"}]
["LekM0geladenaf","Lek","M0","geladen","af","Fijn stof",0.83948024374895236,{"$f":"VLOOKUP(A1436,Begin:Einde,7,FALSE)","v":0},1,{"$f":"VLOOKUP(Jaar&L1436,Trendfactoren!$A$2:$F$65,(HLOOKUP(F1436,Trendfactoren!$A$1:$F$2,2,FALSE)),FALSE)","v":1},0,{"$f":"+VLOOKUP(C1436,Scheepstypen!$A$1:$F$44,6,FALSE)","v":"L1"}]
["LekM0geladenaf","Lek","M0","geladen","af","NOx",20.650276152499892,{"$f":"VLOOKUP(A1437,Begin:Einde,7,FALSE)","v":0},1,{"$f":"VLOOKUP(Jaar&L1437,Trendfactoren!$A$2:$F$65,(HLOOKUP(F1437,Trendfactoren!$A$1:$F$2,2,FALSE)),FALSE)","v":1},0,{"$f":"+VLOOKUP(C1437,Scheepstypen!$A$1:$F$44,6,FALSE)","v":"L1"}]
["LekM0geladenop","Lek","M0","geladen","op","Fijn stof",2.3629304917851197,{"$f":"VLOOKUP(A1438,Begin:Einde,7,FALSE)","v":0},1,{"$f":"VLOOKUP(Jaar&L1438,Trendfactoren!$A$2:$F$65,(HLOOKUP(F1438,Trendfactoren!$A$1:$F$2,2,FALSE)),FALSE)","v":1},0,{"$f":"+VLOOKUP(C1438,Scheepstypen!$A$1:$F$44,6,FALSE)","v":"L1"}]
["LekM0geladenop","Lek","M0","geladen","op","NOx",69.862369194734015,{"$f":"VLOOKUP(A1439,Begin:Einde,7,FALSE)","v":0},1,{"$f":"VLOOKUP(Jaar&L1439,Trendfactoren!$A$2:$F$65,(HLOOKUP(F1439,Trendfactoren!$A$1:$F$2,2,FALSE)),FALSE)","v":1},0,{"$f":"+VLOOKUP(C1439,Scheepstypen!$A$1:$F$44,6,FALSE)","v":"L1"}]
["LekM0leegaf","Lek","M0","leeg","af","Fijn stof",0.69969081182192272,{"$f":"VLOOKUP(A1440,Begin:Einde,7,FALSE)","v":0},1,{"$f":"VLOOKUP(Jaar&L1440,Trendfactoren!$A$2:$F$65,(HLOOKUP(F1440,Trendfactoren!$A$1:$F$2,2,FALSE)),FALSE)","v":1},0,{"$f":"+VLOOKUP(C1440,Scheepstypen!$A$1:$F$44,6,FALSE)","v":"L1"}]
["LekM0leegaf","Lek","M0","leeg","af","NOx",17.14871399506865,{"$f":"VLOOKUP(A1441,Begin:Einde,7,FALSE)","v":0},1,{"$f":"VLOOKUP(Jaar&L1441,Trendfactoren!$A$2:$F$65,(HLOOKUP(F1441,Trendfactoren!$A$1:$F$2,2,FALSE)),FALSE)","v":1},0,{"$f":"+VLOOKUP(C1441,Scheepstypen!$A$1:$F$44,6,FALSE)","v":"L1"}]
["LekM0leegop","Lek","M0","leeg","op","Fijn stof",1.3951047992313907,{"$f":"VLOOKUP(A1442,Begin:Einde,7,FALSE)","v":0},1,{"$f":"VLOOKUP(Jaar&L1442,Trendfactoren!$A$2:$F$65,(HLOOKUP(F1442,Trendfactoren!$A$1:$F$2,2,FALSE)),FALSE)","v":1},0,{"$f":"+VLOOKUP(C1442,Scheepstypen!$A$1:$F$44,6,FALSE)","v":"L1"}]
["LekM0leegop","Lek","M0","leeg","op","NOx",36.823713051129495,{"$f":"VLOOKUP(A1443,Begin:Einde,7,FALSE)","v":0},1,{"$f":"VLOOKUP(Jaar&L1443,Trendfactoren!$A$2:$F$65,(HLOOKUP(F1443,Trendfactoren!$A$1:$F$2,2,FALSE)),FALSE)","v":1},0,{"$f":"+VLOOKUP(C1443,Scheepstypen!$A$1:$F$44,6,FALSE)","v":"L1"}]
["LekM1geladenaf","Lek","M1","geladen","af","Fijn stof",1.4956292591330855,{"$f":"VLOOKUP(A1444,Begin:Einde,7,FALSE)","v":0},1,{"$f":"VLOOKUP(Jaar&L1444,Trendfactoren!$A$2:$F$65,(HLOOKUP(F1444,Trendfactoren!$A$1:$F$2,2,FALSE)),FALSE)","v":1},0,{"$f":"+VLOOKUP(C1444,Scheepstypen!$A$1:$F$44,6,FALSE)","v":"L1"}]
["LekM1geladenaf","Lek","M1","geladen","af","NOx",42.21800261894419,{"$f":"VLOOKUP(A1445,Begin:Einde,7,FALSE)","v":0},1,{"$f":"VLOOKUP(Jaar&L1445,Trendfactoren!$A$2:$F$65,(HLOOKUP(F1445,Trendfactoren!$A$1:$F$2,2,FALSE)),FALSE)","v":1},0,{"$f":"+VLOOKUP(C1445,Scheepstypen!$A$1:$F$44,6,FALSE)","v":"L1"}]
["LekM1geladenop","Lek","M1","geladen","op","Fijn stof",5.3061584124372194,{"$f":"VLOOKUP(A1446,Begin:Einde,7,FALSE)","v":0},1,{"$f":"VLOOKUP(Jaar&L1446,Trendfactoren!$A$2:$F$65,(HLOOKUP(F1446,Trendfactoren!$A$1:$F$2,2,FALSE)),FALSE)","v":1},0,{"$f":"+VLOOKUP(C1446,Scheepstypen!$A$1:$F$44,6,FALSE)","v":"L1"}]
["LekM1geladenop","Lek","M1","geladen","op","NOx",159.07372928281271,{"$f":"VLOOKUP(A1447,Begin:Einde,7,FALSE)","v":0},1,{"$f":"VLOOKUP(Jaar&L1447,Trendfactoren!$A$2:$F$65,(HLOOKUP(F1447,Trendfactoren!$A$1:$F$2,2,FALSE)),FALSE)","v":1},0,{"$f":"+VLOOKUP(C1447,Scheepstypen!$A$1:$F$44,6,FALSE)","v":"L1"}]
["LekM1leegaf","Lek","M1","leeg","af","Fijn stof",0.89155520783781528,{"$f":"VLOOKUP(A1448,Begin:Einde,7,FALSE)","v":0},1,{"$f":"VLOOKUP(Jaar&L1448,Trendfactoren!$A$2:$F$65,(HLOOKUP(F1448,Trendfactoren!$A$1:$F$2,2,FALSE)),FALSE)","v":1},{"$f":"+G1448*H1448*I1448*J1448","v":0},{"$f":"+VLOOKUP(C1448,Scheepstypen!$A$1:$F$44,6,FALSE)","v":"L1"}]
["LekM1leegaf","Lek","M1","leeg","af","NOx",21.940069572153487,{"$f":"VLOOKUP(A1449,Begin:Einde,7,FALSE)","v":0},1,{"$f":"VLOOKUP(Jaar&L1449,Trendfactoren!$A$2:$F$65,(HLOOKUP(F1449,Trendfactoren!$A$1:$F$2,2,FALSE)),FALSE)","v":1},0,{"$f":"+VLOOKUP(C1449,Scheepstypen!$A$1:$F$44,6,FALSE)","v":"L1"}]
["LekM1leegop","Lek","M1","leeg","op","Fijn stof",2.8127684350536413,{"$f":"VLOOKUP(A1450,Begin:Einde,7,FALSE)","v":0},1,{"$f":"VLOOKUP(Jaar&L1450,Trendfactoren!$A$2:$F$65,(HLOOKUP(F1450,Trendfactoren!$A$1:$F$2,2,FALSE)),FALSE)","v":1},0,{"$f":"+VLOOKUP(C1450,Scheepstypen!$A$1:$F$44,6,FALSE)","v":"L1"}]
["LekM1leegop","Lek","M1","leeg","op","NOx",84.333209962864814,{"$f":"VLOOKUP(A1451,Begin:Einde,7,FALSE)","v":0},1,{"$f":"VLOOKUP(Jaar&L1451,Trendfactoren!$A$2:$F$65,(HLOOKUP(F1451,Trendfactoren!$A$1:$F$2,2,FALSE)),FALSE)","v":1},0,{"$f":"+VLOOKUP(C1451,Scheepstypen!$A$1:$F$44,6,FALSE)","v":"L1"}]
["LekM10geladenaf","Lek","M10","geladen","af","Fijn stof",11.941533734619426,{"$f":"VLOOKUP(A1452,Begin:Einde,7,FALSE)","v":0},1,{"$f":"VLOOKUP(Jaar&L1452,Trendfactoren!$A$2:$F$65,(HLOOKUP(F1452,Trendfactoren!$A$1:$F$2,2,FALSE)),FALSE)","v":1},0,{"$f":"+VLOOKUP(C1452,Scheepstypen!$A$1:$F$44,6,FALSE)","v":"L3"}]
["LekM10geladenaf","Lek","M10","geladen","af","NOx",366.98165864422606,{"$f":"VLOOKUP(A1453,Begin:Einde,7,FALSE)","v":0},1,{"$f":"VLOOKUP(Jaar&L1453,Trendfactoren!$A$2:$F$65,(HLOOKUP(F1453,Trendfactoren!$A$1:$F$2,2,FALSE)),FALSE)","v":1},0,{"$f":"+VLOOKUP(C1453,Scheepstypen!$A$1:$F$44,6,FALSE)","v":"L3"}]
["LekM10geladenop","Lek","M10","geladen","op","Fijn stof",31.197166558164561,{"$f":"VLOOKUP(A1454,Begin:Einde,7,FALSE)","v":0},1,{"$f":"VLOOKUP(Jaar&L1454,Trendfactoren!$A$2:$F$65,(HLOOKUP(F1454,Trendfactoren!$A$1:$F$2,2,FALSE)),FALSE)","v":1},0,{"$f":"+VLOOKUP(C1454,Scheepstypen!$A$1:$F$44,6,FALSE)","v":"L3"}]
["LekM10geladenop","Lek","M10","geladen","op","NOx",967.93950652335366,{"$f":"VLOOKUP(A1455,Begin:Einde,7,FALSE)","v":0},1,{"$f":"VLOOKUP(Jaar&L1455,Trendfactoren!$A$2:$F$65,(HLOOKUP(F1455,Trendfactoren!$A$1:$F$2,2,FALSE)),FALSE)","v":1},0,{"$f":"+VLOOKUP(C1455,Scheepstypen!$A$1:$F$44,6,FALSE)","v":"L3"}]
["LekM10leegaf","Lek","M10","leeg","af","Fijn stof",7.5095668602089658,{"$f":"VLOOKUP(A1456,Begin:Einde,7,FALSE)","v":0},1,{"$f":"VLOOKUP(Jaar&L1456,Trendfactoren!$A$2:$F$65,(HLOOKUP(F1456,Trendfactoren!$A$1:$F$2,2,FALSE)),FALSE)","v":1},0,{"$f":"+VLOOKUP(C1456,Scheepstypen!$A$1:$F$44,6,FALSE)","v":"L3"}]
["LekM10leegaf","Lek","M10","leeg","af","NOx",218.63661641561785,{"$f":"VLOOKUP(A1457,Begin:Einde,7,FALSE)","v":0},1,{"$f":"VLOOKUP(Jaar&L1457,Trendfactoren!$A$2:$F$65,(HLOOKUP(F1457,Trendfactoren!$A$1:$F$2,2,FALSE)),FALSE)","v":1},0,{"$f":"+VLOOKUP(C1457,Scheepstypen!$A$1:$F$44,6,FALSE)","v":"L3"}]
["LekM10leegop","Lek","M10","leeg","op","Fijn stof",11.568680620814543,{"$f":"VLOOKUP(A1458,Begin:Einde,7,FALSE)","v":0},1,{"$f":"VLOOKUP(Jaar&L1458,Trendfactoren!$A$2:$F$65,(HLOOKUP(F1458,Trendfactoren!$A$1:$F$2,2,FALSE)),FALSE)","v":1},0,{"$f":"+VLOOKUP(C1458,Scheepstypen!$A$1:$F$44,6,FALSE)","v":"L3"}]
["LekM10leegop","Lek","M10","leeg","op","NOx",271.32557146692142,{"$f":"VLOOKUP(A1459,Begin:Einde,7,FALSE)","v":0},1,{"$f":"VLOOKUP(Jaar&L1459,Trendfactoren!$A$2:$F$65,(HLOOKUP(F1459,Trendfactoren!$A$1:$F$2,2,FALSE)),FALSE)","v":1},0,{"$f":"+VLOOKUP(C1459,Scheepstypen!$A$1:$F$44,6,FALSE)","v":"L3"}]
["LekM11geladenaf","Lek","M11","geladen","af","Fijn stof",13.98558441178157,{"$f":"VLOOKUP(A1460,Begin:Einde,7,FALSE)","v":0},1,{"$f":"VLOOKUP(Jaar&L1460,Trendfactoren!$A$2:$F$65,(HLOOKUP(F1460,Trendfactoren!$A$1:$F$2,2,FALSE)),FALSE)","v":1},0,{"$f":"+VLOOKUP(C1460,Scheepstypen!$A$1:$F$44,6,FALSE)","v":"L3"}]
["LekM11geladenaf","Lek","M11","geladen","af","NOx",420.20414967651647,{"$f":"VLOOKUP(A1461,Begin:Einde,7,FALSE)","v":0},1,{"$f":"VLOOKUP(Jaar&L1461,Trendfactoren!$A$2:$F$65,(HLOOKUP(F1461,Trendfactoren!$A$1:$F$2,2,FALSE)),FALSE)","v":1},0,{"$f":"+VLOOKUP(C1461,Scheepstypen!$A$1:$F$44,6,FALSE)","v":"L3"}]
["LekM11geladenop","Lek","M11","geladen","op","Fijn stof",33.417220721531365,{"$f":"VLOOKUP(A1462,Begin:Einde,7,FALSE)","v":0},{"$f":"+Afstand","v":1},{"$f":"VLOOKUP(Jaar&L1462,Trendfactoren!$A$2:$F$65,(HLOOKUP(F1462,Trendfactoren!$A$1:$F$2,2,FALSE)),FALSE)","v":1},0,{"$f":"+VLOOKUP(C1462,Scheepstypen!$A$1:$F$44,6,FALSE)","v":"L3"}]
["LekM11geladenop","Lek","M11","geladen","op","NOx",1034.9421799156278,{"$f":"VLOOKUP(A1463,Begin:Einde,7,FALSE)","v":0},1,{"$f":"VLOOKUP(Jaar&L1463,Trendfactoren!$A$2:$F$65,(HLOOKUP(F1463,Trendfactoren!$A$1:$F$2,2,FALSE)),FALSE)","v":1},0,{"$f":"+VLOOKUP(C1463,Scheepstypen!$A$1:$F$44,6,FALSE)","v":"L3"}]
["LekM11leegaf","Lek","M11","leeg","af","Fijn stof",9.8152650413166072,{"$f":"VLOOKUP(A1464,Begin:Einde,7,FALSE)","v":0},1,{"$f":"VLOOKUP(Jaar&L1464,Trendfactoren!$A$2:$F$65,(HLOOKUP(F1464,Trendfactoren!$A$1:$F$2,2,FALSE)),FALSE)","v":1},0,{"$f":"+VLOOKUP(C1464,Scheepstypen!$A$1:$F$44,6,FALSE)","v":"L3"}]
["LekM11leegaf","Lek","M11","leeg","af","NOx",279.655367837526,{"$f":"VLOOKUP(A1465,Begin:Einde,7,FALSE)","v":0},1,{"$f":"VLOOKUP(Jaar&L1465,Trendfactoren!$A$2:$F$65,(HLOOKUP(F1465,Trendfactoren!$A$1:$F$2,2,FALSE)),FALSE)","v":1},0,{"$f":"+VLOOKUP(C1465,Scheepstypen!$A$1:$F$44,6,FALSE)","v":"L3"}]
["LekM11leegop","Lek","M11","leeg","op","Fijn stof",24.406274591041619,{"$f":"VLOOKUP(A1466,Begin:Einde,7,FALSE)","v":0},1,{"$f":"VLOOKUP(Jaar&L1466,Trendfactoren!$A$2:$F$65,(HLOOKUP(F1466,Trendfactoren!$A$1:$F$2,2,FALSE)),FALSE)","v":1},0,{"$f":"+VLOOKUP(C1466,Scheepstypen!$A$1:$F$44,6,FALSE)","v":"L3"}]
["LekM11leegop","Lek","M11","leeg","op","NOx",756.2913898139434,{"$f":"VLOOKUP(A1467,Begin:Einde,7,FALSE)","v":0},1,{"$f":"VLOOKUP(Jaar&L1467,Trendfactoren!$A$2:$F$65,(HLOOKUP(F1467,Trendfactoren!$A$1:$F$2,2,FALSE)),FALSE)","v":1},0,{"$f":"+VLOOKUP(C1467,Scheepstypen!$A$1:$F$44,6,FALSE)","v":"L3"}]
["LekM12geladenaf","Lek","M12","geladen","af","Fijn stof",13.605937532171927,{"$f":"VLOOKUP(A1468,Begin:Einde,7,FALSE)","v":0},1,{"$f":"VLOOKUP(Jaar&L1468,Trendfactoren!$A$2:$F$65,(HLOOKUP(F1468,Trendfactoren!$A$1:$F$2,2,FALSE)),FALSE)","v":1},0,{"$f":"+VLOOKUP(C1468,Scheepstypen!$A$1:$F$44,6,FALSE)","v":"L3"}]
["LekM12geladenaf","Lek","M12","geladen","af","NOx",385.72049156031989,{"$f":"VLOOKUP(A1469,Begin:Einde,7,FALSE)","v":0},1,{"$f":"VLOOKUP(Jaar&L1469,Trendfactoren!$A$2:$F$65,(HLOOKUP(F1469,Trendfactoren!$A$1:$F$2,2,FALSE)),FALSE)","v":1},0,{"$f":"+VLOOKUP(C1469,Scheepstypen!$A$1:$F$44,6,FALSE)","v":"L3"}]
["LekM12geladenop","Lek","M12","geladen","op","Fijn stof",37.943428807218027,{"$f":"VLOOKUP(A1470,Begin:Einde,7,FALSE)","v":0},1,{"$f":"VLOOKUP(Jaar&L1470,Trendfactoren!$A$2:$F$65,(HLOOKUP(F1470,Trendfactoren!$A$1:$F$2,2,FALSE)),FALSE)","v":1},0,{"$f":"+VLOOKUP(C1470,Scheepstypen!$A$1:$F$44,6,FALSE)","v":"L3"}]
["LekM12geladenop","Lek","M12","geladen","op","NOx",1170.433925534501,{"$f":"VLOOKUP(A1471,Begin:Einde,7,FALSE)","v":0},1,{"$f":"VLOOKUP(Jaar&L1471,Trendfactoren!$A$2:$F$65,(HLOOKUP(F1471,Trendfactoren!$A$1:$F$2,2,FALSE)),FALSE)","v":1},0,{"$f":"+VLOOKUP(C1471,Scheepstypen!$A$1:$F$44,6,FALSE)","v":"L3"}]
["LekM12leegaf","Lek","M12","leeg","af","Fijn stof",11.106094124534685,{"$f":"VLOOKUP(A1472,Begin:Einde,7,FALSE)","v":0},1,{"$f":"VLOOKUP(Jaar&L1472,Trendfactoren!$A$2:$F$65,(HLOOKUP(F1472,Trendfactoren!$A$1:$F$2,2,FALSE)),FALSE)","v":1},0,{"$f":"+VLOOKUP(C1472,Scheepstypen!$A$1:$F$44,6,FALSE)","v":"L3"}]
[{"$f":"+B1473&C1473&D1473&E1473","v":"LekM12leegaf"},"Lek","M12","leeg","af","NOx",299.56359301181192,{"$f":"VLOOKUP(A1473,Begin:Einde,7,FALSE)","v":0},1,{"$f":"VLOOKUP(Jaar&L1473,Trendfactoren!$A$2:$F$65,(HLOOKUP(F1473,Trendfactoren!$A$1:$F$2,2,FALSE)),FALSE)","v":1},0,{"$f":"+VLOOKUP(C1473,Scheepstypen!$A$1:$F$44,6,FALSE)","v":"L3"}]
["LekM12leegop","Lek","M12","leeg","op","Fijn stof",22.335585853326421,{"$f":"VLOOKUP(A1474,Begin:Einde,7,FALSE)","v":0},1,{"$f":"VLOOKUP(Jaar&L1474,Trendfactoren!$A$2:$F$65,(HLOOKUP(F1474,Trendfactoren!$A$1:$F$2,2,FALSE)),FALSE)","v":1},0,{"$f":"+VLOOKUP(C1474,Scheepstypen!$A$1:$F$44,6,FALSE)","v":"L3"}]
["LekM12leegop","Lek","M12","leeg","op","NOx",681.36666034122413,{"$f":"VLOOKUP(A1475,Begin:Einde,7,FALSE)","v":0},1,{"$f":"VLOOKUP(Jaar&L1475,Trendfactoren!$A$2:$F$65,(HLOOKUP(F1475,Trendfactoren!$A$1:$F$2,2,FALSE)),FALSE)","v":1},0,{"$f":"+VLOOKUP(C1475,Scheepstypen!$A$1:$F$44,6,FALSE)","v":"L3"}]
["LekM2geladenaf","Lek","M2","geladen","af","Fijn stof",3.2912323240194961,{"$f":"VLOOKUP(A1476,Begin:Einde,7,FALSE)","v":0},1,{"$f":"VLOOKUP(Jaar&L1476,Trendfactoren!$A$2:$F$65,(HLOOKUP(F1476,Trendfactoren!$A$1:$F$2,2,FALSE)),FALSE)","v":1},0,{"$f":"+VLOOKUP(C1476,Scheepstypen!$A$1:$F$44,6,FALSE)","v":"L1"}]
["LekM2geladenaf","Lek","M2","geladen","af","NOx",97.956781826772001,{"$f":"VLOOKUP(A1477,Begin:Einde,7,FALSE)","v":0},1,{"$f":"VLOOKUP(Jaar&L1477,Trendfactoren!$A$2:$F$65,(HLOOKUP(F1477,Trendfactoren!$A$1:$F$2,2,FALSE)),FALSE)","v":1},0,{"$f":"+VLOOKUP(C1477,Scheepstypen!$A$1:$F$44,6,FALSE)","v":"L1"}]
["LekM2geladenop","Lek","M2","geladen","op","Fijn stof",7.3458519440764452,{"$f":"VLOOKUP(A1478,Begin:Einde,7,FALSE)","v":0},1,{"$f":"VLOOKUP(Jaar&L1478,Trendfactoren!$A$2:$F$65,(HLOOKUP(F1478,Trendfactoren!$A$1:$F$2,2,FALSE)),FALSE)","v":1},0,{"$f":"+VLOOKUP(C1478,Scheepstypen!$A$1:$F$44,6,FALSE)","v":"L1"}]
["LekM2geladenop","Lek","M2","geladen","op","NOx",219.76993222173289,{"$f":"VLOOKUP(A1479,Begin:Einde,7,FALSE)","v":0},1,{"$f":"VLOOKUP(Jaar&L1479,Trendfactoren!$A$2:$F$65,(HLOOKUP(F1479,Trendfactoren!$A$1:$F$2,2,FALSE)),FALSE)","v":1},0,{"$f":"+VLOOKUP(C1479,Scheepstypen!$A$1:$F$44,6,FALSE)","v":"L1"}]
["LekM2leegaf","Lek","M2","leeg","af","Fijn stof",1.9483030955976306,{"$f":"VLOOKUP(A1480,Begin:Einde,7,FALSE)","v":0},1,{"$f":"VLOOKUP(Jaar&L1480,Trendfactoren!$A$2:$F$65,(HLOOKUP(F1480,Trendfactoren!$A$1:$F$2,2,FALSE)),FALSE)","v":1},0,{"$f":"+VLOOKUP(C1480,Scheepstypen!$A$1:$F$44,6,FALSE)","v":"L1"}]
["LekM2leegaf","Lek","M2","leeg","af","NOx",55.03273479014743,{"$f":"VLOOKUP(A1481,Begin:Einde,7,FALSE)","v":0},1,{"$f":"VLOOKUP(Jaar&L1481,Trendfactoren!$A$2:$F$65,(HLOOKUP(F1481,Trendfactoren!$A$1:$F$2,2,FALSE)),FALSE)","v":1},0,{"$f":"+VLOOKUP(C1481,Scheepstypen!$A$1:$F$44,6,FALSE)","v":"L1"}]
["LekM2leegop","Lek","M2","leeg","op","Fijn stof",5.3296119565635305,{"$f":"VLOOKUP(A1482,Begin:Einde,7,FALSE)","v":0},1,{"$f":"VLOOKUP(Jaar&L1482,Trendfactoren!$A$2:$F$65,(HLOOKUP(F1482,Trendfactoren!$A$1:$F$2,2,FALSE)),FALSE)","v":1},0,{"$f":"+VLOOKUP(C1482,Scheepstypen!$A$1:$F$44,6,FALSE)","v":"L1"}]
["LekM2leegop","Lek","M2","leeg","op","NOx",159.75993850081366,{"$f":"VLOOKUP(A1483,Begin:Einde,7,FALSE)","v":0},1,{"$f":"VLOOKUP(Jaar&L1483,Trendfactoren!$A$2:$F$65,(HLOOKUP(F1483,Trendfactoren!$A$1:$F$2,2,FALSE)),FALSE)","v":1},0,{"$f":"+VLOOKUP(C1483,Scheepstypen!$A$1:$F$44,6,FALSE)","v":"L1"}]
["LekM3geladenaf","Lek","M3","geladen","af","Fijn stof",3.7435276765499466,{"$f":"VLOOKUP(A1484,Begin:Einde,7,FALSE)","v":0},1,{"$f":"VLOOKUP(Jaar&L1484,Trendfactoren!$A$2:$F$65,(HLOOKUP(F1484,Trendfactoren!$A$1:$F$2,2,FALSE)),FALSE)","v":1},0,{"$f":"+VLOOKUP(C1484,Scheepstypen!$A$1:$F$44,6,FALSE)","v":"L1"}]
["LekM3geladenaf","Lek","M3","geladen","af","NOx",110.37936223292509,{"$f":"VLOOKUP(A1485,Begin:Einde,7,FALSE)","v":0},1,{"$f":"VLOOKUP(Jaar&L1485,Trendfactoren!$A$2:$F$65,(HLOOKUP(F1485,Trendfactoren!$A$1:$F$2,2,FALSE)),FALSE)","v":1},0,{"$f":"+VLOOKUP(C1485,Scheepstypen!$A$1:$F$44,6,FALSE)","v":"L1"}]
["LekM3geladenop","Lek","M3","geladen","op","Fijn stof",9.393839516554765,{"$f":"VLOOKUP(A1486,Begin:Einde,7,FALSE)","v":0},1,{"$f":"VLOOKUP(Jaar&L1486,Trendfactoren!$A$2:$F$65,(HLOOKUP(F1486,Trendfactoren!$A$1:$F$2,2,FALSE)),FALSE)","v":1},0,{"$f":"+VLOOKUP(C1486,Scheepstypen!$A$1:$F$44,6,FALSE)","v":"L1"}]
["LekM3geladenop","Lek","M3","geladen","op","NOx",280.60060975058565,{"$f":"VLOOKUP(A1487,Begin:Einde,7,FALSE)","v":0},1,{"$f":"VLOOKUP(Jaar&L1487,Trendfactoren!$A$2:$F$65,(HLOOKUP(F1487,Trendfactoren!$A$1:$F$2,2,FALSE)),FALSE)","v":1},0,{"$f":"+VLOOKUP(C1487,Scheepstypen!$A$1:$F$44,6,FALSE)","v":"L1"}]
["LekM3leegaf","Lek","M3","leeg","af","Fijn stof",2.6593828593792952,{"$f":"VLOOKUP(A1488,Begin:Einde,7,FALSE)","v":0},1,{"$f":"VLOOKUP(Jaar&L1488,Trendfactoren!$A$2:$F$65,(HLOOKUP(F1488,Trendfactoren!$A$1:$F$2,2,FALSE)),FALSE)","v":1},0,{"$f":"+VLOOKUP(C1488,Scheepstypen!$A$1:$F$44,6,FALSE)","v":"L1"}]
["LekM3leegaf","Lek","M3","leeg","af","NOx",75.61460903570385,{"$f":"VLOOKUP(A1489,Begin:Einde,7,FALSE)","v":0},1,{"$f":"VLOOKUP(Jaar&L1489,Trendfactoren!$A$2:$F$65,(HLOOKUP(F1489,Trendfactoren!$A$1:$F$2,2,FALSE)),FALSE)","v":1},0,{"$f":"+VLOOKUP(C1489,Scheepstypen!$A$1:$F$44,6,FALSE)","v":"L1"}]
["LekM3leegop","Lek","M3","leeg","op","Fijn stof",6.9761211045867713,{"$f":"VLOOKUP(A1490,Begin:Einde,7,FALSE)","v":0},1,{"$f":"VLOOKUP(Jaar&L1490,Trendfactoren!$A$2:$F$65,(HLOOKUP(F1490,Trendfactoren!$A$1:$F$2,2,FALSE)),FALSE)","v":1},0,{"$f":"+VLOOKUP(C1490,Scheepstypen!$A$1:$F$44,6,FALSE)","v":"L1"}]
["LekM3leegop","Lek","M3","leeg","op","NOx",208.12011340040735,{"$f":"VLOOKUP(A1491,Begin:Einde,7,FALSE)","v":0},1,{"$f":"VLOOKUP(Jaar&L1491,Trendfactoren!$A$2:$F$65,(HLOOKUP(F1491,Trendfactoren!$A$1:$F$2,2,FALSE)),FALSE)","v":1},0,{"$f":"+VLOOKUP(C1491,Scheepstypen!$A$1:$F$44,6,FALSE)","v":"L1"}]
["LekM4geladenaf","Lek","M4","geladen","af","Fijn stof",4.0062001629747304,{"$f":"VLOOKUP(A1492,Begin:Einde,7,FALSE)","v":0},1,{"$f":"VLOOKUP(Jaar&L1492,Trendfactoren!$A$2:$F$65,(HLOOKUP(F1492,Trendfactoren!$A$1:$F$2,2,FALSE)),FALSE)","v":1},0,{"$f":"+VLOOKUP(C1492,Scheepstypen!$A$1:$F$44,6,FALSE)","v":"L1"}]
["LekM4geladenaf","Lek","M4","geladen","af","NOx",116.27650989629356,{"$f":"VLOOKUP(A1493,Begin:Einde,7,FALSE)","v":0},1,{"$f":"VLOOKUP(Jaar&L1493,Trendfactoren!$A$2:$F$65,(HLOOKUP(F1493,Trendfactoren!$A$1:$F$2,2,FALSE)),FALSE)","v":1},0,{"$f":"+VLOOKUP(C1493,Scheepstypen!$A$1:$F$44,6,FALSE)","v":"L1"}]
["LekM4geladenop","Lek","M4","geladen","op","Fijn stof",11.269640297773057,{"$f":"VLOOKUP(A1494,Begin:Einde,7,FALSE)","v":0},1,{"$f":"VLOOKUP(Jaar&L1494,Trendfactoren!$A$2:$F$65,(HLOOKUP(F1494,Trendfactoren!$A$1:$F$2,2,FALSE)),FALSE)","v":1},0,{"$f":"+VLOOKUP(C1494,Scheepstypen!$A$1:$F$44,6,FALSE)","v":"L1"}]
["LekM4geladenop","Lek","M4","geladen","op","NOx",336.72753359321314,{"$f":"VLOOKUP(A1495,Begin:Einde,7,FALSE)","v":0},1,{"$f":"VLOOKUP(Jaar&L1495,Trendfactoren!$A$2:$F$65,(HLOOKUP(F1495,Trendfactoren!$A$1:$F$2,2,FALSE)),FALSE)","v":1},0,{"$f":"+VLOOKUP(C1495,Scheepstypen!$A$1:$F$44,6,FALSE)","v":"L1"}]
["LekM4leegaf","Lek","M4","leeg","af","Fijn stof",3.0096271915752175,{"$f":"VLOOKUP(A1496,Begin:Einde,7,FALSE)","v":0},1,{"$f":"VLOOKUP(Jaar&L1496,Trendfactoren!$A$2:$F$65,(HLOOKUP(F1496,Trendfactoren!$A$1:$F$2,2,FALSE)),FALSE)","v":1},0,{"$f":"+VLOOKUP(C1496,Scheepstypen!$A$1:$F$44,6,FALSE)","v":"L1"}]
["LekM4leegaf","Lek","M4","leeg","af","NOx",85.060860404924412,{"$f":"VLOOKUP(A1497,Begin:Einde,7,FALSE)","v":0},1,{"$f":"VLOOKUP(Jaar&L1497,Trendfactoren!$A$2:$F$65,(HLOOKUP(F1497,Trendfactoren!$A$1:$F$2,2,FALSE)),FALSE)","v":1},0,{"$f":"+VLOOKUP(C1497,Scheepstypen!$A$1:$F$44,6,FALSE)","v":"L1"}]
["LekM4leegop","Lek","M4","leeg","op","Fijn stof",8.1288366327595014,{"$f":"VLOOKUP(A1498,Begin:Einde,7,FALSE)","v":0},1,{"$f":"VLOOKUP(Jaar&L1498,Trendfactoren!$A$2:$F$65,(HLOOKUP(F1498,Trendfactoren!$A$1:$F$2,2,FALSE)),FALSE)","v":1},0,{"$f":"+VLOOKUP(C1498,Scheepstypen!$A$1:$F$44,6,FALSE)","v":"L1"}]
["LekM4leegop","Lek","M4","leeg","op","NOx",242.15627934113638,{"$f":"VLOOKUP(A1499,Begin:Einde,7,FALSE)","v":0},1,{"$f":"VLOOKUP(Jaar&L1499,Trendfactoren!$A$2:$F$65,(HLOOKUP(F1499,Trendfactoren!$A$1:$F$2,2,FALSE)),FALSE)","v":1},0,{"$f":"+VLOOKUP(C1499,Scheepstypen!$A$1:$F$44,6,FALSE)","v":"L1"}]
["LekM5geladenaf","Lek","M5","geladen","af","Fijn stof",4.8129228692305759,{"$f":"VLOOKUP(A1500,Begin:Einde,7,FALSE)","v":0},1,{"$f":"VLOOKUP(Jaar&L1500,Trendfactoren!$A$2:$F$65,(HLOOKUP(F1500,Trendfactoren!$A$1:$F$2,2,FALSE)),FALSE)","v":1},0,{"$f":"+VLOOKUP(C1500,Scheepstypen!$A$1:$F$44,6,FALSE)","v":"L2"}]
["LekM5geladenaf","Lek","M5","geladen","af","NOx",144.82978824379131,{"$f":"VLOOKUP(A1501,Begin:Einde,7,FALSE)","v":0},1,{"$f":"VLOOKUP(Jaar&L1501,Trendfactoren!$A$2:$F$65,(HLOOKUP(F1501,Trendfactoren!$A$1:$F$2,2,FALSE)),FALSE)","v":1},0,{"$f":"+VLOOKUP(C1501,Scheepstypen!$A$1:$F$44,6,FALSE)","v":"L2"}]
["LekM5geladenop","Lek","M5","geladen","op","Fijn stof",13.251858925446177,{"$f":"VLOOKUP(A1502,Begin:Einde,7,FALSE)","v":0},1,{"$f":"VLOOKUP(Jaar&L1502,Trendfactoren!$A$2:$F$65,(HLOOKUP(F1502,Trendfactoren!$A$1:$F$2,2,FALSE)),FALSE)","v":1},0,{"$f":"+VLOOKUP(C1502,Scheepstypen!$A$1:$F$44,6,FALSE)","v":"L2"}]
["LekM5geladenop","Lek","M5","geladen","op","NOx",407.30606884389761,{"$f":"VLOOKUP(A1503,Begin:Einde,7,FALSE)","v":0},1,{"$f":"VLOOKUP(Jaar&L1503,Trendfactoren!$A$2:$F$65,(HLOOKUP(F1503,Trendfactoren!$A$1:$F$2,2,FALSE)),FALSE)","v":1},0,{"$f":"+VLOOKUP(C1503,Scheepstypen!$A$1:$F$44,6,FALSE)","v":"L2"}]
["LekM5leegaf","Lek","M5","leeg","af","Fijn stof",3.6556973079498274,{"$f":"VLOOKUP(A1504,Begin:Einde,7,FALSE)","v":0},1,{"$f":"VLOOKUP(Jaar&L1504,Trendfactoren!$A$2:$F$65,(HLOOKUP(F1504,Trendfactoren!$A$1:$F$2,2,FALSE)),FALSE)","v":1},0,{"$f":"+VLOOKUP(C1504,Scheepstypen!$A$1:$F$44,6,FALSE)","v":"L2"}]
["LekM5leegaf","Lek","M5","leeg","af","NOx",107.68114809484007,{"$f":"VLOOKUP(A1505,Begin:Einde,7,FALSE)","v":0},1,{"$f":"VLOOKUP(Jaar&L1505,Trendfactoren!$A$2:$F$65,(HLOOKUP(F1505,Trendfactoren!$A$1:$F$2,2,FALSE)),FALSE)","v":1},0,{"$f":"+VLOOKUP(C1505,Scheepstypen!$A$1:$F$44,6,FALSE)","v":"L2"}]
["LekM5leegop","Lek","M5","leeg","op","Fijn stof",9.4409852562187684,{"$f":"VLOOKUP(A1506,Begin:Einde,7,FALSE)","v":0},1,{"$f":"VLOOKUP(Jaar&L1506,Trendfactoren!$A$2:$F$65,(HLOOKUP(F1506,Trendfactoren!$A$1:$F$2,2,FALSE)),FALSE)","v":1},0,{"$f":"+VLOOKUP(C1506,Scheepstypen!$A$1:$F$44,6,FALSE)","v":"L2"}]
["LekM5leegop","Lek","M5","leeg","op","NOx",289.63895224470366,{"$f":"VLOOKUP(A1507,Begin:Einde,7,FALSE)","v":0},1,{"$f":"VLOOKUP(Jaar&L1507,Trendfactoren!$A$2:$F$65,(HLOOKUP(F1507,Trendfactoren!$A$1:$F$2,2,FALSE)),FALSE)","v":1},0,{"$f":"+VLOOKUP(C1507,Scheepstypen!$A$1:$F$44,6,FALSE)","v":"L2"}]
["LekM6geladenaf","Lek","M6","geladen","af","Fijn stof",5.7277398522715455,{"$f":"VLOOKUP(A1508,Begin:Einde,7,FALSE)","v":0},1,{"$f":"VLOOKUP(Jaar&L1508,Trendfactoren!$A$2:$F$65,(HLOOKUP(F1508,Trendfactoren!$A$1:$F$2,2,FALSE)),FALSE)","v":1},0,{"$f":"+VLOOKUP(C1508,Scheepstypen!$A$1:$F$44,6,FALSE)","v":"L2"}]
["LekM6geladenaf","Lek","M6","geladen","af","NOx",170.94683174929997,{"$f":"VLOOKUP(A1509,Begin:Einde,7,FALSE)","v":0},1,{"$f":"VLOOKUP(Jaar&L1509,Trendfactoren!$A$2:$F$65,(HLOOKUP(F1509,Trendfactoren!$A$1:$F$2,2,FALSE)),FALSE)","v":1},0,{"$f":"+VLOOKUP(C1509,Scheepstypen!$A$1:$F$44,6,FALSE)","v":"L2"}]
["LekM6geladenop","Lek","M6","geladen","op","Fijn stof",15.327884285314088,{"$f":"VLOOKUP(A1510,Begin:Einde,7,FALSE)","v":0},1,{"$f":"VLOOKUP(Jaar&L1510,Trendfactoren!$A$2:$F$65,(HLOOKUP(F1510,Trendfactoren!$A$1:$F$2,2,FALSE)),FALSE)","v":1},0,{"$f":"+VLOOKUP(C1510,Scheepstypen!$A$1:$F$44,6,FALSE)","v":"L2"}]
["LekM6geladenop","Lek","M6","geladen","op","NOx",470.74620432164625,{"$f":"VLOOKUP(A1511,Begin:Einde,7,FALSE)","v":0},1,{"$f":"VLOOKUP(Jaar&L1511,Trendfactoren!$A$2:$F$65,(HLOOKUP(F1511,Trendfactoren!$A$1:$F$2,2,FALSE)),FALSE)","v":1},0,{"$f":"+VLOOKUP(C1511,Scheepstypen!$A$1:$F$44,6,FALSE)","v":"L2"}]
["LekM6leegaf","Lek","M6","leeg","af","Fijn stof",4.24981527793563,{"$f":"VLOOKUP(A1512,Begin:Einde,7,FALSE)","v":0},1,{"$f":"VLOOKUP(Jaar&L1512,Trendfactoren!$A$2:$F$65,(HLOOKUP(F1512,Trendfactoren!$A$1:$F$2,2,FALSE)),FALSE)","v":1},{"$f":"+G1512*H1512*I1512*J1512","v":0},{"$f":"+VLOOKUP(C1512,Scheepstypen!$A$1:$F$44,6,FALSE)","v":"L2"}]
["LekM6leegaf","Lek","M6","leeg","af","NOx",123.53332681516298,{"$f":"VLOOKUP(A1513,Begin:Einde,7,FALSE)","v":0},1,{"$f":"VLOOKUP(Jaar&L1513,Trendfactoren!$A$2:$F$65,(HLOOKUP(F1513,Trendfactoren!$A$1:$F$2,2,FALSE)),FALSE)","v":1},0,{"$f":"+VLOOKUP(C1513,Scheepstypen!$A$1:$F$44,6,FALSE)","v":"L2"}]
["LekM6leegop","Lek","M6","leeg","op","Fijn stof",11.26252629219089,{"$f":"VLOOKUP(A1514,Begin:Einde,7,FALSE)","v":0},1,{"$f":"VLOOKUP(Jaar&L1514,Trendfactoren!$A$2:$F$65,(HLOOKUP(F1514,Trendfactoren!$A$1:$F$2,2,FALSE)),FALSE)","v":1},0,{"$f":"+VLOOKUP(C1514,Scheepstypen!$A$1:$F$44,6,FALSE)","v":"L2"}]
["LekM6leegop","Lek","M6","leeg","op","NOx",345.91044481147645,{"$f":"VLOOKUP(A1515,Begin:Einde,7,FALSE)","v":0},1,{"$f":"VLOOKUP(Jaar&L1515,Trendfactoren!$A$2:$F$65,(HLOOKUP(F1515,Trendfactoren!$A$1:$F$2,2,FALSE)),FALSE)","v":1},0,{"$f":"+VLOOKUP(C1515,Scheepstypen!$A$1:$F$44,6,FALSE)","v":"L2"}]
["LekM7geladenaf","Lek","M7","geladen","af","Fijn stof",5.8638355891064133,{"$f":"VLOOKUP(A1516,Begin:Einde,7,FALSE)","v":0},1,{"$f":"VLOOKUP(Jaar&L1516,Trendfactoren!$A$2:$F$65,(HLOOKUP(F1516,Trendfactoren!$A$1:$F$2,2,FALSE)),FALSE)","v":1},0,{"$f":"+VLOOKUP(C1516,Scheepstypen!$A$1:$F$44,6,FALSE)","v":"L2"}]
["LekM7geladenaf","Lek","M7","geladen","af","NOx",171.61844240296054,{"$f":"VLOOKUP(A1517,Begin:Einde,7,FALSE)","v":0},1,{"$f":"VLOOKUP(Jaar&L1517,Trendfactoren!$A$2:$F$65,(HLOOKUP(F1517,Trendfactoren!$A$1:$F$2,2,FALSE)),FALSE)","v":1},0,{"$f":"+VLOOKUP(C1517,Scheepstypen!$A$1:$F$44,6,FALSE)","v":"L2"}]
["LekM7geladenop","Lek","M7","geladen","op","Fijn stof",20.023248743690438,{"$f":"VLOOKUP(A1518,Begin:Einde,7,FALSE)","v":0},1,{"$f":"VLOOKUP(Jaar&L1518,Trendfactoren!$A$2:$F$65,(HLOOKUP(F1518,Trendfactoren!$A$1:$F$2,2,FALSE)),FALSE)","v":1},0,{"$f":"+VLOOKUP(C1518,Scheepstypen!$A$1:$F$44,6,FALSE)","v":"L2"}]
["LekM7geladenop","Lek","M7","geladen","op","NOx",616.81950474813243,{"$f":"VLOOKUP(A1519,Begin:Einde,7,FALSE)","v":0},1,{"$f":"VLOOKUP(Jaar&L1519,Trendfactoren!$A$2:$F$65,(HLOOKUP(F1519,Trendfactoren!$A$1:$F$2,2,FALSE)),FALSE)","v":1},0,{"$f":"+VLOOKUP(C1519,Scheepstypen!$A$1:$F$44,6,FALSE)","v":"L2"}]
["LekM7leegaf","Lek","M7","leeg","af","Fijn stof",5.0009673997653579,{"$f":"VLOOKUP(A1520,Begin:Einde,7,FALSE)","v":0},1,{"$f":"VLOOKUP(Jaar&L1520,Trendfactoren!$A$2:$F$65,(HLOOKUP(F1520,Trendfactoren!$A$1:$F$2,2,FALSE)),FALSE)","v":1},0,{"$f":"+VLOOKUP(C1520,Scheepstypen!$A$1:$F$44,6,FALSE)","v":"L2"}]
["LekM7leegaf","Lek","M7","leeg","af","NOx",142.98674509088099,{"$f":"VLOOKUP(A1521,Begin:Einde,7,FALSE)","v":0},1,{"$f":"VLOOKUP(Jaar&L1521,Trendfactoren!$A$2:$F$65,(HLOOKUP(F1521,Trendfactoren!$A$1:$F$2,2,FALSE)),FALSE)","v":1},0,{"$f":"+VLOOKUP(C1521,Scheepstypen!$A$1:$F$44,6,FALSE)","v":"L2"}]
["LekM7leegop","Lek","M7","leeg","op","Fijn stof",14.825363812460347,{"$f":"VLOOKUP(A1522,Begin:Einde,7,FALSE)","v":0},1,{"$f":"VLOOKUP(Jaar&L1522,Trendfactoren!$A$2:$F$65,(HLOOKUP(F1522,Trendfactoren!$A$1:$F$2,2,FALSE)),FALSE)","v":1},0,{"$f":"+VLOOKUP(C1522,Scheepstypen!$A$1:$F$44,6,FALSE)","v":"L2"}]
["LekM7leegop","Lek","M7","leeg","op","NOx",457.37149334428716,{"$f":"VLOOKUP(A1523,Begin:Einde,7,FALSE)","v":0},1,{"$f":"VLOOKUP(Jaar&L1523,Trendfactoren!$A$2:$F$65,(HLOOKUP(F1523,Trendfactoren!$A$1:$F$2,2,FALSE)),FALSE)","v":1},0,{"$f":"+VLOOKUP(C1523,Scheepstypen!$A$1:$F$44,6,FALSE)","v":"L2"}]
["LekM8geladenaf","Lek","M8","geladen","af","Fijn stof",8.5341095086695411,{"$f":"VLOOKUP(A1524,Begin:Einde,7,FALSE)","v":0},1,{"$f":"VLOOKUP(Jaar&L1524,Trendfactoren!$A$2:$F$65,(HLOOKUP(F1524,Trendfactoren!$A$1:$F$2,2,FALSE)),FALSE)","v":1},0,{"$f":"+VLOOKUP(C1524,Scheepstypen!$A$1:$F$44,6,FALSE)","v":"L3"}]
["LekM8geladenaf","Lek","M8","geladen","af","NOx",250.85308934275966,{"$f":"VLOOKUP(A1525,Begin:Einde,7,FALSE)","v":0},1,{"$f":"VLOOKUP(Jaar&L1525,Trendfactoren!$A$2:$F$65,(HLOOKUP(F1525,Trendfactoren!$A$1:$F$2,2,FALSE)),FALSE)","v":1},0,{"$f":"+VLOOKUP(C1525,Scheepstypen!$A$1:$F$44,6,FALSE)","v":"L3"}]
["LekM8geladenop","Lek","M8","geladen","op","Fijn stof",27.160573419128035,{"$f":"VLOOKUP(A1526,Begin:Einde,7,FALSE)","v":0},{"$f":"+Afstand","v":1},{"$f":"VLOOKUP(Jaar&L1526,Trendfactoren!$A$2:$F$65,(HLOOKUP(F1526,Trendfactoren!$A$1:$F$2,2,FALSE)),FALSE)","v":1},0,{"$f":"+VLOOKUP(C1526,Scheepstypen!$A$1:$F$44,6,FALSE)","v":"L3"}]
["LekM8geladenop","Lek","M8","geladen","op","NOx",841.43499493555532,{"$f":"VLOOKUP(A1527,Begin:Einde,7,FALSE)","v":0},1,{"$f":"VLOOKUP(Jaar&L1527,Trendfactoren!$A$2:$F$65,(HLOOKUP(F1527,Trendfactoren!$A$1:$F$2,2,FALSE)),FALSE)","v":1},0,{"$f":"+VLOOKUP(C1527,Scheepstypen!$A$1:$F$44,6,FALSE)","v":"L3"}]
["LekM8leegaf","Lek","M8","leeg","af","Fijn stof",6.2963724077186365,{"$f":"VLOOKUP(A1528,Begin:Einde,7,FALSE)","v":0},1,{"$f":"VLOOKUP(Jaar&L1528,Trendfactoren!$A$2:$F$65,(HLOOKUP(F1528,Trendfactoren!$A$1:$F$2,2,FALSE)),FALSE)","v":1},0,{"$f":"+VLOOKUP(C1528,Scheepstypen!$A$1:$F$44,6,FALSE)","v":"L3"}]
["LekM8leegaf","Lek","M8","leeg","af","NOx",179.72309822360987,{"$f":"VLOOKUP(A1529,Begin:Einde,7,FALSE)","v":0},1,{"$f":"VLOOKUP(Jaar&L1529,Trendfactoren!$A$2:$F$65,(HLOOKUP(F1529,Trendfactoren!$A$1:$F$2,2,FALSE)),FALSE)","v":1},0,{"$f":"+VLOOKUP(C1529,Scheepstypen!$A$1:$F$44,6,FALSE)","v":"L3"}]
["LekM8leegop","Lek","M8","leeg","op","Fijn stof",17.140252672810817,{"$f":"VLOOKUP(A1530,Begin:Einde,7,FALSE)","v":0},1,{"$f":"VLOOKUP(Jaar&L1530,Trendfactoren!$A$2:$F$65,(HLOOKUP(F1530,Trendfactoren!$A$1:$F$2,2,FALSE)),FALSE)","v":1},0,{"$f":"+VLOOKUP(C1530,Scheepstypen!$A$1:$F$44,6,FALSE)","v":"L3"}]
["LekM8leegop","Lek","M8","leeg","op","NOx",530.29591693730913,{"$f":"VLOOKUP(A1531,Begin:Einde,7,FALSE)","v":0},1,{"$f":"VLOOKUP(Jaar&L1531,Trendfactoren!$A$2:$F$65,(HLOOKUP(F1531,Trendfactoren!$A$1:$F$2,2,FALSE)),FALSE)","v":1},0,{"$f":"+VLOOKUP(C1531,Scheepstypen!$A$1:$F$44,6,FALSE)","v":"L3"}]
["LekM9geladenaf","Lek","M9","geladen","af","Fijn stof",9.3122236810858094,{"$f":"VLOOKUP(A1532,Begin:Einde,7,FALSE)","v":0},1,{"$f":"VLOOKUP(Jaar&L1532,Trendfactoren!$A$2:$F$65,(HLOOKUP(F1532,Trendfactoren!$A$1:$F$2,2,FALSE)),FALSE)","v":1},0,{"$f":"+VLOOKUP(C1532,Scheepstypen!$A$1:$F$44,6,FALSE)","v":"L3"}]
["LekM9geladenaf","Lek","M9","geladen","af","NOx",263.32555428497835,{"$f":"VLOOKUP(A1533,Begin:Einde,7,FALSE)","v":0},1,{"$f":"VLOOKUP(Jaar&L1533,Trendfactoren!$A$2:$F$65,(HLOOKUP(F1533,Trendfactoren!$A$1:$F$2,2,FALSE)),FALSE)","v":1},0,{"$f":"+VLOOKUP(C1533,Scheepstypen!$A$1:$F$44,6,FALSE)","v":"L3"}]
["LekM9geladenop","Lek","M9","geladen","op","Fijn stof",27.303576069147951,{"$f":"VLOOKUP(A1534,Begin:Einde,7,FALSE)","v":0},1,{"$f":"VLOOKUP(Jaar&L1534,Trendfactoren!$A$2:$F$65,(HLOOKUP(F1534,Trendfactoren!$A$1:$F$2,2,FALSE)),FALSE)","v":1},0,{"$f":"+VLOOKUP(C1534,Scheepstypen!$A$1:$F$44,6,FALSE)","v":"L3"}]
["LekM9geladenop","Lek","M9","geladen","op","NOx",845.27950117211208,{"$f":"VLOOKUP(A1535,Begin:Einde,7,FALSE)","v":0},1,{"$f":"VLOOKUP(Jaar&L1535,Trendfactoren!$A$2:$F$65,(HLOOKUP(F1535,Trendfactoren!$A$1:$F$2,2,FALSE)),FALSE)","v":1},0,{"$f":"+VLOOKUP(C1535,Scheepstypen!$A$1:$F$44,6,FALSE)","v":"L3"}]
["LekM9leegaf","Lek","M9","leeg","af","Fijn stof",8.1743676883949643,{"$f":"VLOOKUP(A1536,Begin:Einde,7,FALSE)","v":0},1,{"$f":"VLOOKUP(Jaar&L1536,Trendfactoren!$A$2:$F$65,(HLOOKUP(F1536,Trendfactoren!$A$1:$F$2,2,FALSE)),FALSE)","v":1},0,{"$f":"+VLOOKUP(C1536,Scheepstypen!$A$1:$F$44,6,FALSE)","v":"L3"}]
[{"$f":"+B1537&C1537&D1537&E1537","v":"LekM9leegaf"},"Lek","M9","leeg","af","NOx",231.89321508097535,{"$f":"VLOOKUP(A1537,Begin:Einde,7,FALSE)","v":0},1,{"$f":"VLOOKUP(Jaar&L1537,Trendfactoren!$A$2:$F$65,(HLOOKUP(F1537,Trendfactoren!$A$1:$F$2,2,FALSE)),FALSE)","v":1},0,{"$f":"+VLOOKUP(C1537,Scheepstypen!$A$1:$F$44,6,FALSE)","v":"L3"}]
["LekM9leegop","Lek","M9","leeg","op","Fijn stof",19.95082534980488,{"$f":"VLOOKUP(A1538,Begin:Einde,7,FALSE)","v":0},1,{"$f":"VLOOKUP(Jaar&L1538,Trendfactoren!$A$2:$F$65,(HLOOKUP(F1538,Trendfactoren!$A$1:$F$2,2,FALSE)),FALSE)","v":1},0,{"$f":"+VLOOKUP(C1538,Scheepstypen!$A$1:$F$44,6,FALSE)","v":"L3"}]
["LekM9leegop","Lek","M9","leeg","op","NOx",616.05271401330992,{"$f":"VLOOKUP(A1539,Begin:Einde,7,FALSE)","v":0},1,{"$f":"VLOOKUP(Jaar&L1539,Trendfactoren!$A$2:$F$65,(HLOOKUP(F1539,Trendfactoren!$A$1:$F$2,2,FALSE)),FALSE)","v":1},0,{"$f":"+VLOOKUP(C1539,Scheepstypen!$A$1:$F$44,6,FALSE)","v":"L3"}]
["WaalBIgeladenaf","Waal","BI","geladen","af","Fijn stof",3.6180516572272654,{"$f":"VLOOKUP(A1540,Begin:Einde,7,FALSE)","v":0},1,{"$f":"VLOOKUP(Jaar&L1540,Trendfactoren!$A$2:$F$65,(HLOOKUP(F1540,Trendfactoren!$A$1:$F$2,2,FALSE)),FALSE)","v":1},0,{"$f":"+VLOOKUP(C1540,Scheepstypen!$A$1:$F$44,6,FALSE)","v":"L2"}]
["WaalBIgeladenaf","Waal","BI","geladen","af","NOx",84.350299871809128,{"$f":"VLOOKUP(A1541,Begin:Einde,7,FALSE)","v":0},1,{"$f":"VLOOKUP(Jaar&L1541,Trendfactoren!$A$2:$F$65,(HLOOKUP(F1541,Trendfactoren!$A$1:$F$2,2,FALSE)),FALSE)","v":1},0,{"$f":"+VLOOKUP(C1541,Scheepstypen!$A$1:$F$44,6,FALSE)","v":"L2"}]
["WaalBIgeladenop","Waal","BI","geladen","op","Fijn stof",26.371361293814029,{"$f":"VLOOKUP(A1542,Begin:Einde,7,FALSE)","v":0},1,{"$f":"VLOOKUP(Jaar&L1542,Trendfactoren!$A$2:$F$65,(HLOOKUP(F1542,Trendfactoren!$A$1:$F$2,2,FALSE)),FALSE)","v":1},0,{"$f":"+VLOOKUP(C1542,Scheepstypen!$A$1:$F$44,6,FALSE)","v":"L2"}]
["WaalBIgeladenop","Waal","BI","geladen","op","NOx",814.1687001011054,{"$f":"VLOOKUP(A1543,Begin:Einde,7,FALSE)","v":0},1,{"$f":"VLOOKUP(Jaar&L1543,Trendfactoren!$A$2:$F$65,(HLOOKUP(F1543,Trendfactoren!$A$1:$F$2,2,FALSE)),FALSE)","v":1},0,{"$f":"+VLOOKUP(C1543,Scheepstypen!$A$1:$F$44,6,FALSE)","v":"L2"}]
["WaalBIleegaf","Waal","BI","leeg","af","Fijn stof",3.4097486250211633,{"$f":"VLOOKUP(A1544,Begin:Einde,7,FALSE)","v":0},1,{"$f":"VLOOKUP(Jaar&L1544,Trendfactoren!$A$2:$F$65,(HLOOKUP(F1544,Trendfactoren!$A$1:$F$2,2,FALSE)),FALSE)","v":1},0,{"$f":"+VLOOKUP(C1544,Scheepstypen!$A$1:$F$44,6,FALSE)","v":"L2"}]
["WaalBIleegaf","Waal","BI","leeg","af","NOx",93.783889116317326,{"$f":"VLOOKUP(A1545,Begin:Einde,7,FALSE)","v":0},1,{"$f":"VLOOKUP(Jaar&L1545,Trendfactoren!$A$2:$F$65,(HLOOKUP(F1545,Trendfactoren!$A$1:$F$2,2,FALSE)),FALSE)","v":1},0,{"$f":"+VLOOKUP(C1545,Scheepstypen!$A$1:$F$44,6,FALSE)","v":"L2"}]
["WaalBIleegop","Waal","BI","leeg","op","Fijn stof",15.506352158945417,{"$f":"VLOOKUP(A1546,Begin:Einde,7,FALSE)","v":0},1,{"$f":"VLOOKUP(Jaar&L1546,Trendfactoren!$A$2:$F$65,(HLOOKUP(F1546,Trendfactoren!$A$1:$F$2,2,FALSE)),FALSE)","v":1},0,{"$f":"+VLOOKUP(C1546,Scheepstypen!$A$1:$F$44,6,FALSE)","v":"L2"}]
["WaalBIleegop","Waal","BI","leeg","op","NOx",478.91703067790667,{"$f":"VLOOKUP(A1547,Begin:Einde,7,FALSE)","v":0},1,{"$f":"VLOOKUP(Jaar&L1547,Trendfactoren!$A$2:$F$65,(HLOOKUP(F1547,Trendfactoren!$A$1:$F$2,2,FALSE)),FALSE)","v":1},0,{"$f":"+VLOOKUP(C1547,Scheepstypen!$A$1:$F$44,6,FALSE)","v":"L2"}]
["WaalBII-1geladenaf","Waal","BII-1","geladen","af","Fijn stof",12.317508331070977,{"$f":"VLOOKUP(A1548,Begin:Einde,7,FALSE)","v":0},1,{"$f":"VLOOKUP(Jaar&L1548,Trendfactoren!$A$2:$F$65,(HLOOKUP(F1548,Trendfactoren!$A$1:$F$2,2,FALSE)),FALSE)","v":1},0,{"$f":"+VLOOKUP(C1548,Scheepstypen!$A$1:$F$44,6,FALSE)","v":"L2"}]
["WaalBII-1geladenaf","Waal","BII-1","geladen","af","NOx",377.3579375561647,{"$f":"VLOOKUP(A1549,Begin:Einde,7,FALSE)","v":0},1,{"$f":"VLOOKUP(Jaar&L1549,Trendfactoren!$A$2:$F$65,(HLOOKUP(F1549,Trendfactoren!$A$1:$F$2,2,FALSE)),FALSE)","v":1},0,{"$f":"+VLOOKUP(C1549,Scheepstypen!$A$1:$F$44,6,FALSE)","v":"L2"}]
["WaalBII-1geladenop","Waal","BII-1","geladen","op","Fijn stof",34.366189547440918,{"$f":"VLOOKUP(A1550,Begin:Einde,7,FALSE)","v":0},1,{"$f":"VLOOKUP(Jaar&L1550,Trendfactoren!$A$2:$F$65,(HLOOKUP(F1550,Trendfactoren!$A$1:$F$2,2,FALSE)),FALSE)","v":1},0,{"$f":"+VLOOKUP(C1550,Scheepstypen!$A$1:$F$44,6,FALSE)","v":"L2"}]
["WaalBII-1geladenop","Waal","BII-1","geladen","op","NOx",1059.9946024969652,{"$f":"VLOOKUP(A1551,Begin:Einde,7,FALSE)","v":0},1,{"$f":"VLOOKUP(Jaar&L1551,Trendfactoren!$A$2:$F$65,(HLOOKUP(F1551,Trendfactoren!$A$1:$F$2,2,FALSE)),FALSE)","v":1},0,{"$f":"+VLOOKUP(C1551,Scheepstypen!$A$1:$F$44,6,FALSE)","v":"L2"}]
["WaalBII-1leegaf","Waal","BII-1","leeg","af","Fijn stof",4.8783960314563517,{"$f":"VLOOKUP(A1552,Begin:Einde,7,FALSE)","v":0},1,{"$f":"VLOOKUP(Jaar&L1552,Trendfactoren!$A$2:$F$65,(HLOOKUP(F1552,Trendfactoren!$A$1:$F$2,2,FALSE)),FALSE)","v":1},0,{"$f":"+VLOOKUP(C1552,Scheepstypen!$A$1:$F$44,6,FALSE)","v":"L2"}]
["WaalBII-1leegaf","Waal","BII-1","leeg","af","NOx",132.87137609989958,{"$f":"VLOOKUP(A1553,Begin:Einde,7,FALSE)","v":0},1,{"$f":"VLOOKUP(Jaar&L1553,Trendfactoren!$A$2:$F$65,(HLOOKUP(F1553,Trendfactoren!$A$1:$F$2,2,FALSE)),FALSE)","v":1},0,{"$f":"+VLOOKUP(C1553,Scheepstypen!$A$1:$F$44,6,FALSE)","v":"L2"}]
["WaalBII-1leegop","Waal","BII-1","leeg","op","Fijn stof",17.750331534073442,{"$f":"VLOOKUP(A1554,Begin:Einde,7,FALSE)","v":0},1,{"$f":"VLOOKUP(Jaar&L1554,Trendfactoren!$A$2:$F$65,(HLOOKUP(F1554,Trendfactoren!$A$1:$F$2,2,FALSE)),FALSE)","v":1},0,{"$f":"+VLOOKUP(C1554,Scheepstypen!$A$1:$F$44,6,FALSE)","v":"L2"}]
["WaalBII-1leegop","Waal","BII-1","leeg","op","NOx",547.72381294189859,{"$f":"VLOOKUP(A1555,Begin:Einde,7,FALSE)","v":0},1,{"$f":"VLOOKUP(Jaar&L1555,Trendfactoren!$A$2:$F$65,(HLOOKUP(F1555,Trendfactoren!$A$1:$F$2,2,FALSE)),FALSE)","v":1},0,{"$f":"+VLOOKUP(C1555,Scheepstypen!$A$1:$F$44,6,FALSE)","v":"L2"}]
["WaalBII-2Bgeladenaf","Waal","BII-2B","geladen","af","Fijn stof",15.5356120573932,{"$f":"VLOOKUP(A1556,Begin:Einde,7,FALSE)","v":0},1,{"$f":"VLOOKUP(Jaar&L1556,Trendfactoren!$A$2:$F$65,(HLOOKUP(F1556,Trendfactoren!$A$1:$F$2,2,FALSE)),FALSE)","v":1},0,{"$f":"+VLOOKUP(C1556,Scheepstypen!$A$1:$F$44,6,FALSE)","v":"L3"}]
["WaalBII-2Bgeladenaf","Waal","BII-2B","geladen","af","NOx",452.99375740368123,{"$f":"VLOOKUP(A1557,Begin:Einde,7,FALSE)","v":0},1,{"$f":"VLOOKUP(Jaar&L1557,Trendfactoren!$A$2:$F$65,(HLOOKUP(F1557,Trendfactoren!$A$1:$F$2,2,FALSE)),FALSE)","v":1},0,{"$f":"+VLOOKUP(C1557,Scheepstypen!$A$1:$F$44,6,FALSE)","v":"L3"}]
["WaalBII-2Bgeladenop","Waal","BII-2B","geladen","op","Fijn stof",63.444138429013989,{"$f":"VLOOKUP(A1558,Begin:Einde,7,FALSE)","v":0},1,{"$f":"VLOOKUP(Jaar&L1558,Trendfactoren!$A$2:$F$65,(HLOOKUP(F1558,Trendfactoren!$A$1:$F$2,2,FALSE)),FALSE)","v":1},0,{"$f":"+VLOOKUP(C1558,Scheepstypen!$A$1:$F$44,6,FALSE)","v":"L3"}]
["WaalBII-2Bgeladenop","Waal","BII-2B","geladen","op","NOx",1971.9710493572543,{"$f":"VLOOKUP(A1559,Begin:Einde,7,FALSE)","v":0},1,{"$f":"VLOOKUP(Jaar&L1559,Trendfactoren!$A$2:$F$65,(HLOOKUP(F1559,Trendfactoren!$A$1:$F$2,2,FALSE)),FALSE)","v":1},0,{"$f":"+VLOOKUP(C1559,Scheepstypen!$A$1:$F$44,6,FALSE)","v":"L3"}]
["WaalBII-2Bleegaf","Waal","BII-2B","leeg","af","Fijn stof",10.943773974486268,{"$f":"VLOOKUP(A1560,Begin:Einde,7,FALSE)","v":0},1,{"$f":"VLOOKUP(Jaar&L1560,Trendfactoren!$A$2:$F$65,(HLOOKUP(F1560,Trendfactoren!$A$1:$F$2,2,FALSE)),FALSE)","v":1},0,{"$f":"+VLOOKUP(C1560,Scheepstypen!$A$1:$F$44,6,FALSE)","v":"L3"}]
["WaalBII-2Bleegaf","Waal","BII-2B","leeg","af","NOx",311.98418302901894,{"$f":"VLOOKUP(A1561,Begin:Einde,7,FALSE)","v":0},1,{"$f":"VLOOKUP(Jaar&L1561,Trendfactoren!$A$2:$F$65,(HLOOKUP(F1561,Trendfactoren!$A$1:$F$2,2,FALSE)),FALSE)","v":1},0,{"$f":"+VLOOKUP(C1561,Scheepstypen!$A$1:$F$44,6,FALSE)","v":"L3"}]
["WaalBII-2Bleegop","Waal","BII-2B","leeg","op","Fijn stof",32.245843149923402,{"$f":"VLOOKUP(A1562,Begin:Einde,7,FALSE)","v":0},1,{"$f":"VLOOKUP(Jaar&L1562,Trendfactoren!$A$2:$F$65,(HLOOKUP(F1562,Trendfactoren!$A$1:$F$2,2,FALSE)),FALSE)","v":1},0,{"$f":"+VLOOKUP(C1562,Scheepstypen!$A$1:$F$44,6,FALSE)","v":"L3"}]
["WaalBII-2Bleegop","Waal","BII-2B","leeg","op","NOx",1000.285900716505,{"$f":"VLOOKUP(A1563,Begin:Einde,7,FALSE)","v":0},1,{"$f":"VLOOKUP(Jaar&L1563,Trendfactoren!$A$2:$F$65,(HLOOKUP(F1563,Trendfactoren!$A$1:$F$2,2,FALSE)),FALSE)","v":1},0,{"$f":"+VLOOKUP(C1563,Scheepstypen!$A$1:$F$44,6,FALSE)","v":"L3"}]
["WaalBII-2Lgeladenaf","Waal","BII-2L","geladen","af","Fijn stof",12.555523557718242,{"$f":"VLOOKUP(A1564,Begin:Einde,7,FALSE)","v":0},1,{"$f":"VLOOKUP(Jaar&L1564,Trendfactoren!$A$2:$F$65,(HLOOKUP(F1564,Trendfactoren!$A$1:$F$2,2,FALSE)),FALSE)","v":1},0,{"$f":"+VLOOKUP(C1564,Scheepstypen!$A$1:$F$44,6,FALSE)","v":"L3"}]
["WaalBII-2Lgeladenaf","Waal","BII-2L","geladen","af","NOx",373.08730641357005,{"$f":"VLOOKUP(A1565,Begin:Einde,7,FALSE)","v":0},1,{"$f":"VLOOKUP(Jaar&L1565,Trendfactoren!$A$2:$F$65,(HLOOKUP(F1565,Trendfactoren!$A$1:$F$2,2,FALSE)),FALSE)","v":1},0,{"$f":"+VLOOKUP(C1565,Scheepstypen!$A$1:$F$44,6,FALSE)","v":"L3"}]
["WaalBII-2Lgeladenop","Waal","BII-2L","geladen","op","Fijn stof",37.13697775815357,{"$f":"VLOOKUP(A1566,Begin:Einde,7,FALSE)","v":0},1,{"$f":"VLOOKUP(Jaar&L1566,Trendfactoren!$A$2:$F$65,(HLOOKUP(F1566,Trendfactoren!$A$1:$F$2,2,FALSE)),FALSE)","v":1},0,{"$f":"+VLOOKUP(C1566,Scheepstypen!$A$1:$F$44,6,FALSE)","v":"L3"}]
["WaalBII-2Lgeladenop","Waal","BII-2L","geladen","op","NOx",1144.7866320676123,{"$f":"VLOOKUP(A1567,Begin:Einde,7,FALSE)","v":0},1,{"$f":"VLOOKUP(Jaar&L1567,Trendfactoren!$A$2:$F$65,(HLOOKUP(F1567,Trendfactoren!$A$1:$F$2,2,FALSE)),FALSE)","v":1},0,{"$f":"+VLOOKUP(C1567,Scheepstypen!$A$1:$F$44,6,FALSE)","v":"L3"}]
["WaalBII-2Lleegaf","Waal","BII-2L","leeg","af","Fijn stof",8.4559717917592678,{"$f":"VLOOKUP(A1568,Begin:Einde,7,FALSE)","v":0},1,{"$f":"VLOOKUP(Jaar&L1568,Trendfactoren!$A$2:$F$65,(HLOOKUP(F1568,Trendfactoren!$A$1:$F$2,2,FALSE)),FALSE)","v":1},0,{"$f":"+VLOOKUP(C1568,Scheepstypen!$A$1:$F$44,6,FALSE)","v":"L3"}]
["WaalBII-2Lleegaf","Waal","BII-2L","leeg","af","NOx",234.34148589359026,{"$f":"VLOOKUP(A1569,Begin:Einde,7,FALSE)","v":0},1,{"$f":"VLOOKUP(Jaar&L1569,Trendfactoren!$A$2:$F$65,(HLOOKUP(F1569,Trendfactoren!$A$1:$F$2,2,FALSE)),FALSE)","v":1},0,{"$f":"+VLOOKUP(C1569,Scheepstypen!$A$1:$F$44,6,FALSE)","v":"L3"}]
["WaalBII-2Lleegop","Waal","BII-2L","leeg","op","Fijn stof",20.445539231149251,{"$f":"VLOOKUP(A1570,Begin:Einde,7,FALSE)","v":0},1,{"$f":"VLOOKUP(Jaar&L1570,Trendfactoren!$A$2:$F$65,(HLOOKUP(F1570,Trendfactoren!$A$1:$F$2,2,FALSE)),FALSE)","v":1},0,{"$f":"+VLOOKUP(C1570,Scheepstypen!$A$1:$F$44,6,FALSE)","v":"L3"}]
["WaalBII-2Lleegop","Waal","BII-2L","leeg","op","NOx",609.1684969051496,{"$f":"VLOOKUP(A1571,Begin:Einde,7,FALSE)","v":0},1,{"$f":"VLOOKUP(Jaar&L1571,Trendfactoren!$A$2:$F$65,(HLOOKUP(F1571,Trendfactoren!$A$1:$F$2,2,FALSE)),FALSE)","v":1},0,{"$f":"+VLOOKUP(C1571,Scheepstypen!$A$1:$F$44,6,FALSE)","v":"L3"}]
["WaalBII-4geladenaf","Waal","BII-4","geladen","af","Fijn stof",27.05312882721892,{"$f":"VLOOKUP(A1572,Begin:Einde,7,FALSE)","v":0},1,{"$f":"VLOOKUP(Jaar&L1572,Trendfactoren!$A$2:$F$65,(HLOOKUP(F1572,Trendfactoren!$A$1:$F$2,2,FALSE)),FALSE)","v":1},0,{"$f":"+VLOOKUP(C1572,Scheepstypen!$A$1:$F$44,6,FALSE)","v":"L3"}]
["WaalBII-4geladenaf","Waal","BII-4","geladen","af","NOx",815.7833676981702,{"$f":"VLOOKUP(A1573,Begin:Einde,7,FALSE)","v":0},1,{"$f":"VLOOKUP(Jaar&L1573,Trendfactoren!$A$2:$F$65,(HLOOKUP(F1573,Trendfactoren!$A$1:$F$2,2,FALSE)),FALSE)","v":1},0,{"$f":"+VLOOKUP(C1573,Scheepstypen!$A$1:$F$44,6,FALSE)","v":"L3"}]
["WaalBII-4geladenop","Waal","BII-4","geladen","op","Fijn stof",74.301538835913959,{"$f":"VLOOKUP(A1574,Begin:Einde,7,FALSE)","v":0},1,{"$f":"VLOOKUP(Jaar&L1574,Trendfactoren!$A$2:$F$65,(HLOOKUP(F1574,Trendfactoren!$A$1:$F$2,2,FALSE)),FALSE)","v":1},0,{"$f":"+VLOOKUP(C1574,Scheepstypen!$A$1:$F$44,6,FALSE)","v":"L3"}]
["WaalBII-4geladenop","Waal","BII-4","geladen","op","NOx",2289.4271239687591,{"$f":"VLOOKUP(A1575,Begin:Einde,7,FALSE)","v":0},1,{"$f":"VLOOKUP(Jaar&L1575,Trendfactoren!$A$2:$F$65,(HLOOKUP(F1575,Trendfactoren!$A$1:$F$2,2,FALSE)),FALSE)","v":1},0,{"$f":"+VLOOKUP(C1575,Scheepstypen!$A$1:$F$44,6,FALSE)","v":"L3"}]
["WaalBII-4leegaf","Waal","BII-4","leeg","af","Fijn stof",17.275140275629024,{"$f":"VLOOKUP(A1576,Begin:Einde,7,FALSE)","v":0},1,{"$f":"VLOOKUP(Jaar&L1576,Trendfactoren!$A$2:$F$65,(HLOOKUP(F1576,Trendfactoren!$A$1:$F$2,2,FALSE)),FALSE)","v":1},{"$f":"+G1576*H1576*I1576*J1576","v":0},{"$f":"+VLOOKUP(C1576,Scheepstypen!$A$1:$F$44,6,FALSE)","v":"L3"}]
["WaalBII-4leegaf","Waal","BII-4","leeg","af","NOx",485.45148716119718,{"$f":"VLOOKUP(A1577,Begin:Einde,7,FALSE)","v":0},1,{"$f":"VLOOKUP(Jaar&L1577,Trendfactoren!$A$2:$F$65,(HLOOKUP(F1577,Trendfactoren!$A$1:$F$2,2,FALSE)),FALSE)","v":1},0,{"$f":"+VLOOKUP(C1577,Scheepstypen!$A$1:$F$44,6,FALSE)","v":"L3"}]
["WaalBII-4leegop","Waal","BII-4","leeg","op","Fijn stof",70.47090391960549,{"$f":"VLOOKUP(A1578,Begin:Einde,7,FALSE)","v":0},1,{"$f":"VLOOKUP(Jaar&L1578,Trendfactoren!$A$2:$F$65,(HLOOKUP(F1578,Trendfactoren!$A$1:$F$2,2,FALSE)),FALSE)","v":1},0,{"$f":"+VLOOKUP(C1578,Scheepstypen!$A$1:$F$44,6,FALSE)","v":"L3"}]
["WaalBII-4leegop","Waal","BII-4","leeg","op","NOx",2191.145217944641,{"$f":"VLOOKUP(A1579,Begin:Einde,7,FALSE)","v":0},1,{"$f":"VLOOKUP(Jaar&L1579,Trendfactoren!$A$2:$F$65,(HLOOKUP(F1579,Trendfactoren!$A$1:$F$2,2,FALSE)),FALSE)","v":1},0,{"$f":"+VLOOKUP(C1579,Scheepstypen!$A$1:$F$44,6,FALSE)","v":"L3"}]
["WaalBII-6Bgeladenaf","Waal","BII-6B","geladen","af","Fijn stof",38.964162942791575,{"$f":"VLOOKUP(A1580,Begin:Einde,7,FALSE)","v":0},1,{"$f":"VLOOKUP(Jaar&L1580,Trendfactoren!$A$2:$F$65,(HLOOKUP(F1580,Trendfactoren!$A$1:$F$2,2,FALSE)),FALSE)","v":1},0,{"$f":"+VLOOKUP(C1580,Scheepstypen!$A$1:$F$44,6,FALSE)","v":"L3"}]
["WaalBII-6Bgeladenaf","Waal","BII-6B","geladen","af","NOx",1203.3947850332918,{"$f":"VLOOKUP(A1581,Begin:Einde,7,FALSE)","v":0},1,{"$f":"VLOOKUP(Jaar&L1581,Trendfactoren!$A$2:$F$65,(HLOOKUP(F1581,Trendfactoren!$A$1:$F$2,2,FALSE)),FALSE)","v":1},0,{"$f":"+VLOOKUP(C1581,Scheepstypen!$A$1:$F$44,6,FALSE)","v":"L3"}]
["WaalBII-6Bgeladenop","Waal","BII-6B","geladen","op","Fijn stof",97.108355499155437,{"$f":"VLOOKUP(A1582,Begin:Einde,7,FALSE)","v":0},1,{"$f":"VLOOKUP(Jaar&L1582,Trendfactoren!$A$2:$F$65,(HLOOKUP(F1582,Trendfactoren!$A$1:$F$2,2,FALSE)),FALSE)","v":1},0,{"$f":"+VLOOKUP(C1582,Scheepstypen!$A$1:$F$44,6,FALSE)","v":"L3"}]
["WaalBII-6Bgeladenop","Waal","BII-6B","geladen","op","NOx",3008.9500385162823,{"$f":"VLOOKUP(A1583,Begin:Einde,7,FALSE)","v":0},1,{"$f":"VLOOKUP(Jaar&L1583,Trendfactoren!$A$2:$F$65,(HLOOKUP(F1583,Trendfactoren!$A$1:$F$2,2,FALSE)),FALSE)","v":1},0,{"$f":"+VLOOKUP(C1583,Scheepstypen!$A$1:$F$44,6,FALSE)","v":"L3"}]
["WaalBII-6Bleegaf","Waal","BII-6B","leeg","af","Fijn stof",22.056840519693736,{"$f":"VLOOKUP(A1584,Begin:Einde,7,FALSE)","v":0},1,{"$f":"VLOOKUP(Jaar&L1584,Trendfactoren!$A$2:$F$65,(HLOOKUP(F1584,Trendfactoren!$A$1:$F$2,2,FALSE)),FALSE)","v":1},0,{"$f":"+VLOOKUP(C1584,Scheepstypen!$A$1:$F$44,6,FALSE)","v":"L3"}]
["WaalBII-6Bleegaf","Waal","BII-6B","leeg","af","NOx",644.21404946835241,{"$f":"VLOOKUP(A1585,Begin:Einde,7,FALSE)","v":0},1,{"$f":"VLOOKUP(Jaar&L1585,Trendfactoren!$A$2:$F$65,(HLOOKUP(F1585,Trendfactoren!$A$1:$F$2,2,FALSE)),FALSE)","v":1},0,{"$f":"+VLOOKUP(C1585,Scheepstypen!$A$1:$F$44,6,FALSE)","v":"L3"}]
["WaalBII-6Bleegop","Waal","BII-6B","leeg","op","Fijn stof",77.459803119517318,{"$f":"VLOOKUP(A1586,Begin:Einde,7,FALSE)","v":0},1,{"$f":"VLOOKUP(Jaar&L1586,Trendfactoren!$A$2:$F$65,(HLOOKUP(F1586,Trendfactoren!$A$1:$F$2,2,FALSE)),FALSE)","v":1},0,{"$f":"+VLOOKUP(C1586,Scheepstypen!$A$1:$F$44,6,FALSE)","v":"L3"}]
["WaalBII-6Bleegop","Waal","BII-6B","leeg","op","NOx",2407.6060140923382,{"$f":"VLOOKUP(A1587,Begin:Einde,7,FALSE)","v":0},1,{"$f":"VLOOKUP(Jaar&L1587,Trendfactoren!$A$2:$F$65,(HLOOKUP(F1587,Trendfactoren!$A$1:$F$2,2,FALSE)),FALSE)","v":1},0,{"$f":"+VLOOKUP(C1587,Scheepstypen!$A$1:$F$44,6,FALSE)","v":"L3"}]
["WaalBII-6Lgeladenaf","Waal","BII-6L","geladen","af","Fijn stof",16.250104846814871,{"$f":"VLOOKUP(A1588,Begin:Einde,7,FALSE)","v":0},1,{"$f":"VLOOKUP(Jaar&L1588,Trendfactoren!$A$2:$F$65,(HLOOKUP(F1588,Trendfactoren!$A$1:$F$2,2,FALSE)),FALSE)","v":1},0,{"$f":"+VLOOKUP(C1588,Scheepstypen!$A$1:$F$44,6,FALSE)","v":"L3"}]
["WaalBII-6Lgeladenaf","Waal","BII-6L","geladen","af","NOx",387.15344250726673,{"$f":"VLOOKUP(A1589,Begin:Einde,7,FALSE)","v":0},1,{"$f":"VLOOKUP(Jaar&L1589,Trendfactoren!$A$2:$F$65,(HLOOKUP(F1589,Trendfactoren!$A$1:$F$2,2,FALSE)),FALSE)","v":1},0,{"$f":"+VLOOKUP(C1589,Scheepstypen!$A$1:$F$44,6,FALSE)","v":"L3"}]
["WaalBII-6Lgeladenop","Waal","BII-6L","geladen","op","Fijn stof",79.701313337599473,{"$f":"VLOOKUP(A1590,Begin:Einde,7,FALSE)","v":0},{"$f":"+Afstand","v":1},{"$f":"VLOOKUP(Jaar&L1590,Trendfactoren!$A$2:$F$65,(HLOOKUP(F1590,Trendfactoren!$A$1:$F$2,2,FALSE)),FALSE)","v":1},0,{"$f":"+VLOOKUP(C1590,Scheepstypen!$A$1:$F$44,6,FALSE)","v":"L3"}]
["WaalBII-6Lgeladenop","Waal","BII-6L","geladen","op","NOx",2457.7039205661131,{"$f":"VLOOKUP(A1591,Begin:Einde,7,FALSE)","v":0},1,{"$f":"VLOOKUP(Jaar&L1591,Trendfactoren!$A$2:$F$65,(HLOOKUP(F1591,Trendfactoren!$A$1:$F$2,2,FALSE)),FALSE)","v":1},0,{"$f":"+VLOOKUP(C1591,Scheepstypen!$A$1:$F$44,6,FALSE)","v":"L3"}]
["WaalBII-6Lleegaf","Waal","BII-6L","leeg","af","Fijn stof",18.360716927884557,{"$f":"VLOOKUP(A1592,Begin:Einde,7,FALSE)","v":0},1,{"$f":"VLOOKUP(Jaar&L1592,Trendfactoren!$A$2:$F$65,(HLOOKUP(F1592,Trendfactoren!$A$1:$F$2,2,FALSE)),FALSE)","v":1},0,{"$f":"+VLOOKUP(C1592,Scheepstypen!$A$1:$F$44,6,FALSE)","v":"L3"}]
["WaalBII-6Lleegaf","Waal","BII-6L","leeg","af","NOx",468.48864643218491,{"$f":"VLOOKUP(A1593,Begin:Einde,7,FALSE)","v":0},1,{"$f":"VLOOKUP(Jaar&L1593,Trendfactoren!$A$2:$F$65,(HLOOKUP(F1593,Trendfactoren!$A$1:$F$2,2,FALSE)),FALSE)","v":1},0,{"$f":"+VLOOKUP(C1593,Scheepstypen!$A$1:$F$44,6,FALSE)","v":"L3"}]
["WaalBII-6Lleegop","Waal","BII-6L","leeg","op","Fijn stof",71.196144045043113,{"$f":"VLOOKUP(A1594,Begin:Einde,7,FALSE)","v":0},1,{"$f":"VLOOKUP(Jaar&L1594,Trendfactoren!$A$2:$F$65,(HLOOKUP(F1594,Trendfactoren!$A$1:$F$2,2,FALSE)),FALSE)","v":1},0,{"$f":"+VLOOKUP(C1594,Scheepstypen!$A$1:$F$44,6,FALSE)","v":"L3"}]
["WaalBII-6Lleegop","Waal","BII-6L","leeg","op","NOx",2193.7965085567698,{"$f":"VLOOKUP(A1595,Begin:Einde,7,FALSE)","v":0},1,{"$f":"VLOOKUP(Jaar&L1595,Trendfactoren!$A$2:$F$65,(HLOOKUP(F1595,Trendfactoren!$A$1:$F$2,2,FALSE)),FALSE)","v":1},0,{"$f":"+VLOOKUP(C1595,Scheepstypen!$A$1:$F$44,6,FALSE)","v":"L3"}]
["WaalBO1leegaf","Waal","BO1","leeg","af","Fijn stof",0.83013713339117223,{"$f":"VLOOKUP(A1596,Begin:Einde,7,FALSE)","v":0},1,{"$f":"VLOOKUP(Jaar&L1596,Trendfactoren!$A$2:$F$65,(HLOOKUP(F1596,Trendfactoren!$A$1:$F$2,2,FALSE)),FALSE)","v":1},0,{"$f":"+VLOOKUP(C1596,Scheepstypen!$A$1:$F$44,6,FALSE)","v":"L1"}]
["WaalBO1leegaf","Waal","BO1","leeg","af","NOx",20.480727740933201,{"$f":"VLOOKUP(A1597,Begin:Einde,7,FALSE)","v":0},1,{"$f":"VLOOKUP(Jaar&L1597,Trendfactoren!$A$2:$F$65,(HLOOKUP(F1597,Trendfactoren!$A$1:$F$2,2,FALSE)),FALSE)","v":1},0,{"$f":"+VLOOKUP(C1597,Scheepstypen!$A$1:$F$44,6,FALSE)","v":"L1"}]
["WaalBO1leegop","Waal","BO1","leeg","op","Fijn stof",4.9888754069532366,{"$f":"VLOOKUP(A1598,Begin:Einde,7,FALSE)","v":0},1,{"$f":"VLOOKUP(Jaar&L1598,Trendfactoren!$A$2:$F$65,(HLOOKUP(F1598,Trendfactoren!$A$1:$F$2,2,FALSE)),FALSE)","v":1},{"$f":"+G1598*H1598*I1598*J1598","v":0},{"$f":"+VLOOKUP(C1598,Scheepstypen!$A$1:$F$44,6,FALSE)","v":"L1"}]
["WaalBO1leegop","Waal","BO1","leeg","op","NOx",149.90359027307622,{"$f":"VLOOKUP(A1599,Begin:Einde,7,FALSE)","v":0},1,{"$f":"VLOOKUP(Jaar&L1599,Trendfactoren!$A$2:$F$65,(HLOOKUP(F1599,Trendfactoren!$A$1:$F$2,2,FALSE)),FALSE)","v":1},0,{"$f":"+VLOOKUP(C1599,Scheepstypen!$A$1:$F$44,6,FALSE)","v":"L1"}]
["WaalBO2geladenaf","Waal","BO2","geladen","af","Fijn stof",1.7639808460193784,{"$f":"VLOOKUP(A1600,Begin:Einde,7,FALSE)","v":0},1,{"$f":"VLOOKUP(Jaar&L1600,Trendfactoren!$A$2:$F$65,(HLOOKUP(F1600,Trendfactoren!$A$1:$F$2,2,FALSE)),FALSE)","v":1},0,{"$f":"+VLOOKUP(C1600,Scheepstypen!$A$1:$F$44,6,FALSE)","v":"L1"}]
[{"$f":"+B1601&C1601&D1601&E1601","v":"WaalBO2geladenaf"},"Waal","BO2","geladen","af","NOx",39.960938362746383,{"$f":"VLOOKUP(A1601,Begin:Einde,7,FALSE)","v":0},1,{"$f":"VLOOKUP(Jaar&L1601,Trendfactoren!$A$2:$F$65,(HLOOKUP(F1601,Trendfactoren!$A$1:$F$2,2,FALSE)),FALSE)","v":1},0,{"$f":"+VLOOKUP(C1601,Scheepstypen!$A$1:$F$44,6,FALSE)","v":"L1"}]
["WaalBO2geladenop","Waal","BO2","geladen","op","Fijn stof",9.8578259243162449,{"$f":"VLOOKUP(A1602,Begin:Einde,7,FALSE)","v":0},1,{"$f":"VLOOKUP(Jaar&L1602,Trendfactoren!$A$2:$F$65,(HLOOKUP(F1602,Trendfactoren!$A$1:$F$2,2,FALSE)),FALSE)","v":1},0,{"$f":"+VLOOKUP(C1602,Scheepstypen!$A$1:$F$44,6,FALSE)","v":"L1"}]
["WaalBO2geladenop","Waal","BO2","geladen","op","NOx",296.20372885689562,{"$f":"VLOOKUP(A1603,Begin:Einde,7,FALSE)","v":0},1,{"$f":"VLOOKUP(Jaar&L1603,Trendfactoren!$A$2:$F$65,(HLOOKUP(F1603,Trendfactoren!$A$1:$F$2,2,FALSE)),FALSE)","v":1},0,{"$f":"+VLOOKUP(C1603,Scheepstypen!$A$1:$F$44,6,FALSE)","v":"L1"}]
["WaalBO2leegaf","Waal","BO2","leeg","af","Fijn stof",1.0838786709133488,{"$f":"VLOOKUP(A1604,Begin:Einde,7,FALSE)","v":0},1,{"$f":"VLOOKUP(Jaar&L1604,Trendfactoren!$A$2:$F$65,(HLOOKUP(F1604,Trendfactoren!$A$1:$F$2,2,FALSE)),FALSE)","v":1},0,{"$f":"+VLOOKUP(C1604,Scheepstypen!$A$1:$F$44,6,FALSE)","v":"L1"}]
["WaalBO2leegaf","Waal","BO2","leeg","af","NOx",26.740911917164535,{"$f":"VLOOKUP(A1605,Begin:Einde,7,FALSE)","v":0},1,{"$f":"VLOOKUP(Jaar&L1605,Trendfactoren!$A$2:$F$65,(HLOOKUP(F1605,Trendfactoren!$A$1:$F$2,2,FALSE)),FALSE)","v":1},0,{"$f":"+VLOOKUP(C1605,Scheepstypen!$A$1:$F$44,6,FALSE)","v":"L1"}]
["WaalBO2leegop","Waal","BO2","leeg","op","Fijn stof",8.7282889019640919,{"$f":"VLOOKUP(A1606,Begin:Einde,7,FALSE)","v":0},1,{"$f":"VLOOKUP(Jaar&L1606,Trendfactoren!$A$2:$F$65,(HLOOKUP(F1606,Trendfactoren!$A$1:$F$2,2,FALSE)),FALSE)","v":1},0,{"$f":"+VLOOKUP(C1606,Scheepstypen!$A$1:$F$44,6,FALSE)","v":"L1"}]
["WaalBO2leegop","Waal","BO2","leeg","op","NOx",262.26388446612236,{"$f":"VLOOKUP(A1607,Begin:Einde,7,FALSE)","v":0},1,{"$f":"VLOOKUP(Jaar&L1607,Trendfactoren!$A$2:$F$65,(HLOOKUP(F1607,Trendfactoren!$A$1:$F$2,2,FALSE)),FALSE)","v":1},0,{"$f":"+VLOOKUP(C1607,Scheepstypen!$A$1:$F$44,6,FALSE)","v":"L1"}]
["WaalBO3geladenaf","Waal","BO3","geladen","af","Fijn stof",2.4167935650921617,{"$f":"VLOOKUP(A1608,Begin:Einde,7,FALSE)","v":0},1,{"$f":"VLOOKUP(Jaar&L1608,Trendfactoren!$A$2:$F$65,(HLOOKUP(F1608,Trendfactoren!$A$1:$F$2,2,FALSE)),FALSE)","v":1},0,{"$f":"+VLOOKUP(C1608,Scheepstypen!$A$1:$F$44,6,FALSE)","v":"L1"}]
["WaalBO3geladenaf","Waal","BO3","geladen","af","NOx",54.749652700633106,{"$f":"VLOOKUP(A1609,Begin:Einde,7,FALSE)","v":0},1,{"$f":"VLOOKUP(Jaar&L1609,Trendfactoren!$A$2:$F$65,(HLOOKUP(F1609,Trendfactoren!$A$1:$F$2,2,FALSE)),FALSE)","v":1},0,{"$f":"+VLOOKUP(C1609,Scheepstypen!$A$1:$F$44,6,FALSE)","v":"L1"}]
["WaalBO3geladenop","Waal","BO3","geladen","op","Fijn stof",12.204927334867731,{"$f":"VLOOKUP(A1610,Begin:Einde,7,FALSE)","v":0},1,{"$f":"VLOOKUP(Jaar&L1610,Trendfactoren!$A$2:$F$65,(HLOOKUP(F1610,Trendfactoren!$A$1:$F$2,2,FALSE)),FALSE)","v":1},0,{"$f":"+VLOOKUP(C1610,Scheepstypen!$A$1:$F$44,6,FALSE)","v":"L1"}]
["WaalBO3geladenop","Waal","BO3","geladen","op","NOx",366.72842620377583,{"$f":"VLOOKUP(A1611,Begin:Einde,7,FALSE)","v":0},1,{"$f":"VLOOKUP(Jaar&L1611,Trendfactoren!$A$2:$F$65,(HLOOKUP(F1611,Trendfactoren!$A$1:$F$2,2,FALSE)),FALSE)","v":1},0,{"$f":"+VLOOKUP(C1611,Scheepstypen!$A$1:$F$44,6,FALSE)","v":"L1"}]
["WaalBO3leegaf","Waal","BO3","leeg","af","Fijn stof",1.4330068332691488,{"$f":"VLOOKUP(A1612,Begin:Einde,7,FALSE)","v":0},1,{"$f":"VLOOKUP(Jaar&L1612,Trendfactoren!$A$2:$F$65,(HLOOKUP(F1612,Trendfactoren!$A$1:$F$2,2,FALSE)),FALSE)","v":1},0,{"$f":"+VLOOKUP(C1612,Scheepstypen!$A$1:$F$44,6,FALSE)","v":"L1"}]
["WaalBO3leegaf","Waal","BO3","leeg","af","NOx",35.354427145295077,{"$f":"VLOOKUP(A1613,Begin:Einde,7,FALSE)","v":0},1,{"$f":"VLOOKUP(Jaar&L1613,Trendfactoren!$A$2:$F$65,(HLOOKUP(F1613,Trendfactoren!$A$1:$F$2,2,FALSE)),FALSE)","v":1},0,{"$f":"+VLOOKUP(C1613,Scheepstypen!$A$1:$F$44,6,FALSE)","v":"L1"}]
["WaalBO3leegop","Waal","BO3","leeg","op","Fijn stof",10.423263293962503,{"$f":"VLOOKUP(A1614,Begin:Einde,7,FALSE)","v":0},1,{"$f":"VLOOKUP(Jaar&L1614,Trendfactoren!$A$2:$F$65,(HLOOKUP(F1614,Trendfactoren!$A$1:$F$2,2,FALSE)),FALSE)","v":1},0,{"$f":"+VLOOKUP(C1614,Scheepstypen!$A$1:$F$44,6,FALSE)","v":"L1"}]
["WaalBO3leegop","Waal","BO3","leeg","op","NOx",313.19374862495818,{"$f":"VLOOKUP(A1615,Begin:Einde,7,FALSE)","v":0},1,{"$f":"VLOOKUP(Jaar&L1615,Trendfactoren!$A$2:$F$65,(HLOOKUP(F1615,Trendfactoren!$A$1:$F$2,2,FALSE)),FALSE)","v":1},0,{"$f":"+VLOOKUP(C1615,Scheepstypen!$A$1:$F$44,6,FALSE)","v":"L1"}]
["WaalBO4geladenaf","Waal","BO4","geladen","af","Fijn stof",2.1664211076218214,{"$f":"VLOOKUP(A1616,Begin:Einde,7,FALSE)","v":0},1,{"$f":"VLOOKUP(Jaar&L1616,Trendfactoren!$A$2:$F$65,(HLOOKUP(F1616,Trendfactoren!$A$1:$F$2,2,FALSE)),FALSE)","v":1},0,{"$f":"+VLOOKUP(C1616,Scheepstypen!$A$1:$F$44,6,FALSE)","v":"L1"}]
["WaalBO4geladenaf","Waal","BO4","geladen","af","NOx",49.077755319616031,{"$f":"VLOOKUP(A1617,Begin:Einde,7,FALSE)","v":0},1,{"$f":"VLOOKUP(Jaar&L1617,Trendfactoren!$A$2:$F$65,(HLOOKUP(F1617,Trendfactoren!$A$1:$F$2,2,FALSE)),FALSE)","v":1},0,{"$f":"+VLOOKUP(C1617,Scheepstypen!$A$1:$F$44,6,FALSE)","v":"L1"}]
["WaalBO4geladenop","Waal","BO4","geladen","op","Fijn stof",17.086898268814828,{"$f":"VLOOKUP(A1618,Begin:Einde,7,FALSE)","v":0},1,{"$f":"VLOOKUP(Jaar&L1618,Trendfactoren!$A$2:$F$65,(HLOOKUP(F1618,Trendfactoren!$A$1:$F$2,2,FALSE)),FALSE)","v":1},0,{"$f":"+VLOOKUP(C1618,Scheepstypen!$A$1:$F$44,6,FALSE)","v":"L1"}]
["WaalBO4geladenop","Waal","BO4","geladen","op","NOx",513.41979668528597,{"$f":"VLOOKUP(A1619,Begin:Einde,7,FALSE)","v":0},1,{"$f":"VLOOKUP(Jaar&L1619,Trendfactoren!$A$2:$F$65,(HLOOKUP(F1619,Trendfactoren!$A$1:$F$2,2,FALSE)),FALSE)","v":1},0,{"$f":"+VLOOKUP(C1619,Scheepstypen!$A$1:$F$44,6,FALSE)","v":"L1"}]
["WaalBO4leegaf","Waal","BO4","leeg","af","Fijn stof",2.3440488873624399,{"$f":"VLOOKUP(A1620,Begin:Einde,7,FALSE)","v":0},1,{"$f":"VLOOKUP(Jaar&L1620,Trendfactoren!$A$2:$F$65,(HLOOKUP(F1620,Trendfactoren!$A$1:$F$2,2,FALSE)),FALSE)","v":1},0,{"$f":"+VLOOKUP(C1620,Scheepstypen!$A$1:$F$44,6,FALSE)","v":"L1"}]
["WaalBO4leegaf","Waal","BO4","leeg","af","NOx",53.101706471775167,{"$f":"VLOOKUP(A1621,Begin:Einde,7,FALSE)","v":0},1,{"$f":"VLOOKUP(Jaar&L1621,Trendfactoren!$A$2:$F$65,(HLOOKUP(F1621,Trendfactoren!$A$1:$F$2,2,FALSE)),FALSE)","v":1},0,{"$f":"+VLOOKUP(C1621,Scheepstypen!$A$1:$F$44,6,FALSE)","v":"L1"}]
["WaalBO4leegop","Waal","BO4","leeg","op","Fijn stof",12.168344387441504,{"$f":"VLOOKUP(A1622,Begin:Einde,7,FALSE)","v":0},1,{"$f":"VLOOKUP(Jaar&L1622,Trendfactoren!$A$2:$F$65,(HLOOKUP(F1622,Trendfactoren!$A$1:$F$2,2,FALSE)),FALSE)","v":1},0,{"$f":"+VLOOKUP(C1622,Scheepstypen!$A$1:$F$44,6,FALSE)","v":"L1"}]
["WaalBO4leegop","Waal","BO4","leeg","op","NOx",362.39029461372911,{"$f":"VLOOKUP(A1623,Begin:Einde,7,FALSE)","v":0},1,{"$f":"VLOOKUP(Jaar&L1623,Trendfactoren!$A$2:$F$65,(HLOOKUP(F1623,Trendfactoren!$A$1:$F$2,2,FALSE)),FALSE)","v":1},0,{"$f":"+VLOOKUP(C1623,Scheepstypen!$A$1:$F$44,6,FALSE)","v":"L1"}]
["WaalC1bgeladenaf","Waal","C1b","geladen","af","Fijn stof",1.3892218741781162,{"$f":"VLOOKUP(A1624,Begin:Einde,7,FALSE)","v":0},1,{"$f":"VLOOKUP(Jaar&L1624,Trendfactoren!$A$2:$F$65,(HLOOKUP(F1624,Trendfactoren!$A$1:$F$2,2,FALSE)),FALSE)","v":1},0,{"$f":"+VLOOKUP(C1624,Scheepstypen!$A$1:$F$44,6,FALSE)","v":"L1"}]
["WaalC1bgeladenaf","Waal","C1b","geladen","af","NOx",34.274186555854058,{"$f":"VLOOKUP(A1625,Begin:Einde,7,FALSE)","v":0},1,{"$f":"VLOOKUP(Jaar&L1625,Trendfactoren!$A$2:$F$65,(HLOOKUP(F1625,Trendfactoren!$A$1:$F$2,2,FALSE)),FALSE)","v":1},0,{"$f":"+VLOOKUP(C1625,Scheepstypen!$A$1:$F$44,6,FALSE)","v":"L1"}]
["WaalC1bgeladenop","Waal","C1b","geladen","op","Fijn stof",8.2678540010394403,{"$f":"VLOOKUP(A1626,Begin:Einde,7,FALSE)","v":0},1,{"$f":"VLOOKUP(Jaar&L1626,Trendfactoren!$A$2:$F$65,(HLOOKUP(F1626,Trendfactoren!$A$1:$F$2,2,FALSE)),FALSE)","v":1},0,{"$f":"+VLOOKUP(C1626,Scheepstypen!$A$1:$F$44,6,FALSE)","v":"L1"}]
["WaalC1bgeladenop","Waal","C1b","geladen","op","NOx",248.42893387997691,{"$f":"VLOOKUP(A1627,Begin:Einde,7,FALSE)","v":0},1,{"$f":"VLOOKUP(Jaar&L1627,Trendfactoren!$A$2:$F$65,(HLOOKUP(F1627,Trendfactoren!$A$1:$F$2,2,FALSE)),FALSE)","v":1},0,{"$f":"+VLOOKUP(C1627,Scheepstypen!$A$1:$F$44,6,FALSE)","v":"L1"}]
["WaalC1bleegaf","Waal","C1b","leeg","af","Fijn stof",1.4779379872304643,{"$f":"VLOOKUP(A1628,Begin:Einde,7,FALSE)","v":0},1,{"$f":"VLOOKUP(Jaar&L1628,Trendfactoren!$A$2:$F$65,(HLOOKUP(F1628,Trendfactoren!$A$1:$F$2,2,FALSE)),FALSE)","v":1},0,{"$f":"+VLOOKUP(C1628,Scheepstypen!$A$1:$F$44,6,FALSE)","v":"L1"}]
["WaalC1bleegaf","Waal","C1b","leeg","af","NOx",33.480969447572555,{"$f":"VLOOKUP(A1629,Begin:Einde,7,FALSE)","v":0},1,{"$f":"VLOOKUP(Jaar&L1629,Trendfactoren!$A$2:$F$65,(HLOOKUP(F1629,Trendfactoren!$A$1:$F$2,2,FALSE)),FALSE)","v":1},0,{"$f":"+VLOOKUP(C1629,Scheepstypen!$A$1:$F$44,6,FALSE)","v":"L1"}]
["WaalC1bleegop","Waal","C1b","leeg","op","Fijn stof",7.122300693107853,{"$f":"VLOOKUP(A1630,Begin:Einde,7,FALSE)","v":0},1,{"$f":"VLOOKUP(Jaar&L1630,Trendfactoren!$A$2:$F$65,(HLOOKUP(F1630,Trendfactoren!$A$1:$F$2,2,FALSE)),FALSE)","v":1},0,{"$f":"+VLOOKUP(C1630,Scheepstypen!$A$1:$F$44,6,FALSE)","v":"L1"}]
["WaalC1bleegop","Waal","C1b","leeg","op","NOx",214.13714902878573,{"$f":"VLOOKUP(A1631,Begin:Einde,7,FALSE)","v":0},1,{"$f":"VLOOKUP(Jaar&L1631,Trendfactoren!$A$2:$F$65,(HLOOKUP(F1631,Trendfactoren!$A$1:$F$2,2,FALSE)),FALSE)","v":1},0,{"$f":"+VLOOKUP(C1631,Scheepstypen!$A$1:$F$44,6,FALSE)","v":"L1"}]
["WaalC1lgeladenaf","Waal","C1l","geladen","af","Fijn stof",1.0687785874283646,{"$f":"VLOOKUP(A1632,Begin:Einde,7,FALSE)","v":0},1,{"$f":"VLOOKUP(Jaar&L1632,Trendfactoren!$A$2:$F$65,(HLOOKUP(F1632,Trendfactoren!$A$1:$F$2,2,FALSE)),FALSE)","v":1},0,{"$f":"+VLOOKUP(C1632,Scheepstypen!$A$1:$F$44,6,FALSE)","v":"L1"}]
["WaalC1lgeladenaf","Waal","C1l","geladen","af","NOx",24.211938214650441,{"$f":"VLOOKUP(A1633,Begin:Einde,7,FALSE)","v":0},1,{"$f":"VLOOKUP(Jaar&L1633,Trendfactoren!$A$2:$F$65,(HLOOKUP(F1633,Trendfactoren!$A$1:$F$2,2,FALSE)),FALSE)","v":1},0,{"$f":"+VLOOKUP(C1633,Scheepstypen!$A$1:$F$44,6,FALSE)","v":"L1"}]
["WaalC1lgeladenop","Waal","C1l","geladen","op","Fijn stof",8.688253357024486,{"$f":"VLOOKUP(A1634,Begin:Einde,7,FALSE)","v":0},1,{"$f":"VLOOKUP(Jaar&L1634,Trendfactoren!$A$2:$F$65,(HLOOKUP(F1634,Trendfactoren!$A$1:$F$2,2,FALSE)),FALSE)","v":1},0,{"$f":"+VLOOKUP(C1634,Scheepstypen!$A$1:$F$44,6,FALSE)","v":"L1"}]
["WaalC1lgeladenop","Waal","C1l","geladen","op","NOx",261.06091356878937,{"$f":"VLOOKUP(A1635,Begin:Einde,7,FALSE)","v":0},1,{"$f":"VLOOKUP(Jaar&L1635,Trendfactoren!$A$2:$F$65,(HLOOKUP(F1635,Trendfactoren!$A$1:$F$2,2,FALSE)),FALSE)","v":1},0,{"$f":"+VLOOKUP(C1635,Scheepstypen!$A$1:$F$44,6,FALSE)","v":"L1"}]
["WaalC1lleegaf","Waal","C1l","leeg","af","Fijn stof",0.80848476889335763,{"$f":"VLOOKUP(A1636,Begin:Einde,7,FALSE)","v":0},1,{"$f":"VLOOKUP(Jaar&L1636,Trendfactoren!$A$2:$F$65,(HLOOKUP(F1636,Trendfactoren!$A$1:$F$2,2,FALSE)),FALSE)","v":1},0,{"$f":"+VLOOKUP(C1636,Scheepstypen!$A$1:$F$44,6,FALSE)","v":"L1"}]
["WaalC1lleegaf","Waal","C1l","leeg","af","NOx",18.315283915850284,{"$f":"VLOOKUP(A1637,Begin:Einde,7,FALSE)","v":0},1,{"$f":"VLOOKUP(Jaar&L1637,Trendfactoren!$A$2:$F$65,(HLOOKUP(F1637,Trendfactoren!$A$1:$F$2,2,FALSE)),FALSE)","v":1},0,{"$f":"+VLOOKUP(C1637,Scheepstypen!$A$1:$F$44,6,FALSE)","v":"L1"}]
["WaalC1lleegop","Waal","C1l","leeg","op","Fijn stof",6.5255666619882549,{"$f":"VLOOKUP(A1638,Begin:Einde,7,FALSE)","v":0},1,{"$f":"VLOOKUP(Jaar&L1638,Trendfactoren!$A$2:$F$65,(HLOOKUP(F1638,Trendfactoren!$A$1:$F$2,2,FALSE)),FALSE)","v":1},0,{"$f":"+VLOOKUP(C1638,Scheepstypen!$A$1:$F$44,6,FALSE)","v":"L1"}]
["WaalC1lleegop","Waal","C1l","leeg","op","NOx",194.34049118465759,{"$f":"VLOOKUP(A1639,Begin:Einde,7,FALSE)","v":0},1,{"$f":"VLOOKUP(Jaar&L1639,Trendfactoren!$A$2:$F$65,(HLOOKUP(F1639,Trendfactoren!$A$1:$F$2,2,FALSE)),FALSE)","v":1},0,{"$f":"+VLOOKUP(C1639,Scheepstypen!$A$1:$F$44,6,FALSE)","v":"L1"}]
["WaalC2bgeladenaf","Waal","C2b","geladen","af","Fijn stof",10.772781539958546,{"$f":"VLOOKUP(A1640,Begin:Einde,7,FALSE)","v":0},1,{"$f":"VLOOKUP(Jaar&L1640,Trendfactoren!$A$2:$F$65,(HLOOKUP(F1640,Trendfactoren!$A$1:$F$2,2,FALSE)),FALSE)","v":1},{"$f":"+G1640*H1640*I1640*J1640","v":0},{"$f":"+VLOOKUP(C1640,Scheepstypen!$A$1:$F$44,6,FALSE)","v":"L2"}]
["WaalC2bgeladenaf","Waal","C2b","geladen","af","NOx",321.52730205429577,{"$f":"VLOOKUP(A1641,Begin:Einde,7,FALSE)","v":0},1,{"$f":"VLOOKUP(Jaar&L1641,Trendfactoren!$A$2:$F$65,(HLOOKUP(F1641,Trendfactoren!$A$1:$F$2,2,FALSE)),FALSE)","v":1},0,{"$f":"+VLOOKUP(C1641,Scheepstypen!$A$1:$F$44,6,FALSE)","v":"L2"}]
["WaalC2bgeladenop","Waal","C2b","geladen","op","Fijn stof",31.446754394487005,{"$f":"VLOOKUP(A1642,Begin:Einde,7,FALSE)","v":0},1,{"$f":"VLOOKUP(Jaar&L1642,Trendfactoren!$A$2:$F$65,(HLOOKUP(F1642,Trendfactoren!$A$1:$F$2,2,FALSE)),FALSE)","v":1},0,{"$f":"+VLOOKUP(C1642,Scheepstypen!$A$1:$F$44,6,FALSE)","v":"L2"}]
["WaalC2bgeladenop","Waal","C2b","geladen","op","NOx",970.86042801663655,{"$f":"VLOOKUP(A1643,Begin:Einde,7,FALSE)","v":0},1,{"$f":"VLOOKUP(Jaar&L1643,Trendfactoren!$A$2:$F$65,(HLOOKUP(F1643,Trendfactoren!$A$1:$F$2,2,FALSE)),FALSE)","v":1},0,{"$f":"+VLOOKUP(C1643,Scheepstypen!$A$1:$F$44,6,FALSE)","v":"L2"}]
["WaalC2bleegaf","Waal","C2b","leeg","af","Fijn stof",6.4808352921537198,{"$f":"VLOOKUP(A1644,Begin:Einde,7,FALSE)","v":0},1,{"$f":"VLOOKUP(Jaar&L1644,Trendfactoren!$A$2:$F$65,(HLOOKUP(F1644,Trendfactoren!$A$1:$F$2,2,FALSE)),FALSE)","v":1},0,{"$f":"+VLOOKUP(C1644,Scheepstypen!$A$1:$F$44,6,FALSE)","v":"L2"}]
["WaalC2bleegaf","Waal","C2b","leeg","af","NOx",164.22305356633339,{"$f":"VLOOKUP(A1645,Begin:Einde,7,FALSE)","v":0},1,{"$f":"VLOOKUP(Jaar&L1645,Trendfactoren!$A$2:$F$65,(HLOOKUP(F1645,Trendfactoren!$A$1:$F$2,2,FALSE)),FALSE)","v":1},0,{"$f":"+VLOOKUP(C1645,Scheepstypen!$A$1:$F$44,6,FALSE)","v":"L2"}]
["WaalC2bleegop","Waal","C2b","leeg","op","Fijn stof",26.340595447588999,{"$f":"VLOOKUP(A1646,Begin:Einde,7,FALSE)","v":0},1,{"$f":"VLOOKUP(Jaar&L1646,Trendfactoren!$A$2:$F$65,(HLOOKUP(F1646,Trendfactoren!$A$1:$F$2,2,FALSE)),FALSE)","v":1},0,{"$f":"+VLOOKUP(C1646,Scheepstypen!$A$1:$F$44,6,FALSE)","v":"L2"}]
["WaalC2bleegop","Waal","C2b","leeg","op","NOx",813.58627593421897,{"$f":"VLOOKUP(A1647,Begin:Einde,7,FALSE)","v":0},1,{"$f":"VLOOKUP(Jaar&L1647,Trendfactoren!$A$2:$F$65,(HLOOKUP(F1647,Trendfactoren!$A$1:$F$2,2,FALSE)),FALSE)","v":1},0,{"$f":"+VLOOKUP(C1647,Scheepstypen!$A$1:$F$44,6,FALSE)","v":"L2"}]
["WaalC2lgeladenaf","Waal","C2l","geladen","af","Fijn stof",7.623901926789272,{"$f":"VLOOKUP(A1648,Begin:Einde,7,FALSE)","v":0},1,{"$f":"VLOOKUP(Jaar&L1648,Trendfactoren!$A$2:$F$65,(HLOOKUP(F1648,Trendfactoren!$A$1:$F$2,2,FALSE)),FALSE)","v":1},0,{"$f":"+VLOOKUP(C1648,Scheepstypen!$A$1:$F$44,6,FALSE)","v":"L2"}]
["WaalC2lgeladenaf","Waal","C2l","geladen","af","NOx",213.10280011676355,{"$f":"VLOOKUP(A1649,Begin:Einde,7,FALSE)","v":0},1,{"$f":"VLOOKUP(Jaar&L1649,Trendfactoren!$A$2:$F$65,(HLOOKUP(F1649,Trendfactoren!$A$1:$F$2,2,FALSE)),FALSE)","v":1},0,{"$f":"+VLOOKUP(C1649,Scheepstypen!$A$1:$F$44,6,FALSE)","v":"L2"}]
["WaalC2lgeladenop","Waal","C2l","geladen","op","Fijn stof",24.75953316600901,{"$f":"VLOOKUP(A1650,Begin:Einde,7,FALSE)","v":0},1,{"$f":"VLOOKUP(Jaar&L1650,Trendfactoren!$A$2:$F$65,(HLOOKUP(F1650,Trendfactoren!$A$1:$F$2,2,FALSE)),FALSE)","v":1},0,{"$f":"+VLOOKUP(C1650,Scheepstypen!$A$1:$F$44,6,FALSE)","v":"L2"}]
["WaalC2lgeladenop","Waal","C2l","geladen","op","NOx",758.99659293599063,{"$f":"VLOOKUP(A1651,Begin:Einde,7,FALSE)","v":0},1,{"$f":"VLOOKUP(Jaar&L1651,Trendfactoren!$A$2:$F$65,(HLOOKUP(F1651,Trendfactoren!$A$1:$F$2,2,FALSE)),FALSE)","v":1},0,{"$f":"+VLOOKUP(C1651,Scheepstypen!$A$1:$F$44,6,FALSE)","v":"L2"}]
["WaalC2lleegaf","Waal","C2l","leeg","af","Fijn stof",7.1848849483682153,{"$f":"VLOOKUP(A1652,Begin:Einde,7,FALSE)","v":0},1,{"$f":"VLOOKUP(Jaar&L1652,Trendfactoren!$A$2:$F$65,(HLOOKUP(F1652,Trendfactoren!$A$1:$F$2,2,FALSE)),FALSE)","v":1},0,{"$f":"+VLOOKUP(C1652,Scheepstypen!$A$1:$F$44,6,FALSE)","v":"L2"}]
["WaalC2lleegaf","Waal","C2l","leeg","af","NOx",206.58485337676149,{"$f":"VLOOKUP(A1653,Begin:Einde,7,FALSE)","v":0},1,{"$f":"VLOOKUP(Jaar&L1653,Trendfactoren!$A$2:$F$65,(HLOOKUP(F1653,Trendfactoren!$A$1:$F$2,2,FALSE)),FALSE)","v":1},0,{"$f":"+VLOOKUP(C1653,Scheepstypen!$A$1:$F$44,6,FALSE)","v":"L2"}]
["WaalC2lleegop","Waal","C2l","leeg","op","Fijn stof",26.68929248300266,{"$f":"VLOOKUP(A1654,Begin:Einde,7,FALSE)","v":0},{"$f":"+Afstand","v":1},{"$f":"VLOOKUP(Jaar&L1654,Trendfactoren!$A$2:$F$65,(HLOOKUP(F1654,Trendfactoren!$A$1:$F$2,2,FALSE)),FALSE)","v":1},0,{"$f":"+VLOOKUP(C1654,Scheepstypen!$A$1:$F$44,6,FALSE)","v":"L2"}]
["WaalC2lleegop","Waal","C2l","leeg","op","NOx",824.30239767964542,{"$f":"VLOOKUP(A1655,Begin:Einde,7,FALSE)","v":0},1,{"$f":"VLOOKUP(Jaar&L1655,Trendfactoren!$A$2:$F$65,(HLOOKUP(F1655,Trendfactoren!$A$1:$F$2,2,FALSE)),FALSE)","v":1},0,{"$f":"+VLOOKUP(C1655,Scheepstypen!$A$1:$F$44,6,FALSE)","v":"L2"}]
["WaalC3bgeladenaf","Waal","C3b","geladen","af","Fijn stof",13.611946669518163,{"$f":"VLOOKUP(A1656,Begin:Einde,7,FALSE)","v":0},1,{"$f":"VLOOKUP(Jaar&L1656,Trendfactoren!$A$2:$F$65,(HLOOKUP(F1656,Trendfactoren!$A$1:$F$2,2,FALSE)),FALSE)","v":1},0,{"$f":"+VLOOKUP(C1656,Scheepstypen!$A$1:$F$44,6,FALSE)","v":"L3"}]
["WaalC3bgeladenaf","Waal","C3b","geladen","af","NOx",416.0673865420676,{"$f":"VLOOKUP(A1657,Begin:Einde,7,FALSE)","v":0},1,{"$f":"VLOOKUP(Jaar&L1657,Trendfactoren!$A$2:$F$65,(HLOOKUP(F1657,Trendfactoren!$A$1:$F$2,2,FALSE)),FALSE)","v":1},0,{"$f":"+VLOOKUP(C1657,Scheepstypen!$A$1:$F$44,6,FALSE)","v":"L3"}]
["WaalC3bgeladenop","Waal","C3b","geladen","op","Fijn stof",47.153446328634224,{"$f":"VLOOKUP(A1658,Begin:Einde,7,FALSE)","v":0},1,{"$f":"VLOOKUP(Jaar&L1658,Trendfactoren!$A$2:$F$65,(HLOOKUP(F1658,Trendfactoren!$A$1:$F$2,2,FALSE)),FALSE)","v":1},0,{"$f":"+VLOOKUP(C1658,Scheepstypen!$A$1:$F$44,6,FALSE)","v":"L3"}]
["WaalC3bgeladenop","Waal","C3b","geladen","op","NOx",1462.3750504779703,{"$f":"VLOOKUP(A1659,Begin:Einde,7,FALSE)","v":0},1,{"$f":"VLOOKUP(Jaar&L1659,Trendfactoren!$A$2:$F$65,(HLOOKUP(F1659,Trendfactoren!$A$1:$F$2,2,FALSE)),FALSE)","v":1},0,{"$f":"+VLOOKUP(C1659,Scheepstypen!$A$1:$F$44,6,FALSE)","v":"L3"}]
["WaalC3bleegaf","Waal","C3b","leeg","af","Fijn stof",9.5562449996493992,{"$f":"VLOOKUP(A1660,Begin:Einde,7,FALSE)","v":0},1,{"$f":"VLOOKUP(Jaar&L1660,Trendfactoren!$A$2:$F$65,(HLOOKUP(F1660,Trendfactoren!$A$1:$F$2,2,FALSE)),FALSE)","v":1},0,{"$f":"+VLOOKUP(C1660,Scheepstypen!$A$1:$F$44,6,FALSE)","v":"L3"}]
["WaalC3bleegaf","Waal","C3b","leeg","af","NOx",285.05077255345634,{"$f":"VLOOKUP(A1661,Begin:Einde,7,FALSE)","v":0},1,{"$f":"VLOOKUP(Jaar&L1661,Trendfactoren!$A$2:$F$65,(HLOOKUP(F1661,Trendfactoren!$A$1:$F$2,2,FALSE)),FALSE)","v":1},0,{"$f":"+VLOOKUP(C1661,Scheepstypen!$A$1:$F$44,6,FALSE)","v":"L3"}]
["WaalC3bleegop","Waal","C3b","leeg","op","Fijn stof",30.2278921912295,{"$f":"VLOOKUP(A1662,Begin:Einde,7,FALSE)","v":0},1,{"$f":"VLOOKUP(Jaar&L1662,Trendfactoren!$A$2:$F$65,(HLOOKUP(F1662,Trendfactoren!$A$1:$F$2,2,FALSE)),FALSE)","v":1},0,{"$f":"+VLOOKUP(C1662,Scheepstypen!$A$1:$F$44,6,FALSE)","v":"L3"}]
["WaalC3bleegop","Waal","C3b","leeg","op","NOx",939.53762164337013,{"$f":"VLOOKUP(A1663,Begin:Einde,7,FALSE)","v":0},1,{"$f":"VLOOKUP(Jaar&L1663,Trendfactoren!$A$2:$F$65,(HLOOKUP(F1663,Trendfactoren!$A$1:$F$2,2,FALSE)),FALSE)","v":1},0,{"$f":"+VLOOKUP(C1663,Scheepstypen!$A$1:$F$44,6,FALSE)","v":"L3"}]
["WaalC3lgeladenaf","Waal","C3l","geladen","af","Fijn stof",10.243632177744026,{"$f":"VLOOKUP(A1664,Begin:Einde,7,FALSE)","v":0},1,{"$f":"VLOOKUP(Jaar&L1664,Trendfactoren!$A$2:$F$65,(HLOOKUP(F1664,Trendfactoren!$A$1:$F$2,2,FALSE)),FALSE)","v":1},0,{"$f":"+VLOOKUP(C1664,Scheepstypen!$A$1:$F$44,6,FALSE)","v":"L3"}]
[{"$f":"+B1665&C1665&D1665&E1665","v":"WaalC3lgeladenaf"},"Waal","C3l","geladen","af","NOx",306.06508406740892,{"$f":"VLOOKUP(A1665,Begin:Einde,7,FALSE)","v":0},1,{"$f":"VLOOKUP(Jaar&L1665,Trendfactoren!$A$2:$F$65,(HLOOKUP(F1665,Trendfactoren!$A$1:$F$2,2,FALSE)),FALSE)","v":1},0,{"$f":"+VLOOKUP(C1665,Scheepstypen!$A$1:$F$44,6,FALSE)","v":"L3"}]
["WaalC3lgeladenop","Waal","C3l","geladen","op","Fijn stof",34.129476399054255,{"$f":"VLOOKUP(A1666,Begin:Einde,7,FALSE)","v":0},1,{"$f":"VLOOKUP(Jaar&L1666,Trendfactoren!$A$2:$F$65,(HLOOKUP(F1666,Trendfactoren!$A$1:$F$2,2,FALSE)),FALSE)","v":1},0,{"$f":"+VLOOKUP(C1666,Scheepstypen!$A$1:$F$44,6,FALSE)","v":"L3"}]
["WaalC3lgeladenop","Waal","C3l","geladen","op","NOx",1060.1467982753156,{"$f":"VLOOKUP(A1667,Begin:Einde,7,FALSE)","v":0},1,{"$f":"VLOOKUP(Jaar&L1667,Trendfactoren!$A$2:$F$65,(HLOOKUP(F1667,Trendfactoren!$A$1:$F$2,2,FALSE)),FALSE)","v":1},0,{"$f":"+VLOOKUP(C1667,Scheepstypen!$A$1:$F$44,6,FALSE)","v":"L3"}]
["WaalC3lleegaf","Waal","C3l","leeg","af","Fijn stof",7.033985127642767,{"$f":"VLOOKUP(A1668,Begin:Einde,7,FALSE)","v":0},1,{"$f":"VLOOKUP(Jaar&L1668,Trendfactoren!$A$2:$F$65,(HLOOKUP(F1668,Trendfactoren!$A$1:$F$2,2,FALSE)),FALSE)","v":1},0,{"$f":"+VLOOKUP(C1668,Scheepstypen!$A$1:$F$44,6,FALSE)","v":"L3"}]
["WaalC3lleegaf","Waal","C3l","leeg","af","NOx",201.16901782994796,{"$f":"VLOOKUP(A1669,Begin:Einde,7,FALSE)","v":0},1,{"$f":"VLOOKUP(Jaar&L1669,Trendfactoren!$A$2:$F$65,(HLOOKUP(F1669,Trendfactoren!$A$1:$F$2,2,FALSE)),FALSE)","v":1},0,{"$f":"+VLOOKUP(C1669,Scheepstypen!$A$1:$F$44,6,FALSE)","v":"L3"}]
["WaalC3lleegop","Waal","C3l","leeg","op","Fijn stof",20.644750818091548,{"$f":"VLOOKUP(A1670,Begin:Einde,7,FALSE)","v":0},1,{"$f":"VLOOKUP(Jaar&L1670,Trendfactoren!$A$2:$F$65,(HLOOKUP(F1670,Trendfactoren!$A$1:$F$2,2,FALSE)),FALSE)","v":1},0,{"$f":"+VLOOKUP(C1670,Scheepstypen!$A$1:$F$44,6,FALSE)","v":"L3"}]
["WaalC3lleegop","Waal","C3l","leeg","op","NOx",630.66611306677157,{"$f":"VLOOKUP(A1671,Begin:Einde,7,FALSE)","v":0},1,{"$f":"VLOOKUP(Jaar&L1671,Trendfactoren!$A$2:$F$65,(HLOOKUP(F1671,Trendfactoren!$A$1:$F$2,2,FALSE)),FALSE)","v":1},0,{"$f":"+VLOOKUP(C1671,Scheepstypen!$A$1:$F$44,6,FALSE)","v":"L3"}]
["WaalC4geladenaf","Waal","C4","geladen","af","Fijn stof",16.03453138215604,{"$f":"VLOOKUP(A1672,Begin:Einde,7,FALSE)","v":0},1,{"$f":"VLOOKUP(Jaar&L1672,Trendfactoren!$A$2:$F$65,(HLOOKUP(F1672,Trendfactoren!$A$1:$F$2,2,FALSE)),FALSE)","v":1},0,{"$f":"+VLOOKUP(C1672,Scheepstypen!$A$1:$F$44,6,FALSE)","v":"L3"}]
["WaalC4geladenaf","Waal","C4","geladen","af","NOx",469.04631837095945,{"$f":"VLOOKUP(A1673,Begin:Einde,7,FALSE)","v":0},1,{"$f":"VLOOKUP(Jaar&L1673,Trendfactoren!$A$2:$F$65,(HLOOKUP(F1673,Trendfactoren!$A$1:$F$2,2,FALSE)),FALSE)","v":1},0,{"$f":"+VLOOKUP(C1673,Scheepstypen!$A$1:$F$44,6,FALSE)","v":"L3"}]
["WaalC4geladenop","Waal","C4","geladen","op","Fijn stof",47.248450658735862,{"$f":"VLOOKUP(A1674,Begin:Einde,7,FALSE)","v":0},1,{"$f":"VLOOKUP(Jaar&L1674,Trendfactoren!$A$2:$F$65,(HLOOKUP(F1674,Trendfactoren!$A$1:$F$2,2,FALSE)),FALSE)","v":1},0,{"$f":"+VLOOKUP(C1674,Scheepstypen!$A$1:$F$44,6,FALSE)","v":"L3"}]
["WaalC4geladenop","Waal","C4","geladen","op","NOx",1438.4460126193353,{"$f":"VLOOKUP(A1675,Begin:Einde,7,FALSE)","v":0},1,{"$f":"VLOOKUP(Jaar&L1675,Trendfactoren!$A$2:$F$65,(HLOOKUP(F1675,Trendfactoren!$A$1:$F$2,2,FALSE)),FALSE)","v":1},0,{"$f":"+VLOOKUP(C1675,Scheepstypen!$A$1:$F$44,6,FALSE)","v":"L3"}]
["WaalC4leegaf","Waal","C4","leeg","af","Fijn stof",12.932769854572799,{"$f":"VLOOKUP(A1676,Begin:Einde,7,FALSE)","v":0},1,{"$f":"VLOOKUP(Jaar&L1676,Trendfactoren!$A$2:$F$65,(HLOOKUP(F1676,Trendfactoren!$A$1:$F$2,2,FALSE)),FALSE)","v":1},0,{"$f":"+VLOOKUP(C1676,Scheepstypen!$A$1:$F$44,6,FALSE)","v":"L3"}]
["WaalC4leegaf","Waal","C4","leeg","af","NOx",361.32785009892973,{"$f":"VLOOKUP(A1677,Begin:Einde,7,FALSE)","v":0},1,{"$f":"VLOOKUP(Jaar&L1677,Trendfactoren!$A$2:$F$65,(HLOOKUP(F1677,Trendfactoren!$A$1:$F$2,2,FALSE)),FALSE)","v":1},0,{"$f":"+VLOOKUP(C1677,Scheepstypen!$A$1:$F$44,6,FALSE)","v":"L3"}]
["WaalC4leegop","Waal","C4","leeg","op","Fijn stof",56.806696563334896,{"$f":"VLOOKUP(A1678,Begin:Einde,7,FALSE)","v":0},1,{"$f":"VLOOKUP(Jaar&L1678,Trendfactoren!$A$2:$F$65,(HLOOKUP(F1678,Trendfactoren!$A$1:$F$2,2,FALSE)),FALSE)","v":1},0,{"$f":"+VLOOKUP(C1678,Scheepstypen!$A$1:$F$44,6,FALSE)","v":"L3"}]
["WaalC4leegop","Waal","C4","leeg","op","NOx",1766.2676952746722,{"$f":"VLOOKUP(A1679,Begin:Einde,7,FALSE)","v":0},1,{"$f":"VLOOKUP(Jaar&L1679,Trendfactoren!$A$2:$F$65,(HLOOKUP(F1679,Trendfactoren!$A$1:$F$2,2,FALSE)),FALSE)","v":1},0,{"$f":"+VLOOKUP(C1679,Scheepstypen!$A$1:$F$44,6,FALSE)","v":"L3"}]
["WaalM0geladenaf","Waal","M0","geladen","af","Fijn stof",0.90798669561342749,{"$f":"VLOOKUP(A1680,Begin:Einde,7,FALSE)","v":0},1,{"$f":"VLOOKUP(Jaar&L1680,Trendfactoren!$A$2:$F$65,(HLOOKUP(F1680,Trendfactoren!$A$1:$F$2,2,FALSE)),FALSE)","v":1},0,{"$f":"+VLOOKUP(C1680,Scheepstypen!$A$1:$F$44,6,FALSE)","v":"L1"}]
["WaalM0geladenaf","Waal","M0","geladen","af","NOx",25.690483263873251,{"$f":"VLOOKUP(A1681,Begin:Einde,7,FALSE)","v":0},1,{"$f":"VLOOKUP(Jaar&L1681,Trendfactoren!$A$2:$F$65,(HLOOKUP(F1681,Trendfactoren!$A$1:$F$2,2,FALSE)),FALSE)","v":1},0,{"$f":"+VLOOKUP(C1681,Scheepstypen!$A$1:$F$44,6,FALSE)","v":"L1"}]
["WaalM0geladenop","Waal","M0","geladen","op","Fijn stof",3.4444122158577479,{"$f":"VLOOKUP(A1682,Begin:Einde,7,FALSE)","v":0},1,{"$f":"VLOOKUP(Jaar&L1682,Trendfactoren!$A$2:$F$65,(HLOOKUP(F1682,Trendfactoren!$A$1:$F$2,2,FALSE)),FALSE)","v":1},0,{"$f":"+VLOOKUP(C1682,Scheepstypen!$A$1:$F$44,6,FALSE)","v":"L1"}]
["WaalM0geladenop","Waal","M0","geladen","op","NOx",103.26435289610117,{"$f":"VLOOKUP(A1683,Begin:Einde,7,FALSE)","v":0},1,{"$f":"VLOOKUP(Jaar&L1683,Trendfactoren!$A$2:$F$65,(HLOOKUP(F1683,Trendfactoren!$A$1:$F$2,2,FALSE)),FALSE)","v":1},0,{"$f":"+VLOOKUP(C1683,Scheepstypen!$A$1:$F$44,6,FALSE)","v":"L1"}]
["WaalM0leegaf","Waal","M0","leeg","af","Fijn stof",0.56179266078865775,{"$f":"VLOOKUP(A1684,Begin:Einde,7,FALSE)","v":0},1,{"$f":"VLOOKUP(Jaar&L1684,Trendfactoren!$A$2:$F$65,(HLOOKUP(F1684,Trendfactoren!$A$1:$F$2,2,FALSE)),FALSE)","v":1},0,{"$f":"+VLOOKUP(C1684,Scheepstypen!$A$1:$F$44,6,FALSE)","v":"L1"}]
["WaalM0leegaf","Waal","M0","leeg","af","NOx",12.914169875260963,{"$f":"VLOOKUP(A1685,Begin:Einde,7,FALSE)","v":0},1,{"$f":"VLOOKUP(Jaar&L1685,Trendfactoren!$A$2:$F$65,(HLOOKUP(F1685,Trendfactoren!$A$1:$F$2,2,FALSE)),FALSE)","v":1},0,{"$f":"+VLOOKUP(C1685,Scheepstypen!$A$1:$F$44,6,FALSE)","v":"L1"}]
["WaalM0leegop","Waal","M0","leeg","op","Fijn stof",1.7191018076615263,{"$f":"VLOOKUP(A1686,Begin:Einde,7,FALSE)","v":0},1,{"$f":"VLOOKUP(Jaar&L1686,Trendfactoren!$A$2:$F$65,(HLOOKUP(F1686,Trendfactoren!$A$1:$F$2,2,FALSE)),FALSE)","v":1},0,{"$f":"+VLOOKUP(C1686,Scheepstypen!$A$1:$F$44,6,FALSE)","v":"L1"}]
["WaalM0leegop","Waal","M0","leeg","op","NOx",49.852443149433768,{"$f":"VLOOKUP(A1687,Begin:Einde,7,FALSE)","v":0},1,{"$f":"VLOOKUP(Jaar&L1687,Trendfactoren!$A$2:$F$65,(HLOOKUP(F1687,Trendfactoren!$A$1:$F$2,2,FALSE)),FALSE)","v":1},0,{"$f":"+VLOOKUP(C1687,Scheepstypen!$A$1:$F$44,6,FALSE)","v":"L1"}]
["WaalM1geladenaf","Waal","M1","geladen","af","Fijn stof",0.80587521025567821,{"$f":"VLOOKUP(A1688,Begin:Einde,7,FALSE)","v":0},1,{"$f":"VLOOKUP(Jaar&L1688,Trendfactoren!$A$2:$F$65,(HLOOKUP(F1688,Trendfactoren!$A$1:$F$2,2,FALSE)),FALSE)","v":1},0,{"$f":"+VLOOKUP(C1688,Scheepstypen!$A$1:$F$44,6,FALSE)","v":"L1"}]
["WaalM1geladenaf","Waal","M1","geladen","af","NOx",19.922722615009782,{"$f":"VLOOKUP(A1689,Begin:Einde,7,FALSE)","v":0},1,{"$f":"VLOOKUP(Jaar&L1689,Trendfactoren!$A$2:$F$65,(HLOOKUP(F1689,Trendfactoren!$A$1:$F$2,2,FALSE)),FALSE)","v":1},0,{"$f":"+VLOOKUP(C1689,Scheepstypen!$A$1:$F$44,6,FALSE)","v":"L1"}]
["WaalM1geladenop","Waal","M1","geladen","op","Fijn stof",5.4598508010287459,{"$f":"VLOOKUP(A1690,Begin:Einde,7,FALSE)","v":0},1,{"$f":"VLOOKUP(Jaar&L1690,Trendfactoren!$A$2:$F$65,(HLOOKUP(F1690,Trendfactoren!$A$1:$F$2,2,FALSE)),FALSE)","v":1},0,{"$f":"+VLOOKUP(C1690,Scheepstypen!$A$1:$F$44,6,FALSE)","v":"L1"}]
["WaalM1geladenop","Waal","M1","geladen","op","NOx",162.55660508125752,{"$f":"VLOOKUP(A1691,Begin:Einde,7,FALSE)","v":0},1,{"$f":"VLOOKUP(Jaar&L1691,Trendfactoren!$A$2:$F$65,(HLOOKUP(F1691,Trendfactoren!$A$1:$F$2,2,FALSE)),FALSE)","v":1},0,{"$f":"+VLOOKUP(C1691,Scheepstypen!$A$1:$F$44,6,FALSE)","v":"L1"}]
["WaalM1leegaf","Waal","M1","leeg","af","Fijn stof",1.1264660242898932,{"$f":"VLOOKUP(A1692,Begin:Einde,7,FALSE)","v":0},1,{"$f":"VLOOKUP(Jaar&L1692,Trendfactoren!$A$2:$F$65,(HLOOKUP(F1692,Trendfactoren!$A$1:$F$2,2,FALSE)),FALSE)","v":1},0,{"$f":"+VLOOKUP(C1692,Scheepstypen!$A$1:$F$44,6,FALSE)","v":"L1"}]
["WaalM1leegaf","Waal","M1","leeg","af","NOx",32.068304951432317,{"$f":"VLOOKUP(A1693,Begin:Einde,7,FALSE)","v":0},1,{"$f":"VLOOKUP(Jaar&L1693,Trendfactoren!$A$2:$F$65,(HLOOKUP(F1693,Trendfactoren!$A$1:$F$2,2,FALSE)),FALSE)","v":1},0,{"$f":"+VLOOKUP(C1693,Scheepstypen!$A$1:$F$44,6,FALSE)","v":"L1"}]
["WaalM1leegop","Waal","M1","leeg","op","Fijn stof",4.2300877488695523,{"$f":"VLOOKUP(A1694,Begin:Einde,7,FALSE)","v":0},1,{"$f":"VLOOKUP(Jaar&L1694,Trendfactoren!$A$2:$F$65,(HLOOKUP(F1694,Trendfactoren!$A$1:$F$2,2,FALSE)),FALSE)","v":1},0,{"$f":"+VLOOKUP(C1694,Scheepstypen!$A$1:$F$44,6,FALSE)","v":"L1"}]
["WaalM1leegop","Waal","M1","leeg","op","NOx",127.09095891270323,{"$f":"VLOOKUP(A1695,Begin:Einde,7,FALSE)","v":0},1,{"$f":"VLOOKUP(Jaar&L1695,Trendfactoren!$A$2:$F$65,(HLOOKUP(F1695,Trendfactoren!$A$1:$F$2,2,FALSE)),FALSE)","v":1},0,{"$f":"+VLOOKUP(C1695,Scheepstypen!$A$1:$F$44,6,FALSE)","v":"L1"}]
["WaalM10geladenaf","Waal","M10","geladen","af","Fijn stof",10.777408617864049,{"$f":"VLOOKUP(A1696,Begin:Einde,7,FALSE)","v":0},1,{"$f":"VLOOKUP(Jaar&L1696,Trendfactoren!$A$2:$F$65,(HLOOKUP(F1696,Trendfactoren!$A$1:$F$2,2,FALSE)),FALSE)","v":1},0,{"$f":"+VLOOKUP(C1696,Scheepstypen!$A$1:$F$44,6,FALSE)","v":"L3"}]
["WaalM10geladenaf","Waal","M10","geladen","af","NOx",331.00829870430329,{"$f":"VLOOKUP(A1697,Begin:Einde,7,FALSE)","v":0},1,{"$f":"VLOOKUP(Jaar&L1697,Trendfactoren!$A$2:$F$65,(HLOOKUP(F1697,Trendfactoren!$A$1:$F$2,2,FALSE)),FALSE)","v":1},0,{"$f":"+VLOOKUP(C1697,Scheepstypen!$A$1:$F$44,6,FALSE)","v":"L3"}]
["WaalM10geladenop","Waal","M10","geladen","op","Fijn stof",31.304529242054155,{"$f":"VLOOKUP(A1698,Begin:Einde,7,FALSE)","v":0},1,{"$f":"VLOOKUP(Jaar&L1698,Trendfactoren!$A$2:$F$65,(HLOOKUP(F1698,Trendfactoren!$A$1:$F$2,2,FALSE)),FALSE)","v":1},0,{"$f":"+VLOOKUP(C1698,Scheepstypen!$A$1:$F$44,6,FALSE)","v":"L3"}]
["WaalM10geladenop","Waal","M10","geladen","op","NOx",971.39021146235825,{"$f":"VLOOKUP(A1699,Begin:Einde,7,FALSE)","v":0},1,{"$f":"VLOOKUP(Jaar&L1699,Trendfactoren!$A$2:$F$65,(HLOOKUP(F1699,Trendfactoren!$A$1:$F$2,2,FALSE)),FALSE)","v":1},0,{"$f":"+VLOOKUP(C1699,Scheepstypen!$A$1:$F$44,6,FALSE)","v":"L3"}]
["WaalM10leegaf","Waal","M10","leeg","af","Fijn stof",5.602413267627254,{"$f":"VLOOKUP(A1700,Begin:Einde,7,FALSE)","v":0},1,{"$f":"VLOOKUP(Jaar&L1700,Trendfactoren!$A$2:$F$65,(HLOOKUP(F1700,Trendfactoren!$A$1:$F$2,2,FALSE)),FALSE)","v":1},0,{"$f":"+VLOOKUP(C1700,Scheepstypen!$A$1:$F$44,6,FALSE)","v":"L3"}]
["WaalM10leegaf","Waal","M10","leeg","af","NOx",155.45215090025533,{"$f":"VLOOKUP(A1701,Begin:Einde,7,FALSE)","v":0},1,{"$f":"VLOOKUP(Jaar&L1701,Trendfactoren!$A$2:$F$65,(HLOOKUP(F1701,Trendfactoren!$A$1:$F$2,2,FALSE)),FALSE)","v":1},0,{"$f":"+VLOOKUP(C1701,Scheepstypen!$A$1:$F$44,6,FALSE)","v":"L3"}]
["WaalM10leegop","Waal","M10","leeg","op","Fijn stof",20.949637248266054,{"$f":"VLOOKUP(A1702,Begin:Einde,7,FALSE)","v":0},1,{"$f":"VLOOKUP(Jaar&L1702,Trendfactoren!$A$2:$F$65,(HLOOKUP(F1702,Trendfactoren!$A$1:$F$2,2,FALSE)),FALSE)","v":1},0,{"$f":"+VLOOKUP(C1702,Scheepstypen!$A$1:$F$44,6,FALSE)","v":"L3"}]
["WaalM10leegop","Waal","M10","leeg","op","NOx",649.01108575713204,{"$f":"VLOOKUP(A1703,Begin:Einde,7,FALSE)","v":0},1,{"$f":"VLOOKUP(Jaar&L1703,Trendfactoren!$A$2:$F$65,(HLOOKUP(F1703,Trendfactoren!$A$1:$F$2,2,FALSE)),FALSE)","v":1},0,{"$f":"+VLOOKUP(C1703,Scheepstypen!$A$1:$F$44,6,FALSE)","v":"L3"}]
["WaalM11geladenaf","Waal","M11","geladen","af","Fijn stof",10.639400376152405,{"$f":"VLOOKUP(A1704,Begin:Einde,7,FALSE)","v":0},1,{"$f":"VLOOKUP(Jaar&L1704,Trendfactoren!$A$2:$F$65,(HLOOKUP(F1704,Trendfactoren!$A$1:$F$2,2,FALSE)),FALSE)","v":1},{"$f":"+G1704*H1704*I1704*J1704","v":0},{"$f":"+VLOOKUP(C1704,Scheepstypen!$A$1:$F$44,6,FALSE)","v":"L3"}]
["WaalM11geladenaf","Waal","M11","geladen","af","NOx",310.33664192581006,{"$f":"VLOOKUP(A1705,Begin:Einde,7,FALSE)","v":0},1,{"$f":"VLOOKUP(Jaar&L1705,Trendfactoren!$A$2:$F$65,(HLOOKUP(F1705,Trendfactoren!$A$1:$F$2,2,FALSE)),FALSE)","v":1},0,{"$f":"+VLOOKUP(C1705,Scheepstypen!$A$1:$F$44,6,FALSE)","v":"L3"}]
["WaalM11geladenop","Waal","M11","geladen","op","Fijn stof",34.96492354294962,{"$f":"VLOOKUP(A1706,Begin:Einde,7,FALSE)","v":0},1,{"$f":"VLOOKUP(Jaar&L1706,Trendfactoren!$A$2:$F$65,(HLOOKUP(F1706,Trendfactoren!$A$1:$F$2,2,FALSE)),FALSE)","v":1},0,{"$f":"+VLOOKUP(C1706,Scheepstypen!$A$1:$F$44,6,FALSE)","v":"L3"}]
["WaalM11geladenop","Waal","M11","geladen","op","NOx",1083.5568873771797,{"$f":"VLOOKUP(A1707,Begin:Einde,7,FALSE)","v":0},1,{"$f":"VLOOKUP(Jaar&L1707,Trendfactoren!$A$2:$F$65,(HLOOKUP(F1707,Trendfactoren!$A$1:$F$2,2,FALSE)),FALSE)","v":1},0,{"$f":"+VLOOKUP(C1707,Scheepstypen!$A$1:$F$44,6,FALSE)","v":"L3"}]
["WaalM11leegaf","Waal","M11","leeg","af","Fijn stof",8.4134332406122567,{"$f":"VLOOKUP(A1708,Begin:Einde,7,FALSE)","v":0},1,{"$f":"VLOOKUP(Jaar&L1708,Trendfactoren!$A$2:$F$65,(HLOOKUP(F1708,Trendfactoren!$A$1:$F$2,2,FALSE)),FALSE)","v":1},0,{"$f":"+VLOOKUP(C1708,Scheepstypen!$A$1:$F$44,6,FALSE)","v":"L3"}]
["WaalM11leegaf","Waal","M11","leeg","af","NOx",242.18938133938906,{"$f":"VLOOKUP(A1709,Begin:Einde,7,FALSE)","v":0},1,{"$f":"VLOOKUP(Jaar&L1709,Trendfactoren!$A$2:$F$65,(HLOOKUP(F1709,Trendfactoren!$A$1:$F$2,2,FALSE)),FALSE)","v":1},0,{"$f":"+VLOOKUP(C1709,Scheepstypen!$A$1:$F$44,6,FALSE)","v":"L3"}]
["WaalM11leegop","Waal","M11","leeg","op","Fijn stof",26.723446228503292,{"$f":"VLOOKUP(A1710,Begin:Einde,7,FALSE)","v":0},1,{"$f":"VLOOKUP(Jaar&L1710,Trendfactoren!$A$2:$F$65,(HLOOKUP(F1710,Trendfactoren!$A$1:$F$2,2,FALSE)),FALSE)","v":1},0,{"$f":"+VLOOKUP(C1710,Scheepstypen!$A$1:$F$44,6,FALSE)","v":"L3"}]
["WaalM11leegop","Waal","M11","leeg","op","NOx",829.62972101564242,{"$f":"VLOOKUP(A1711,Begin:Einde,7,FALSE)","v":0},1,{"$f":"VLOOKUP(Jaar&L1711,Trendfactoren!$A$2:$F$65,(HLOOKUP(F1711,Trendfactoren!$A$1:$F$2,2,FALSE)),FALSE)","v":1},0,{"$f":"+VLOOKUP(C1711,Scheepstypen!$A$1:$F$44,6,FALSE)","v":"L3"}]
["WaalM12geladenaf","Waal","M12","geladen","af","Fijn stof",12.084660324294402,{"$f":"VLOOKUP(A1712,Begin:Einde,7,FALSE)","v":0},1,{"$f":"VLOOKUP(Jaar&L1712,Trendfactoren!$A$2:$F$65,(HLOOKUP(F1712,Trendfactoren!$A$1:$F$2,2,FALSE)),FALSE)","v":1},0,{"$f":"+VLOOKUP(C1712,Scheepstypen!$A$1:$F$44,6,FALSE)","v":"L3"}]
["WaalM12geladenaf","Waal","M12","geladen","af","NOx",346.75030911430201,{"$f":"VLOOKUP(A1713,Begin:Einde,7,FALSE)","v":0},1,{"$f":"VLOOKUP(Jaar&L1713,Trendfactoren!$A$2:$F$65,(HLOOKUP(F1713,Trendfactoren!$A$1:$F$2,2,FALSE)),FALSE)","v":1},0,{"$f":"+VLOOKUP(C1713,Scheepstypen!$A$1:$F$44,6,FALSE)","v":"L3"}]
["WaalM12geladenop","Waal","M12","geladen","op","Fijn stof",38.540965419664872,{"$f":"VLOOKUP(A1714,Begin:Einde,7,FALSE)","v":0},1,{"$f":"VLOOKUP(Jaar&L1714,Trendfactoren!$A$2:$F$65,(HLOOKUP(F1714,Trendfactoren!$A$1:$F$2,2,FALSE)),FALSE)","v":1},0,{"$f":"+VLOOKUP(C1714,Scheepstypen!$A$1:$F$44,6,FALSE)","v":"L3"}]
["WaalM12geladenop","Waal","M12","geladen","op","NOx",1192.9520692566202,{"$f":"VLOOKUP(A1715,Begin:Einde,7,FALSE)","v":0},1,{"$f":"VLOOKUP(Jaar&L1715,Trendfactoren!$A$2:$F$65,(HLOOKUP(F1715,Trendfactoren!$A$1:$F$2,2,FALSE)),FALSE)","v":1},0,{"$f":"+VLOOKUP(C1715,Scheepstypen!$A$1:$F$44,6,FALSE)","v":"L3"}]
["WaalM12leegaf","Waal","M12","leeg","af","Fijn stof",10.869858929652768,{"$f":"VLOOKUP(A1716,Begin:Einde,7,FALSE)","v":0},1,{"$f":"VLOOKUP(Jaar&L1716,Trendfactoren!$A$2:$F$65,(HLOOKUP(F1716,Trendfactoren!$A$1:$F$2,2,FALSE)),FALSE)","v":1},0,{"$f":"+VLOOKUP(C1716,Scheepstypen!$A$1:$F$44,6,FALSE)","v":"L3"}]
["WaalM12leegaf","Waal","M12","leeg","af","NOx",312.82202399858966,{"$f":"VLOOKUP(A1717,Begin:Einde,7,FALSE)","v":0},1,{"$f":"VLOOKUP(Jaar&L1717,Trendfactoren!$A$2:$F$65,(HLOOKUP(F1717,Trendfactoren!$A$1:$F$2,2,FALSE)),FALSE)","v":1},0,{"$f":"+VLOOKUP(C1717,Scheepstypen!$A$1:$F$44,6,FALSE)","v":"L3"}]
["WaalM12leegop","Waal","M12","leeg","op","Fijn stof",38.473189201037052,{"$f":"VLOOKUP(A1718,Begin:Einde,7,FALSE)","v":0},{"$f":"+Afstand","v":1},{"$f":"VLOOKUP(Jaar&L1718,Trendfactoren!$A$2:$F$65,(HLOOKUP(F1718,Trendfactoren!$A$1:$F$2,2,FALSE)),FALSE)","v":1},0,{"$f":"+VLOOKUP(C1718,Scheepstypen!$A$1:$F$44,6,FALSE)","v":"L3"}]
["WaalM12leegop","Waal","M12","leeg","op","NOx",1195.9533308756456,{"$f":"VLOOKUP(A1719,Begin:Einde,7,FALSE)","v":0},1,{"$f":"VLOOKUP(Jaar&L1719,Trendfactoren!$A$2:$F$65,(HLOOKUP(F1719,Trendfactoren!$A$1:$F$2,2,FALSE)),FALSE)","v":1},0,{"$f":"+VLOOKUP(C1719,Scheepstypen!$A$1:$F$44,6,FALSE)","v":"L3"}]
["WaalM2geladenaf","Waal","M2","geladen","af","Fijn stof",3.0837682901755246,{"$f":"VLOOKUP(A1720,Begin:Einde,7,FALSE)","v":0},1,{"$f":"VLOOKUP(Jaar&L1720,Trendfactoren!$A$2:$F$65,(HLOOKUP(F1720,Trendfactoren!$A$1:$F$2,2,FALSE)),FALSE)","v":1},0,{"$f":"+VLOOKUP(C1720,Scheepstypen!$A$1:$F$44,6,FALSE)","v":"L1"}]
["WaalM2geladenaf","Waal","M2","geladen","af","NOx",91.541783197598278,{"$f":"VLOOKUP(A1721,Begin:Einde,7,FALSE)","v":0},1,{"$f":"VLOOKUP(Jaar&L1721,Trendfactoren!$A$2:$F$65,(HLOOKUP(F1721,Trendfactoren!$A$1:$F$2,2,FALSE)),FALSE)","v":1},0,{"$f":"+VLOOKUP(C1721,Scheepstypen!$A$1:$F$44,6,FALSE)","v":"L1"}]
["WaalM2geladenop","Waal","M2","geladen","op","Fijn stof",8.3742370692084123,{"$f":"VLOOKUP(A1722,Begin:Einde,7,FALSE)","v":0},1,{"$f":"VLOOKUP(Jaar&L1722,Trendfactoren!$A$2:$F$65,(HLOOKUP(F1722,Trendfactoren!$A$1:$F$2,2,FALSE)),FALSE)","v":1},0,{"$f":"+VLOOKUP(C1722,Scheepstypen!$A$1:$F$44,6,FALSE)","v":"L1"}]
["WaalM2geladenop","Waal","M2","geladen","op","NOx",251.62621402975259,{"$f":"VLOOKUP(A1723,Begin:Einde,7,FALSE)","v":0},1,{"$f":"VLOOKUP(Jaar&L1723,Trendfactoren!$A$2:$F$65,(HLOOKUP(F1723,Trendfactoren!$A$1:$F$2,2,FALSE)),FALSE)","v":1},0,{"$f":"+VLOOKUP(C1723,Scheepstypen!$A$1:$F$44,6,FALSE)","v":"L1"}]
["WaalM2leegaf","Waal","M2","leeg","af","Fijn stof",1.7112995257424979,{"$f":"VLOOKUP(A1724,Begin:Einde,7,FALSE)","v":0},1,{"$f":"VLOOKUP(Jaar&L1724,Trendfactoren!$A$2:$F$65,(HLOOKUP(F1724,Trendfactoren!$A$1:$F$2,2,FALSE)),FALSE)","v":1},0,{"$f":"+VLOOKUP(C1724,Scheepstypen!$A$1:$F$44,6,FALSE)","v":"L1"}]
["WaalM2leegaf","Waal","M2","leeg","af","NOx",49.093556303533894,{"$f":"VLOOKUP(A1725,Begin:Einde,7,FALSE)","v":0},1,{"$f":"VLOOKUP(Jaar&L1725,Trendfactoren!$A$2:$F$65,(HLOOKUP(F1725,Trendfactoren!$A$1:$F$2,2,FALSE)),FALSE)","v":1},0,{"$f":"+VLOOKUP(C1725,Scheepstypen!$A$1:$F$44,6,FALSE)","v":"L1"}]
["WaalM2leegop","Waal","M2","leeg","op","Fijn stof",5.491224697109427,{"$f":"VLOOKUP(A1726,Begin:Einde,7,FALSE)","v":0},1,{"$f":"VLOOKUP(Jaar&L1726,Trendfactoren!$A$2:$F$65,(HLOOKUP(F1726,Trendfactoren!$A$1:$F$2,2,FALSE)),FALSE)","v":1},0,{"$f":"+VLOOKUP(C1726,Scheepstypen!$A$1:$F$44,6,FALSE)","v":"L1"}]
["WaalM2leegop","Waal","M2","leeg","op","NOx",164.15371197505735,{"$f":"VLOOKUP(A1727,Begin:Einde,7,FALSE)","v":0},1,{"$f":"VLOOKUP(Jaar&L1727,Trendfactoren!$A$2:$F$65,(HLOOKUP(F1727,Trendfactoren!$A$1:$F$2,2,FALSE)),FALSE)","v":1},0,{"$f":"+VLOOKUP(C1727,Scheepstypen!$A$1:$F$44,6,FALSE)","v":"L1"}]
["WaalM3geladenaf","Waal","M3","geladen","af","Fijn stof",3.6648434857213199,{"$f":"VLOOKUP(A1728,Begin:Einde,7,FALSE)","v":0},1,{"$f":"VLOOKUP(Jaar&L1728,Trendfactoren!$A$2:$F$65,(HLOOKUP(F1728,Trendfactoren!$A$1:$F$2,2,FALSE)),FALSE)","v":1},0,{"$f":"+VLOOKUP(C1728,Scheepstypen!$A$1:$F$44,6,FALSE)","v":"L1"}]
[{"$f":"+B1729&C1729&D1729&E1729","v":"WaalM3geladenaf"},"Waal","M3","geladen","af","NOx",108.54012285004782,{"$f":"VLOOKUP(A1729,Begin:Einde,7,FALSE)","v":0},1,{"$f":"VLOOKUP(Jaar&L1729,Trendfactoren!$A$2:$F$65,(HLOOKUP(F1729,Trendfactoren!$A$1:$F$2,2,FALSE)),FALSE)","v":1},0,{"$f":"+VLOOKUP(C1729,Scheepstypen!$A$1:$F$44,6,FALSE)","v":"L1"}]
["WaalM3geladenop","Waal","M3","geladen","op","Fijn stof",11.646322199576062,{"$f":"VLOOKUP(A1730,Begin:Einde,7,FALSE)","v":0},1,{"$f":"VLOOKUP(Jaar&L1730,Trendfactoren!$A$2:$F$65,(HLOOKUP(F1730,Trendfactoren!$A$1:$F$2,2,FALSE)),FALSE)","v":1},0,{"$f":"+VLOOKUP(C1730,Scheepstypen!$A$1:$F$44,6,FALSE)","v":"L1"}]
["WaalM3geladenop","Waal","M3","geladen","op","NOx",349.94710130543052,{"$f":"VLOOKUP(A1731,Begin:Einde,7,FALSE)","v":0},1,{"$f":"VLOOKUP(Jaar&L1731,Trendfactoren!$A$2:$F$65,(HLOOKUP(F1731,Trendfactoren!$A$1:$F$2,2,FALSE)),FALSE)","v":1},0,{"$f":"+VLOOKUP(C1731,Scheepstypen!$A$1:$F$44,6,FALSE)","v":"L1"}]
["WaalM3leegaf","Waal","M3","leeg","af","Fijn stof",2.3486660543922597,{"$f":"VLOOKUP(A1732,Begin:Einde,7,FALSE)","v":0},1,{"$f":"VLOOKUP(Jaar&L1732,Trendfactoren!$A$2:$F$65,(HLOOKUP(F1732,Trendfactoren!$A$1:$F$2,2,FALSE)),FALSE)","v":1},0,{"$f":"+VLOOKUP(C1732,Scheepstypen!$A$1:$F$44,6,FALSE)","v":"L1"}]
["WaalM3leegaf","Waal","M3","leeg","af","NOx",67.767857247461293,{"$f":"VLOOKUP(A1733,Begin:Einde,7,FALSE)","v":0},1,{"$f":"VLOOKUP(Jaar&L1733,Trendfactoren!$A$2:$F$65,(HLOOKUP(F1733,Trendfactoren!$A$1:$F$2,2,FALSE)),FALSE)","v":1},0,{"$f":"+VLOOKUP(C1733,Scheepstypen!$A$1:$F$44,6,FALSE)","v":"L1"}]
["WaalM3leegop","Waal","M3","leeg","op","Fijn stof",7.5762217494244455,{"$f":"VLOOKUP(A1734,Begin:Einde,7,FALSE)","v":0},1,{"$f":"VLOOKUP(Jaar&L1734,Trendfactoren!$A$2:$F$65,(HLOOKUP(F1734,Trendfactoren!$A$1:$F$2,2,FALSE)),FALSE)","v":1},0,{"$f":"+VLOOKUP(C1734,Scheepstypen!$A$1:$F$44,6,FALSE)","v":"L1"}]
["WaalM3leegop","Waal","M3","leeg","op","NOx",227.14102979657557,{"$f":"VLOOKUP(A1735,Begin:Einde,7,FALSE)","v":0},1,{"$f":"VLOOKUP(Jaar&L1735,Trendfactoren!$A$2:$F$65,(HLOOKUP(F1735,Trendfactoren!$A$1:$F$2,2,FALSE)),FALSE)","v":1},0,{"$f":"+VLOOKUP(C1735,Scheepstypen!$A$1:$F$44,6,FALSE)","v":"L1"}]
["WaalM4geladenaf","Waal","M4","geladen","af","Fijn stof",4.5133981523419617,{"$f":"VLOOKUP(A1736,Begin:Einde,7,FALSE)","v":0},1,{"$f":"VLOOKUP(Jaar&L1736,Trendfactoren!$A$2:$F$65,(HLOOKUP(F1736,Trendfactoren!$A$1:$F$2,2,FALSE)),FALSE)","v":1},0,{"$f":"+VLOOKUP(C1736,Scheepstypen!$A$1:$F$44,6,FALSE)","v":"L1"}]
["WaalM4geladenaf","Waal","M4","geladen","af","NOx",134.12343158943239,{"$f":"VLOOKUP(A1737,Begin:Einde,7,FALSE)","v":0},1,{"$f":"VLOOKUP(Jaar&L1737,Trendfactoren!$A$2:$F$65,(HLOOKUP(F1737,Trendfactoren!$A$1:$F$2,2,FALSE)),FALSE)","v":1},0,{"$f":"+VLOOKUP(C1737,Scheepstypen!$A$1:$F$44,6,FALSE)","v":"L1"}]
["WaalM4geladenop","Waal","M4","geladen","op","Fijn stof",13.363725301323496,{"$f":"VLOOKUP(A1738,Begin:Einde,7,FALSE)","v":0},1,{"$f":"VLOOKUP(Jaar&L1738,Trendfactoren!$A$2:$F$65,(HLOOKUP(F1738,Trendfactoren!$A$1:$F$2,2,FALSE)),FALSE)","v":1},0,{"$f":"+VLOOKUP(C1738,Scheepstypen!$A$1:$F$44,6,FALSE)","v":"L1"}]
["WaalM4geladenop","Waal","M4","geladen","op","NOx",401.51900196437913,{"$f":"VLOOKUP(A1739,Begin:Einde,7,FALSE)","v":0},1,{"$f":"VLOOKUP(Jaar&L1739,Trendfactoren!$A$2:$F$65,(HLOOKUP(F1739,Trendfactoren!$A$1:$F$2,2,FALSE)),FALSE)","v":1},0,{"$f":"+VLOOKUP(C1739,Scheepstypen!$A$1:$F$44,6,FALSE)","v":"L1"}]
["WaalM4leegaf","Waal","M4","leeg","af","Fijn stof",2.7109131714717978,{"$f":"VLOOKUP(A1740,Begin:Einde,7,FALSE)","v":0},1,{"$f":"VLOOKUP(Jaar&L1740,Trendfactoren!$A$2:$F$65,(HLOOKUP(F1740,Trendfactoren!$A$1:$F$2,2,FALSE)),FALSE)","v":1},0,{"$f":"+VLOOKUP(C1740,Scheepstypen!$A$1:$F$44,6,FALSE)","v":"L1"}]
["WaalM4leegaf","Waal","M4","leeg","af","NOx",78.14377415676573,{"$f":"VLOOKUP(A1741,Begin:Einde,7,FALSE)","v":0},1,{"$f":"VLOOKUP(Jaar&L1741,Trendfactoren!$A$2:$F$65,(HLOOKUP(F1741,Trendfactoren!$A$1:$F$2,2,FALSE)),FALSE)","v":1},0,{"$f":"+VLOOKUP(C1741,Scheepstypen!$A$1:$F$44,6,FALSE)","v":"L1"}]
["WaalM4leegop","Waal","M4","leeg","op","Fijn stof",8.6288322283294079,{"$f":"VLOOKUP(A1742,Begin:Einde,7,FALSE)","v":0},1,{"$f":"VLOOKUP(Jaar&L1742,Trendfactoren!$A$2:$F$65,(HLOOKUP(F1742,Trendfactoren!$A$1:$F$2,2,FALSE)),FALSE)","v":1},0,{"$f":"+VLOOKUP(C1742,Scheepstypen!$A$1:$F$44,6,FALSE)","v":"L1"}]
["WaalM4leegop","Waal","M4","leeg","op","NOx",258.0144691735166,{"$f":"VLOOKUP(A1743,Begin:Einde,7,FALSE)","v":0},1,{"$f":"VLOOKUP(Jaar&L1743,Trendfactoren!$A$2:$F$65,(HLOOKUP(F1743,Trendfactoren!$A$1:$F$2,2,FALSE)),FALSE)","v":1},0,{"$f":"+VLOOKUP(C1743,Scheepstypen!$A$1:$F$44,6,FALSE)","v":"L1"}]
["WaalM5geladenaf","Waal","M5","geladen","af","Fijn stof",5.0108081381926741,{"$f":"VLOOKUP(A1744,Begin:Einde,7,FALSE)","v":0},1,{"$f":"VLOOKUP(Jaar&L1744,Trendfactoren!$A$2:$F$65,(HLOOKUP(F1744,Trendfactoren!$A$1:$F$2,2,FALSE)),FALSE)","v":1},0,{"$f":"+VLOOKUP(C1744,Scheepstypen!$A$1:$F$44,6,FALSE)","v":"L2"}]
["WaalM5geladenaf","Waal","M5","geladen","af","NOx",152.33579351682224,{"$f":"VLOOKUP(A1745,Begin:Einde,7,FALSE)","v":0},1,{"$f":"VLOOKUP(Jaar&L1745,Trendfactoren!$A$2:$F$65,(HLOOKUP(F1745,Trendfactoren!$A$1:$F$2,2,FALSE)),FALSE)","v":1},0,{"$f":"+VLOOKUP(C1745,Scheepstypen!$A$1:$F$44,6,FALSE)","v":"L2"}]
["WaalM5geladenop","Waal","M5","geladen","op","Fijn stof",14.942564747496652,{"$f":"VLOOKUP(A1746,Begin:Einde,7,FALSE)","v":0},1,{"$f":"VLOOKUP(Jaar&L1746,Trendfactoren!$A$2:$F$65,(HLOOKUP(F1746,Trendfactoren!$A$1:$F$2,2,FALSE)),FALSE)","v":1},0,{"$f":"+VLOOKUP(C1746,Scheepstypen!$A$1:$F$44,6,FALSE)","v":"L2"}]
["WaalM5geladenop","Waal","M5","geladen","op","NOx",461.3028753809503,{"$f":"VLOOKUP(A1747,Begin:Einde,7,FALSE)","v":0},1,{"$f":"VLOOKUP(Jaar&L1747,Trendfactoren!$A$2:$F$65,(HLOOKUP(F1747,Trendfactoren!$A$1:$F$2,2,FALSE)),FALSE)","v":1},0,{"$f":"+VLOOKUP(C1747,Scheepstypen!$A$1:$F$44,6,FALSE)","v":"L2"}]
["WaalM5leegaf","Waal","M5","leeg","af","Fijn stof",3.3028214919373999,{"$f":"VLOOKUP(A1748,Begin:Einde,7,FALSE)","v":0},1,{"$f":"VLOOKUP(Jaar&L1748,Trendfactoren!$A$2:$F$65,(HLOOKUP(F1748,Trendfactoren!$A$1:$F$2,2,FALSE)),FALSE)","v":1},0,{"$f":"+VLOOKUP(C1748,Scheepstypen!$A$1:$F$44,6,FALSE)","v":"L2"}]
["WaalM5leegaf","Waal","M5","leeg","af","NOx",98.441267583974664,{"$f":"VLOOKUP(A1749,Begin:Einde,7,FALSE)","v":0},1,{"$f":"VLOOKUP(Jaar&L1749,Trendfactoren!$A$2:$F$65,(HLOOKUP(F1749,Trendfactoren!$A$1:$F$2,2,FALSE)),FALSE)","v":1},0,{"$f":"+VLOOKUP(C1749,Scheepstypen!$A$1:$F$44,6,FALSE)","v":"L2"}]
["WaalM5leegop","Waal","M5","leeg","op","Fijn stof",9.2018860815436714,{"$f":"VLOOKUP(A1750,Begin:Einde,7,FALSE)","v":0},1,{"$f":"VLOOKUP(Jaar&L1750,Trendfactoren!$A$2:$F$65,(HLOOKUP(F1750,Trendfactoren!$A$1:$F$2,2,FALSE)),FALSE)","v":1},0,{"$f":"+VLOOKUP(C1750,Scheepstypen!$A$1:$F$44,6,FALSE)","v":"L2"}]
["WaalM5leegop","Waal","M5","leeg","op","NOx",282.55924335425607,{"$f":"VLOOKUP(A1751,Begin:Einde,7,FALSE)","v":0},1,{"$f":"VLOOKUP(Jaar&L1751,Trendfactoren!$A$2:$F$65,(HLOOKUP(F1751,Trendfactoren!$A$1:$F$2,2,FALSE)),FALSE)","v":1},0,{"$f":"+VLOOKUP(C1751,Scheepstypen!$A$1:$F$44,6,FALSE)","v":"L2"}]
["WaalM6geladenaf","Waal","M6","geladen","af","Fijn stof",6.175809734801077,{"$f":"VLOOKUP(A1752,Begin:Einde,7,FALSE)","v":0},1,{"$f":"VLOOKUP(Jaar&L1752,Trendfactoren!$A$2:$F$65,(HLOOKUP(F1752,Trendfactoren!$A$1:$F$2,2,FALSE)),FALSE)","v":1},0,{"$f":"+VLOOKUP(C1752,Scheepstypen!$A$1:$F$44,6,FALSE)","v":"L2"}]
["WaalM6geladenaf","Waal","M6","geladen","af","NOx",188.36413876045364,{"$f":"VLOOKUP(A1753,Begin:Einde,7,FALSE)","v":0},1,{"$f":"VLOOKUP(Jaar&L1753,Trendfactoren!$A$2:$F$65,(HLOOKUP(F1753,Trendfactoren!$A$1:$F$2,2,FALSE)),FALSE)","v":1},0,{"$f":"+VLOOKUP(C1753,Scheepstypen!$A$1:$F$44,6,FALSE)","v":"L2"}]
["WaalM6geladenop","Waal","M6","geladen","op","Fijn stof",17.249187026511773,{"$f":"VLOOKUP(A1754,Begin:Einde,7,FALSE)","v":0},1,{"$f":"VLOOKUP(Jaar&L1754,Trendfactoren!$A$2:$F$65,(HLOOKUP(F1754,Trendfactoren!$A$1:$F$2,2,FALSE)),FALSE)","v":1},0,{"$f":"+VLOOKUP(C1754,Scheepstypen!$A$1:$F$44,6,FALSE)","v":"L2"}]
["WaalM6geladenop","Waal","M6","geladen","op","NOx",532.69792652304295,{"$f":"VLOOKUP(A1755,Begin:Einde,7,FALSE)","v":0},1,{"$f":"VLOOKUP(Jaar&L1755,Trendfactoren!$A$2:$F$65,(HLOOKUP(F1755,Trendfactoren!$A$1:$F$2,2,FALSE)),FALSE)","v":1},0,{"$f":"+VLOOKUP(C1755,Scheepstypen!$A$1:$F$44,6,FALSE)","v":"L2"}]
["WaalM6leegaf","Waal","M6","leeg","af","Fijn stof",3.967938368947892,{"$f":"VLOOKUP(A1756,Begin:Einde,7,FALSE)","v":0},1,{"$f":"VLOOKUP(Jaar&L1756,Trendfactoren!$A$2:$F$65,(HLOOKUP(F1756,Trendfactoren!$A$1:$F$2,2,FALSE)),FALSE)","v":1},0,{"$f":"+VLOOKUP(C1756,Scheepstypen!$A$1:$F$44,6,FALSE)","v":"L2"}]
["WaalM6leegaf","Waal","M6","leeg","af","NOx",117.56524115176222,{"$f":"VLOOKUP(A1757,Begin:Einde,7,FALSE)","v":0},1,{"$f":"VLOOKUP(Jaar&L1757,Trendfactoren!$A$2:$F$65,(HLOOKUP(F1757,Trendfactoren!$A$1:$F$2,2,FALSE)),FALSE)","v":1},0,{"$f":"+VLOOKUP(C1757,Scheepstypen!$A$1:$F$44,6,FALSE)","v":"L2"}]
["WaalM6leegop","Waal","M6","leeg","op","Fijn stof",11.631745609513866,{"$f":"VLOOKUP(A1758,Begin:Einde,7,FALSE)","v":0},1,{"$f":"VLOOKUP(Jaar&L1758,Trendfactoren!$A$2:$F$65,(HLOOKUP(F1758,Trendfactoren!$A$1:$F$2,2,FALSE)),FALSE)","v":1},0,{"$f":"+VLOOKUP(C1758,Scheepstypen!$A$1:$F$44,6,FALSE)","v":"L2"}]
["WaalM6leegop","Waal","M6","leeg","op","NOx",357.36768660055105,{"$f":"VLOOKUP(A1759,Begin:Einde,7,FALSE)","v":0},1,{"$f":"VLOOKUP(Jaar&L1759,Trendfactoren!$A$2:$F$65,(HLOOKUP(F1759,Trendfactoren!$A$1:$F$2,2,FALSE)),FALSE)","v":1},0,{"$f":"+VLOOKUP(C1759,Scheepstypen!$A$1:$F$44,6,FALSE)","v":"L2"}]
["WaalM7geladenaf","Waal","M7","geladen","af","Fijn stof",6.4616839670657846,{"$f":"VLOOKUP(A1760,Begin:Einde,7,FALSE)","v":0},1,{"$f":"VLOOKUP(Jaar&L1760,Trendfactoren!$A$2:$F$65,(HLOOKUP(F1760,Trendfactoren!$A$1:$F$2,2,FALSE)),FALSE)","v":1},0,{"$f":"+VLOOKUP(C1760,Scheepstypen!$A$1:$F$44,6,FALSE)","v":"L2"}]
["WaalM7geladenaf","Waal","M7","geladen","af","NOx",196.46653291630003,{"$f":"VLOOKUP(A1761,Begin:Einde,7,FALSE)","v":0},1,{"$f":"VLOOKUP(Jaar&L1761,Trendfactoren!$A$2:$F$65,(HLOOKUP(F1761,Trendfactoren!$A$1:$F$2,2,FALSE)),FALSE)","v":1},0,{"$f":"+VLOOKUP(C1761,Scheepstypen!$A$1:$F$44,6,FALSE)","v":"L2"}]
["WaalM7geladenop","Waal","M7","geladen","op","Fijn stof",18.303483298880959,{"$f":"VLOOKUP(A1762,Begin:Einde,7,FALSE)","v":0},1,{"$f":"VLOOKUP(Jaar&L1762,Trendfactoren!$A$2:$F$65,(HLOOKUP(F1762,Trendfactoren!$A$1:$F$2,2,FALSE)),FALSE)","v":1},0,{"$f":"+VLOOKUP(C1762,Scheepstypen!$A$1:$F$44,6,FALSE)","v":"L2"}]
["WaalM7geladenop","Waal","M7","geladen","op","NOx",563.18967955776702,{"$f":"VLOOKUP(A1763,Begin:Einde,7,FALSE)","v":0},1,{"$f":"VLOOKUP(Jaar&L1763,Trendfactoren!$A$2:$F$65,(HLOOKUP(F1763,Trendfactoren!$A$1:$F$2,2,FALSE)),FALSE)","v":1},0,{"$f":"+VLOOKUP(C1763,Scheepstypen!$A$1:$F$44,6,FALSE)","v":"L2"}]
["WaalM7leegaf","Waal","M7","leeg","af","Fijn stof",4.9761589765502325,{"$f":"VLOOKUP(A1764,Begin:Einde,7,FALSE)","v":0},1,{"$f":"VLOOKUP(Jaar&L1764,Trendfactoren!$A$2:$F$65,(HLOOKUP(F1764,Trendfactoren!$A$1:$F$2,2,FALSE)),FALSE)","v":1},{"$f":"+G1764*H1764*I1764*J1764","v":0},{"$f":"+VLOOKUP(C1764,Scheepstypen!$A$1:$F$44,6,FALSE)","v":"L2"}]
["WaalM7leegaf","Waal","M7","leeg","af","NOx",148.59887164888934,{"$f":"VLOOKUP(A1765,Begin:Einde,7,FALSE)","v":0},1,{"$f":"VLOOKUP(Jaar&L1765,Trendfactoren!$A$2:$F$65,(HLOOKUP(F1765,Trendfactoren!$A$1:$F$2,2,FALSE)),FALSE)","v":1},0,{"$f":"+VLOOKUP(C1765,Scheepstypen!$A$1:$F$44,6,FALSE)","v":"L2"}]
["WaalM7leegop","Waal","M7","leeg","op","Fijn stof",13.694210867388977,{"$f":"VLOOKUP(A1766,Begin:Einde,7,FALSE)","v":0},1,{"$f":"VLOOKUP(Jaar&L1766,Trendfactoren!$A$2:$F$65,(HLOOKUP(F1766,Trendfactoren!$A$1:$F$2,2,FALSE)),FALSE)","v":1},0,{"$f":"+VLOOKUP(C1766,Scheepstypen!$A$1:$F$44,6,FALSE)","v":"L2"}]
["WaalM7leegop","Waal","M7","leeg","op","NOx",420.19779383803092,{"$f":"VLOOKUP(A1767,Begin:Einde,7,FALSE)","v":0},1,{"$f":"VLOOKUP(Jaar&L1767,Trendfactoren!$A$2:$F$65,(HLOOKUP(F1767,Trendfactoren!$A$1:$F$2,2,FALSE)),FALSE)","v":1},0,{"$f":"+VLOOKUP(C1767,Scheepstypen!$A$1:$F$44,6,FALSE)","v":"L2"}]
["WaalM8geladenaf","Waal","M8","geladen","af","Fijn stof",8.6481686393938144,{"$f":"VLOOKUP(A1768,Begin:Einde,7,FALSE)","v":0},1,{"$f":"VLOOKUP(Jaar&L1768,Trendfactoren!$A$2:$F$65,(HLOOKUP(F1768,Trendfactoren!$A$1:$F$2,2,FALSE)),FALSE)","v":1},0,{"$f":"+VLOOKUP(C1768,Scheepstypen!$A$1:$F$44,6,FALSE)","v":"L3"}]
["WaalM8geladenaf","Waal","M8","geladen","af","NOx",262.35238547227988,{"$f":"VLOOKUP(A1769,Begin:Einde,7,FALSE)","v":0},1,{"$f":"VLOOKUP(Jaar&L1769,Trendfactoren!$A$2:$F$65,(HLOOKUP(F1769,Trendfactoren!$A$1:$F$2,2,FALSE)),FALSE)","v":1},0,{"$f":"+VLOOKUP(C1769,Scheepstypen!$A$1:$F$44,6,FALSE)","v":"L3"}]
["WaalM8geladenop","Waal","M8","geladen","op","Fijn stof",25.799745292803436,{"$f":"VLOOKUP(A1770,Begin:Einde,7,FALSE)","v":0},1,{"$f":"VLOOKUP(Jaar&L1770,Trendfactoren!$A$2:$F$65,(HLOOKUP(F1770,Trendfactoren!$A$1:$F$2,2,FALSE)),FALSE)","v":1},0,{"$f":"+VLOOKUP(C1770,Scheepstypen!$A$1:$F$44,6,FALSE)","v":"L3"}]
["WaalM8geladenop","Waal","M8","geladen","op","NOx",799.30870535818633,{"$f":"VLOOKUP(A1771,Begin:Einde,7,FALSE)","v":0},1,{"$f":"VLOOKUP(Jaar&L1771,Trendfactoren!$A$2:$F$65,(HLOOKUP(F1771,Trendfactoren!$A$1:$F$2,2,FALSE)),FALSE)","v":1},0,{"$f":"+VLOOKUP(C1771,Scheepstypen!$A$1:$F$44,6,FALSE)","v":"L3"}]
["WaalM8leegaf","Waal","M8","leeg","af","Fijn stof",6.1696441591576532,{"$f":"VLOOKUP(A1772,Begin:Einde,7,FALSE)","v":0},1,{"$f":"VLOOKUP(Jaar&L1772,Trendfactoren!$A$2:$F$65,(HLOOKUP(F1772,Trendfactoren!$A$1:$F$2,2,FALSE)),FALSE)","v":1},0,{"$f":"+VLOOKUP(C1772,Scheepstypen!$A$1:$F$44,6,FALSE)","v":"L3"}]
["WaalM8leegaf","Waal","M8","leeg","af","NOx",181.41071219328808,{"$f":"VLOOKUP(A1773,Begin:Einde,7,FALSE)","v":0},1,{"$f":"VLOOKUP(Jaar&L1773,Trendfactoren!$A$2:$F$65,(HLOOKUP(F1773,Trendfactoren!$A$1:$F$2,2,FALSE)),FALSE)","v":1},0,{"$f":"+VLOOKUP(C1773,Scheepstypen!$A$1:$F$44,6,FALSE)","v":"L3"}]
["WaalM8leegop","Waal","M8","leeg","op","Fijn stof",17.257958084532021,{"$f":"VLOOKUP(A1774,Begin:Einde,7,FALSE)","v":0},1,{"$f":"VLOOKUP(Jaar&L1774,Trendfactoren!$A$2:$F$65,(HLOOKUP(F1774,Trendfactoren!$A$1:$F$2,2,FALSE)),FALSE)","v":1},0,{"$f":"+VLOOKUP(C1774,Scheepstypen!$A$1:$F$44,6,FALSE)","v":"L3"}]
["WaalM8leegop","Waal","M8","leeg","op","NOx",534.41843156996879,{"$f":"VLOOKUP(A1775,Begin:Einde,7,FALSE)","v":0},1,{"$f":"VLOOKUP(Jaar&L1775,Trendfactoren!$A$2:$F$65,(HLOOKUP(F1775,Trendfactoren!$A$1:$F$2,2,FALSE)),FALSE)","v":1},0,{"$f":"+VLOOKUP(C1775,Scheepstypen!$A$1:$F$44,6,FALSE)","v":"L3"}]
["WaalM9geladenaf","Waal","M9","geladen","af","Fijn stof",8.7370505009981869,{"$f":"VLOOKUP(A1776,Begin:Einde,7,FALSE)","v":0},1,{"$f":"VLOOKUP(Jaar&L1776,Trendfactoren!$A$2:$F$65,(HLOOKUP(F1776,Trendfactoren!$A$1:$F$2,2,FALSE)),FALSE)","v":1},0,{"$f":"+VLOOKUP(C1776,Scheepstypen!$A$1:$F$44,6,FALSE)","v":"L3"}]
["WaalM9geladenaf","Waal","M9","geladen","af","NOx",253.03489391040372,{"$f":"VLOOKUP(A1777,Begin:Einde,7,FALSE)","v":0},1,{"$f":"VLOOKUP(Jaar&L1777,Trendfactoren!$A$2:$F$65,(HLOOKUP(F1777,Trendfactoren!$A$1:$F$2,2,FALSE)),FALSE)","v":1},0,{"$f":"+VLOOKUP(C1777,Scheepstypen!$A$1:$F$44,6,FALSE)","v":"L3"}]
["WaalM9geladenop","Waal","M9","geladen","op","Fijn stof",28.743697886938616,{"$f":"VLOOKUP(A1778,Begin:Einde,7,FALSE)","v":0},1,{"$f":"VLOOKUP(Jaar&L1778,Trendfactoren!$A$2:$F$65,(HLOOKUP(F1778,Trendfactoren!$A$1:$F$2,2,FALSE)),FALSE)","v":1},0,{"$f":"+VLOOKUP(C1778,Scheepstypen!$A$1:$F$44,6,FALSE)","v":"L3"}]
["WaalM9geladenop","Waal","M9","geladen","op","NOx",889.11881170670893,{"$f":"VLOOKUP(A1779,Begin:Einde,7,FALSE)","v":0},1,{"$f":"VLOOKUP(Jaar&L1779,Trendfactoren!$A$2:$F$65,(HLOOKUP(F1779,Trendfactoren!$A$1:$F$2,2,FALSE)),FALSE)","v":1},0,{"$f":"+VLOOKUP(C1779,Scheepstypen!$A$1:$F$44,6,FALSE)","v":"L3"}]
["WaalM9leegaf","Waal","M9","leeg","af","Fijn stof",7.2608684455422692,{"$f":"VLOOKUP(A1780,Begin:Einde,7,FALSE)","v":0},1,{"$f":"VLOOKUP(Jaar&L1780,Trendfactoren!$A$2:$F$65,(HLOOKUP(F1780,Trendfactoren!$A$1:$F$2,2,FALSE)),FALSE)","v":1},0,{"$f":"+VLOOKUP(C1780,Scheepstypen!$A$1:$F$44,6,FALSE)","v":"L3"}]
["WaalM9leegaf","Waal","M9","leeg","af","NOx",206.48112426632073,{"$f":"VLOOKUP(A1781,Begin:Einde,7,FALSE)","v":0},1,{"$f":"VLOOKUP(Jaar&L1781,Trendfactoren!$A$2:$F$65,(HLOOKUP(F1781,Trendfactoren!$A$1:$F$2,2,FALSE)),FALSE)","v":1},0,{"$f":"+VLOOKUP(C1781,Scheepstypen!$A$1:$F$44,6,FALSE)","v":"L3"}]
["WaalM9leegop","Waal","M9","leeg","op","Fijn stof",21.068663344338685,{"$f":"VLOOKUP(A1782,Begin:Einde,7,FALSE)","v":0},1,{"$f":"VLOOKUP(Jaar&L1782,Trendfactoren!$A$2:$F$65,(HLOOKUP(F1782,Trendfactoren!$A$1:$F$2,2,FALSE)),FALSE)","v":1},{"$f":"+G1782*H1782*I1782*J1782","v":0},{"$f":"+VLOOKUP(C1782,Scheepstypen!$A$1:$F$44,6,FALSE)","v":"L3"}]
["WaalM9leegop","Waal","M9","leeg","op","NOx",649.13925055524362,{"$f":"VLOOKUP(A1783,Begin:Einde,7,FALSE)","v":0},{"$f":"+Afstand","v":1},{"$f":"VLOOKUP(Jaar&L1783,Trendfactoren!$A$2:$F$65,(HLOOKUP(F1783,Trendfactoren!$A$1:$F$2,2,FALSE)),FALSE)","v":1},0,{"$f":"+VLOOKUP(C1783,Scheepstypen!$A$1:$F$44,6,FALSE)","v":"L3"}]
["CEMT IBO1geladenbeide","CEMT I","BO1","geladen","beide","Fijn Stof",5.0489590960962412,{"$f":"VLOOKUP(A1784,Begin:Einde,7,FALSE)","v":0},{"$f":"+Afstand","v":1},{"$f":"VLOOKUP(Jaar&L1784,Trendfactoren!$A$2:$F$65,(HLOOKUP(F1784,Trendfactoren!$A$1:$F$2,2,FALSE)),FALSE)","v":1},{"$f":"+G1784*H1784*I1784*J1784","v":0},{"$f":"+VLOOKUP(C1784,Scheepstypen!$A$1:$F$44,6,FALSE)","v":"L1"}]
["CEMT IBO1geladenbeide","CEMT I","BO1","geladen","beide","NOx",151.69819578847256,{"$f":"VLOOKUP(A1785,Begin:Einde,7,FALSE)","v":0},1,{"$f":"VLOOKUP(Jaar&L1785,Trendfactoren!$A$2:$F$65,(HLOOKUP(F1785,Trendfactoren!$A$1:$F$2,2,FALSE)),FALSE)","v":1},{"$f":"+G1785*H1785*I1785*J1785","v":0},{"$f":"+VLOOKUP(C1785,Scheepstypen!$A$1:$F$44,6,FALSE)","v":"L1"}]
["CEMT IC1lgeladenbeide","CEMT I","C1l","geladen","beide","Fijn Stof",6.7413445531349296,{"$f":"VLOOKUP(A1786,Begin:Einde,7,FALSE)","v":0},1,{"$f":"VLOOKUP(Jaar&L1786,Trendfactoren!$A$2:$F$65,(HLOOKUP(F1786,Trendfactoren!$A$1:$F$2,2,FALSE)),FALSE)","v":1},0,{"$f":"+VLOOKUP(C1786,Scheepstypen!$A$1:$F$44,6,FALSE)","v":"L1"}]
["CEMT IC1lgeladenbeide","CEMT I","C1l","geladen","beide","NOx",202.5466608928777,{"$f":"VLOOKUP(A1787,Begin:Einde,7,FALSE)","v":0},1,{"$f":"VLOOKUP(Jaar&L1787,Trendfactoren!$A$2:$F$65,(HLOOKUP(F1787,Trendfactoren!$A$1:$F$2,2,FALSE)),FALSE)","v":1},0,{"$f":"+VLOOKUP(C1787,Scheepstypen!$A$1:$F$44,6,FALSE)","v":"L1"}]
["CEMT IC1lleegbeide","CEMT I","C1l","leeg","beide","Fijn Stof",3.1520119738918497,{"$f":"VLOOKUP(A1788,Begin:Einde,7,FALSE)","v":0},1,{"$f":"VLOOKUP(Jaar&L1788,Trendfactoren!$A$2:$F$65,(HLOOKUP(F1788,Trendfactoren!$A$1:$F$2,2,FALSE)),FALSE)","v":1},0,{"$f":"+VLOOKUP(C1788,Scheepstypen!$A$1:$F$44,6,FALSE)","v":"L1"}]
["CEMT IC1lleegbeide","CEMT I","C1l","leeg","beide","NOx",94.70358551978677,{"$f":"VLOOKUP(A1789,Begin:Einde,7,FALSE)","v":0},1,{"$f":"VLOOKUP(Jaar&L1789,Trendfactoren!$A$2:$F$65,(HLOOKUP(F1789,Trendfactoren!$A$1:$F$2,2,FALSE)),FALSE)","v":1},0,{"$f":"+VLOOKUP(C1789,Scheepstypen!$A$1:$F$44,6,FALSE)","v":"L1"}]
["CEMT VbBO1geladenbeide","CEMT Vb","BO1","geladen","beide","Fijn Stof",6.1817903740253977,{"$f":"VLOOKUP(A1790,Begin:Einde,7,FALSE)","v":0},1,{"$f":"VLOOKUP(Jaar&L1790,Trendfactoren!$A$2:$F$65,(HLOOKUP(F1790,Trendfactoren!$A$1:$F$2,2,FALSE)),FALSE)","v":1},0,{"$f":"+VLOOKUP(C1790,Scheepstypen!$A$1:$F$44,6,FALSE)","v":"L1"}]
["CEMT VbBO1geladenbeide","CEMT Vb","BO1","geladen","beide","NOx",185.73460957670721,{"$f":"VLOOKUP(A1791,Begin:Einde,7,FALSE)","v":0},1,{"$f":"VLOOKUP(Jaar&L1791,Trendfactoren!$A$2:$F$65,(HLOOKUP(F1791,Trendfactoren!$A$1:$F$2,2,FALSE)),FALSE)","v":1},0,{"$f":"+VLOOKUP(C1791,Scheepstypen!$A$1:$F$44,6,FALSE)","v":"L1"}]
["CEMT VIaBO1geladenbeide","CEMT VIa","BO1","geladen","beide","Fijn Stof",4.5769013677712849,{"$f":"VLOOKUP(A1792,Begin:Einde,7,FALSE)","v":0},1,{"$f":"VLOOKUP(Jaar&L1792,Trendfactoren!$A$2:$F$65,(HLOOKUP(F1792,Trendfactoren!$A$1:$F$2,2,FALSE)),FALSE)","v":1},0,{"$f":"+VLOOKUP(C1792,Scheepstypen!$A$1:$F$44,6,FALSE)","v":"L1"}]
[{"$f":"+B1793&C1793&D1793&E1793","v":"CEMT VIaBO1geladenbeide"},"CEMT VIa","BO1","geladen","beide","NOx",137.51501380344351,{"$f":"VLOOKUP(A1793,Begin:Einde,7,FALSE)","v":0},1,{"$f":"VLOOKUP(Jaar&L1793,Trendfactoren!$A$2:$F$65,(HLOOKUP(F1793,Trendfactoren!$A$1:$F$2,2,FALSE)),FALSE)","v":1},0,{"$f":"+VLOOKUP(C1793,Scheepstypen!$A$1:$F$44,6,FALSE)","v":"L1"}]
["CEMT VIaC1lleegbeide","CEMT VIa","C1l","leeg","beide","Fijn Stof",5.0049059697733655,{"$f":"VLOOKUP(A1794,Begin:Einde,7,FALSE)","v":0},1,{"$f":"VLOOKUP(Jaar&L1794,Trendfactoren!$A$2:$F$65,(HLOOKUP(F1794,Trendfactoren!$A$1:$F$2,2,FALSE)),FALSE)","v":1},0,{"$f":"+VLOOKUP(C1794,Scheepstypen!$A$1:$F$44,6,FALSE)","v":"L1"}]
["CEMT VIaC1lleegbeide","CEMT VIa","C1l","leeg","beide","NOx",150.37460024039439,{"$f":"VLOOKUP(A1795,Begin:Einde,7,FALSE)","v":0},1,{"$f":"VLOOKUP(Jaar&L1795,Trendfactoren!$A$2:$F$65,(HLOOKUP(F1795,Trendfactoren!$A$1:$F$2,2,FALSE)),FALSE)","v":1},0,{"$f":"+VLOOKUP(C1795,Scheepstypen!$A$1:$F$44,6,FALSE)","v":"L1"}]
["CEMT VIcBO1geladenbeide","CEMT VIc","BO1","geladen","beide","Fijn Stof",5.0023819345985086,{"$f":"VLOOKUP(A1796,Begin:Einde,7,FALSE)","v":0},1,{"$f":"VLOOKUP(Jaar&L1796,Trendfactoren!$A$2:$F$65,(HLOOKUP(F1796,Trendfactoren!$A$1:$F$2,2,FALSE)),FALSE)","v":1},0,{"$f":"+VLOOKUP(C1796,Scheepstypen!$A$1:$F$44,6,FALSE)","v":"L1"}]
["CEMT VIcBO1geladenbeide","CEMT VIc","BO1","geladen","beide","NOx",150.29876449388803,{"$f":"VLOOKUP(A1797,Begin:Einde,7,FALSE)","v":0},1,{"$f":"VLOOKUP(Jaar&L1797,Trendfactoren!$A$2:$F$65,(HLOOKUP(F1797,Trendfactoren!$A$1:$F$2,2,FALSE)),FALSE)","v":1},0,{"$f":"+VLOOKUP(C1797,Scheepstypen!$A$1:$F$44,6,FALSE)","v":"L1"}]
["IJsselBO1geladenaf","IJssel","BO1","geladen","af","Fijn Stof",1.2205791452854691,{"$f":"VLOOKUP(A1798,Begin:Einde,7,FALSE)","v":0},1,{"$f":"VLOOKUP(Jaar&L1798,Trendfactoren!$A$2:$F$65,(HLOOKUP(F1798,Trendfactoren!$A$1:$F$2,2,FALSE)),FALSE)","v":1},0,{"$f":"+VLOOKUP(C1798,Scheepstypen!$A$1:$F$44,6,FALSE)","v":"L1"}]
["IJsselBO1geladenaf","IJssel","BO1","geladen","af","NOx",36.672837040807778,{"$f":"VLOOKUP(A1799,Begin:Einde,7,FALSE)","v":0},1,{"$f":"VLOOKUP(Jaar&L1799,Trendfactoren!$A$2:$F$65,(HLOOKUP(F1799,Trendfactoren!$A$1:$F$2,2,FALSE)),FALSE)","v":1},0,{"$f":"+VLOOKUP(C1799,Scheepstypen!$A$1:$F$44,6,FALSE)","v":"L1"}]
["IJsselBO1geladenop","IJssel","BO1","geladen","op","Fijn Stof",10.365835861437663,{"$f":"VLOOKUP(A1800,Begin:Einde,7,FALSE)","v":0},1,{"$f":"VLOOKUP(Jaar&L1800,Trendfactoren!$A$2:$F$65,(HLOOKUP(F1800,Trendfactoren!$A$1:$F$2,2,FALSE)),FALSE)","v":1},0,{"$f":"+VLOOKUP(C1800,Scheepstypen!$A$1:$F$44,6,FALSE)","v":"L1"}]
["IJsselBO1geladenop","IJssel","BO1","geladen","op","NOx",311.44609573790194,{"$f":"VLOOKUP(A1801,Begin:Einde,7,FALSE)","v":0},1,{"$f":"VLOOKUP(Jaar&L1801,Trendfactoren!$A$2:$F$65,(HLOOKUP(F1801,Trendfactoren!$A$1:$F$2,2,FALSE)),FALSE)","v":1},0,{"$f":"+VLOOKUP(C1801,Scheepstypen!$A$1:$F$44,6,FALSE)","v":"L1"}]
["IJsselBO3geladenaf","IJssel","BO3","geladen","af","Fijn Stof",4.0971942510041952,{"$f":"VLOOKUP(A1802,Begin:Einde,7,FALSE)","v":0},1,{"$f":"VLOOKUP(Jaar&L1802,Trendfactoren!$A$2:$F$65,(HLOOKUP(F1802,Trendfactoren!$A$1:$F$2,2,FALSE)),FALSE)","v":1},0,{"$f":"+VLOOKUP(C1802,Scheepstypen!$A$1:$F$44,6,FALSE)","v":"L1"}]
["IJsselBO3geladenaf","IJssel","BO3","geladen","af","NOx",123.10200257966027,{"$f":"VLOOKUP(A1803,Begin:Einde,7,FALSE)","v":0},1,{"$f":"VLOOKUP(Jaar&L1803,Trendfactoren!$A$2:$F$65,(HLOOKUP(F1803,Trendfactoren!$A$1:$F$2,2,FALSE)),FALSE)","v":1},0,{"$f":"+VLOOKUP(C1803,Scheepstypen!$A$1:$F$44,6,FALSE)","v":"L1"}]
["IJsselC1bgeladenaf","IJssel","C1b","geladen","af","Fijn Stof",2.1325129968493877,{"$f":"VLOOKUP(A1804,Begin:Einde,7,FALSE)","v":0},1,{"$f":"VLOOKUP(Jaar&L1804,Trendfactoren!$A$2:$F$65,(HLOOKUP(F1804,Trendfactoren!$A$1:$F$2,2,FALSE)),FALSE)","v":1},0,{"$f":"+VLOOKUP(C1804,Scheepstypen!$A$1:$F$44,6,FALSE)","v":"L1"}]
["IJsselC1bgeladenaf","IJssel","C1b","geladen","af","NOx",64.072290537596857,{"$f":"VLOOKUP(A1805,Begin:Einde,7,FALSE)","v":0},1,{"$f":"VLOOKUP(Jaar&L1805,Trendfactoren!$A$2:$F$65,(HLOOKUP(F1805,Trendfactoren!$A$1:$F$2,2,FALSE)),FALSE)","v":1},0,{"$f":"+VLOOKUP(C1805,Scheepstypen!$A$1:$F$44,6,FALSE)","v":"L1"}]
["IJsselC1bgeladenop","IJssel","C1b","geladen","op","Fijn Stof",9.3348647457724212,{"$f":"VLOOKUP(A1806,Begin:Einde,7,FALSE)","v":0},1,{"$f":"VLOOKUP(Jaar&L1806,Trendfactoren!$A$2:$F$65,(HLOOKUP(F1806,Trendfactoren!$A$1:$F$2,2,FALSE)),FALSE)","v":1},0,{"$f":"+VLOOKUP(C1806,Scheepstypen!$A$1:$F$44,6,FALSE)","v":"L1"}]
["IJsselC1bgeladenop","IJssel","C1b","geladen","op","NOx",280.4701153071299,{"$f":"VLOOKUP(A1807,Begin:Einde,7,FALSE)","v":0},1,{"$f":"VLOOKUP(Jaar&L1807,Trendfactoren!$A$2:$F$65,(HLOOKUP(F1807,Trendfactoren!$A$1:$F$2,2,FALSE)),FALSE)","v":1},0,{"$f":"+VLOOKUP(C1807,Scheepstypen!$A$1:$F$44,6,FALSE)","v":"L1"}]
["IJsselC1bleegop","IJssel","C1b","leeg","op","Fijn Stof",4.8695298827398243,{"$f":"VLOOKUP(A1808,Begin:Einde,7,FALSE)","v":0},1,{"$f":"VLOOKUP(Jaar&L1808,Trendfactoren!$A$2:$F$65,(HLOOKUP(F1808,Trendfactoren!$A$1:$F$2,2,FALSE)),FALSE)","v":1},0,{"$f":"+VLOOKUP(C1808,Scheepstypen!$A$1:$F$44,6,FALSE)","v":"L1"}]
["IJsselC1bleegop","IJssel","C1b","leeg","op","NOx",146.30716618814196,{"$f":"VLOOKUP(A1809,Begin:Einde,7,FALSE)","v":0},1,{"$f":"VLOOKUP(Jaar&L1809,Trendfactoren!$A$2:$F$65,(HLOOKUP(F1809,Trendfactoren!$A$1:$F$2,2,FALSE)),FALSE)","v":1},0,{"$f":"+VLOOKUP(C1809,Scheepstypen!$A$1:$F$44,6,FALSE)","v":"L1"}]
["IJsselC1lgeladenaf","IJssel","C1l","geladen","af","Fijn Stof",5.1105569312680288,{"$f":"VLOOKUP(A1810,Begin:Einde,7,FALSE)","v":0},1,{"$f":"VLOOKUP(Jaar&L1810,Trendfactoren!$A$2:$F$65,(HLOOKUP(F1810,Trendfactoren!$A$1:$F$2,2,FALSE)),FALSE)","v":1},0,{"$f":"+VLOOKUP(C1810,Scheepstypen!$A$1:$F$44,6,FALSE)","v":"L1"}]
["IJsselC1lgeladenaf","IJssel","C1l","geladen","af","NOx",153.54892982734816,{"$f":"VLOOKUP(A1811,Begin:Einde,7,FALSE)","v":0},1,{"$f":"VLOOKUP(Jaar&L1811,Trendfactoren!$A$2:$F$65,(HLOOKUP(F1811,Trendfactoren!$A$1:$F$2,2,FALSE)),FALSE)","v":1},0,{"$f":"+VLOOKUP(C1811,Scheepstypen!$A$1:$F$44,6,FALSE)","v":"L1"}]
["IJsselC1lgeladenop","IJssel","C1l","geladen","op","Fijn Stof",5.0500969413009518,{"$f":"VLOOKUP(A1812,Begin:Einde,7,FALSE)","v":0},1,{"$f":"VLOOKUP(Jaar&L1812,Trendfactoren!$A$2:$F$65,(HLOOKUP(F1812,Trendfactoren!$A$1:$F$2,2,FALSE)),FALSE)","v":1},0,{"$f":"+VLOOKUP(C1812,Scheepstypen!$A$1:$F$44,6,FALSE)","v":"L1"}]
["IJsselC1lgeladenop","IJssel","C1l","geladen","op","NOx",151.73238284789531,{"$f":"VLOOKUP(A1813,Begin:Einde,7,FALSE)","v":0},1,{"$f":"VLOOKUP(Jaar&L1813,Trendfactoren!$A$2:$F$65,(HLOOKUP(F1813,Trendfactoren!$A$1:$F$2,2,FALSE)),FALSE)","v":1},0,{"$f":"+VLOOKUP(C1813,Scheepstypen!$A$1:$F$44,6,FALSE)","v":"L1"}]
["IJsselC1lleegaf","IJssel","C1l","leeg","af","Fijn Stof",2.0968708162287117,{"$f":"VLOOKUP(A1814,Begin:Einde,7,FALSE)","v":0},1,{"$f":"VLOOKUP(Jaar&L1814,Trendfactoren!$A$2:$F$65,(HLOOKUP(F1814,Trendfactoren!$A$1:$F$2,2,FALSE)),FALSE)","v":1},0,{"$f":"+VLOOKUP(C1814,Scheepstypen!$A$1:$F$44,6,FALSE)","v":"L1"}]
["IJsselC1lleegaf","IJssel","C1l","leeg","af","NOx",63.001405550965885,{"$f":"VLOOKUP(A1815,Begin:Einde,7,FALSE)","v":0},1,{"$f":"VLOOKUP(Jaar&L1815,Trendfactoren!$A$2:$F$65,(HLOOKUP(F1815,Trendfactoren!$A$1:$F$2,2,FALSE)),FALSE)","v":1},0,{"$f":"+VLOOKUP(C1815,Scheepstypen!$A$1:$F$44,6,FALSE)","v":"L1"}]
["IJsselC1lleegop","IJssel","C1l","leeg","op","Fijn Stof",2.8200263588287604,{"$f":"VLOOKUP(A1816,Begin:Einde,7,FALSE)","v":0},1,{"$f":"VLOOKUP(Jaar&L1816,Trendfactoren!$A$2:$F$65,(HLOOKUP(F1816,Trendfactoren!$A$1:$F$2,2,FALSE)),FALSE)","v":1},0,{"$f":"+VLOOKUP(C1816,Scheepstypen!$A$1:$F$44,6,FALSE)","v":"L1"}]
["IJsselC1lleegop","IJssel","C1l","leeg","op","NOx",84.728931759621503,{"$f":"VLOOKUP(A1817,Begin:Einde,7,FALSE)","v":0},1,{"$f":"VLOOKUP(Jaar&L1817,Trendfactoren!$A$2:$F$65,(HLOOKUP(F1817,Trendfactoren!$A$1:$F$2,2,FALSE)),FALSE)","v":1},0,{"$f":"+VLOOKUP(C1817,Scheepstypen!$A$1:$F$44,6,FALSE)","v":"L1"}]
["LekBO1geladenaf","Lek","BO1","geladen","af","Fijn Stof",1.7155029561881507,{"$f":"VLOOKUP(A1818,Begin:Einde,7,FALSE)","v":0},1,{"$f":"VLOOKUP(Jaar&L1818,Trendfactoren!$A$2:$F$65,(HLOOKUP(F1818,Trendfactoren!$A$1:$F$2,2,FALSE)),FALSE)","v":1},0,{"$f":"+VLOOKUP(C1818,Scheepstypen!$A$1:$F$44,6,FALSE)","v":"L1"}]
["LekBO1geladenaf","Lek","BO1","geladen","af","NOx",51.543040529828254,{"$f":"VLOOKUP(A1819,Begin:Einde,7,FALSE)","v":0},1,{"$f":"VLOOKUP(Jaar&L1819,Trendfactoren!$A$2:$F$65,(HLOOKUP(F1819,Trendfactoren!$A$1:$F$2,2,FALSE)),FALSE)","v":1},0,{"$f":"+VLOOKUP(C1819,Scheepstypen!$A$1:$F$44,6,FALSE)","v":"L1"}]
["LekBO1geladenop","Lek","BO1","geladen","op","Fijn Stof",8.9988979659277426,{"$f":"VLOOKUP(A1820,Begin:Einde,7,FALSE)","v":0},1,{"$f":"VLOOKUP(Jaar&L1820,Trendfactoren!$A$2:$F$65,(HLOOKUP(F1820,Trendfactoren!$A$1:$F$2,2,FALSE)),FALSE)","v":1},0,{"$f":"+VLOOKUP(C1820,Scheepstypen!$A$1:$F$44,6,FALSE)","v":"L1"}]
["LekBO1geladenop","Lek","BO1","geladen","op","NOx",270.3758457008052,{"$f":"VLOOKUP(A1821,Begin:Einde,7,FALSE)","v":0},1,{"$f":"VLOOKUP(Jaar&L1821,Trendfactoren!$A$2:$F$65,(HLOOKUP(F1821,Trendfactoren!$A$1:$F$2,2,FALSE)),FALSE)","v":1},0,{"$f":"+VLOOKUP(C1821,Scheepstypen!$A$1:$F$44,6,FALSE)","v":"L1"}]
["WaalBO1geladenaf","Waal","BO1","geladen","af","Fijn Stof",1.064013409976027,{"$f":"VLOOKUP(A1822,Begin:Einde,7,FALSE)","v":0},1,{"$f":"VLOOKUP(Jaar&L1822,Trendfactoren!$A$2:$F$65,(HLOOKUP(F1822,Trendfactoren!$A$1:$F$2,2,FALSE)),FALSE)","v":1},0,{"$f":"+VLOOKUP(C1822,Scheepstypen!$A$1:$F$44,6,FALSE)","v":"L1"}]
["WaalBO1geladenaf","Waal","BO1","geladen","af","NOx",31.968750690197108,{"$f":"VLOOKUP(A1823,Begin:Einde,7,FALSE)","v":0},1,{"$f":"VLOOKUP(Jaar&L1823,Trendfactoren!$A$2:$F$65,(HLOOKUP(F1823,Trendfactoren!$A$1:$F$2,2,FALSE)),FALSE)","v":1},0,{"$f":"+VLOOKUP(C1823,Scheepstypen!$A$1:$F$44,6,FALSE)","v":"L1"}]
["WaalBO1geladenop","Waal","BO1","geladen","op","Fijn Stof",7.8868202925498014,{"$f":"VLOOKUP(A1824,Begin:Einde,7,FALSE)","v":0},1,{"$f":"VLOOKUP(Jaar&L1824,Trendfactoren!$A$2:$F$65,(HLOOKUP(F1824,Trendfactoren!$A$1:$F$2,2,FALSE)),FALSE)","v":1},0,{"$f":"+VLOOKUP(C1824,Scheepstypen!$A$1:$F$44,6,FALSE)","v":"L1"}]
[{"$f":"+B1825&C1825&D1825&E1825","v":"WaalBO1geladenop"},"Waal","BO1","geladen","op","NOx",236.9629830855165,{"$f":"VLOOKUP(A1825,Begin:Einde,7,FALSE)","v":0},1,{"$f":"VLOOKUP(Jaar&L1825,Trendfactoren!$A$2:$F$65,(HLOOKUP(F1825,Trendfactoren!$A$1:$F$2,2,FALSE)),FALSE)","v":1},0,{"$f":"+VLOOKUP(C1825,Scheepstypen!$A$1:$F$44,6,FALSE)","v":"L1"}]
[{"$f":"+B1826&C1826&D1826&E1826","v":""},null,null,null,null,null,null,{"$f":"+SUMIF(F2:F1825,\"Nox\",H2:H1825)","v":0}]
["",null,null,null,null,null,null,{"$f":"+SUMIF(F2:F1825,\"Fijn Stof\",H2:H1825)","v":0}]
["",null,null,null,null,null,null,{"$f":"+AANTALPM10+AANTALNOX","v":0}]

{"sheet":"Emissiekarakteristieken","index":5,"n_rows":917,"n_cols":24,"rows_kept":917,"cut":false,"hidden":false,"merged":[]}
["Zoekwaarde","Pluimvaarweg","Scheepstype","Ladingstoestand","Richting","Stof","Emissiefactor (g/km)","Snelheid","Warmteoutput(MW)","Aantal","Afstand","trendfactor","GewWicht_MW","Gewicht_V","CO2_emissie","Fractie","Fractie_B","Fractie_O","Fractie_A","RecipMW_Bijdrage_Af","RecipMW_Bijdrage_Beide","RecipMW_Bijdrage_Op","RecipMW_Bijdrage_tot"]
[{"$f":"+B2&C2&D2&E2","v":"CEMT 0BIleegbeide"},"CEMT 0","BI","leeg","beide","CO2",15813.08592008815,11.97,{"$f":"+MJperkgCO2*G2/1000*H2/3600","v":0.21031404273717239},{"$f":"VLOOKUP(A2,Begin:Einde,7,FALSE)","v":0},{"$f":"+Afstand","v":1},{"$f":"VLOOKUP(Jaar&X2,Trendfactoren!$A$2:$F$65,6,FALSE)","v":1},{"$f":"+J2*I2*L2","v":0},{"$f":"+J2*H2","v":0},{"$f":"+J2*G2*K2","v":0},{"$f":"+O2/+IF($O$914>0,$O$914,1)","v":0},{"$f":"+IF(E2=\"beide\",O2,0)/IF($O$915>0,$O$915,1)","v":0},{"$f":"+IF(E2=\"op\",O2,0)/IF($O$916>0,$O$916,1)","v":0},{"$f":"+IF(E2=\"af\",O2,0)/IF($O$917>0,$O$917,1)","v":0},{"$f":"+S2/$I2","v":0},{"$f":"+Q2/$I2","v":0},{"$f":"+R2/$I2","v":0},{"$f":"+P2/I2","v":0},{"$f":"+VLOOKUP(C2,Scheepstypen!$A$1:$F$44,6,FALSE)","v":"L2"}]
["CEMT 0BII-1geladenbeide","CEMT 0","BII-1","geladen","beide","CO2",72937.216466749494,8.18,0.66291825633112311,{"$f":"VLOOKUP(A3,Begin:Einde,7,FALSE)","v":0},1,{"$f":"VLOOKUP(Jaar&X3,Trendfactoren!$A$2:$F$65,6,FALSE)","v":1},0,0,0,0,0,0,0,0,0,0,0,{"$f":"+VLOOKUP(C3,Scheepstypen!$A$1:$F$44,6,FALSE)","v":"L2"}]
["CEMT 0BII-1leegbeide","CEMT 0","BII-1","leeg","beide","CO2",35912.869131642932,13.31,0.53111143126907501,{"$f":"VLOOKUP(A4,Begin:Einde,7,FALSE)","v":0},1,{"$f":"VLOOKUP(Jaar&X4,Trendfactoren!$A$2:$F$65,6,FALSE)","v":1},0,0,0,0,0,0,0,0,0,0,0,{"$f":"+VLOOKUP(C4,Scheepstypen!$A$1:$F$44,6,FALSE)","v":"L2"}]
["CEMT 0BII-2Bgeladenbeide","CEMT 0","BII-2B","geladen","beide","CO2",226680.39279333368,5.8,1.4608291980014838,{"$f":"VLOOKUP(A5,Begin:Einde,7,FALSE)","v":0},1,{"$f":"VLOOKUP(Jaar&X5,Trendfactoren!$A$2:$F$65,6,FALSE)","v":1},0,0,0,0,0,0,0,0,0,0,0,{"$f":"+VLOOKUP(C5,Scheepstypen!$A$1:$F$44,6,FALSE)","v":"L3"}]
["CEMT 0BII-2Bleegbeide","CEMT 0","BII-2B","leeg","beide","CO2",37997.078828018588,8.92,0.37659327016213978,{"$f":"VLOOKUP(A6,Begin:Einde,7,FALSE)","v":0},1,{"$f":"VLOOKUP(Jaar&X6,Trendfactoren!$A$2:$F$65,6,FALSE)","v":1},0,0,0,0,0,0,0,0,0,0,0,{"$f":"+VLOOKUP(C6,Scheepstypen!$A$1:$F$44,6,FALSE)","v":"L3"}]
["CEMT 0BII-2Lgeladenbeide","CEMT 0","BII-2L","geladen","beide","CO2",76735.998945246785,8.6,0.73325510103235814,{"$f":"VLOOKUP(A7,Begin:Einde,7,FALSE)","v":0},1,{"$f":"VLOOKUP(Jaar&X7,Trendfactoren!$A$2:$F$65,6,FALSE)","v":1},0,0,0,0,0,0,0,0,0,0,0,{"$f":"+VLOOKUP(C7,Scheepstypen!$A$1:$F$44,6,FALSE)","v":"L3"}]
["CEMT 0BII-2Lleegbeide","CEMT 0","BII-2L","leeg","beide","CO2",23579.117894548348,9.58,0.25098661047752574,{"$f":"VLOOKUP(A8,Begin:Einde,7,FALSE)","v":0},1,{"$f":"VLOOKUP(Jaar&X8,Trendfactoren!$A$2:$F$65,6,FALSE)","v":1},0,0,0,0,0,0,0,0,0,0,0,{"$f":"+VLOOKUP(C8,Scheepstypen!$A$1:$F$44,6,FALSE)","v":"L3"}]
["CEMT 0BII-4leegbeide","CEMT 0","BII-4","leeg","beide","CO2",43659.224906027193,5.91,0.28669557688291186,{"$f":"VLOOKUP(A9,Begin:Einde,7,FALSE)","v":0},1,{"$f":"VLOOKUP(Jaar&X9,Trendfactoren!$A$2:$F$65,6,FALSE)","v":1},0,0,0,0,0,0,0,0,0,0,0,{"$f":"+VLOOKUP(C9,Scheepstypen!$A$1:$F$44,6,FALSE)","v":"L3"}]
["CEMT 0BO1geladenbeide","CEMT 0","BO1","geladen","beide","CO2",17550.282074368544,8.8000000000000007,0.17160275806049241,{"$f":"VLOOKUP(A10,Begin:Einde,7,FALSE)","v":0},1,{"$f":"VLOOKUP(Jaar&X10,Trendfactoren!$A$2:$F$65,6,FALSE)","v":1},0,0,0,0,0,0,0,0,0,0,0,{"$f":"+VLOOKUP(C10,Scheepstypen!$A$1:$F$44,6,FALSE)","v":"L1"}]
["CEMT 0BO1leegbeide","CEMT 0","BO1","leeg","beide","CO2",5256.5346595074343,11.54,6.7400455523017544E-2,{"$f":"VLOOKUP(A11,Begin:Einde,7,FALSE)","v":0},1,{"$f":"VLOOKUP(Jaar&X11,Trendfactoren!$A$2:$F$65,6,FALSE)","v":1},0,0,0,0,0,0,0,0,0,0,0,{"$f":"+VLOOKUP(C11,Scheepstypen!$A$1:$F$44,6,FALSE)","v":"L1"}]
["CEMT 0BO2geladenbeide","CEMT 0","BO2","geladen","beide","CO2",25180.839498007044,9.1999999999999993,0.25740413709073867,{"$f":"VLOOKUP(A12,Begin:Einde,7,FALSE)","v":0},1,{"$f":"VLOOKUP(Jaar&X12,Trendfactoren!$A$2:$F$65,6,FALSE)","v":1},0,0,0,0,0,0,0,0,0,0,0,{"$f":"+VLOOKUP(C12,Scheepstypen!$A$1:$F$44,6,FALSE)","v":"L1"}]
["CEMT 0BO2leegbeide","CEMT 0","BO2","leeg","beide","CO2",6177.5093662770551,10.06,6.9050826916385755E-2,{"$f":"VLOOKUP(A13,Begin:Einde,7,FALSE)","v":0},1,{"$f":"VLOOKUP(Jaar&X13,Trendfactoren!$A$2:$F$65,6,FALSE)","v":1},0,0,0,0,0,0,0,0,0,0,0,{"$f":"+VLOOKUP(C13,Scheepstypen!$A$1:$F$44,6,FALSE)","v":"L1"}]
["CEMT 0BO3leegbeide","CEMT 0","BO3","leeg","beide","CO2",7961.3230185030643,10.5,9.2882101882535748E-2,{"$f":"VLOOKUP(A14,Begin:Einde,7,FALSE)","v":0},1,{"$f":"VLOOKUP(Jaar&X14,Trendfactoren!$A$2:$F$65,6,FALSE)","v":1},0,0,0,0,0,0,0,0,0,0,0,{"$f":"+VLOOKUP(C14,Scheepstypen!$A$1:$F$44,6,FALSE)","v":"L1"}]
["CEMT 0BO4geladenbeide","CEMT 0","BO4","geladen","beide","CO2",59394.206353372916,7.52,0.49627159086373807,{"$f":"VLOOKUP(A15,Begin:Einde,7,FALSE)","v":0},1,{"$f":"VLOOKUP(Jaar&X15,Trendfactoren!$A$2:$F$65,6,FALSE)","v":1},0,0,0,0,0,0,0,0,0,0,0,{"$f":"+VLOOKUP(C15,Scheepstypen!$A$1:$F$44,6,FALSE)","v":"L1"}]
["CEMT 0BO4leegbeide","CEMT 0","BO4","leeg","beide","CO2",7411.8500121525158,9.08,7.4777331233716493E-2,{"$f":"VLOOKUP(A16,Begin:Einde,7,FALSE)","v":0},1,{"$f":"VLOOKUP(Jaar&X16,Trendfactoren!$A$2:$F$65,6,FALSE)","v":1},0,0,0,0,0,0,0,0,0,0,0,{"$f":"+VLOOKUP(C16,Scheepstypen!$A$1:$F$44,6,FALSE)","v":"L1"}]
["CEMT 0C2bgeladenbeide","CEMT 0","C2b","geladen","beide","CO2",50310.588511337861,4.8,0.26832313872713526,{"$f":"VLOOKUP(A17,Begin:Einde,7,FALSE)","v":0},1,{"$f":"VLOOKUP(Jaar&X17,Trendfactoren!$A$2:$F$65,6,FALSE)","v":1},0,0,0,0,0,0,0,0,0,0,0,{"$f":"+VLOOKUP(C17,Scheepstypen!$A$1:$F$44,6,FALSE)","v":"L2"}]
["CEMT 0C2bleegbeide","CEMT 0","C2b","leeg","beide","CO2",19902.261900919861,7.44,0.16452536504760421,{"$f":"VLOOKUP(A18,Begin:Einde,7,FALSE)","v":0},1,{"$f":"VLOOKUP(Jaar&X18,Trendfactoren!$A$2:$F$65,6,FALSE)","v":1},0,0,0,0,0,0,0,0,0,0,0,{"$f":"+VLOOKUP(C18,Scheepstypen!$A$1:$F$44,6,FALSE)","v":"L2"}]
["CEMT 0C2lgeladenbeide","CEMT 0","C2l","geladen","beide","CO2",15614.329636846925,5.4,9.3685977821081554E-2,{"$f":"VLOOKUP(A19,Begin:Einde,7,FALSE)","v":0},1,{"$f":"VLOOKUP(Jaar&X19,Trendfactoren!$A$2:$F$65,6,FALSE)","v":1},0,0,0,0,0,0,0,0,0,0,0,{"$f":"+VLOOKUP(C19,Scheepstypen!$A$1:$F$44,6,FALSE)","v":"L2"}]
["CEMT 0C2lleegbeide","CEMT 0","C2l","leeg","beide","CO2",12982.955894001971,7.92,0.11425001186721732,{"$f":"VLOOKUP(A20,Begin:Einde,7,FALSE)","v":0},1,{"$f":"VLOOKUP(Jaar&X20,Trendfactoren!$A$2:$F$65,6,FALSE)","v":1},0,0,0,0,0,0,0,0,0,0,0,{"$f":"+VLOOKUP(C20,Scheepstypen!$A$1:$F$44,6,FALSE)","v":"L2"}]
["CEMT 0C3bgeladenbeide","CEMT 0","C3b","geladen","beide","CO2",153826.95210992527,3.7,0.6323996920074707,{"$f":"VLOOKUP(A21,Begin:Einde,7,FALSE)","v":0},1,{"$f":"VLOOKUP(Jaar&X21,Trendfactoren!$A$2:$F$65,6,FALSE)","v":1},0,0,0,0,0,0,0,0,0,0,0,{"$f":"+VLOOKUP(C21,Scheepstypen!$A$1:$F$44,6,FALSE)","v":"L3"}]
["CEMT 0C3lgeladenbeide","CEMT 0","C3l","geladen","beide","CO2",53164.440928337208,6.44,0.38042111064276846,{"$f":"VLOOKUP(A22,Begin:Einde,7,FALSE)","v":0},1,{"$f":"VLOOKUP(Jaar&X22,Trendfactoren!$A$2:$F$65,6,FALSE)","v":1},0,0,0,0,0,0,0,0,0,0,0,{"$f":"+VLOOKUP(C22,Scheepstypen!$A$1:$F$44,6,FALSE)","v":"L3"}]
["CEMT 0C3lleegbeide","CEMT 0","C3l","leeg","beide","CO2",20774.004189923493,8.56,0.19758386207305009,{"$f":"VLOOKUP(A23,Begin:Einde,7,FALSE)","v":0},1,{"$f":"VLOOKUP(Jaar&X23,Trendfactoren!$A$2:$F$65,6,FALSE)","v":1},0,0,0,0,0,0,0,0,0,0,0,{"$f":"+VLOOKUP(C23,Scheepstypen!$A$1:$F$44,6,FALSE)","v":"L3"}]
["CEMT 0C4geladenbeide","CEMT 0","C4","geladen","beide","CO2",417636.02503884386,5.19,2.4083677443906661,{"$f":"VLOOKUP(A24,Begin:Einde,7,FALSE)","v":0},1,{"$f":"VLOOKUP(Jaar&X24,Trendfactoren!$A$2:$F$65,6,FALSE)","v":1},0,0,0,0,0,0,0,0,0,0,0,{"$f":"+VLOOKUP(C24,Scheepstypen!$A$1:$F$44,6,FALSE)","v":"L3"}]
["CEMT 0M0geladenbeide","CEMT 0","M0","geladen","beide","CO2",3569.6561854875636,11.1,4.4025759621013287E-2,{"$f":"VLOOKUP(A25,Begin:Einde,7,FALSE)","v":0},1,{"$f":"VLOOKUP(Jaar&X25,Trendfactoren!$A$2:$F$65,6,FALSE)","v":1},0,0,0,0,0,0,0,0,0,0,0,{"$f":"+VLOOKUP(C25,Scheepstypen!$A$1:$F$44,6,FALSE)","v":"L1"}]
["CEMT 0M0leegbeide","CEMT 0","M0","leeg","beide","CO2",1614.1528952399935,10.26,1.8401343005735926E-2,{"$f":"VLOOKUP(A26,Begin:Einde,7,FALSE)","v":0},1,{"$f":"VLOOKUP(Jaar&X26,Trendfactoren!$A$2:$F$65,6,FALSE)","v":1},0,0,0,0,0,0,0,0,0,0,0,{"$f":"+VLOOKUP(C26,Scheepstypen!$A$1:$F$44,6,FALSE)","v":"L1"}]
["CEMT 0M1geladenbeide","CEMT 0","M1","geladen","beide","CO2",14958.159382593607,9.66,0.16055091070650471,{"$f":"VLOOKUP(A27,Begin:Einde,7,FALSE)","v":0},1,{"$f":"VLOOKUP(Jaar&X27,Trendfactoren!$A$2:$F$65,6,FALSE)","v":1},0,0,0,0,0,0,0,0,0,0,0,{"$f":"+VLOOKUP(C27,Scheepstypen!$A$1:$F$44,6,FALSE)","v":"L1"}]
["CEMT 0M1leegbeide","CEMT 0","M1","leeg","beide","CO2",3855.9883600128792,12.15,5.2055842860173875E-2,{"$f":"VLOOKUP(A28,Begin:Einde,7,FALSE)","v":0},1,{"$f":"VLOOKUP(Jaar&X28,Trendfactoren!$A$2:$F$65,6,FALSE)","v":1},0,0,0,0,0,0,0,0,0,0,0,{"$f":"+VLOOKUP(C28,Scheepstypen!$A$1:$F$44,6,FALSE)","v":"L1"}]
["CEMT 0M10geladenbeide","CEMT 0","M10","geladen","beide","CO2",130614.29764077469,8,1.1610159790291084,{"$f":"VLOOKUP(A29,Begin:Einde,7,FALSE)","v":0},1,{"$f":"VLOOKUP(Jaar&X29,Trendfactoren!$A$2:$F$65,6,FALSE)","v":1},0,0,0,0,0,0,0,0,0,0,0,{"$f":"+VLOOKUP(C29,Scheepstypen!$A$1:$F$44,6,FALSE)","v":"L3"}]
["CEMT 0M10leegbeide","CEMT 0","M10","leeg","beide","CO2",24397.510866239852,9.6999999999999993,0.26295095044725175,{"$f":"VLOOKUP(A30,Begin:Einde,7,FALSE)","v":0},1,{"$f":"VLOOKUP(Jaar&X30,Trendfactoren!$A$2:$F$65,6,FALSE)","v":1},0,0,0,0,0,0,0,0,0,0,0,{"$f":"+VLOOKUP(C30,Scheepstypen!$A$1:$F$44,6,FALSE)","v":"L3"}]
["CEMT 0M11leegbeide","CEMT 0","M11","leeg","beide","CO2",19009.98212177827,8.1999999999999993,0.17320205933175759,{"$f":"VLOOKUP(A31,Begin:Einde,7,FALSE)","v":0},1,{"$f":"VLOOKUP(Jaar&X31,Trendfactoren!$A$2:$F$65,6,FALSE)","v":1},0,0,0,0,0,0,0,0,0,0,0,{"$f":"+VLOOKUP(C31,Scheepstypen!$A$1:$F$44,6,FALSE)","v":"L3"}]
["CEMT 0M12geladenbeide","CEMT 0","M12","geladen","beide","CO2",118710.9586996416,7.5,0.98925798916368002,{"$f":"VLOOKUP(A32,Begin:Einde,7,FALSE)","v":0},1,{"$f":"VLOOKUP(Jaar&X32,Trendfactoren!$A$2:$F$65,6,FALSE)","v":1},0,0,0,0,0,0,0,0,0,0,0,{"$f":"+VLOOKUP(C32,Scheepstypen!$A$1:$F$44,6,FALSE)","v":"L3"}]
["CEMT 0M2geladenbeide","CEMT 0","M2","geladen","beide","CO2",11091.405722401094,8.26,0.10179445696337003,{"$f":"VLOOKUP(A33,Begin:Einde,7,FALSE)","v":0},1,{"$f":"VLOOKUP(Jaar&X33,Trendfactoren!$A$2:$F$65,6,FALSE)","v":1},0,0,0,0,0,0,0,0,0,0,0,{"$f":"+VLOOKUP(C33,Scheepstypen!$A$1:$F$44,6,FALSE)","v":"L1"}]
["CEMT 0M2leegbeide","CEMT 0","M2","leeg","beide","CO2",16699.791531163602,14.38,0.26682555802014735,{"$f":"VLOOKUP(A34,Begin:Einde,7,FALSE)","v":0},1,{"$f":"VLOOKUP(Jaar&X34,Trendfactoren!$A$2:$F$65,6,FALSE)","v":1},0,0,0,0,0,0,0,0,0,0,0,{"$f":"+VLOOKUP(C34,Scheepstypen!$A$1:$F$44,6,FALSE)","v":"L1"}]
["CEMT 0M3geladenbeide","CEMT 0","M3","geladen","beide","CO2",13540.180701927715,8.02,0.12065805469940029,{"$f":"VLOOKUP(A35,Begin:Einde,7,FALSE)","v":0},1,{"$f":"VLOOKUP(Jaar&X35,Trendfactoren!$A$2:$F$65,6,FALSE)","v":1},0,0,0,0,0,0,0,0,0,0,0,{"$f":"+VLOOKUP(C35,Scheepstypen!$A$1:$F$44,6,FALSE)","v":"L1"}]
["CEMT 0M3leegbeide","CEMT 0","M3","leeg","beide","CO2",4719.3101925129295,8.52,4.4676136489122401E-2,{"$f":"VLOOKUP(A36,Begin:Einde,7,FALSE)","v":0},1,{"$f":"VLOOKUP(Jaar&X36,Trendfactoren!$A$2:$F$65,6,FALSE)","v":1},0,0,0,0,0,0,0,0,0,0,0,{"$f":"+VLOOKUP(C36,Scheepstypen!$A$1:$F$44,6,FALSE)","v":"L1"}]
["CEMT 0M4geladenbeide","CEMT 0","M4","geladen","beide","CO2",23698.959217470845,10.36,0.27280135276999767,{"$f":"VLOOKUP(A37,Begin:Einde,7,FALSE)","v":0},1,{"$f":"VLOOKUP(Jaar&X37,Trendfactoren!$A$2:$F$65,6,FALSE)","v":1},0,0,0,0,0,0,0,0,0,0,0,{"$f":"+VLOOKUP(C37,Scheepstypen!$A$1:$F$44,6,FALSE)","v":"L1"}]
["CEMT 0M4leegbeide","CEMT 0","M4","leeg","beide","CO2",9277.2493698046219,9.7899999999999991,0.10091585703376359,{"$f":"VLOOKUP(A38,Begin:Einde,7,FALSE)","v":0},1,{"$f":"VLOOKUP(Jaar&X38,Trendfactoren!$A$2:$F$65,6,FALSE)","v":1},0,0,0,0,0,0,0,0,0,0,0,{"$f":"+VLOOKUP(C38,Scheepstypen!$A$1:$F$44,6,FALSE)","v":"L1"}]
["CEMT 0M5geladenbeide","CEMT 0","M5","geladen","beide","CO2",18989.24793947782,8.1300000000000008,0.17153620638661632,{"$f":"VLOOKUP(A39,Begin:Einde,7,FALSE)","v":0},1,{"$f":"VLOOKUP(Jaar&X39,Trendfactoren!$A$2:$F$65,6,FALSE)","v":1},0,0,0,0,0,0,0,0,0,0,0,{"$f":"+VLOOKUP(C39,Scheepstypen!$A$1:$F$44,6,FALSE)","v":"L2"}]
["CEMT 0M5leegbeide","CEMT 0","M5","leeg","beide","CO2",2587.4643490652757,5.32,1.5294789263363629E-2,{"$f":"VLOOKUP(A40,Begin:Einde,7,FALSE)","v":0},1,{"$f":"VLOOKUP(Jaar&X40,Trendfactoren!$A$2:$F$65,6,FALSE)","v":1},0,0,0,0,0,0,0,0,0,0,0,{"$f":"+VLOOKUP(C40,Scheepstypen!$A$1:$F$44,6,FALSE)","v":"L2"}]
["CEMT 0M6geladenbeide","CEMT 0","M6","geladen","beide","CO2",28204.326178946707,8.74,0.27389534533777138,{"$f":"VLOOKUP(A41,Begin:Einde,7,FALSE)","v":0},1,{"$f":"VLOOKUP(Jaar&X41,Trendfactoren!$A$2:$F$65,6,FALSE)","v":1},0,0,0,0,0,0,0,0,0,0,0,{"$f":"+VLOOKUP(C41,Scheepstypen!$A$1:$F$44,6,FALSE)","v":"L2"}]
["CEMT 0M6leegbeide","CEMT 0","M6","leeg","beide","CO2",12947.40895410908,10.61,0.15263556555899704,{"$f":"VLOOKUP(A42,Begin:Einde,7,FALSE)","v":0},1,{"$f":"VLOOKUP(Jaar&X42,Trendfactoren!$A$2:$F$65,6,FALSE)","v":1},0,0,0,0,0,0,0,0,0,0,0,{"$f":"+VLOOKUP(C42,Scheepstypen!$A$1:$F$44,6,FALSE)","v":"L2"}]
["CEMT 0M7geladenbeide","CEMT 0","M7","geladen","beide","CO2",42533.120704607943,8.51,0.40217428577357067,{"$f":"VLOOKUP(A43,Begin:Einde,7,FALSE)","v":0},1,{"$f":"VLOOKUP(Jaar&X43,Trendfactoren!$A$2:$F$65,6,FALSE)","v":1},0,0,0,0,0,0,0,0,0,0,0,{"$f":"+VLOOKUP(C43,Scheepstypen!$A$1:$F$44,6,FALSE)","v":"L2"}]
["CEMT 0M7leegbeide","CEMT 0","M7","leeg","beide","CO2",3646.3799621529588,4.9800000000000004,2.0176635790579708E-2,{"$f":"VLOOKUP(A44,Begin:Einde,7,FALSE)","v":0},1,{"$f":"VLOOKUP(Jaar&X44,Trendfactoren!$A$2:$F$65,6,FALSE)","v":1},0,0,0,0,0,0,0,0,0,0,0,{"$f":"+VLOOKUP(C44,Scheepstypen!$A$1:$F$44,6,FALSE)","v":"L2"}]
["CEMT 0M8geladenbeide","CEMT 0","M8","geladen","beide","CO2",45533.974149922018,7.21,0.36477772624548638,{"$f":"VLOOKUP(A45,Begin:Einde,7,FALSE)","v":0},1,{"$f":"VLOOKUP(Jaar&X45,Trendfactoren!$A$2:$F$65,6,FALSE)","v":1},0,0,0,0,0,0,0,0,0,0,0,{"$f":"+VLOOKUP(C45,Scheepstypen!$A$1:$F$44,6,FALSE)","v":"L3"}]
["CEMT 0M8leegbeide","CEMT 0","M8","leeg","beide","CO2",15816.838421481772,8.8800000000000008,0.15605947242528684,{"$f":"VLOOKUP(A46,Begin:Einde,7,FALSE)","v":0},1,{"$f":"VLOOKUP(Jaar&X46,Trendfactoren!$A$2:$F$65,6,FALSE)","v":1},0,0,0,0,0,0,0,0,0,0,0,{"$f":"+VLOOKUP(C46,Scheepstypen!$A$1:$F$44,6,FALSE)","v":"L3"}]
["CEMT 0M9geladenbeide","CEMT 0","M9","geladen","beide","CO2",36125.568738620204,6.42,0.25769572366882409,{"$f":"VLOOKUP(A47,Begin:Einde,7,FALSE)","v":0},1,{"$f":"VLOOKUP(Jaar&X47,Trendfactoren!$A$2:$F$65,6,FALSE)","v":1},0,0,0,0,0,0,0,0,0,0,0,{"$f":"+VLOOKUP(C47,Scheepstypen!$A$1:$F$44,6,FALSE)","v":"L3"}]
["CEMT 0M9leegbeide","CEMT 0","M9","leeg","beide","CO2",18528.766431409698,8.3000000000000007,0.17087640153411168,{"$f":"VLOOKUP(A48,Begin:Einde,7,FALSE)","v":0},1,{"$f":"VLOOKUP(Jaar&X48,Trendfactoren!$A$2:$F$65,6,FALSE)","v":1},0,0,0,0,0,0,0,0,0,0,0,{"$f":"+VLOOKUP(C48,Scheepstypen!$A$1:$F$44,6,FALSE)","v":"L3"}]
["CEMT IBIgeladenbeide","CEMT I","BI","geladen","beide","CO2",65606.270984782968,10.3,0.75082732349251624,{"$f":"VLOOKUP(A49,Begin:Einde,7,FALSE)","v":0},1,{"$f":"VLOOKUP(Jaar&X49,Trendfactoren!$A$2:$F$65,6,FALSE)","v":1},0,0,0,0,0,0,0,0,0,0,0,{"$f":"+VLOOKUP(C49,Scheepstypen!$A$1:$F$44,6,FALSE)","v":"L2"}]
["CEMT IBIleegbeide","CEMT I","BI","leeg","beide","CO2",15613.357829158274,10.62,0.18423762238406763,{"$f":"VLOOKUP(A50,Begin:Einde,7,FALSE)","v":0},1,{"$f":"VLOOKUP(Jaar&X50,Trendfactoren!$A$2:$F$65,6,FALSE)","v":1},0,0,0,0,0,0,0,0,0,0,0,{"$f":"+VLOOKUP(C50,Scheepstypen!$A$1:$F$44,6,FALSE)","v":"L2"}]
["CEMT IBII-1geladenbeide","CEMT I","BII-1","geladen","beide","CO2",24728.190070603541,4.25,0.11677200866673895,{"$f":"VLOOKUP(A51,Begin:Einde,7,FALSE)","v":0},1,{"$f":"VLOOKUP(Jaar&X51,Trendfactoren!$A$2:$F$65,6,FALSE)","v":1},0,0,0,0,0,0,0,0,0,0,0,{"$f":"+VLOOKUP(C51,Scheepstypen!$A$1:$F$44,6,FALSE)","v":"L2"}]
["CEMT IBII-1leegbeide","CEMT I","BII-1","leeg","beide","CO2",31450.685486158389,10.210000000000001,0.35679055423741907,{"$f":"VLOOKUP(A52,Begin:Einde,7,FALSE)","v":0},1,{"$f":"VLOOKUP(Jaar&X52,Trendfactoren!$A$2:$F$65,6,FALSE)","v":1},0,0,0,0,0,0,0,0,0,0,0,{"$f":"+VLOOKUP(C52,Scheepstypen!$A$1:$F$44,6,FALSE)","v":"L2"}]
["CEMT IBII-2Bleegbeide","CEMT I","BII-2B","leeg","beide","CO2",32513.478440760453,7.75,0.27997717546210388,{"$f":"VLOOKUP(A53,Begin:Einde,7,FALSE)","v":0},1,{"$f":"VLOOKUP(Jaar&X53,Trendfactoren!$A$2:$F$65,6,FALSE)","v":1},0,0,0,0,0,0,0,0,0,0,0,{"$f":"+VLOOKUP(C53,Scheepstypen!$A$1:$F$44,6,FALSE)","v":"L3"}]
["CEMT IBII-2Lgeladenbeide","CEMT I","BII-2L","geladen","beide","CO2",24515.307485571859,4.05,0.11031888368507337,{"$f":"VLOOKUP(A54,Begin:Einde,7,FALSE)","v":0},1,{"$f":"VLOOKUP(Jaar&X54,Trendfactoren!$A$2:$F$65,6,FALSE)","v":1},0,0,0,0,0,0,0,0,0,0,0,{"$f":"+VLOOKUP(C54,Scheepstypen!$A$1:$F$44,6,FALSE)","v":"L3"}]
["CEMT IBII-2Lleegbeide","CEMT I","BII-2L","leeg","beide","CO2",32869.166408155346,9.5399999999999991,0.34841316392644661,{"$f":"VLOOKUP(A55,Begin:Einde,7,FALSE)","v":0},1,{"$f":"VLOOKUP(Jaar&X55,Trendfactoren!$A$2:$F$65,6,FALSE)","v":1},0,0,0,0,0,0,0,0,0,0,0,{"$f":"+VLOOKUP(C55,Scheepstypen!$A$1:$F$44,6,FALSE)","v":"L3"}]
["CEMT IBO1leegbeide","CEMT I","BO1","leeg","beide","CO2",6555.8472093351966,11.78,8.5808755695520683E-2,{"$f":"VLOOKUP(A56,Begin:Einde,7,FALSE)","v":0},1,{"$f":"VLOOKUP(Jaar&X56,Trendfactoren!$A$2:$F$65,6,FALSE)","v":1},0,0,0,0,0,0,0,0,0,0,0,{"$f":"+VLOOKUP(C56,Scheepstypen!$A$1:$F$44,6,FALSE)","v":"L1"}]
["CEMT IBO2geladenbeide","CEMT I","BO2","geladen","beide","CO2",12691.453229802357,6.89,9.7160125281486945E-2,{"$f":"VLOOKUP(A57,Begin:Einde,7,FALSE)","v":0},1,{"$f":"VLOOKUP(Jaar&X57,Trendfactoren!$A$2:$F$65,6,FALSE)","v":1},0,0,0,0,0,0,0,0,0,0,0,{"$f":"+VLOOKUP(C57,Scheepstypen!$A$1:$F$44,6,FALSE)","v":"L1"}]
["CEMT IBO2leegbeide","CEMT I","BO2","leeg","beide","CO2",7552.7546805424181,10.82,9.0800895159409964E-2,{"$f":"VLOOKUP(A58,Begin:Einde,7,FALSE)","v":0},1,{"$f":"VLOOKUP(Jaar&X58,Trendfactoren!$A$2:$F$65,6,FALSE)","v":1},0,0,0,0,0,0,0,0,0,0,0,{"$f":"+VLOOKUP(C58,Scheepstypen!$A$1:$F$44,6,FALSE)","v":"L1"}]
["CEMT IBO3geladenbeide","CEMT I","BO3","geladen","beide","CO2",13663.583864250462,2.82,4.2812562774651446E-2,{"$f":"VLOOKUP(A59,Begin:Einde,7,FALSE)","v":0},1,{"$f":"VLOOKUP(Jaar&X59,Trendfactoren!$A$2:$F$65,6,FALSE)","v":1},0,0,0,0,0,0,0,0,0,0,0,{"$f":"+VLOOKUP(C59,Scheepstypen!$A$1:$F$44,6,FALSE)","v":"L1"}]
["CEMT IBO3leegbeide","CEMT I","BO3","leeg","beide","CO2",9487.9364109535727,10.3,0.10858416114757978,{"$f":"VLOOKUP(A60,Begin:Einde,7,FALSE)","v":0},1,{"$f":"VLOOKUP(Jaar&X60,Trendfactoren!$A$2:$F$65,6,FALSE)","v":1},0,0,0,0,0,0,0,0,0,0,0,{"$f":"+VLOOKUP(C60,Scheepstypen!$A$1:$F$44,6,FALSE)","v":"L1"}]
["CEMT IBO4geladenbeide","CEMT I","BO4","geladen","beide","CO2",15185.718503917669,5.91,9.9719551509059368E-2,{"$f":"VLOOKUP(A61,Begin:Einde,7,FALSE)","v":0},1,{"$f":"VLOOKUP(Jaar&X61,Trendfactoren!$A$2:$F$65,6,FALSE)","v":1},0,0,0,0,0,0,0,0,0,0,0,{"$f":"+VLOOKUP(C61,Scheepstypen!$A$1:$F$44,6,FALSE)","v":"L1"}]
["CEMT IBO4leegbeide","CEMT I","BO4","leeg","beide","CO2",10869.974146149365,9.73,0.11751649826892592,{"$f":"VLOOKUP(A62,Begin:Einde,7,FALSE)","v":0},1,{"$f":"VLOOKUP(Jaar&X62,Trendfactoren!$A$2:$F$65,6,FALSE)","v":1},0,0,0,0,0,0,0,0,0,0,0,{"$f":"+VLOOKUP(C62,Scheepstypen!$A$1:$F$44,6,FALSE)","v":"L1"}]
["CEMT IC1bleegbeide","CEMT I","C1b","leeg","beide","CO2",11438.587522506617,14,0.17793358368343626,{"$f":"VLOOKUP(A63,Begin:Einde,7,FALSE)","v":0},1,{"$f":"VLOOKUP(Jaar&X63,Trendfactoren!$A$2:$F$65,6,FALSE)","v":1},0,0,0,0,0,0,0,0,0,0,0,{"$f":"+VLOOKUP(C63,Scheepstypen!$A$1:$F$44,6,FALSE)","v":"L1"}]
["CEMT IC3lgeladenbeide","CEMT I","C3l","geladen","beide","CO2",28087.935059070624,3.97,{"$f":"+MJperkgCO2*G64/1000*H64/3600","v":0.12389900242723376},{"$f":"VLOOKUP(A64,Begin:Einde,7,FALSE)","v":0},{"$f":"+Afstand","v":1},{"$f":"VLOOKUP(Jaar&X64,Trendfactoren!$A$2:$F$65,6,FALSE)","v":1},0,{"$f":"+J64*H64","v":0},0,0,0,0,0,{"$f":"+S64/$I64","v":0},{"$f":"+Q64/$I64","v":0},{"$f":"+R64/$I64","v":0},0,{"$f":"+VLOOKUP(C64,Scheepstypen!$A$1:$F$44,6,FALSE)","v":"L3"}]
[{"$f":"+B65&C65&D65&E65","v":"CEMT IC3lleegbeide"},"CEMT I","C3l","leeg","beide","CO2",27382.024263540381,8.48,0.25799951750535827,{"$f":"VLOOKUP(A65,Begin:Einde,7,FALSE)","v":0},1,{"$f":"VLOOKUP(Jaar&X65,Trendfactoren!$A$2:$F$65,6,FALSE)","v":1},{"$f":"+J65*I65*L65","v":0},0,{"$f":"+J65*G65*K65","v":0},0,0,0,0,0,0,0,{"$f":"+P65/I65","v":0},{"$f":"+VLOOKUP(C65,Scheepstypen!$A$1:$F$44,6,FALSE)","v":"L3"}]
["CEMT IC4geladenbeide","CEMT I","C4","geladen","beide","CO2",9188.3742171801368,0.9,9.1883742171801376E-3,{"$f":"VLOOKUP(A66,Begin:Einde,7,FALSE)","v":0},1,{"$f":"VLOOKUP(Jaar&X66,Trendfactoren!$A$2:$F$65,6,FALSE)","v":1},0,0,0,{"$f":"+O66/+IF($O$914>0,$O$914,1)","v":0},{"$f":"+IF(E66=\"beide\",O66,0)/IF($O$915>0,$O$915,1)","v":0},{"$f":"+IF(E66=\"op\",O66,0)/IF($O$916>0,$O$916,1)","v":0},{"$f":"+IF(E66=\"af\",O66,0)/IF($O$917>0,$O$917,1)","v":0},0,0,0,0,{"$f":"+VLOOKUP(C66,Scheepstypen!$A$1:$F$44,6,FALSE)","v":"L3"}]
["CEMT IM0geladenbeide","CEMT I","M0","geladen","beide","CO2",3582.7887069612975,10.17,4.0485512388662659E-2,{"$f":"VLOOKUP(A67,Begin:Einde,7,FALSE)","v":0},1,{"$f":"VLOOKUP(Jaar&X67,Trendfactoren!$A$2:$F$65,6,FALSE)","v":1},0,0,0,0,0,0,0,0,0,0,0,{"$f":"+VLOOKUP(C67,Scheepstypen!$A$1:$F$44,6,FALSE)","v":"L1"}]
["CEMT IM0leegbeide","CEMT I","M0","leeg","beide","CO2",1306.1918109112112,8.48,1.2307229507252302E-2,{"$f":"VLOOKUP(A68,Begin:Einde,7,FALSE)","v":0},1,{"$f":"VLOOKUP(Jaar&X68,Trendfactoren!$A$2:$F$65,6,FALSE)","v":1},0,0,0,0,0,0,0,0,0,0,0,{"$f":"+VLOOKUP(C68,Scheepstypen!$A$1:$F$44,6,FALSE)","v":"L1"}]
["CEMT IM1geladenbeide","CEMT I","M1","geladen","beide","CO2",4439.1926746601193,6.16,3.0383807639895927E-2,{"$f":"VLOOKUP(A69,Begin:Einde,7,FALSE)","v":0},1,{"$f":"VLOOKUP(Jaar&X69,Trendfactoren!$A$2:$F$65,6,FALSE)","v":1},0,0,0,0,0,0,0,0,0,0,0,{"$f":"+VLOOKUP(C69,Scheepstypen!$A$1:$F$44,6,FALSE)","v":"L1"}]
["CEMT IM1leegbeide","CEMT I","M1","leeg","beide","CO2",2886.6190949834518,9.4600000000000009,3.0341574042826065E-2,{"$f":"VLOOKUP(A70,Begin:Einde,7,FALSE)","v":0},1,{"$f":"VLOOKUP(Jaar&X70,Trendfactoren!$A$2:$F$65,6,FALSE)","v":1},0,0,0,0,0,0,0,0,0,0,0,{"$f":"+VLOOKUP(C70,Scheepstypen!$A$1:$F$44,6,FALSE)","v":"L1"}]
["CEMT IM10leegbeide","CEMT I","M10","leeg","beide","CO2",20423.889521772053,8.6999999999999993,0.1974309320437965,{"$f":"VLOOKUP(A71,Begin:Einde,7,FALSE)","v":0},1,{"$f":"VLOOKUP(Jaar&X71,Trendfactoren!$A$2:$F$65,6,FALSE)","v":1},0,0,0,0,0,0,0,0,0,0,0,{"$f":"+VLOOKUP(C71,Scheepstypen!$A$1:$F$44,6,FALSE)","v":"L3"}]
["CEMT IM11geladenbeide","CEMT I","M11","geladen","beide","CO2",22941.111475826776,2.93,7.468606291574717E-2,{"$f":"VLOOKUP(A72,Begin:Einde,7,FALSE)","v":0},1,{"$f":"VLOOKUP(Jaar&X72,Trendfactoren!$A$2:$F$65,6,FALSE)","v":1},0,0,0,0,0,0,0,0,0,0,0,{"$f":"+VLOOKUP(C72,Scheepstypen!$A$1:$F$44,6,FALSE)","v":"L3"}]
["CEMT IM2geladenbeide","CEMT I","M2","geladen","beide","CO2",6303.5045000388336,5.52,3.866149426690485E-2,{"$f":"VLOOKUP(A73,Begin:Einde,7,FALSE)","v":0},1,{"$f":"VLOOKUP(Jaar&X73,Trendfactoren!$A$2:$F$65,6,FALSE)","v":1},0,0,0,0,0,0,0,0,0,0,0,{"$f":"+VLOOKUP(C73,Scheepstypen!$A$1:$F$44,6,FALSE)","v":"L1"}]
["CEMT IM2leegbeide","CEMT I","M2","leeg","beide","CO2",4268.3025090052834,8.85,4.1971641338551954E-2,{"$f":"VLOOKUP(A74,Begin:Einde,7,FALSE)","v":0},1,{"$f":"VLOOKUP(Jaar&X74,Trendfactoren!$A$2:$F$65,6,FALSE)","v":1},0,0,0,0,0,0,0,0,0,0,0,{"$f":"+VLOOKUP(C74,Scheepstypen!$A$1:$F$44,6,FALSE)","v":"L1"}]
["CEMT IM3geladenbeide","CEMT I","M3","geladen","beide","CO2",20718.736568896635,13.03,0.29996126388080352,{"$f":"VLOOKUP(A75,Begin:Einde,7,FALSE)","v":0},1,{"$f":"VLOOKUP(Jaar&X75,Trendfactoren!$A$2:$F$65,6,FALSE)","v":1},0,0,0,0,0,0,0,0,0,0,0,{"$f":"+VLOOKUP(C75,Scheepstypen!$A$1:$F$44,6,FALSE)","v":"L1"}]
["CEMT IM3leegbeide","CEMT I","M3","leeg","beide","CO2",11153.753354152886,12.18,0.15094746205953574,{"$f":"VLOOKUP(A76,Begin:Einde,7,FALSE)","v":0},1,{"$f":"VLOOKUP(Jaar&X76,Trendfactoren!$A$2:$F$65,6,FALSE)","v":1},0,0,0,0,0,0,0,0,0,0,0,{"$f":"+VLOOKUP(C76,Scheepstypen!$A$1:$F$44,6,FALSE)","v":"L1"}]
["CEMT IM4geladenbeide","CEMT I","M4","geladen","beide","CO2",28375.702385084653,11.66,0.36762298867787452,{"$f":"VLOOKUP(A77,Begin:Einde,7,FALSE)","v":0},1,{"$f":"VLOOKUP(Jaar&X77,Trendfactoren!$A$2:$F$65,6,FALSE)","v":1},0,0,0,0,0,0,0,0,0,0,0,{"$f":"+VLOOKUP(C77,Scheepstypen!$A$1:$F$44,6,FALSE)","v":"L1"}]
["CEMT IM4leegbeide","CEMT I","M4","leeg","beide","CO2",17802.612810723953,14.32,0.28325935049951889,{"$f":"VLOOKUP(A78,Begin:Einde,7,FALSE)","v":0},1,{"$f":"VLOOKUP(Jaar&X78,Trendfactoren!$A$2:$F$65,6,FALSE)","v":1},0,0,0,0,0,0,0,0,0,0,0,{"$f":"+VLOOKUP(C78,Scheepstypen!$A$1:$F$44,6,FALSE)","v":"L1"}]
["CEMT IM5geladenbeide","CEMT I","M5","geladen","beide","CO2",21134.557886425944,7.9,0.18551445255862775,{"$f":"VLOOKUP(A79,Begin:Einde,7,FALSE)","v":0},1,{"$f":"VLOOKUP(Jaar&X79,Trendfactoren!$A$2:$F$65,6,FALSE)","v":1},0,0,0,0,0,0,0,0,0,0,0,{"$f":"+VLOOKUP(C79,Scheepstypen!$A$1:$F$44,6,FALSE)","v":"L2"}]
["CEMT IM5leegbeide","CEMT I","M5","leeg","beide","CO2",2711.5549161801609,5.33,1.6058430781378065E-2,{"$f":"VLOOKUP(A80,Begin:Einde,7,FALSE)","v":0},1,{"$f":"VLOOKUP(Jaar&X80,Trendfactoren!$A$2:$F$65,6,FALSE)","v":1},0,0,0,0,0,0,0,0,0,0,0,{"$f":"+VLOOKUP(C80,Scheepstypen!$A$1:$F$44,6,FALSE)","v":"L2"}]
["CEMT IM6geladenbeide","CEMT I","M6","geladen","beide","CO2",25923.98603453852,7.81,0.22496258992193979,{"$f":"VLOOKUP(A81,Begin:Einde,7,FALSE)","v":0},1,{"$f":"VLOOKUP(Jaar&X81,Trendfactoren!$A$2:$F$65,6,FALSE)","v":1},0,0,0,0,0,0,0,0,0,0,0,{"$f":"+VLOOKUP(C81,Scheepstypen!$A$1:$F$44,6,FALSE)","v":"L2"}]
["CEMT IM6leegbeide","CEMT I","M6","leeg","beide","CO2",12899.023685817501,10.220000000000001,0.14647558007672762,{"$f":"VLOOKUP(A82,Begin:Einde,7,FALSE)","v":0},1,{"$f":"VLOOKUP(Jaar&X82,Trendfactoren!$A$2:$F$65,6,FALSE)","v":1},0,0,0,0,0,0,0,0,0,0,0,{"$f":"+VLOOKUP(C82,Scheepstypen!$A$1:$F$44,6,FALSE)","v":"L2"}]
["CEMT IM7geladenbeide","CEMT I","M7","geladen","beide","CO2",48847.5767983927,9.02,0.48956126969055797,{"$f":"VLOOKUP(A83,Begin:Einde,7,FALSE)","v":0},1,{"$f":"VLOOKUP(Jaar&X83,Trendfactoren!$A$2:$F$65,6,FALSE)","v":1},0,0,0,0,0,0,0,0,0,0,0,{"$f":"+VLOOKUP(C83,Scheepstypen!$A$1:$F$44,6,FALSE)","v":"L2"}]
["CEMT IM7leegbeide","CEMT I","M7","leeg","beide","CO2",3906.1117179019957,5.03,2.1830824378941158E-2,{"$f":"VLOOKUP(A84,Begin:Einde,7,FALSE)","v":0},1,{"$f":"VLOOKUP(Jaar&X84,Trendfactoren!$A$2:$F$65,6,FALSE)","v":1},0,0,0,0,0,0,0,0,0,0,0,{"$f":"+VLOOKUP(C84,Scheepstypen!$A$1:$F$44,6,FALSE)","v":"L2"}]
["CEMT IM8geladenbeide","CEMT I","M8","geladen","beide","CO2",62826.465278389442,7.01,0.48934835733501109,{"$f":"VLOOKUP(A85,Begin:Einde,7,FALSE)","v":0},1,{"$f":"VLOOKUP(Jaar&X85,Trendfactoren!$A$2:$F$65,6,FALSE)","v":1},0,0,0,0,0,0,0,0,0,0,0,{"$f":"+VLOOKUP(C85,Scheepstypen!$A$1:$F$44,6,FALSE)","v":"L3"}]
["CEMT IM8leegbeide","CEMT I","M8","leeg","beide","CO2",17157.513304358861,8.6199999999999992,0.16433084964841485,{"$f":"VLOOKUP(A86,Begin:Einde,7,FALSE)","v":0},1,{"$f":"VLOOKUP(Jaar&X86,Trendfactoren!$A$2:$F$65,6,FALSE)","v":1},0,0,0,0,0,0,0,0,0,0,0,{"$f":"+VLOOKUP(C86,Scheepstypen!$A$1:$F$44,6,FALSE)","v":"L3"}]
["CEMT IM9geladenbeide","CEMT I","M9","geladen","beide","CO2",20306.182777771348,4.1900000000000004,9.4536562043179936E-2,{"$f":"VLOOKUP(A87,Begin:Einde,7,FALSE)","v":0},1,{"$f":"VLOOKUP(Jaar&X87,Trendfactoren!$A$2:$F$65,6,FALSE)","v":1},0,0,0,0,0,0,0,0,0,0,0,{"$f":"+VLOOKUP(C87,Scheepstypen!$A$1:$F$44,6,FALSE)","v":"L3"}]
["CEMT IM9leegbeide","CEMT I","M9","leeg","beide","CO2",24844.60596474311,8.5500000000000007,0.23602375666505956,{"$f":"VLOOKUP(A88,Begin:Einde,7,FALSE)","v":0},1,{"$f":"VLOOKUP(Jaar&X88,Trendfactoren!$A$2:$F$65,6,FALSE)","v":1},0,0,0,0,0,0,0,0,0,0,0,{"$f":"+VLOOKUP(C88,Scheepstypen!$A$1:$F$44,6,FALSE)","v":"L3"}]
["CEMT IIBIgeladenbeide","CEMT II","BI","geladen","beide","CO2",8689.1148645089816,3.77,3.6397736710220958E-2,{"$f":"VLOOKUP(A89,Begin:Einde,7,FALSE)","v":0},1,{"$f":"VLOOKUP(Jaar&X89,Trendfactoren!$A$2:$F$65,6,FALSE)","v":1},0,0,0,0,0,0,0,0,0,0,0,{"$f":"+VLOOKUP(C89,Scheepstypen!$A$1:$F$44,6,FALSE)","v":"L2"}]
["CEMT IIBIleegbeide","CEMT II","BI","leeg","beide","CO2",4311.690028714278,4.93,2.3618479823957095E-2,{"$f":"VLOOKUP(A90,Begin:Einde,7,FALSE)","v":0},1,{"$f":"VLOOKUP(Jaar&X90,Trendfactoren!$A$2:$F$65,6,FALSE)","v":1},0,0,0,0,0,0,0,0,0,0,0,{"$f":"+VLOOKUP(C90,Scheepstypen!$A$1:$F$44,6,FALSE)","v":"L2"}]
["CEMT IIBII-1geladenbeide","CEMT II","BII-1","geladen","beide","CO2",19663.806822965173,4.1100000000000003,8.9798051158207645E-2,{"$f":"VLOOKUP(A91,Begin:Einde,7,FALSE)","v":0},1,{"$f":"VLOOKUP(Jaar&X91,Trendfactoren!$A$2:$F$65,6,FALSE)","v":1},0,0,0,0,0,0,0,0,0,0,0,{"$f":"+VLOOKUP(C91,Scheepstypen!$A$1:$F$44,6,FALSE)","v":"L2"}]
["CEMT IIBII-1leegbeide","CEMT II","BII-1","leeg","beide","CO2",41837.982185349239,12.35,0.57411008887673676,{"$f":"VLOOKUP(A92,Begin:Einde,7,FALSE)","v":0},1,{"$f":"VLOOKUP(Jaar&X92,Trendfactoren!$A$2:$F$65,6,FALSE)","v":1},0,0,0,0,0,0,0,0,0,0,0,{"$f":"+VLOOKUP(C92,Scheepstypen!$A$1:$F$44,6,FALSE)","v":"L2"}]
["CEMT IIBII-2Bgeladenbeide","CEMT II","BII-2B","geladen","beide","CO2",7660.9527881104232,0.89,7.5758310904647519E-3,{"$f":"VLOOKUP(A93,Begin:Einde,7,FALSE)","v":0},1,{"$f":"VLOOKUP(Jaar&X93,Trendfactoren!$A$2:$F$65,6,FALSE)","v":1},0,0,0,0,0,0,0,0,0,0,0,{"$f":"+VLOOKUP(C93,Scheepstypen!$A$1:$F$44,6,FALSE)","v":"L3"}]
["CEMT IIBII-2Bleegbeide","CEMT II","BII-2B","leeg","beide","CO2",41805.356910218987,9.16,0.42548563255289551,{"$f":"VLOOKUP(A94,Begin:Einde,7,FALSE)","v":0},1,{"$f":"VLOOKUP(Jaar&X94,Trendfactoren!$A$2:$F$65,6,FALSE)","v":1},0,0,0,0,0,0,0,0,0,0,0,{"$f":"+VLOOKUP(C94,Scheepstypen!$A$1:$F$44,6,FALSE)","v":"L3"}]
["CEMT IIBII-2Lgeladenbeide","CEMT II","BII-2L","geladen","beide","CO2",18141.713018229646,4.16,8.3855029062039246E-2,{"$f":"VLOOKUP(A95,Begin:Einde,7,FALSE)","v":0},1,{"$f":"VLOOKUP(Jaar&X95,Trendfactoren!$A$2:$F$65,6,FALSE)","v":1},0,0,0,0,0,0,0,0,0,0,0,{"$f":"+VLOOKUP(C95,Scheepstypen!$A$1:$F$44,6,FALSE)","v":"L3"}]
["CEMT IIBII-2Lleegbeide","CEMT II","BII-2L","leeg","beide","CO2",38373.38421742084,10.9,0.46474431996654131,{"$f":"VLOOKUP(A96,Begin:Einde,7,FALSE)","v":0},1,{"$f":"VLOOKUP(Jaar&X96,Trendfactoren!$A$2:$F$65,6,FALSE)","v":1},0,0,0,0,0,0,0,0,0,0,0,{"$f":"+VLOOKUP(C96,Scheepstypen!$A$1:$F$44,6,FALSE)","v":"L3"}]
["CEMT IIBII-4leegbeide","CEMT II","BII-4","leeg","beide","CO2",54465.779067845862,9.8000000000000007,0.59307181651654395,{"$f":"VLOOKUP(A97,Begin:Einde,7,FALSE)","v":0},1,{"$f":"VLOOKUP(Jaar&X97,Trendfactoren!$A$2:$F$65,6,FALSE)","v":1},0,0,0,0,0,0,0,0,0,0,0,{"$f":"+VLOOKUP(C97,Scheepstypen!$A$1:$F$44,6,FALSE)","v":"L3"}]
["CEMT IIBII-6Bleegbeide","CEMT II","BII-6B","leeg","beide","CO2",134171.39018764792,8.2899999999999991,1.2358675829506678,{"$f":"VLOOKUP(A98,Begin:Einde,7,FALSE)","v":0},1,{"$f":"VLOOKUP(Jaar&X98,Trendfactoren!$A$2:$F$65,6,FALSE)","v":1},0,0,0,0,0,0,0,0,0,0,0,{"$f":"+VLOOKUP(C98,Scheepstypen!$A$1:$F$44,6,FALSE)","v":"L3"}]
["CEMT IIBII-6Lgeladenbeide","CEMT II","BII-6L","geladen","beide","CO2",286312.09336328693,7.08,2.2523218011245238,{"$f":"VLOOKUP(A99,Begin:Einde,7,FALSE)","v":0},1,{"$f":"VLOOKUP(Jaar&X99,Trendfactoren!$A$2:$F$65,6,FALSE)","v":1},0,0,0,0,0,0,0,0,0,0,0,{"$f":"+VLOOKUP(C99,Scheepstypen!$A$1:$F$44,6,FALSE)","v":"L3"}]
["CEMT IIBO1geladenbeide","CEMT II","BO1","geladen","beide","CO2",11517.946849013082,10,0.12797718721125648,{"$f":"VLOOKUP(A100,Begin:Einde,7,FALSE)","v":0},1,{"$f":"VLOOKUP(Jaar&X100,Trendfactoren!$A$2:$F$65,6,FALSE)","v":1},0,0,0,0,0,0,0,0,0,0,0,{"$f":"+VLOOKUP(C100,Scheepstypen!$A$1:$F$44,6,FALSE)","v":"L1"}]
["CEMT IIBO1leegbeide","CEMT II","BO1","leeg","beide","CO2",6365.9921567108813,11.13,7.8726103004657891E-2,{"$f":"VLOOKUP(A101,Begin:Einde,7,FALSE)","v":0},1,{"$f":"VLOOKUP(Jaar&X101,Trendfactoren!$A$2:$F$65,6,FALSE)","v":1},0,0,0,0,0,0,0,0,0,0,0,{"$f":"+VLOOKUP(C101,Scheepstypen!$A$1:$F$44,6,FALSE)","v":"L1"}]
["CEMT IIBO2geladenbeide","CEMT II","BO2","geladen","beide","CO2",14619.131329677673,7.65,0.12426261630226022,{"$f":"VLOOKUP(A102,Begin:Einde,7,FALSE)","v":0},1,{"$f":"VLOOKUP(Jaar&X102,Trendfactoren!$A$2:$F$65,6,FALSE)","v":1},0,0,0,0,0,0,0,0,0,0,0,{"$f":"+VLOOKUP(C102,Scheepstypen!$A$1:$F$44,6,FALSE)","v":"L1"}]
["CEMT IIBO2leegbeide","CEMT II","BO2","leeg","beide","CO2",8686.7651090730869,11.53,0.11128711300845855,{"$f":"VLOOKUP(A103,Begin:Einde,7,FALSE)","v":0},1,{"$f":"VLOOKUP(Jaar&X103,Trendfactoren!$A$2:$F$65,6,FALSE)","v":1},0,0,0,0,0,0,0,0,0,0,0,{"$f":"+VLOOKUP(C103,Scheepstypen!$A$1:$F$44,6,FALSE)","v":"L1"}]
["CEMT IIBO3geladenbeide","CEMT II","BO3","geladen","beide","CO2",15766.046983677266,7.27,0.12735462396814859,{"$f":"VLOOKUP(A104,Begin:Einde,7,FALSE)","v":0},1,{"$f":"VLOOKUP(Jaar&X104,Trendfactoren!$A$2:$F$65,6,FALSE)","v":1},0,0,0,0,0,0,0,0,0,0,0,{"$f":"+VLOOKUP(C104,Scheepstypen!$A$1:$F$44,6,FALSE)","v":"L1"}]
["CEMT IIBO3leegbeide","CEMT II","BO3","leeg","beide","CO2",10755.953903389631,12.35,0.14759558967429107,{"$f":"VLOOKUP(A105,Begin:Einde,7,FALSE)","v":0},1,{"$f":"VLOOKUP(Jaar&X105,Trendfactoren!$A$2:$F$65,6,FALSE)","v":1},0,0,0,0,0,0,0,0,0,0,0,{"$f":"+VLOOKUP(C105,Scheepstypen!$A$1:$F$44,6,FALSE)","v":"L1"}]
["CEMT IIBO4geladenbeide","CEMT II","BO4","geladen","beide","CO2",25914.164056378238,7.48,0.21537549682412135,{"$f":"VLOOKUP(A106,Begin:Einde,7,FALSE)","v":0},1,{"$f":"VLOOKUP(Jaar&X106,Trendfactoren!$A$2:$F$65,6,FALSE)","v":1},0,0,0,0,0,0,0,0,0,0,0,{"$f":"+VLOOKUP(C106,Scheepstypen!$A$1:$F$44,6,FALSE)","v":"L1"}]
["CEMT IIBO4leegbeide","CEMT II","BO4","leeg","beide","CO2",15119.351292780642,11.23,0.18865590557547401,{"$f":"VLOOKUP(A107,Begin:Einde,7,FALSE)","v":0},1,{"$f":"VLOOKUP(Jaar&X107,Trendfactoren!$A$2:$F$65,6,FALSE)","v":1},0,0,0,0,0,0,0,0,0,0,0,{"$f":"+VLOOKUP(C107,Scheepstypen!$A$1:$F$44,6,FALSE)","v":"L1"}]
["CEMT IIC1bgeladenbeide","CEMT II","C1b","geladen","beide","CO2",11732.842601934668,5.58,7.2743624131994936E-2,{"$f":"VLOOKUP(A108,Begin:Einde,7,FALSE)","v":0},1,{"$f":"VLOOKUP(Jaar&X108,Trendfactoren!$A$2:$F$65,6,FALSE)","v":1},0,0,0,0,0,0,0,0,0,0,0,{"$f":"+VLOOKUP(C108,Scheepstypen!$A$1:$F$44,6,FALSE)","v":"L1"}]
["CEMT IIC1bleegbeide","CEMT II","C1b","leeg","beide","CO2",12483.268812013397,11.26,0.15617956313696763,{"$f":"VLOOKUP(A109,Begin:Einde,7,FALSE)","v":0},1,{"$f":"VLOOKUP(Jaar&X109,Trendfactoren!$A$2:$F$65,6,FALSE)","v":1},0,0,0,0,0,0,0,0,0,0,0,{"$f":"+VLOOKUP(C109,Scheepstypen!$A$1:$F$44,6,FALSE)","v":"L1"}]
["CEMT IIC1lgeladenbeide","CEMT II","C1l","geladen","beide","CO2",11952.127227897949,7.97,0.10584272667371848,{"$f":"VLOOKUP(A110,Begin:Einde,7,FALSE)","v":0},1,{"$f":"VLOOKUP(Jaar&X110,Trendfactoren!$A$2:$F$65,6,FALSE)","v":1},0,0,0,0,0,0,0,0,0,0,0,{"$f":"+VLOOKUP(C110,Scheepstypen!$A$1:$F$44,6,FALSE)","v":"L1"}]
["CEMT IIC1lleegbeide","CEMT II","C1l","leeg","beide","CO2",5832.6851718054468,8.33,5.3984741645710412E-2,{"$f":"VLOOKUP(A111,Begin:Einde,7,FALSE)","v":0},1,{"$f":"VLOOKUP(Jaar&X111,Trendfactoren!$A$2:$F$65,6,FALSE)","v":1},0,0,0,0,0,0,0,0,0,0,0,{"$f":"+VLOOKUP(C111,Scheepstypen!$A$1:$F$44,6,FALSE)","v":"L1"}]
["CEMT IIC2bgeladenbeide","CEMT II","C2b","geladen","beide","CO2",11607.909047950054,2.1,2.7085121111883461E-2,{"$f":"VLOOKUP(A112,Begin:Einde,7,FALSE)","v":0},1,{"$f":"VLOOKUP(Jaar&X112,Trendfactoren!$A$2:$F$65,6,FALSE)","v":1},0,0,0,0,0,0,0,0,0,0,0,{"$f":"+VLOOKUP(C112,Scheepstypen!$A$1:$F$44,6,FALSE)","v":"L2"}]
["CEMT IIC2bleegbeide","CEMT II","C2b","leeg","beide","CO2",26054.028806549373,7.51,0.21740639593020641,{"$f":"VLOOKUP(A113,Begin:Einde,7,FALSE)","v":0},1,{"$f":"VLOOKUP(Jaar&X113,Trendfactoren!$A$2:$F$65,6,FALSE)","v":1},0,0,0,0,0,0,0,0,0,0,0,{"$f":"+VLOOKUP(C113,Scheepstypen!$A$1:$F$44,6,FALSE)","v":"L2"}]
["CEMT IIC2lgeladenbeide","CEMT II","C2l","geladen","beide","CO2",34741.746324240834,6.66,0.25708892279938222,{"$f":"VLOOKUP(A114,Begin:Einde,7,FALSE)","v":0},1,{"$f":"VLOOKUP(Jaar&X114,Trendfactoren!$A$2:$F$65,6,FALSE)","v":1},0,0,0,0,0,0,0,0,0,0,0,{"$f":"+VLOOKUP(C114,Scheepstypen!$A$1:$F$44,6,FALSE)","v":"L2"}]
["CEMT IIC2lleegbeide","CEMT II","C2l","leeg","beide","CO2",19146.162044093635,8.16,0.17359186919978228,{"$f":"VLOOKUP(A115,Begin:Einde,7,FALSE)","v":0},1,{"$f":"VLOOKUP(Jaar&X115,Trendfactoren!$A$2:$F$65,6,FALSE)","v":1},0,0,0,0,0,0,0,0,0,0,0,{"$f":"+VLOOKUP(C115,Scheepstypen!$A$1:$F$44,6,FALSE)","v":"L2"}]
["CEMT IIC3bgeladenbeide","CEMT II","C3b","geladen","beide","CO2",10173.462316885285,0.9,1.0173462316885287E-2,{"$f":"VLOOKUP(A116,Begin:Einde,7,FALSE)","v":0},1,{"$f":"VLOOKUP(Jaar&X116,Trendfactoren!$A$2:$F$65,6,FALSE)","v":1},0,0,0,0,0,0,0,0,0,0,0,{"$f":"+VLOOKUP(C116,Scheepstypen!$A$1:$F$44,6,FALSE)","v":"L3"}]
["CEMT IIC3bleegbeide","CEMT II","C3b","leeg","beide","CO2",31410.094177274364,8.3000000000000007,0.28967086852375246,{"$f":"VLOOKUP(A117,Begin:Einde,7,FALSE)","v":0},1,{"$f":"VLOOKUP(Jaar&X117,Trendfactoren!$A$2:$F$65,6,FALSE)","v":1},0,0,0,0,0,0,0,0,0,0,0,{"$f":"+VLOOKUP(C117,Scheepstypen!$A$1:$F$44,6,FALSE)","v":"L3"}]
["CEMT IIC3lgeladenbeide","CEMT II","C3l","geladen","beide","CO2",18795.767290895907,4.18,8.7295896973272086E-2,{"$f":"VLOOKUP(A118,Begin:Einde,7,FALSE)","v":0},1,{"$f":"VLOOKUP(Jaar&X118,Trendfactoren!$A$2:$F$65,6,FALSE)","v":1},0,0,0,0,0,0,0,0,0,0,0,{"$f":"+VLOOKUP(C118,Scheepstypen!$A$1:$F$44,6,FALSE)","v":"L3"}]
["CEMT IIC3lleegbeide","CEMT II","C3l","leeg","beide","CO2",31704.312508891755,10.5,0.36988364593707046,{"$f":"VLOOKUP(A119,Begin:Einde,7,FALSE)","v":0},1,{"$f":"VLOOKUP(Jaar&X119,Trendfactoren!$A$2:$F$65,6,FALSE)","v":1},0,0,0,0,0,0,0,0,0,0,0,{"$f":"+VLOOKUP(C119,Scheepstypen!$A$1:$F$44,6,FALSE)","v":"L3"}]
["CEMT IIC4geladenbeide","CEMT II","C4","geladen","beide","CO2",5750.9959100639471,0.89,5.6870959555076813E-3,{"$f":"VLOOKUP(A120,Begin:Einde,7,FALSE)","v":0},1,{"$f":"VLOOKUP(Jaar&X120,Trendfactoren!$A$2:$F$65,6,FALSE)","v":1},0,0,0,0,0,0,0,0,0,0,0,{"$f":"+VLOOKUP(C120,Scheepstypen!$A$1:$F$44,6,FALSE)","v":"L3"}]
["CEMT IIM0geladenbeide","CEMT II","M0","geladen","beide","CO2",3480.3143185389276,9.35,3.6156598753709968E-2,{"$f":"VLOOKUP(A121,Begin:Einde,7,FALSE)","v":0},1,{"$f":"VLOOKUP(Jaar&X121,Trendfactoren!$A$2:$F$65,6,FALSE)","v":1},0,0,0,0,0,0,0,0,0,0,0,{"$f":"+VLOOKUP(C121,Scheepstypen!$A$1:$F$44,6,FALSE)","v":"L1"}]
["CEMT IIM0leegbeide","CEMT II","M0","leeg","beide","CO2",436.21725435351112,4.92,2.3846543237991944E-3,{"$f":"VLOOKUP(A122,Begin:Einde,7,FALSE)","v":0},1,{"$f":"VLOOKUP(Jaar&X122,Trendfactoren!$A$2:$F$65,6,FALSE)","v":1},0,0,0,0,0,0,0,0,0,0,0,{"$f":"+VLOOKUP(C122,Scheepstypen!$A$1:$F$44,6,FALSE)","v":"L1"}]
["CEMT IIM1geladenbeide","CEMT II","M1","geladen","beide","CO2",6065.7672761378135,6.76,4.5560651985212912E-2,{"$f":"VLOOKUP(A123,Begin:Einde,7,FALSE)","v":0},1,{"$f":"VLOOKUP(Jaar&X123,Trendfactoren!$A$2:$F$65,6,FALSE)","v":1},0,0,0,0,0,0,0,0,0,0,0,{"$f":"+VLOOKUP(C123,Scheepstypen!$A$1:$F$44,6,FALSE)","v":"L1"}]
["CEMT IIM1leegbeide","CEMT II","M1","leeg","beide","CO2",2712.1386952365465,7.9,2.3806550769298575E-2,{"$f":"VLOOKUP(A124,Begin:Einde,7,FALSE)","v":0},1,{"$f":"VLOOKUP(Jaar&X124,Trendfactoren!$A$2:$F$65,6,FALSE)","v":1},0,0,0,0,0,0,0,0,0,0,0,{"$f":"+VLOOKUP(C124,Scheepstypen!$A$1:$F$44,6,FALSE)","v":"L1"}]
["CEMT IIM10geladenbeide","CEMT II","M10","geladen","beide","CO2",19672.971458145534,3.52,7.6943177258524745E-2,{"$f":"VLOOKUP(A125,Begin:Einde,7,FALSE)","v":0},1,{"$f":"VLOOKUP(Jaar&X125,Trendfactoren!$A$2:$F$65,6,FALSE)","v":1},0,0,0,0,0,0,0,0,0,0,0,{"$f":"+VLOOKUP(C125,Scheepstypen!$A$1:$F$44,6,FALSE)","v":"L3"}]
["CEMT IIM10leegbeide","CEMT II","M10","leeg","beide","CO2",25656.970949560557,8.16,0.23262320327601571,{"$f":"VLOOKUP(A126,Begin:Einde,7,FALSE)","v":0},1,{"$f":"VLOOKUP(Jaar&X126,Trendfactoren!$A$2:$F$65,6,FALSE)","v":1},0,0,0,0,0,0,0,0,0,0,0,{"$f":"+VLOOKUP(C126,Scheepstypen!$A$1:$F$44,6,FALSE)","v":"L3"}]
["CEMT IIM11geladenbeide","CEMT II","M11","geladen","beide","CO2",16656.808708380315,3.6,6.6627234833521259E-2,{"$f":"VLOOKUP(A127,Begin:Einde,7,FALSE)","v":0},1,{"$f":"VLOOKUP(Jaar&X127,Trendfactoren!$A$2:$F$65,6,FALSE)","v":1},0,0,0,0,0,0,0,0,0,0,0,{"$f":"+VLOOKUP(C127,Scheepstypen!$A$1:$F$44,6,FALSE)","v":"L3"}]
["CEMT IIM11leegbeide","CEMT II","M11","leeg","beide","CO2",32707.599107686467,7.67,{"$f":"+MJperkgCO2*G128/1000*H128/3600","v":0.27874142795106133},{"$f":"VLOOKUP(A128,Begin:Einde,7,FALSE)","v":0},{"$f":"+Afstand","v":1},{"$f":"VLOOKUP(Jaar&X128,Trendfactoren!$A$2:$F$65,6,FALSE)","v":1},0,{"$f":"+J128*H128","v":0},0,0,0,0,0,{"$f":"+S128/$I128","v":0},{"$f":"+Q128/$I128","v":0},{"$f":"+R128/$I128","v":0},0,{"$f":"+VLOOKUP(C128,Scheepstypen!$A$1:$F$44,6,FALSE)","v":"L3"}]
[{"$f":"+B129&C129&D129&E129","v":"CEMT IIM12geladenbeide"},"CEMT II","M12","geladen","beide","CO2",13423.18667332826,2.6,3.8778094834059418E-2,{"$f":"VLOOKUP(A129,Begin:Einde,7,FALSE)","v":0},1,{"$f":"VLOOKUP(Jaar&X129,Trendfactoren!$A$2:$F$65,6,FALSE)","v":1},{"$f":"+J129*I129*L129","v":0},0,{"$f":"+J129*G129*K129","v":0},0,0,0,0,0,0,0,{"$f":"+P129/I129","v":0},{"$f":"+VLOOKUP(C129,Scheepstypen!$A$1:$F$44,6,FALSE)","v":"L3"}]
["CEMT IIM12leegbeide","CEMT II","M12","leeg","beide","CO2",32317.054671182763,8.11,0.29121257042588017,{"$f":"VLOOKUP(A130,Begin:Einde,7,FALSE)","v":0},1,{"$f":"VLOOKUP(Jaar&X130,Trendfactoren!$A$2:$F$65,6,FALSE)","v":1},0,0,0,{"$f":"+O130/+IF($O$914>0,$O$914,1)","v":0},{"$f":"+IF(E130=\"beide\",O130,0)/IF($O$915>0,$O$915,1)","v":0},{"$f":"+IF(E130=\"op\",O130,0)/IF($O$916>0,$O$916,1)","v":0},{"$f":"+IF(E130=\"af\",O130,0)/IF($O$917>0,$O$917,1)","v":0},0,0,0,0,{"$f":"+VLOOKUP(C130,Scheepstypen!$A$1:$F$44,6,FALSE)","v":"L3"}]
["CEMT IIM2geladenbeide","CEMT II","M2","geladen","beide","CO2",10897.26747147989,6.52,7.8944648793387653E-2,{"$f":"VLOOKUP(A131,Begin:Einde,7,FALSE)","v":0},1,{"$f":"VLOOKUP(Jaar&X131,Trendfactoren!$A$2:$F$65,6,FALSE)","v":1},0,0,0,0,0,0,0,0,0,0,0,{"$f":"+VLOOKUP(C131,Scheepstypen!$A$1:$F$44,6,FALSE)","v":"L1"}]
["CEMT IIM2leegbeide","CEMT II","M2","leeg","beide","CO2",4390.447293626059,7.83,3.8196891454546723E-2,{"$f":"VLOOKUP(A132,Begin:Einde,7,FALSE)","v":0},1,{"$f":"VLOOKUP(Jaar&X132,Trendfactoren!$A$2:$F$65,6,FALSE)","v":1},0,0,0,0,0,0,0,0,0,0,0,{"$f":"+VLOOKUP(C132,Scheepstypen!$A$1:$F$44,6,FALSE)","v":"L1"}]
["CEMT IIM3geladenbeide","CEMT II","M3","geladen","beide","CO2",13686.685343935538,6.98,0.10614784855630008,{"$f":"VLOOKUP(A133,Begin:Einde,7,FALSE)","v":0},1,{"$f":"VLOOKUP(Jaar&X133,Trendfactoren!$A$2:$F$65,6,FALSE)","v":1},0,0,0,0,0,0,0,0,0,0,0,{"$f":"+VLOOKUP(C133,Scheepstypen!$A$1:$F$44,6,FALSE)","v":"L1"}]
["CEMT IIM3leegbeide","CEMT II","M3","leeg","beide","CO2",5952.8299509066073,8.26,5.4633750438320638E-2,{"$f":"VLOOKUP(A134,Begin:Einde,7,FALSE)","v":0},1,{"$f":"VLOOKUP(Jaar&X134,Trendfactoren!$A$2:$F$65,6,FALSE)","v":1},0,0,0,0,0,0,0,0,0,0,0,{"$f":"+VLOOKUP(C134,Scheepstypen!$A$1:$F$44,6,FALSE)","v":"L1"}]
["CEMT IIM4geladenbeide","CEMT II","M4","geladen","beide","CO2",18757.358596314381,7.33,0.15276826501220492,{"$f":"VLOOKUP(A135,Begin:Einde,7,FALSE)","v":0},1,{"$f":"VLOOKUP(Jaar&X135,Trendfactoren!$A$2:$F$65,6,FALSE)","v":1},0,0,0,0,0,0,0,0,0,0,0,{"$f":"+VLOOKUP(C135,Scheepstypen!$A$1:$F$44,6,FALSE)","v":"L1"}]
["CEMT IIM4leegbeide","CEMT II","M4","leeg","beide","CO2",7580.8828790581392,8.41,7.0839138903198831E-2,{"$f":"VLOOKUP(A136,Begin:Einde,7,FALSE)","v":0},1,{"$f":"VLOOKUP(Jaar&X136,Trendfactoren!$A$2:$F$65,6,FALSE)","v":1},0,0,0,0,0,0,0,0,0,0,0,{"$f":"+VLOOKUP(C136,Scheepstypen!$A$1:$F$44,6,FALSE)","v":"L1"}]
["CEMT IIM5geladenbeide","CEMT II","M5","geladen","beide","CO2",17592.511482856342,6.49,0.12686155502637519,{"$f":"VLOOKUP(A137,Begin:Einde,7,FALSE)","v":0},1,{"$f":"VLOOKUP(Jaar&X137,Trendfactoren!$A$2:$F$65,6,FALSE)","v":1},0,0,0,0,0,0,0,0,0,0,0,{"$f":"+VLOOKUP(C137,Scheepstypen!$A$1:$F$44,6,FALSE)","v":"L2"}]
["CEMT IIM5leegbeide","CEMT II","M5","leeg","beide","CO2",3080.2000499926303,4.83,1.653040693496045E-2,{"$f":"VLOOKUP(A138,Begin:Einde,7,FALSE)","v":0},1,{"$f":"VLOOKUP(Jaar&X138,Trendfactoren!$A$2:$F$65,6,FALSE)","v":1},0,0,0,0,0,0,0,0,0,0,0,{"$f":"+VLOOKUP(C138,Scheepstypen!$A$1:$F$44,6,FALSE)","v":"L2"}]
["CEMT IIM6geladenbeide","CEMT II","M6","geladen","beide","CO2",20975.897635430851,6.42,0.14962806979940671,{"$f":"VLOOKUP(A139,Begin:Einde,7,FALSE)","v":0},1,{"$f":"VLOOKUP(Jaar&X139,Trendfactoren!$A$2:$F$65,6,FALSE)","v":1},0,0,0,0,0,0,0,0,0,0,0,{"$f":"+VLOOKUP(C139,Scheepstypen!$A$1:$F$44,6,FALSE)","v":"L2"}]
["CEMT IIM6leegbeide","CEMT II","M6","leeg","beide","CO2",7615.3752388772709,6.66,5.6353776767691807E-2,{"$f":"VLOOKUP(A140,Begin:Einde,7,FALSE)","v":0},1,{"$f":"VLOOKUP(Jaar&X140,Trendfactoren!$A$2:$F$65,6,FALSE)","v":1},0,0,0,0,0,0,0,0,0,0,0,{"$f":"+VLOOKUP(C140,Scheepstypen!$A$1:$F$44,6,FALSE)","v":"L2"}]
["CEMT IIM7geladenbeide","CEMT II","M7","geladen","beide","CO2",37073.476518601718,7.07,0.29123275442946017,{"$f":"VLOOKUP(A141,Begin:Einde,7,FALSE)","v":0},1,{"$f":"VLOOKUP(Jaar&X141,Trendfactoren!$A$2:$F$65,6,FALSE)","v":1},0,0,0,0,0,0,0,0,0,0,0,{"$f":"+VLOOKUP(C141,Scheepstypen!$A$1:$F$44,6,FALSE)","v":"L2"}]
["CEMT IIM7leegbeide","CEMT II","M7","leeg","beide","CO2",4482.4555952963028,4.5,2.2412277976481512E-2,{"$f":"VLOOKUP(A142,Begin:Einde,7,FALSE)","v":0},1,{"$f":"VLOOKUP(Jaar&X142,Trendfactoren!$A$2:$F$65,6,FALSE)","v":1},0,0,0,0,0,0,0,0,0,0,0,{"$f":"+VLOOKUP(C142,Scheepstypen!$A$1:$F$44,6,FALSE)","v":"L2"}]
["CEMT IIM8geladenbeide","CEMT II","M8","geladen","beide","CO2",8261.0413892671459,2.21,2.0285446078089322E-2,{"$f":"VLOOKUP(A143,Begin:Einde,7,FALSE)","v":0},1,{"$f":"VLOOKUP(Jaar&X143,Trendfactoren!$A$2:$F$65,6,FALSE)","v":1},0,0,0,0,0,0,0,0,0,0,0,{"$f":"+VLOOKUP(C143,Scheepstypen!$A$1:$F$44,6,FALSE)","v":"L3"}]
["CEMT IIM8leegbeide","CEMT II","M8","leeg","beide","CO2",17289.494458603873,6.25,0.12006593374030466,{"$f":"VLOOKUP(A144,Begin:Einde,7,FALSE)","v":0},1,{"$f":"VLOOKUP(Jaar&X144,Trendfactoren!$A$2:$F$65,6,FALSE)","v":1},0,0,0,0,0,0,0,0,0,0,0,{"$f":"+VLOOKUP(C144,Scheepstypen!$A$1:$F$44,6,FALSE)","v":"L3"}]
["CEMT IIM9geladenbeide","CEMT II","M9","geladen","beide","CO2",13685.755763805095,3.96,6.0217325360742417E-2,{"$f":"VLOOKUP(A145,Begin:Einde,7,FALSE)","v":0},1,{"$f":"VLOOKUP(Jaar&X145,Trendfactoren!$A$2:$F$65,6,FALSE)","v":1},0,0,0,0,0,0,0,0,0,0,0,{"$f":"+VLOOKUP(C145,Scheepstypen!$A$1:$F$44,6,FALSE)","v":"L3"}]
["CEMT IIM9leegbeide","CEMT II","M9","leeg","beide","CO2",26619.500453888497,9.19,0.27181467685692806,{"$f":"VLOOKUP(A146,Begin:Einde,7,FALSE)","v":0},1,{"$f":"VLOOKUP(Jaar&X146,Trendfactoren!$A$2:$F$65,6,FALSE)","v":1},0,0,0,0,0,0,0,0,0,0,0,{"$f":"+VLOOKUP(C146,Scheepstypen!$A$1:$F$44,6,FALSE)","v":"L3"}]
["CEMT IIIBIgeladenbeide","CEMT III","BI","geladen","beide","CO2",46008.708635797913,10.07,0.51478632884720554,{"$f":"VLOOKUP(A147,Begin:Einde,7,FALSE)","v":0},1,{"$f":"VLOOKUP(Jaar&X147,Trendfactoren!$A$2:$F$65,6,FALSE)","v":1},0,0,0,0,0,0,0,0,0,0,0,{"$f":"+VLOOKUP(C147,Scheepstypen!$A$1:$F$44,6,FALSE)","v":"L2"}]
["CEMT IIIBIleegbeide","CEMT III","BI","leeg","beide","CO2",17433.89491046781,12.64,0.24484936852034792,{"$f":"VLOOKUP(A148,Begin:Einde,7,FALSE)","v":0},1,{"$f":"VLOOKUP(Jaar&X148,Trendfactoren!$A$2:$F$65,6,FALSE)","v":1},0,0,0,0,0,0,0,0,0,0,0,{"$f":"+VLOOKUP(C148,Scheepstypen!$A$1:$F$44,6,FALSE)","v":"L2"}]
["CEMT IIIBII-1geladenbeide","CEMT III","BII-1","geladen","beide","CO2",88550.32338856344,9.58,0.94256899784715309,{"$f":"VLOOKUP(A149,Begin:Einde,7,FALSE)","v":0},1,{"$f":"VLOOKUP(Jaar&X149,Trendfactoren!$A$2:$F$65,6,FALSE)","v":1},0,0,0,0,0,0,0,0,0,0,0,{"$f":"+VLOOKUP(C149,Scheepstypen!$A$1:$F$44,6,FALSE)","v":"L2"}]
["CEMT IIIBII-1leegbeide","CEMT III","BII-1","leeg","beide","CO2",24656.305315422418,10.69,0.29286211535762852,{"$f":"VLOOKUP(A150,Begin:Einde,7,FALSE)","v":0},1,{"$f":"VLOOKUP(Jaar&X150,Trendfactoren!$A$2:$F$65,6,FALSE)","v":1},0,0,0,0,0,0,0,0,0,0,0,{"$f":"+VLOOKUP(C150,Scheepstypen!$A$1:$F$44,6,FALSE)","v":"L2"}]
["CEMT IIIBII-2Bgeladenbeide","CEMT III","BII-2B","geladen","beide","CO2",9803.4204758762498,0.88,9.5855666875234447E-3,{"$f":"VLOOKUP(A151,Begin:Einde,7,FALSE)","v":0},1,{"$f":"VLOOKUP(Jaar&X151,Trendfactoren!$A$2:$F$65,6,FALSE)","v":1},0,0,0,0,0,0,0,0,0,0,0,{"$f":"+VLOOKUP(C151,Scheepstypen!$A$1:$F$44,6,FALSE)","v":"L3"}]
["CEMT IIIBII-2Bleegbeide","CEMT III","BII-2B","leeg","beide","CO2",45626.267369679415,6.83,0.3462526734832338,{"$f":"VLOOKUP(A152,Begin:Einde,7,FALSE)","v":0},1,{"$f":"VLOOKUP(Jaar&X152,Trendfactoren!$A$2:$F$65,6,FALSE)","v":1},0,0,0,0,0,0,0,0,0,0,0,{"$f":"+VLOOKUP(C152,Scheepstypen!$A$1:$F$44,6,FALSE)","v":"L3"}]
["CEMT IIIBII-2Lgeladenbeide","CEMT III","BII-2L","geladen","beide","CO2",34541.835162521355,2.5099999999999998,9.6333340286587327E-2,{"$f":"VLOOKUP(A153,Begin:Einde,7,FALSE)","v":0},1,{"$f":"VLOOKUP(Jaar&X153,Trendfactoren!$A$2:$F$65,6,FALSE)","v":1},0,0,0,0,0,0,0,0,0,0,0,{"$f":"+VLOOKUP(C153,Scheepstypen!$A$1:$F$44,6,FALSE)","v":"L3"}]
["CEMT IIIBII-2Lleegbeide","CEMT III","BII-2L","leeg","beide","CO2",53037.10760982534,3.66,0.21568423761328973,{"$f":"VLOOKUP(A154,Begin:Einde,7,FALSE)","v":0},1,{"$f":"VLOOKUP(Jaar&X154,Trendfactoren!$A$2:$F$65,6,FALSE)","v":1},0,0,0,0,0,0,0,0,0,0,0,{"$f":"+VLOOKUP(C154,Scheepstypen!$A$1:$F$44,6,FALSE)","v":"L3"}]
["CEMT IIIBII-4geladenbeide","CEMT III","BII-4","geladen","beide","CO2",4627.885655485291,0.9,4.627885655485291E-3,{"$f":"VLOOKUP(A155,Begin:Einde,7,FALSE)","v":0},1,{"$f":"VLOOKUP(Jaar&X155,Trendfactoren!$A$2:$F$65,6,FALSE)","v":1},0,0,0,0,0,0,0,0,0,0,0,{"$f":"+VLOOKUP(C155,Scheepstypen!$A$1:$F$44,6,FALSE)","v":"L3"}]
["CEMT IIIBII-4leegbeide","CEMT III","BII-4","leeg","beide","CO2",70743.593755308277,5.12,0.40245244447464268,{"$f":"VLOOKUP(A156,Begin:Einde,7,FALSE)","v":0},1,{"$f":"VLOOKUP(Jaar&X156,Trendfactoren!$A$2:$F$65,6,FALSE)","v":1},0,0,0,0,0,0,0,0,0,0,0,{"$f":"+VLOOKUP(C156,Scheepstypen!$A$1:$F$44,6,FALSE)","v":"L3"}]
["CEMT IIIBO1geladenbeide","CEMT III","BO1","geladen","beide","CO2",7884.2104135557374,8.1,7.0957893722001633E-2,{"$f":"VLOOKUP(A157,Begin:Einde,7,FALSE)","v":0},1,{"$f":"VLOOKUP(Jaar&X157,Trendfactoren!$A$2:$F$65,6,FALSE)","v":1},0,0,0,0,0,0,0,0,0,0,0,{"$f":"+VLOOKUP(C157,Scheepstypen!$A$1:$F$44,6,FALSE)","v":"L1"}]
["CEMT IIIBO1leegbeide","CEMT III","BO1","leeg","beide","CO2",6902.352812692292,12.97,9.9470573311798913E-2,{"$f":"VLOOKUP(A158,Begin:Einde,7,FALSE)","v":0},1,{"$f":"VLOOKUP(Jaar&X158,Trendfactoren!$A$2:$F$65,6,FALSE)","v":1},0,0,0,0,0,0,0,0,0,0,0,{"$f":"+VLOOKUP(C158,Scheepstypen!$A$1:$F$44,6,FALSE)","v":"L1"}]
["CEMT IIIBO2geladenbeide","CEMT III","BO2","geladen","beide","CO2",14160.913926660873,8.3000000000000007,0.13059509510142805,{"$f":"VLOOKUP(A159,Begin:Einde,7,FALSE)","v":0},1,{"$f":"VLOOKUP(Jaar&X159,Trendfactoren!$A$2:$F$65,6,FALSE)","v":1},0,0,0,0,0,0,0,0,0,0,0,{"$f":"+VLOOKUP(C159,Scheepstypen!$A$1:$F$44,6,FALSE)","v":"L1"}]
["CEMT IIIBO2leegbeide","CEMT III","BO2","leeg","beide","CO2",9522.0665744096041,12.32,0.13034651132969591,{"$f":"VLOOKUP(A160,Begin:Einde,7,FALSE)","v":0},1,{"$f":"VLOOKUP(Jaar&X160,Trendfactoren!$A$2:$F$65,6,FALSE)","v":1},0,0,0,0,0,0,0,0,0,0,0,{"$f":"+VLOOKUP(C160,Scheepstypen!$A$1:$F$44,6,FALSE)","v":"L1"}]
["CEMT IIIBO3geladenbeide","CEMT III","BO3","geladen","beide","CO2",17278.289613961475,5.76,0.11058105352935343,{"$f":"VLOOKUP(A161,Begin:Einde,7,FALSE)","v":0},1,{"$f":"VLOOKUP(Jaar&X161,Trendfactoren!$A$2:$F$65,6,FALSE)","v":1},0,0,0,0,0,0,0,0,0,0,0,{"$f":"+VLOOKUP(C161,Scheepstypen!$A$1:$F$44,6,FALSE)","v":"L1"}]
["CEMT IIIBO3leegbeide","CEMT III","BO3","leeg","beide","CO2",11440.653658046273,8.5299999999999994,0.10843197300348301,{"$f":"VLOOKUP(A162,Begin:Einde,7,FALSE)","v":0},1,{"$f":"VLOOKUP(Jaar&X162,Trendfactoren!$A$2:$F$65,6,FALSE)","v":1},0,0,0,0,0,0,0,0,0,0,0,{"$f":"+VLOOKUP(C162,Scheepstypen!$A$1:$F$44,6,FALSE)","v":"L1"}]
["CEMT IIIBO4geladenbeide","CEMT III","BO4","geladen","beide","CO2",18570.385442668485,7.6,0.15681658818253386,{"$f":"VLOOKUP(A163,Begin:Einde,7,FALSE)","v":0},1,{"$f":"VLOOKUP(Jaar&X163,Trendfactoren!$A$2:$F$65,6,FALSE)","v":1},0,0,0,0,0,0,0,0,0,0,0,{"$f":"+VLOOKUP(C163,Scheepstypen!$A$1:$F$44,6,FALSE)","v":"L1"}]
["CEMT IIIBO4leegbeide","CEMT III","BO4","leeg","beide","CO2",14594.568941117419,13.24,0.21470232531154959,{"$f":"VLOOKUP(A164,Begin:Einde,7,FALSE)","v":0},1,{"$f":"VLOOKUP(Jaar&X164,Trendfactoren!$A$2:$F$65,6,FALSE)","v":1},0,0,0,0,0,0,0,0,0,0,0,{"$f":"+VLOOKUP(C164,Scheepstypen!$A$1:$F$44,6,FALSE)","v":"L1"}]
["CEMT IIIC1bgeladenbeide","CEMT III","C1b","geladen","beide","CO2",11502.213071589073,6.5,8.3071538850365528E-2,{"$f":"VLOOKUP(A165,Begin:Einde,7,FALSE)","v":0},1,{"$f":"VLOOKUP(Jaar&X165,Trendfactoren!$A$2:$F$65,6,FALSE)","v":1},0,0,0,0,0,0,0,0,0,0,0,{"$f":"+VLOOKUP(C165,Scheepstypen!$A$1:$F$44,6,FALSE)","v":"L1"}]
["CEMT IIIC1bleegbeide","CEMT III","C1b","leeg","beide","CO2",12291.532507946256,15.2,0.20759032680087008,{"$f":"VLOOKUP(A166,Begin:Einde,7,FALSE)","v":0},1,{"$f":"VLOOKUP(Jaar&X166,Trendfactoren!$A$2:$F$65,6,FALSE)","v":1},0,0,0,0,0,0,0,0,0,0,0,{"$f":"+VLOOKUP(C166,Scheepstypen!$A$1:$F$44,6,FALSE)","v":"L1"}]
["CEMT IIIC1lgeladenbeide","CEMT III","C1l","geladen","beide","CO2",9722.0038096533008,8.9,9.6139815451015964E-2,{"$f":"VLOOKUP(A167,Begin:Einde,7,FALSE)","v":0},1,{"$f":"VLOOKUP(Jaar&X167,Trendfactoren!$A$2:$F$65,6,FALSE)","v":1},0,0,0,0,0,0,0,0,0,0,0,{"$f":"+VLOOKUP(C167,Scheepstypen!$A$1:$F$44,6,FALSE)","v":"L1"}]
["CEMT IIIC1lleegbeide","CEMT III","C1l","leeg","beide","CO2",6068.3078723795024,11.1,7.4842463759347194E-2,{"$f":"VLOOKUP(A168,Begin:Einde,7,FALSE)","v":0},1,{"$f":"VLOOKUP(Jaar&X168,Trendfactoren!$A$2:$F$65,6,FALSE)","v":1},0,0,0,0,0,0,0,0,0,0,0,{"$f":"+VLOOKUP(C168,Scheepstypen!$A$1:$F$44,6,FALSE)","v":"L1"}]
["CEMT IIIC2bgeladenbeide","CEMT III","C2b","geladen","beide","CO2",10709.607050492574,2.02,2.4037118046661112E-2,{"$f":"VLOOKUP(A169,Begin:Einde,7,FALSE)","v":0},1,{"$f":"VLOOKUP(Jaar&X169,Trendfactoren!$A$2:$F$65,6,FALSE)","v":1},0,0,0,0,0,0,0,0,0,0,0,{"$f":"+VLOOKUP(C169,Scheepstypen!$A$1:$F$44,6,FALSE)","v":"L2"}]
["CEMT IIIC2bleegbeide","CEMT III","C2b","leeg","beide","CO2",26817.846600421813,8.11,0.24165859547713431,{"$f":"VLOOKUP(A170,Begin:Einde,7,FALSE)","v":0},1,{"$f":"VLOOKUP(Jaar&X170,Trendfactoren!$A$2:$F$65,6,FALSE)","v":1},0,0,0,0,0,0,0,0,0,0,0,{"$f":"+VLOOKUP(C170,Scheepstypen!$A$1:$F$44,6,FALSE)","v":"L2"}]
["CEMT IIIC2lgeladenbeide","CEMT III","C2l","geladen","beide","CO2",85087.67752172632,11.26,1.0645413876607093,{"$f":"VLOOKUP(A171,Begin:Einde,7,FALSE)","v":0},1,{"$f":"VLOOKUP(Jaar&X171,Trendfactoren!$A$2:$F$65,6,FALSE)","v":1},0,0,0,0,0,0,0,0,0,0,0,{"$f":"+VLOOKUP(C171,Scheepstypen!$A$1:$F$44,6,FALSE)","v":"L2"}]
["CEMT IIIC2lleegbeide","CEMT III","C2l","leeg","beide","CO2",38699.35755959661,13.64,0.58651026345877544,{"$f":"VLOOKUP(A172,Begin:Einde,7,FALSE)","v":0},1,{"$f":"VLOOKUP(Jaar&X172,Trendfactoren!$A$2:$F$65,6,FALSE)","v":1},0,0,0,0,0,0,0,0,0,0,0,{"$f":"+VLOOKUP(C172,Scheepstypen!$A$1:$F$44,6,FALSE)","v":"L2"}]
["CEMT IIIC3bgeladenbeide","CEMT III","C3b","geladen","beide","CO2",92926.369335215335,10.64,1.0985961885852125,{"$f":"VLOOKUP(A173,Begin:Einde,7,FALSE)","v":0},1,{"$f":"VLOOKUP(Jaar&X173,Trendfactoren!$A$2:$F$65,6,FALSE)","v":1},0,0,0,0,0,0,0,0,0,0,0,{"$f":"+VLOOKUP(C173,Scheepstypen!$A$1:$F$44,6,FALSE)","v":"L3"}]
["CEMT IIIC3lgeladenbeide","CEMT III","C3l","geladen","beide","CO2",95372.125850805882,10.33,1.0946600667098052,{"$f":"VLOOKUP(A174,Begin:Einde,7,FALSE)","v":0},1,{"$f":"VLOOKUP(Jaar&X174,Trendfactoren!$A$2:$F$65,6,FALSE)","v":1},0,0,0,0,0,0,0,0,0,0,0,{"$f":"+VLOOKUP(C174,Scheepstypen!$A$1:$F$44,6,FALSE)","v":"L3"}]
["CEMT IIIC3lleegbeide","CEMT III","C3l","leeg","beide","CO2",41000.689204672293,10.95,0.49884171865684618,{"$f":"VLOOKUP(A175,Begin:Einde,7,FALSE)","v":0},1,{"$f":"VLOOKUP(Jaar&X175,Trendfactoren!$A$2:$F$65,6,FALSE)","v":1},0,0,0,0,0,0,0,0,0,0,0,{"$f":"+VLOOKUP(C175,Scheepstypen!$A$1:$F$44,6,FALSE)","v":"L3"}]
["CEMT IIIC4geladenbeide","CEMT III","C4","geladen","beide","CO2",5022.8766249113287,0.9,5.0228766249113292E-3,{"$f":"VLOOKUP(A176,Begin:Einde,7,FALSE)","v":0},1,{"$f":"VLOOKUP(Jaar&X176,Trendfactoren!$A$2:$F$65,6,FALSE)","v":1},0,0,0,0,0,0,0,0,0,0,0,{"$f":"+VLOOKUP(C176,Scheepstypen!$A$1:$F$44,6,FALSE)","v":"L3"}]
["CEMT IIIC4leegbeide","CEMT III","C4","leeg","beide","CO2",56835.056893766676,9.3000000000000007,0.58729558790225578,{"$f":"VLOOKUP(A177,Begin:Einde,7,FALSE)","v":0},1,{"$f":"VLOOKUP(Jaar&X177,Trendfactoren!$A$2:$F$65,6,FALSE)","v":1},0,0,0,0,0,0,0,0,0,0,0,{"$f":"+VLOOKUP(C177,Scheepstypen!$A$1:$F$44,6,FALSE)","v":"L3"}]
["CEMT IIIM0geladenbeide","CEMT III","M0","geladen","beide","CO2",3389.2045647966042,11.03,4.1536584833007262E-2,{"$f":"VLOOKUP(A178,Begin:Einde,7,FALSE)","v":0},1,{"$f":"VLOOKUP(Jaar&X178,Trendfactoren!$A$2:$F$65,6,FALSE)","v":1},0,0,0,0,0,0,0,0,0,0,0,{"$f":"+VLOOKUP(C178,Scheepstypen!$A$1:$F$44,6,FALSE)","v":"L1"}]
["CEMT IIIM0leegbeide","CEMT III","M0","leeg","beide","CO2",356.11265651540521,4.05,1.6025069543193235E-3,{"$f":"VLOOKUP(A179,Begin:Einde,7,FALSE)","v":0},1,{"$f":"VLOOKUP(Jaar&X179,Trendfactoren!$A$2:$F$65,6,FALSE)","v":1},0,0,0,0,0,0,0,0,0,0,0,{"$f":"+VLOOKUP(C179,Scheepstypen!$A$1:$F$44,6,FALSE)","v":"L1"}]
["CEMT IIIM1geladenbeide","CEMT III","M1","geladen","beide","CO2",6413.1601613384128,8.34,5.9428617495069287E-2,{"$f":"VLOOKUP(A180,Begin:Einde,7,FALSE)","v":0},1,{"$f":"VLOOKUP(Jaar&X180,Trendfactoren!$A$2:$F$65,6,FALSE)","v":1},0,0,0,0,0,0,0,0,0,0,0,{"$f":"+VLOOKUP(C180,Scheepstypen!$A$1:$F$44,6,FALSE)","v":"L1"}]
["CEMT IIIM1leegbeide","CEMT III","M1","leeg","beide","CO2",2935.6474755401932,10.47,3.4151365632117583E-2,{"$f":"VLOOKUP(A181,Begin:Einde,7,FALSE)","v":0},1,{"$f":"VLOOKUP(Jaar&X181,Trendfactoren!$A$2:$F$65,6,FALSE)","v":1},0,0,0,0,0,0,0,0,0,0,0,{"$f":"+VLOOKUP(C181,Scheepstypen!$A$1:$F$44,6,FALSE)","v":"L1"}]
["CEMT IIIM10geladenbeide","CEMT III","M10","geladen","beide","CO2",19195.21935146243,3.61,7.6994157620865977E-2,{"$f":"VLOOKUP(A182,Begin:Einde,7,FALSE)","v":0},1,{"$f":"VLOOKUP(Jaar&X182,Trendfactoren!$A$2:$F$65,6,FALSE)","v":1},0,0,0,0,0,0,0,0,0,0,0,{"$f":"+VLOOKUP(C182,Scheepstypen!$A$1:$F$44,6,FALSE)","v":"L3"}]
["CEMT IIIM10leegbeide","CEMT III","M10","leeg","beide","CO2",24986.774498488881,8.25,0.22904543290281473,{"$f":"VLOOKUP(A183,Begin:Einde,7,FALSE)","v":0},1,{"$f":"VLOOKUP(Jaar&X183,Trendfactoren!$A$2:$F$65,6,FALSE)","v":1},0,0,0,0,0,0,0,0,0,0,0,{"$f":"+VLOOKUP(C183,Scheepstypen!$A$1:$F$44,6,FALSE)","v":"L3"}]
["CEMT IIIM11geladenbeide","CEMT III","M11","geladen","beide","CO2",19769.122211712325,3.42,7.5122664404506836E-2,{"$f":"VLOOKUP(A184,Begin:Einde,7,FALSE)","v":0},1,{"$f":"VLOOKUP(Jaar&X184,Trendfactoren!$A$2:$F$65,6,FALSE)","v":1},0,0,0,0,0,0,0,0,0,0,0,{"$f":"+VLOOKUP(C184,Scheepstypen!$A$1:$F$44,6,FALSE)","v":"L3"}]
["CEMT IIIM11leegbeide","CEMT III","M11","leeg","beide","CO2",29169.225422081388,10.4,0.33706660487738493,{"$f":"VLOOKUP(A185,Begin:Einde,7,FALSE)","v":0},1,{"$f":"VLOOKUP(Jaar&X185,Trendfactoren!$A$2:$F$65,6,FALSE)","v":1},0,0,0,0,0,0,0,0,0,0,0,{"$f":"+VLOOKUP(C185,Scheepstypen!$A$1:$F$44,6,FALSE)","v":"L3"}]
["CEMT IIIM12geladenbeide","CEMT III","M12","geladen","beide","CO2",12740.086547295035,2.5,3.5389129298041763E-2,{"$f":"VLOOKUP(A186,Begin:Einde,7,FALSE)","v":0},1,{"$f":"VLOOKUP(Jaar&X186,Trendfactoren!$A$2:$F$65,6,FALSE)","v":1},0,0,0,0,0,0,0,0,0,0,0,{"$f":"+VLOOKUP(C186,Scheepstypen!$A$1:$F$44,6,FALSE)","v":"L3"}]
["CEMT IIIM12leegbeide","CEMT III","M12","leeg","beide","CO2",38901.344322348465,5.98,0.25847782116404872,{"$f":"VLOOKUP(A187,Begin:Einde,7,FALSE)","v":0},1,{"$f":"VLOOKUP(Jaar&X187,Trendfactoren!$A$2:$F$65,6,FALSE)","v":1},0,0,0,0,0,0,0,0,0,0,0,{"$f":"+VLOOKUP(C187,Scheepstypen!$A$1:$F$44,6,FALSE)","v":"L3"}]
["CEMT IIIM2geladenbeide","CEMT III","M2","geladen","beide","CO2",12458.990799347361,7.54,0.1043786562523101,{"$f":"VLOOKUP(A188,Begin:Einde,7,FALSE)","v":0},1,{"$f":"VLOOKUP(Jaar&X188,Trendfactoren!$A$2:$F$65,6,FALSE)","v":1},0,0,0,0,0,0,0,0,0,0,0,{"$f":"+VLOOKUP(C188,Scheepstypen!$A$1:$F$44,6,FALSE)","v":"L1"}]
["CEMT IIIM2leegbeide","CEMT III","M2","leeg","beide","CO2",3724.0677299612234,7.79,3.2233875129331034E-2,{"$f":"VLOOKUP(A189,Begin:Einde,7,FALSE)","v":0},1,{"$f":"VLOOKUP(Jaar&X189,Trendfactoren!$A$2:$F$65,6,FALSE)","v":1},0,0,0,0,0,0,0,0,0,0,0,{"$f":"+VLOOKUP(C189,Scheepstypen!$A$1:$F$44,6,FALSE)","v":"L1"}]
["CEMT IIIM3geladenbeide","CEMT III","M3","geladen","beide","CO2",12520.605202240411,6.72,9.3487185510061743E-2,{"$f":"VLOOKUP(A190,Begin:Einde,7,FALSE)","v":0},1,{"$f":"VLOOKUP(Jaar&X190,Trendfactoren!$A$2:$F$65,6,FALSE)","v":1},0,0,0,0,0,0,0,0,0,0,0,{"$f":"+VLOOKUP(C190,Scheepstypen!$A$1:$F$44,6,FALSE)","v":"L1"}]
["CEMT IIIM3leegbeide","CEMT III","M3","leeg","beide","CO2",5001.9806241038295,7.5,4.1683171867531919E-2,{"$f":"VLOOKUP(A191,Begin:Einde,7,FALSE)","v":0},1,{"$f":"VLOOKUP(Jaar&X191,Trendfactoren!$A$2:$F$65,6,FALSE)","v":1},0,0,0,0,0,0,0,0,0,0,0,{"$f":"+VLOOKUP(C191,Scheepstypen!$A$1:$F$44,6,FALSE)","v":"L1"}]
["CEMT IIIM4geladenbeide","CEMT III","M4","geladen","beide","CO2",14136.659363658162,6.6,{"$f":"+MJperkgCO2*G192/1000*H192/3600","v":0.10366883533349316},{"$f":"VLOOKUP(A192,Begin:Einde,7,FALSE)","v":0},{"$f":"+Afstand","v":1},{"$f":"VLOOKUP(Jaar&X192,Trendfactoren!$A$2:$F$65,6,FALSE)","v":1},0,{"$f":"+J192*H192","v":0},0,0,0,0,0,{"$f":"+S192/$I192","v":0},{"$f":"+Q192/$I192","v":0},{"$f":"+R192/$I192","v":0},0,{"$f":"+VLOOKUP(C192,Scheepstypen!$A$1:$F$44,6,FALSE)","v":"L1"}]
[{"$f":"+B193&C193&D193&E193","v":"CEMT IIIM4leegbeide"},"CEMT III","M4","leeg","beide","CO2",5415.2309774456098,7.69,4.6270140240618603E-2,{"$f":"VLOOKUP(A193,Begin:Einde,7,FALSE)","v":0},1,{"$f":"VLOOKUP(Jaar&X193,Trendfactoren!$A$2:$F$65,6,FALSE)","v":1},{"$f":"+J193*I193*L193","v":0},0,{"$f":"+J193*G193*K193","v":0},0,0,0,0,0,0,0,{"$f":"+P193/I193","v":0},{"$f":"+VLOOKUP(C193,Scheepstypen!$A$1:$F$44,6,FALSE)","v":"L1"}]
["CEMT IIIM5geladenbeide","CEMT III","M5","geladen","beide","CO2",8907.8175909512065,5.36,5.3051002541664963E-2,{"$f":"VLOOKUP(A194,Begin:Einde,7,FALSE)","v":0},1,{"$f":"VLOOKUP(Jaar&X194,Trendfactoren!$A$2:$F$65,6,FALSE)","v":1},0,0,0,{"$f":"+O194/+IF($O$914>0,$O$914,1)","v":0},{"$f":"+IF(E194=\"beide\",O194,0)/IF($O$915>0,$O$915,1)","v":0},{"$f":"+IF(E194=\"op\",O194,0)/IF($O$916>0,$O$916,1)","v":0},{"$f":"+IF(E194=\"af\",O194,0)/IF($O$917>0,$O$917,1)","v":0},0,0,0,0,{"$f":"+VLOOKUP(C194,Scheepstypen!$A$1:$F$44,6,FALSE)","v":"L2"}]
["CEMT IIIM5leegbeide","CEMT III","M5","leeg","beide","CO2",2675.3853834681354,5.21,1.5487508719854427E-2,{"$f":"VLOOKUP(A195,Begin:Einde,7,FALSE)","v":0},1,{"$f":"VLOOKUP(Jaar&X195,Trendfactoren!$A$2:$F$65,6,FALSE)","v":1},0,0,0,0,0,0,0,0,0,0,0,{"$f":"+VLOOKUP(C195,Scheepstypen!$A$1:$F$44,6,FALSE)","v":"L2"}]
["CEMT IIIM6geladenbeide","CEMT III","M6","geladen","beide","CO2",36574.565431518335,12.44,0.50554177107565346,{"$f":"VLOOKUP(A196,Begin:Einde,7,FALSE)","v":0},1,{"$f":"VLOOKUP(Jaar&X196,Trendfactoren!$A$2:$F$65,6,FALSE)","v":1},0,0,0,0,0,0,0,0,0,0,0,{"$f":"+VLOOKUP(C196,Scheepstypen!$A$1:$F$44,6,FALSE)","v":"L2"}]
["CEMT IIIM6leegbeide","CEMT III","M6","leeg","beide","CO2",28575.792174331142,15.23,0.48356590535007032,{"$f":"VLOOKUP(A197,Begin:Einde,7,FALSE)","v":0},1,{"$f":"VLOOKUP(Jaar&X197,Trendfactoren!$A$2:$F$65,6,FALSE)","v":1},0,0,0,0,0,0,0,0,0,0,0,{"$f":"+VLOOKUP(C197,Scheepstypen!$A$1:$F$44,6,FALSE)","v":"L2"}]
["CEMT IIIM7geladenbeide","CEMT III","M7","geladen","beide","CO2",35655.056270257839,8.15,0.32287634289177936,{"$f":"VLOOKUP(A198,Begin:Einde,7,FALSE)","v":0},1,{"$f":"VLOOKUP(Jaar&X198,Trendfactoren!$A$2:$F$65,6,FALSE)","v":1},0,0,0,0,0,0,0,0,0,0,0,{"$f":"+VLOOKUP(C198,Scheepstypen!$A$1:$F$44,6,FALSE)","v":"L2"}]
["CEMT IIIM7leegbeide","CEMT III","M7","leeg","beide","CO2",11840.820371346217,7.95,0.10459391328022491,{"$f":"VLOOKUP(A199,Begin:Einde,7,FALSE)","v":0},1,{"$f":"VLOOKUP(Jaar&X199,Trendfactoren!$A$2:$F$65,6,FALSE)","v":1},0,0,0,0,0,0,0,0,0,0,0,{"$f":"+VLOOKUP(C199,Scheepstypen!$A$1:$F$44,6,FALSE)","v":"L2"}]
["CEMT IIIM8geladenbeide","CEMT III","M8","geladen","beide","CO2",68105.484970342441,11.18,0.84602146885380947,{"$f":"VLOOKUP(A200,Begin:Einde,7,FALSE)","v":0},1,{"$f":"VLOOKUP(Jaar&X200,Trendfactoren!$A$2:$F$65,6,FALSE)","v":1},0,0,0,0,0,0,0,0,0,0,0,{"$f":"+VLOOKUP(C200,Scheepstypen!$A$1:$F$44,6,FALSE)","v":"L3"}]
["CEMT IIIM8leegbeide","CEMT III","M8","leeg","beide","CO2",43664.735688862544,11.21,0.54386854119127681,{"$f":"VLOOKUP(A201,Begin:Einde,7,FALSE)","v":0},1,{"$f":"VLOOKUP(Jaar&X201,Trendfactoren!$A$2:$F$65,6,FALSE)","v":1},0,0,0,0,0,0,0,0,0,0,0,{"$f":"+VLOOKUP(C201,Scheepstypen!$A$1:$F$44,6,FALSE)","v":"L3"}]
["CEMT IIIM9geladenbeide","CEMT III","M9","geladen","beide","CO2",12763.710057236282,3.8,5.3891220241664296E-2,{"$f":"VLOOKUP(A202,Begin:Einde,7,FALSE)","v":0},1,{"$f":"VLOOKUP(Jaar&X202,Trendfactoren!$A$2:$F$65,6,FALSE)","v":1},0,0,0,0,0,0,0,0,0,0,0,{"$f":"+VLOOKUP(C202,Scheepstypen!$A$1:$F$44,6,FALSE)","v":"L3"}]
["CEMT IIIM9leegbeide","CEMT III","M9","leeg","beide","CO2",26052.344334173325,8.52,0.24662885969684081,{"$f":"VLOOKUP(A203,Begin:Einde,7,FALSE)","v":0},1,{"$f":"VLOOKUP(Jaar&X203,Trendfactoren!$A$2:$F$65,6,FALSE)","v":1},0,0,0,0,0,0,0,0,0,0,0,{"$f":"+VLOOKUP(C203,Scheepstypen!$A$1:$F$44,6,FALSE)","v":"L3"}]
["CEMT IVBIgeladenbeide","CEMT IV","BI","geladen","beide","CO2",10895.095912516696,4.8,5.8107178200089045E-2,{"$f":"VLOOKUP(A204,Begin:Einde,7,FALSE)","v":0},1,{"$f":"VLOOKUP(Jaar&X204,Trendfactoren!$A$2:$F$65,6,FALSE)","v":1},0,0,0,0,0,0,0,0,0,0,0,{"$f":"+VLOOKUP(C204,Scheepstypen!$A$1:$F$44,6,FALSE)","v":"L2"}]
["CEMT IVBIleegbeide","CEMT IV","BI","leeg","beide","CO2",6301.7869438856414,6.7,4.6913302804482006E-2,{"$f":"VLOOKUP(A205,Begin:Einde,7,FALSE)","v":0},1,{"$f":"VLOOKUP(Jaar&X205,Trendfactoren!$A$2:$F$65,6,FALSE)","v":1},0,0,0,0,0,0,0,0,0,0,0,{"$f":"+VLOOKUP(C205,Scheepstypen!$A$1:$F$44,6,FALSE)","v":"L2"}]
["CEMT IVBII-1geladenbeide","CEMT IV","BII-1","geladen","beide","CO2",50921.090336191803,9.06,0.51260564271766418,{"$f":"VLOOKUP(A206,Begin:Einde,7,FALSE)","v":0},1,{"$f":"VLOOKUP(Jaar&X206,Trendfactoren!$A$2:$F$65,6,FALSE)","v":1},0,0,0,0,0,0,0,0,0,0,0,{"$f":"+VLOOKUP(C206,Scheepstypen!$A$1:$F$44,6,FALSE)","v":"L2"}]
["CEMT IVBII-1leegbeide","CEMT IV","BII-1","leeg","beide","CO2",17499.837086027052,9.9,0.19249820794629754,{"$f":"VLOOKUP(A207,Begin:Einde,7,FALSE)","v":0},1,{"$f":"VLOOKUP(Jaar&X207,Trendfactoren!$A$2:$F$65,6,FALSE)","v":1},0,0,0,0,0,0,0,0,0,0,0,{"$f":"+VLOOKUP(C207,Scheepstypen!$A$1:$F$44,6,FALSE)","v":"L2"}]
["CEMT IVBII-2Bgeladenbeide","CEMT IV","BII-2B","geladen","beide","CO2",149668.53666759099,11.15,1.8542268709373773,{"$f":"VLOOKUP(A208,Begin:Einde,7,FALSE)","v":0},1,{"$f":"VLOOKUP(Jaar&X208,Trendfactoren!$A$2:$F$65,6,FALSE)","v":1},0,0,0,0,0,0,0,0,0,0,0,{"$f":"+VLOOKUP(C208,Scheepstypen!$A$1:$F$44,6,FALSE)","v":"L3"}]
["CEMT IVBII-2Bleegbeide","CEMT IV","BII-2B","leeg","beide","CO2",50674.746426779151,11.2,0.63061906664436274,{"$f":"VLOOKUP(A209,Begin:Einde,7,FALSE)","v":0},1,{"$f":"VLOOKUP(Jaar&X209,Trendfactoren!$A$2:$F$65,6,FALSE)","v":1},0,0,0,0,0,0,0,0,0,0,0,{"$f":"+VLOOKUP(C209,Scheepstypen!$A$1:$F$44,6,FALSE)","v":"L3"}]
["CEMT IVBII-2Lgeladenbeide","CEMT IV","BII-2L","geladen","beide","CO2",54260.015412652188,9.26,0.55827526969017693,{"$f":"VLOOKUP(A210,Begin:Einde,7,FALSE)","v":0},1,{"$f":"VLOOKUP(Jaar&X210,Trendfactoren!$A$2:$F$65,6,FALSE)","v":1},0,0,0,0,0,0,0,0,0,0,0,{"$f":"+VLOOKUP(C210,Scheepstypen!$A$1:$F$44,6,FALSE)","v":"L3"}]
["CEMT IVBII-2Lleegbeide","CEMT IV","BII-2L","leeg","beide","CO2",32223.574339182549,11.82,0.42320294298793082,{"$f":"VLOOKUP(A211,Begin:Einde,7,FALSE)","v":0},1,{"$f":"VLOOKUP(Jaar&X211,Trendfactoren!$A$2:$F$65,6,FALSE)","v":1},0,0,0,0,0,0,0,0,0,0,0,{"$f":"+VLOOKUP(C211,Scheepstypen!$A$1:$F$44,6,FALSE)","v":"L3"}]
["CEMT IVBII-4geladenbeide","CEMT IV","BII-4","geladen","beide","CO2",216206.93975575053,11.03,2.6497361616732538,{"$f":"VLOOKUP(A212,Begin:Einde,7,FALSE)","v":0},1,{"$f":"VLOOKUP(Jaar&X212,Trendfactoren!$A$2:$F$65,6,FALSE)","v":1},0,0,0,0,0,0,0,0,0,0,0,{"$f":"+VLOOKUP(C212,Scheepstypen!$A$1:$F$44,6,FALSE)","v":"L3"}]
["CEMT IVBII-4leegbeide","CEMT IV","BII-4","leeg","beide","CO2",112130.28980230168,8.0399999999999991,1.0016972555672283,{"$f":"VLOOKUP(A213,Begin:Einde,7,FALSE)","v":0},1,{"$f":"VLOOKUP(Jaar&X213,Trendfactoren!$A$2:$F$65,6,FALSE)","v":1},0,0,0,0,0,0,0,0,0,0,0,{"$f":"+VLOOKUP(C213,Scheepstypen!$A$1:$F$44,6,FALSE)","v":"L3"}]
["CEMT IVBII-6Bleegbeide","CEMT IV","BII-6B","leeg","beide","CO2",126240.54683852447,9.68,1.3577872148854633,{"$f":"VLOOKUP(A214,Begin:Einde,7,FALSE)","v":0},1,{"$f":"VLOOKUP(Jaar&X214,Trendfactoren!$A$2:$F$65,6,FALSE)","v":1},0,0,0,0,0,0,0,0,0,0,0,{"$f":"+VLOOKUP(C214,Scheepstypen!$A$1:$F$44,6,FALSE)","v":"L3"}]
["CEMT IVBII-6Lgeladenbeide","CEMT IV","BII-6L","geladen","beide","CO2",279393.16718782211,3.18,0.98718919073030464,{"$f":"VLOOKUP(A215,Begin:Einde,7,FALSE)","v":0},1,{"$f":"VLOOKUP(Jaar&X215,Trendfactoren!$A$2:$F$65,6,FALSE)","v":1},0,0,0,0,0,0,0,0,0,0,0,{"$f":"+VLOOKUP(C215,Scheepstypen!$A$1:$F$44,6,FALSE)","v":"L3"}]
["CEMT IVBO1geladenbeide","CEMT IV","BO1","geladen","beide","CO2",9533.2384723360847,9.8000000000000007,0.10380637447654849,{"$f":"VLOOKUP(A216,Begin:Einde,7,FALSE)","v":0},1,{"$f":"VLOOKUP(Jaar&X216,Trendfactoren!$A$2:$F$65,6,FALSE)","v":1},0,0,0,0,0,0,0,0,0,0,0,{"$f":"+VLOOKUP(C216,Scheepstypen!$A$1:$F$44,6,FALSE)","v":"L1"}]
["CEMT IVBO1leegbeide","CEMT IV","BO1","leeg","beide","CO2",6400.2111003120908,11.48,8.1638248257314236E-2,{"$f":"VLOOKUP(A217,Begin:Einde,7,FALSE)","v":0},1,{"$f":"VLOOKUP(Jaar&X217,Trendfactoren!$A$2:$F$65,6,FALSE)","v":1},0,0,0,0,0,0,0,0,0,0,0,{"$f":"+VLOOKUP(C217,Scheepstypen!$A$1:$F$44,6,FALSE)","v":"L1"}]
["CEMT IVBO2geladenbeide","CEMT IV","BO2","geladen","beide","CO2",16864.848550622126,9.1199999999999992,0.17089713197963752,{"$f":"VLOOKUP(A218,Begin:Einde,7,FALSE)","v":0},1,{"$f":"VLOOKUP(Jaar&X218,Trendfactoren!$A$2:$F$65,6,FALSE)","v":1},0,0,0,0,0,0,0,0,0,0,0,{"$f":"+VLOOKUP(C218,Scheepstypen!$A$1:$F$44,6,FALSE)","v":"L1"}]
["CEMT IVBO2leegbeide","CEMT IV","BO2","leeg","beide","CO2",9199.6512103487075,11.75,0.12010655746844144,{"$f":"VLOOKUP(A219,Begin:Einde,7,FALSE)","v":0},1,{"$f":"VLOOKUP(Jaar&X219,Trendfactoren!$A$2:$F$65,6,FALSE)","v":1},0,0,0,0,0,0,0,0,0,0,0,{"$f":"+VLOOKUP(C219,Scheepstypen!$A$1:$F$44,6,FALSE)","v":"L1"}]
["CEMT IVBO3geladenbeide","CEMT IV","BO3","geladen","beide","CO2",22535.206325952102,9.6300000000000008,0.24112670768768754,{"$f":"VLOOKUP(A220,Begin:Einde,7,FALSE)","v":0},1,{"$f":"VLOOKUP(Jaar&X220,Trendfactoren!$A$2:$F$65,6,FALSE)","v":1},0,0,0,0,0,0,0,0,0,0,0,{"$f":"+VLOOKUP(C220,Scheepstypen!$A$1:$F$44,6,FALSE)","v":"L1"}]
["CEMT IVBO3leegbeide","CEMT IV","BO3","leeg","beide","CO2",12445.216103612569,12.32,0.17036118044056317,{"$f":"VLOOKUP(A221,Begin:Einde,7,FALSE)","v":0},1,{"$f":"VLOOKUP(Jaar&X221,Trendfactoren!$A$2:$F$65,6,FALSE)","v":1},0,0,0,0,0,0,0,0,0,0,0,{"$f":"+VLOOKUP(C221,Scheepstypen!$A$1:$F$44,6,FALSE)","v":"L1"}]
["CEMT IVBO4geladenbeide","CEMT IV","BO4","geladen","beide","CO2",23698.334436456884,9.11,0.23987980746235799,{"$f":"VLOOKUP(A222,Begin:Einde,7,FALSE)","v":0},1,{"$f":"VLOOKUP(Jaar&X222,Trendfactoren!$A$2:$F$65,6,FALSE)","v":1},0,0,0,0,0,0,0,0,0,0,0,{"$f":"+VLOOKUP(C222,Scheepstypen!$A$1:$F$44,6,FALSE)","v":"L1"}]
["CEMT IVBO4leegbeide","CEMT IV","BO4","leeg","beide","CO2",13492.560754753264,11.84,0.17750213259586514,{"$f":"VLOOKUP(A223,Begin:Einde,7,FALSE)","v":0},1,{"$f":"VLOOKUP(Jaar&X223,Trendfactoren!$A$2:$F$65,6,FALSE)","v":1},0,0,0,0,0,0,0,0,0,0,0,{"$f":"+VLOOKUP(C223,Scheepstypen!$A$1:$F$44,6,FALSE)","v":"L1"}]
["CEMT IVC1bgeladenbeide","CEMT IV","C1b","geladen","beide","CO2",15429.93391774695,8.74,0.14984180271234263,{"$f":"VLOOKUP(A224,Begin:Einde,7,FALSE)","v":0},1,{"$f":"VLOOKUP(Jaar&X224,Trendfactoren!$A$2:$F$65,6,FALSE)","v":1},0,0,0,0,0,0,0,0,0,0,0,{"$f":"+VLOOKUP(C224,Scheepstypen!$A$1:$F$44,6,FALSE)","v":"L1"}]
["CEMT IVC1bleegbeide","CEMT IV","C1b","leeg","beide","CO2",7323.8384152505714,8.16,6.6402801631605182E-2,{"$f":"VLOOKUP(A225,Begin:Einde,7,FALSE)","v":0},1,{"$f":"VLOOKUP(Jaar&X225,Trendfactoren!$A$2:$F$65,6,FALSE)","v":1},0,0,0,0,0,0,0,0,0,0,0,{"$f":"+VLOOKUP(C225,Scheepstypen!$A$1:$F$44,6,FALSE)","v":"L1"}]
["CEMT IVC1lgeladenbeide","CEMT IV","C1l","geladen","beide","CO2",10641.88744022736,8.18,9.6722932512288667E-2,{"$f":"VLOOKUP(A226,Begin:Einde,7,FALSE)","v":0},1,{"$f":"VLOOKUP(Jaar&X226,Trendfactoren!$A$2:$F$65,6,FALSE)","v":1},0,0,0,0,0,0,0,0,0,0,0,{"$f":"+VLOOKUP(C226,Scheepstypen!$A$1:$F$44,6,FALSE)","v":"L1"}]
["CEMT IVC1lleegbeide","CEMT IV","C1l","leeg","beide","CO2",7426.9727315503642,9.98,8.2356875400969601E-2,{"$f":"VLOOKUP(A227,Begin:Einde,7,FALSE)","v":0},1,{"$f":"VLOOKUP(Jaar&X227,Trendfactoren!$A$2:$F$65,6,FALSE)","v":1},0,0,0,0,0,0,0,0,0,0,0,{"$f":"+VLOOKUP(C227,Scheepstypen!$A$1:$F$44,6,FALSE)","v":"L1"}]
["CEMT IVC2bgeladenbeide","CEMT IV","C2b","geladen","beide","CO2",27313.170198952514,5.46,0.16569989920697856,{"$f":"VLOOKUP(A228,Begin:Einde,7,FALSE)","v":0},1,{"$f":"VLOOKUP(Jaar&X228,Trendfactoren!$A$2:$F$65,6,FALSE)","v":1},0,0,0,0,0,0,0,0,0,0,0,{"$f":"+VLOOKUP(C228,Scheepstypen!$A$1:$F$44,6,FALSE)","v":"L2"}]
["CEMT IVC2bleegbeide","CEMT IV","C2b","leeg","beide","CO2",30354.168755730552,10.36,0.34941020923263166,{"$f":"VLOOKUP(A229,Begin:Einde,7,FALSE)","v":0},1,{"$f":"VLOOKUP(Jaar&X229,Trendfactoren!$A$2:$F$65,6,FALSE)","v":1},0,0,0,0,0,0,0,0,0,0,0,{"$f":"+VLOOKUP(C229,Scheepstypen!$A$1:$F$44,6,FALSE)","v":"L2"}]
["CEMT IVC2lgeladenbeide","CEMT IV","C2l","geladen","beide","CO2",46924.367840511106,8.86,0.46194433229658705,{"$f":"VLOOKUP(A230,Begin:Einde,7,FALSE)","v":0},1,{"$f":"VLOOKUP(Jaar&X230,Trendfactoren!$A$2:$F$65,6,FALSE)","v":1},0,0,0,0,0,0,0,0,0,0,0,{"$f":"+VLOOKUP(C230,Scheepstypen!$A$1:$F$44,6,FALSE)","v":"L2"}]
["CEMT IVC2lleegbeide","CEMT IV","C2l","leeg","beide","CO2",31111.084738710881,10.66,0.36849351479406445,{"$f":"VLOOKUP(A231,Begin:Einde,7,FALSE)","v":0},1,{"$f":"VLOOKUP(Jaar&X231,Trendfactoren!$A$2:$F$65,6,FALSE)","v":1},0,0,0,0,0,0,0,0,0,0,0,{"$f":"+VLOOKUP(C231,Scheepstypen!$A$1:$F$44,6,FALSE)","v":"L2"}]
["CEMT IVC3bgeladenbeide","CEMT IV","C3b","geladen","beide","CO2",92741.833308440604,11.38,1.1726689589445045,{"$f":"VLOOKUP(A232,Begin:Einde,7,FALSE)","v":0},1,{"$f":"VLOOKUP(Jaar&X232,Trendfactoren!$A$2:$F$65,6,FALSE)","v":1},0,0,0,0,0,0,0,0,0,0,0,{"$f":"+VLOOKUP(C232,Scheepstypen!$A$1:$F$44,6,FALSE)","v":"L3"}]
["CEMT IVC3bleegbeide","CEMT IV","C3b","leeg","beide","CO2",80485.652851936073,12.19,1.0901334536278895,{"$f":"VLOOKUP(A233,Begin:Einde,7,FALSE)","v":0},1,{"$f":"VLOOKUP(Jaar&X233,Trendfactoren!$A$2:$F$65,6,FALSE)","v":1},0,0,0,0,0,0,0,0,0,0,0,{"$f":"+VLOOKUP(C233,Scheepstypen!$A$1:$F$44,6,FALSE)","v":"L3"}]
["CEMT IVC3lgeladenbeide","CEMT IV","C3l","geladen","beide","CO2",81947.418392233143,10.56,0.96151637580220228,{"$f":"VLOOKUP(A234,Begin:Einde,7,FALSE)","v":0},1,{"$f":"VLOOKUP(Jaar&X234,Trendfactoren!$A$2:$F$65,6,FALSE)","v":1},0,0,0,0,0,0,0,0,0,0,0,{"$f":"+VLOOKUP(C234,Scheepstypen!$A$1:$F$44,6,FALSE)","v":"L3"}]
["CEMT IVC3lleegbeide","CEMT IV","C3l","leeg","beide","CO2",32714.148267117573,10.42,0.37875713882596124,{"$f":"VLOOKUP(A235,Begin:Einde,7,FALSE)","v":0},1,{"$f":"VLOOKUP(Jaar&X235,Trendfactoren!$A$2:$F$65,6,FALSE)","v":1},0,0,0,0,0,0,0,0,0,0,0,{"$f":"+VLOOKUP(C235,Scheepstypen!$A$1:$F$44,6,FALSE)","v":"L3"}]
["CEMT IVC4geladenbeide","CEMT IV","C4","geladen","beide","CO2",19016.306253893032,3.9,8.2403993766869799E-2,{"$f":"VLOOKUP(A236,Begin:Einde,7,FALSE)","v":0},1,{"$f":"VLOOKUP(Jaar&X236,Trendfactoren!$A$2:$F$65,6,FALSE)","v":1},0,0,0,0,0,0,0,0,0,0,0,{"$f":"+VLOOKUP(C236,Scheepstypen!$A$1:$F$44,6,FALSE)","v":"L3"}]
["CEMT IVC4leegbeide","CEMT IV","C4","leeg","beide","CO2",59343.481460428797,11.8,0.77805897914784439,{"$f":"VLOOKUP(A237,Begin:Einde,7,FALSE)","v":0},1,{"$f":"VLOOKUP(Jaar&X237,Trendfactoren!$A$2:$F$65,6,FALSE)","v":1},0,0,0,0,0,0,0,0,0,0,0,{"$f":"+VLOOKUP(C237,Scheepstypen!$A$1:$F$44,6,FALSE)","v":"L3"}]
["CEMT IVM0geladenbeide","CEMT IV","M0","geladen","beide","CO2",1525.7928584579461,5.9,1.0002419849890981E-2,{"$f":"VLOOKUP(A238,Begin:Einde,7,FALSE)","v":0},1,{"$f":"VLOOKUP(Jaar&X238,Trendfactoren!$A$2:$F$65,6,FALSE)","v":1},0,0,0,0,0,0,0,0,0,0,0,{"$f":"+VLOOKUP(C238,Scheepstypen!$A$1:$F$44,6,FALSE)","v":"L1"}]
["CEMT IVM0leegbeide","CEMT IV","M0","leeg","beide","CO2",677.00734069307669,5.25,3.9492094873762804E-3,{"$f":"VLOOKUP(A239,Begin:Einde,7,FALSE)","v":0},1,{"$f":"VLOOKUP(Jaar&X239,Trendfactoren!$A$2:$F$65,6,FALSE)","v":1},0,0,0,0,0,0,0,0,0,0,0,{"$f":"+VLOOKUP(C239,Scheepstypen!$A$1:$F$44,6,FALSE)","v":"L1"}]
["CEMT IVM1geladenbeide","CEMT IV","M1","geladen","beide","CO2",4084.303129113574,6.8,3.0859179197747003E-2,{"$f":"VLOOKUP(A240,Begin:Einde,7,FALSE)","v":0},1,{"$f":"VLOOKUP(Jaar&X240,Trendfactoren!$A$2:$F$65,6,FALSE)","v":1},0,0,0,0,0,0,0,0,0,0,0,{"$f":"+VLOOKUP(C240,Scheepstypen!$A$1:$F$44,6,FALSE)","v":"L1"}]
["CEMT IVM1leegbeide","CEMT IV","M1","leeg","beide","CO2",2647.5314880923497,8.73,2.5681055434495791E-2,{"$f":"VLOOKUP(A241,Begin:Einde,7,FALSE)","v":0},1,{"$f":"VLOOKUP(Jaar&X241,Trendfactoren!$A$2:$F$65,6,FALSE)","v":1},0,0,0,0,0,0,0,0,0,0,0,{"$f":"+VLOOKUP(C241,Scheepstypen!$A$1:$F$44,6,FALSE)","v":"L1"}]
["CEMT IVM10geladenbeide","CEMT IV","M10","geladen","beide","CO2",6511.3579733564993,3.1,2.2428010797116833E-2,{"$f":"VLOOKUP(A242,Begin:Einde,7,FALSE)","v":0},1,{"$f":"VLOOKUP(Jaar&X242,Trendfactoren!$A$2:$F$65,6,FALSE)","v":1},0,0,0,0,0,0,0,0,0,0,0,{"$f":"+VLOOKUP(C242,Scheepstypen!$A$1:$F$44,6,FALSE)","v":"L3"}]
["CEMT IVM10leegbeide","CEMT IV","M10","leeg","beide","CO2",14619.888113718127,7.42,0.12053285533754278,{"$f":"VLOOKUP(A243,Begin:Einde,7,FALSE)","v":0},1,{"$f":"VLOOKUP(Jaar&X243,Trendfactoren!$A$2:$F$65,6,FALSE)","v":1},0,0,0,0,0,0,0,0,0,0,0,{"$f":"+VLOOKUP(C243,Scheepstypen!$A$1:$F$44,6,FALSE)","v":"L3"}]
["CEMT IVM11geladenbeide","CEMT IV","M11","geladen","beide","CO2",131502.44434779152,11.43,1.6700810432169519,{"$f":"VLOOKUP(A244,Begin:Einde,7,FALSE)","v":0},1,{"$f":"VLOOKUP(Jaar&X244,Trendfactoren!$A$2:$F$65,6,FALSE)","v":1},0,0,0,0,0,0,0,0,0,0,0,{"$f":"+VLOOKUP(C244,Scheepstypen!$A$1:$F$44,6,FALSE)","v":"L3"}]
["CEMT IVM11leegbeide","CEMT IV","M11","leeg","beide","CO2",45832.587142130928,12.92,0.65795225097370169,{"$f":"VLOOKUP(A245,Begin:Einde,7,FALSE)","v":0},1,{"$f":"VLOOKUP(Jaar&X245,Trendfactoren!$A$2:$F$65,6,FALSE)","v":1},0,0,0,0,0,0,0,0,0,0,0,{"$f":"+VLOOKUP(C245,Scheepstypen!$A$1:$F$44,6,FALSE)","v":"L3"}]
["CEMT IVM12geladenbeide","CEMT IV","M12","geladen","beide","CO2",87786.040817157904,9.9,0.96564644898873697,{"$f":"VLOOKUP(A246,Begin:Einde,7,FALSE)","v":0},1,{"$f":"VLOOKUP(Jaar&X246,Trendfactoren!$A$2:$F$65,6,FALSE)","v":1},0,0,0,0,0,0,0,0,0,0,0,{"$f":"+VLOOKUP(C246,Scheepstypen!$A$1:$F$44,6,FALSE)","v":"L3"}]
["CEMT IVM12leegbeide","CEMT IV","M12","leeg","beide","CO2",56497.685255162061,12.78,0.80226713062330124,{"$f":"VLOOKUP(A247,Begin:Einde,7,FALSE)","v":0},1,{"$f":"VLOOKUP(Jaar&X247,Trendfactoren!$A$2:$F$65,6,FALSE)","v":1},0,0,0,0,0,0,0,0,0,0,0,{"$f":"+VLOOKUP(C247,Scheepstypen!$A$1:$F$44,6,FALSE)","v":"L3"}]
["CEMT IVM2geladenbeide","CEMT IV","M2","geladen","beide","CO2",13527.319415022381,9.26,0.13918108642567473,{"$f":"VLOOKUP(A248,Begin:Einde,7,FALSE)","v":0},1,{"$f":"VLOOKUP(Jaar&X248,Trendfactoren!$A$2:$F$65,6,FALSE)","v":1},0,0,0,0,0,0,0,0,0,0,0,{"$f":"+VLOOKUP(C248,Scheepstypen!$A$1:$F$44,6,FALSE)","v":"L1"}]
["CEMT IVM2leegbeide","CEMT IV","M2","leeg","beide","CO2",5645.9241421825773,9.68,6.0725050773697054E-2,{"$f":"VLOOKUP(A249,Begin:Einde,7,FALSE)","v":0},1,{"$f":"VLOOKUP(Jaar&X249,Trendfactoren!$A$2:$F$65,6,FALSE)","v":1},0,0,0,0,0,0,0,0,0,0,0,{"$f":"+VLOOKUP(C249,Scheepstypen!$A$1:$F$44,6,FALSE)","v":"L1"}]
["CEMT IVM3geladenbeide","CEMT IV","M3","geladen","beide","CO2",15808.576691076694,8.85,0.15545100412892082,{"$f":"VLOOKUP(A250,Begin:Einde,7,FALSE)","v":0},1,{"$f":"VLOOKUP(Jaar&X250,Trendfactoren!$A$2:$F$65,6,FALSE)","v":1},0,0,0,0,0,0,0,0,0,0,0,{"$f":"+VLOOKUP(C250,Scheepstypen!$A$1:$F$44,6,FALSE)","v":"L1"}]
["CEMT IVM3leegbeide","CEMT IV","M3","leeg","beide","CO2",7227.0598625627063,9.3699999999999992,7.524172323579173E-2,{"$f":"VLOOKUP(A251,Begin:Einde,7,FALSE)","v":0},1,{"$f":"VLOOKUP(Jaar&X251,Trendfactoren!$A$2:$F$65,6,FALSE)","v":1},0,0,0,0,0,0,0,0,0,0,0,{"$f":"+VLOOKUP(C251,Scheepstypen!$A$1:$F$44,6,FALSE)","v":"L1"}]
["CEMT IVM4geladenbeide","CEMT IV","M4","geladen","beide","CO2",18456.267511097445,8.98,0.18415253583295008,{"$f":"VLOOKUP(A252,Begin:Einde,7,FALSE)","v":0},1,{"$f":"VLOOKUP(Jaar&X252,Trendfactoren!$A$2:$F$65,6,FALSE)","v":1},0,0,0,0,0,0,0,0,0,0,0,{"$f":"+VLOOKUP(C252,Scheepstypen!$A$1:$F$44,6,FALSE)","v":"L1"}]
["CEMT IVM4leegbeide","CEMT IV","M4","leeg","beide","CO2",9185.9635195945339,10.07,0.10278072515812996,{"$f":"VLOOKUP(A253,Begin:Einde,7,FALSE)","v":0},1,{"$f":"VLOOKUP(Jaar&X253,Trendfactoren!$A$2:$F$65,6,FALSE)","v":1},0,0,0,0,0,0,0,0,0,0,0,{"$f":"+VLOOKUP(C253,Scheepstypen!$A$1:$F$44,6,FALSE)","v":"L1"}]
["CEMT IVM5geladenbeide","CEMT IV","M5","geladen","beide","CO2",19111.196226933393,8.89,0.1887761493971532,{"$f":"VLOOKUP(A254,Begin:Einde,7,FALSE)","v":0},1,{"$f":"VLOOKUP(Jaar&X254,Trendfactoren!$A$2:$F$65,6,FALSE)","v":1},0,0,0,0,0,0,0,0,0,0,0,{"$f":"+VLOOKUP(C254,Scheepstypen!$A$1:$F$44,6,FALSE)","v":"L2"}]
["CEMT IVM5leegbeide","CEMT IV","M5","leeg","beide","CO2",10717.209329984309,10.46,0.12455778843515097,{"$f":"VLOOKUP(A255,Begin:Einde,7,FALSE)","v":0},1,{"$f":"VLOOKUP(Jaar&X255,Trendfactoren!$A$2:$F$65,6,FALSE)","v":1},0,0,0,0,0,0,0,0,0,0,0,{"$f":"+VLOOKUP(C255,Scheepstypen!$A$1:$F$44,6,FALSE)","v":"L2"}]
["CEMT IVM6geladenbeide","CEMT IV","M6","geladen","beide","CO2",21837.298582370659,8.6,{"$f":"+MJperkgCO2*G256/1000*H256/3600","v":0.20866751978709738},{"$f":"VLOOKUP(A256,Begin:Einde,7,FALSE)","v":0},{"$f":"+Afstand","v":1},{"$f":"VLOOKUP(Jaar&X256,Trendfactoren!$A$2:$F$65,6,FALSE)","v":1},0,{"$f":"+J256*H256","v":0},0,0,0,0,0,{"$f":"+S256/$I256","v":0},{"$f":"+Q256/$I256","v":0},{"$f":"+R256/$I256","v":0},0,{"$f":"+VLOOKUP(C256,Scheepstypen!$A$1:$F$44,6,FALSE)","v":"L2"}]
[{"$f":"+B257&C257&D257&E257","v":"CEMT IVM6leegbeide"},"CEMT IV","M6","leeg","beide","CO2",12163.25109908778,9.59,0.12960619782250202,{"$f":"VLOOKUP(A257,Begin:Einde,7,FALSE)","v":0},1,{"$f":"VLOOKUP(Jaar&X257,Trendfactoren!$A$2:$F$65,6,FALSE)","v":1},{"$f":"+J257*I257*L257","v":0},0,{"$f":"+J257*G257*K257","v":0},0,0,0,0,0,0,0,{"$f":"+P257/I257","v":0},{"$f":"+VLOOKUP(C257,Scheepstypen!$A$1:$F$44,6,FALSE)","v":"L2"}]
["CEMT IVM7geladenbeide","CEMT IV","M7","geladen","beide","CO2",21555.639361348902,8.0399999999999991,0.19256371162805017,{"$f":"VLOOKUP(A258,Begin:Einde,7,FALSE)","v":0},1,{"$f":"VLOOKUP(Jaar&X258,Trendfactoren!$A$2:$F$65,6,FALSE)","v":1},0,0,0,{"$f":"+O258/+IF($O$914>0,$O$914,1)","v":0},{"$f":"+IF(E258=\"beide\",O258,0)/IF($O$915>0,$O$915,1)","v":0},{"$f":"+IF(E258=\"op\",O258,0)/IF($O$916>0,$O$916,1)","v":0},{"$f":"+IF(E258=\"af\",O258,0)/IF($O$917>0,$O$917,1)","v":0},0,0,0,0,{"$f":"+VLOOKUP(C258,Scheepstypen!$A$1:$F$44,6,FALSE)","v":"L2"}]
["CEMT IVM7leegbeide","CEMT IV","M7","leeg","beide","CO2",9949.6411188904058,7.84,8.6672429302334195E-2,{"$f":"VLOOKUP(A259,Begin:Einde,7,FALSE)","v":0},1,{"$f":"VLOOKUP(Jaar&X259,Trendfactoren!$A$2:$F$65,6,FALSE)","v":1},0,0,0,0,0,0,0,0,0,0,0,{"$f":"+VLOOKUP(C259,Scheepstypen!$A$1:$F$44,6,FALSE)","v":"L2"}]
["CEMT IVM8geladenbeide","CEMT IV","M8","geladen","beide","CO2",33291.451263000185,7.97,0.29481429618456828,{"$f":"VLOOKUP(A260,Begin:Einde,7,FALSE)","v":0},1,{"$f":"VLOOKUP(Jaar&X260,Trendfactoren!$A$2:$F$65,6,FALSE)","v":1},0,0,0,0,0,0,0,0,0,0,0,{"$f":"+VLOOKUP(C260,Scheepstypen!$A$1:$F$44,6,FALSE)","v":"L3"}]
["CEMT IVM8leegbeide","CEMT IV","M8","leeg","beide","CO2",18997.223853661981,9.5500000000000007,0.20158165311385773,{"$f":"VLOOKUP(A261,Begin:Einde,7,FALSE)","v":0},1,{"$f":"VLOOKUP(Jaar&X261,Trendfactoren!$A$2:$F$65,6,FALSE)","v":1},0,0,0,0,0,0,0,0,0,0,0,{"$f":"+VLOOKUP(C261,Scheepstypen!$A$1:$F$44,6,FALSE)","v":"L3"}]
["CEMT IVM9geladenbeide","CEMT IV","M9","geladen","beide","CO2",111651.63173928247,12.36,1.5333490758861457,{"$f":"VLOOKUP(A262,Begin:Einde,7,FALSE)","v":0},1,{"$f":"VLOOKUP(Jaar&X262,Trendfactoren!$A$2:$F$65,6,FALSE)","v":1},0,0,0,0,0,0,0,0,0,0,0,{"$f":"+VLOOKUP(C262,Scheepstypen!$A$1:$F$44,6,FALSE)","v":"L3"}]
["CEMT IVM9leegbeide","CEMT IV","M9","leeg","beide","CO2",4744.0290883224043,4.2300000000000004,2.22969367151153E-2,{"$f":"VLOOKUP(A263,Begin:Einde,7,FALSE)","v":0},1,{"$f":"VLOOKUP(Jaar&X263,Trendfactoren!$A$2:$F$65,6,FALSE)","v":1},0,0,0,0,0,0,0,0,0,0,0,{"$f":"+VLOOKUP(C263,Scheepstypen!$A$1:$F$44,6,FALSE)","v":"L3"}]
["CEMT VaBIgeladenbeide","CEMT Va","BI","geladen","beide","CO2",30510.828560764334,9.06,0.30714234084502767,{"$f":"VLOOKUP(A264,Begin:Einde,7,FALSE)","v":0},1,{"$f":"VLOOKUP(Jaar&X264,Trendfactoren!$A$2:$F$65,6,FALSE)","v":1},0,0,0,0,0,0,0,0,0,0,0,{"$f":"+VLOOKUP(C264,Scheepstypen!$A$1:$F$44,6,FALSE)","v":"L2"}]
["CEMT VaBIleegbeide","CEMT Va","BI","leeg","beide","CO2",13460.406595226761,10.41,0.15569203628478953,{"$f":"VLOOKUP(A265,Begin:Einde,7,FALSE)","v":0},1,{"$f":"VLOOKUP(Jaar&X265,Trendfactoren!$A$2:$F$65,6,FALSE)","v":1},0,0,0,0,0,0,0,0,0,0,0,{"$f":"+VLOOKUP(C265,Scheepstypen!$A$1:$F$44,6,FALSE)","v":"L2"}]
["CEMT VaBII-1geladenbeide","CEMT Va","BII-1","geladen","beide","CO2",47041.011492426194,8.74,0.45682048938200548,{"$f":"VLOOKUP(A266,Begin:Einde,7,FALSE)","v":0},1,{"$f":"VLOOKUP(Jaar&X266,Trendfactoren!$A$2:$F$65,6,FALSE)","v":1},0,0,0,0,0,0,0,0,0,0,0,{"$f":"+VLOOKUP(C266,Scheepstypen!$A$1:$F$44,6,FALSE)","v":"L2"}]
["CEMT VaBII-1leegbeide","CEMT Va","BII-1","leeg","beide","CO2",17897.254671992498,9.64,0.19169948337556411,{"$f":"VLOOKUP(A267,Begin:Einde,7,FALSE)","v":0},1,{"$f":"VLOOKUP(Jaar&X267,Trendfactoren!$A$2:$F$65,6,FALSE)","v":1},0,0,0,0,0,0,0,0,0,0,0,{"$f":"+VLOOKUP(C267,Scheepstypen!$A$1:$F$44,6,FALSE)","v":"L2"}]
["CEMT VaBII-2Bgeladenbeide","CEMT Va","BII-2B","geladen","beide","CO2",145981.07851078821,9.3800000000000008,1.5214472404791042,{"$f":"VLOOKUP(A268,Begin:Einde,7,FALSE)","v":0},1,{"$f":"VLOOKUP(Jaar&X268,Trendfactoren!$A$2:$F$65,6,FALSE)","v":1},0,0,0,0,0,0,0,0,0,0,0,{"$f":"+VLOOKUP(C268,Scheepstypen!$A$1:$F$44,6,FALSE)","v":"L3"}]
["CEMT VaBII-2Bleegbeide","CEMT Va","BII-2B","leeg","beide","CO2",54969.655328155452,11.67,0.71277319742174905,{"$f":"VLOOKUP(A269,Begin:Einde,7,FALSE)","v":0},1,{"$f":"VLOOKUP(Jaar&X269,Trendfactoren!$A$2:$F$65,6,FALSE)","v":1},0,0,0,0,0,0,0,0,0,0,0,{"$f":"+VLOOKUP(C269,Scheepstypen!$A$1:$F$44,6,FALSE)","v":"L3"}]
["CEMT VaBII-2Lgeladenbeide","CEMT Va","BII-2L","geladen","beide","CO2",38773.440070633973,7.69,0.33129750460352808,{"$f":"VLOOKUP(A270,Begin:Einde,7,FALSE)","v":0},1,{"$f":"VLOOKUP(Jaar&X270,Trendfactoren!$A$2:$F$65,6,FALSE)","v":1},0,0,0,0,0,0,0,0,0,0,0,{"$f":"+VLOOKUP(C270,Scheepstypen!$A$1:$F$44,6,FALSE)","v":"L3"}]
["CEMT VaBII-2Lleegbeide","CEMT Va","BII-2L","leeg","beide","CO2",31623.892171906813,11.34,0.39846104136602584,{"$f":"VLOOKUP(A271,Begin:Einde,7,FALSE)","v":0},1,{"$f":"VLOOKUP(Jaar&X271,Trendfactoren!$A$2:$F$65,6,FALSE)","v":1},0,0,0,0,0,0,0,0,0,0,0,{"$f":"+VLOOKUP(C271,Scheepstypen!$A$1:$F$44,6,FALSE)","v":"L3"}]
["CEMT VaBII-4geladenbeide","CEMT Va","BII-4","geladen","beide","CO2",85842.303059788494,7.96,0.75922748039546262,{"$f":"VLOOKUP(A272,Begin:Einde,7,FALSE)","v":0},1,{"$f":"VLOOKUP(Jaar&X272,Trendfactoren!$A$2:$F$65,6,FALSE)","v":1},0,0,0,0,0,0,0,0,0,0,0,{"$f":"+VLOOKUP(C272,Scheepstypen!$A$1:$F$44,6,FALSE)","v":"L3"}]
["CEMT VaBII-4leegbeide","CEMT Va","BII-4","leeg","beide","CO2",88961.459123659981,13.45,1.3294795835702518,{"$f":"VLOOKUP(A273,Begin:Einde,7,FALSE)","v":0},1,{"$f":"VLOOKUP(Jaar&X273,Trendfactoren!$A$2:$F$65,6,FALSE)","v":1},0,0,0,0,0,0,0,0,0,0,0,{"$f":"+VLOOKUP(C273,Scheepstypen!$A$1:$F$44,6,FALSE)","v":"L3"}]
["CEMT VaBII-6Bgeladenbeide","CEMT Va","BII-6B","geladen","beide","CO2",257061.31769144695,11.2,3.1989852868268951,{"$f":"VLOOKUP(A274,Begin:Einde,7,FALSE)","v":0},1,{"$f":"VLOOKUP(Jaar&X274,Trendfactoren!$A$2:$F$65,6,FALSE)","v":1},0,0,0,0,0,0,0,0,0,0,0,{"$f":"+VLOOKUP(C274,Scheepstypen!$A$1:$F$44,6,FALSE)","v":"L3"}]
["CEMT VaBII-6Bleegbeide","CEMT Va","BII-6B","leeg","beide","CO2",164308.06512605859,15.62,2.8516577525211502,{"$f":"VLOOKUP(A275,Begin:Einde,7,FALSE)","v":0},1,{"$f":"VLOOKUP(Jaar&X275,Trendfactoren!$A$2:$F$65,6,FALSE)","v":1},0,0,0,0,0,0,0,0,0,0,0,{"$f":"+VLOOKUP(C275,Scheepstypen!$A$1:$F$44,6,FALSE)","v":"L3"}]
["CEMT VaBII-6Lgeladenbeide","CEMT Va","BII-6L","geladen","beide","CO2",166750.50463042691,11.1,2.0565895571085986,{"$f":"VLOOKUP(A276,Begin:Einde,7,FALSE)","v":0},1,{"$f":"VLOOKUP(Jaar&X276,Trendfactoren!$A$2:$F$65,6,FALSE)","v":1},0,0,0,0,0,0,0,0,0,0,0,{"$f":"+VLOOKUP(C276,Scheepstypen!$A$1:$F$44,6,FALSE)","v":"L3"}]
["CEMT VaBII-6Lleegbeide","CEMT Va","BII-6L","leeg","beide","CO2",101255.60629125444,15.22,1.7123448086143251,{"$f":"VLOOKUP(A277,Begin:Einde,7,FALSE)","v":0},1,{"$f":"VLOOKUP(Jaar&X277,Trendfactoren!$A$2:$F$65,6,FALSE)","v":1},0,0,0,0,0,0,0,0,0,0,0,{"$f":"+VLOOKUP(C277,Scheepstypen!$A$1:$F$44,6,FALSE)","v":"L3"}]
["CEMT VaBO1geladenbeide","CEMT Va","BO1","geladen","beide","CO2",9442.9695443737419,7.26,7.6173287657948188E-2,{"$f":"VLOOKUP(A278,Begin:Einde,7,FALSE)","v":0},1,{"$f":"VLOOKUP(Jaar&X278,Trendfactoren!$A$2:$F$65,6,FALSE)","v":1},0,0,0,0,0,0,0,0,0,0,0,{"$f":"+VLOOKUP(C278,Scheepstypen!$A$1:$F$44,6,FALSE)","v":"L1"}]
["CEMT VaBO1leegbeide","CEMT Va","BO1","leeg","beide","CO2",6864.790872396341,12.09,9.2217024052524188E-2,{"$f":"VLOOKUP(A279,Begin:Einde,7,FALSE)","v":0},1,{"$f":"VLOOKUP(Jaar&X279,Trendfactoren!$A$2:$F$65,6,FALSE)","v":1},0,0,0,0,0,0,0,0,0,0,0,{"$f":"+VLOOKUP(C279,Scheepstypen!$A$1:$F$44,6,FALSE)","v":"L1"}]
["CEMT VaBO2geladenbeide","CEMT Va","BO2","geladen","beide","CO2",16515.16731927498,9.06,0.16625268434736815,{"$f":"VLOOKUP(A280,Begin:Einde,7,FALSE)","v":0},1,{"$f":"VLOOKUP(Jaar&X280,Trendfactoren!$A$2:$F$65,6,FALSE)","v":1},0,0,0,0,0,0,0,0,0,0,0,{"$f":"+VLOOKUP(C280,Scheepstypen!$A$1:$F$44,6,FALSE)","v":"L1"}]
["CEMT VaBO2leegbeide","CEMT Va","BO2","leeg","beide","CO2",9459.3628369129747,11.77,0.12370744510051745,{"$f":"VLOOKUP(A281,Begin:Einde,7,FALSE)","v":0},1,{"$f":"VLOOKUP(Jaar&X281,Trendfactoren!$A$2:$F$65,6,FALSE)","v":1},0,0,0,0,0,0,0,0,0,0,0,{"$f":"+VLOOKUP(C281,Scheepstypen!$A$1:$F$44,6,FALSE)","v":"L1"}]
["CEMT VaBO3geladenbeide","CEMT Va","BO3","geladen","beide","CO2",27399.061503096305,10.18,0.30991382900168934,{"$f":"VLOOKUP(A282,Begin:Einde,7,FALSE)","v":0},1,{"$f":"VLOOKUP(Jaar&X282,Trendfactoren!$A$2:$F$65,6,FALSE)","v":1},0,0,0,0,0,0,0,0,0,0,0,{"$f":"+VLOOKUP(C282,Scheepstypen!$A$1:$F$44,6,FALSE)","v":"L1"}]
["CEMT VaBO3leegbeide","CEMT Va","BO3","leeg","beide","CO2",12294.737520750112,12.13,0.16570574014077652,{"$f":"VLOOKUP(A283,Begin:Einde,7,FALSE)","v":0},1,{"$f":"VLOOKUP(Jaar&X283,Trendfactoren!$A$2:$F$65,6,FALSE)","v":1},0,0,0,0,0,0,0,0,0,0,0,{"$f":"+VLOOKUP(C283,Scheepstypen!$A$1:$F$44,6,FALSE)","v":"L1"}]
["CEMT VaBO4geladenbeide","CEMT Va","BO4","geladen","beide","CO2",31558.763582876669,9.75,0.3418866054811639,{"$f":"VLOOKUP(A284,Begin:Einde,7,FALSE)","v":0},1,{"$f":"VLOOKUP(Jaar&X284,Trendfactoren!$A$2:$F$65,6,FALSE)","v":1},0,0,0,0,0,0,0,0,0,0,0,{"$f":"+VLOOKUP(C284,Scheepstypen!$A$1:$F$44,6,FALSE)","v":"L1"}]
["CEMT VaBO4leegbeide","CEMT Va","BO4","leeg","beide","CO2",14616.549653563163,11.41,0.18530536838572853,{"$f":"VLOOKUP(A285,Begin:Einde,7,FALSE)","v":0},1,{"$f":"VLOOKUP(Jaar&X285,Trendfactoren!$A$2:$F$65,6,FALSE)","v":1},0,0,0,0,0,0,0,0,0,0,0,{"$f":"+VLOOKUP(C285,Scheepstypen!$A$1:$F$44,6,FALSE)","v":"L1"}]
["CEMT VaC1bgeladenbeide","CEMT Va","C1b","geladen","beide","CO2",15038.30243381418,9.26,0.15472742281902144,{"$f":"VLOOKUP(A286,Begin:Einde,7,FALSE)","v":0},1,{"$f":"VLOOKUP(Jaar&X286,Trendfactoren!$A$2:$F$65,6,FALSE)","v":1},0,0,0,0,0,0,0,0,0,0,0,{"$f":"+VLOOKUP(C286,Scheepstypen!$A$1:$F$44,6,FALSE)","v":"L1"}]
["CEMT VaC1bleegbeide","CEMT Va","C1b","leeg","beide","CO2",7989.9575554570156,10.41,9.2417175724786152E-2,{"$f":"VLOOKUP(A287,Begin:Einde,7,FALSE)","v":0},1,{"$f":"VLOOKUP(Jaar&X287,Trendfactoren!$A$2:$F$65,6,FALSE)","v":1},0,0,0,0,0,0,0,0,0,0,0,{"$f":"+VLOOKUP(C287,Scheepstypen!$A$1:$F$44,6,FALSE)","v":"L1"}]
["CEMT VaC1lgeladenbeide","CEMT Va","C1l","geladen","beide","CO2",9621.3666231989428,9.7899999999999991,0.10465908804568627,{"$f":"VLOOKUP(A288,Begin:Einde,7,FALSE)","v":0},1,{"$f":"VLOOKUP(Jaar&X288,Trendfactoren!$A$2:$F$65,6,FALSE)","v":1},0,0,0,0,0,0,0,0,0,0,0,{"$f":"+VLOOKUP(C288,Scheepstypen!$A$1:$F$44,6,FALSE)","v":"L1"}]
["CEMT VaC1lleegbeide","CEMT Va","C1l","leeg","beide","CO2",4501.1337247831461,8.49,4.2460694803787676E-2,{"$f":"VLOOKUP(A289,Begin:Einde,7,FALSE)","v":0},1,{"$f":"VLOOKUP(Jaar&X289,Trendfactoren!$A$2:$F$65,6,FALSE)","v":1},0,0,0,0,0,0,0,0,0,0,0,{"$f":"+VLOOKUP(C289,Scheepstypen!$A$1:$F$44,6,FALSE)","v":"L1"}]
["CEMT VaC2bgeladenbeide","CEMT Va","C2b","geladen","beide","CO2",39114.077688008787,7.99,0.34724608969687798,{"$f":"VLOOKUP(A290,Begin:Einde,7,FALSE)","v":0},1,{"$f":"VLOOKUP(Jaar&X290,Trendfactoren!$A$2:$F$65,6,FALSE)","v":1},0,0,0,0,0,0,0,0,0,0,0,{"$f":"+VLOOKUP(C290,Scheepstypen!$A$1:$F$44,6,FALSE)","v":"L2"}]
["CEMT VaC2bleegbeide","CEMT Va","C2b","leeg","beide","CO2",26682.33781801998,10.38,0.30773629616783049,{"$f":"VLOOKUP(A291,Begin:Einde,7,FALSE)","v":0},1,{"$f":"VLOOKUP(Jaar&X291,Trendfactoren!$A$2:$F$65,6,FALSE)","v":1},0,0,0,0,0,0,0,0,0,0,0,{"$f":"+VLOOKUP(C291,Scheepstypen!$A$1:$F$44,6,FALSE)","v":"L2"}]
["CEMT VaC2lgeladenbeide","CEMT Va","C2l","geladen","beide","CO2",37975.830532661523,10.1,0.42617320931097935,{"$f":"VLOOKUP(A292,Begin:Einde,7,FALSE)","v":0},1,{"$f":"VLOOKUP(Jaar&X292,Trendfactoren!$A$2:$F$65,6,FALSE)","v":1},0,0,0,0,0,0,0,0,0,0,0,{"$f":"+VLOOKUP(C292,Scheepstypen!$A$1:$F$44,6,FALSE)","v":"L2"}]
["CEMT VaC2lleegbeide","CEMT Va","C2l","leeg","beide","CO2",24538.115859038684,11.12,0.30318205372501128,{"$f":"VLOOKUP(A293,Begin:Einde,7,FALSE)","v":0},1,{"$f":"VLOOKUP(Jaar&X293,Trendfactoren!$A$2:$F$65,6,FALSE)","v":1},0,0,0,0,0,0,0,0,0,0,0,{"$f":"+VLOOKUP(C293,Scheepstypen!$A$1:$F$44,6,FALSE)","v":"L2"}]
["CEMT VaC3bgeladenbeide","CEMT Va","C3b","geladen","beide","CO2",92463.402223444529,12.72,1.3068160847580161,{"$f":"VLOOKUP(A294,Begin:Einde,7,FALSE)","v":0},1,{"$f":"VLOOKUP(Jaar&X294,Trendfactoren!$A$2:$F$65,6,FALSE)","v":1},0,0,0,0,0,0,0,0,0,0,0,{"$f":"+VLOOKUP(C294,Scheepstypen!$A$1:$F$44,6,FALSE)","v":"L3"}]
["CEMT VaC3bleegbeide","CEMT Va","C3b","leeg","beide","CO2",59386.809807568869,13.23,0.87298610417126232,{"$f":"VLOOKUP(A295,Begin:Einde,7,FALSE)","v":0},1,{"$f":"VLOOKUP(Jaar&X295,Trendfactoren!$A$2:$F$65,6,FALSE)","v":1},0,0,0,0,0,0,0,0,0,0,0,{"$f":"+VLOOKUP(C295,Scheepstypen!$A$1:$F$44,6,FALSE)","v":"L3"}]
["CEMT VaC3lgeladenbeide","CEMT Va","C3l","geladen","beide","CO2",17531.715376209879,5.83,0.11356655627033732,{"$f":"VLOOKUP(A296,Begin:Einde,7,FALSE)","v":0},1,{"$f":"VLOOKUP(Jaar&X296,Trendfactoren!$A$2:$F$65,6,FALSE)","v":1},0,0,0,0,0,0,0,0,0,0,0,{"$f":"+VLOOKUP(C296,Scheepstypen!$A$1:$F$44,6,FALSE)","v":"L3"}]
["CEMT VaC3lleegbeide","CEMT Va","C3l","leeg","beide","CO2",21768.769552633192,9.84,0.23800521377545622,{"$f":"VLOOKUP(A297,Begin:Einde,7,FALSE)","v":0},1,{"$f":"VLOOKUP(Jaar&X297,Trendfactoren!$A$2:$F$65,6,FALSE)","v":1},0,0,0,0,0,0,0,0,0,0,0,{"$f":"+VLOOKUP(C297,Scheepstypen!$A$1:$F$44,6,FALSE)","v":"L3"}]
["CEMT VaC4geladenbeide","CEMT Va","C4","geladen","beide","CO2",33148.354966178369,5.47,0.20146833518332849,{"$f":"VLOOKUP(A298,Begin:Einde,7,FALSE)","v":0},1,{"$f":"VLOOKUP(Jaar&X298,Trendfactoren!$A$2:$F$65,6,FALSE)","v":1},0,0,0,0,0,0,0,0,0,0,0,{"$f":"+VLOOKUP(C298,Scheepstypen!$A$1:$F$44,6,FALSE)","v":"L3"}]
["CEMT VaC4leegbeide","CEMT Va","C4","leeg","beide","CO2",44107.164718937041,10.9,0.53418677270712644,{"$f":"VLOOKUP(A299,Begin:Einde,7,FALSE)","v":0},1,{"$f":"VLOOKUP(Jaar&X299,Trendfactoren!$A$2:$F$65,6,FALSE)","v":1},0,0,0,0,0,0,0,0,0,0,0,{"$f":"+VLOOKUP(C299,Scheepstypen!$A$1:$F$44,6,FALSE)","v":"L3"}]
["CEMT VaM0geladenbeide","CEMT Va","M0","geladen","beide","CO2",2778.2712676546817,8.16,2.5189659493402447E-2,{"$f":"VLOOKUP(A300,Begin:Einde,7,FALSE)","v":0},1,{"$f":"VLOOKUP(Jaar&X300,Trendfactoren!$A$2:$F$65,6,FALSE)","v":1},0,0,0,0,0,0,0,0,0,0,0,{"$f":"+VLOOKUP(C300,Scheepstypen!$A$1:$F$44,6,FALSE)","v":"L1"}]
["CEMT VaM0leegbeide","CEMT Va","M0","leeg","beide","CO2",1802.5055073672274,8.52,1.706371880307642E-2,{"$f":"VLOOKUP(A301,Begin:Einde,7,FALSE)","v":0},1,{"$f":"VLOOKUP(Jaar&X301,Trendfactoren!$A$2:$F$65,6,FALSE)","v":1},0,0,0,0,0,0,0,0,0,0,0,{"$f":"+VLOOKUP(C301,Scheepstypen!$A$1:$F$44,6,FALSE)","v":"L1"}]
["CEMT VaM1geladenbeide","CEMT Va","M1","geladen","beide","CO2",6000.9964642206469,7.91,5.2742091146650356E-2,{"$f":"VLOOKUP(A302,Begin:Einde,7,FALSE)","v":0},1,{"$f":"VLOOKUP(Jaar&X302,Trendfactoren!$A$2:$F$65,6,FALSE)","v":1},0,0,0,0,0,0,0,0,0,0,0,{"$f":"+VLOOKUP(C302,Scheepstypen!$A$1:$F$44,6,FALSE)","v":"L1"}]
["CEMT VaM1leegbeide","CEMT Va","M1","leeg","beide","CO2",3698.0945389831068,10.28,4.2240457623051487E-2,{"$f":"VLOOKUP(A303,Begin:Einde,7,FALSE)","v":0},1,{"$f":"VLOOKUP(Jaar&X303,Trendfactoren!$A$2:$F$65,6,FALSE)","v":1},0,0,0,0,0,0,0,0,0,0,0,{"$f":"+VLOOKUP(C303,Scheepstypen!$A$1:$F$44,6,FALSE)","v":"L1"}]
["CEMT VaM10geladenbeide","CEMT Va","M10","geladen","beide","CO2",80009.151442481554,12.26,1.0899024407609152,{"$f":"VLOOKUP(A304,Begin:Einde,7,FALSE)","v":0},1,{"$f":"VLOOKUP(Jaar&X304,Trendfactoren!$A$2:$F$65,6,FALSE)","v":1},0,0,0,0,0,0,0,0,0,0,0,{"$f":"+VLOOKUP(C304,Scheepstypen!$A$1:$F$44,6,FALSE)","v":"L3"}]
["CEMT VaM10leegbeide","CEMT Va","M10","leeg","beide","CO2",33743.10336545702,12.88,0.48290130149676264,{"$f":"VLOOKUP(A305,Begin:Einde,7,FALSE)","v":0},1,{"$f":"VLOOKUP(Jaar&X305,Trendfactoren!$A$2:$F$65,6,FALSE)","v":1},0,0,0,0,0,0,0,0,0,0,0,{"$f":"+VLOOKUP(C305,Scheepstypen!$A$1:$F$44,6,FALSE)","v":"L3"}]
["CEMT VaM11geladenbeide","CEMT Va","M11","geladen","beide","CO2",79429.284653308583,10.77,0.95050377301792599,{"$f":"VLOOKUP(A306,Begin:Einde,7,FALSE)","v":0},1,{"$f":"VLOOKUP(Jaar&X306,Trendfactoren!$A$2:$F$65,6,FALSE)","v":1},0,0,0,0,0,0,0,0,0,0,0,{"$f":"+VLOOKUP(C306,Scheepstypen!$A$1:$F$44,6,FALSE)","v":"L3"}]
["CEMT VaM11leegbeide","CEMT Va","M11","leeg","beide","CO2",35948.691685344114,13.38,0.53443721638878261,{"$f":"VLOOKUP(A307,Begin:Einde,7,FALSE)","v":0},1,{"$f":"VLOOKUP(Jaar&X307,Trendfactoren!$A$2:$F$65,6,FALSE)","v":1},0,0,0,0,0,0,0,0,0,0,0,{"$f":"+VLOOKUP(C307,Scheepstypen!$A$1:$F$44,6,FALSE)","v":"L3"}]
["CEMT VaM12geladenbeide","CEMT Va","M12","geladen","beide","CO2",87501.617114284061,9.83,0.9557121069260136,{"$f":"VLOOKUP(A308,Begin:Einde,7,FALSE)","v":0},1,{"$f":"VLOOKUP(Jaar&X308,Trendfactoren!$A$2:$F$65,6,FALSE)","v":1},0,0,0,0,0,0,0,0,0,0,0,{"$f":"+VLOOKUP(C308,Scheepstypen!$A$1:$F$44,6,FALSE)","v":"L3"}]
["CEMT VaM12leegbeide","CEMT Va","M12","leeg","beide","CO2",55153.691921960119,15.14,0.92780766188719577,{"$f":"VLOOKUP(A309,Begin:Einde,7,FALSE)","v":0},1,{"$f":"VLOOKUP(Jaar&X309,Trendfactoren!$A$2:$F$65,6,FALSE)","v":1},0,0,0,0,0,0,0,0,0,0,0,{"$f":"+VLOOKUP(C309,Scheepstypen!$A$1:$F$44,6,FALSE)","v":"L3"}]
["CEMT VaM2geladenbeide","CEMT Va","M2","geladen","beide","CO2",13707.484779970982,9.57,0.14575625482702478,{"$f":"VLOOKUP(A310,Begin:Einde,7,FALSE)","v":0},1,{"$f":"VLOOKUP(Jaar&X310,Trendfactoren!$A$2:$F$65,6,FALSE)","v":1},0,0,0,0,0,0,0,0,0,0,0,{"$f":"+VLOOKUP(C310,Scheepstypen!$A$1:$F$44,6,FALSE)","v":"L1"}]
["CEMT VaM2leegbeide","CEMT Va","M2","leeg","beide","CO2",6077.8490743842103,10.210000000000001,6.8949821166069764E-2,{"$f":"VLOOKUP(A311,Begin:Einde,7,FALSE)","v":0},1,{"$f":"VLOOKUP(Jaar&X311,Trendfactoren!$A$2:$F$65,6,FALSE)","v":1},0,0,0,0,0,0,0,0,0,0,0,{"$f":"+VLOOKUP(C311,Scheepstypen!$A$1:$F$44,6,FALSE)","v":"L1"}]
["CEMT VaM3geladenbeide","CEMT Va","M3","geladen","beide","CO2",16596.651131411531,9.66,0.17813738881048377,{"$f":"VLOOKUP(A312,Begin:Einde,7,FALSE)","v":0},1,{"$f":"VLOOKUP(Jaar&X312,Trendfactoren!$A$2:$F$65,6,FALSE)","v":1},0,0,0,0,0,0,0,0,0,0,0,{"$f":"+VLOOKUP(C312,Scheepstypen!$A$1:$F$44,6,FALSE)","v":"L1"}]
["CEMT VaM3leegbeide","CEMT Va","M3","leeg","beide","CO2",8839.0163815685028,10.9,0.10705030951010741,{"$f":"VLOOKUP(A313,Begin:Einde,7,FALSE)","v":0},1,{"$f":"VLOOKUP(Jaar&X313,Trendfactoren!$A$2:$F$65,6,FALSE)","v":1},0,0,0,0,0,0,0,0,0,0,0,{"$f":"+VLOOKUP(C313,Scheepstypen!$A$1:$F$44,6,FALSE)","v":"L1"}]
["CEMT VaM4geladenbeide","CEMT Va","M4","geladen","beide","CO2",18441.086555626531,9.09,0.18625497421182796,{"$f":"VLOOKUP(A314,Begin:Einde,7,FALSE)","v":0},1,{"$f":"VLOOKUP(Jaar&X314,Trendfactoren!$A$2:$F$65,6,FALSE)","v":1},0,0,0,0,0,0,0,0,0,0,0,{"$f":"+VLOOKUP(C314,Scheepstypen!$A$1:$F$44,6,FALSE)","v":"L1"}]
["CEMT VaM4leegbeide","CEMT Va","M4","leeg","beide","CO2",10597.889767127137,10.88,0.12811671185149251,{"$f":"VLOOKUP(A315,Begin:Einde,7,FALSE)","v":0},1,{"$f":"VLOOKUP(Jaar&X315,Trendfactoren!$A$2:$F$65,6,FALSE)","v":1},0,0,0,0,0,0,0,0,0,0,0,{"$f":"+VLOOKUP(C315,Scheepstypen!$A$1:$F$44,6,FALSE)","v":"L1"}]
["CEMT VaM5geladenbeide","CEMT Va","M5","geladen","beide","CO2",20059.036844953014,9.0399999999999991,0.20148188119819471,{"$f":"VLOOKUP(A316,Begin:Einde,7,FALSE)","v":0},1,{"$f":"VLOOKUP(Jaar&X316,Trendfactoren!$A$2:$F$65,6,FALSE)","v":1},0,0,0,0,0,0,0,0,0,0,0,{"$f":"+VLOOKUP(C316,Scheepstypen!$A$1:$F$44,6,FALSE)","v":"L2"}]
["CEMT VaM5leegbeide","CEMT Va","M5","leeg","beide","CO2",12263.991757274991,10.93,0.14893936656335069,{"$f":"VLOOKUP(A317,Begin:Einde,7,FALSE)","v":0},1,{"$f":"VLOOKUP(Jaar&X317,Trendfactoren!$A$2:$F$65,6,FALSE)","v":1},0,0,0,0,0,0,0,0,0,0,0,{"$f":"+VLOOKUP(C317,Scheepstypen!$A$1:$F$44,6,FALSE)","v":"L2"}]
["CEMT VaM6geladenbeide","CEMT Va","M6","geladen","beide","CO2",23775.940954704751,9.4,0.24832649441580518,{"$f":"VLOOKUP(A318,Begin:Einde,7,FALSE)","v":0},1,{"$f":"VLOOKUP(Jaar&X318,Trendfactoren!$A$2:$F$65,6,FALSE)","v":1},0,0,0,0,0,0,0,0,0,0,0,{"$f":"+VLOOKUP(C318,Scheepstypen!$A$1:$F$44,6,FALSE)","v":"L2"}]
["CEMT VaM6leegbeide","CEMT Va","M6","leeg","beide","CO2",14267.017297841969,10.69,{"$f":"+MJperkgCO2*G319/1000*H319/3600","v":0.16946046101547849},{"$f":"VLOOKUP(A319,Begin:Einde,7,FALSE)","v":0},{"$f":"+Afstand","v":1},{"$f":"VLOOKUP(Jaar&X319,Trendfactoren!$A$2:$F$65,6,FALSE)","v":1},0,{"$f":"+J319*H319","v":0},0,0,0,0,0,{"$f":"+S319/$I319","v":0},{"$f":"+Q319/$I319","v":0},{"$f":"+R319/$I319","v":0},0,{"$f":"+VLOOKUP(C319,Scheepstypen!$A$1:$F$44,6,FALSE)","v":"L2"}]
[{"$f":"+B320&C320&D320&E320","v":"CEMT VaM7geladenbeide"},"CEMT Va","M7","geladen","beide","CO2",26659.616622454287,9.6,0.28436924397284569,{"$f":"VLOOKUP(A320,Begin:Einde,7,FALSE)","v":0},1,{"$f":"VLOOKUP(Jaar&X320,Trendfactoren!$A$2:$F$65,6,FALSE)","v":1},{"$f":"+J320*I320*L320","v":0},0,{"$f":"+J320*G320*K320","v":0},0,0,0,0,0,0,0,{"$f":"+P320/I320","v":0},{"$f":"+VLOOKUP(C320,Scheepstypen!$A$1:$F$44,6,FALSE)","v":"L2"}]
["CEMT VaM7leegbeide","CEMT Va","M7","leeg","beide","CO2",14103.003362346619,9.58,0.15011863579031182,{"$f":"VLOOKUP(A321,Begin:Einde,7,FALSE)","v":0},1,{"$f":"VLOOKUP(Jaar&X321,Trendfactoren!$A$2:$F$65,6,FALSE)","v":1},0,0,0,0,0,0,0,0,0,0,0,{"$f":"+VLOOKUP(C321,Scheepstypen!$A$1:$F$44,6,FALSE)","v":"L2"}]
["CEMT VaM8geladenbeide","CEMT Va","M8","geladen","beide","CO2",42334.803898966013,9.7799999999999994,0.46003820236876397,{"$f":"VLOOKUP(A322,Begin:Einde,7,FALSE)","v":0},1,{"$f":"VLOOKUP(Jaar&X322,Trendfactoren!$A$2:$F$65,6,FALSE)","v":1},0,0,0,{"$f":"+O322/+IF($O$914>0,$O$914,1)","v":0},{"$f":"+IF(E322=\"beide\",O322,0)/IF($O$915>0,$O$915,1)","v":0},{"$f":"+IF(E322=\"op\",O322,0)/IF($O$916>0,$O$916,1)","v":0},{"$f":"+IF(E322=\"af\",O322,0)/IF($O$917>0,$O$917,1)","v":0},0,0,0,0,{"$f":"+VLOOKUP(C322,Scheepstypen!$A$1:$F$44,6,FALSE)","v":"L3"}]
["CEMT VaM8leegbeide","CEMT Va","M8","leeg","beide","CO2",22250.66686286925,10.77,0.26626631345900198,{"$f":"VLOOKUP(A323,Begin:Einde,7,FALSE)","v":0},1,{"$f":"VLOOKUP(Jaar&X323,Trendfactoren!$A$2:$F$65,6,FALSE)","v":1},0,0,0,0,0,0,0,0,0,0,0,{"$f":"+VLOOKUP(C323,Scheepstypen!$A$1:$F$44,6,FALSE)","v":"L3"}]
["CEMT VaM9geladenbeide","CEMT Va","M9","geladen","beide","CO2",58327.555289851007,11.57,0.7498331274484179,{"$f":"VLOOKUP(A324,Begin:Einde,7,FALSE)","v":0},1,{"$f":"VLOOKUP(Jaar&X324,Trendfactoren!$A$2:$F$65,6,FALSE)","v":1},0,0,0,0,0,0,0,0,0,0,0,{"$f":"+VLOOKUP(C324,Scheepstypen!$A$1:$F$44,6,FALSE)","v":"L3"}]
["CEMT VaM9leegbeide","CEMT Va","M9","leeg","beide","CO2",30121.817370323559,12.24,0.40965671623640043,{"$f":"VLOOKUP(A325,Begin:Einde,7,FALSE)","v":0},1,{"$f":"VLOOKUP(Jaar&X325,Trendfactoren!$A$2:$F$65,6,FALSE)","v":1},0,0,0,0,0,0,0,0,0,0,0,{"$f":"+VLOOKUP(C325,Scheepstypen!$A$1:$F$44,6,FALSE)","v":"L3"}]
["CEMT VbBIgeladenbeide","CEMT Vb","BI","geladen","beide","CO2",35696.881362340384,10.65,0.4224130961210279,{"$f":"VLOOKUP(A326,Begin:Einde,7,FALSE)","v":0},1,{"$f":"VLOOKUP(Jaar&X326,Trendfactoren!$A$2:$F$65,6,FALSE)","v":1},0,0,0,0,0,0,0,0,0,0,0,{"$f":"+VLOOKUP(C326,Scheepstypen!$A$1:$F$44,6,FALSE)","v":"L2"}]
["CEMT VbBIleegbeide","CEMT Vb","BI","leeg","beide","CO2",13669.618606380614,11.09,0.16844007816084558,{"$f":"VLOOKUP(A327,Begin:Einde,7,FALSE)","v":0},1,{"$f":"VLOOKUP(Jaar&X327,Trendfactoren!$A$2:$F$65,6,FALSE)","v":1},0,0,0,0,0,0,0,0,0,0,0,{"$f":"+VLOOKUP(C327,Scheepstypen!$A$1:$F$44,6,FALSE)","v":"L2"}]
["CEMT VbBII-1geladenbeide","CEMT Vb","BII-1","geladen","beide","CO2",49696.264571662177,9.52,0.52567604302469328,{"$f":"VLOOKUP(A328,Begin:Einde,7,FALSE)","v":0},1,{"$f":"VLOOKUP(Jaar&X328,Trendfactoren!$A$2:$F$65,6,FALSE)","v":1},0,0,0,0,0,0,0,0,0,0,0,{"$f":"+VLOOKUP(C328,Scheepstypen!$A$1:$F$44,6,FALSE)","v":"L2"}]
["CEMT VbBII-1leegbeide","CEMT Vb","BII-1","leeg","beide","CO2",20630.324295245147,10.96,0.25123150475098538,{"$f":"VLOOKUP(A329,Begin:Einde,7,FALSE)","v":0},1,{"$f":"VLOOKUP(Jaar&X329,Trendfactoren!$A$2:$F$65,6,FALSE)","v":1},0,0,0,0,0,0,0,0,0,0,0,{"$f":"+VLOOKUP(C329,Scheepstypen!$A$1:$F$44,6,FALSE)","v":"L2"}]
["CEMT VbBII-2Bgeladenbeide","CEMT Vb","BII-2B","geladen","beide","CO2",147752.72116416428,10.31,1.6925895057805931,{"$f":"VLOOKUP(A330,Begin:Einde,7,FALSE)","v":0},1,{"$f":"VLOOKUP(Jaar&X330,Trendfactoren!$A$2:$F$65,6,FALSE)","v":1},0,0,0,0,0,0,0,0,0,0,0,{"$f":"+VLOOKUP(C330,Scheepstypen!$A$1:$F$44,6,FALSE)","v":"L3"}]
["CEMT VbBII-2Bleegbeide","CEMT Vb","BII-2B","leeg","beide","CO2",54742.801797193417,12.02,0.73112053066918314,{"$f":"VLOOKUP(A331,Begin:Einde,7,FALSE)","v":0},1,{"$f":"VLOOKUP(Jaar&X331,Trendfactoren!$A$2:$F$65,6,FALSE)","v":1},0,0,0,0,0,0,0,0,0,0,0,{"$f":"+VLOOKUP(C331,Scheepstypen!$A$1:$F$44,6,FALSE)","v":"L3"}]
["CEMT VbBII-2Lgeladenbeide","CEMT Vb","BII-2L","geladen","beide","CO2",53485.046659112646,9.35,0.55565020695855916,{"$f":"VLOOKUP(A332,Begin:Einde,7,FALSE)","v":0},1,{"$f":"VLOOKUP(Jaar&X332,Trendfactoren!$A$2:$F$65,6,FALSE)","v":1},0,0,0,0,0,0,0,0,0,0,0,{"$f":"+VLOOKUP(C332,Scheepstypen!$A$1:$F$44,6,FALSE)","v":"L3"}]
["CEMT VbBII-2Lleegbeide","CEMT Vb","BII-2L","leeg","beide","CO2",27796.278569287846,10.77,0.33262880021247787,{"$f":"VLOOKUP(A333,Begin:Einde,7,FALSE)","v":0},1,{"$f":"VLOOKUP(Jaar&X333,Trendfactoren!$A$2:$F$65,6,FALSE)","v":1},0,0,0,0,0,0,0,0,0,0,0,{"$f":"+VLOOKUP(C333,Scheepstypen!$A$1:$F$44,6,FALSE)","v":"L3"}]
["CEMT VbBII-4geladenbeide","CEMT Vb","BII-4","geladen","beide","CO2",59978.425591075938,6.14,0.40918614792134028,{"$f":"VLOOKUP(A334,Begin:Einde,7,FALSE)","v":0},1,{"$f":"VLOOKUP(Jaar&X334,Trendfactoren!$A$2:$F$65,6,FALSE)","v":1},0,0,0,0,0,0,0,0,0,0,0,{"$f":"+VLOOKUP(C334,Scheepstypen!$A$1:$F$44,6,FALSE)","v":"L3"}]
["CEMT VbBII-4leegbeide","CEMT Vb","BII-4","leeg","beide","CO2",89476.58200764771,12.87,1.2795151227093622,{"$f":"VLOOKUP(A335,Begin:Einde,7,FALSE)","v":0},1,{"$f":"VLOOKUP(Jaar&X335,Trendfactoren!$A$2:$F$65,6,FALSE)","v":1},0,0,0,0,0,0,0,0,0,0,0,{"$f":"+VLOOKUP(C335,Scheepstypen!$A$1:$F$44,6,FALSE)","v":"L3"}]
["CEMT VbBII-6Bgeladenbeide","CEMT Vb","BII-6B","geladen","beide","CO2",178443.92830281556,6.01,1.1916088989999127,{"$f":"VLOOKUP(A336,Begin:Einde,7,FALSE)","v":0},1,{"$f":"VLOOKUP(Jaar&X336,Trendfactoren!$A$2:$F$65,6,FALSE)","v":1},0,0,0,0,0,0,0,0,0,0,0,{"$f":"+VLOOKUP(C336,Scheepstypen!$A$1:$F$44,6,FALSE)","v":"L3"}]
["CEMT VbBII-6Bleegbeide","CEMT Vb","BII-6B","leeg","beide","CO2",207787.59105352382,2.25,0.5194689776338095,{"$f":"VLOOKUP(A337,Begin:Einde,7,FALSE)","v":0},1,{"$f":"VLOOKUP(Jaar&X337,Trendfactoren!$A$2:$F$65,6,FALSE)","v":1},0,0,0,0,0,0,0,0,0,0,0,{"$f":"+VLOOKUP(C337,Scheepstypen!$A$1:$F$44,6,FALSE)","v":"L3"}]
["CEMT VbBO1leegbeide","CEMT Vb","BO1","leeg","beide","CO2",5644.0156973082785,11.61,7.2807802495276783E-2,{"$f":"VLOOKUP(A338,Begin:Einde,7,FALSE)","v":0},1,{"$f":"VLOOKUP(Jaar&X338,Trendfactoren!$A$2:$F$65,6,FALSE)","v":1},0,0,0,0,0,0,0,0,0,0,0,{"$f":"+VLOOKUP(C338,Scheepstypen!$A$1:$F$44,6,FALSE)","v":"L1"}]
["CEMT VbBO2geladenbeide","CEMT Vb","BO2","geladen","beide","CO2",16011.681970377756,9.3699999999999992,0.16669940006937731,{"$f":"VLOOKUP(A339,Begin:Einde,7,FALSE)","v":0},1,{"$f":"VLOOKUP(Jaar&X339,Trendfactoren!$A$2:$F$65,6,FALSE)","v":1},0,0,0,0,0,0,0,0,0,0,0,{"$f":"+VLOOKUP(C339,Scheepstypen!$A$1:$F$44,6,FALSE)","v":"L1"}]
["CEMT VbBO2leegbeide","CEMT Vb","BO2","leeg","beide","CO2",7928.0098057657297,11.96,0.10535444141884238,{"$f":"VLOOKUP(A340,Begin:Einde,7,FALSE)","v":0},1,{"$f":"VLOOKUP(Jaar&X340,Trendfactoren!$A$2:$F$65,6,FALSE)","v":1},0,0,0,0,0,0,0,0,0,0,0,{"$f":"+VLOOKUP(C340,Scheepstypen!$A$1:$F$44,6,FALSE)","v":"L1"}]
["CEMT VbBO3geladenbeide","CEMT Vb","BO3","geladen","beide","CO2",27349.93175844388,11.2,0.34035470632730158,{"$f":"VLOOKUP(A341,Begin:Einde,7,FALSE)","v":0},1,{"$f":"VLOOKUP(Jaar&X341,Trendfactoren!$A$2:$F$65,6,FALSE)","v":1},0,0,0,0,0,0,0,0,0,0,0,{"$f":"+VLOOKUP(C341,Scheepstypen!$A$1:$F$44,6,FALSE)","v":"L1"}]
["CEMT VbBO3leegbeide","CEMT Vb","BO3","leeg","beide","CO2",10229.500099552975,12.11,0.13764360689509614,{"$f":"VLOOKUP(A342,Begin:Einde,7,FALSE)","v":0},1,{"$f":"VLOOKUP(Jaar&X342,Trendfactoren!$A$2:$F$65,6,FALSE)","v":1},0,0,0,0,0,0,0,0,0,0,0,{"$f":"+VLOOKUP(C342,Scheepstypen!$A$1:$F$44,6,FALSE)","v":"L1"}]
["CEMT VbBO4geladenbeide","CEMT Vb","BO4","geladen","beide","CO2",29238.461129501982,11.33,0.36807973844139719,{"$f":"VLOOKUP(A343,Begin:Einde,7,FALSE)","v":0},1,{"$f":"VLOOKUP(Jaar&X343,Trendfactoren!$A$2:$F$65,6,FALSE)","v":1},0,0,0,0,0,0,0,0,0,0,0,{"$f":"+VLOOKUP(C343,Scheepstypen!$A$1:$F$44,6,FALSE)","v":"L1"}]
["CEMT VbBO4leegbeide","CEMT Vb","BO4","leeg","beide","CO2",12069.952874745682,12.06,0.16173736852159215,{"$f":"VLOOKUP(A344,Begin:Einde,7,FALSE)","v":0},1,{"$f":"VLOOKUP(Jaar&X344,Trendfactoren!$A$2:$F$65,6,FALSE)","v":1},0,0,0,0,0,0,0,0,0,0,0,{"$f":"+VLOOKUP(C344,Scheepstypen!$A$1:$F$44,6,FALSE)","v":"L1"}]
["CEMT VbC1bgeladenbeide","CEMT Vb","C1b","geladen","beide","CO2",14296.629964282189,4.68,7.4342475814267381E-2,{"$f":"VLOOKUP(A345,Begin:Einde,7,FALSE)","v":0},1,{"$f":"VLOOKUP(Jaar&X345,Trendfactoren!$A$2:$F$65,6,FALSE)","v":1},0,0,0,0,0,0,0,0,0,0,0,{"$f":"+VLOOKUP(C345,Scheepstypen!$A$1:$F$44,6,FALSE)","v":"L1"}]
["CEMT VbC1bleegbeide","CEMT Vb","C1b","leeg","beide","CO2",7421.5973097301203,10.52,8.6750226331512068E-2,{"$f":"VLOOKUP(A346,Begin:Einde,7,FALSE)","v":0},1,{"$f":"VLOOKUP(Jaar&X346,Trendfactoren!$A$2:$F$65,6,FALSE)","v":1},0,0,0,0,0,0,0,0,0,0,0,{"$f":"+VLOOKUP(C346,Scheepstypen!$A$1:$F$44,6,FALSE)","v":"L1"}]
["CEMT VbC1lgeladenbeide","CEMT Vb","C1l","geladen","beide","CO2",10056.179285640483,5.45,6.0895752340822916E-2,{"$f":"VLOOKUP(A347,Begin:Einde,7,FALSE)","v":0},1,{"$f":"VLOOKUP(Jaar&X347,Trendfactoren!$A$2:$F$65,6,FALSE)","v":1},0,0,0,0,0,0,0,0,0,0,0,{"$f":"+VLOOKUP(C347,Scheepstypen!$A$1:$F$44,6,FALSE)","v":"L1"}]
["CEMT VbC1lleegbeide","CEMT Vb","C1l","leeg","beide","CO2",5328.4753078378435,9.4600000000000009,5.6008196013495555E-2,{"$f":"VLOOKUP(A348,Begin:Einde,7,FALSE)","v":0},1,{"$f":"VLOOKUP(Jaar&X348,Trendfactoren!$A$2:$F$65,6,FALSE)","v":1},0,0,0,0,0,0,0,0,0,0,0,{"$f":"+VLOOKUP(C348,Scheepstypen!$A$1:$F$44,6,FALSE)","v":"L1"}]
["CEMT VbC2bgeladenbeide","CEMT Vb","C2b","geladen","beide","CO2",38561.408708598989,7.49,0.320916612474896,{"$f":"VLOOKUP(A349,Begin:Einde,7,FALSE)","v":0},1,{"$f":"VLOOKUP(Jaar&X349,Trendfactoren!$A$2:$F$65,6,FALSE)","v":1},0,0,0,0,0,0,0,0,0,0,0,{"$f":"+VLOOKUP(C349,Scheepstypen!$A$1:$F$44,6,FALSE)","v":"L2"}]
["CEMT VbC2bleegbeide","CEMT Vb","C2b","leeg","beide","CO2",23680.916236719528,9.24,0.24312407336365383,{"$f":"VLOOKUP(A350,Begin:Einde,7,FALSE)","v":0},1,{"$f":"VLOOKUP(Jaar&X350,Trendfactoren!$A$2:$F$65,6,FALSE)","v":1},0,0,0,0,0,0,0,0,0,0,0,{"$f":"+VLOOKUP(C350,Scheepstypen!$A$1:$F$44,6,FALSE)","v":"L2"}]
["CEMT VbC2lgeladenbeide","CEMT Vb","C2l","geladen","beide","CO2",31110.064763189737,9.91,0.34255637978134479,{"$f":"VLOOKUP(A351,Begin:Einde,7,FALSE)","v":0},1,{"$f":"VLOOKUP(Jaar&X351,Trendfactoren!$A$2:$F$65,6,FALSE)","v":1},0,0,0,0,0,0,0,0,0,0,0,{"$f":"+VLOOKUP(C351,Scheepstypen!$A$1:$F$44,6,FALSE)","v":"L2"}]
["CEMT VbC2lleegbeide","CEMT Vb","C2l","leeg","beide","CO2",20765.136445933349,11.13,0.25679552071470912,{"$f":"VLOOKUP(A352,Begin:Einde,7,FALSE)","v":0},1,{"$f":"VLOOKUP(Jaar&X352,Trendfactoren!$A$2:$F$65,6,FALSE)","v":1},0,0,0,0,0,0,0,0,0,0,0,{"$f":"+VLOOKUP(C352,Scheepstypen!$A$1:$F$44,6,FALSE)","v":"L2"}]
["CEMT VbC3bgeladenbeide","CEMT Vb","C3b","geladen","beide","CO2",92614.276668775041,11.96,1.2307408321761661,{"$f":"VLOOKUP(A353,Begin:Einde,7,FALSE)","v":0},1,{"$f":"VLOOKUP(Jaar&X353,Trendfactoren!$A$2:$F$65,6,FALSE)","v":1},0,0,0,0,0,0,0,0,0,0,0,{"$f":"+VLOOKUP(C353,Scheepstypen!$A$1:$F$44,6,FALSE)","v":"L3"}]
["CEMT VbC3bleegbeide","CEMT Vb","C3b","leeg","beide","CO2",59227.812023421786,13.84,0.91079213156017491,{"$f":"VLOOKUP(A354,Begin:Einde,7,FALSE)","v":0},1,{"$f":"VLOOKUP(Jaar&X354,Trendfactoren!$A$2:$F$65,6,FALSE)","v":1},0,0,0,0,0,0,0,0,0,0,0,{"$f":"+VLOOKUP(C354,Scheepstypen!$A$1:$F$44,6,FALSE)","v":"L3"}]
["CEMT VbC3lgeladenbeide","CEMT Vb","C3l","geladen","beide","CO2",33811.054230680413,7.86,0.2952832069479423,{"$f":"VLOOKUP(A355,Begin:Einde,7,FALSE)","v":0},1,{"$f":"VLOOKUP(Jaar&X355,Trendfactoren!$A$2:$F$65,6,FALSE)","v":1},0,0,0,0,0,0,0,0,0,0,0,{"$f":"+VLOOKUP(C355,Scheepstypen!$A$1:$F$44,6,FALSE)","v":"L3"}]
["CEMT VbC3lleegbeide","CEMT Vb","C3l","leeg","beide","CO2",25487.634653076781,9.39,0.26592098821376781,{"$f":"VLOOKUP(A356,Begin:Einde,7,FALSE)","v":0},1,{"$f":"VLOOKUP(Jaar&X356,Trendfactoren!$A$2:$F$65,6,FALSE)","v":1},0,0,0,0,0,0,0,0,0,0,0,{"$f":"+VLOOKUP(C356,Scheepstypen!$A$1:$F$44,6,FALSE)","v":"L3"}]
["CEMT VbC4geladenbeide","CEMT Vb","C4","geladen","beide","CO2",56165.52498558136,7.15,0.44620389294100743,{"$f":"VLOOKUP(A357,Begin:Einde,7,FALSE)","v":0},1,{"$f":"VLOOKUP(Jaar&X357,Trendfactoren!$A$2:$F$65,6,FALSE)","v":1},0,0,0,0,0,0,0,0,0,0,0,{"$f":"+VLOOKUP(C357,Scheepstypen!$A$1:$F$44,6,FALSE)","v":"L3"}]
["CEMT VbC4leegbeide","CEMT Vb","C4","leeg","beide","CO2",97387.854833042977,5.58,0.60380469996486641,{"$f":"VLOOKUP(A358,Begin:Einde,7,FALSE)","v":0},1,{"$f":"VLOOKUP(Jaar&X358,Trendfactoren!$A$2:$F$65,6,FALSE)","v":1},0,0,0,0,0,0,0,0,0,0,0,{"$f":"+VLOOKUP(C358,Scheepstypen!$A$1:$F$44,6,FALSE)","v":"L3"}]
["CEMT VbM0geladenbeide","CEMT Vb","M0","geladen","beide","CO2",3428.960940059264,9.18,3.4975401588604488E-2,{"$f":"VLOOKUP(A359,Begin:Einde,7,FALSE)","v":0},1,{"$f":"VLOOKUP(Jaar&X359,Trendfactoren!$A$2:$F$65,6,FALSE)","v":1},0,0,0,0,0,0,0,0,0,0,0,{"$f":"+VLOOKUP(C359,Scheepstypen!$A$1:$F$44,6,FALSE)","v":"L1"}]
["CEMT VbM0leegbeide","CEMT Vb","M0","leeg","beide","CO2",1294.8402804027323,8.2200000000000006,1.1826207894344956E-2,{"$f":"VLOOKUP(A360,Begin:Einde,7,FALSE)","v":0},1,{"$f":"VLOOKUP(Jaar&X360,Trendfactoren!$A$2:$F$65,6,FALSE)","v":1},0,0,0,0,0,0,0,0,0,0,0,{"$f":"+VLOOKUP(C360,Scheepstypen!$A$1:$F$44,6,FALSE)","v":"L1"}]
["CEMT VbM1geladenbeide","CEMT Vb","M1","geladen","beide","CO2",5868.7452999015859,7.97,5.1971000044684038E-2,{"$f":"VLOOKUP(A361,Begin:Einde,7,FALSE)","v":0},1,{"$f":"VLOOKUP(Jaar&X361,Trendfactoren!$A$2:$F$65,6,FALSE)","v":1},0,0,0,0,0,0,0,0,0,0,0,{"$f":"+VLOOKUP(C361,Scheepstypen!$A$1:$F$44,6,FALSE)","v":"L1"}]
["CEMT VbM1leegbeide","CEMT Vb","M1","leeg","beide","CO2",3681.4109268260686,10.59,4.3317935238986742E-2,{"$f":"VLOOKUP(A362,Begin:Einde,7,FALSE)","v":0},1,{"$f":"VLOOKUP(Jaar&X362,Trendfactoren!$A$2:$F$65,6,FALSE)","v":1},0,0,0,0,0,0,0,0,0,0,0,{"$f":"+VLOOKUP(C362,Scheepstypen!$A$1:$F$44,6,FALSE)","v":"L1"}]
["CEMT VbM10geladenbeide","CEMT Vb","M10","geladen","beide","CO2",39194.040149298176,7.64,0.33271385193404229,{"$f":"VLOOKUP(A363,Begin:Einde,7,FALSE)","v":0},1,{"$f":"VLOOKUP(Jaar&X363,Trendfactoren!$A$2:$F$65,6,FALSE)","v":1},0,0,0,0,0,0,0,0,0,0,0,{"$f":"+VLOOKUP(C363,Scheepstypen!$A$1:$F$44,6,FALSE)","v":"L3"}]
["CEMT VbM10leegbeide","CEMT Vb","M10","leeg","beide","CO2",15733.356951655485,7.28,0.12726537623116882,{"$f":"VLOOKUP(A364,Begin:Einde,7,FALSE)","v":0},1,{"$f":"VLOOKUP(Jaar&X364,Trendfactoren!$A$2:$F$65,6,FALSE)","v":1},0,0,0,0,0,0,0,0,0,0,0,{"$f":"+VLOOKUP(C364,Scheepstypen!$A$1:$F$44,6,FALSE)","v":"L3"}]
["CEMT VbM11geladenbeide","CEMT Vb","M11","geladen","beide","CO2",59413.635830481464,8.52,0.56244908586189113,{"$f":"VLOOKUP(A365,Begin:Einde,7,FALSE)","v":0},1,{"$f":"VLOOKUP(Jaar&X365,Trendfactoren!$A$2:$F$65,6,FALSE)","v":1},0,0,0,0,0,0,0,0,0,0,0,{"$f":"+VLOOKUP(C365,Scheepstypen!$A$1:$F$44,6,FALSE)","v":"L3"}]
["CEMT VbM11leegbeide","CEMT Vb","M11","leeg","beide","CO2",24932.669230617346,5.0999999999999996,0.14128512564016496,{"$f":"VLOOKUP(A366,Begin:Einde,7,FALSE)","v":0},1,{"$f":"VLOOKUP(Jaar&X366,Trendfactoren!$A$2:$F$65,6,FALSE)","v":1},0,0,0,0,0,0,0,0,0,0,0,{"$f":"+VLOOKUP(C366,Scheepstypen!$A$1:$F$44,6,FALSE)","v":"L3"}]
["CEMT VbM12geladenbeide","CEMT Vb","M12","geladen","beide","CO2",70144.71549392298,7.35,0.57284850986703761,{"$f":"VLOOKUP(A367,Begin:Einde,7,FALSE)","v":0},1,{"$f":"VLOOKUP(Jaar&X367,Trendfactoren!$A$2:$F$65,6,FALSE)","v":1},0,0,0,0,0,0,0,0,0,0,0,{"$f":"+VLOOKUP(C367,Scheepstypen!$A$1:$F$44,6,FALSE)","v":"L3"}]
["CEMT VbM12leegbeide","CEMT Vb","M12","leeg","beide","CO2",28433.114812787036,4.7699999999999996,0.15069550850777128,{"$f":"VLOOKUP(A368,Begin:Einde,7,FALSE)","v":0},1,{"$f":"VLOOKUP(Jaar&X368,Trendfactoren!$A$2:$F$65,6,FALSE)","v":1},0,0,0,0,0,0,0,0,0,0,0,{"$f":"+VLOOKUP(C368,Scheepstypen!$A$1:$F$44,6,FALSE)","v":"L3"}]
["CEMT VbM2geladenbeide","CEMT Vb","M2","geladen","beide","CO2",15202.599128256945,10.73,0.18124876516244115,{"$f":"VLOOKUP(A369,Begin:Einde,7,FALSE)","v":0},1,{"$f":"VLOOKUP(Jaar&X369,Trendfactoren!$A$2:$F$65,6,FALSE)","v":1},0,0,0,0,0,0,0,0,0,0,0,{"$f":"+VLOOKUP(C369,Scheepstypen!$A$1:$F$44,6,FALSE)","v":"L1"}]
["CEMT VbM2leegbeide","CEMT Vb","M2","leeg","beide","CO2",6990.7544319838462,11.97,9.297703394538516E-2,{"$f":"VLOOKUP(A370,Begin:Einde,7,FALSE)","v":0},1,{"$f":"VLOOKUP(Jaar&X370,Trendfactoren!$A$2:$F$65,6,FALSE)","v":1},0,0,0,0,0,0,0,0,0,0,0,{"$f":"+VLOOKUP(C370,Scheepstypen!$A$1:$F$44,6,FALSE)","v":"L1"}]
["CEMT VbM3geladenbeide","CEMT Vb","M3","geladen","beide","CO2",19393.604860208408,11.04,0.23789488628522315,{"$f":"VLOOKUP(A371,Begin:Einde,7,FALSE)","v":0},1,{"$f":"VLOOKUP(Jaar&X371,Trendfactoren!$A$2:$F$65,6,FALSE)","v":1},0,0,0,0,0,0,0,0,0,0,0,{"$f":"+VLOOKUP(C371,Scheepstypen!$A$1:$F$44,6,FALSE)","v":"L1"}]
["CEMT VbM3leegbeide","CEMT Vb","M3","leeg","beide","CO2",9396.442389649701,11.98,0.12507708869778159,{"$f":"VLOOKUP(A372,Begin:Einde,7,FALSE)","v":0},1,{"$f":"VLOOKUP(Jaar&X372,Trendfactoren!$A$2:$F$65,6,FALSE)","v":1},0,0,0,0,0,0,0,0,0,0,0,{"$f":"+VLOOKUP(C372,Scheepstypen!$A$1:$F$44,6,FALSE)","v":"L1"}]
["CEMT VbM4geladenbeide","CEMT Vb","M4","geladen","beide","CO2",22398.051010381303,10.86,0.27026981552526769,{"$f":"VLOOKUP(A373,Begin:Einde,7,FALSE)","v":0},1,{"$f":"VLOOKUP(Jaar&X373,Trendfactoren!$A$2:$F$65,6,FALSE)","v":1},0,0,0,0,0,0,0,0,0,0,0,{"$f":"+VLOOKUP(C373,Scheepstypen!$A$1:$F$44,6,FALSE)","v":"L1"}]
["CEMT VbM4leegbeide","CEMT Vb","M4","leeg","beide","CO2",11384.569826656598,12.22,0.15457715920193738,{"$f":"VLOOKUP(A374,Begin:Einde,7,FALSE)","v":0},1,{"$f":"VLOOKUP(Jaar&X374,Trendfactoren!$A$2:$F$65,6,FALSE)","v":1},0,0,0,0,0,0,0,0,0,0,0,{"$f":"+VLOOKUP(C374,Scheepstypen!$A$1:$F$44,6,FALSE)","v":"L1"}]
["CEMT VbM5geladenbeide","CEMT Vb","M5","geladen","beide","CO2",24828.709427347119,11.14,0.30732424780071882,{"$f":"VLOOKUP(A375,Begin:Einde,7,FALSE)","v":0},1,{"$f":"VLOOKUP(Jaar&X375,Trendfactoren!$A$2:$F$65,6,FALSE)","v":1},0,0,0,0,0,0,0,0,0,0,0,{"$f":"+VLOOKUP(C375,Scheepstypen!$A$1:$F$44,6,FALSE)","v":"L2"}]
["CEMT VbM5leegbeide","CEMT Vb","M5","leeg","beide","CO2",13859.513837270111,12.77,0.19665110189104368,{"$f":"VLOOKUP(A376,Begin:Einde,7,FALSE)","v":0},1,{"$f":"VLOOKUP(Jaar&X376,Trendfactoren!$A$2:$F$65,6,FALSE)","v":1},0,0,0,0,0,0,0,0,0,0,0,{"$f":"+VLOOKUP(C376,Scheepstypen!$A$1:$F$44,6,FALSE)","v":"L2"}]
["CEMT VbM6geladenbeide","CEMT Vb","M6","geladen","beide","CO2",31533.055572905327,11.27,0.39486392922960339,{"$f":"VLOOKUP(A377,Begin:Einde,7,FALSE)","v":0},1,{"$f":"VLOOKUP(Jaar&X377,Trendfactoren!$A$2:$F$65,6,FALSE)","v":1},0,0,0,0,0,0,0,0,0,0,0,{"$f":"+VLOOKUP(C377,Scheepstypen!$A$1:$F$44,6,FALSE)","v":"L2"}]
["CEMT VbM6leegbeide","CEMT Vb","M6","leeg","beide","CO2",16782.346234550576,12.34,0.23010461392706014,{"$f":"VLOOKUP(A378,Begin:Einde,7,FALSE)","v":0},1,{"$f":"VLOOKUP(Jaar&X378,Trendfactoren!$A$2:$F$65,6,FALSE)","v":1},0,0,0,0,0,0,0,0,0,0,0,{"$f":"+VLOOKUP(C378,Scheepstypen!$A$1:$F$44,6,FALSE)","v":"L2"}]
["CEMT VbM7geladenbeide","CEMT Vb","M7","geladen","beide","CO2",32725.397262251008,10.67,0.38797776532024247,{"$f":"VLOOKUP(A379,Begin:Einde,7,FALSE)","v":0},1,{"$f":"VLOOKUP(Jaar&X379,Trendfactoren!$A$2:$F$65,6,FALSE)","v":1},{"$f":"+J379*I379*L379","v":0},0,0,0,0,0,0,0,0,0,0,{"$f":"+VLOOKUP(C379,Scheepstypen!$A$1:$F$44,6,FALSE)","v":"L2"}]
["CEMT VbM7leegbeide","CEMT Vb","M7","leeg","beide","CO2",19747.10168738358,11.72,0.25715114641792841,{"$f":"VLOOKUP(A380,Begin:Einde,7,FALSE)","v":0},1,{"$f":"VLOOKUP(Jaar&X380,Trendfactoren!$A$2:$F$65,6,FALSE)","v":1},0,0,0,0,0,0,0,0,0,0,0,{"$f":"+VLOOKUP(C380,Scheepstypen!$A$1:$F$44,6,FALSE)","v":"L2"}]
["CEMT VbM8geladenbeide","CEMT Vb","M8","geladen","beide","CO2",51511.825702261427,10.79,0.61756955480822306,{"$f":"VLOOKUP(A381,Begin:Einde,7,FALSE)","v":0},1,{"$f":"VLOOKUP(Jaar&X381,Trendfactoren!$A$2:$F$65,6,FALSE)","v":1},0,0,0,0,0,0,0,0,0,0,0,{"$f":"+VLOOKUP(C381,Scheepstypen!$A$1:$F$44,6,FALSE)","v":"L3"}]
["CEMT VbM8leegbeide","CEMT Vb","M8","leeg","beide","CO2",27053.718124692819,11.78,{"$f":"+MJperkgCO2*G382/1000*H382/3600","v":0.35410311056542376},{"$f":"VLOOKUP(A382,Begin:Einde,7,FALSE)","v":0},{"$f":"+Afstand","v":1},{"$f":"VLOOKUP(Jaar&X382,Trendfactoren!$A$2:$F$65,6,FALSE)","v":1},0,{"$f":"+J382*H382","v":0},0,0,0,0,0,{"$f":"+S382/$I382","v":0},{"$f":"+Q382/$I382","v":0},{"$f":"+R382/$I382","v":0},0,{"$f":"+VLOOKUP(C382,Scheepstypen!$A$1:$F$44,6,FALSE)","v":"L3"}]
[{"$f":"+B383&C383&D383&E383","v":"CEMT VbM9geladenbeide"},"CEMT Vb","M9","geladen","beide","CO2",51907.548778296434,9.34,0.53868500621032067,{"$f":"VLOOKUP(A383,Begin:Einde,7,FALSE)","v":0},1,{"$f":"VLOOKUP(Jaar&X383,Trendfactoren!$A$2:$F$65,6,FALSE)","v":1},{"$f":"+J383*I383*L383","v":0},0,{"$f":"+J383*G383*K383","v":0},0,0,0,0,0,0,0,{"$f":"+P383/I383","v":0},{"$f":"+VLOOKUP(C383,Scheepstypen!$A$1:$F$44,6,FALSE)","v":"L3"}]
["CEMT VbM9leegbeide","CEMT Vb","M9","leeg","beide","CO2",21386.956915465405,8.1199999999999992,0.1929578779484212,{"$f":"VLOOKUP(A384,Begin:Einde,7,FALSE)","v":0},1,{"$f":"VLOOKUP(Jaar&X384,Trendfactoren!$A$2:$F$65,6,FALSE)","v":1},0,0,0,0,0,0,0,0,0,0,0,{"$f":"+VLOOKUP(C384,Scheepstypen!$A$1:$F$44,6,FALSE)","v":"L3"}]
["CEMT VIaBIgeladenbeide","CEMT VIa","BI","geladen","beide","CO2",27343.754699659577,5.47,0.16618926467459763,{"$f":"VLOOKUP(A385,Begin:Einde,7,FALSE)","v":0},1,{"$f":"VLOOKUP(Jaar&X385,Trendfactoren!$A$2:$F$65,6,FALSE)","v":1},0,0,0,0,0,0,0,0,0,0,0,{"$f":"+VLOOKUP(C385,Scheepstypen!$A$1:$F$44,6,FALSE)","v":"L2"}]
["CEMT VIaBIleegbeide","CEMT VIa","BI","leeg","beide","CO2",15517.292686107448,6.09,0.10500034717599371,{"$f":"VLOOKUP(A386,Begin:Einde,7,FALSE)","v":0},1,{"$f":"VLOOKUP(Jaar&X386,Trendfactoren!$A$2:$F$65,6,FALSE)","v":1},0,0,0,{"$f":"+O386/+IF($O$914>0,$O$914,1)","v":0},{"$f":"+IF(E386=\"beide\",O386,0)/IF($O$915>0,$O$915,1)","v":0},{"$f":"+IF(E386=\"op\",O386,0)/IF($O$916>0,$O$916,1)","v":0},{"$f":"+IF(E386=\"af\",O386,0)/IF($O$917>0,$O$917,1)","v":0},0,0,0,0,{"$f":"+VLOOKUP(C386,Scheepstypen!$A$1:$F$44,6,FALSE)","v":"L2"}]
["CEMT VIaBII-1geladenbeide","CEMT VIa","BII-1","geladen","beide","CO2",28560.104997296192,6.02,0.19103536898191451,{"$f":"VLOOKUP(A387,Begin:Einde,7,FALSE)","v":0},1,{"$f":"VLOOKUP(Jaar&X387,Trendfactoren!$A$2:$F$65,6,FALSE)","v":1},0,0,0,0,0,0,0,0,0,0,0,{"$f":"+VLOOKUP(C387,Scheepstypen!$A$1:$F$44,6,FALSE)","v":"L2"}]
["CEMT VIaBII-1leegbeide","CEMT VIa","BII-1","leeg","beide","CO2",20999.433081534011,6.58,0.15352918852943756,{"$f":"VLOOKUP(A388,Begin:Einde,7,FALSE)","v":0},1,{"$f":"VLOOKUP(Jaar&X388,Trendfactoren!$A$2:$F$65,6,FALSE)","v":1},0,0,0,0,0,0,0,0,0,0,0,{"$f":"+VLOOKUP(C388,Scheepstypen!$A$1:$F$44,6,FALSE)","v":"L2"}]
["CEMT VIaBII-2Bgeladenbeide","CEMT VIa","BII-2B","geladen","beide","CO2",90224.600297925092,5.82,0.58345241525991554,{"$f":"VLOOKUP(A389,Begin:Einde,7,FALSE)","v":0},1,{"$f":"VLOOKUP(Jaar&X389,Trendfactoren!$A$2:$F$65,6,FALSE)","v":1},0,0,0,0,0,0,0,0,0,0,0,{"$f":"+VLOOKUP(C389,Scheepstypen!$A$1:$F$44,6,FALSE)","v":"L3"}]
["CEMT VIaBII-2Bleegbeide","CEMT VIa","BII-2B","leeg","beide","CO2",54326.274805592831,6.4,0.38632017639532679,{"$f":"VLOOKUP(A390,Begin:Einde,7,FALSE)","v":0},1,{"$f":"VLOOKUP(Jaar&X390,Trendfactoren!$A$2:$F$65,6,FALSE)","v":1},0,0,0,0,0,0,0,0,0,0,0,{"$f":"+VLOOKUP(C390,Scheepstypen!$A$1:$F$44,6,FALSE)","v":"L3"}]
["CEMT VIaBII-2Lgeladenbeide","CEMT VIa","BII-2L","geladen","beide","CO2",47320.314693875443,5.95,0.31283985825395438,{"$f":"VLOOKUP(A391,Begin:Einde,7,FALSE)","v":0},1,{"$f":"VLOOKUP(Jaar&X391,Trendfactoren!$A$2:$F$65,6,FALSE)","v":1},0,0,0,0,0,0,0,0,0,0,0,{"$f":"+VLOOKUP(C391,Scheepstypen!$A$1:$F$44,6,FALSE)","v":"L3"}]
["CEMT VIaBII-2Lleegbeide","CEMT VIa","BII-2L","leeg","beide","CO2",27471.363980668128,5.85,0.17856386587434281,{"$f":"VLOOKUP(A392,Begin:Einde,7,FALSE)","v":0},1,{"$f":"VLOOKUP(Jaar&X392,Trendfactoren!$A$2:$F$65,6,FALSE)","v":1},0,0,0,0,0,0,0,0,0,0,0,{"$f":"+VLOOKUP(C392,Scheepstypen!$A$1:$F$44,6,FALSE)","v":"L3"}]
["CEMT VIaBII-4geladenbeide","CEMT VIa","BII-4","geladen","beide","CO2",92937.179909695085,8.1999999999999993,0.84676097251055515,{"$f":"VLOOKUP(A393,Begin:Einde,7,FALSE)","v":0},1,{"$f":"VLOOKUP(Jaar&X393,Trendfactoren!$A$2:$F$65,6,FALSE)","v":1},0,0,0,0,0,0,0,0,0,0,0,{"$f":"+VLOOKUP(C393,Scheepstypen!$A$1:$F$44,6,FALSE)","v":"L3"}]
["CEMT VIaBII-4leegbeide","CEMT VIa","BII-4","leeg","beide","CO2",88394.122723823981,6.21,0.60991944679438548,{"$f":"VLOOKUP(A394,Begin:Einde,7,FALSE)","v":0},1,{"$f":"VLOOKUP(Jaar&X394,Trendfactoren!$A$2:$F$65,6,FALSE)","v":1},0,0,0,0,0,0,0,0,0,0,0,{"$f":"+VLOOKUP(C394,Scheepstypen!$A$1:$F$44,6,FALSE)","v":"L3"}]
["CEMT VIaBII-6Bleegbeide","CEMT VIa","BII-6B","leeg","beide","CO2",118861.30156716006,16.22,2.1421447904659288,{"$f":"VLOOKUP(A395,Begin:Einde,7,FALSE)","v":0},1,{"$f":"VLOOKUP(Jaar&X395,Trendfactoren!$A$2:$F$65,6,FALSE)","v":1},0,0,0,0,0,0,0,0,0,0,0,{"$f":"+VLOOKUP(C395,Scheepstypen!$A$1:$F$44,6,FALSE)","v":"L3"}]
["CEMT VIaBO1leegbeide","CEMT VIa","BO1","leeg","beide","CO2",8115.0765783593397,6.7,6.0412236750008418E-2,{"$f":"VLOOKUP(A396,Begin:Einde,7,FALSE)","v":0},1,{"$f":"VLOOKUP(Jaar&X396,Trendfactoren!$A$2:$F$65,6,FALSE)","v":1},0,0,0,0,0,0,0,0,0,0,0,{"$f":"+VLOOKUP(C396,Scheepstypen!$A$1:$F$44,6,FALSE)","v":"L1"}]
["CEMT VIaBO2geladenbeide","CEMT VIa","BO2","geladen","beide","CO2",15406.654508625496,5.97,0.10219747490721579,{"$f":"VLOOKUP(A397,Begin:Einde,7,FALSE)","v":0},1,{"$f":"VLOOKUP(Jaar&X397,Trendfactoren!$A$2:$F$65,6,FALSE)","v":1},0,0,0,0,0,0,0,0,0,0,0,{"$f":"+VLOOKUP(C397,Scheepstypen!$A$1:$F$44,6,FALSE)","v":"L1"}]
["CEMT VIaBO2leegbeide","CEMT VIa","BO2","leeg","beide","CO2",11181.590133469435,6.19,7.6904492140195346E-2,{"$f":"VLOOKUP(A398,Begin:Einde,7,FALSE)","v":0},1,{"$f":"VLOOKUP(Jaar&X398,Trendfactoren!$A$2:$F$65,6,FALSE)","v":1},0,0,0,0,0,0,0,0,0,0,0,{"$f":"+VLOOKUP(C398,Scheepstypen!$A$1:$F$44,6,FALSE)","v":"L1"}]
["CEMT VIaBO3geladenbeide","CEMT VIa","BO3","geladen","beide","CO2",24702.718898402996,5.88,0.16139109680289956,{"$f":"VLOOKUP(A399,Begin:Einde,7,FALSE)","v":0},1,{"$f":"VLOOKUP(Jaar&X399,Trendfactoren!$A$2:$F$65,6,FALSE)","v":1},0,0,0,0,0,0,0,0,0,0,0,{"$f":"+VLOOKUP(C399,Scheepstypen!$A$1:$F$44,6,FALSE)","v":"L1"}]
["CEMT VIaBO3leegbeide","CEMT VIa","BO3","leeg","beide","CO2",14261.442786192696,6.92,0.10965464897828162,{"$f":"VLOOKUP(A400,Begin:Einde,7,FALSE)","v":0},1,{"$f":"VLOOKUP(Jaar&X400,Trendfactoren!$A$2:$F$65,6,FALSE)","v":1},0,0,0,0,0,0,0,0,0,0,0,{"$f":"+VLOOKUP(C400,Scheepstypen!$A$1:$F$44,6,FALSE)","v":"L1"}]
["CEMT VIaBO4geladenbeide","CEMT VIa","BO4","geladen","beide","CO2",29760.614249809794,5.87,0.19410533960709275,{"$f":"VLOOKUP(A401,Begin:Einde,7,FALSE)","v":0},1,{"$f":"VLOOKUP(Jaar&X401,Trendfactoren!$A$2:$F$65,6,FALSE)","v":1},0,0,0,0,0,0,0,0,0,0,0,{"$f":"+VLOOKUP(C401,Scheepstypen!$A$1:$F$44,6,FALSE)","v":"L1"}]
["CEMT VIaBO4leegbeide","CEMT VIa","BO4","leeg","beide","CO2",17380.66336360907,6.36,0.12282335443617076,{"$f":"VLOOKUP(A402,Begin:Einde,7,FALSE)","v":0},1,{"$f":"VLOOKUP(Jaar&X402,Trendfactoren!$A$2:$F$65,6,FALSE)","v":1},0,0,0,0,0,0,0,0,0,0,0,{"$f":"+VLOOKUP(C402,Scheepstypen!$A$1:$F$44,6,FALSE)","v":"L1"}]
["CEMT VIaC1bgeladenbeide","CEMT VIa","C1b","geladen","beide","CO2",16121.149798076563,5.55,9.9413757088138793E-2,{"$f":"VLOOKUP(A403,Begin:Einde,7,FALSE)","v":0},1,{"$f":"VLOOKUP(Jaar&X403,Trendfactoren!$A$2:$F$65,6,FALSE)","v":1},0,0,0,0,0,0,0,0,0,0,0,{"$f":"+VLOOKUP(C403,Scheepstypen!$A$1:$F$44,6,FALSE)","v":"L1"}]
["CEMT VIaC1bleegbeide","CEMT VIa","C1b","leeg","beide","CO2",7217.5953546855553,11.19,8.973876890992373E-2,{"$f":"VLOOKUP(A404,Begin:Einde,7,FALSE)","v":0},1,{"$f":"VLOOKUP(Jaar&X404,Trendfactoren!$A$2:$F$65,6,FALSE)","v":1},0,0,0,0,0,0,0,0,0,0,0,{"$f":"+VLOOKUP(C404,Scheepstypen!$A$1:$F$44,6,FALSE)","v":"L1"}]
["CEMT VIaC1lgeladenbeide","CEMT VIa","C1l","geladen","beide","CO2",8096.8625098531984,10.1,9.0864790388352545E-2,{"$f":"VLOOKUP(A405,Begin:Einde,7,FALSE)","v":0},1,{"$f":"VLOOKUP(Jaar&X405,Trendfactoren!$A$2:$F$65,6,FALSE)","v":1},0,0,0,0,0,0,0,0,0,0,0,{"$f":"+VLOOKUP(C405,Scheepstypen!$A$1:$F$44,6,FALSE)","v":"L1"}]
["CEMT VIaC2bgeladenbeide","CEMT VIa","C2b","geladen","beide","CO2",30121.622340525697,6.29,0.21051667169100735,{"$f":"VLOOKUP(A406,Begin:Einde,7,FALSE)","v":0},1,{"$f":"VLOOKUP(Jaar&X406,Trendfactoren!$A$2:$F$65,6,FALSE)","v":1},0,0,0,0,0,0,0,0,0,0,0,{"$f":"+VLOOKUP(C406,Scheepstypen!$A$1:$F$44,6,FALSE)","v":"L2"}]
["CEMT VIaC2bleegbeide","CEMT VIa","C2b","leeg","beide","CO2",36313.742812707678,5.71,0.23039052384506761,{"$f":"VLOOKUP(A407,Begin:Einde,7,FALSE)","v":0},1,{"$f":"VLOOKUP(Jaar&X407,Trendfactoren!$A$2:$F$65,6,FALSE)","v":1},0,0,0,0,0,0,0,0,0,0,0,{"$f":"+VLOOKUP(C407,Scheepstypen!$A$1:$F$44,6,FALSE)","v":"L2"}]
["CEMT VIaC2lgeladenbeide","CEMT VIa","C2l","geladen","beide","CO2",31301.017829094595,9.06,0.3150969128128856,{"$f":"VLOOKUP(A408,Begin:Einde,7,FALSE)","v":0},1,{"$f":"VLOOKUP(Jaar&X408,Trendfactoren!$A$2:$F$65,6,FALSE)","v":1},0,0,0,0,0,0,0,0,0,0,0,{"$f":"+VLOOKUP(C408,Scheepstypen!$A$1:$F$44,6,FALSE)","v":"L2"}]
["CEMT VIaC2lleegbeide","CEMT VIa","C2l","leeg","beide","CO2",29150.237927933376,7.31,0.23676471028132551,{"$f":"VLOOKUP(A409,Begin:Einde,7,FALSE)","v":0},1,{"$f":"VLOOKUP(Jaar&X409,Trendfactoren!$A$2:$F$65,6,FALSE)","v":1},0,0,0,0,0,0,0,0,0,0,0,{"$f":"+VLOOKUP(C409,Scheepstypen!$A$1:$F$44,6,FALSE)","v":"L2"}]
["CEMT VIaC3bgeladenbeide","CEMT VIa","C3b","geladen","beide","CO2",89862.62452709132,8.9700000000000006,0.89563082445334363,{"$f":"VLOOKUP(A410,Begin:Einde,7,FALSE)","v":0},1,{"$f":"VLOOKUP(Jaar&X410,Trendfactoren!$A$2:$F$65,6,FALSE)","v":1},0,0,0,0,0,0,0,0,0,0,0,{"$f":"+VLOOKUP(C410,Scheepstypen!$A$1:$F$44,6,FALSE)","v":"L3"}]
["CEMT VIaC3bleegbeide","CEMT VIa","C3b","leeg","beide","CO2",48429.122642378323,7.78,0.41864286017522595,{"$f":"VLOOKUP(A411,Begin:Einde,7,FALSE)","v":0},1,{"$f":"VLOOKUP(Jaar&X411,Trendfactoren!$A$2:$F$65,6,FALSE)","v":1},0,0,0,0,0,0,0,0,0,0,0,{"$f":"+VLOOKUP(C411,Scheepstypen!$A$1:$F$44,6,FALSE)","v":"L3"}]
["CEMT VIaC3lgeladenbeide","CEMT VIa","C3l","geladen","beide","CO2",44223.450920606309,6.79,0.33364136861212979,{"$f":"VLOOKUP(A412,Begin:Einde,7,FALSE)","v":0},1,{"$f":"VLOOKUP(Jaar&X412,Trendfactoren!$A$2:$F$65,6,FALSE)","v":1},0,0,0,0,0,0,0,0,0,0,0,{"$f":"+VLOOKUP(C412,Scheepstypen!$A$1:$F$44,6,FALSE)","v":"L3"}]
["CEMT VIaC3lleegbeide","CEMT VIa","C3l","leeg","beide","CO2",17727.260614955892,5.75,0.11325749837332931,{"$f":"VLOOKUP(A413,Begin:Einde,7,FALSE)","v":0},1,{"$f":"VLOOKUP(Jaar&X413,Trendfactoren!$A$2:$F$65,6,FALSE)","v":1},0,0,0,0,0,0,0,0,0,0,0,{"$f":"+VLOOKUP(C413,Scheepstypen!$A$1:$F$44,6,FALSE)","v":"L3"}]
["CEMT VIaC4geladenbeide","CEMT VIa","C4","geladen","beide","CO2",78545.787571954221,8.3699999999999992,0.73047582441917425,{"$f":"VLOOKUP(A414,Begin:Einde,7,FALSE)","v":0},1,{"$f":"VLOOKUP(Jaar&X414,Trendfactoren!$A$2:$F$65,6,FALSE)","v":1},0,0,0,0,0,0,0,0,0,0,0,{"$f":"+VLOOKUP(C414,Scheepstypen!$A$1:$F$44,6,FALSE)","v":"L3"}]
["CEMT VIaC4leegbeide","CEMT VIa","C4","leeg","beide","CO2",65694.624153447701,15.43,1.1262978340974423,{"$f":"VLOOKUP(A415,Begin:Einde,7,FALSE)","v":0},1,{"$f":"VLOOKUP(Jaar&X415,Trendfactoren!$A$2:$F$65,6,FALSE)","v":1},0,0,0,0,0,0,0,0,0,0,0,{"$f":"+VLOOKUP(C415,Scheepstypen!$A$1:$F$44,6,FALSE)","v":"L3"}]
["CEMT VIaM0geladenbeide","CEMT VIa","M0","geladen","beide","CO2",4324.0988207352766,5.93,2.8491006674400209E-2,{"$f":"VLOOKUP(A416,Begin:Einde,7,FALSE)","v":0},1,{"$f":"VLOOKUP(Jaar&X416,Trendfactoren!$A$2:$F$65,6,FALSE)","v":1},0,0,0,0,0,0,0,0,0,0,0,{"$f":"+VLOOKUP(C416,Scheepstypen!$A$1:$F$44,6,FALSE)","v":"L1"}]
["CEMT VIaM0leegbeide","CEMT VIa","M0","leeg","beide","CO2",2137.0279547392001,8.2799999999999994,1.9660657183600636E-2,{"$f":"VLOOKUP(A417,Begin:Einde,7,FALSE)","v":0},1,{"$f":"VLOOKUP(Jaar&X417,Trendfactoren!$A$2:$F$65,6,FALSE)","v":1},0,0,0,0,0,0,0,0,0,0,0,{"$f":"+VLOOKUP(C417,Scheepstypen!$A$1:$F$44,6,FALSE)","v":"L1"}]
["CEMT VIaM1geladenbeide","CEMT VIa","M1","geladen","beide","CO2",5656.4576189224481,8.2200000000000006,5.1662312919491693E-2,{"$f":"VLOOKUP(A418,Begin:Einde,7,FALSE)","v":0},1,{"$f":"VLOOKUP(Jaar&X418,Trendfactoren!$A$2:$F$65,6,FALSE)","v":1},0,0,0,0,0,0,0,0,0,0,0,{"$f":"+VLOOKUP(C418,Scheepstypen!$A$1:$F$44,6,FALSE)","v":"L1"}]
["CEMT VIaM1leegbeide","CEMT VIa","M1","leeg","beide","CO2",3614.8781049328859,7.75,3.1128117014699853E-2,{"$f":"VLOOKUP(A419,Begin:Einde,7,FALSE)","v":0},1,{"$f":"VLOOKUP(Jaar&X419,Trendfactoren!$A$2:$F$65,6,FALSE)","v":1},0,0,0,0,0,0,0,0,0,0,0,{"$f":"+VLOOKUP(C419,Scheepstypen!$A$1:$F$44,6,FALSE)","v":"L1"}]
["CEMT VIaM10geladenbeide","CEMT VIa","M10","geladen","beide","CO2",35851.95762068389,6.67,0.26570284147773504,{"$f":"VLOOKUP(A420,Begin:Einde,7,FALSE)","v":0},1,{"$f":"VLOOKUP(Jaar&X420,Trendfactoren!$A$2:$F$65,6,FALSE)","v":1},0,0,0,0,0,0,0,0,0,0,0,{"$f":"+VLOOKUP(C420,Scheepstypen!$A$1:$F$44,6,FALSE)","v":"L3"}]
["CEMT VIaM10leegbeide","CEMT VIa","M10","leeg","beide","CO2",18551.674039264009,6.69,0.13790077702519582,{"$f":"VLOOKUP(A421,Begin:Einde,7,FALSE)","v":0},1,{"$f":"VLOOKUP(Jaar&X421,Trendfactoren!$A$2:$F$65,6,FALSE)","v":1},0,0,0,0,0,0,0,0,0,0,0,{"$f":"+VLOOKUP(C421,Scheepstypen!$A$1:$F$44,6,FALSE)","v":"L3"}]
["CEMT VIaM11geladenbeide","CEMT VIa","M11","geladen","beide","CO2",36955.129419348756,9.6300000000000008,0.39541988478703172,{"$f":"VLOOKUP(A422,Begin:Einde,7,FALSE)","v":0},1,{"$f":"VLOOKUP(Jaar&X422,Trendfactoren!$A$2:$F$65,6,FALSE)","v":1},0,0,0,0,0,0,0,0,0,0,0,{"$f":"+VLOOKUP(C422,Scheepstypen!$A$1:$F$44,6,FALSE)","v":"L3"}]
["CEMT VIaM11leegbeide","CEMT VIa","M11","leeg","beide","CO2",27955.260674054643,12.67,0.39354794748919142,{"$f":"VLOOKUP(A423,Begin:Einde,7,FALSE)","v":0},1,{"$f":"VLOOKUP(Jaar&X423,Trendfactoren!$A$2:$F$65,6,FALSE)","v":1},0,0,0,0,0,0,0,0,0,0,0,{"$f":"+VLOOKUP(C423,Scheepstypen!$A$1:$F$44,6,FALSE)","v":"L3"}]
["CEMT VIaM12geladenbeide","CEMT VIa","M12","geladen","beide","CO2",35656.334060182424,8.75,0.34665880336288468,{"$f":"VLOOKUP(A424,Begin:Einde,7,FALSE)","v":0},1,{"$f":"VLOOKUP(Jaar&X424,Trendfactoren!$A$2:$F$65,6,FALSE)","v":1},0,0,0,0,0,0,0,0,0,0,0,{"$f":"+VLOOKUP(C424,Scheepstypen!$A$1:$F$44,6,FALSE)","v":"L3"}]
["CEMT VIaM12leegbeide","CEMT VIa","M12","leeg","beide","CO2",21127.513003347965,7.79,0.1828703625512007,{"$f":"VLOOKUP(A425,Begin:Einde,7,FALSE)","v":0},1,{"$f":"VLOOKUP(Jaar&X425,Trendfactoren!$A$2:$F$65,6,FALSE)","v":1},0,0,0,0,0,0,0,0,0,0,0,{"$f":"+VLOOKUP(C425,Scheepstypen!$A$1:$F$44,6,FALSE)","v":"L3"}]
["CEMT VIaM2geladenbeide","CEMT VIa","M2","geladen","beide","CO2",12887.421824411302,6.44,9.2216662832454208E-2,{"$f":"VLOOKUP(A426,Begin:Einde,7,FALSE)","v":0},1,{"$f":"VLOOKUP(Jaar&X426,Trendfactoren!$A$2:$F$65,6,FALSE)","v":1},0,0,0,0,0,0,0,0,0,0,0,{"$f":"+VLOOKUP(C426,Scheepstypen!$A$1:$F$44,6,FALSE)","v":"L1"}]
["CEMT VIaM2leegbeide","CEMT VIa","M2","leeg","beide","CO2",7011.7382059601223,6.83,5.3211302163008477E-2,{"$f":"VLOOKUP(A427,Begin:Einde,7,FALSE)","v":0},1,{"$f":"VLOOKUP(Jaar&X427,Trendfactoren!$A$2:$F$65,6,FALSE)","v":1},0,0,0,0,0,0,0,0,0,0,0,{"$f":"+VLOOKUP(C427,Scheepstypen!$A$1:$F$44,6,FALSE)","v":"L1"}]
["CEMT VIaM3geladenbeide","CEMT VIa","M3","geladen","beide","CO2",15364.058120492047,6.81,0.11625470644505648,{"$f":"VLOOKUP(A428,Begin:Einde,7,FALSE)","v":0},1,{"$f":"VLOOKUP(Jaar&X428,Trendfactoren!$A$2:$F$65,6,FALSE)","v":1},0,0,0,0,0,0,0,0,0,0,0,{"$f":"+VLOOKUP(C428,Scheepstypen!$A$1:$F$44,6,FALSE)","v":"L1"}]
["CEMT VIaM3leegbeide","CEMT VIa","M3","leeg","beide","CO2",9602.8064381998993,6.42,6.8500019259159273E-2,{"$f":"VLOOKUP(A429,Begin:Einde,7,FALSE)","v":0},1,{"$f":"VLOOKUP(Jaar&X429,Trendfactoren!$A$2:$F$65,6,FALSE)","v":1},0,0,0,0,0,0,0,0,0,0,0,{"$f":"+VLOOKUP(C429,Scheepstypen!$A$1:$F$44,6,FALSE)","v":"L1"}]
["CEMT VIaM4geladenbeide","CEMT VIa","M4","geladen","beide","CO2",16942.188663350211,6.34,0.11934830680626705,{"$f":"VLOOKUP(A430,Begin:Einde,7,FALSE)","v":0},1,{"$f":"VLOOKUP(Jaar&X430,Trendfactoren!$A$2:$F$65,6,FALSE)","v":1},0,0,0,0,0,0,0,0,0,0,0,{"$f":"+VLOOKUP(C430,Scheepstypen!$A$1:$F$44,6,FALSE)","v":"L1"}]
["CEMT VIaM4leegbeide","CEMT VIa","M4","leeg","beide","CO2",11158.778025267449,6.54,8.1087120316943456E-2,{"$f":"VLOOKUP(A431,Begin:Einde,7,FALSE)","v":0},1,{"$f":"VLOOKUP(Jaar&X431,Trendfactoren!$A$2:$F$65,6,FALSE)","v":1},0,0,0,0,0,0,0,0,0,0,0,{"$f":"+VLOOKUP(C431,Scheepstypen!$A$1:$F$44,6,FALSE)","v":"L1"}]
["CEMT VIaM5geladenbeide","CEMT VIa","M5","geladen","beide","CO2",17239.345259966576,5.8,0.11109800278645127,{"$f":"VLOOKUP(A432,Begin:Einde,7,FALSE)","v":0},1,{"$f":"VLOOKUP(Jaar&X432,Trendfactoren!$A$2:$F$65,6,FALSE)","v":1},0,0,0,0,0,0,0,0,0,0,0,{"$f":"+VLOOKUP(C432,Scheepstypen!$A$1:$F$44,6,FALSE)","v":"L2"}]
["CEMT VIaM5leegbeide","CEMT VIa","M5","leeg","beide","CO2",13406.543793310298,6.26,9.3249960162358286E-2,{"$f":"VLOOKUP(A433,Begin:Einde,7,FALSE)","v":0},1,{"$f":"VLOOKUP(Jaar&X433,Trendfactoren!$A$2:$F$65,6,FALSE)","v":1},0,0,0,0,0,0,0,0,0,0,0,{"$f":"+VLOOKUP(C433,Scheepstypen!$A$1:$F$44,6,FALSE)","v":"L2"}]
["CEMT VIaM6geladenbeide","CEMT VIa","M6","geladen","beide","CO2",24575.899828400445,8.36,0.22828280285047522,{"$f":"VLOOKUP(A434,Begin:Einde,7,FALSE)","v":0},1,{"$f":"VLOOKUP(Jaar&X434,Trendfactoren!$A$2:$F$65,6,FALSE)","v":1},0,0,0,0,0,0,0,0,0,0,0,{"$f":"+VLOOKUP(C434,Scheepstypen!$A$1:$F$44,6,FALSE)","v":"L2"}]
["CEMT VIaM6leegbeide","CEMT VIa","M6","leeg","beide","CO2",15576.508114031867,8,0.13845784990250548,{"$f":"VLOOKUP(A435,Begin:Einde,7,FALSE)","v":0},1,{"$f":"VLOOKUP(Jaar&X435,Trendfactoren!$A$2:$F$65,6,FALSE)","v":1},0,0,0,0,0,0,0,0,0,0,0,{"$f":"+VLOOKUP(C435,Scheepstypen!$A$1:$F$44,6,FALSE)","v":"L2"}]
["CEMT VIaM7geladenbeide","CEMT VIa","M7","geladen","beide","CO2",22114.728432125255,8.33,0.2046840975995593,{"$f":"VLOOKUP(A436,Begin:Einde,7,FALSE)","v":0},1,{"$f":"VLOOKUP(Jaar&X436,Trendfactoren!$A$2:$F$65,6,FALSE)","v":1},0,0,0,0,0,0,0,0,0,0,0,{"$f":"+VLOOKUP(C436,Scheepstypen!$A$1:$F$44,6,FALSE)","v":"L2"}]
["CEMT VIaM7leegbeide","CEMT VIa","M7","leeg","beide","CO2",17570.034979036645,9.18,0.17921435678617378,{"$f":"VLOOKUP(A437,Begin:Einde,7,FALSE)","v":0},1,{"$f":"VLOOKUP(Jaar&X437,Trendfactoren!$A$2:$F$65,6,FALSE)","v":1},0,0,0,0,0,0,0,0,0,0,0,{"$f":"+VLOOKUP(C437,Scheepstypen!$A$1:$F$44,6,FALSE)","v":"L2"}]
["CEMT VIaM8geladenbeide","CEMT VIa","M8","geladen","beide","CO2",36359.952031187095,7.77,0.31390758586924855,{"$f":"VLOOKUP(A438,Begin:Einde,7,FALSE)","v":0},1,{"$f":"VLOOKUP(Jaar&X438,Trendfactoren!$A$2:$F$65,6,FALSE)","v":1},0,0,0,0,0,0,0,0,0,0,0,{"$f":"+VLOOKUP(C438,Scheepstypen!$A$1:$F$44,6,FALSE)","v":"L3"}]
["CEMT VIaM8leegbeide","CEMT VIa","M8","leeg","beide","CO2",19694.542250849325,9.14,0.2000090179697365,{"$f":"VLOOKUP(A439,Begin:Einde,7,FALSE)","v":0},1,{"$f":"VLOOKUP(Jaar&X439,Trendfactoren!$A$2:$F$65,6,FALSE)","v":1},0,0,0,0,0,0,0,0,0,0,0,{"$f":"+VLOOKUP(C439,Scheepstypen!$A$1:$F$44,6,FALSE)","v":"L3"}]
["CEMT VIaM9geladenbeide","CEMT VIa","M9","geladen","beide","CO2",29862.80001090642,6.83,0.22662547119387871,{"$f":"VLOOKUP(A440,Begin:Einde,7,FALSE)","v":0},1,{"$f":"VLOOKUP(Jaar&X440,Trendfactoren!$A$2:$F$65,6,FALSE)","v":1},0,0,0,0,0,0,0,0,0,0,0,{"$f":"+VLOOKUP(C440,Scheepstypen!$A$1:$F$44,6,FALSE)","v":"L3"}]
["CEMT VIaM9leegbeide","CEMT VIa","M9","leeg","beide","CO2",21643.497872235046,7.59,0.18252683205584888,{"$f":"VLOOKUP(A441,Begin:Einde,7,FALSE)","v":0},1,{"$f":"VLOOKUP(Jaar&X441,Trendfactoren!$A$2:$F$65,6,FALSE)","v":1},0,0,0,0,0,0,0,0,0,0,0,{"$f":"+VLOOKUP(C441,Scheepstypen!$A$1:$F$44,6,FALSE)","v":"L3"}]
["CEMT VIbBIgeladenbeide","CEMT VIb","BI","geladen","beide","CO2",30651.61223902744,9.86,0.33580544075201174,{"$f":"VLOOKUP(A442,Begin:Einde,7,FALSE)","v":0},1,{"$f":"VLOOKUP(Jaar&X442,Trendfactoren!$A$2:$F$65,6,FALSE)","v":1},0,0,0,0,0,0,0,0,0,0,0,{"$f":"+VLOOKUP(C442,Scheepstypen!$A$1:$F$44,6,FALSE)","v":"L2"}]
["CEMT VIbBIleegbeide","CEMT VIb","BI","leeg","beide","CO2",13870.957601070293,10.44,0.16090310817241538,{"$f":"VLOOKUP(A443,Begin:Einde,7,FALSE)","v":0},1,{"$f":"VLOOKUP(Jaar&X443,Trendfactoren!$A$2:$F$65,6,FALSE)","v":1},0,0,0,0,0,0,0,0,0,0,0,{"$f":"+VLOOKUP(C443,Scheepstypen!$A$1:$F$44,6,FALSE)","v":"L2"}]
["CEMT VIbBII-1geladenbeide","CEMT VIb","BII-1","geladen","beide","CO2",50338.475758837601,10.32,0.57721452203467116,{"$f":"VLOOKUP(A444,Begin:Einde,7,FALSE)","v":0},1,{"$f":"VLOOKUP(Jaar&X444,Trendfactoren!$A$2:$F$65,6,FALSE)","v":1},0,0,0,0,0,0,0,0,0,0,0,{"$f":"+VLOOKUP(C444,Scheepstypen!$A$1:$F$44,6,FALSE)","v":"L2"}]
["CEMT VIbBII-1leegbeide","CEMT VIb","BII-1","leeg","beide","CO2",20036.24034167092,10.65,0.23709551070977258,{"$f":"VLOOKUP(A445,Begin:Einde,7,FALSE)","v":0},1,{"$f":"VLOOKUP(Jaar&X445,Trendfactoren!$A$2:$F$65,6,FALSE)","v":1},0,0,0,0,0,0,0,0,0,0,0,{"$f":"+VLOOKUP(C445,Scheepstypen!$A$1:$F$44,6,FALSE)","v":"L2"}]
["CEMT VIbBII-2Bgeladenbeide","CEMT VIb","BII-2B","geladen","beide","CO2",92856.351509337022,8.77,{"$f":"+MJperkgCO2*G446/1000*H446/3600","v":0.90483355859653958},{"$f":"VLOOKUP(A446,Begin:Einde,7,FALSE)","v":0},{"$f":"+Afstand","v":1},{"$f":"VLOOKUP(Jaar&X446,Trendfactoren!$A$2:$F$65,6,FALSE)","v":1},0,{"$f":"+J446*H446","v":0},0,0,0,0,0,{"$f":"+S446/$I446","v":0},{"$f":"+Q446/$I446","v":0},{"$f":"+R446/$I446","v":0},0,{"$f":"+VLOOKUP(C446,Scheepstypen!$A$1:$F$44,6,FALSE)","v":"L3"}]
[{"$f":"+B447&C447&D447&E447","v":"CEMT VIbBII-2Bleegbeide"},"CEMT VIb","BII-2B","leeg","beide","CO2",44727.822378310892,10.050000000000001,0.49946068322447162,{"$f":"VLOOKUP(A447,Begin:Einde,7,FALSE)","v":0},1,{"$f":"VLOOKUP(Jaar&X447,Trendfactoren!$A$2:$F$65,6,FALSE)","v":1},{"$f":"+J447*I447*L447","v":0},0,{"$f":"+J447*G447*K447","v":0},0,0,0,0,0,0,0,{"$f":"+P447/I447","v":0},{"$f":"+VLOOKUP(C447,Scheepstypen!$A$1:$F$44,6,FALSE)","v":"L3"}]
["CEMT VIbBII-2Lgeladenbeide","CEMT VIb","BII-2L","geladen","beide","CO2",50832.623306970469,10.06,0.56819576718680331,{"$f":"VLOOKUP(A448,Begin:Einde,7,FALSE)","v":0},1,{"$f":"VLOOKUP(Jaar&X448,Trendfactoren!$A$2:$F$65,6,FALSE)","v":1},0,0,0,0,0,0,0,0,0,0,0,{"$f":"+VLOOKUP(C448,Scheepstypen!$A$1:$F$44,6,FALSE)","v":"L3"}]
["CEMT VIbBII-2Lleegbeide","CEMT VIb","BII-2L","leeg","beide","CO2",30664.748025389727,11.87,0.40443395451264003,{"$f":"VLOOKUP(A449,Begin:Einde,7,FALSE)","v":0},1,{"$f":"VLOOKUP(Jaar&X449,Trendfactoren!$A$2:$F$65,6,FALSE)","v":1},0,0,0,0,0,0,0,0,0,0,0,{"$f":"+VLOOKUP(C449,Scheepstypen!$A$1:$F$44,6,FALSE)","v":"L3"}]
["CEMT VIbBII-4geladenbeide","CEMT VIb","BII-4","geladen","beide","CO2",83151.201054763631,7.85,0.7252632536443272,{"$f":"VLOOKUP(A450,Begin:Einde,7,FALSE)","v":0},1,{"$f":"VLOOKUP(Jaar&X450,Trendfactoren!$A$2:$F$65,6,FALSE)","v":1},0,0,0,{"$f":"+O450/+IF($O$914>0,$O$914,1)","v":0},{"$f":"+IF(E450=\"beide\",O450,0)/IF($O$915>0,$O$915,1)","v":0},{"$f":"+IF(E450=\"op\",O450,0)/IF($O$916>0,$O$916,1)","v":0},{"$f":"+IF(E450=\"af\",O450,0)/IF($O$917>0,$O$917,1)","v":0},0,0,0,0,{"$f":"+VLOOKUP(C450,Scheepstypen!$A$1:$F$44,6,FALSE)","v":"L3"}]
["CEMT VIbBII-4leegbeide","CEMT VIb","BII-4","leeg","beide","CO2",51995.67132820141,9.17,0.52977811786622986,{"$f":"VLOOKUP(A451,Begin:Einde,7,FALSE)","v":0},1,{"$f":"VLOOKUP(Jaar&X451,Trendfactoren!$A$2:$F$65,6,FALSE)","v":1},0,0,0,0,0,0,0,0,0,0,0,{"$f":"+VLOOKUP(C451,Scheepstypen!$A$1:$F$44,6,FALSE)","v":"L3"}]
["CEMT VIbBII-6Bgeladenbeide","CEMT VIb","BII-6B","geladen","beide","CO2",173935.75416616409,12.27,2.3713241151320372,{"$f":"VLOOKUP(A452,Begin:Einde,7,FALSE)","v":0},1,{"$f":"VLOOKUP(Jaar&X452,Trendfactoren!$A$2:$F$65,6,FALSE)","v":1},0,0,0,0,0,0,0,0,0,0,0,{"$f":"+VLOOKUP(C452,Scheepstypen!$A$1:$F$44,6,FALSE)","v":"L3"}]
["CEMT VIbBII-6Bleegbeide","CEMT VIb","BII-6B","leeg","beide","CO2",122925.9190781191,10.97,1.4983303692077408,{"$f":"VLOOKUP(A453,Begin:Einde,7,FALSE)","v":0},1,{"$f":"VLOOKUP(Jaar&X453,Trendfactoren!$A$2:$F$65,6,FALSE)","v":1},0,0,0,0,0,0,0,0,0,0,0,{"$f":"+VLOOKUP(C453,Scheepstypen!$A$1:$F$44,6,FALSE)","v":"L3"}]
["CEMT VIbBII-6Lgeladenbeide","CEMT VIb","BII-6L","geladen","beide","CO2",104437.60180892497,8.56,0.99331763498266423,{"$f":"VLOOKUP(A454,Begin:Einde,7,FALSE)","v":0},1,{"$f":"VLOOKUP(Jaar&X454,Trendfactoren!$A$2:$F$65,6,FALSE)","v":1},0,0,0,0,0,0,0,0,0,0,0,{"$f":"+VLOOKUP(C454,Scheepstypen!$A$1:$F$44,6,FALSE)","v":"L3"}]
["CEMT VIbBII-6Lleegbeide","CEMT VIb","BII-6L","leeg","beide","CO2",89398.847758627002,10.78,1.0707995320422212,{"$f":"VLOOKUP(A455,Begin:Einde,7,FALSE)","v":0},1,{"$f":"VLOOKUP(Jaar&X455,Trendfactoren!$A$2:$F$65,6,FALSE)","v":1},0,0,0,0,0,0,0,0,0,0,0,{"$f":"+VLOOKUP(C455,Scheepstypen!$A$1:$F$44,6,FALSE)","v":"L3"}]
["CEMT VIbBO1geladenbeide","CEMT VIb","BO1","geladen","beide","CO2",8888.0229455237313,10.1,9.9743368610877431E-2,{"$f":"VLOOKUP(A456,Begin:Einde,7,FALSE)","v":0},1,{"$f":"VLOOKUP(Jaar&X456,Trendfactoren!$A$2:$F$65,6,FALSE)","v":1},0,0,0,0,0,0,0,0,0,0,0,{"$f":"+VLOOKUP(C456,Scheepstypen!$A$1:$F$44,6,FALSE)","v":"L1"}]
["CEMT VIbBO1leegbeide","CEMT VIb","BO1","leeg","beide","CO2",5507.4988636361695,11.4,6.9761652272724822E-2,{"$f":"VLOOKUP(A457,Begin:Einde,7,FALSE)","v":0},1,{"$f":"VLOOKUP(Jaar&X457,Trendfactoren!$A$2:$F$65,6,FALSE)","v":1},0,0,0,0,0,0,0,0,0,0,0,{"$f":"+VLOOKUP(C457,Scheepstypen!$A$1:$F$44,6,FALSE)","v":"L1"}]
["CEMT VIbBO2geladenbeide","CEMT VIb","BO2","geladen","beide","CO2",15239.120815387865,9.6199999999999992,0.16288926916003474,{"$f":"VLOOKUP(A458,Begin:Einde,7,FALSE)","v":0},1,{"$f":"VLOOKUP(Jaar&X458,Trendfactoren!$A$2:$F$65,6,FALSE)","v":1},0,0,0,0,0,0,0,0,0,0,0,{"$f":"+VLOOKUP(C458,Scheepstypen!$A$1:$F$44,6,FALSE)","v":"L1"}]
["CEMT VIbBO2leegbeide","CEMT VIb","BO2","leeg","beide","CO2",7919.2086453461943,11.59,0.10198180911062488,{"$f":"VLOOKUP(A459,Begin:Einde,7,FALSE)","v":0},1,{"$f":"VLOOKUP(Jaar&X459,Trendfactoren!$A$2:$F$65,6,FALSE)","v":1},0,0,0,0,0,0,0,0,0,0,0,{"$f":"+VLOOKUP(C459,Scheepstypen!$A$1:$F$44,6,FALSE)","v":"L1"}]
["CEMT VIbBO3geladenbeide","CEMT VIb","BO3","geladen","beide","CO2",19986.532027464731,10.69,0.23739558597066437,{"$f":"VLOOKUP(A460,Begin:Einde,7,FALSE)","v":0},1,{"$f":"VLOOKUP(Jaar&X460,Trendfactoren!$A$2:$F$65,6,FALSE)","v":1},0,0,0,0,0,0,0,0,0,0,0,{"$f":"+VLOOKUP(C460,Scheepstypen!$A$1:$F$44,6,FALSE)","v":"L1"}]
["CEMT VIbBO3leegbeide","CEMT VIb","BO3","leeg","beide","CO2",9819.3432923542223,12.11,0.13212471918934401,{"$f":"VLOOKUP(A461,Begin:Einde,7,FALSE)","v":0},1,{"$f":"VLOOKUP(Jaar&X461,Trendfactoren!$A$2:$F$65,6,FALSE)","v":1},0,0,0,0,0,0,0,0,0,0,0,{"$f":"+VLOOKUP(C461,Scheepstypen!$A$1:$F$44,6,FALSE)","v":"L1"}]
["CEMT VIbBO4geladenbeide","CEMT VIb","BO4","geladen","beide","CO2",25432.68396866012,10.55,0.29812757318818256,{"$f":"VLOOKUP(A462,Begin:Einde,7,FALSE)","v":0},1,{"$f":"VLOOKUP(Jaar&X462,Trendfactoren!$A$2:$F$65,6,FALSE)","v":1},0,0,0,0,0,0,0,0,0,0,0,{"$f":"+VLOOKUP(C462,Scheepstypen!$A$1:$F$44,6,FALSE)","v":"L1"}]
["CEMT VIbBO4leegbeide","CEMT VIb","BO4","leeg","beide","CO2",11969.095154851635,11.68,0.15533225712074122,{"$f":"VLOOKUP(A463,Begin:Einde,7,FALSE)","v":0},1,{"$f":"VLOOKUP(Jaar&X463,Trendfactoren!$A$2:$F$65,6,FALSE)","v":1},0,0,0,0,0,0,0,0,0,0,0,{"$f":"+VLOOKUP(C463,Scheepstypen!$A$1:$F$44,6,FALSE)","v":"L1"}]
["CEMT VIbC1bgeladenbeide","CEMT VIb","C1b","geladen","beide","CO2",12189.412242716813,8.3000000000000007,0.11241346846061062,{"$f":"VLOOKUP(A464,Begin:Einde,7,FALSE)","v":0},1,{"$f":"VLOOKUP(Jaar&X464,Trendfactoren!$A$2:$F$65,6,FALSE)","v":1},0,0,0,0,0,0,0,0,0,0,0,{"$f":"+VLOOKUP(C464,Scheepstypen!$A$1:$F$44,6,FALSE)","v":"L1"}]
["CEMT VIbC1bleegbeide","CEMT VIb","C1b","leeg","beide","CO2",7122.7791411957896,10.11,8.0012552352766039E-2,{"$f":"VLOOKUP(A465,Begin:Einde,7,FALSE)","v":0},1,{"$f":"VLOOKUP(Jaar&X465,Trendfactoren!$A$2:$F$65,6,FALSE)","v":1},0,0,0,0,0,0,0,0,0,0,0,{"$f":"+VLOOKUP(C465,Scheepstypen!$A$1:$F$44,6,FALSE)","v":"L1"}]
["CEMT VIbC1lgeladenbeide","CEMT VIb","C1l","geladen","beide","CO2",9052.8938061704212,8.01,8.0570754874916745E-2,{"$f":"VLOOKUP(A466,Begin:Einde,7,FALSE)","v":0},1,{"$f":"VLOOKUP(Jaar&X466,Trendfactoren!$A$2:$F$65,6,FALSE)","v":1},0,0,0,0,0,0,0,0,0,0,0,{"$f":"+VLOOKUP(C466,Scheepstypen!$A$1:$F$44,6,FALSE)","v":"L1"}]
["CEMT VIbC1lleegbeide","CEMT VIb","C1l","leeg","beide","CO2",6950.9601866859475,9.7799999999999994,7.5533767361987289E-2,{"$f":"VLOOKUP(A467,Begin:Einde,7,FALSE)","v":0},1,{"$f":"VLOOKUP(Jaar&X467,Trendfactoren!$A$2:$F$65,6,FALSE)","v":1},0,0,0,0,0,0,0,0,0,0,0,{"$f":"+VLOOKUP(C467,Scheepstypen!$A$1:$F$44,6,FALSE)","v":"L1"}]
["CEMT VIbC2bgeladenbeide","CEMT VIb","C2b","geladen","beide","CO2",25583.346498170875,7.09,0.20153991852447944,{"$f":"VLOOKUP(A468,Begin:Einde,7,FALSE)","v":0},1,{"$f":"VLOOKUP(Jaar&X468,Trendfactoren!$A$2:$F$65,6,FALSE)","v":1},0,0,0,0,0,0,0,0,0,0,0,{"$f":"+VLOOKUP(C468,Scheepstypen!$A$1:$F$44,6,FALSE)","v":"L2"}]
["CEMT VIbC2bleegbeide","CEMT VIb","C2b","leeg","beide","CO2",25700.568890532708,10.09,0.28813193345052779,{"$f":"VLOOKUP(A469,Begin:Einde,7,FALSE)","v":0},1,{"$f":"VLOOKUP(Jaar&X469,Trendfactoren!$A$2:$F$65,6,FALSE)","v":1},0,0,0,0,0,0,0,0,0,0,0,{"$f":"+VLOOKUP(C469,Scheepstypen!$A$1:$F$44,6,FALSE)","v":"L2"}]
["CEMT VIbC2lgeladenbeide","CEMT VIb","C2l","geladen","beide","CO2",33694.570735798603,10.35,0.38748756346168389,{"$f":"VLOOKUP(A470,Begin:Einde,7,FALSE)","v":0},1,{"$f":"VLOOKUP(Jaar&X470,Trendfactoren!$A$2:$F$65,6,FALSE)","v":1},0,0,0,0,0,0,0,0,0,0,0,{"$f":"+VLOOKUP(C470,Scheepstypen!$A$1:$F$44,6,FALSE)","v":"L2"}]
["CEMT VIbC2lleegbeide","CEMT VIb","C2l","leeg","beide","CO2",24583.600834714296,11.85,0.32368407765707152,{"$f":"VLOOKUP(A471,Begin:Einde,7,FALSE)","v":0},1,{"$f":"VLOOKUP(Jaar&X471,Trendfactoren!$A$2:$F$65,6,FALSE)","v":1},0,0,0,0,0,0,0,0,0,0,0,{"$f":"+VLOOKUP(C471,Scheepstypen!$A$1:$F$44,6,FALSE)","v":"L2"}]
["CEMT VIbC3bgeladenbeide","CEMT VIb","C3b","geladen","beide","CO2",87564.175378463988,9.82,0.95542244690724043,{"$f":"VLOOKUP(A472,Begin:Einde,7,FALSE)","v":0},1,{"$f":"VLOOKUP(Jaar&X472,Trendfactoren!$A$2:$F$65,6,FALSE)","v":1},0,0,0,0,0,0,0,0,0,0,0,{"$f":"+VLOOKUP(C472,Scheepstypen!$A$1:$F$44,6,FALSE)","v":"L3"}]
["CEMT VIbC3bleegbeide","CEMT VIb","C3b","leeg","beide","CO2",35499.367992488646,9.76,0.38497092400743238,{"$f":"VLOOKUP(A473,Begin:Einde,7,FALSE)","v":0},1,{"$f":"VLOOKUP(Jaar&X473,Trendfactoren!$A$2:$F$65,6,FALSE)","v":1},0,0,0,0,0,0,0,0,0,0,0,{"$f":"+VLOOKUP(C473,Scheepstypen!$A$1:$F$44,6,FALSE)","v":"L3"}]
["CEMT VIbC3lgeladenbeide","CEMT VIb","C3l","geladen","beide","CO2",50293.076615584949,10.27,0.57389988538006376,{"$f":"VLOOKUP(A474,Begin:Einde,7,FALSE)","v":0},1,{"$f":"VLOOKUP(Jaar&X474,Trendfactoren!$A$2:$F$65,6,FALSE)","v":1},0,0,0,0,0,0,0,0,0,0,0,{"$f":"+VLOOKUP(C474,Scheepstypen!$A$1:$F$44,6,FALSE)","v":"L3"}]
["CEMT VIbC3lleegbeide","CEMT VIb","C3l","leeg","beide","CO2",30718.707068052645,11.73,0.40036714878695279,{"$f":"VLOOKUP(A475,Begin:Einde,7,FALSE)","v":0},1,{"$f":"VLOOKUP(Jaar&X475,Trendfactoren!$A$2:$F$65,6,FALSE)","v":1},0,0,0,0,0,0,0,0,0,0,0,{"$f":"+VLOOKUP(C475,Scheepstypen!$A$1:$F$44,6,FALSE)","v":"L3"}]
["CEMT VIbC4geladenbeide","CEMT VIb","C4","geladen","beide","CO2",94233.847263790158,10.24,1.0721717733124569,{"$f":"VLOOKUP(A476,Begin:Einde,7,FALSE)","v":0},1,{"$f":"VLOOKUP(Jaar&X476,Trendfactoren!$A$2:$F$65,6,FALSE)","v":1},0,0,0,0,0,0,0,0,0,0,0,{"$f":"+VLOOKUP(C476,Scheepstypen!$A$1:$F$44,6,FALSE)","v":"L3"}]
["CEMT VIbC4leegbeide","CEMT VIb","C4","leeg","beide","CO2",67916.513343085564,11.81,0.89121558064648954,{"$f":"VLOOKUP(A477,Begin:Einde,7,FALSE)","v":0},1,{"$f":"VLOOKUP(Jaar&X477,Trendfactoren!$A$2:$F$65,6,FALSE)","v":1},0,0,0,0,0,0,0,0,0,0,0,{"$f":"+VLOOKUP(C477,Scheepstypen!$A$1:$F$44,6,FALSE)","v":"L3"}]
["CEMT VIbM0geladenbeide","CEMT VIb","M0","geladen","beide","CO2",3651.4714658064559,9.02,3.6595858468415815E-2,{"$f":"VLOOKUP(A478,Begin:Einde,7,FALSE)","v":0},1,{"$f":"VLOOKUP(Jaar&X478,Trendfactoren!$A$2:$F$65,6,FALSE)","v":1},0,0,0,0,0,0,0,0,0,0,0,{"$f":"+VLOOKUP(C478,Scheepstypen!$A$1:$F$44,6,FALSE)","v":"L1"}]
["CEMT VIbM0leegbeide","CEMT VIb","M0","leeg","beide","CO2",2194.0763810325452,9.0299999999999994,2.2013899689693205E-2,{"$f":"VLOOKUP(A479,Begin:Einde,7,FALSE)","v":0},1,{"$f":"VLOOKUP(Jaar&X479,Trendfactoren!$A$2:$F$65,6,FALSE)","v":1},0,0,0,0,0,0,0,0,0,0,0,{"$f":"+VLOOKUP(C479,Scheepstypen!$A$1:$F$44,6,FALSE)","v":"L1"}]
["CEMT VIbM1geladenbeide","CEMT VIb","M1","geladen","beide","CO2",6339.4706921782645,8.26,5.8182253241547181E-2,{"$f":"VLOOKUP(A480,Begin:Einde,7,FALSE)","v":0},1,{"$f":"VLOOKUP(Jaar&X480,Trendfactoren!$A$2:$F$65,6,FALSE)","v":1},0,0,0,0,0,0,0,0,0,0,0,{"$f":"+VLOOKUP(C480,Scheepstypen!$A$1:$F$44,6,FALSE)","v":"L1"}]
["CEMT VIbM1leegbeide","CEMT VIb","M1","leeg","beide","CO2",3978.2621042997198,10.17,4.4954361778586832E-2,{"$f":"VLOOKUP(A481,Begin:Einde,7,FALSE)","v":0},1,{"$f":"VLOOKUP(Jaar&X481,Trendfactoren!$A$2:$F$65,6,FALSE)","v":1},0,0,0,0,0,0,0,0,0,0,0,{"$f":"+VLOOKUP(C481,Scheepstypen!$A$1:$F$44,6,FALSE)","v":"L1"}]
["CEMT VIbM10geladenbeide","CEMT VIb","M10","geladen","beide","CO2",52404.944642669281,10.79,0.62827705854933491,{"$f":"VLOOKUP(A482,Begin:Einde,7,FALSE)","v":0},1,{"$f":"VLOOKUP(Jaar&X482,Trendfactoren!$A$2:$F$65,6,FALSE)","v":1},0,0,0,0,0,0,0,0,0,0,0,{"$f":"+VLOOKUP(C482,Scheepstypen!$A$1:$F$44,6,FALSE)","v":"L3"}]
["CEMT VIbM10leegbeide","CEMT VIb","M10","leeg","beide","CO2",30450.290038159543,11.94,0.40397384783958323,{"$f":"VLOOKUP(A483,Begin:Einde,7,FALSE)","v":0},1,{"$f":"VLOOKUP(Jaar&X483,Trendfactoren!$A$2:$F$65,6,FALSE)","v":1},0,0,0,0,0,0,0,0,0,0,0,{"$f":"+VLOOKUP(C483,Scheepstypen!$A$1:$F$44,6,FALSE)","v":"L3"}]
["CEMT VIbM11geladenbeide","CEMT VIb","M11","geladen","beide","CO2",59078.003471207237,11.27,0.73978788791167294,{"$f":"VLOOKUP(A484,Begin:Einde,7,FALSE)","v":0},1,{"$f":"VLOOKUP(Jaar&X484,Trendfactoren!$A$2:$F$65,6,FALSE)","v":1},0,0,0,0,0,0,0,0,0,0,0,{"$f":"+VLOOKUP(C484,Scheepstypen!$A$1:$F$44,6,FALSE)","v":"L3"}]
["CEMT VIbM11leegbeide","CEMT VIb","M11","leeg","beide","CO2",35938.566606789856,12.7,0.50713310656247901,{"$f":"VLOOKUP(A485,Begin:Einde,7,FALSE)","v":0},1,{"$f":"VLOOKUP(Jaar&X485,Trendfactoren!$A$2:$F$65,6,FALSE)","v":1},0,0,0,0,0,0,0,0,0,0,0,{"$f":"+VLOOKUP(C485,Scheepstypen!$A$1:$F$44,6,FALSE)","v":"L3"}]
["CEMT VIbM12geladenbeide","CEMT VIb","M12","geladen","beide","CO2",60786.759911162131,10.91,0.73687061181197655,{"$f":"VLOOKUP(A486,Begin:Einde,7,FALSE)","v":0},1,{"$f":"VLOOKUP(Jaar&X486,Trendfactoren!$A$2:$F$65,6,FALSE)","v":1},0,0,0,0,0,0,0,0,0,0,0,{"$f":"+VLOOKUP(C486,Scheepstypen!$A$1:$F$44,6,FALSE)","v":"L3"}]
["CEMT VIbM12leegbeide","CEMT VIb","M12","leeg","beide","CO2",43228.821331980318,12.46,0.59847901532941639,{"$f":"VLOOKUP(A487,Begin:Einde,7,FALSE)","v":0},1,{"$f":"VLOOKUP(Jaar&X487,Trendfactoren!$A$2:$F$65,6,FALSE)","v":1},0,0,0,0,0,0,0,0,0,0,0,{"$f":"+VLOOKUP(C487,Scheepstypen!$A$1:$F$44,6,FALSE)","v":"L3"}]
["CEMT VIbM2geladenbeide","CEMT VIb","M2","geladen","beide","CO2",13649.979292643338,10.53,0.15970475772392706,{"$f":"VLOOKUP(A488,Begin:Einde,7,FALSE)","v":0},1,{"$f":"VLOOKUP(Jaar&X488,Trendfactoren!$A$2:$F$65,6,FALSE)","v":1},0,0,0,0,0,0,0,0,0,0,0,{"$f":"+VLOOKUP(C488,Scheepstypen!$A$1:$F$44,6,FALSE)","v":"L1"}]
["CEMT VIbM2leegbeide","CEMT VIb","M2","leeg","beide","CO2",7012.781702858103,11.65,9.0776563153663226E-2,{"$f":"VLOOKUP(A489,Begin:Einde,7,FALSE)","v":0},1,{"$f":"VLOOKUP(Jaar&X489,Trendfactoren!$A$2:$F$65,6,FALSE)","v":1},0,0,0,0,0,0,0,0,0,0,0,{"$f":"+VLOOKUP(C489,Scheepstypen!$A$1:$F$44,6,FALSE)","v":"L1"}]
["CEMT VIbM3geladenbeide","CEMT VIb","M3","geladen","beide","CO2",16746.387148279944,10.45,0.19444416188836156,{"$f":"VLOOKUP(A490,Begin:Einde,7,FALSE)","v":0},1,{"$f":"VLOOKUP(Jaar&X490,Trendfactoren!$A$2:$F$65,6,FALSE)","v":1},0,0,0,0,0,0,0,0,0,0,0,{"$f":"+VLOOKUP(C490,Scheepstypen!$A$1:$F$44,6,FALSE)","v":"L1"}]
["CEMT VIbM3leegbeide","CEMT VIb","M3","leeg","beide","CO2",9532.7973599192119,11.69,0.12382044570828397,{"$f":"VLOOKUP(A491,Begin:Einde,7,FALSE)","v":0},1,{"$f":"VLOOKUP(Jaar&X491,Trendfactoren!$A$2:$F$65,6,FALSE)","v":1},0,0,0,0,0,0,0,0,0,0,0,{"$f":"+VLOOKUP(C491,Scheepstypen!$A$1:$F$44,6,FALSE)","v":"L1"}]
["CEMT VIbM4geladenbeide","CEMT VIb","M4","geladen","beide","CO2",19680.84467002744,10.51,0.22982853053554264,{"$f":"VLOOKUP(A492,Begin:Einde,7,FALSE)","v":0},1,{"$f":"VLOOKUP(Jaar&X492,Trendfactoren!$A$2:$F$65,6,FALSE)","v":1},0,0,0,0,0,0,0,0,0,0,0,{"$f":"+VLOOKUP(C492,Scheepstypen!$A$1:$F$44,6,FALSE)","v":"L1"}]
["CEMT VIbM4leegbeide","CEMT VIb","M4","leeg","beide","CO2",11578.743952972427,11.87,0.15271076746864745,{"$f":"VLOOKUP(A493,Begin:Einde,7,FALSE)","v":0},1,{"$f":"VLOOKUP(Jaar&X493,Trendfactoren!$A$2:$F$65,6,FALSE)","v":1},0,0,0,0,0,0,0,0,0,0,0,{"$f":"+VLOOKUP(C493,Scheepstypen!$A$1:$F$44,6,FALSE)","v":"L1"}]
["CEMT VIbM5geladenbeide","CEMT VIb","M5","geladen","beide","CO2",21888.696825631996,10.41,0.25317925994981011,{"$f":"VLOOKUP(A494,Begin:Einde,7,FALSE)","v":0},1,{"$f":"VLOOKUP(Jaar&X494,Trendfactoren!$A$2:$F$65,6,FALSE)","v":1},0,0,0,0,0,0,0,0,0,0,0,{"$f":"+VLOOKUP(C494,Scheepstypen!$A$1:$F$44,6,FALSE)","v":"L2"}]
["CEMT VIbM5leegbeide","CEMT VIb","M5","leeg","beide","CO2",13403.810311271598,11.95,0.17797281468855067,{"$f":"VLOOKUP(A495,Begin:Einde,7,FALSE)","v":0},1,{"$f":"VLOOKUP(Jaar&X495,Trendfactoren!$A$2:$F$65,6,FALSE)","v":1},0,0,0,0,0,0,0,0,0,0,0,{"$f":"+VLOOKUP(C495,Scheepstypen!$A$1:$F$44,6,FALSE)","v":"L2"}]
["CEMT VIbM6geladenbeide","CEMT VIb","M6","geladen","beide","CO2",27143.437980106311,10.77,0.32481647449527223,{"$f":"VLOOKUP(A496,Begin:Einde,7,FALSE)","v":0},1,{"$f":"VLOOKUP(Jaar&X496,Trendfactoren!$A$2:$F$65,6,FALSE)","v":1},0,0,0,0,0,0,0,0,0,0,0,{"$f":"+VLOOKUP(C496,Scheepstypen!$A$1:$F$44,6,FALSE)","v":"L2"}]
["CEMT VIbM6leegbeide","CEMT VIb","M6","leeg","beide","CO2",16349.593267829991,11.5,0.20891146953338322,{"$f":"VLOOKUP(A497,Begin:Einde,7,FALSE)","v":0},1,{"$f":"VLOOKUP(Jaar&X497,Trendfactoren!$A$2:$F$65,6,FALSE)","v":1},0,0,0,0,0,0,0,0,0,0,0,{"$f":"+VLOOKUP(C497,Scheepstypen!$A$1:$F$44,6,FALSE)","v":"L2"}]
["CEMT VIbM7geladenbeide","CEMT VIb","M7","geladen","beide","CO2",27629.18630167532,10.68,0.32786634411321375,{"$f":"VLOOKUP(A498,Begin:Einde,7,FALSE)","v":0},1,{"$f":"VLOOKUP(Jaar&X498,Trendfactoren!$A$2:$F$65,6,FALSE)","v":1},0,0,0,0,0,0,0,0,0,0,0,{"$f":"+VLOOKUP(C498,Scheepstypen!$A$1:$F$44,6,FALSE)","v":"L2"}]
["CEMT VIbM7leegbeide","CEMT VIb","M7","leeg","beide","CO2",19168.855204137853,11.38,0.24237952469232088,{"$f":"VLOOKUP(A499,Begin:Einde,7,FALSE)","v":0},1,{"$f":"VLOOKUP(Jaar&X499,Trendfactoren!$A$2:$F$65,6,FALSE)","v":1},0,0,0,0,0,0,0,0,0,0,0,{"$f":"+VLOOKUP(C499,Scheepstypen!$A$1:$F$44,6,FALSE)","v":"L2"}]
["CEMT VIbM8geladenbeide","CEMT VIb","M8","geladen","beide","CO2",40564.166118181216,11.28,0.50840421534787117,{"$f":"VLOOKUP(A500,Begin:Einde,7,FALSE)","v":0},1,{"$f":"VLOOKUP(Jaar&X500,Trendfactoren!$A$2:$F$65,6,FALSE)","v":1},0,0,0,0,0,0,0,0,0,0,0,{"$f":"+VLOOKUP(C500,Scheepstypen!$A$1:$F$44,6,FALSE)","v":"L3"}]
["CEMT VIbM8leegbeide","CEMT VIb","M8","leeg","beide","CO2",24971.976875268949,11.73,0.32546809860767201,{"$f":"VLOOKUP(A501,Begin:Einde,7,FALSE)","v":0},1,{"$f":"VLOOKUP(Jaar&X501,Trendfactoren!$A$2:$F$65,6,FALSE)","v":1},0,0,0,0,0,0,0,0,0,0,0,{"$f":"+VLOOKUP(C501,Scheepstypen!$A$1:$F$44,6,FALSE)","v":"L3"}]
["CEMT VIbM9geladenbeide","CEMT VIb","M9","geladen","beide","CO2",43282.392104202627,11.01,0.52948793007474548,{"$f":"VLOOKUP(A502,Begin:Einde,7,FALSE)","v":0},1,{"$f":"VLOOKUP(Jaar&X502,Trendfactoren!$A$2:$F$65,6,FALSE)","v":1},0,0,0,0,0,0,0,0,0,0,0,{"$f":"+VLOOKUP(C502,Scheepstypen!$A$1:$F$44,6,FALSE)","v":"L3"}]
["CEMT VIbM9leegbeide","CEMT VIb","M9","leeg","beide","CO2",30821.5872595691,12.09,0.41403665552021157,{"$f":"VLOOKUP(A503,Begin:Einde,7,FALSE)","v":0},1,{"$f":"VLOOKUP(Jaar&X503,Trendfactoren!$A$2:$F$65,6,FALSE)","v":1},0,0,0,0,0,0,0,0,0,0,0,{"$f":"+VLOOKUP(C503,Scheepstypen!$A$1:$F$44,6,FALSE)","v":"L3"}]
["CEMT VIcBIgeladenbeide","CEMT VIc","BI","geladen","beide","CO2",30520.77815023081,12.13,0.41135226551366638,{"$f":"VLOOKUP(A504,Begin:Einde,7,FALSE)","v":0},1,{"$f":"VLOOKUP(Jaar&X504,Trendfactoren!$A$2:$F$65,6,FALSE)","v":1},0,0,0,0,0,0,0,0,0,0,0,{"$f":"+VLOOKUP(C504,Scheepstypen!$A$1:$F$44,6,FALSE)","v":"L2"}]
["CEMT VIcBIleegbeide","CEMT VIc","BI","leeg","beide","CO2",12883.460619876965,12.46,0.17836435480407445,{"$f":"VLOOKUP(A505,Begin:Einde,7,FALSE)","v":0},1,{"$f":"VLOOKUP(Jaar&X505,Trendfactoren!$A$2:$F$65,6,FALSE)","v":1},0,0,0,0,0,0,0,0,0,0,0,{"$f":"+VLOOKUP(C505,Scheepstypen!$A$1:$F$44,6,FALSE)","v":"L2"}]
["CEMT VIcBII-1geladenbeide","CEMT VIc","BII-1","geladen","beide","CO2",50137.440469291461,12.66,0.70526666260136661,{"$f":"VLOOKUP(A506,Begin:Einde,7,FALSE)","v":0},1,{"$f":"VLOOKUP(Jaar&X506,Trendfactoren!$A$2:$F$65,6,FALSE)","v":1},0,0,0,0,0,0,0,0,0,0,0,{"$f":"+VLOOKUP(C506,Scheepstypen!$A$1:$F$44,6,FALSE)","v":"L2"}]
["CEMT VIcBII-1leegbeide","CEMT VIc","BII-1","leeg","beide","CO2",21780.194754712218,13.85,0.33517299705862691,{"$f":"VLOOKUP(A507,Begin:Einde,7,FALSE)","v":0},1,{"$f":"VLOOKUP(Jaar&X507,Trendfactoren!$A$2:$F$65,6,FALSE)","v":1},0,0,0,0,0,0,0,0,0,0,0,{"$f":"+VLOOKUP(C507,Scheepstypen!$A$1:$F$44,6,FALSE)","v":"L2"}]
["CEMT VIcBII-2Bgeladenbeide","CEMT VIc","BII-2B","geladen","beide","CO2",109919.14938244264,13.4,1.6365740019163684,{"$f":"VLOOKUP(A508,Begin:Einde,7,FALSE)","v":0},1,{"$f":"VLOOKUP(Jaar&X508,Trendfactoren!$A$2:$F$65,6,FALSE)","v":1},0,0,0,0,0,0,0,0,0,0,0,{"$f":"+VLOOKUP(C508,Scheepstypen!$A$1:$F$44,6,FALSE)","v":"L3"}]
["CEMT VIcBII-2Bleegbeide","CEMT VIc","BII-2B","leeg","beide","CO2",45674.710981498611,13.83,0.70186805874902869,{"$f":"VLOOKUP(A509,Begin:Einde,7,FALSE)","v":0},1,{"$f":"VLOOKUP(Jaar&X509,Trendfactoren!$A$2:$F$65,6,FALSE)","v":1},0,0,0,0,0,0,0,0,0,0,0,{"$f":"+VLOOKUP(C509,Scheepstypen!$A$1:$F$44,6,FALSE)","v":"L3"}]
["CEMT VIcBII-2Lgeladenbeide","CEMT VIc","BII-2L","geladen","beide","CO2",57328.278124283926,13.13,{"$f":"+MJperkgCO2*G510/1000*H510/3600","v":0.83635587974649772},{"$f":"VLOOKUP(A510,Begin:Einde,7,FALSE)","v":0},{"$f":"+Afstand","v":1},{"$f":"VLOOKUP(Jaar&X510,Trendfactoren!$A$2:$F$65,6,FALSE)","v":1},0,{"$f":"+J510*H510","v":0},0,0,0,0,0,{"$f":"+S510/$I510","v":0},{"$f":"+Q510/$I510","v":0},{"$f":"+R510/$I510","v":0},0,{"$f":"+VLOOKUP(C510,Scheepstypen!$A$1:$F$44,6,FALSE)","v":"L3"}]
[{"$f":"+B511&C511&D511&E511","v":"CEMT VIcBII-2Lleegbeide"},"CEMT VIc","BII-2L","leeg","beide","CO2",29326.214210219026,13.79,0.44934277106546705,{"$f":"VLOOKUP(A511,Begin:Einde,7,FALSE)","v":0},1,{"$f":"VLOOKUP(Jaar&X511,Trendfactoren!$A$2:$F$65,6,FALSE)","v":1},{"$f":"+J511*I511*L511","v":0},0,{"$f":"+J511*G511*K511","v":0},0,0,0,0,0,0,0,{"$f":"+P511/I511","v":0},{"$f":"+VLOOKUP(C511,Scheepstypen!$A$1:$F$44,6,FALSE)","v":"L3"}]
["CEMT VIcBII-4geladenbeide","CEMT VIc","BII-4","geladen","beide","CO2",135670.64284568821,13.8,2.0802831903005523,{"$f":"VLOOKUP(A512,Begin:Einde,7,FALSE)","v":0},1,{"$f":"VLOOKUP(Jaar&X512,Trendfactoren!$A$2:$F$65,6,FALSE)","v":1},0,0,0,0,0,0,0,0,0,0,0,{"$f":"+VLOOKUP(C512,Scheepstypen!$A$1:$F$44,6,FALSE)","v":"L3"}]
["CEMT VIcBII-4leegbeide","CEMT VIc","BII-4","leeg","beide","CO2",68620.656888405967,14.74,1.1238538694834488,{"$f":"VLOOKUP(A513,Begin:Einde,7,FALSE)","v":0},1,{"$f":"VLOOKUP(Jaar&X513,Trendfactoren!$A$2:$F$65,6,FALSE)","v":1},0,0,0,0,0,0,0,0,0,0,0,{"$f":"+VLOOKUP(C513,Scheepstypen!$A$1:$F$44,6,FALSE)","v":"L3"}]
["CEMT VIcBII-6Bgeladenbeide","CEMT VIc","BII-6B","geladen","beide","CO2",215736.43638417724,14.5,3.4757536973006329,{"$f":"VLOOKUP(A514,Begin:Einde,7,FALSE)","v":0},1,{"$f":"VLOOKUP(Jaar&X514,Trendfactoren!$A$2:$F$65,6,FALSE)","v":1},0,0,0,{"$f":"+O514/+IF($O$914>0,$O$914,1)","v":0},{"$f":"+IF(E514=\"beide\",O514,0)/IF($O$915>0,$O$915,1)","v":0},{"$f":"+IF(E514=\"op\",O514,0)/IF($O$916>0,$O$916,1)","v":0},{"$f":"+IF(E514=\"af\",O514,0)/IF($O$917>0,$O$917,1)","v":0},0,0,0,0,{"$f":"+VLOOKUP(C514,Scheepstypen!$A$1:$F$44,6,FALSE)","v":"L3"}]
["CEMT VIcBII-6Bleegbeide","CEMT VIc","BII-6B","leeg","beide","CO2",99127.667727882363,13.83,1.5232618274184593,{"$f":"VLOOKUP(A515,Begin:Einde,7,FALSE)","v":0},1,{"$f":"VLOOKUP(Jaar&X515,Trendfactoren!$A$2:$F$65,6,FALSE)","v":1},0,0,0,0,0,0,0,0,0,0,0,{"$f":"+VLOOKUP(C515,Scheepstypen!$A$1:$F$44,6,FALSE)","v":"L3"}]
["CEMT VIcBII-6Lgeladenbeide","CEMT VIc","BII-6L","geladen","beide","CO2",132006.18698243605,12.88,1.8891552092597517,{"$f":"VLOOKUP(A516,Begin:Einde,7,FALSE)","v":0},1,{"$f":"VLOOKUP(Jaar&X516,Trendfactoren!$A$2:$F$65,6,FALSE)","v":1},0,0,0,0,0,0,0,0,0,0,0,{"$f":"+VLOOKUP(C516,Scheepstypen!$A$1:$F$44,6,FALSE)","v":"L3"}]
["CEMT VIcBII-6Lleegbeide","CEMT VIc","BII-6L","leeg","beide","CO2",85190.095542143696,15.22,1.4406591712793635,{"$f":"VLOOKUP(A517,Begin:Einde,7,FALSE)","v":0},1,{"$f":"VLOOKUP(Jaar&X517,Trendfactoren!$A$2:$F$65,6,FALSE)","v":1},0,0,0,0,0,0,0,0,0,0,0,{"$f":"+VLOOKUP(C517,Scheepstypen!$A$1:$F$44,6,FALSE)","v":"L3"}]
["CEMT VIcBO1leegbeide","CEMT VIc","BO1","leeg","beide","CO2",5444.6943959998553,12.69,7.6770190983597955E-2,{"$f":"VLOOKUP(A518,Begin:Einde,7,FALSE)","v":0},1,{"$f":"VLOOKUP(Jaar&X518,Trendfactoren!$A$2:$F$65,6,FALSE)","v":1},0,0,0,0,0,0,0,0,0,0,0,{"$f":"+VLOOKUP(C518,Scheepstypen!$A$1:$F$44,6,FALSE)","v":"L1"}]
["CEMT VIcBO2geladenbeide","CEMT VIc","BO2","geladen","beide","CO2",15852.829845486749,11.1,0.19551823476100322,{"$f":"VLOOKUP(A519,Begin:Einde,7,FALSE)","v":0},1,{"$f":"VLOOKUP(Jaar&X519,Trendfactoren!$A$2:$F$65,6,FALSE)","v":1},0,0,0,0,0,0,0,0,0,0,0,{"$f":"+VLOOKUP(C519,Scheepstypen!$A$1:$F$44,6,FALSE)","v":"L1"}]
["CEMT VIcBO2leegbeide","CEMT VIc","BO2","leeg","beide","CO2",7504.7143156609081,12.63,0.10531615756310808,{"$f":"VLOOKUP(A520,Begin:Einde,7,FALSE)","v":0},1,{"$f":"VLOOKUP(Jaar&X520,Trendfactoren!$A$2:$F$65,6,FALSE)","v":1},0,0,0,0,0,0,0,0,0,0,0,{"$f":"+VLOOKUP(C520,Scheepstypen!$A$1:$F$44,6,FALSE)","v":"L1"}]
["CEMT VIcBO3geladenbeide","CEMT VIc","BO3","geladen","beide","CO2",19432.037994732324,11.2,0.24182091726778002,{"$f":"VLOOKUP(A521,Begin:Einde,7,FALSE)","v":0},1,{"$f":"VLOOKUP(Jaar&X521,Trendfactoren!$A$2:$F$65,6,FALSE)","v":1},0,0,0,0,0,0,0,0,0,0,0,{"$f":"+VLOOKUP(C521,Scheepstypen!$A$1:$F$44,6,FALSE)","v":"L1"}]
["CEMT VIcBO3leegbeide","CEMT VIc","BO3","leeg","beide","CO2",9479.538890895963,12.74,0.13418813941112728,{"$f":"VLOOKUP(A522,Begin:Einde,7,FALSE)","v":0},1,{"$f":"VLOOKUP(Jaar&X522,Trendfactoren!$A$2:$F$65,6,FALSE)","v":1},0,0,0,0,0,0,0,0,0,0,0,{"$f":"+VLOOKUP(C522,Scheepstypen!$A$1:$F$44,6,FALSE)","v":"L1"}]
["CEMT VIcBO4geladenbeide","CEMT VIc","BO4","geladen","beide","CO2",25221.137147434398,12.2,0.34188652577633294,{"$f":"VLOOKUP(A523,Begin:Einde,7,FALSE)","v":0},1,{"$f":"VLOOKUP(Jaar&X523,Trendfactoren!$A$2:$F$65,6,FALSE)","v":1},0,0,0,0,0,0,0,0,0,0,0,{"$f":"+VLOOKUP(C523,Scheepstypen!$A$1:$F$44,6,FALSE)","v":"L1"}]
["CEMT VIcBO4leegbeide","CEMT VIc","BO4","leeg","beide","CO2",10918.836273049346,12.57,0.1524997466135892,{"$f":"VLOOKUP(A524,Begin:Einde,7,FALSE)","v":0},1,{"$f":"VLOOKUP(Jaar&X524,Trendfactoren!$A$2:$F$65,6,FALSE)","v":1},0,0,0,0,0,0,0,0,0,0,0,{"$f":"+VLOOKUP(C524,Scheepstypen!$A$1:$F$44,6,FALSE)","v":"L1"}]
["CEMT VIcC1bgeladenbeide","CEMT VIc","C1b","geladen","beide","CO2",12115.166964939766,10.3,0.13865135526542177,{"$f":"VLOOKUP(A525,Begin:Einde,7,FALSE)","v":0},1,{"$f":"VLOOKUP(Jaar&X525,Trendfactoren!$A$2:$F$65,6,FALSE)","v":1},0,0,0,0,0,0,0,0,0,0,0,{"$f":"+VLOOKUP(C525,Scheepstypen!$A$1:$F$44,6,FALSE)","v":"L1"}]
["CEMT VIcC1bleegbeide","CEMT VIc","C1b","leeg","beide","CO2",5993.9935556448399,11.9,7.9253914791304003E-2,{"$f":"VLOOKUP(A526,Begin:Einde,7,FALSE)","v":0},1,{"$f":"VLOOKUP(Jaar&X526,Trendfactoren!$A$2:$F$65,6,FALSE)","v":1},0,0,0,0,0,0,0,0,0,0,0,{"$f":"+VLOOKUP(C526,Scheepstypen!$A$1:$F$44,6,FALSE)","v":"L1"}]
["CEMT VIcC1lgeladenbeide","CEMT VIc","C1l","geladen","beide","CO2",8096.8625098531975,10.1,9.0864790388352545E-2,{"$f":"VLOOKUP(A527,Begin:Einde,7,FALSE)","v":0},1,{"$f":"VLOOKUP(Jaar&X527,Trendfactoren!$A$2:$F$65,6,FALSE)","v":1},0,0,0,0,0,0,0,0,0,0,0,{"$f":"+VLOOKUP(C527,Scheepstypen!$A$1:$F$44,6,FALSE)","v":"L1"}]
["CEMT VIcC1lleegbeide","CEMT VIc","C1l","leeg","beide","CO2",5825.1738807714273,11.9,7.702174353464443E-2,{"$f":"VLOOKUP(A528,Begin:Einde,7,FALSE)","v":0},1,{"$f":"VLOOKUP(Jaar&X528,Trendfactoren!$A$2:$F$65,6,FALSE)","v":1},0,0,0,0,0,0,0,0,0,0,0,{"$f":"+VLOOKUP(C528,Scheepstypen!$A$1:$F$44,6,FALSE)","v":"L1"}]
["CEMT VIcC2bgeladenbeide","CEMT VIc","C2b","geladen","beide","CO2",22451.68708197842,7.96,0.19857269908060915,{"$f":"VLOOKUP(A529,Begin:Einde,7,FALSE)","v":0},1,{"$f":"VLOOKUP(Jaar&X529,Trendfactoren!$A$2:$F$65,6,FALSE)","v":1},0,0,0,0,0,0,0,0,0,0,0,{"$f":"+VLOOKUP(C529,Scheepstypen!$A$1:$F$44,6,FALSE)","v":"L2"}]
["CEMT VIcC2bleegbeide","CEMT VIc","C2b","leeg","beide","CO2",22178.401088283914,12.03,0.29645129454672825,{"$f":"VLOOKUP(A530,Begin:Einde,7,FALSE)","v":0},1,{"$f":"VLOOKUP(Jaar&X530,Trendfactoren!$A$2:$F$65,6,FALSE)","v":1},0,0,0,0,0,0,0,0,0,0,0,{"$f":"+VLOOKUP(C530,Scheepstypen!$A$1:$F$44,6,FALSE)","v":"L2"}]
["CEMT VIcC2lgeladenbeide","CEMT VIc","C2l","geladen","beide","CO2",41149.533999182277,14.41,0.65884976103135173,{"$f":"VLOOKUP(A531,Begin:Einde,7,FALSE)","v":0},1,{"$f":"VLOOKUP(Jaar&X531,Trendfactoren!$A$2:$F$65,6,FALSE)","v":1},0,0,0,0,0,0,0,0,0,0,0,{"$f":"+VLOOKUP(C531,Scheepstypen!$A$1:$F$44,6,FALSE)","v":"L2"}]
["CEMT VIcC2lleegbeide","CEMT VIc","C2l","leeg","beide","CO2",27735.078039538774,15.75,0.48536386569192852,{"$f":"VLOOKUP(A532,Begin:Einde,7,FALSE)","v":0},1,{"$f":"VLOOKUP(Jaar&X532,Trendfactoren!$A$2:$F$65,6,FALSE)","v":1},0,0,0,0,0,0,0,0,0,0,0,{"$f":"+VLOOKUP(C532,Scheepstypen!$A$1:$F$44,6,FALSE)","v":"L2"}]
["CEMT VIcC3bgeladenbeide","CEMT VIc","C3b","geladen","beide","CO2",88235.808403014715,13.7,1.3431450834681129,{"$f":"VLOOKUP(A533,Begin:Einde,7,FALSE)","v":0},1,{"$f":"VLOOKUP(Jaar&X533,Trendfactoren!$A$2:$F$65,6,FALSE)","v":1},0,0,0,0,0,0,0,0,0,0,0,{"$f":"+VLOOKUP(C533,Scheepstypen!$A$1:$F$44,6,FALSE)","v":"L3"}]
["CEMT VIcC3bleegbeide","CEMT VIc","C3b","leeg","beide","CO2",37314.408712508688,12.95,0.53691288091887501,{"$f":"VLOOKUP(A534,Begin:Einde,7,FALSE)","v":0},1,{"$f":"VLOOKUP(Jaar&X534,Trendfactoren!$A$2:$F$65,6,FALSE)","v":1},0,0,0,0,0,0,0,0,0,0,0,{"$f":"+VLOOKUP(C534,Scheepstypen!$A$1:$F$44,6,FALSE)","v":"L3"}]
["CEMT VIcC3lgeladenbeide","CEMT VIc","C3l","geladen","beide","CO2",56145.049336867785,14.41,0.89894462327140534,{"$f":"VLOOKUP(A535,Begin:Einde,7,FALSE)","v":0},1,{"$f":"VLOOKUP(Jaar&X535,Trendfactoren!$A$2:$F$65,6,FALSE)","v":1},0,0,0,0,0,0,0,0,0,0,0,{"$f":"+VLOOKUP(C535,Scheepstypen!$A$1:$F$44,6,FALSE)","v":"L3"}]
["CEMT VIcC3lleegbeide","CEMT VIc","C3l","leeg","beide","CO2",29849.045053311467,14.19,0.47061994367387744,{"$f":"VLOOKUP(A536,Begin:Einde,7,FALSE)","v":0},1,{"$f":"VLOOKUP(Jaar&X536,Trendfactoren!$A$2:$F$65,6,FALSE)","v":1},0,0,0,0,0,0,0,0,0,0,0,{"$f":"+VLOOKUP(C536,Scheepstypen!$A$1:$F$44,6,FALSE)","v":"L3"}]
["CEMT VIcC4geladenbeide","CEMT VIc","C4","geladen","beide","CO2",87779.952023788777,13.27,1.2942666259507523,{"$f":"VLOOKUP(A537,Begin:Einde,7,FALSE)","v":0},1,{"$f":"VLOOKUP(Jaar&X537,Trendfactoren!$A$2:$F$65,6,FALSE)","v":1},0,0,0,0,0,0,0,0,0,0,0,{"$f":"+VLOOKUP(C537,Scheepstypen!$A$1:$F$44,6,FALSE)","v":"L3"}]
["CEMT VIcC4leegbeide","CEMT VIc","C4","leeg","beide","CO2",53663.130916593735,12.34,0.73578115056751847,{"$f":"VLOOKUP(A538,Begin:Einde,7,FALSE)","v":0},1,{"$f":"VLOOKUP(Jaar&X538,Trendfactoren!$A$2:$F$65,6,FALSE)","v":1},0,0,0,0,0,0,0,0,0,0,0,{"$f":"+VLOOKUP(C538,Scheepstypen!$A$1:$F$44,6,FALSE)","v":"L3"}]
["CEMT VIcM0geladenbeide","CEMT VIc","M0","geladen","beide","CO2",3482.0632737020956,12.58,4.8671506647969286E-2,{"$f":"VLOOKUP(A539,Begin:Einde,7,FALSE)","v":0},1,{"$f":"VLOOKUP(Jaar&X539,Trendfactoren!$A$2:$F$65,6,FALSE)","v":1},0,0,0,0,0,0,0,0,0,0,0,{"$f":"+VLOOKUP(C539,Scheepstypen!$A$1:$F$44,6,FALSE)","v":"L1"}]
["CEMT VIcM0leegbeide","CEMT VIc","M0","leeg","beide","CO2",2427.0105626041609,13.76,3.7106294823814723E-2,{"$f":"VLOOKUP(A540,Begin:Einde,7,FALSE)","v":0},1,{"$f":"VLOOKUP(Jaar&X540,Trendfactoren!$A$2:$F$65,6,FALSE)","v":1},0,0,0,0,0,0,0,0,0,0,0,{"$f":"+VLOOKUP(C540,Scheepstypen!$A$1:$F$44,6,FALSE)","v":"L1"}]
["CEMT VIcM1geladenbeide","CEMT VIc","M1","geladen","beide","CO2",6984.0984316241711,10.93,8.4817995397391321E-2,{"$f":"VLOOKUP(A541,Begin:Einde,7,FALSE)","v":0},1,{"$f":"VLOOKUP(Jaar&X541,Trendfactoren!$A$2:$F$65,6,FALSE)","v":1},0,0,0,0,0,0,0,0,0,0,0,{"$f":"+VLOOKUP(C541,Scheepstypen!$A$1:$F$44,6,FALSE)","v":"L1"}]
["CEMT VIcM1leegbeide","CEMT VIc","M1","leeg","beide","CO2",4229.0559070501085,14.22,6.6819083331391721E-2,{"$f":"VLOOKUP(A542,Begin:Einde,7,FALSE)","v":0},1,{"$f":"VLOOKUP(Jaar&X542,Trendfactoren!$A$2:$F$65,6,FALSE)","v":1},0,0,0,0,0,0,0,0,0,0,0,{"$f":"+VLOOKUP(C542,Scheepstypen!$A$1:$F$44,6,FALSE)","v":"L1"}]
["CEMT VIcM10geladenbeide","CEMT VIc","M10","geladen","beide","CO2",59801.319623340438,14.81,0.98406393735741327,{"$f":"VLOOKUP(A543,Begin:Einde,7,FALSE)","v":0},1,{"$f":"VLOOKUP(Jaar&X543,Trendfactoren!$A$2:$F$65,6,FALSE)","v":1},0,0,0,0,0,0,0,0,0,0,0,{"$f":"+VLOOKUP(C543,Scheepstypen!$A$1:$F$44,6,FALSE)","v":"L3"}]
["CEMT VIcM10leegbeide","CEMT VIc","M10","leeg","beide","CO2",31613.554366802113,15.5,0.54445565853936972,{"$f":"VLOOKUP(A544,Begin:Einde,7,FALSE)","v":0},1,{"$f":"VLOOKUP(Jaar&X544,Trendfactoren!$A$2:$F$65,6,FALSE)","v":1},0,0,0,0,0,0,0,0,0,0,0,{"$f":"+VLOOKUP(C544,Scheepstypen!$A$1:$F$44,6,FALSE)","v":"L3"}]
["CEMT VIcM11geladenbeide","CEMT VIc","M11","geladen","beide","CO2",63661.722408139518,15.44,1.0921522155351935,{"$f":"VLOOKUP(A545,Begin:Einde,7,FALSE)","v":0},1,{"$f":"VLOOKUP(Jaar&X545,Trendfactoren!$A$2:$F$65,6,FALSE)","v":1},0,0,0,0,0,0,0,0,0,0,0,{"$f":"+VLOOKUP(C545,Scheepstypen!$A$1:$F$44,6,FALSE)","v":"L3"}]
["CEMT VIcM11leegbeide","CEMT VIc","M11","leeg","beide","CO2",35333.148673005773,15.24,0.59830798419623099,{"$f":"VLOOKUP(A546,Begin:Einde,7,FALSE)","v":0},1,{"$f":"VLOOKUP(Jaar&X546,Trendfactoren!$A$2:$F$65,6,FALSE)","v":1},0,0,0,0,0,0,0,0,0,0,0,{"$f":"+VLOOKUP(C546,Scheepstypen!$A$1:$F$44,6,FALSE)","v":"L3"}]
["CEMT VIcM12geladenbeide","CEMT VIc","M12","geladen","beide","CO2",68598.5910418641,14.88,1.1341633718921531,{"$f":"VLOOKUP(A547,Begin:Einde,7,FALSE)","v":0},1,{"$f":"VLOOKUP(Jaar&X547,Trendfactoren!$A$2:$F$65,6,FALSE)","v":1},0,0,0,0,0,0,0,0,0,0,0,{"$f":"+VLOOKUP(C547,Scheepstypen!$A$1:$F$44,6,FALSE)","v":"L3"}]
["CEMT VIcM12leegbeide","CEMT VIc","M12","leeg","beide","CO2",46448.221460664725,15.46,0.79787722642430747,{"$f":"VLOOKUP(A548,Begin:Einde,7,FALSE)","v":0},1,{"$f":"VLOOKUP(Jaar&X548,Trendfactoren!$A$2:$F$65,6,FALSE)","v":1},0,0,0,0,0,0,0,0,0,0,0,{"$f":"+VLOOKUP(C548,Scheepstypen!$A$1:$F$44,6,FALSE)","v":"L3"}]
["CEMT VIcM2geladenbeide","CEMT VIc","M2","geladen","beide","CO2",14622.470224745653,13.21,0.21462536852098898,{"$f":"VLOOKUP(A549,Begin:Einde,7,FALSE)","v":0},1,{"$f":"VLOOKUP(Jaar&X549,Trendfactoren!$A$2:$F$65,6,FALSE)","v":1},0,0,0,0,0,0,0,0,0,0,0,{"$f":"+VLOOKUP(C549,Scheepstypen!$A$1:$F$44,6,FALSE)","v":"L1"}]
["CEMT VIcM2leegbeide","CEMT VIc","M2","leeg","beide","CO2",7332.2376523856974,14.38,0.11715286382367369,{"$f":"VLOOKUP(A550,Begin:Einde,7,FALSE)","v":0},1,{"$f":"VLOOKUP(Jaar&X550,Trendfactoren!$A$2:$F$65,6,FALSE)","v":1},0,0,0,0,0,0,0,0,0,0,0,{"$f":"+VLOOKUP(C550,Scheepstypen!$A$1:$F$44,6,FALSE)","v":"L1"}]
["CEMT VIcM3geladenbeide","CEMT VIc","M3","geladen","beide","CO2",18749.785148977699,14.01,0.29187165548575283,{"$f":"VLOOKUP(A551,Begin:Einde,7,FALSE)","v":0},1,{"$f":"VLOOKUP(Jaar&X551,Trendfactoren!$A$2:$F$65,6,FALSE)","v":1},0,0,0,0,0,0,0,0,0,0,0,{"$f":"+VLOOKUP(C551,Scheepstypen!$A$1:$F$44,6,FALSE)","v":"L1"}]
["CEMT VIcM3leegbeide","CEMT VIc","M3","leeg","beide","CO2",9877.9808822622981,14.95,0.1640842379886904,{"$f":"VLOOKUP(A552,Begin:Einde,7,FALSE)","v":0},1,{"$f":"VLOOKUP(Jaar&X552,Trendfactoren!$A$2:$F$65,6,FALSE)","v":1},0,0,0,0,0,0,0,0,0,0,0,{"$f":"+VLOOKUP(C552,Scheepstypen!$A$1:$F$44,6,FALSE)","v":"L1"}]
["CEMT VIcM4geladenbeide","CEMT VIc","M4","geladen","beide","CO2",22216.308707192547,14.48,0.35743572231127563,{"$f":"VLOOKUP(A553,Begin:Einde,7,FALSE)","v":0},1,{"$f":"VLOOKUP(Jaar&X553,Trendfactoren!$A$2:$F$65,6,FALSE)","v":1},0,0,0,0,0,0,0,0,0,0,0,{"$f":"+VLOOKUP(C553,Scheepstypen!$A$1:$F$44,6,FALSE)","v":"L1"}]
["CEMT VIcM4leegbeide","CEMT VIc","M4","leeg","beide","CO2",12634.011882290932,15.54,0.21814727183422339,{"$f":"VLOOKUP(A554,Begin:Einde,7,FALSE)","v":0},1,{"$f":"VLOOKUP(Jaar&X554,Trendfactoren!$A$2:$F$65,6,FALSE)","v":1},0,0,0,0,0,0,0,0,0,0,0,{"$f":"+VLOOKUP(C554,Scheepstypen!$A$1:$F$44,6,FALSE)","v":"L1"}]
["CEMT VIcM5geladenbeide","CEMT VIc","M5","geladen","beide","CO2",24853.506562389986,14.54,0.40152220601905597,{"$f":"VLOOKUP(A555,Begin:Einde,7,FALSE)","v":0},1,{"$f":"VLOOKUP(Jaar&X555,Trendfactoren!$A$2:$F$65,6,FALSE)","v":1},0,0,0,0,0,0,0,0,0,0,0,{"$f":"+VLOOKUP(C555,Scheepstypen!$A$1:$F$44,6,FALSE)","v":"L2"}]
["CEMT VIcM5leegbeide","CEMT VIc","M5","leeg","beide","CO2",14303.142877587297,15.86,0.25205316226503838,{"$f":"VLOOKUP(A556,Begin:Einde,7,FALSE)","v":0},1,{"$f":"VLOOKUP(Jaar&X556,Trendfactoren!$A$2:$F$65,6,FALSE)","v":1},0,0,0,0,0,0,0,0,0,0,0,{"$f":"+VLOOKUP(C556,Scheepstypen!$A$1:$F$44,6,FALSE)","v":"L2"}]
["CEMT VIcM6geladenbeide","CEMT VIc","M6","geladen","beide","CO2",30041.066291663843,14.57,0.4863314842994913,{"$f":"VLOOKUP(A557,Begin:Einde,7,FALSE)","v":0},1,{"$f":"VLOOKUP(Jaar&X557,Trendfactoren!$A$2:$F$65,6,FALSE)","v":1},0,0,0,0,0,0,0,0,0,0,0,{"$f":"+VLOOKUP(C557,Scheepstypen!$A$1:$F$44,6,FALSE)","v":"L2"}]
["CEMT VIcM6leegbeide","CEMT VIc","M6","leeg","beide","CO2",17417.268429898948,15.63,0.30247989506591172,{"$f":"VLOOKUP(A558,Begin:Einde,7,FALSE)","v":0},1,{"$f":"VLOOKUP(Jaar&X558,Trendfactoren!$A$2:$F$65,6,FALSE)","v":1},0,0,0,0,0,0,0,0,0,0,0,{"$f":"+VLOOKUP(C558,Scheepstypen!$A$1:$F$44,6,FALSE)","v":"L2"}]
["CEMT VIcM7geladenbeide","CEMT VIc","M7","geladen","beide","CO2",32373.202923422701,15.25,0.54854593842466248,{"$f":"VLOOKUP(A559,Begin:Einde,7,FALSE)","v":0},1,{"$f":"VLOOKUP(Jaar&X559,Trendfactoren!$A$2:$F$65,6,FALSE)","v":1},0,0,0,0,0,0,0,0,0,0,0,{"$f":"+VLOOKUP(C559,Scheepstypen!$A$1:$F$44,6,FALSE)","v":"L2"}]
["CEMT VIcM7leegbeide","CEMT VIc","M7","leeg","beide","CO2",20070.503592494071,15.55,0.34677370095920312,{"$f":"VLOOKUP(A560,Begin:Einde,7,FALSE)","v":0},1,{"$f":"VLOOKUP(Jaar&X560,Trendfactoren!$A$2:$F$65,6,FALSE)","v":1},0,0,0,0,0,0,0,0,0,0,0,{"$f":"+VLOOKUP(C560,Scheepstypen!$A$1:$F$44,6,FALSE)","v":"L2"}]
["CEMT VIcM8geladenbeide","CEMT VIc","M8","geladen","beide","CO2",46279.255574197858,15.12,0.77749149364652392,{"$f":"VLOOKUP(A561,Begin:Einde,7,FALSE)","v":0},1,{"$f":"VLOOKUP(Jaar&X561,Trendfactoren!$A$2:$F$65,6,FALSE)","v":1},0,0,0,0,0,0,0,0,0,0,0,{"$f":"+VLOOKUP(C561,Scheepstypen!$A$1:$F$44,6,FALSE)","v":"L3"}]
["CEMT VIcM8leegbeide","CEMT VIc","M8","leeg","beide","CO2",27125.633971293886,15.82,0.47680836602874366,{"$f":"VLOOKUP(A562,Begin:Einde,7,FALSE)","v":0},1,{"$f":"VLOOKUP(Jaar&X562,Trendfactoren!$A$2:$F$65,6,FALSE)","v":1},0,0,0,0,0,0,0,0,0,0,0,{"$f":"+VLOOKUP(C562,Scheepstypen!$A$1:$F$44,6,FALSE)","v":"L3"}]
["CEMT VIcM9geladenbeide","CEMT VIc","M9","geladen","beide","CO2",48203.331509296477,14.95,0.80071089562664699,{"$f":"VLOOKUP(A563,Begin:Einde,7,FALSE)","v":0},1,{"$f":"VLOOKUP(Jaar&X563,Trendfactoren!$A$2:$F$65,6,FALSE)","v":1},0,0,0,0,0,0,0,0,0,0,0,{"$f":"+VLOOKUP(C563,Scheepstypen!$A$1:$F$44,6,FALSE)","v":"L3"}]
["CEMT VIcM9leegbeide","CEMT VIc","M9","leeg","beide","CO2",32071.54264932204,15.56,0.55448133735938998,{"$f":"VLOOKUP(A564,Begin:Einde,7,FALSE)","v":0},1,{"$f":"VLOOKUP(Jaar&X564,Trendfactoren!$A$2:$F$65,6,FALSE)","v":1},0,0,0,0,0,0,0,0,0,0,0,{"$f":"+VLOOKUP(C564,Scheepstypen!$A$1:$F$44,6,FALSE)","v":"L3"}]
["IJsselBIgeladenaf","IJssel","BI","geladen","af","CO2",7829.7963698443154,10.3,8.9607669565996056E-2,{"$f":"VLOOKUP(A565,Begin:Einde,7,FALSE)","v":0},1,{"$f":"VLOOKUP(Jaar&X565,Trendfactoren!$A$2:$F$65,6,FALSE)","v":1},0,0,0,0,0,0,0,0,0,0,0,{"$f":"+VLOOKUP(C565,Scheepstypen!$A$1:$F$44,6,FALSE)","v":"L2"}]
["IJsselBIgeladenop","IJssel","BI","geladen","op","CO2",59030.2837758354,10.3,0.67556880321233848,{"$f":"VLOOKUP(A566,Begin:Einde,7,FALSE)","v":0},1,{"$f":"VLOOKUP(Jaar&X566,Trendfactoren!$A$2:$F$65,6,FALSE)","v":1},0,0,0,0,0,0,0,0,0,0,0,{"$f":"+VLOOKUP(C566,Scheepstypen!$A$1:$F$44,6,FALSE)","v":"L2"}]
["IJsselBIleegaf","IJssel","BI","leeg","af","CO2",5202.9323895715934,12.56,7.2609812014465799E-2,{"$f":"VLOOKUP(A567,Begin:Einde,7,FALSE)","v":0},1,{"$f":"VLOOKUP(Jaar&X567,Trendfactoren!$A$2:$F$65,6,FALSE)","v":1},0,0,0,0,0,0,0,0,0,0,0,{"$f":"+VLOOKUP(C567,Scheepstypen!$A$1:$F$44,6,FALSE)","v":"L2"}]
["IJsselBIleegop","IJssel","BI","leeg","op","CO2",24496.013657327843,12.03,0.32743004921961549,{"$f":"VLOOKUP(A568,Begin:Einde,7,FALSE)","v":0},1,{"$f":"VLOOKUP(Jaar&X568,Trendfactoren!$A$2:$F$65,6,FALSE)","v":1},0,0,0,0,0,0,0,0,0,0,0,{"$f":"+VLOOKUP(C568,Scheepstypen!$A$1:$F$44,6,FALSE)","v":"L2"}]
["IJsselBII-1geladenaf","IJssel","BII-1","geladen","af","CO2",21463.552854350022,11.64,0.27759528358292695,{"$f":"VLOOKUP(A569,Begin:Einde,7,FALSE)","v":0},1,{"$f":"VLOOKUP(Jaar&X569,Trendfactoren!$A$2:$F$65,6,FALSE)","v":1},0,0,0,0,0,0,0,0,0,0,0,{"$f":"+VLOOKUP(C569,Scheepstypen!$A$1:$F$44,6,FALSE)","v":"L2"}]
["IJsselBII-1geladenop","IJssel","BII-1","geladen","op","CO2",97578.768261066391,9.1,0.9866297679730045,{"$f":"VLOOKUP(A570,Begin:Einde,7,FALSE)","v":0},1,{"$f":"VLOOKUP(Jaar&X570,Trendfactoren!$A$2:$F$65,6,FALSE)","v":1},0,0,0,0,0,0,0,0,0,0,0,{"$f":"+VLOOKUP(C570,Scheepstypen!$A$1:$F$44,6,FALSE)","v":"L2"}]
["IJsselBII-1leegaf","IJssel","BII-1","leeg","af","CO2",9321.3329286067001,13.71,0.14199497161244209,{"$f":"VLOOKUP(A571,Begin:Einde,7,FALSE)","v":0},1,{"$f":"VLOOKUP(Jaar&X571,Trendfactoren!$A$2:$F$65,6,FALSE)","v":1},0,0,0,0,0,0,0,0,0,0,0,{"$f":"+VLOOKUP(C571,Scheepstypen!$A$1:$F$44,6,FALSE)","v":"L2"}]
["IJsselBII-1leegop","IJssel","BII-1","leeg","op","CO2",43958.40510255329,14.22,0.69454280062034213,{"$f":"VLOOKUP(A572,Begin:Einde,7,FALSE)","v":0},1,{"$f":"VLOOKUP(Jaar&X572,Trendfactoren!$A$2:$F$65,6,FALSE)","v":1},0,0,0,0,0,0,0,0,0,0,0,{"$f":"+VLOOKUP(C572,Scheepstypen!$A$1:$F$44,6,FALSE)","v":"L2"}]
["IJsselBII-2Bgeladenaf","IJssel","BII-2B","geladen","af","CO2",45327.407367983076,12.87,0.64818192536215802,{"$f":"VLOOKUP(A573,Begin:Einde,7,FALSE)","v":0},1,{"$f":"VLOOKUP(Jaar&X573,Trendfactoren!$A$2:$F$65,6,FALSE)","v":1},0,0,0,0,0,0,0,0,0,0,0,{"$f":"+VLOOKUP(C573,Scheepstypen!$A$1:$F$44,6,FALSE)","v":"L3"}]
["IJsselBII-2Bgeladenop","IJssel","BII-2B","geladen","op","CO2",149133.29314472541,12.87,{"$f":"+MJperkgCO2*G574/1000*H574/3600","v":2.1326060919695728},{"$f":"VLOOKUP(A574,Begin:Einde,7,FALSE)","v":0},{"$f":"+Afstand","v":1},{"$f":"VLOOKUP(Jaar&X574,Trendfactoren!$A$2:$F$65,6,FALSE)","v":1},0,{"$f":"+J574*H574","v":0},0,0,0,0,0,{"$f":"+S574/$I574","v":0},{"$f":"+Q574/$I574","v":0},{"$f":"+R574/$I574","v":0},0,{"$f":"+VLOOKUP(C574,Scheepstypen!$A$1:$F$44,6,FALSE)","v":"L3"}]
[{"$f":"+B575&C575&D575&E575","v":"IJsselBII-2Bleegaf"},"IJssel","BII-2B","leeg","af","CO2",15828.307203051387,12.73,0.22388261188316017,{"$f":"VLOOKUP(A575,Begin:Einde,7,FALSE)","v":0},1,{"$f":"VLOOKUP(Jaar&X575,Trendfactoren!$A$2:$F$65,6,FALSE)","v":1},{"$f":"+J575*I575*L575","v":0},0,{"$f":"+J575*G575*K575","v":0},0,0,0,0,0,0,0,{"$f":"+P575/I575","v":0},{"$f":"+VLOOKUP(C575,Scheepstypen!$A$1:$F$44,6,FALSE)","v":"L3"}]
["IJsselBII-2Bleegop","IJssel","BII-2B","leeg","op","CO2",83475.559344905239,12.73,1.1807154116229375,{"$f":"VLOOKUP(A576,Begin:Einde,7,FALSE)","v":0},1,{"$f":"VLOOKUP(Jaar&X576,Trendfactoren!$A$2:$F$65,6,FALSE)","v":1},0,0,0,0,0,0,0,0,0,0,0,{"$f":"+VLOOKUP(C576,Scheepstypen!$A$1:$F$44,6,FALSE)","v":"L3"}]
["IJsselBII-2Lgeladenaf","IJssel","BII-2L","geladen","af","CO2",19263.729700881715,11.7,0.25042848611146229,{"$f":"VLOOKUP(A577,Begin:Einde,7,FALSE)","v":0},1,{"$f":"VLOOKUP(Jaar&X577,Trendfactoren!$A$2:$F$65,6,FALSE)","v":1},0,0,0,0,0,0,0,0,0,0,0,{"$f":"+VLOOKUP(C577,Scheepstypen!$A$1:$F$44,6,FALSE)","v":"L3"}]
["IJsselBII-2Lgeladenop","IJssel","BII-2L","geladen","op","CO2",138047.43804036704,12.74,1.9541381784825289,{"$f":"VLOOKUP(A578,Begin:Einde,7,FALSE)","v":0},1,{"$f":"VLOOKUP(Jaar&X578,Trendfactoren!$A$2:$F$65,6,FALSE)","v":1},0,0,0,{"$f":"+O578/+IF($O$914>0,$O$914,1)","v":0},{"$f":"+IF(E578=\"beide\",O578,0)/IF($O$915>0,$O$915,1)","v":0},{"$f":"+IF(E578=\"op\",O578,0)/IF($O$916>0,$O$916,1)","v":0},{"$f":"+IF(E578=\"af\",O578,0)/IF($O$917>0,$O$917,1)","v":0},0,0,0,0,{"$f":"+VLOOKUP(C578,Scheepstypen!$A$1:$F$44,6,FALSE)","v":"L3"}]
["IJsselBII-2Lleegaf","IJssel","BII-2L","leeg","af","CO2",11841.14213296651,13.46,0.17709085901081026,{"$f":"VLOOKUP(A579,Begin:Einde,7,FALSE)","v":0},1,{"$f":"VLOOKUP(Jaar&X579,Trendfactoren!$A$2:$F$65,6,FALSE)","v":1},0,0,0,0,0,0,0,0,0,0,0,{"$f":"+VLOOKUP(C579,Scheepstypen!$A$1:$F$44,6,FALSE)","v":"L3"}]
["IJsselBII-2Lleegop","IJssel","BII-2L","leeg","op","CO2",55026.716849833254,13.46,0.82295512088750633,{"$f":"VLOOKUP(A580,Begin:Einde,7,FALSE)","v":0},1,{"$f":"VLOOKUP(Jaar&X580,Trendfactoren!$A$2:$F$65,6,FALSE)","v":1},0,0,0,0,0,0,0,0,0,0,0,{"$f":"+VLOOKUP(C580,Scheepstypen!$A$1:$F$44,6,FALSE)","v":"L3"}]
["IJsselBO1leegaf","IJssel","BO1","leeg","af","CO2",2384.1319069974497,12.9,3.4172557333630109E-2,{"$f":"VLOOKUP(A581,Begin:Einde,7,FALSE)","v":0},1,{"$f":"VLOOKUP(Jaar&X581,Trendfactoren!$A$2:$F$65,6,FALSE)","v":1},0,0,0,0,0,0,0,0,0,0,0,{"$f":"+VLOOKUP(C581,Scheepstypen!$A$1:$F$44,6,FALSE)","v":"L1"}]
["IJsselBO1leegop","IJssel","BO1","leeg","op","CO2",11968.897760348174,13.4,0.17820358887629503,{"$f":"VLOOKUP(A582,Begin:Einde,7,FALSE)","v":0},1,{"$f":"VLOOKUP(Jaar&X582,Trendfactoren!$A$2:$F$65,6,FALSE)","v":1},0,0,0,0,0,0,0,0,0,0,0,{"$f":"+VLOOKUP(C582,Scheepstypen!$A$1:$F$44,6,FALSE)","v":"L1"}]
["IJsselBO2geladenaf","IJssel","BO2","geladen","af","CO2",2634.6281775409129,8.6999999999999993,2.5468072382895487E-2,{"$f":"VLOOKUP(A583,Begin:Einde,7,FALSE)","v":0},1,{"$f":"VLOOKUP(Jaar&X583,Trendfactoren!$A$2:$F$65,6,FALSE)","v":1},0,0,0,0,0,0,0,0,0,0,0,{"$f":"+VLOOKUP(C583,Scheepstypen!$A$1:$F$44,6,FALSE)","v":"L1"}]
["IJsselBO2geladenop","IJssel","BO2","geladen","op","CO2",25486.80519535836,7.5,0.212390043294653,{"$f":"VLOOKUP(A584,Begin:Einde,7,FALSE)","v":0},1,{"$f":"VLOOKUP(Jaar&X584,Trendfactoren!$A$2:$F$65,6,FALSE)","v":1},0,0,0,0,0,0,0,0,0,0,0,{"$f":"+VLOOKUP(C584,Scheepstypen!$A$1:$F$44,6,FALSE)","v":"L1"}]
["IJsselBO2leegaf","IJssel","BO2","leeg","af","CO2",3150.5057820454876,12.8,4.4807193344646938E-2,{"$f":"VLOOKUP(A585,Begin:Einde,7,FALSE)","v":0},1,{"$f":"VLOOKUP(Jaar&X585,Trendfactoren!$A$2:$F$65,6,FALSE)","v":1},0,0,0,0,0,0,0,0,0,0,0,{"$f":"+VLOOKUP(C585,Scheepstypen!$A$1:$F$44,6,FALSE)","v":"L1"}]
["IJsselBO2leegop","IJssel","BO2","leeg","op","CO2",16148.110731791276,13.3,0.23863319192536001,{"$f":"VLOOKUP(A586,Begin:Einde,7,FALSE)","v":0},1,{"$f":"VLOOKUP(Jaar&X586,Trendfactoren!$A$2:$F$65,6,FALSE)","v":1},0,0,0,0,0,0,0,0,0,0,0,{"$f":"+VLOOKUP(C586,Scheepstypen!$A$1:$F$44,6,FALSE)","v":"L1"}]
["IJsselBO3geladenop","IJssel","BO3","geladen","op","CO2",37030.474811530512,8.8000000000000007,0.36207575371274281,{"$f":"VLOOKUP(A587,Begin:Einde,7,FALSE)","v":0},1,{"$f":"VLOOKUP(Jaar&X587,Trendfactoren!$A$2:$F$65,6,FALSE)","v":1},0,0,0,0,0,0,0,0,0,0,0,{"$f":"+VLOOKUP(C587,Scheepstypen!$A$1:$F$44,6,FALSE)","v":"L1"}]
["IJsselBO3leegaf","IJssel","BO3","leeg","af","CO2",3825.6997059966507,12.7,5.3984873629063845E-2,{"$f":"VLOOKUP(A588,Begin:Einde,7,FALSE)","v":0},1,{"$f":"VLOOKUP(Jaar&X588,Trendfactoren!$A$2:$F$65,6,FALSE)","v":1},0,0,0,0,0,0,0,0,0,0,0,{"$f":"+VLOOKUP(C588,Scheepstypen!$A$1:$F$44,6,FALSE)","v":"L1"}]
["IJsselBO3leegop","IJssel","BO3","leeg","op","CO2",19725.851875302709,13.3,0.29150425549058451,{"$f":"VLOOKUP(A589,Begin:Einde,7,FALSE)","v":0},1,{"$f":"VLOOKUP(Jaar&X589,Trendfactoren!$A$2:$F$65,6,FALSE)","v":1},0,0,0,0,0,0,0,0,0,0,0,{"$f":"+VLOOKUP(C589,Scheepstypen!$A$1:$F$44,6,FALSE)","v":"L1"}]
["IJsselBO4geladenaf","IJssel","BO4","geladen","af","CO2",3345.3036613255595,8.6,3.1966234985999792E-2,{"$f":"VLOOKUP(A590,Begin:Einde,7,FALSE)","v":0},1,{"$f":"VLOOKUP(Jaar&X590,Trendfactoren!$A$2:$F$65,6,FALSE)","v":1},0,0,0,0,0,0,0,0,0,0,0,{"$f":"+VLOOKUP(C590,Scheepstypen!$A$1:$F$44,6,FALSE)","v":"L1"}]
["IJsselBO4geladenop","IJssel","BO4","geladen","op","CO2",39443.977905228254,8.9,0.39005711484059052,{"$f":"VLOOKUP(A591,Begin:Einde,7,FALSE)","v":0},1,{"$f":"VLOOKUP(Jaar&X591,Trendfactoren!$A$2:$F$65,6,FALSE)","v":1},0,0,0,0,0,0,0,0,0,0,0,{"$f":"+VLOOKUP(C591,Scheepstypen!$A$1:$F$44,6,FALSE)","v":"L1"}]
["IJsselBO4leegaf","IJssel","BO4","leeg","af","CO2",4760.6279767188926,13,6.8764626330384007E-2,{"$f":"VLOOKUP(A592,Begin:Einde,7,FALSE)","v":0},1,{"$f":"VLOOKUP(Jaar&X592,Trendfactoren!$A$2:$F$65,6,FALSE)","v":1},0,0,0,0,0,0,0,0,0,0,0,{"$f":"+VLOOKUP(C592,Scheepstypen!$A$1:$F$44,6,FALSE)","v":"L1"}]
["IJsselBO4leegop","IJssel","BO4","leeg","op","CO2",23368.276348089919,13.6,0.35312062037113651,{"$f":"VLOOKUP(A593,Begin:Einde,7,FALSE)","v":0},1,{"$f":"VLOOKUP(Jaar&X593,Trendfactoren!$A$2:$F$65,6,FALSE)","v":1},0,0,0,0,0,0,0,0,0,0,0,{"$f":"+VLOOKUP(C593,Scheepstypen!$A$1:$F$44,6,FALSE)","v":"L1"}]
["IJsselC1bleegaf","IJssel","C1b","leeg","af","CO2",1778.9806262378199,10.9,2.1545432028880266E-2,{"$f":"VLOOKUP(A594,Begin:Einde,7,FALSE)","v":0},1,{"$f":"VLOOKUP(Jaar&X594,Trendfactoren!$A$2:$F$65,6,FALSE)","v":1},0,0,0,0,0,0,0,0,0,0,0,{"$f":"+VLOOKUP(C594,Scheepstypen!$A$1:$F$44,6,FALSE)","v":"L1"}]
["IJsselC2bgeladenaf","IJssel","C2b","geladen","af","CO2",2018.6579019093535,6.8,1.5252081925537338E-2,{"$f":"VLOOKUP(A595,Begin:Einde,7,FALSE)","v":0},1,{"$f":"VLOOKUP(Jaar&X595,Trendfactoren!$A$2:$F$65,6,FALSE)","v":1},0,0,0,0,0,0,0,0,0,0,0,{"$f":"+VLOOKUP(C595,Scheepstypen!$A$1:$F$44,6,FALSE)","v":"L2"}]
["IJsselC2bgeladenop","IJssel","C2b","geladen","op","CO2",43605.009800965578,4.0999999999999996,0.19864504464884314,{"$f":"VLOOKUP(A596,Begin:Einde,7,FALSE)","v":0},1,{"$f":"VLOOKUP(Jaar&X596,Trendfactoren!$A$2:$F$65,6,FALSE)","v":1},0,0,0,0,0,0,0,0,0,0,0,{"$f":"+VLOOKUP(C596,Scheepstypen!$A$1:$F$44,6,FALSE)","v":"L2"}]
["IJsselC2bleegaf","IJssel","C2b","leeg","af","CO2",11717.696059914817,13.4,0.17446347466984283,{"$f":"VLOOKUP(A597,Begin:Einde,7,FALSE)","v":0},1,{"$f":"VLOOKUP(Jaar&X597,Trendfactoren!$A$2:$F$65,6,FALSE)","v":1},0,0,0,0,0,0,0,0,0,0,0,{"$f":"+VLOOKUP(C597,Scheepstypen!$A$1:$F$44,6,FALSE)","v":"L2"}]
["IJsselC2bleegop","IJssel","C2b","leeg","op","CO2",53014.886623645609,12.6,0.74220841273103855,{"$f":"VLOOKUP(A598,Begin:Einde,7,FALSE)","v":0},1,{"$f":"VLOOKUP(Jaar&X598,Trendfactoren!$A$2:$F$65,6,FALSE)","v":1},0,0,0,0,0,0,0,0,0,0,0,{"$f":"+VLOOKUP(C598,Scheepstypen!$A$1:$F$44,6,FALSE)","v":"L2"}]
["IJsselC2lgeladenaf","IJssel","C2l","geladen","af","CO2",13410.122895411818,11.97,0.17835463450897718,{"$f":"VLOOKUP(A599,Begin:Einde,7,FALSE)","v":0},1,{"$f":"VLOOKUP(Jaar&X599,Trendfactoren!$A$2:$F$65,6,FALSE)","v":1},0,0,0,0,0,0,0,0,0,0,0,{"$f":"+VLOOKUP(C599,Scheepstypen!$A$1:$F$44,6,FALSE)","v":"L2"}]
["IJsselC2lgeladenop","IJssel","C2l","geladen","op","CO2",72222.132893097252,11.97,0.96055436747819345,{"$f":"VLOOKUP(A600,Begin:Einde,7,FALSE)","v":0},1,{"$f":"VLOOKUP(Jaar&X600,Trendfactoren!$A$2:$F$65,6,FALSE)","v":1},0,0,0,0,0,0,0,0,0,0,0,{"$f":"+VLOOKUP(C600,Scheepstypen!$A$1:$F$44,6,FALSE)","v":"L2"}]
["IJsselC2lleegaf","IJssel","C2l","leeg","af","CO2",11989.017173855371,14.93,0.19888447378406746,{"$f":"VLOOKUP(A601,Begin:Einde,7,FALSE)","v":0},1,{"$f":"VLOOKUP(Jaar&X601,Trendfactoren!$A$2:$F$65,6,FALSE)","v":1},0,0,0,0,0,0,0,0,0,0,0,{"$f":"+VLOOKUP(C601,Scheepstypen!$A$1:$F$44,6,FALSE)","v":"L2"}]
["IJsselC2lleegop","IJssel","C2l","leeg","op","CO2",51377.055253965853,14.93,0.85228826104634459,{"$f":"VLOOKUP(A602,Begin:Einde,7,FALSE)","v":0},1,{"$f":"VLOOKUP(Jaar&X602,Trendfactoren!$A$2:$F$65,6,FALSE)","v":1},0,0,0,0,0,0,0,0,0,0,0,{"$f":"+VLOOKUP(C602,Scheepstypen!$A$1:$F$44,6,FALSE)","v":"L2"}]
["IJsselC3bgeladenaf","IJssel","C3b","geladen","af","CO2",48260.567135550104,13.3,0.71318393655868484,{"$f":"VLOOKUP(A603,Begin:Einde,7,FALSE)","v":0},1,{"$f":"VLOOKUP(Jaar&X603,Trendfactoren!$A$2:$F$65,6,FALSE)","v":1},0,0,0,0,0,0,0,0,0,0,0,{"$f":"+VLOOKUP(C603,Scheepstypen!$A$1:$F$44,6,FALSE)","v":"L3"}]
["IJsselC3bgeladenop","IJssel","C3b","geladen","op","CO2",92359.481877779996,13.3,1.3648678988605267,{"$f":"VLOOKUP(A604,Begin:Einde,7,FALSE)","v":0},1,{"$f":"VLOOKUP(Jaar&X604,Trendfactoren!$A$2:$F$65,6,FALSE)","v":1},0,0,0,0,0,0,0,0,0,0,0,{"$f":"+VLOOKUP(C604,Scheepstypen!$A$1:$F$44,6,FALSE)","v":"L3"}]
["IJsselC3bleegaf","IJssel","C3b","leeg","af","CO2",23410.633022370959,15.26,0.39694028880153426,{"$f":"VLOOKUP(A605,Begin:Einde,7,FALSE)","v":0},1,{"$f":"VLOOKUP(Jaar&X605,Trendfactoren!$A$2:$F$65,6,FALSE)","v":1},0,0,0,0,0,0,0,0,0,0,0,{"$f":"+VLOOKUP(C605,Scheepstypen!$A$1:$F$44,6,FALSE)","v":"L3"}]
["IJsselC3lgeladenaf","IJssel","C3l","geladen","af","CO2",27682.045002654755,12.48,0.38385769070347925,{"$f":"VLOOKUP(A606,Begin:Einde,7,FALSE)","v":0},1,{"$f":"VLOOKUP(Jaar&X606,Trendfactoren!$A$2:$F$65,6,FALSE)","v":1},0,0,0,0,0,0,0,0,0,0,0,{"$f":"+VLOOKUP(C606,Scheepstypen!$A$1:$F$44,6,FALSE)","v":"L3"}]
["IJsselC3lgeladenop","IJssel","C3l","geladen","op","CO2",98427.973475518666,12.48,1.3648678988605256,{"$f":"VLOOKUP(A607,Begin:Einde,7,FALSE)","v":0},1,{"$f":"VLOOKUP(Jaar&X607,Trendfactoren!$A$2:$F$65,6,FALSE)","v":1},0,0,0,0,0,0,0,0,0,0,0,{"$f":"+VLOOKUP(C607,Scheepstypen!$A$1:$F$44,6,FALSE)","v":"L3"}]
["IJsselC3lleegaf","IJssel","C3l","leeg","af","CO2",11314.881788585964,13.53,0.17010038955507567,{"$f":"VLOOKUP(A608,Begin:Einde,7,FALSE)","v":0},1,{"$f":"VLOOKUP(Jaar&X608,Trendfactoren!$A$2:$F$65,6,FALSE)","v":1},0,0,0,0,0,0,0,0,0,0,0,{"$f":"+VLOOKUP(C608,Scheepstypen!$A$1:$F$44,6,FALSE)","v":"L3"}]
["IJsselC3lleegop","IJssel","C3l","leeg","op","CO2",52598.912614729459,13.53,0.79073698630809952,{"$f":"VLOOKUP(A609,Begin:Einde,7,FALSE)","v":0},1,{"$f":"VLOOKUP(Jaar&X609,Trendfactoren!$A$2:$F$65,6,FALSE)","v":1},0,0,0,0,0,0,0,0,0,0,0,{"$f":"+VLOOKUP(C609,Scheepstypen!$A$1:$F$44,6,FALSE)","v":"L3"}]
["IJsselC4geladenop","IJssel","C4","geladen","op","CO2",97090.330691919764,6.8,0.73357138745006045,{"$f":"VLOOKUP(A610,Begin:Einde,7,FALSE)","v":0},1,{"$f":"VLOOKUP(Jaar&X610,Trendfactoren!$A$2:$F$65,6,FALSE)","v":1},0,0,0,0,0,0,0,0,0,0,0,{"$f":"+VLOOKUP(C610,Scheepstypen!$A$1:$F$44,6,FALSE)","v":"L3"}]
["IJsselM0geladenaf","IJssel","M0","geladen","af","CO2",1010.3097045841373,11.31,1.2696225287607325E-2,{"$f":"VLOOKUP(A611,Begin:Einde,7,FALSE)","v":0},1,{"$f":"VLOOKUP(Jaar&X611,Trendfactoren!$A$2:$F$65,6,FALSE)","v":1},0,0,0,0,0,0,0,0,0,0,0,{"$f":"+VLOOKUP(C611,Scheepstypen!$A$1:$F$44,6,FALSE)","v":"L1"}]
["IJsselM0geladenop","IJssel","M0","geladen","op","CO2",8008.7570367479975,13.63,0.12128817601208357,{"$f":"VLOOKUP(A612,Begin:Einde,7,FALSE)","v":0},1,{"$f":"VLOOKUP(Jaar&X612,Trendfactoren!$A$2:$F$65,6,FALSE)","v":1},0,0,0,0,0,0,0,0,0,0,0,{"$f":"+VLOOKUP(C612,Scheepstypen!$A$1:$F$44,6,FALSE)","v":"L1"}]
["IJsselM0leegaf","IJssel","M0","leeg","af","CO2",273.96151443085671,9.09,2.7670112957516525E-3,{"$f":"VLOOKUP(A613,Begin:Einde,7,FALSE)","v":0},1,{"$f":"VLOOKUP(Jaar&X613,Trendfactoren!$A$2:$F$65,6,FALSE)","v":1},0,0,0,0,0,0,0,0,0,0,0,{"$f":"+VLOOKUP(C613,Scheepstypen!$A$1:$F$44,6,FALSE)","v":"L1"}]
["IJsselM0leegop","IJssel","M0","leeg","op","CO2",2930.0732686425522,9.09,2.9593740013289779E-2,{"$f":"VLOOKUP(A614,Begin:Einde,7,FALSE)","v":0},1,{"$f":"VLOOKUP(Jaar&X614,Trendfactoren!$A$2:$F$65,6,FALSE)","v":1},0,0,0,0,0,0,0,0,0,0,0,{"$f":"+VLOOKUP(C614,Scheepstypen!$A$1:$F$44,6,FALSE)","v":"L1"}]
["IJsselM1geladenaf","IJssel","M1","geladen","af","CO2",2139.017246194258,10.38,2.4669998906107111E-2,{"$f":"VLOOKUP(A615,Begin:Einde,7,FALSE)","v":0},1,{"$f":"VLOOKUP(Jaar&X615,Trendfactoren!$A$2:$F$65,6,FALSE)","v":1},0,0,0,0,0,0,0,0,0,0,0,{"$f":"+VLOOKUP(C615,Scheepstypen!$A$1:$F$44,6,FALSE)","v":"L1"}]
["IJsselM1geladenop","IJssel","M1","geladen","op","CO2",10955.284792358179,13.19,0.16055578490133821,{"$f":"VLOOKUP(A616,Begin:Einde,7,FALSE)","v":0},1,{"$f":"VLOOKUP(Jaar&X616,Trendfactoren!$A$2:$F$65,6,FALSE)","v":1},0,0,0,0,0,0,0,0,0,0,0,{"$f":"+VLOOKUP(C616,Scheepstypen!$A$1:$F$44,6,FALSE)","v":"L1"}]
["IJsselM1leegaf","IJssel","M1","leeg","af","CO2",639.56113519800545,9.81,6.9712163736582594E-3,{"$f":"VLOOKUP(A617,Begin:Einde,7,FALSE)","v":0},1,{"$f":"VLOOKUP(Jaar&X617,Trendfactoren!$A$2:$F$65,6,FALSE)","v":1},0,0,0,0,0,0,0,0,0,0,0,{"$f":"+VLOOKUP(C617,Scheepstypen!$A$1:$F$44,6,FALSE)","v":"L1"}]
["IJsselM1leegop","IJssel","M1","leeg","op","CO2",5162.1566748413825,9.49,5.4432074271383017E-2,{"$f":"VLOOKUP(A618,Begin:Einde,7,FALSE)","v":0},1,{"$f":"VLOOKUP(Jaar&X618,Trendfactoren!$A$2:$F$65,6,FALSE)","v":1},0,0,0,0,0,0,0,0,0,0,0,{"$f":"+VLOOKUP(C618,Scheepstypen!$A$1:$F$44,6,FALSE)","v":"L1"}]
["IJsselM10geladenaf","IJssel","M10","geladen","af","CO2",810.18166801948121,5.6,5.0411303787878826E-3,{"$f":"VLOOKUP(A619,Begin:Einde,7,FALSE)","v":0},1,{"$f":"VLOOKUP(Jaar&X619,Trendfactoren!$A$2:$F$65,6,FALSE)","v":1},0,0,0,0,0,0,0,0,0,0,0,{"$f":"+VLOOKUP(C619,Scheepstypen!$A$1:$F$44,6,FALSE)","v":"L3"}]
["IJsselM10geladenop","IJssel","M10","geladen","op","CO2",72569.953165367799,7,0.56443296906397167,{"$f":"VLOOKUP(A620,Begin:Einde,7,FALSE)","v":0},1,{"$f":"VLOOKUP(Jaar&X620,Trendfactoren!$A$2:$F$65,6,FALSE)","v":1},0,0,0,0,0,0,0,0,0,0,0,{"$f":"+VLOOKUP(C620,Scheepstypen!$A$1:$F$44,6,FALSE)","v":"L3"}]
["IJsselM10leegaf","IJssel","M10","leeg","af","CO2",14778.352094979442,15.6,0.25615810297964364,{"$f":"VLOOKUP(A621,Begin:Einde,7,FALSE)","v":0},1,{"$f":"VLOOKUP(Jaar&X621,Trendfactoren!$A$2:$F$65,6,FALSE)","v":1},0,0,0,0,0,0,0,0,0,0,0,{"$f":"+VLOOKUP(C621,Scheepstypen!$A$1:$F$44,6,FALSE)","v":"L3"}]
["IJsselM11geladenaf","IJssel","M11","geladen","af","CO2",3541.1635789675965,7.5,2.9509696491396637E-2,{"$f":"VLOOKUP(A622,Begin:Einde,7,FALSE)","v":0},1,{"$f":"VLOOKUP(Jaar&X622,Trendfactoren!$A$2:$F$65,6,FALSE)","v":1},0,0,0,0,0,0,0,0,0,0,0,{"$f":"+VLOOKUP(C622,Scheepstypen!$A$1:$F$44,6,FALSE)","v":"L3"}]
["IJsselM11geladenop","IJssel","M11","geladen","op","CO2",88689.965749165392,10,0.98544406387961547,{"$f":"VLOOKUP(A623,Begin:Einde,7,FALSE)","v":0},1,{"$f":"VLOOKUP(Jaar&X623,Trendfactoren!$A$2:$F$65,6,FALSE)","v":1},0,0,0,0,0,0,0,0,0,0,0,{"$f":"+VLOOKUP(C623,Scheepstypen!$A$1:$F$44,6,FALSE)","v":"L3"}]
["IJsselM11leegaf","IJssel","M11","leeg","af","CO2",15182.492328902967,14.8,0.24966765163084881,{"$f":"VLOOKUP(A624,Begin:Einde,7,FALSE)","v":0},1,{"$f":"VLOOKUP(Jaar&X624,Trendfactoren!$A$2:$F$65,6,FALSE)","v":1},0,0,0,0,0,0,0,0,0,0,0,{"$f":"+VLOOKUP(C624,Scheepstypen!$A$1:$F$44,6,FALSE)","v":"L3"}]
["IJsselM11leegop","IJssel","M11","leeg","op","CO2",84529.891310551626,15.2,1.4276159421337606,{"$f":"VLOOKUP(A625,Begin:Einde,7,FALSE)","v":0},1,{"$f":"VLOOKUP(Jaar&X625,Trendfactoren!$A$2:$F$65,6,FALSE)","v":1},0,0,0,0,0,0,0,0,0,0,0,{"$f":"+VLOOKUP(C625,Scheepstypen!$A$1:$F$44,6,FALSE)","v":"L3"}]
["IJsselM12geladenaf","IJssel","M12","geladen","af","CO2",4824.8358429138543,8.4,4.5031801200529305E-2,{"$f":"VLOOKUP(A626,Begin:Einde,7,FALSE)","v":0},1,{"$f":"VLOOKUP(Jaar&X626,Trendfactoren!$A$2:$F$65,6,FALSE)","v":1},0,0,0,0,0,0,0,0,0,0,0,{"$f":"+VLOOKUP(C626,Scheepstypen!$A$1:$F$44,6,FALSE)","v":"L3"}]
["IJsselM12geladenop","IJssel","M12","geladen","op","CO2",67953.450258940051,8,0.604030668968356,{"$f":"VLOOKUP(A627,Begin:Einde,7,FALSE)","v":0},1,{"$f":"VLOOKUP(Jaar&X627,Trendfactoren!$A$2:$F$65,6,FALSE)","v":1},0,0,0,0,0,0,0,0,0,0,0,{"$f":"+VLOOKUP(C627,Scheepstypen!$A$1:$F$44,6,FALSE)","v":"L3"}]
["IJsselM12leegaf","IJssel","M12","leeg","af","CO2",18436.903257265654,14.8,0.30318463134170187,{"$f":"VLOOKUP(A628,Begin:Einde,7,FALSE)","v":0},1,{"$f":"VLOOKUP(Jaar&X628,Trendfactoren!$A$2:$F$65,6,FALSE)","v":1},0,0,0,0,0,0,0,0,0,0,0,{"$f":"+VLOOKUP(C628,Scheepstypen!$A$1:$F$44,6,FALSE)","v":"L3"}]
["IJsselM12leegop","IJssel","M12","leeg","op","CO2",84618.576031878009,14.3,1.3444951525065063,{"$f":"VLOOKUP(A629,Begin:Einde,7,FALSE)","v":0},1,{"$f":"VLOOKUP(Jaar&X629,Trendfactoren!$A$2:$F$65,6,FALSE)","v":1},0,0,0,0,0,0,0,0,0,0,0,{"$f":"+VLOOKUP(C629,Scheepstypen!$A$1:$F$44,6,FALSE)","v":"L3"}]
["IJsselM2geladenaf","IJssel","M2","geladen","af","CO2",3761.7340251835963,10.73,4.4848228989133321E-2,{"$f":"VLOOKUP(A630,Begin:Einde,7,FALSE)","v":0},1,{"$f":"VLOOKUP(Jaar&X630,Trendfactoren!$A$2:$F$65,6,FALSE)","v":1},0,0,0,0,0,0,0,0,0,0,0,{"$f":"+VLOOKUP(C630,Scheepstypen!$A$1:$F$44,6,FALSE)","v":"L1"}]
["IJsselM2geladenop","IJssel","M2","geladen","op","CO2",15725.414649938435,13.69,0.23920102950850794,{"$f":"VLOOKUP(A631,Begin:Einde,7,FALSE)","v":0},1,{"$f":"VLOOKUP(Jaar&X631,Trendfactoren!$A$2:$F$65,6,FALSE)","v":1},0,0,0,0,0,0,0,0,0,0,0,{"$f":"+VLOOKUP(C631,Scheepstypen!$A$1:$F$44,6,FALSE)","v":"L1"}]
["IJsselM2leegaf","IJssel","M2","leeg","af","CO2",2632.674827702303,13.04,3.8144533059153357E-2,{"$f":"VLOOKUP(A632,Begin:Einde,7,FALSE)","v":0},1,{"$f":"VLOOKUP(Jaar&X632,Trendfactoren!$A$2:$F$65,6,FALSE)","v":1},0,0,0,0,0,0,0,0,0,0,0,{"$f":"+VLOOKUP(C632,Scheepstypen!$A$1:$F$44,6,FALSE)","v":"L1"}]
["IJsselM2leegop","IJssel","M2","leeg","op","CO2",14717.429638312542,15.72,0.25706443768252574,{"$f":"VLOOKUP(A633,Begin:Einde,7,FALSE)","v":0},1,{"$f":"VLOOKUP(Jaar&X633,Trendfactoren!$A$2:$F$65,6,FALSE)","v":1},0,0,0,0,0,0,0,0,0,0,0,{"$f":"+VLOOKUP(C633,Scheepstypen!$A$1:$F$44,6,FALSE)","v":"L1"}]
["IJsselM3geladenaf","IJssel","M3","geladen","af","CO2",4895.591879323053,10.83,5.8910288947854071E-2,{"$f":"VLOOKUP(A634,Begin:Einde,7,FALSE)","v":0},1,{"$f":"VLOOKUP(Jaar&X634,Trendfactoren!$A$2:$F$65,6,FALSE)","v":1},0,0,0,0,0,0,0,0,0,0,0,{"$f":"+VLOOKUP(C634,Scheepstypen!$A$1:$F$44,6,FALSE)","v":"L1"}]
["IJsselM3geladenop","IJssel","M3","geladen","op","CO2",19992.902549278486,14.05,0.31211142313040302,{"$f":"VLOOKUP(A635,Begin:Einde,7,FALSE)","v":0},1,{"$f":"VLOOKUP(Jaar&X635,Trendfactoren!$A$2:$F$65,6,FALSE)","v":1},0,0,0,0,0,0,0,0,0,0,0,{"$f":"+VLOOKUP(C635,Scheepstypen!$A$1:$F$44,6,FALSE)","v":"L1"}]
["IJsselM3leegaf","IJssel","M3","leeg","af","CO2",3505.0085266614251,13.01,5.0666845479850155E-2,{"$f":"VLOOKUP(A636,Begin:Einde,7,FALSE)","v":0},1,{"$f":"VLOOKUP(Jaar&X636,Trendfactoren!$A$2:$F$65,6,FALSE)","v":1},0,0,0,0,0,0,0,0,0,0,0,{"$f":"+VLOOKUP(C636,Scheepstypen!$A$1:$F$44,6,FALSE)","v":"L1"}]
["IJsselM3leegop","IJssel","M3","leeg","op","CO2",17172.744766208642,15.79,0.30128626650937157,{"$f":"VLOOKUP(A637,Begin:Einde,7,FALSE)","v":0},1,{"$f":"VLOOKUP(Jaar&X637,Trendfactoren!$A$2:$F$65,6,FALSE)","v":1},0,0,0,0,0,0,0,0,0,0,0,{"$f":"+VLOOKUP(C637,Scheepstypen!$A$1:$F$44,6,FALSE)","v":"L1"}]
["IJsselM4geladenaf","IJssel","M4","geladen","af","CO2",5484.66288552469,10.68,{"$f":"+MJperkgCO2*G638/1000*H638/3600","v":6.5084666241559647E-2},{"$f":"VLOOKUP(A638,Begin:Einde,7,FALSE)","v":0},{"$f":"+Afstand","v":1},{"$f":"VLOOKUP(Jaar&X638,Trendfactoren!$A$2:$F$65,6,FALSE)","v":1},0,{"$f":"+J638*H638","v":0},0,0,0,0,0,{"$f":"+S638/$I638","v":0},{"$f":"+Q638/$I638","v":0},{"$f":"+R638/$I638","v":0},0,{"$f":"+VLOOKUP(C638,Scheepstypen!$A$1:$F$44,6,FALSE)","v":"L1"}]
[{"$f":"+B639&C639&D639&E639","v":"IJsselM4geladenop"},"IJssel","M4","geladen","op","CO2",24523.945591064024,13.63,0.37140153156244737,{"$f":"VLOOKUP(A639,Begin:Einde,7,FALSE)","v":0},1,{"$f":"VLOOKUP(Jaar&X639,Trendfactoren!$A$2:$F$65,6,FALSE)","v":1},{"$f":"+J639*I639*L639","v":0},0,{"$f":"+J639*G639*K639","v":0},0,0,0,0,0,0,0,{"$f":"+P639/I639","v":0},{"$f":"+VLOOKUP(C639,Scheepstypen!$A$1:$F$44,6,FALSE)","v":"L1"}]
["IJsselM4leegaf","IJssel","M4","leeg","af","CO2",4382.81650333383,13.62,6.6326623083785285E-2,{"$f":"VLOOKUP(A640,Begin:Einde,7,FALSE)","v":0},1,{"$f":"VLOOKUP(Jaar&X640,Trendfactoren!$A$2:$F$65,6,FALSE)","v":1},0,0,0,0,0,0,0,0,0,0,0,{"$f":"+VLOOKUP(C640,Scheepstypen!$A$1:$F$44,6,FALSE)","v":"L1"}]
["IJsselM4leegop","IJssel","M4","leeg","op","CO2",20541.291346941336,15.75,0.3594725985714734,{"$f":"VLOOKUP(A641,Begin:Einde,7,FALSE)","v":0},1,{"$f":"VLOOKUP(Jaar&X641,Trendfactoren!$A$2:$F$65,6,FALSE)","v":1},0,0,0,0,0,0,0,0,0,0,0,{"$f":"+VLOOKUP(C641,Scheepstypen!$A$1:$F$44,6,FALSE)","v":"L1"}]
["IJsselM5geladenaf","IJssel","M5","geladen","af","CO2",6232.093387973051,11.09,7.6793239636245708E-2,{"$f":"VLOOKUP(A642,Begin:Einde,7,FALSE)","v":0},1,{"$f":"VLOOKUP(Jaar&X642,Trendfactoren!$A$2:$F$65,6,FALSE)","v":1},0,0,0,{"$f":"+O642/+IF($O$914>0,$O$914,1)","v":0},{"$f":"+IF(E642=\"beide\",O642,0)/IF($O$915>0,$O$915,1)","v":0},{"$f":"+IF(E642=\"op\",O642,0)/IF($O$916>0,$O$916,1)","v":0},{"$f":"+IF(E642=\"af\",O642,0)/IF($O$917>0,$O$917,1)","v":0},0,0,0,0,{"$f":"+VLOOKUP(C642,Scheepstypen!$A$1:$F$44,6,FALSE)","v":"L2"}]
["IJsselM5geladenop","IJssel","M5","geladen","op","CO2",30071.312222989822,14.22,0.47512673312323916,{"$f":"VLOOKUP(A643,Begin:Einde,7,FALSE)","v":0},1,{"$f":"VLOOKUP(Jaar&X643,Trendfactoren!$A$2:$F$65,6,FALSE)","v":1},0,0,0,0,0,0,0,0,0,0,0,{"$f":"+VLOOKUP(C643,Scheepstypen!$A$1:$F$44,6,FALSE)","v":"L2"}]
["IJsselM5leegaf","IJssel","M5","leeg","af","CO2",5458.9705415326507,14.03,8.5099285219670084E-2,{"$f":"VLOOKUP(A644,Begin:Einde,7,FALSE)","v":0},1,{"$f":"VLOOKUP(Jaar&X644,Trendfactoren!$A$2:$F$65,6,FALSE)","v":1},0,0,0,0,0,0,0,0,0,0,0,{"$f":"+VLOOKUP(C644,Scheepstypen!$A$1:$F$44,6,FALSE)","v":"L2"}]
["IJsselM5leegop","IJssel","M5","leeg","op","CO2",24294.694479036149,16.38,0.44216343951845793,{"$f":"VLOOKUP(A645,Begin:Einde,7,FALSE)","v":0},1,{"$f":"VLOOKUP(Jaar&X645,Trendfactoren!$A$2:$F$65,6,FALSE)","v":1},0,0,0,0,0,0,0,0,0,0,0,{"$f":"+VLOOKUP(C645,Scheepstypen!$A$1:$F$44,6,FALSE)","v":"L2"}]
["IJsselM6geladenaf","IJssel","M6","geladen","af","CO2",5691.3168689717422,10.220000000000001,6.4628064889879128E-2,{"$f":"VLOOKUP(A646,Begin:Einde,7,FALSE)","v":0},1,{"$f":"VLOOKUP(Jaar&X646,Trendfactoren!$A$2:$F$65,6,FALSE)","v":1},0,0,0,0,0,0,0,0,0,0,0,{"$f":"+VLOOKUP(C646,Scheepstypen!$A$1:$F$44,6,FALSE)","v":"L2"}]
["IJsselM6geladenop","IJssel","M6","geladen","op","CO2",36380.371922687016,13.94,0.56349153844695221,{"$f":"VLOOKUP(A647,Begin:Einde,7,FALSE)","v":0},1,{"$f":"VLOOKUP(Jaar&X647,Trendfactoren!$A$2:$F$65,6,FALSE)","v":1},0,0,0,0,0,0,0,0,0,0,0,{"$f":"+VLOOKUP(C647,Scheepstypen!$A$1:$F$44,6,FALSE)","v":"L2"}]
["IJsselM6leegaf","IJssel","M6","leeg","af","CO2",5061.8770715310038,12.57,7.0697549765716364E-2,{"$f":"VLOOKUP(A648,Begin:Einde,7,FALSE)","v":0},1,{"$f":"VLOOKUP(Jaar&X648,Trendfactoren!$A$2:$F$65,6,FALSE)","v":1},0,0,0,0,0,0,0,0,0,0,0,{"$f":"+VLOOKUP(C648,Scheepstypen!$A$1:$F$44,6,FALSE)","v":"L2"}]
["IJsselM6leegop","IJssel","M6","leeg","op","CO2",23871.005250335293,16.309999999999999,0.43259566181440962,{"$f":"VLOOKUP(A649,Begin:Einde,7,FALSE)","v":0},1,{"$f":"VLOOKUP(Jaar&X649,Trendfactoren!$A$2:$F$65,6,FALSE)","v":1},0,0,0,0,0,0,0,0,0,0,0,{"$f":"+VLOOKUP(C649,Scheepstypen!$A$1:$F$44,6,FALSE)","v":"L2"}]
["IJsselM7geladenaf","IJssel","M7","geladen","af","CO2",4222.9071194275984,9.07,4.2557519525787027E-2,{"$f":"VLOOKUP(A650,Begin:Einde,7,FALSE)","v":0},1,{"$f":"VLOOKUP(Jaar&X650,Trendfactoren!$A$2:$F$65,6,FALSE)","v":1},0,0,0,0,0,0,0,0,0,0,0,{"$f":"+VLOOKUP(C650,Scheepstypen!$A$1:$F$44,6,FALSE)","v":"L2"}]
["IJsselM7geladenop","IJssel","M7","geladen","op","CO2",45100.132160825262,14.1,0.70656873718626245,{"$f":"VLOOKUP(A651,Begin:Einde,7,FALSE)","v":0},1,{"$f":"VLOOKUP(Jaar&X651,Trendfactoren!$A$2:$F$65,6,FALSE)","v":1},0,0,0,0,0,0,0,0,0,0,0,{"$f":"+VLOOKUP(C651,Scheepstypen!$A$1:$F$44,6,FALSE)","v":"L2"}]
["IJsselM7leegaf","IJssel","M7","leeg","af","CO2",3948.1336699603339,11.27,4.9439407178281068E-2,{"$f":"VLOOKUP(A652,Begin:Einde,7,FALSE)","v":0},1,{"$f":"VLOOKUP(Jaar&X652,Trendfactoren!$A$2:$F$65,6,FALSE)","v":1},0,0,0,0,0,0,0,0,0,0,0,{"$f":"+VLOOKUP(C652,Scheepstypen!$A$1:$F$44,6,FALSE)","v":"L2"}]
["IJsselM7leegop","IJssel","M7","leeg","op","CO2",17460.537354328895,17.29,0.33543632317371841,{"$f":"VLOOKUP(A653,Begin:Einde,7,FALSE)","v":0},1,{"$f":"VLOOKUP(Jaar&X653,Trendfactoren!$A$2:$F$65,6,FALSE)","v":1},0,0,0,0,0,0,0,0,0,0,0,{"$f":"+VLOOKUP(C653,Scheepstypen!$A$1:$F$44,6,FALSE)","v":"L2"}]
["IJsselM8geladenaf","IJssel","M8","geladen","af","CO2",10828.143950833368,9.5500000000000007,0.11489863858939853,{"$f":"VLOOKUP(A654,Begin:Einde,7,FALSE)","v":0},1,{"$f":"VLOOKUP(Jaar&X654,Trendfactoren!$A$2:$F$65,6,FALSE)","v":1},0,0,0,0,0,0,0,0,0,0,0,{"$f":"+VLOOKUP(C654,Scheepstypen!$A$1:$F$44,6,FALSE)","v":"L3"}]
["IJsselM8geladenop","IJssel","M8","geladen","op","CO2",66500.899959653703,14.18,1.0477586238087662,{"$f":"VLOOKUP(A655,Begin:Einde,7,FALSE)","v":0},1,{"$f":"VLOOKUP(Jaar&X655,Trendfactoren!$A$2:$F$65,6,FALSE)","v":1},0,0,0,0,0,0,0,0,0,0,0,{"$f":"+VLOOKUP(C655,Scheepstypen!$A$1:$F$44,6,FALSE)","v":"L3"}]
["IJsselM8leegaf","IJssel","M8","leeg","af","CO2",10328.608750848056,14.02,0.16089677187432194,{"$f":"VLOOKUP(A656,Begin:Einde,7,FALSE)","v":0},1,{"$f":"VLOOKUP(Jaar&X656,Trendfactoren!$A$2:$F$65,6,FALSE)","v":1},0,0,0,0,0,0,0,0,0,0,0,{"$f":"+VLOOKUP(C656,Scheepstypen!$A$1:$F$44,6,FALSE)","v":"L3"}]
["IJsselM8leegop","IJssel","M8","leeg","op","CO2",57306.389656919731,16.23,1.0334252268131192,{"$f":"VLOOKUP(A657,Begin:Einde,7,FALSE)","v":0},1,{"$f":"VLOOKUP(Jaar&X657,Trendfactoren!$A$2:$F$65,6,FALSE)","v":1},0,0,0,0,0,0,0,0,0,0,0,{"$f":"+VLOOKUP(C657,Scheepstypen!$A$1:$F$44,6,FALSE)","v":"L3"}]
["IJsselM9geladenaf","IJssel","M9","geladen","af","CO2",21908.68640076794,12.85,0.3128073558331867,{"$f":"VLOOKUP(A658,Begin:Einde,7,FALSE)","v":0},1,{"$f":"VLOOKUP(Jaar&X658,Trendfactoren!$A$2:$F$65,6,FALSE)","v":1},0,0,0,0,0,0,0,0,0,0,0,{"$f":"+VLOOKUP(C658,Scheepstypen!$A$1:$F$44,6,FALSE)","v":"L3"}]
["IJsselM9geladenop","IJssel","M9","geladen","op","CO2",101689.07630343793,12.98,1.4665824560206937,{"$f":"VLOOKUP(A659,Begin:Einde,7,FALSE)","v":0},1,{"$f":"VLOOKUP(Jaar&X659,Trendfactoren!$A$2:$F$65,6,FALSE)","v":1},0,0,0,0,0,0,0,0,0,0,0,{"$f":"+VLOOKUP(C659,Scheepstypen!$A$1:$F$44,6,FALSE)","v":"L3"}]
["IJsselM9leegaf","IJssel","M9","leeg","af","CO2",12496.735588500029,14.66,0.20355793747490047,{"$f":"VLOOKUP(A660,Begin:Einde,7,FALSE)","v":0},1,{"$f":"VLOOKUP(Jaar&X660,Trendfactoren!$A$2:$F$65,6,FALSE)","v":1},0,0,0,0,0,0,0,0,0,0,0,{"$f":"+VLOOKUP(C660,Scheepstypen!$A$1:$F$44,6,FALSE)","v":"L3"}]
["IJsselM9leegop","IJssel","M9","leeg","op","CO2",67981.560425340038,15.18,1.1466223191740685,{"$f":"VLOOKUP(A661,Begin:Einde,7,FALSE)","v":0},1,{"$f":"VLOOKUP(Jaar&X661,Trendfactoren!$A$2:$F$65,6,FALSE)","v":1},0,0,0,0,0,0,0,0,0,0,0,{"$f":"+VLOOKUP(C661,Scheepstypen!$A$1:$F$44,6,FALSE)","v":"L3"}]
["LekBIgeladenaf","Lek","BI","geladen","af","CO2",14167.07525753417,11.83,0.18621833366292137,{"$f":"VLOOKUP(A662,Begin:Einde,7,FALSE)","v":0},1,{"$f":"VLOOKUP(Jaar&X662,Trendfactoren!$A$2:$F$65,6,FALSE)","v":1},0,0,0,0,0,0,0,0,0,0,0,{"$f":"+VLOOKUP(C662,Scheepstypen!$A$1:$F$44,6,FALSE)","v":"L2"}]
["LekBIgeladenop","Lek","BI","geladen","op","CO2",44420.532390226283,11.9,0.58733815049299198,{"$f":"VLOOKUP(A663,Begin:Einde,7,FALSE)","v":0},1,{"$f":"VLOOKUP(Jaar&X663,Trendfactoren!$A$2:$F$65,6,FALSE)","v":1},0,0,0,0,0,0,0,0,0,0,0,{"$f":"+VLOOKUP(C663,Scheepstypen!$A$1:$F$44,6,FALSE)","v":"L2"}]
["LekBIleegaf","Lek","BI","leeg","af","CO2",5864.9820447282937,11.25,7.3312275559103676E-2,{"$f":"VLOOKUP(A664,Begin:Einde,7,FALSE)","v":0},1,{"$f":"VLOOKUP(Jaar&X664,Trendfactoren!$A$2:$F$65,6,FALSE)","v":1},0,0,0,0,0,0,0,0,0,0,0,{"$f":"+VLOOKUP(C664,Scheepstypen!$A$1:$F$44,6,FALSE)","v":"L2"}]
["LekBIleegop","Lek","BI","leeg","op","CO2",21064.515626145181,11.82,0.27664730522337339,{"$f":"VLOOKUP(A665,Begin:Einde,7,FALSE)","v":0},1,{"$f":"VLOOKUP(Jaar&X665,Trendfactoren!$A$2:$F$65,6,FALSE)","v":1},0,0,0,0,0,0,0,0,0,0,0,{"$f":"+VLOOKUP(C665,Scheepstypen!$A$1:$F$44,6,FALSE)","v":"L2"}]
["LekBII-1geladenaf","Lek","BII-1","geladen","af","CO2",21625.703122113959,12.12,0.29122613537780123,{"$f":"VLOOKUP(A666,Begin:Einde,7,FALSE)","v":0},1,{"$f":"VLOOKUP(Jaar&X666,Trendfactoren!$A$2:$F$65,6,FALSE)","v":1},0,0,0,0,0,0,0,0,0,0,0,{"$f":"+VLOOKUP(C666,Scheepstypen!$A$1:$F$44,6,FALSE)","v":"L2"}]
["LekBII-1geladenop","Lek","BII-1","geladen","op","CO2",81956.297051256333,11.78,1.0727168658486661,{"$f":"VLOOKUP(A667,Begin:Einde,7,FALSE)","v":0},1,{"$f":"VLOOKUP(Jaar&X667,Trendfactoren!$A$2:$F$65,6,FALSE)","v":1},0,0,0,0,0,0,0,0,0,0,0,{"$f":"+VLOOKUP(C667,Scheepstypen!$A$1:$F$44,6,FALSE)","v":"L2"}]
["LekBII-1leegaf","Lek","BII-1","leeg","af","CO2",11788.977135425403,13.27,0.17382191843010567,{"$f":"VLOOKUP(A668,Begin:Einde,7,FALSE)","v":0},1,{"$f":"VLOOKUP(Jaar&X668,Trendfactoren!$A$2:$F$65,6,FALSE)","v":1},0,0,0,0,0,0,0,0,0,0,0,{"$f":"+VLOOKUP(C668,Scheepstypen!$A$1:$F$44,6,FALSE)","v":"L2"}]
["LekBII-1leegop","Lek","BII-1","leeg","op","CO2",32084.854916708875,12.65,0.45097046077374148,{"$f":"VLOOKUP(A669,Begin:Einde,7,FALSE)","v":0},1,{"$f":"VLOOKUP(Jaar&X669,Trendfactoren!$A$2:$F$65,6,FALSE)","v":1},0,0,0,0,0,0,0,0,0,0,0,{"$f":"+VLOOKUP(C669,Scheepstypen!$A$1:$F$44,6,FALSE)","v":"L2"}]
["LekBII-2Bgeladenaf","Lek","BII-2B","geladen","af","CO2",45996.933333388872,12.87,0.65775614666746085,{"$f":"VLOOKUP(A670,Begin:Einde,7,FALSE)","v":0},1,{"$f":"VLOOKUP(Jaar&X670,Trendfactoren!$A$2:$F$65,6,FALSE)","v":1},0,0,0,0,0,0,0,0,0,0,0,{"$f":"+VLOOKUP(C670,Scheepstypen!$A$1:$F$44,6,FALSE)","v":"L3"}]
["LekBII-2Bgeladenop","Lek","BII-2B","geladen","op","CO2",175549.45049546371,12.87,2.5103571420851307,{"$f":"VLOOKUP(A671,Begin:Einde,7,FALSE)","v":0},1,{"$f":"VLOOKUP(Jaar&X671,Trendfactoren!$A$2:$F$65,6,FALSE)","v":1},0,0,0,0,0,0,0,0,0,0,0,{"$f":"+VLOOKUP(C671,Scheepstypen!$A$1:$F$44,6,FALSE)","v":"L3"}]
["LekBII-2Bleegaf","Lek","BII-2B","leeg","af","CO2",18935.686430409478,12.5,0.26299564486679833,{"$f":"VLOOKUP(A672,Begin:Einde,7,FALSE)","v":0},1,{"$f":"VLOOKUP(Jaar&X672,Trendfactoren!$A$2:$F$65,6,FALSE)","v":1},0,0,0,0,0,0,0,0,0,0,0,{"$f":"+VLOOKUP(C672,Scheepstypen!$A$1:$F$44,6,FALSE)","v":"L3"}]
["LekBII-2Bleegop","Lek","BII-2B","leeg","op","CO2",65243.800027331999,12.73,0.92283730483104043,{"$f":"VLOOKUP(A673,Begin:Einde,7,FALSE)","v":0},1,{"$f":"VLOOKUP(Jaar&X673,Trendfactoren!$A$2:$F$65,6,FALSE)","v":1},0,0,0,0,0,0,0,0,0,0,0,{"$f":"+VLOOKUP(C673,Scheepstypen!$A$1:$F$44,6,FALSE)","v":"L3"}]
["LekBII-2Lgeladenaf","Lek","BII-2L","geladen","af","CO2",20506.565093039593,11.7,0.26658534620951468,{"$f":"VLOOKUP(A674,Begin:Einde,7,FALSE)","v":0},1,{"$f":"VLOOKUP(Jaar&X674,Trendfactoren!$A$2:$F$65,6,FALSE)","v":1},0,0,0,0,0,0,0,0,0,0,0,{"$f":"+VLOOKUP(C674,Scheepstypen!$A$1:$F$44,6,FALSE)","v":"L3"}]
["LekBII-2Lgeladenop","Lek","BII-2L","geladen","op","CO2",84083.046273793618,11.98,1.119238771511164,{"$f":"VLOOKUP(A675,Begin:Einde,7,FALSE)","v":0},1,{"$f":"VLOOKUP(Jaar&X675,Trendfactoren!$A$2:$F$65,6,FALSE)","v":1},0,0,0,0,0,0,0,0,0,0,0,{"$f":"+VLOOKUP(C675,Scheepstypen!$A$1:$F$44,6,FALSE)","v":"L3"}]
["LekBII-2Lleegaf","Lek","BII-2L","leeg","af","CO2",17397.872889781978,14.59,0.2820388505132434,{"$f":"VLOOKUP(A676,Begin:Einde,7,FALSE)","v":0},1,{"$f":"VLOOKUP(Jaar&X676,Trendfactoren!$A$2:$F$65,6,FALSE)","v":1},0,0,0,0,0,0,0,0,0,0,0,{"$f":"+VLOOKUP(C676,Scheepstypen!$A$1:$F$44,6,FALSE)","v":"L3"}]
["LekBII-2Lleegop","Lek","BII-2L","leeg","op","CO2",45933.248741849362,13.59,0.69359205600192531,{"$f":"VLOOKUP(A677,Begin:Einde,7,FALSE)","v":0},1,{"$f":"VLOOKUP(Jaar&X677,Trendfactoren!$A$2:$F$65,6,FALSE)","v":1},0,0,0,0,0,0,0,0,0,0,0,{"$f":"+VLOOKUP(C677,Scheepstypen!$A$1:$F$44,6,FALSE)","v":"L3"}]
["LekBII-4leegaf","Lek","BII-4","leeg","af","CO2",40443.947531908467,15.49,0.69608527474362458,{"$f":"VLOOKUP(A678,Begin:Einde,7,FALSE)","v":0},1,{"$f":"VLOOKUP(Jaar&X678,Trendfactoren!$A$2:$F$65,6,FALSE)","v":1},0,0,0,0,0,0,0,0,0,0,0,{"$f":"+VLOOKUP(C678,Scheepstypen!$A$1:$F$44,6,FALSE)","v":"L3"}]
["LekBO1leegaf","Lek","BO1","leeg","af","CO2",2873.512223057076,12.73,4.0644233999462862E-2,{"$f":"VLOOKUP(A679,Begin:Einde,7,FALSE)","v":0},1,{"$f":"VLOOKUP(Jaar&X679,Trendfactoren!$A$2:$F$65,6,FALSE)","v":1},0,0,0,0,0,0,0,0,0,0,0,{"$f":"+VLOOKUP(C679,Scheepstypen!$A$1:$F$44,6,FALSE)","v":"L1"}]
["LekBO1leegop","Lek","BO1","leeg","op","CO2",10122.83870354622,12.98,0.14599382930225549,{"$f":"VLOOKUP(A680,Begin:Einde,7,FALSE)","v":0},1,{"$f":"VLOOKUP(Jaar&X680,Trendfactoren!$A$2:$F$65,6,FALSE)","v":1},0,0,0,0,0,0,0,0,0,0,0,{"$f":"+VLOOKUP(C680,Scheepstypen!$A$1:$F$44,6,FALSE)","v":"L1"}]
["LekBO2geladenaf","Lek","BO2","geladen","af","CO2",4122.8075693512756,9.1999999999999993,4.2144255153368587E-2,{"$f":"VLOOKUP(A681,Begin:Einde,7,FALSE)","v":0},1,{"$f":"VLOOKUP(Jaar&X681,Trendfactoren!$A$2:$F$65,6,FALSE)","v":1},0,0,0,0,0,0,0,0,0,0,0,{"$f":"+VLOOKUP(C681,Scheepstypen!$A$1:$F$44,6,FALSE)","v":"L1"}]
["LekBO2geladenop","Lek","BO2","geladen","op","CO2",22519.304675220726,9.43,0.23595227009703496,{"$f":"VLOOKUP(A682,Begin:Einde,7,FALSE)","v":0},1,{"$f":"VLOOKUP(Jaar&X682,Trendfactoren!$A$2:$F$65,6,FALSE)","v":1},0,0,0,0,0,0,0,0,0,0,0,{"$f":"+VLOOKUP(C682,Scheepstypen!$A$1:$F$44,6,FALSE)","v":"L1"}]
["LekBO2leegaf","Lek","BO2","leeg","af","CO2",3835.8682208439873,12.16,5.1826841739403204E-2,{"$f":"VLOOKUP(A683,Begin:Einde,7,FALSE)","v":0},1,{"$f":"VLOOKUP(Jaar&X683,Trendfactoren!$A$2:$F$65,6,FALSE)","v":1},0,0,0,0,0,0,0,0,0,0,0,{"$f":"+VLOOKUP(C683,Scheepstypen!$A$1:$F$44,6,FALSE)","v":"L1"}]
["LekBO2leegop","Lek","BO2","leeg","op","CO2",13131.355984365699,12.25,0.17873234534275534,{"$f":"VLOOKUP(A684,Begin:Einde,7,FALSE)","v":0},1,{"$f":"VLOOKUP(Jaar&X684,Trendfactoren!$A$2:$F$65,6,FALSE)","v":1},0,0,0,0,0,0,0,0,0,0,0,{"$f":"+VLOOKUP(C684,Scheepstypen!$A$1:$F$44,6,FALSE)","v":"L1"}]
["LekBO3geladenaf","Lek","BO3","geladen","af","CO2",7239.8626352318315,9.44,7.5938114751764971E-2,{"$f":"VLOOKUP(A685,Begin:Einde,7,FALSE)","v":0},1,{"$f":"VLOOKUP(Jaar&X685,Trendfactoren!$A$2:$F$65,6,FALSE)","v":1},0,0,0,0,0,0,0,0,0,0,0,{"$f":"+VLOOKUP(C685,Scheepstypen!$A$1:$F$44,6,FALSE)","v":"L1"}]
["LekBO3geladenop","Lek","BO3","geladen","op","CO2",27858.98064530842,10.41,0.32223554279740074,{"$f":"VLOOKUP(A686,Begin:Einde,7,FALSE)","v":0},1,{"$f":"VLOOKUP(Jaar&X686,Trendfactoren!$A$2:$F$65,6,FALSE)","v":1},0,0,0,0,0,0,0,0,0,0,0,{"$f":"+VLOOKUP(C686,Scheepstypen!$A$1:$F$44,6,FALSE)","v":"L1"}]
["LekBO3leegaf","Lek","BO3","leeg","af","CO2",4916.8051920528587,11.94,6.5229615547901257E-2,{"$f":"VLOOKUP(A687,Begin:Einde,7,FALSE)","v":0},1,{"$f":"VLOOKUP(Jaar&X687,Trendfactoren!$A$2:$F$65,6,FALSE)","v":1},0,0,0,0,0,0,0,0,0,0,0,{"$f":"+VLOOKUP(C687,Scheepstypen!$A$1:$F$44,6,FALSE)","v":"L1"}]
["LekBO3leegop","Lek","BO3","leeg","op","CO2",16615.224458626413,12.68,0.23409005126153659,{"$f":"VLOOKUP(A688,Begin:Einde,7,FALSE)","v":0},1,{"$f":"VLOOKUP(Jaar&X688,Trendfactoren!$A$2:$F$65,6,FALSE)","v":1},0,0,0,0,0,0,0,0,0,0,0,{"$f":"+VLOOKUP(C688,Scheepstypen!$A$1:$F$44,6,FALSE)","v":"L1"}]
["LekBO4geladenaf","Lek","BO4","geladen","af","CO2",7973.0106155272306,10.210000000000001,9.0449375982814467E-2,{"$f":"VLOOKUP(A689,Begin:Einde,7,FALSE)","v":0},1,{"$f":"VLOOKUP(Jaar&X689,Trendfactoren!$A$2:$F$65,6,FALSE)","v":1},0,0,0,0,0,0,0,0,0,0,0,{"$f":"+VLOOKUP(C689,Scheepstypen!$A$1:$F$44,6,FALSE)","v":"L1"}]
["LekBO4geladenop","Lek","BO4","geladen","op","CO2",41625.982722548892,9.65,0.446323036969552,{"$f":"VLOOKUP(A690,Begin:Einde,7,FALSE)","v":0},1,{"$f":"VLOOKUP(Jaar&X690,Trendfactoren!$A$2:$F$65,6,FALSE)","v":1},0,0,0,0,0,0,0,0,0,0,0,{"$f":"+VLOOKUP(C690,Scheepstypen!$A$1:$F$44,6,FALSE)","v":"L1"}]
["LekBO4leegaf","Lek","BO4","leeg","af","CO2",5669.6554083337405,11.5,7.2445596884264454E-2,{"$f":"VLOOKUP(A691,Begin:Einde,7,FALSE)","v":0},1,{"$f":"VLOOKUP(Jaar&X691,Trendfactoren!$A$2:$F$65,6,FALSE)","v":1},0,0,0,0,0,0,0,0,0,0,0,{"$f":"+VLOOKUP(C691,Scheepstypen!$A$1:$F$44,6,FALSE)","v":"L1"}]
["LekBO4leegop","Lek","BO4","leeg","op","CO2",19712.178220409689,13.07,0.28626463260083851,{"$f":"VLOOKUP(A692,Begin:Einde,7,FALSE)","v":0},1,{"$f":"VLOOKUP(Jaar&X692,Trendfactoren!$A$2:$F$65,6,FALSE)","v":1},0,0,0,0,0,0,0,0,0,0,0,{"$f":"+VLOOKUP(C692,Scheepstypen!$A$1:$F$44,6,FALSE)","v":"L1"}]
["LekC1bgeladenaf","Lek","C1b","geladen","af","CO2",4749.3645175698357,9.83,5.1873614675234984E-2,{"$f":"VLOOKUP(A693,Begin:Einde,7,FALSE)","v":0},1,{"$f":"VLOOKUP(Jaar&X693,Trendfactoren!$A$2:$F$65,6,FALSE)","v":1},0,0,0,0,0,0,0,0,0,0,0,{"$f":"+VLOOKUP(C693,Scheepstypen!$A$1:$F$44,6,FALSE)","v":"L1"}]
["LekC1bgeladenop","Lek","C1b","geladen","op","CO2",21070.530728300691,10.69,0.25027108165059375,{"$f":"VLOOKUP(A694,Begin:Einde,7,FALSE)","v":0},1,{"$f":"VLOOKUP(Jaar&X694,Trendfactoren!$A$2:$F$65,6,FALSE)","v":1},0,0,0,0,0,0,0,0,0,0,0,{"$f":"+VLOOKUP(C694,Scheepstypen!$A$1:$F$44,6,FALSE)","v":"L1"}]
["LekC1bleegaf","Lek","C1b","leeg","af","CO2",3151.0639436066399,11.47,4.015855937018685E-2,{"$f":"VLOOKUP(A695,Begin:Einde,7,FALSE)","v":0},1,{"$f":"VLOOKUP(Jaar&X695,Trendfactoren!$A$2:$F$65,6,FALSE)","v":1},0,0,0,0,0,0,0,0,0,0,0,{"$f":"+VLOOKUP(C695,Scheepstypen!$A$1:$F$44,6,FALSE)","v":"L1"}]
["LekC1bleegop","Lek","C1b","leeg","op","CO2",10778.90940522723,12.2,0.146114105270858,{"$f":"VLOOKUP(A696,Begin:Einde,7,FALSE)","v":0},1,{"$f":"VLOOKUP(Jaar&X696,Trendfactoren!$A$2:$F$65,6,FALSE)","v":1},0,0,0,0,0,0,0,0,0,0,0,{"$f":"+VLOOKUP(C696,Scheepstypen!$A$1:$F$44,6,FALSE)","v":"L1"}]
["LekC1lgeladenaf","Lek","C1l","geladen","af","CO2",3382.329228700773,10.3,3.8708878950686622E-2,{"$f":"VLOOKUP(A697,Begin:Einde,7,FALSE)","v":0},1,{"$f":"VLOOKUP(Jaar&X697,Trendfactoren!$A$2:$F$65,6,FALSE)","v":1},0,0,0,0,0,0,0,0,0,0,0,{"$f":"+VLOOKUP(C697,Scheepstypen!$A$1:$F$44,6,FALSE)","v":"L1"}]
["LekC1lgeladenop","Lek","C1l","geladen","op","CO2",15450.79479137224,9.69,0.16635355725377446,{"$f":"VLOOKUP(A698,Begin:Einde,7,FALSE)","v":0},1,{"$f":"VLOOKUP(Jaar&X698,Trendfactoren!$A$2:$F$65,6,FALSE)","v":1},0,0,0,0,0,0,0,0,0,0,0,{"$f":"+VLOOKUP(C698,Scheepstypen!$A$1:$F$44,6,FALSE)","v":"L1"}]
["LekC1lleegaf","Lek","C1l","leeg","af","CO2",1803.6974294340137,10.199999999999999,2.0441904200252152E-2,{"$f":"VLOOKUP(A699,Begin:Einde,7,FALSE)","v":0},1,{"$f":"VLOOKUP(Jaar&X699,Trendfactoren!$A$2:$F$65,6,FALSE)","v":1},0,0,0,0,0,0,0,0,0,0,0,{"$f":"+VLOOKUP(C699,Scheepstypen!$A$1:$F$44,6,FALSE)","v":"L1"}]
["LekC1lleegop","Lek","C1l","leeg","op","CO2",9064.2367366813905,10.8,0.10877084084017669,{"$f":"VLOOKUP(A700,Begin:Einde,7,FALSE)","v":0},1,{"$f":"VLOOKUP(Jaar&X700,Trendfactoren!$A$2:$F$65,6,FALSE)","v":1},0,0,0,0,0,0,0,0,0,0,0,{"$f":"+VLOOKUP(C700,Scheepstypen!$A$1:$F$44,6,FALSE)","v":"L1"}]
["LekC2bgeladenaf","Lek","C2b","geladen","af","CO2",8788.073841575635,9.1,{"$f":"+MJperkgCO2*G701/1000*H701/3600","v":8.8857191064820304E-2},{"$f":"VLOOKUP(A701,Begin:Einde,7,FALSE)","v":0},{"$f":"+Afstand","v":1},{"$f":"VLOOKUP(Jaar&X701,Trendfactoren!$A$2:$F$65,6,FALSE)","v":1},0,{"$f":"+J701*H701","v":0},0,0,0,0,0,{"$f":"+S701/$I701","v":0},{"$f":"+Q701/$I701","v":0},{"$f":"+R701/$I701","v":0},0,{"$f":"+VLOOKUP(C701,Scheepstypen!$A$1:$F$44,6,FALSE)","v":"L2"}]
[{"$f":"+B702&C702&D702&E702","v":"LekC2bgeladenop"},"Lek","C2b","geladen","op","CO2",60773.293547321649,9.74,0.65770208794545881,{"$f":"VLOOKUP(A702,Begin:Einde,7,FALSE)","v":0},1,{"$f":"VLOOKUP(Jaar&X702,Trendfactoren!$A$2:$F$65,6,FALSE)","v":1},{"$f":"+J702*I702*L702","v":0},0,{"$f":"+J702*G702*K702","v":0},0,0,0,0,0,0,0,{"$f":"+P702/I702","v":0},{"$f":"+VLOOKUP(C702,Scheepstypen!$A$1:$F$44,6,FALSE)","v":"L2"}]
["LekC2bleegaf","Lek","C2b","leeg","af","CO2",7027.9788782811202,10.29,8.0353225175014129E-2,{"$f":"VLOOKUP(A703,Begin:Einde,7,FALSE)","v":0},1,{"$f":"VLOOKUP(Jaar&X703,Trendfactoren!$A$2:$F$65,6,FALSE)","v":1},0,0,0,0,0,0,0,0,0,0,0,{"$f":"+VLOOKUP(C703,Scheepstypen!$A$1:$F$44,6,FALSE)","v":"L2"}]
["LekC2bleegop","Lek","C2b","leeg","op","CO2",36618.791740473418,11.08,0.45081801387160614,{"$f":"VLOOKUP(A704,Begin:Einde,7,FALSE)","v":0},1,{"$f":"VLOOKUP(Jaar&X704,Trendfactoren!$A$2:$F$65,6,FALSE)","v":1},0,0,0,0,0,0,0,0,0,0,0,{"$f":"+VLOOKUP(C704,Scheepstypen!$A$1:$F$44,6,FALSE)","v":"L2"}]
["LekC2lgeladenaf","Lek","C2l","geladen","af","CO2",13336.981128117131,11.97,0.17738184900395784,{"$f":"VLOOKUP(A705,Begin:Einde,7,FALSE)","v":0},1,{"$f":"VLOOKUP(Jaar&X705,Trendfactoren!$A$2:$F$65,6,FALSE)","v":1},0,0,0,0,0,0,0,0,0,0,0,{"$f":"+VLOOKUP(C705,Scheepstypen!$A$1:$F$44,6,FALSE)","v":"L2"}]
["LekC2lgeladenop","Lek","C2l","geladen","op","CO2",50050.470499816496,11.46,0.63730932436433008,{"$f":"VLOOKUP(A706,Begin:Einde,7,FALSE)","v":0},1,{"$f":"VLOOKUP(Jaar&X706,Trendfactoren!$A$2:$F$65,6,FALSE)","v":1},0,0,0,{"$f":"+O706/+IF($O$914>0,$O$914,1)","v":0},{"$f":"+IF(E706=\"beide\",O706,0)/IF($O$915>0,$O$915,1)","v":0},{"$f":"+IF(E706=\"op\",O706,0)/IF($O$916>0,$O$916,1)","v":0},{"$f":"+IF(E706=\"af\",O706,0)/IF($O$917>0,$O$917,1)","v":0},0,0,0,0,{"$f":"+VLOOKUP(C706,Scheepstypen!$A$1:$F$44,6,FALSE)","v":"L2"}]
["LekC2lleegaf","Lek","C2l","leeg","af","CO2",13505.775435222002,14.73,0.22104452462313345,{"$f":"VLOOKUP(A707,Begin:Einde,7,FALSE)","v":0},1,{"$f":"VLOOKUP(Jaar&X707,Trendfactoren!$A$2:$F$65,6,FALSE)","v":1},0,0,0,0,0,0,0,0,0,0,0,{"$f":"+VLOOKUP(C707,Scheepstypen!$A$1:$F$44,6,FALSE)","v":"L2"}]
["LekC2lleegop","Lek","C2l","leeg","op","CO2",38177.482423419387,14.38,0.60999133027641206,{"$f":"VLOOKUP(A708,Begin:Einde,7,FALSE)","v":0},1,{"$f":"VLOOKUP(Jaar&X708,Trendfactoren!$A$2:$F$65,6,FALSE)","v":1},0,0,0,0,0,0,0,0,0,0,0,{"$f":"+VLOOKUP(C708,Scheepstypen!$A$1:$F$44,6,FALSE)","v":"L2"}]
["LekC3bgeladenop","Lek","C3b","geladen","op","CO2",92984.45055879945,10.43,1.0775864659203092,{"$f":"VLOOKUP(A709,Begin:Einde,7,FALSE)","v":0},1,{"$f":"VLOOKUP(Jaar&X709,Trendfactoren!$A$2:$F$65,6,FALSE)","v":1},0,0,0,0,0,0,0,0,0,0,0,{"$f":"+VLOOKUP(C709,Scheepstypen!$A$1:$F$44,6,FALSE)","v":"L3"}]
["LekC3bleegaf","Lek","C3b","leeg","af","CO2",24767.331811293087,15.26,0.4199438704892583,{"$f":"VLOOKUP(A710,Begin:Einde,7,FALSE)","v":0},1,{"$f":"VLOOKUP(Jaar&X710,Trendfactoren!$A$2:$F$65,6,FALSE)","v":1},0,0,0,0,0,0,0,0,0,0,0,{"$f":"+VLOOKUP(C710,Scheepstypen!$A$1:$F$44,6,FALSE)","v":"L3"}]
["LekC3bleegop","Lek","C3b","leeg","op","CO2",72609.740324227576,15.26,1.231138485941903,{"$f":"VLOOKUP(A711,Begin:Einde,7,FALSE)","v":0},1,{"$f":"VLOOKUP(Jaar&X711,Trendfactoren!$A$2:$F$65,6,FALSE)","v":1},0,0,0,0,0,0,0,0,0,0,0,{"$f":"+VLOOKUP(C711,Scheepstypen!$A$1:$F$44,6,FALSE)","v":"L3"}]
["LekC3lgeladenaf","Lek","C3l","geladen","af","CO2",31308.915015633906,14.78,0.51416195992341018,{"$f":"VLOOKUP(A712,Begin:Einde,7,FALSE)","v":0},1,{"$f":"VLOOKUP(Jaar&X712,Trendfactoren!$A$2:$F$65,6,FALSE)","v":1},0,0,0,0,0,0,0,0,0,0,0,{"$f":"+VLOOKUP(C712,Scheepstypen!$A$1:$F$44,6,FALSE)","v":"L3"}]
["LekC3lgeladenop","Lek","C3l","geladen","op","CO2",80474.089808880468,13.05,1.1668743022287669,{"$f":"VLOOKUP(A713,Begin:Einde,7,FALSE)","v":0},1,{"$f":"VLOOKUP(Jaar&X713,Trendfactoren!$A$2:$F$65,6,FALSE)","v":1},0,0,0,0,0,0,0,0,0,0,0,{"$f":"+VLOOKUP(C713,Scheepstypen!$A$1:$F$44,6,FALSE)","v":"L3"}]
["LekC3lleegaf","Lek","C3l","leeg","af","CO2",16657.885272535375,14.36,0.26578581390400885,{"$f":"VLOOKUP(A714,Begin:Einde,7,FALSE)","v":0},1,{"$f":"VLOOKUP(Jaar&X714,Trendfactoren!$A$2:$F$65,6,FALSE)","v":1},0,0,0,0,0,0,0,0,0,0,0,{"$f":"+VLOOKUP(C714,Scheepstypen!$A$1:$F$44,6,FALSE)","v":"L3"}]
["LekC3lleegop","Lek","C3l","leeg","op","CO2",51216.460239139808,15.86,0.9025478437697303,{"$f":"VLOOKUP(A715,Begin:Einde,7,FALSE)","v":0},1,{"$f":"VLOOKUP(Jaar&X715,Trendfactoren!$A$2:$F$65,6,FALSE)","v":1},0,0,0,0,0,0,0,0,0,0,0,{"$f":"+VLOOKUP(C715,Scheepstypen!$A$1:$F$44,6,FALSE)","v":"L3"}]
["LekC4geladenaf","Lek","C4","geladen","af","CO2",29074.198977139375,11.8,0.38119505325582737,{"$f":"VLOOKUP(A716,Begin:Einde,7,FALSE)","v":0},1,{"$f":"VLOOKUP(Jaar&X716,Trendfactoren!$A$2:$F$65,6,FALSE)","v":1},0,0,0,0,0,0,0,0,0,0,0,{"$f":"+VLOOKUP(C716,Scheepstypen!$A$1:$F$44,6,FALSE)","v":"L3"}]
["LekC4geladenop","Lek","C4","geladen","op","CO2",81485.025609191754,8.6999999999999993,0.78768858088885352,{"$f":"VLOOKUP(A717,Begin:Einde,7,FALSE)","v":0},1,{"$f":"VLOOKUP(Jaar&X717,Trendfactoren!$A$2:$F$65,6,FALSE)","v":1},0,0,0,0,0,0,0,0,0,0,0,{"$f":"+VLOOKUP(C717,Scheepstypen!$A$1:$F$44,6,FALSE)","v":"L3"}]
["LekC4leegop","Lek","C4","leeg","op","CO2",75630.504395119555,12.2,1.0252135040227317,{"$f":"VLOOKUP(A718,Begin:Einde,7,FALSE)","v":0},1,{"$f":"VLOOKUP(Jaar&X718,Trendfactoren!$A$2:$F$65,6,FALSE)","v":1},0,0,0,0,0,0,0,0,0,0,0,{"$f":"+VLOOKUP(C718,Scheepstypen!$A$1:$F$44,6,FALSE)","v":"L3"}]
["LekM0geladenaf","Lek","M0","geladen","af","CO2",1324.1967669303344,10.76,1.5831508013522667E-2,{"$f":"VLOOKUP(A719,Begin:Einde,7,FALSE)","v":0},1,{"$f":"VLOOKUP(Jaar&X719,Trendfactoren!$A$2:$F$65,6,FALSE)","v":1},0,0,0,0,0,0,0,0,0,0,0,{"$f":"+VLOOKUP(C719,Scheepstypen!$A$1:$F$44,6,FALSE)","v":"L1"}]
["LekM0geladenop","Lek","M0","geladen","op","CO2",5151.0240608076101,9.9499999999999993,5.6947432672261905E-2,{"$f":"VLOOKUP(A720,Begin:Einde,7,FALSE)","v":0},1,{"$f":"VLOOKUP(Jaar&X720,Trendfactoren!$A$2:$F$65,6,FALSE)","v":1},0,0,0,0,0,0,0,0,0,0,0,{"$f":"+VLOOKUP(C720,Scheepstypen!$A$1:$F$44,6,FALSE)","v":"L1"}]
["LekM0leegaf","Lek","M0","leeg","af","CO2",1088.2828277095989,11.46,1.3857468006168893E-2,{"$f":"VLOOKUP(A721,Begin:Einde,7,FALSE)","v":0},1,{"$f":"VLOOKUP(Jaar&X721,Trendfactoren!$A$2:$F$65,6,FALSE)","v":1},0,0,0,0,0,0,0,0,0,0,0,{"$f":"+VLOOKUP(C721,Scheepstypen!$A$1:$F$44,6,FALSE)","v":"L1"}]
["LekM0leegop","Lek","M0","leeg","op","CO2",2597.8001546421028,8.01,2.3120421376314714E-2,{"$f":"VLOOKUP(A722,Begin:Einde,7,FALSE)","v":0},1,{"$f":"VLOOKUP(Jaar&X722,Trendfactoren!$A$2:$F$65,6,FALSE)","v":1},0,0,0,0,0,0,0,0,0,0,0,{"$f":"+VLOOKUP(C722,Scheepstypen!$A$1:$F$44,6,FALSE)","v":"L1"}]
["LekM1geladenaf","Lek","M1","geladen","af","CO2",3158.4855855081528,11.15,3.9130126976017671E-2,{"$f":"VLOOKUP(A723,Begin:Einde,7,FALSE)","v":0},1,{"$f":"VLOOKUP(Jaar&X723,Trendfactoren!$A$2:$F$65,6,FALSE)","v":1},0,0,0,0,0,0,0,0,0,0,0,{"$f":"+VLOOKUP(C723,Scheepstypen!$A$1:$F$44,6,FALSE)","v":"L1"}]
["LekM1geladenop","Lek","M1","geladen","op","CO2",11933.164898656083,11.33,0.15022528700197046,{"$f":"VLOOKUP(A724,Begin:Einde,7,FALSE)","v":0},1,{"$f":"VLOOKUP(Jaar&X724,Trendfactoren!$A$2:$F$65,6,FALSE)","v":1},0,0,0,0,0,0,0,0,0,0,0,{"$f":"+VLOOKUP(C724,Scheepstypen!$A$1:$F$44,6,FALSE)","v":"L1"}]
["LekM1leegaf","Lek","M1","leeg","af","CO2",1408.4976730141691,11.18,1.7496671093664901E-2,{"$f":"VLOOKUP(A725,Begin:Einde,7,FALSE)","v":0},1,{"$f":"VLOOKUP(Jaar&X725,Trendfactoren!$A$2:$F$65,6,FALSE)","v":1},0,0,0,0,0,0,0,0,0,0,0,{"$f":"+VLOOKUP(C725,Scheepstypen!$A$1:$F$44,6,FALSE)","v":"L1"}]
["LekM1leegop","Lek","M1","leeg","op","CO2",6208.7342352559363,13.08,9.0233604219052937E-2,{"$f":"VLOOKUP(A726,Begin:Einde,7,FALSE)","v":0},1,{"$f":"VLOOKUP(Jaar&X726,Trendfactoren!$A$2:$F$65,6,FALSE)","v":1},0,0,0,0,0,0,0,0,0,0,0,{"$f":"+VLOOKUP(C726,Scheepstypen!$A$1:$F$44,6,FALSE)","v":"L1"}]
["LekM10geladenaf","Lek","M10","geladen","af","CO2",27650.586273952627,14.85,0.45623467352021829,{"$f":"VLOOKUP(A727,Begin:Einde,7,FALSE)","v":0},1,{"$f":"VLOOKUP(Jaar&X727,Trendfactoren!$A$2:$F$65,6,FALSE)","v":1},0,0,0,0,0,0,0,0,0,0,0,{"$f":"+VLOOKUP(C727,Scheepstypen!$A$1:$F$44,6,FALSE)","v":"L3"}]
["LekM10geladenop","Lek","M10","geladen","op","CO2",72800.769954903546,13.45,1.0879670621038362,{"$f":"VLOOKUP(A728,Begin:Einde,7,FALSE)","v":0},1,{"$f":"VLOOKUP(Jaar&X728,Trendfactoren!$A$2:$F$65,6,FALSE)","v":1},0,0,0,0,0,0,0,0,0,0,0,{"$f":"+VLOOKUP(C728,Scheepstypen!$A$1:$F$44,6,FALSE)","v":"L3"}]
["LekM10leegaf","Lek","M10","leeg","af","CO2",16501.343893989633,15.3,0.28052284619782381,{"$f":"VLOOKUP(A729,Begin:Einde,7,FALSE)","v":0},1,{"$f":"VLOOKUP(Jaar&X729,Trendfactoren!$A$2:$F$65,6,FALSE)","v":1},0,0,0,0,0,0,0,0,0,0,0,{"$f":"+VLOOKUP(C729,Scheepstypen!$A$1:$F$44,6,FALSE)","v":"L3"}]
["LekM10leegop","Lek","M10","leeg","op","CO2",13248.255182067514,4.8499999999999996,7.1393375147808261E-2,{"$f":"VLOOKUP(A730,Begin:Einde,7,FALSE)","v":0},1,{"$f":"VLOOKUP(Jaar&X730,Trendfactoren!$A$2:$F$65,6,FALSE)","v":1},0,0,0,0,0,0,0,0,0,0,0,{"$f":"+VLOOKUP(C730,Scheepstypen!$A$1:$F$44,6,FALSE)","v":"L3"}]
["LekM11geladenaf","Lek","M11","geladen","af","CO2",32073.003286378287,15.44,0.55023018971297855,{"$f":"VLOOKUP(A731,Begin:Einde,7,FALSE)","v":0},1,{"$f":"VLOOKUP(Jaar&X731,Trendfactoren!$A$2:$F$65,6,FALSE)","v":1},0,0,0,0,0,0,0,0,0,0,0,{"$f":"+VLOOKUP(C731,Scheepstypen!$A$1:$F$44,6,FALSE)","v":"L3"}]
["LekM11geladenop","Lek","M11","geladen","op","CO2",76480.759571089831,13.3,1.1302156692172165,{"$f":"VLOOKUP(A732,Begin:Einde,7,FALSE)","v":0},1,{"$f":"VLOOKUP(Jaar&X732,Trendfactoren!$A$2:$F$65,6,FALSE)","v":1},0,0,0,0,0,0,0,0,0,0,0,{"$f":"+VLOOKUP(C732,Scheepstypen!$A$1:$F$44,6,FALSE)","v":"L3"}]
["LekM11leegaf","Lek","M11","leeg","af","CO2",20778.6874697891,16.2,0.37401637445620384,{"$f":"VLOOKUP(A733,Begin:Einde,7,FALSE)","v":0},1,{"$f":"VLOOKUP(Jaar&X733,Trendfactoren!$A$2:$F$65,6,FALSE)","v":1},0,0,0,0,0,0,0,0,0,0,0,{"$f":"+VLOOKUP(C733,Scheepstypen!$A$1:$F$44,6,FALSE)","v":"L3"}]
["LekM11leegop","Lek","M11","leeg","op","CO2",55825.949062680796,16.399999999999999,1.0172728495866279,{"$f":"VLOOKUP(A734,Begin:Einde,7,FALSE)","v":0},1,{"$f":"VLOOKUP(Jaar&X734,Trendfactoren!$A$2:$F$65,6,FALSE)","v":1},0,0,0,0,0,0,0,0,0,0,0,{"$f":"+VLOOKUP(C734,Scheepstypen!$A$1:$F$44,6,FALSE)","v":"L3"}]
["LekM12geladenaf","Lek","M12","geladen","af","CO2",28491.878796783461,13.85,0.4384583570393899,{"$f":"VLOOKUP(A735,Begin:Einde,7,FALSE)","v":0},1,{"$f":"VLOOKUP(Jaar&X735,Trendfactoren!$A$2:$F$65,6,FALSE)","v":1},0,0,0,0,0,0,0,0,0,0,0,{"$f":"+VLOOKUP(C735,Scheepstypen!$A$1:$F$44,6,FALSE)","v":"L3"}]
["LekM12geladenop","Lek","M12","geladen","op","CO2",86683.97301988081,13.16,1.2675123166018127,{"$f":"VLOOKUP(A736,Begin:Einde,7,FALSE)","v":0},1,{"$f":"VLOOKUP(Jaar&X736,Trendfactoren!$A$2:$F$65,6,FALSE)","v":1},0,0,0,0,0,0,0,0,0,0,0,{"$f":"+VLOOKUP(C736,Scheepstypen!$A$1:$F$44,6,FALSE)","v":"L3"}]
["LekM12leegaf","Lek","M12","leeg","af","CO2",21043.058221740896,15.04,0.3516528840610923,{"$f":"VLOOKUP(A737,Begin:Einde,7,FALSE)","v":0},1,{"$f":"VLOOKUP(Jaar&X737,Trendfactoren!$A$2:$F$65,6,FALSE)","v":1},0,0,0,0,0,0,0,0,0,0,0,{"$f":"+VLOOKUP(C737,Scheepstypen!$A$1:$F$44,6,FALSE)","v":"L3"}]
["LekM12leegop","Lek","M12","leeg","op","CO2",51790.510775386705,13.42,0.77225406067298841,{"$f":"VLOOKUP(A738,Begin:Einde,7,FALSE)","v":0},1,{"$f":"VLOOKUP(Jaar&X738,Trendfactoren!$A$2:$F$65,6,FALSE)","v":1},0,0,0,0,0,0,0,0,0,0,0,{"$f":"+VLOOKUP(C738,Scheepstypen!$A$1:$F$44,6,FALSE)","v":"L3"}]
["LekM2geladenaf","Lek","M2","geladen","af","CO2",7295.1821598532424,13.38,0.10845504144315155,{"$f":"VLOOKUP(A739,Begin:Einde,7,FALSE)","v":0},1,{"$f":"VLOOKUP(Jaar&X739,Trendfactoren!$A$2:$F$65,6,FALSE)","v":1},0,0,0,0,0,0,0,0,0,0,0,{"$f":"+VLOOKUP(C739,Scheepstypen!$A$1:$F$44,6,FALSE)","v":"L1"}]
["LekM2geladenop","Lek","M2","geladen","op","CO2",16462.014024494685,11.65,0.21309162598373677,{"$f":"VLOOKUP(A740,Begin:Einde,7,FALSE)","v":0},1,{"$f":"VLOOKUP(Jaar&X740,Trendfactoren!$A$2:$F$65,6,FALSE)","v":1},0,0,0,0,0,0,0,0,0,0,0,{"$f":"+VLOOKUP(C740,Scheepstypen!$A$1:$F$44,6,FALSE)","v":"L1"}]
["LekM2leegaf","Lek","M2","leeg","af","CO2",4099.9739630417835,13.24,6.0315172522970237E-2,{"$f":"VLOOKUP(A741,Begin:Einde,7,FALSE)","v":0},1,{"$f":"VLOOKUP(Jaar&X741,Trendfactoren!$A$2:$F$65,6,FALSE)","v":1},0,0,0,0,0,0,0,0,0,0,0,{"$f":"+VLOOKUP(C741,Scheepstypen!$A$1:$F$44,6,FALSE)","v":"L1"}]
["LekM2leegop","Lek","M2","leeg","op","CO2",11798.097839323034,14.31,0.18758975564523625,{"$f":"VLOOKUP(A742,Begin:Einde,7,FALSE)","v":0},1,{"$f":"VLOOKUP(Jaar&X742,Trendfactoren!$A$2:$F$65,6,FALSE)","v":1},0,0,0,0,0,0,0,0,0,0,0,{"$f":"+VLOOKUP(C742,Scheepstypen!$A$1:$F$44,6,FALSE)","v":"L1"}]
["LekM3geladenaf","Lek","M3","geladen","af","CO2",8267.4847728274744,12.74,0.11703084000646892,{"$f":"VLOOKUP(A743,Begin:Einde,7,FALSE)","v":0},1,{"$f":"VLOOKUP(Jaar&X743,Trendfactoren!$A$2:$F$65,6,FALSE)","v":1},0,0,0,0,0,0,0,0,0,0,0,{"$f":"+VLOOKUP(C743,Scheepstypen!$A$1:$F$44,6,FALSE)","v":"L1"}]
["LekM3geladenop","Lek","M3","geladen","op","CO2",20988.680728532821,11.45,0.26702266037966754,{"$f":"VLOOKUP(A744,Begin:Einde,7,FALSE)","v":0},1,{"$f":"VLOOKUP(Jaar&X744,Trendfactoren!$A$2:$F$65,6,FALSE)","v":1},0,0,0,0,0,0,0,0,0,0,0,{"$f":"+VLOOKUP(C744,Scheepstypen!$A$1:$F$44,6,FALSE)","v":"L1"}]
["LekM3leegaf","Lek","M3","leeg","af","CO2",5633.6246707367782,13.32,8.3377645126904321E-2,{"$f":"VLOOKUP(A745,Begin:Einde,7,FALSE)","v":0},1,{"$f":"VLOOKUP(Jaar&X745,Trendfactoren!$A$2:$F$65,6,FALSE)","v":1},0,0,0,0,0,0,0,0,0,0,0,{"$f":"+VLOOKUP(C745,Scheepstypen!$A$1:$F$44,6,FALSE)","v":"L1"}]
["LekM3leegop","Lek","M3","leeg","op","CO2",15347.204912945743,13.66,0.23293646567870985,{"$f":"VLOOKUP(A746,Begin:Einde,7,FALSE)","v":0},1,{"$f":"VLOOKUP(Jaar&X746,Trendfactoren!$A$2:$F$65,6,FALSE)","v":1},0,0,0,0,0,0,0,0,0,0,0,{"$f":"+VLOOKUP(C746,Scheepstypen!$A$1:$F$44,6,FALSE)","v":"L1"}]
["LekM4geladenaf","Lek","M4","geladen","af","CO2",8683.1405884807464,11.63,0.11220547227114565,{"$f":"VLOOKUP(A747,Begin:Einde,7,FALSE)","v":0},1,{"$f":"VLOOKUP(Jaar&X747,Trendfactoren!$A$2:$F$65,6,FALSE)","v":1},0,0,0,0,0,0,0,0,0,0,0,{"$f":"+VLOOKUP(C747,Scheepstypen!$A$1:$F$44,6,FALSE)","v":"L1"}]
["LekM4geladenop","Lek","M4","geladen","op","CO2",25175.516841560533,11.4,0.31888987999310014,{"$f":"VLOOKUP(A748,Begin:Einde,7,FALSE)","v":0},1,{"$f":"VLOOKUP(Jaar&X748,Trendfactoren!$A$2:$F$65,6,FALSE)","v":1},0,0,0,0,0,0,0,0,0,0,0,{"$f":"+VLOOKUP(C748,Scheepstypen!$A$1:$F$44,6,FALSE)","v":"L1"}]
["LekM4leegaf","Lek","M4","leeg","af","CO2",6339.3263714383738,13.39,9.4315089015066481E-2,{"$f":"VLOOKUP(A749,Begin:Einde,7,FALSE)","v":0},1,{"$f":"VLOOKUP(Jaar&X749,Trendfactoren!$A$2:$F$65,6,FALSE)","v":1},0,0,0,0,0,0,0,0,0,0,0,{"$f":"+VLOOKUP(C749,Scheepstypen!$A$1:$F$44,6,FALSE)","v":"L1"}]
["LekM4leegop","Lek","M4","leeg","op","CO2",17787.466859396412,12.47,0.24645523526297031,{"$f":"VLOOKUP(A750,Begin:Einde,7,FALSE)","v":0},1,{"$f":"VLOOKUP(Jaar&X750,Trendfactoren!$A$2:$F$65,6,FALSE)","v":1},0,0,0,0,0,0,0,0,0,0,0,{"$f":"+VLOOKUP(C750,Scheepstypen!$A$1:$F$44,6,FALSE)","v":"L1"}]
["LekM5geladenaf","Lek","M5","geladen","af","CO2",10922.543262304012,13.21,0.16031866277226223,{"$f":"VLOOKUP(A751,Begin:Einde,7,FALSE)","v":0},1,{"$f":"VLOOKUP(Jaar&X751,Trendfactoren!$A$2:$F$65,6,FALSE)","v":1},0,0,0,0,0,0,0,0,0,0,0,{"$f":"+VLOOKUP(C751,Scheepstypen!$A$1:$F$44,6,FALSE)","v":"L2"}]
["LekM5geladenop","Lek","M5","geladen","op","CO2",30800.719081044343,12.16,0.41615193780611026,{"$f":"VLOOKUP(A752,Begin:Einde,7,FALSE)","v":0},1,{"$f":"VLOOKUP(Jaar&X752,Trendfactoren!$A$2:$F$65,6,FALSE)","v":1},0,0,0,0,0,0,0,0,0,0,0,{"$f":"+VLOOKUP(C752,Scheepstypen!$A$1:$F$44,6,FALSE)","v":"L2"}]
["LekM5leegaf","Lek","M5","leeg","af","CO2",8195.58510303406,15.01,0.13668414710726806,{"$f":"VLOOKUP(A753,Begin:Einde,7,FALSE)","v":0},1,{"$f":"VLOOKUP(Jaar&X753,Trendfactoren!$A$2:$F$65,6,FALSE)","v":1},0,0,0,0,0,0,0,0,0,0,0,{"$f":"+VLOOKUP(C753,Scheepstypen!$A$1:$F$44,6,FALSE)","v":"L2"}]
["LekM5leegop","Lek","M5","leeg","op","CO2",21622.537642628791,14.56,0.34980460897408355,{"$f":"VLOOKUP(A754,Begin:Einde,7,FALSE)","v":0},1,{"$f":"VLOOKUP(Jaar&X754,Trendfactoren!$A$2:$F$65,6,FALSE)","v":1},0,0,0,0,0,0,0,0,0,0,0,{"$f":"+VLOOKUP(C754,Scheepstypen!$A$1:$F$44,6,FALSE)","v":"L2"}]
["LekM6geladenaf","Lek","M6","geladen","af","CO2",12863.994514500746,13.07,0.18681378700502749,{"$f":"VLOOKUP(A755,Begin:Einde,7,FALSE)","v":0},1,{"$f":"VLOOKUP(Jaar&X755,Trendfactoren!$A$2:$F$65,6,FALSE)","v":1},0,0,0,0,0,0,0,0,0,0,0,{"$f":"+VLOOKUP(C755,Scheepstypen!$A$1:$F$44,6,FALSE)","v":"L2"}]
["LekM6geladenop","Lek","M6","geladen","op","CO2",35545.40903379755,12.31,0.48618220578449761,{"$f":"VLOOKUP(A756,Begin:Einde,7,FALSE)","v":0},1,{"$f":"VLOOKUP(Jaar&X756,Trendfactoren!$A$2:$F$65,6,FALSE)","v":1},0,0,0,0,0,0,0,0,0,0,0,{"$f":"+VLOOKUP(C756,Scheepstypen!$A$1:$F$44,6,FALSE)","v":"L2"}]
["LekM6leegaf","Lek","M6","leeg","af","CO2",9308.7520083626623,14.47,0.14966404617889745,{"$f":"VLOOKUP(A757,Begin:Einde,7,FALSE)","v":0},1,{"$f":"VLOOKUP(Jaar&X757,Trendfactoren!$A$2:$F$65,6,FALSE)","v":1},0,0,0,0,0,0,0,0,0,0,0,{"$f":"+VLOOKUP(C757,Scheepstypen!$A$1:$F$44,6,FALSE)","v":"L2"}]
["LekM6leegop","Lek","M6","leeg","op","CO2",25742.986311330154,14.51,0.41503414597488947,{"$f":"VLOOKUP(A758,Begin:Einde,7,FALSE)","v":0},1,{"$f":"VLOOKUP(Jaar&X758,Trendfactoren!$A$2:$F$65,6,FALSE)","v":1},0,0,0,0,0,0,0,0,0,0,0,{"$f":"+VLOOKUP(C758,Scheepstypen!$A$1:$F$44,6,FALSE)","v":"L2"}]
["LekM7geladenaf","Lek","M7","geladen","af","CO2",13091.354268861969,13.53,0.19680669250855828,{"$f":"VLOOKUP(A759,Begin:Einde,7,FALSE)","v":0},1,{"$f":"VLOOKUP(Jaar&X759,Trendfactoren!$A$2:$F$65,6,FALSE)","v":1},0,0,0,0,0,0,0,0,0,0,0,{"$f":"+VLOOKUP(C759,Scheepstypen!$A$1:$F$44,6,FALSE)","v":"L2"}]
["LekM7geladenop","Lek","M7","geladen","op","CO2",46746.157236795079,13.35,0.6934013323457936,{"$f":"VLOOKUP(A760,Begin:Einde,7,FALSE)","v":0},1,{"$f":"VLOOKUP(Jaar&X760,Trendfactoren!$A$2:$F$65,6,FALSE)","v":1},0,0,0,0,0,0,0,0,0,0,0,{"$f":"+VLOOKUP(C760,Scheepstypen!$A$1:$F$44,6,FALSE)","v":"L2"}]
["LekM7leegaf","Lek","M7","leeg","af","CO2",10557.379827128569,14.49,0.16997381521676996,{"$f":"VLOOKUP(A761,Begin:Einde,7,FALSE)","v":0},1,{"$f":"VLOOKUP(Jaar&X761,Trendfactoren!$A$2:$F$65,6,FALSE)","v":1},0,0,0,0,0,0,0,0,0,0,0,{"$f":"+VLOOKUP(C761,Scheepstypen!$A$1:$F$44,6,FALSE)","v":"L2"}]
["LekM7leegop","Lek","M7","leeg","op","CO2",34489.069398074833,16.41,0.6288506986915644,{"$f":"VLOOKUP(A762,Begin:Einde,7,FALSE)","v":0},1,{"$f":"VLOOKUP(Jaar&X762,Trendfactoren!$A$2:$F$65,6,FALSE)","v":1},0,0,0,0,0,0,0,0,0,0,0,{"$f":"+VLOOKUP(C762,Scheepstypen!$A$1:$F$44,6,FALSE)","v":"L2"}]
["LekM8geladenaf","Lek","M8","geladen","af","CO2",18947.672469070894,13.87,{"$f":"+MJperkgCO2*G763/1000*H763/3600","v":0.29200468571779253},{"$f":"VLOOKUP(A763,Begin:Einde,7,FALSE)","v":0},{"$f":"+Afstand","v":1},{"$f":"VLOOKUP(Jaar&X763,Trendfactoren!$A$2:$F$65,6,FALSE)","v":1},0,{"$f":"+J763*H763","v":0},0,0,0,0,0,{"$f":"+S763/$I763","v":0},{"$f":"+Q763/$I763","v":0},{"$f":"+R763/$I763","v":0},0,{"$f":"+VLOOKUP(C763,Scheepstypen!$A$1:$F$44,6,FALSE)","v":"L3"}]
[{"$f":"+B764&C764&D764&E764","v":"LekM8geladenop"},"Lek","M8","geladen","op","CO2",63040.62001678349,13.14,0.92039305224503909,{"$f":"VLOOKUP(A764,Begin:Einde,7,FALSE)","v":0},1,{"$f":"VLOOKUP(Jaar&X764,Trendfactoren!$A$2:$F$65,6,FALSE)","v":1},{"$f":"+J764*I764*L764","v":0},0,{"$f":"+J764*G764*K764","v":0},0,0,0,0,0,0,0,{"$f":"+P764/I764","v":0},{"$f":"+VLOOKUP(C764,Scheepstypen!$A$1:$F$44,6,FALSE)","v":"L3"}]
["LekM8leegaf","Lek","M8","leeg","af","CO2",13334.814894400106,15.05,0.22298773795635735,{"$f":"VLOOKUP(A765,Begin:Einde,7,FALSE)","v":0},1,{"$f":"VLOOKUP(Jaar&X765,Trendfactoren!$A$2:$F$65,6,FALSE)","v":1},0,0,0,0,0,0,0,0,0,0,0,{"$f":"+VLOOKUP(C765,Scheepstypen!$A$1:$F$44,6,FALSE)","v":"L3"}]
["LekM8leegop","Lek","M8","leeg","op","CO2",39059.879231334307,15.85,0.68788787312960975,{"$f":"VLOOKUP(A766,Begin:Einde,7,FALSE)","v":0},1,{"$f":"VLOOKUP(Jaar&X766,Trendfactoren!$A$2:$F$65,6,FALSE)","v":1},0,0,0,0,0,0,0,0,0,0,0,{"$f":"+VLOOKUP(C766,Scheepstypen!$A$1:$F$44,6,FALSE)","v":"L3"}]
["LekM9geladenaf","Lek","M9","geladen","af","CO2",19398.534294290366,13.62,0.29356448565359422,{"$f":"VLOOKUP(A767,Begin:Einde,7,FALSE)","v":0},1,{"$f":"VLOOKUP(Jaar&X767,Trendfactoren!$A$2:$F$65,6,FALSE)","v":1},0,0,0,0,0,0,0,0,0,0,0,{"$f":"+VLOOKUP(C767,Scheepstypen!$A$1:$F$44,6,FALSE)","v":"L3"}]
["LekM9geladenop","Lek","M9","geladen","op","CO2",62084.300801076293,13.04,0.89953253605114991,{"$f":"VLOOKUP(A768,Begin:Einde,7,FALSE)","v":0},1,{"$f":"VLOOKUP(Jaar&X768,Trendfactoren!$A$2:$F$65,6,FALSE)","v":1},0,0,0,0,0,0,0,0,0,0,0,{"$f":"+VLOOKUP(C768,Scheepstypen!$A$1:$F$44,6,FALSE)","v":"L3"}]
["LekM9leegaf","Lek","M9","leeg","af","CO2",17135.499314274995,15.66,0.29815768806838494,{"$f":"VLOOKUP(A769,Begin:Einde,7,FALSE)","v":0},1,{"$f":"VLOOKUP(Jaar&X769,Trendfactoren!$A$2:$F$65,6,FALSE)","v":1},0,0,0,0,0,0,0,0,0,0,0,{"$f":"+VLOOKUP(C769,Scheepstypen!$A$1:$F$44,6,FALSE)","v":"L3"}]
["LekM9leegop","Lek","M9","leeg","op","CO2",45714.088458365484,15.78,0.80152035097000807,{"$f":"VLOOKUP(A770,Begin:Einde,7,FALSE)","v":0},1,{"$f":"VLOOKUP(Jaar&X770,Trendfactoren!$A$2:$F$65,6,FALSE)","v":1},0,0,0,{"$f":"+O770/+IF($O$914>0,$O$914,1)","v":0},{"$f":"+IF(E770=\"beide\",O770,0)/IF($O$915>0,$O$915,1)","v":0},{"$f":"+IF(E770=\"op\",O770,0)/IF($O$916>0,$O$916,1)","v":0},{"$f":"+IF(E770=\"af\",O770,0)/IF($O$917>0,$O$917,1)","v":0},0,0,0,0,{"$f":"+VLOOKUP(C770,Scheepstypen!$A$1:$F$44,6,FALSE)","v":"L3"}]
["WaalBIgeladenaf","Waal","BI","geladen","af","CO2",4136.1745351350146,10.3,4.7336219679878513E-2,{"$f":"VLOOKUP(A771,Begin:Einde,7,FALSE)","v":0},1,{"$f":"VLOOKUP(Jaar&X771,Trendfactoren!$A$2:$F$65,6,FALSE)","v":1},0,0,0,0,0,0,0,0,0,0,0,{"$f":"+VLOOKUP(C771,Scheepstypen!$A$1:$F$44,6,FALSE)","v":"L2"}]
["WaalBIgeladenop","Waal","BI","geladen","op","CO2",61882.078555817294,10.3,0.70820601013879791,{"$f":"VLOOKUP(A772,Begin:Einde,7,FALSE)","v":0},1,{"$f":"VLOOKUP(Jaar&X772,Trendfactoren!$A$2:$F$65,6,FALSE)","v":1},0,0,0,0,0,0,0,0,0,0,0,{"$f":"+VLOOKUP(C772,Scheepstypen!$A$1:$F$44,6,FALSE)","v":"L2"}]
["WaalBIleegaf","Waal","BI","leeg","af","CO2",6801.3534283144372,15.34,0.11592529065593718,{"$f":"VLOOKUP(A773,Begin:Einde,7,FALSE)","v":0},1,{"$f":"VLOOKUP(Jaar&X773,Trendfactoren!$A$2:$F$65,6,FALSE)","v":1},0,0,0,0,0,0,0,0,0,0,0,{"$f":"+VLOOKUP(C773,Scheepstypen!$A$1:$F$44,6,FALSE)","v":"L2"}]
["WaalBIleegop","Waal","BI","leeg","op","CO2",36371.783334950029,15.2,0.61427900743471164,{"$f":"VLOOKUP(A774,Begin:Einde,7,FALSE)","v":0},1,{"$f":"VLOOKUP(Jaar&X774,Trendfactoren!$A$2:$F$65,6,FALSE)","v":1},0,0,0,0,0,0,0,0,0,0,0,{"$f":"+VLOOKUP(C774,Scheepstypen!$A$1:$F$44,6,FALSE)","v":"L2"}]
["WaalBII-1geladenaf","Waal","BII-1","geladen","af","CO2",28246.789572585756,16.579999999999998,0.52036863457052418,{"$f":"VLOOKUP(A775,Begin:Einde,7,FALSE)","v":0},1,{"$f":"VLOOKUP(Jaar&X775,Trendfactoren!$A$2:$F$65,6,FALSE)","v":1},0,0,0,0,0,0,0,0,0,0,0,{"$f":"+VLOOKUP(C775,Scheepstypen!$A$1:$F$44,6,FALSE)","v":"L2"}]
["WaalBII-1geladenop","Waal","BII-1","geladen","op","CO2",79677.678884680805,9.99,0.88442223561995681,{"$f":"VLOOKUP(A776,Begin:Einde,7,FALSE)","v":0},1,{"$f":"VLOOKUP(Jaar&X776,Trendfactoren!$A$2:$F$65,6,FALSE)","v":1},0,0,0,0,0,0,0,0,0,0,0,{"$f":"+VLOOKUP(C776,Scheepstypen!$A$1:$F$44,6,FALSE)","v":"L2"}]
["WaalBII-1leegaf","Waal","BII-1","leeg","af","CO2",9517.1623539066331,15.31,0.16189750626478949,{"$f":"VLOOKUP(A777,Begin:Einde,7,FALSE)","v":0},1,{"$f":"VLOOKUP(Jaar&X777,Trendfactoren!$A$2:$F$65,6,FALSE)","v":1},0,0,0,0,0,0,0,0,0,0,0,{"$f":"+VLOOKUP(C777,Scheepstypen!$A$1:$F$44,6,FALSE)","v":"L2"}]
["WaalBII-1leegop","Waal","BII-1","leeg","op","CO2",40788.037275000395,12.83,0.58145613137583896,{"$f":"VLOOKUP(A778,Begin:Einde,7,FALSE)","v":0},1,{"$f":"VLOOKUP(Jaar&X778,Trendfactoren!$A$2:$F$65,6,FALSE)","v":1},0,0,0,0,0,0,0,0,0,0,0,{"$f":"+VLOOKUP(C778,Scheepstypen!$A$1:$F$44,6,FALSE)","v":"L2"}]
["WaalBII-2Bgeladenaf","Waal","BII-2B","geladen","af","CO2",34283.367975739682,14.3,0.54472462450341941,{"$f":"VLOOKUP(A779,Begin:Einde,7,FALSE)","v":0},1,{"$f":"VLOOKUP(Jaar&X779,Trendfactoren!$A$2:$F$65,6,FALSE)","v":1},0,0,0,0,0,0,0,0,0,0,0,{"$f":"+VLOOKUP(C779,Scheepstypen!$A$1:$F$44,6,FALSE)","v":"L3"}]
["WaalBII-2Bgeladenop","Waal","BII-2B","geladen","op","CO2",149133.29314472523,12.87,2.1326060919695706,{"$f":"VLOOKUP(A780,Begin:Einde,7,FALSE)","v":0},1,{"$f":"VLOOKUP(Jaar&X780,Trendfactoren!$A$2:$F$65,6,FALSE)","v":1},0,0,0,0,0,0,0,0,0,0,0,{"$f":"+VLOOKUP(C780,Scheepstypen!$A$1:$F$44,6,FALSE)","v":"L3"}]
["WaalBII-2Bleegaf","Waal","BII-2B","leeg","af","CO2",23143.83437603202,16.52,0.42481793765783221,{"$f":"VLOOKUP(A781,Begin:Einde,7,FALSE)","v":0},1,{"$f":"VLOOKUP(Jaar&X781,Trendfactoren!$A$2:$F$65,6,FALSE)","v":1},0,0,0,0,0,0,0,0,0,0,0,{"$f":"+VLOOKUP(C781,Scheepstypen!$A$1:$F$44,6,FALSE)","v":"L3"}]
["WaalBII-2Bleegop","Waal","BII-2B","leeg","op","CO2",74862.610524633288,11.32,0.94160527904316538,{"$f":"VLOOKUP(A782,Begin:Einde,7,FALSE)","v":0},1,{"$f":"VLOOKUP(Jaar&X782,Trendfactoren!$A$2:$F$65,6,FALSE)","v":1},0,0,0,0,0,0,0,0,0,0,0,{"$f":"+VLOOKUP(C782,Scheepstypen!$A$1:$F$44,6,FALSE)","v":"L3"}]
["WaalBII-2Lgeladenaf","Waal","BII-2L","geladen","af","CO2",28482.818762309842,15.97,0.50541179514898693,{"$f":"VLOOKUP(A783,Begin:Einde,7,FALSE)","v":0},1,{"$f":"VLOOKUP(Jaar&X783,Trendfactoren!$A$2:$F$65,6,FALSE)","v":1},0,0,0,0,0,0,0,0,0,0,0,{"$f":"+VLOOKUP(C783,Scheepstypen!$A$1:$F$44,6,FALSE)","v":"L3"}]
["WaalBII-2Lgeladenop","Waal","BII-2L","geladen","op","CO2",86045.869256002654,9.19,0.8786239316251826,{"$f":"VLOOKUP(A784,Begin:Einde,7,FALSE)","v":0},1,{"$f":"VLOOKUP(Jaar&X784,Trendfactoren!$A$2:$F$65,6,FALSE)","v":1},0,0,0,0,0,0,0,0,0,0,0,{"$f":"+VLOOKUP(C784,Scheepstypen!$A$1:$F$44,6,FALSE)","v":"L3"}]
["WaalBII-2Lleegaf","Waal","BII-2L","leeg","af","CO2",17013.086344427687,17.100000000000001,0.32324864054412611,{"$f":"VLOOKUP(A785,Begin:Einde,7,FALSE)","v":0},1,{"$f":"VLOOKUP(Jaar&X785,Trendfactoren!$A$2:$F$65,6,FALSE)","v":1},0,0,0,0,0,0,0,0,0,0,0,{"$f":"+VLOOKUP(C785,Scheepstypen!$A$1:$F$44,6,FALSE)","v":"L3"}]
["WaalBII-2Lleegop","Waal","BII-2L","leeg","op","CO2",46350.598920784119,10.14,0.52221674784083449,{"$f":"VLOOKUP(A786,Begin:Einde,7,FALSE)","v":0},1,{"$f":"VLOOKUP(Jaar&X786,Trendfactoren!$A$2:$F$65,6,FALSE)","v":1},0,0,0,0,0,0,0,0,0,0,0,{"$f":"+VLOOKUP(C786,Scheepstypen!$A$1:$F$44,6,FALSE)","v":"L3"}]
["WaalBII-4geladenaf","Waal","BII-4","geladen","af","CO2",61813.841805663491,16.32,1.1208909980760313,{"$f":"VLOOKUP(A787,Begin:Einde,7,FALSE)","v":0},1,{"$f":"VLOOKUP(Jaar&X787,Trendfactoren!$A$2:$F$65,6,FALSE)","v":1},0,0,0,0,0,0,0,0,0,0,0,{"$f":"+VLOOKUP(C787,Scheepstypen!$A$1:$F$44,6,FALSE)","v":"L3"}]
["WaalBII-4geladenop","Waal","BII-4","geladen","op","CO2",172593.29534154924,9.61,1.8429128535914312,{"$f":"VLOOKUP(A788,Begin:Einde,7,FALSE)","v":0},1,{"$f":"VLOOKUP(Jaar&X788,Trendfactoren!$A$2:$F$65,6,FALSE)","v":1},0,0,0,0,0,0,0,0,0,0,0,{"$f":"+VLOOKUP(C788,Scheepstypen!$A$1:$F$44,6,FALSE)","v":"L3"}]
["WaalBII-4leegaf","Waal","BII-4","leeg","af","CO2",35636.618744590261,17.309999999999999,0.68541096718761929,{"$f":"VLOOKUP(A789,Begin:Einde,7,FALSE)","v":0},1,{"$f":"VLOOKUP(Jaar&X789,Trendfactoren!$A$2:$F$65,6,FALSE)","v":1},0,0,0,0,0,0,0,0,0,0,0,{"$f":"+VLOOKUP(C789,Scheepstypen!$A$1:$F$44,6,FALSE)","v":"L3"}]
["WaalBII-4leegop","Waal","BII-4","leeg","op","CO2",165635.58993963027,17.77,3.2703827035858115,{"$f":"VLOOKUP(A790,Begin:Einde,7,FALSE)","v":0},1,{"$f":"VLOOKUP(Jaar&X790,Trendfactoren!$A$2:$F$65,6,FALSE)","v":1},0,0,0,0,0,0,0,0,0,0,0,{"$f":"+VLOOKUP(C790,Scheepstypen!$A$1:$F$44,6,FALSE)","v":"L3"}]
["WaalBII-6Bgeladenaf","Waal","BII-6B","geladen","af","CO2",89431.273300913366,16.010000000000002,1.5908829839418033,{"$f":"VLOOKUP(A791,Begin:Einde,7,FALSE)","v":0},1,{"$f":"VLOOKUP(Jaar&X791,Trendfactoren!$A$2:$F$65,6,FALSE)","v":1},0,0,0,0,0,0,0,0,0,0,0,{"$f":"+VLOOKUP(C791,Scheepstypen!$A$1:$F$44,6,FALSE)","v":"L3"}]
["WaalBII-6Bgeladenop","Waal","BII-6B","geladen","op","CO2",224849.60420377666,9.16,2.288469305007327,{"$f":"VLOOKUP(A792,Begin:Einde,7,FALSE)","v":0},1,{"$f":"VLOOKUP(Jaar&X792,Trendfactoren!$A$2:$F$65,6,FALSE)","v":1},0,0,0,0,0,0,0,0,0,0,0,{"$f":"+VLOOKUP(C792,Scheepstypen!$A$1:$F$44,6,FALSE)","v":"L3"}]
["WaalBII-6Bleegaf","Waal","BII-6B","leeg","af","CO2",48835.039939437025,16.850000000000001,0.91430046997723768,{"$f":"VLOOKUP(A793,Begin:Einde,7,FALSE)","v":0},1,{"$f":"VLOOKUP(Jaar&X793,Trendfactoren!$A$2:$F$65,6,FALSE)","v":1},0,0,0,0,0,0,0,0,0,0,0,{"$f":"+VLOOKUP(C793,Scheepstypen!$A$1:$F$44,6,FALSE)","v":"L3"}]
["WaalBII-6Bleegop","Waal","BII-6B","leeg","op","CO2",182078.84623542859,17.29,3.4979369460117331,{"$f":"VLOOKUP(A794,Begin:Einde,7,FALSE)","v":0},1,{"$f":"VLOOKUP(Jaar&X794,Trendfactoren!$A$2:$F$65,6,FALSE)","v":1},0,0,0,0,0,0,0,0,0,0,0,{"$f":"+VLOOKUP(C794,Scheepstypen!$A$1:$F$44,6,FALSE)","v":"L3"}]
["WaalBII-6Lgeladenaf","Waal","BII-6L","geladen","af","CO2",19899.715362018469,11.09,0.24520871484976089,{"$f":"VLOOKUP(A795,Begin:Einde,7,FALSE)","v":0},1,{"$f":"VLOOKUP(Jaar&X795,Trendfactoren!$A$2:$F$65,6,FALSE)","v":1},0,0,0,0,0,0,0,0,0,0,0,{"$f":"+VLOOKUP(C795,Scheepstypen!$A$1:$F$44,6,FALSE)","v":"L3"}]
["WaalBII-6Lgeladenop","Waal","BII-6L","geladen","op","CO2",184866.21083351958,8.84,1.8157970041870146,{"$f":"VLOOKUP(A796,Begin:Einde,7,FALSE)","v":0},1,{"$f":"VLOOKUP(Jaar&X796,Trendfactoren!$A$2:$F$65,6,FALSE)","v":1},0,0,0,0,0,0,0,0,0,0,0,{"$f":"+VLOOKUP(C796,Scheepstypen!$A$1:$F$44,6,FALSE)","v":"L3"}]
["WaalBII-6Lleegaf","Waal","BII-6L","leeg","af","CO2",30467.868142321258,15.22,0.51524550347347731,{"$f":"VLOOKUP(A797,Begin:Einde,7,FALSE)","v":0},1,{"$f":"VLOOKUP(Jaar&X797,Trendfactoren!$A$2:$F$65,6,FALSE)","v":1},0,0,0,0,0,0,0,0,0,0,0,{"$f":"+VLOOKUP(C797,Scheepstypen!$A$1:$F$44,6,FALSE)","v":"L3"}]
["WaalBII-6Lleegop","Waal","BII-6L","leeg","op","CO2",162399.64061714479,15.22,2.7463583668810485,{"$f":"VLOOKUP(A798,Begin:Einde,7,FALSE)","v":0},1,{"$f":"VLOOKUP(Jaar&X798,Trendfactoren!$A$2:$F$65,6,FALSE)","v":1},0,0,0,0,0,0,0,0,0,0,0,{"$f":"+VLOOKUP(C798,Scheepstypen!$A$1:$F$44,6,FALSE)","v":"L3"}]
["WaalBO1leegaf","Waal","BO1","leeg","af","CO2",1324.2278503974758,12.1,1.7803507766454951E-2,{"$f":"VLOOKUP(A799,Begin:Einde,7,FALSE)","v":0},1,{"$f":"VLOOKUP(Jaar&X799,Trendfactoren!$A$2:$F$65,6,FALSE)","v":1},0,0,0,0,0,0,0,0,0,0,0,{"$f":"+VLOOKUP(C799,Scheepstypen!$A$1:$F$44,6,FALSE)","v":"L1"}]
["WaalBO1leegop","Waal","BO1","leeg","op","CO2",11273.173887185623,13.7,0.17160275806049227,{"$f":"VLOOKUP(A800,Begin:Einde,7,FALSE)","v":0},1,{"$f":"VLOOKUP(Jaar&X800,Trendfactoren!$A$2:$F$65,6,FALSE)","v":1},0,0,0,0,0,0,0,0,0,0,0,{"$f":"+VLOOKUP(C800,Scheepstypen!$A$1:$F$44,6,FALSE)","v":"L1"}]
["WaalBO2geladenaf","Waal","BO2","geladen","af","CO2",1941.9102868177224,9.6,2.0713709726055709E-2,{"$f":"VLOOKUP(A801,Begin:Einde,7,FALSE)","v":0},1,{"$f":"VLOOKUP(Jaar&X801,Trendfactoren!$A$2:$F$65,6,FALSE)","v":1},0,0,0,0,0,0,0,0,0,0,0,{"$f":"+VLOOKUP(C801,Scheepstypen!$A$1:$F$44,6,FALSE)","v":"L1"}]
["WaalBO2geladenop","Waal","BO2","geladen","op","CO2",22275.358017467766,10.4,0.25740413709073862,{"$f":"VLOOKUP(A802,Begin:Einde,7,FALSE)","v":0},1,{"$f":"VLOOKUP(Jaar&X802,Trendfactoren!$A$2:$F$65,6,FALSE)","v":1},0,0,0,0,0,0,0,0,0,0,0,{"$f":"+VLOOKUP(C802,Scheepstypen!$A$1:$F$44,6,FALSE)","v":"L1"}]
["WaalBO2leegaf","Waal","BO2","leeg","af","CO2",1728.9942405201623,12,2.3053256540268834E-2,{"$f":"VLOOKUP(A803,Begin:Einde,7,FALSE)","v":0},1,{"$f":"VLOOKUP(Jaar&X803,Trendfactoren!$A$2:$F$65,6,FALSE)","v":1},0,0,0,0,0,0,0,0,0,0,0,{"$f":"+VLOOKUP(C803,Scheepstypen!$A$1:$F$44,6,FALSE)","v":"L1"}]
["WaalBO2leegop","Waal","BO2","leeg","op","CO2",19722.985743900379,14.1,0.3089934433211059,{"$f":"VLOOKUP(A804,Begin:Einde,7,FALSE)","v":0},1,{"$f":"VLOOKUP(Jaar&X804,Trendfactoren!$A$2:$F$65,6,FALSE)","v":1},0,0,0,0,0,0,0,0,0,0,0,{"$f":"+VLOOKUP(C804,Scheepstypen!$A$1:$F$44,6,FALSE)","v":"L1"}]
["WaalBO3geladenaf","Waal","BO3","geladen","af","CO2",2660.571000959601,9.9,2.926628101055561E-2,{"$f":"VLOOKUP(A805,Begin:Einde,7,FALSE)","v":0},1,{"$f":"VLOOKUP(Jaar&X805,Trendfactoren!$A$2:$F$65,6,FALSE)","v":1},0,0,0,0,0,0,0,0,0,0,0,{"$f":"+VLOOKUP(C805,Scheepstypen!$A$1:$F$44,6,FALSE)","v":"L1"}]
["WaalBO3geladenop","Waal","BO3","geladen","op","CO2",27579.014688293439,11.2,0.34320551612098499,{"$f":"VLOOKUP(A806,Begin:Einde,7,FALSE)","v":0},1,{"$f":"VLOOKUP(Jaar&X806,Trendfactoren!$A$2:$F$65,6,FALSE)","v":1},0,0,0,0,0,0,0,0,0,0,0,{"$f":"+VLOOKUP(C806,Scheepstypen!$A$1:$F$44,6,FALSE)","v":"L1"}]
["WaalBO3leegaf","Waal","BO3","leeg","af","CO2",2285.9205811851216,12.2,3.098692343384276E-2,{"$f":"VLOOKUP(A807,Begin:Einde,7,FALSE)","v":0},1,{"$f":"VLOOKUP(Jaar&X807,Trendfactoren!$A$2:$F$65,6,FALSE)","v":1},0,0,0,0,0,0,0,0,0,0,0,{"$f":"+VLOOKUP(C807,Scheepstypen!$A$1:$F$44,6,FALSE)","v":"L1"}]
["WaalBO3leegop","Waal","BO3","leeg","op","CO2",23553.0555485488,13.7,0.35852984557235396,{"$f":"VLOOKUP(A808,Begin:Einde,7,FALSE)","v":0},1,{"$f":"VLOOKUP(Jaar&X808,Trendfactoren!$A$2:$F$65,6,FALSE)","v":1},0,0,0,0,0,0,0,0,0,0,0,{"$f":"+VLOOKUP(C808,Scheepstypen!$A$1:$F$44,6,FALSE)","v":"L1"}]
["WaalBO4geladenaf","Waal","BO4","geladen","af","CO2",2384.9439431065339,9.5,2.5174408288346748E-2,{"$f":"VLOOKUP(A809,Begin:Einde,7,FALSE)","v":0},1,{"$f":"VLOOKUP(Jaar&X809,Trendfactoren!$A$2:$F$65,6,FALSE)","v":1},0,0,0,0,0,0,0,0,0,0,0,{"$f":"+VLOOKUP(C809,Scheepstypen!$A$1:$F$44,6,FALSE)","v":"L1"}]
["WaalBO4geladenop","Waal","BO4","geladen","op","CO2",38610.620563610806,12,0.51480827418147745,{"$f":"VLOOKUP(A810,Begin:Einde,7,FALSE)","v":0},1,{"$f":"VLOOKUP(Jaar&X810,Trendfactoren!$A$2:$F$65,6,FALSE)","v":1},0,0,0,0,0,0,0,0,0,0,0,{"$f":"+VLOOKUP(C810,Scheepstypen!$A$1:$F$44,6,FALSE)","v":"L1"}]
["WaalBO4leegaf","Waal","BO4","leeg","af","CO2",2580.4887039701721,12.1,3.4693237020043427E-2,{"$f":"VLOOKUP(A811,Begin:Einde,7,FALSE)","v":0},1,{"$f":"VLOOKUP(Jaar&X811,Trendfactoren!$A$2:$F$65,6,FALSE)","v":1},0,0,0,0,0,0,0,0,0,0,0,{"$f":"+VLOOKUP(C811,Scheepstypen!$A$1:$F$44,6,FALSE)","v":"L1"}]
["WaalBO4leegop","Waal","BO4","leeg","op","CO2",26682.131945015692,14,0.41505538581135515,{"$f":"VLOOKUP(A812,Begin:Einde,7,FALSE)","v":0},1,{"$f":"VLOOKUP(Jaar&X812,Trendfactoren!$A$2:$F$65,6,FALSE)","v":1},0,0,0,0,0,0,0,0,0,0,0,{"$f":"+VLOOKUP(C812,Scheepstypen!$A$1:$F$44,6,FALSE)","v":"L1"}]
["WaalC1bgeladenaf","Waal","C1b","geladen","af","CO2",2216.0751786309629,10.4,2.5607979841957795E-2,{"$f":"VLOOKUP(A813,Begin:Einde,7,FALSE)","v":0},1,{"$f":"VLOOKUP(Jaar&X813,Trendfactoren!$A$2:$F$65,6,FALSE)","v":1},0,0,0,0,0,0,0,0,0,0,0,{"$f":"+VLOOKUP(C813,Scheepstypen!$A$1:$F$44,6,FALSE)","v":"L1"}]
["WaalC1bgeladenop","Waal","C1b","geladen","op","CO2",18682.558337231018,12.4,0.25740413709073845,{"$f":"VLOOKUP(A814,Begin:Einde,7,FALSE)","v":0},1,{"$f":"VLOOKUP(Jaar&X814,Trendfactoren!$A$2:$F$65,6,FALSE)","v":1},0,0,0,0,0,0,0,0,0,0,0,{"$f":"+VLOOKUP(C814,Scheepstypen!$A$1:$F$44,6,FALSE)","v":"L1"}]
["WaalC1bleegaf","Waal","C1b","leeg","af","CO2",1627.0148211405169,12.1,2.1874310373111393E-2,{"$f":"VLOOKUP(A815,Begin:Einde,7,FALSE)","v":0},1,{"$f":"VLOOKUP(Jaar&X815,Trendfactoren!$A$2:$F$65,6,FALSE)","v":1},0,0,0,0,0,0,0,0,0,0,0,{"$f":"+VLOOKUP(C815,Scheepstypen!$A$1:$F$44,6,FALSE)","v":"L1"}]
["WaalC1bleegop","Waal","C1b","leeg","op","CO2",15936.21040484325,13.3,0.2355017759826836,{"$f":"VLOOKUP(A816,Begin:Einde,7,FALSE)","v":0},1,{"$f":"VLOOKUP(Jaar&X816,Trendfactoren!$A$2:$F$65,6,FALSE)","v":1},0,0,0,0,0,0,0,0,0,0,0,{"$f":"+VLOOKUP(C816,Scheepstypen!$A$1:$F$44,6,FALSE)","v":"L1"}]
["WaalC1lgeladenaf","Waal","C1l","geladen","af","CO2",1176.5842797789962,9.6999999999999993,1.2680963904284736E-2,{"$f":"VLOOKUP(A817,Begin:Einde,7,FALSE)","v":0},1,{"$f":"VLOOKUP(Jaar&X817,Trendfactoren!$A$2:$F$65,6,FALSE)","v":1},0,0,0,0,0,0,0,0,0,0,0,{"$f":"+VLOOKUP(C817,Scheepstypen!$A$1:$F$44,6,FALSE)","v":"L1"}]
["WaalC1lgeladenop","Waal","C1l","geladen","op","CO2",19632.518930649563,11.8,0.25740413709073878,{"$f":"VLOOKUP(A818,Begin:Einde,7,FALSE)","v":0},1,{"$f":"VLOOKUP(Jaar&X818,Trendfactoren!$A$2:$F$65,6,FALSE)","v":1},0,0,0,0,0,0,0,0,0,0,0,{"$f":"+VLOOKUP(C818,Scheepstypen!$A$1:$F$44,6,FALSE)","v":"L1"}]
["WaalC1lleegaf","Waal","C1l","leeg","af","CO2",890.03511177139569,10.5,1.0383742970666283E-2,{"$f":"VLOOKUP(A819,Begin:Einde,7,FALSE)","v":0},1,{"$f":"VLOOKUP(Jaar&X819,Trendfactoren!$A$2:$F$65,6,FALSE)","v":1},0,0,0,0,0,0,0,0,0,0,0,{"$f":"+VLOOKUP(C819,Scheepstypen!$A$1:$F$44,6,FALSE)","v":"L1"}]
["WaalC1lleegop","Waal","C1l","leeg","op","CO2",14308.933503794076,12.7,0.20191495055353861,{"$f":"VLOOKUP(A820,Begin:Einde,7,FALSE)","v":0},1,{"$f":"VLOOKUP(Jaar&X820,Trendfactoren!$A$2:$F$65,6,FALSE)","v":1},0,0,0,0,0,0,0,0,0,0,0,{"$f":"+VLOOKUP(C820,Scheepstypen!$A$1:$F$44,6,FALSE)","v":"L1"}]
["WaalC2bgeladenaf","Waal","C2b","geladen","af","CO2",24687.823936747791,16.22,0.44492944917116567,{"$f":"VLOOKUP(A821,Begin:Einde,7,FALSE)","v":0},1,{"$f":"VLOOKUP(Jaar&X821,Trendfactoren!$A$2:$F$65,6,FALSE)","v":1},0,0,0,0,0,0,0,0,0,0,0,{"$f":"+VLOOKUP(C821,Scheepstypen!$A$1:$F$44,6,FALSE)","v":"L2"}]
["WaalC2bgeladenop","Waal","C2b","geladen","op","CO2",73791.811658263148,16.670000000000002,1.3667883337147186,{"$f":"VLOOKUP(A822,Begin:Einde,7,FALSE)","v":0},1,{"$f":"VLOOKUP(Jaar&X822,Trendfactoren!$A$2:$F$65,6,FALSE)","v":1},0,0,0,0,0,0,0,0,0,0,0,{"$f":"+VLOOKUP(C822,Scheepstypen!$A$1:$F$44,6,FALSE)","v":"L2"}]
["WaalC2bleegaf","Waal","C2b","leeg","af","CO2",10735.756599814842,14.93,0.17809427337248396,{"$f":"VLOOKUP(A823,Begin:Einde,7,FALSE)","v":0},1,{"$f":"VLOOKUP(Jaar&X823,Trendfactoren!$A$2:$F$65,6,FALSE)","v":1},0,0,0,0,0,0,0,0,0,0,0,{"$f":"+VLOOKUP(C823,Scheepstypen!$A$1:$F$44,6,FALSE)","v":"L2"}]
["WaalC2bleegop","Waal","C2b","leeg","op","CO2",59979.579834315198,14.93,0.99499458547369535,{"$f":"VLOOKUP(A824,Begin:Einde,7,FALSE)","v":0},1,{"$f":"VLOOKUP(Jaar&X824,Trendfactoren!$A$2:$F$65,6,FALSE)","v":1},0,0,0,0,0,0,0,0,0,0,0,{"$f":"+VLOOKUP(C824,Scheepstypen!$A$1:$F$44,6,FALSE)","v":"L2"}]
["WaalC2lgeladenaf","Waal","C2l","geladen","af","CO2",15683.989534515849,15.16,0.26418809038140029,{"$f":"VLOOKUP(A825,Begin:Einde,7,FALSE)","v":0},1,{"$f":"VLOOKUP(Jaar&X825,Trendfactoren!$A$2:$F$65,6,FALSE)","v":1},0,0,0,0,0,0,0,0,0,0,0,{"$f":"+VLOOKUP(C825,Scheepstypen!$A$1:$F$44,6,FALSE)","v":"L2"}]
["WaalC2lgeladenop","Waal","C2l","geladen","op","CO2",57325.70992191937,10.44,0.66497823509426468,{"$f":"VLOOKUP(A826,Begin:Einde,7,FALSE)","v":0},1,{"$f":"VLOOKUP(Jaar&X826,Trendfactoren!$A$2:$F$65,6,FALSE)","v":1},0,0,0,0,0,0,0,0,0,0,0,{"$f":"+VLOOKUP(C826,Scheepstypen!$A$1:$F$44,6,FALSE)","v":"L2"}]
["WaalC2lleegaf","Waal","C2l","leeg","af","CO2",15607.756413675779,18.57,{"$f":"+MJperkgCO2*G827/1000*H827/3600","v":0.32204004066884356},{"$f":"VLOOKUP(A827,Begin:Einde,7,FALSE)","v":0},{"$f":"+Afstand","v":1},{"$f":"VLOOKUP(Jaar&X827,Trendfactoren!$A$2:$F$65,6,FALSE)","v":1},0,{"$f":"+J827*H827","v":0},0,0,0,0,0,{"$f":"+S827/$I827","v":0},{"$f":"+Q827/$I827","v":0},{"$f":"+R827/$I827","v":0},0,{"$f":"+VLOOKUP(C827,Scheepstypen!$A$1:$F$44,6,FALSE)","v":"L2"}]
[{"$f":"+B828&C828&D828&E828","v":"WaalC2lleegop"},"Waal","C2l","leeg","op","CO2",62621.03991940245,18.53,1.2892976330072528,{"$f":"VLOOKUP(A828,Begin:Einde,7,FALSE)","v":0},1,{"$f":"VLOOKUP(Jaar&X828,Trendfactoren!$A$2:$F$65,6,FALSE)","v":1},{"$f":"+J828*I828*L828","v":0},0,{"$f":"+J828*G828*K828","v":0},0,0,0,0,0,0,0,{"$f":"+P828/I828","v":0},{"$f":"+VLOOKUP(C828,Scheepstypen!$A$1:$F$44,6,FALSE)","v":"L2"}]
["WaalC3bgeladenaf","Waal","C3b","geladen","af","CO2",31148.707377750772,15.25,0.52779754167855475,{"$f":"VLOOKUP(A829,Begin:Einde,7,FALSE)","v":0},1,{"$f":"VLOOKUP(Jaar&X829,Trendfactoren!$A$2:$F$65,6,FALSE)","v":1},0,0,0,0,0,0,0,0,0,0,0,{"$f":"+VLOOKUP(C829,Scheepstypen!$A$1:$F$44,6,FALSE)","v":"L3"}]
["WaalC3bgeladenop","Waal","C3b","geladen","op","CO2",109770.23070019504,10.55,1.2867510376522864,{"$f":"VLOOKUP(A830,Begin:Einde,7,FALSE)","v":0},1,{"$f":"VLOOKUP(Jaar&X830,Trendfactoren!$A$2:$F$65,6,FALSE)","v":1},0,0,0,0,0,0,0,0,0,0,0,{"$f":"+VLOOKUP(C830,Scheepstypen!$A$1:$F$44,6,FALSE)","v":"L3"}]
["WaalC3bleegaf","Waal","C3b","leeg","af","CO2",21734.341107525554,17.18,0.41488442247476559,{"$f":"VLOOKUP(A831,Begin:Einde,7,FALSE)","v":0},1,{"$f":"VLOOKUP(Jaar&X831,Trendfactoren!$A$2:$F$65,6,FALSE)","v":1},0,0,0,0,0,0,0,0,0,0,0,{"$f":"+VLOOKUP(C831,Scheepstypen!$A$1:$F$44,6,FALSE)","v":"L3"}]
["WaalC3bleegop","Waal","C3b","leeg","op","CO2",71052.95465056118,17.28,1.3642167292907745,{"$f":"VLOOKUP(A832,Begin:Einde,7,FALSE)","v":0},1,{"$f":"VLOOKUP(Jaar&X832,Trendfactoren!$A$2:$F$65,6,FALSE)","v":1},0,0,0,0,0,0,0,0,0,0,0,{"$f":"+VLOOKUP(C832,Scheepstypen!$A$1:$F$44,6,FALSE)","v":"L3"}]
["WaalC3lgeladenaf","Waal","C3l","geladen","af","CO2",23116.106278740492,15.93,0.40915508113370669,{"$f":"VLOOKUP(A833,Begin:Einde,7,FALSE)","v":0},1,{"$f":"VLOOKUP(Jaar&X833,Trendfactoren!$A$2:$F$65,6,FALSE)","v":1},0,0,0,0,0,0,0,0,0,0,0,{"$f":"+VLOOKUP(C833,Scheepstypen!$A$1:$F$44,6,FALSE)","v":"L3"}]
["WaalC3lgeladenop","Waal","C3l","geladen","op","CO2",78550.475451576145,11.49,1.0028277365984555,{"$f":"VLOOKUP(A834,Begin:Einde,7,FALSE)","v":0},1,{"$f":"VLOOKUP(Jaar&X834,Trendfactoren!$A$2:$F$65,6,FALSE)","v":1},0,0,0,{"$f":"+O834/+IF($O$914>0,$O$914,1)","v":0},{"$f":"+IF(E834=\"beide\",O834,0)/IF($O$915>0,$O$915,1)","v":0},{"$f":"+IF(E834=\"op\",O834,0)/IF($O$916>0,$O$916,1)","v":0},{"$f":"+IF(E834=\"af\",O834,0)/IF($O$917>0,$O$917,1)","v":0},0,0,0,0,{"$f":"+VLOOKUP(C834,Scheepstypen!$A$1:$F$44,6,FALSE)","v":"L3"}]
["WaalC3lleegaf","Waal","C3l","leeg","af","CO2",14932.080228898847,16.399999999999999,0.27209568417104563,{"$f":"VLOOKUP(A835,Begin:Einde,7,FALSE)","v":0},1,{"$f":"VLOOKUP(Jaar&X835,Trendfactoren!$A$2:$F$65,6,FALSE)","v":1},0,0,0,0,0,0,0,0,0,0,0,{"$f":"+VLOOKUP(C835,Scheepstypen!$A$1:$F$44,6,FALSE)","v":"L3"}]
["WaalC3lleegop","Waal","C3l","leeg","op","CO2",47510.779716330842,11.43,0.60338690239740167,{"$f":"VLOOKUP(A836,Begin:Einde,7,FALSE)","v":0},1,{"$f":"VLOOKUP(Jaar&X836,Trendfactoren!$A$2:$F$65,6,FALSE)","v":1},0,0,0,0,0,0,0,0,0,0,0,{"$f":"+VLOOKUP(C836,Scheepstypen!$A$1:$F$44,6,FALSE)","v":"L3"}]
["WaalC4geladenaf","Waal","C4","geladen","af","CO2",35493.095667971313,15.05,0.59352343311440914,{"$f":"VLOOKUP(A837,Begin:Einde,7,FALSE)","v":0},1,{"$f":"VLOOKUP(Jaar&X837,Trendfactoren!$A$2:$F$65,6,FALSE)","v":1},0,0,0,0,0,0,0,0,0,0,0,{"$f":"+VLOOKUP(C837,Scheepstypen!$A$1:$F$44,6,FALSE)","v":"L3"}]
["WaalC4geladenop","Waal","C4","geladen","op","CO2",108665.90355152098,8.7200000000000006,1.0528518655214034,{"$f":"VLOOKUP(A838,Begin:Einde,7,FALSE)","v":0},1,{"$f":"VLOOKUP(Jaar&X838,Trendfactoren!$A$2:$F$65,6,FALSE)","v":1},0,0,0,0,0,0,0,0,0,0,0,{"$f":"+VLOOKUP(C838,Scheepstypen!$A$1:$F$44,6,FALSE)","v":"L3"}]
["WaalC4leegaf","Waal","C4","leeg","af","CO2",26328.83472241287,16.239999999999998,0.47508919543553885,{"$f":"VLOOKUP(A839,Begin:Einde,7,FALSE)","v":0},1,{"$f":"VLOOKUP(Jaar&X839,Trendfactoren!$A$2:$F$65,6,FALSE)","v":1},0,0,0,0,0,0,0,0,0,0,0,{"$f":"+VLOOKUP(C839,Scheepstypen!$A$1:$F$44,6,FALSE)","v":"L3"}]
["WaalC4leegop","Waal","C4","leeg","op","CO2",133522.25627779617,16.48,2.444940870508979,{"$f":"VLOOKUP(A840,Begin:Einde,7,FALSE)","v":0},1,{"$f":"VLOOKUP(Jaar&X840,Trendfactoren!$A$2:$F$65,6,FALSE)","v":1},0,0,0,0,0,0,0,0,0,0,0,{"$f":"+VLOOKUP(C840,Scheepstypen!$A$1:$F$44,6,FALSE)","v":"L3"}]
["WaalM0geladenaf","Waal","M0","geladen","af","CO2",1895.7487883335582,14.92,3.1427302135485211E-2,{"$f":"VLOOKUP(A841,Begin:Einde,7,FALSE)","v":0},1,{"$f":"VLOOKUP(Jaar&X841,Trendfactoren!$A$2:$F$65,6,FALSE)","v":1},0,0,0,0,0,0,0,0,0,0,0,{"$f":"+VLOOKUP(C841,Scheepstypen!$A$1:$F$44,6,FALSE)","v":"L1"}]
["WaalM0geladenop","Waal","M0","geladen","op","CO2",7732.6220091971472,13.41,0.11521606793703749,{"$f":"VLOOKUP(A842,Begin:Einde,7,FALSE)","v":0},1,{"$f":"VLOOKUP(Jaar&X842,Trendfactoren!$A$2:$F$65,6,FALSE)","v":1},0,0,0,0,0,0,0,0,0,0,0,{"$f":"+VLOOKUP(C842,Scheepstypen!$A$1:$F$44,6,FALSE)","v":"L1"}]
["WaalM0leegaf","Waal","M0","leeg","af","CO2",664.3746150622809,12.99,9.5891402773989227E-3,{"$f":"VLOOKUP(A843,Begin:Einde,7,FALSE)","v":0},1,{"$f":"VLOOKUP(Jaar&X843,Trendfactoren!$A$2:$F$65,6,FALSE)","v":1},0,0,0,0,0,0,0,0,0,0,0,{"$f":"+VLOOKUP(C843,Scheepstypen!$A$1:$F$44,6,FALSE)","v":"L1"}]
["WaalM0leegop","Waal","M0","leeg","op","CO2",3784.7638307974084,9.6999999999999993,4.0791343509705397E-2,{"$f":"VLOOKUP(A844,Begin:Einde,7,FALSE)","v":0},1,{"$f":"VLOOKUP(Jaar&X844,Trendfactoren!$A$2:$F$65,6,FALSE)","v":1},0,0,0,0,0,0,0,0,0,0,0,{"$f":"+VLOOKUP(C844,Scheepstypen!$A$1:$F$44,6,FALSE)","v":"L1"}]
["WaalM1geladenaf","Waal","M1","geladen","af","CO2",1271.5076621625096,10.46,1.4777744606910947E-2,{"$f":"VLOOKUP(A845,Begin:Einde,7,FALSE)","v":0},1,{"$f":"VLOOKUP(Jaar&X845,Trendfactoren!$A$2:$F$65,6,FALSE)","v":1},0,0,0,0,0,0,0,0,0,0,0,{"$f":"+VLOOKUP(C845,Scheepstypen!$A$1:$F$44,6,FALSE)","v":"L1"}]
["WaalM1geladenop","Waal","M1","geladen","op","CO2",12014.518125930175,7.15,9.5448671778223068E-2,{"$f":"VLOOKUP(A846,Begin:Einde,7,FALSE)","v":0},1,{"$f":"VLOOKUP(Jaar&X846,Trendfactoren!$A$2:$F$65,6,FALSE)","v":1},0,0,0,0,0,0,0,0,0,0,0,{"$f":"+VLOOKUP(C846,Scheepstypen!$A$1:$F$44,6,FALSE)","v":"L1"}]
["WaalM1leegaf","Waal","M1","leeg","af","CO2",2425.831507098108,17,4.5821261800742044E-2,{"$f":"VLOOKUP(A847,Begin:Einde,7,FALSE)","v":0},1,{"$f":"VLOOKUP(Jaar&X847,Trendfactoren!$A$2:$F$65,6,FALSE)","v":1},0,0,0,0,0,0,0,0,0,0,0,{"$f":"+VLOOKUP(C847,Scheepstypen!$A$1:$F$44,6,FALSE)","v":"L1"}]
["WaalM1leegop","Waal","M1","leeg","op","CO2",9554.0078178664771,14.9,0.15817190720690058,{"$f":"VLOOKUP(A848,Begin:Einde,7,FALSE)","v":0},1,{"$f":"VLOOKUP(Jaar&X848,Trendfactoren!$A$2:$F$65,6,FALSE)","v":1},0,0,0,0,0,0,0,0,0,0,0,{"$f":"+VLOOKUP(C848,Scheepstypen!$A$1:$F$44,6,FALSE)","v":"L1"}]
["WaalM10geladenaf","Waal","M10","geladen","af","CO2",24765.052066347595,17.46,0.48044201008714338,{"$f":"VLOOKUP(A849,Begin:Einde,7,FALSE)","v":0},1,{"$f":"VLOOKUP(Jaar&X849,Trendfactoren!$A$2:$F$65,6,FALSE)","v":1},0,0,0,0,0,0,0,0,0,0,0,{"$f":"+VLOOKUP(C849,Scheepstypen!$A$1:$F$44,6,FALSE)","v":"L3"}]
["WaalM10geladenop","Waal","M10","geladen","op","CO2",72680.084709588409,13.08,1.0562838977793516,{"$f":"VLOOKUP(A850,Begin:Einde,7,FALSE)","v":0},1,{"$f":"VLOOKUP(Jaar&X850,Trendfactoren!$A$2:$F$65,6,FALSE)","v":1},0,0,0,0,0,0,0,0,0,0,0,{"$f":"+VLOOKUP(C850,Scheepstypen!$A$1:$F$44,6,FALSE)","v":"L3"}]
["WaalM10leegaf","Waal","M10","leeg","af","CO2",11031.860288991236,15.46,0.1895028445197828,{"$f":"VLOOKUP(A851,Begin:Einde,7,FALSE)","v":0},1,{"$f":"VLOOKUP(Jaar&X851,Trendfactoren!$A$2:$F$65,6,FALSE)","v":1},0,0,0,0,0,0,0,0,0,0,0,{"$f":"+VLOOKUP(C851,Scheepstypen!$A$1:$F$44,6,FALSE)","v":"L3"}]
["WaalM10leegop","Waal","M10","leeg","op","CO2",48368.706548736933,13.89,0.74649037106883998,{"$f":"VLOOKUP(A852,Begin:Einde,7,FALSE)","v":0},1,{"$f":"VLOOKUP(Jaar&X852,Trendfactoren!$A$2:$F$65,6,FALSE)","v":1},0,0,0,0,0,0,0,0,0,0,0,{"$f":"+VLOOKUP(C852,Scheepstypen!$A$1:$F$44,6,FALSE)","v":"L3"}]
["WaalM11geladenaf","Waal","M11","geladen","af","CO2",23390.085744875119,16.47,0.42803856913121469,{"$f":"VLOOKUP(A853,Begin:Einde,7,FALSE)","v":0},1,{"$f":"VLOOKUP(Jaar&X853,Trendfactoren!$A$2:$F$65,6,FALSE)","v":1},0,0,0,0,0,0,0,0,0,0,0,{"$f":"+VLOOKUP(C853,Scheepstypen!$A$1:$F$44,6,FALSE)","v":"L3"}]
["WaalM11geladenop","Waal","M11","geladen","op","CO2",80715.882736224448,12.32,1.1049107503447613,{"$f":"VLOOKUP(A854,Begin:Einde,7,FALSE)","v":0},1,{"$f":"VLOOKUP(Jaar&X854,Trendfactoren!$A$2:$F$65,6,FALSE)","v":1},0,0,0,0,0,0,0,0,0,0,0,{"$f":"+VLOOKUP(C854,Scheepstypen!$A$1:$F$44,6,FALSE)","v":"L3"}]
["WaalM11leegaf","Waal","M11","leeg","af","CO2",18140.152767262574,18.170000000000002,0.36622952864573444,{"$f":"VLOOKUP(A855,Begin:Einde,7,FALSE)","v":0},1,{"$f":"VLOOKUP(Jaar&X855,Trendfactoren!$A$2:$F$65,6,FALSE)","v":1},0,0,0,0,0,0,0,0,0,0,0,{"$f":"+VLOOKUP(C855,Scheepstypen!$A$1:$F$44,6,FALSE)","v":"L3"}]
["WaalM11leegop","Waal","M11","leeg","op","CO2",61074.309935185709,15.47,1.04979952744147,{"$f":"VLOOKUP(A856,Begin:Einde,7,FALSE)","v":0},1,{"$f":"VLOOKUP(Jaar&X856,Trendfactoren!$A$2:$F$65,6,FALSE)","v":1},0,0,0,0,0,0,0,0,0,0,0,{"$f":"+VLOOKUP(C856,Scheepstypen!$A$1:$F$44,6,FALSE)","v":"L3"}]
["WaalM12geladenaf","Waal","M12","geladen","af","CO2",25801.108695527295,16.399999999999999,0.47015353622960843,{"$f":"VLOOKUP(A857,Begin:Einde,7,FALSE)","v":0},1,{"$f":"VLOOKUP(Jaar&X857,Trendfactoren!$A$2:$F$65,6,FALSE)","v":1},0,0,0,0,0,0,0,0,0,0,0,{"$f":"+VLOOKUP(C857,Scheepstypen!$A$1:$F$44,6,FALSE)","v":"L3"}]
["WaalM12geladenop","Waal","M12","geladen","op","CO2",89123.606503187242,12.06,1.1942563271427091,{"$f":"VLOOKUP(A858,Begin:Einde,7,FALSE)","v":0},1,{"$f":"VLOOKUP(Jaar&X858,Trendfactoren!$A$2:$F$65,6,FALSE)","v":1},0,0,0,0,0,0,0,0,0,0,0,{"$f":"+VLOOKUP(C858,Scheepstypen!$A$1:$F$44,6,FALSE)","v":"L3"}]
["WaalM12leegaf","Waal","M12","leeg","af","CO2",23396.468057326849,18.66,0.48508677105524334,{"$f":"VLOOKUP(A859,Begin:Einde,7,FALSE)","v":0},1,{"$f":"VLOOKUP(Jaar&X859,Trendfactoren!$A$2:$F$65,6,FALSE)","v":1},0,0,0,0,0,0,0,0,0,0,0,{"$f":"+VLOOKUP(C859,Scheepstypen!$A$1:$F$44,6,FALSE)","v":"L3"}]
["WaalM12leegop","Waal","M12","leeg","op","CO2",88686.843520202528,18.03,1.7766930985213907,{"$f":"VLOOKUP(A860,Begin:Einde,7,FALSE)","v":0},1,{"$f":"VLOOKUP(Jaar&X860,Trendfactoren!$A$2:$F$65,6,FALSE)","v":1},0,0,0,0,0,0,0,0,0,0,0,{"$f":"+VLOOKUP(C860,Scheepstypen!$A$1:$F$44,6,FALSE)","v":"L3"}]
["WaalM2geladenaf","Waal","M2","geladen","af","CO2",6729.4453229178171,15.54,0.11619508924238096,{"$f":"VLOOKUP(A861,Begin:Einde,7,FALSE)","v":0},1,{"$f":"VLOOKUP(Jaar&X861,Trendfactoren!$A$2:$F$65,6,FALSE)","v":1},0,0,0,0,0,0,0,0,0,0,0,{"$f":"+VLOOKUP(C861,Scheepstypen!$A$1:$F$44,6,FALSE)","v":"L1"}]
["WaalM2geladenop","Waal","M2","geladen","op","CO2",18922.915483092245,12,0.25230553977456327,{"$f":"VLOOKUP(A862,Begin:Einde,7,FALSE)","v":0},1,{"$f":"VLOOKUP(Jaar&X862,Trendfactoren!$A$2:$F$65,6,FALSE)","v":1},0,0,0,0,0,0,0,0,0,0,0,{"$f":"+VLOOKUP(C862,Scheepstypen!$A$1:$F$44,6,FALSE)","v":"L1"}]
["WaalM2leegaf","Waal","M2","leeg","af","CO2",3670.6175735862812,16.63,6.7824855831933165E-2,{"$f":"VLOOKUP(A863,Begin:Einde,7,FALSE)","v":0},1,{"$f":"VLOOKUP(Jaar&X863,Trendfactoren!$A$2:$F$65,6,FALSE)","v":1},0,0,0,0,0,0,0,0,0,0,0,{"$f":"+VLOOKUP(C863,Scheepstypen!$A$1:$F$44,6,FALSE)","v":"L1"}]
["WaalM2leegop","Waal","M2","leeg","op","CO2",12123.149056740969,12.47,0.16797296526395544,{"$f":"VLOOKUP(A864,Begin:Einde,7,FALSE)","v":0},1,{"$f":"VLOOKUP(Jaar&X864,Trendfactoren!$A$2:$F$65,6,FALSE)","v":1},0,0,0,0,0,0,0,0,0,0,0,{"$f":"+VLOOKUP(C864,Scheepstypen!$A$1:$F$44,6,FALSE)","v":"L1"}]
["WaalM3geladenaf","Waal","M3","geladen","af","CO2",8046.7918124759053,15.64,0.13983535994124799,{"$f":"VLOOKUP(A865,Begin:Einde,7,FALSE)","v":0},1,{"$f":"VLOOKUP(Jaar&X865,Trendfactoren!$A$2:$F$65,6,FALSE)","v":1},0,0,0,0,0,0,0,0,0,0,0,{"$f":"+VLOOKUP(C865,Scheepstypen!$A$1:$F$44,6,FALSE)","v":"L1"}]
["WaalM3geladenop","Waal","M3","geladen","op","CO2",26311.531797966662,11.72,0.34263461408018808,{"$f":"VLOOKUP(A866,Begin:Einde,7,FALSE)","v":0},1,{"$f":"VLOOKUP(Jaar&X866,Trendfactoren!$A$2:$F$65,6,FALSE)","v":1},0,0,0,0,0,0,0,0,0,0,0,{"$f":"+VLOOKUP(C866,Scheepstypen!$A$1:$F$44,6,FALSE)","v":"L1"}]
["WaalM3leegaf","Waal","M3","leeg","af","CO2",5076.726107848247,16.989999999999998,9.5837307302601885E-2,{"$f":"VLOOKUP(A867,Begin:Einde,7,FALSE)","v":0},1,{"$f":"VLOOKUP(Jaar&X867,Trendfactoren!$A$2:$F$65,6,FALSE)","v":1},0,0,0,0,0,0,0,0,0,0,0,{"$f":"+VLOOKUP(C867,Scheepstypen!$A$1:$F$44,6,FALSE)","v":"L1"}]
["WaalM3leegop","Waal","M3","leeg","op","CO2",16777.202214010202,13.18,0.24569280575628274,{"$f":"VLOOKUP(A868,Begin:Einde,7,FALSE)","v":0},1,{"$f":"VLOOKUP(Jaar&X868,Trendfactoren!$A$2:$F$65,6,FALSE)","v":1},0,0,0,0,0,0,0,0,0,0,0,{"$f":"+VLOOKUP(C868,Scheepstypen!$A$1:$F$44,6,FALSE)","v":"L1"}]
["WaalM4geladenaf","Waal","M4","geladen","af","CO2",9909.8364194708793,16,0.17617486967948232,{"$f":"VLOOKUP(A869,Begin:Einde,7,FALSE)","v":0},1,{"$f":"VLOOKUP(Jaar&X869,Trendfactoren!$A$2:$F$65,6,FALSE)","v":1},0,0,0,0,0,0,0,0,0,0,0,{"$f":"+VLOOKUP(C869,Scheepstypen!$A$1:$F$44,6,FALSE)","v":"L1"}]
["WaalM4geladenop","Waal","M4","geladen","op","CO2",30188.404390971766,11.48,0.38506986934261767,{"$f":"VLOOKUP(A870,Begin:Einde,7,FALSE)","v":0},1,{"$f":"VLOOKUP(Jaar&X870,Trendfactoren!$A$2:$F$65,6,FALSE)","v":1},0,0,0,0,0,0,0,0,0,0,0,{"$f":"+VLOOKUP(C870,Scheepstypen!$A$1:$F$44,6,FALSE)","v":"L1"}]
["WaalM4leegaf","Waal","M4","leeg","af","CO2",5838.9078751273419,16.899999999999999,0.10964171454405786,{"$f":"VLOOKUP(A871,Begin:Einde,7,FALSE)","v":0},1,{"$f":"VLOOKUP(Jaar&X871,Trendfactoren!$A$2:$F$65,6,FALSE)","v":1},0,0,0,0,0,0,0,0,0,0,0,{"$f":"+VLOOKUP(C871,Scheepstypen!$A$1:$F$44,6,FALSE)","v":"L1"}]
["WaalM4leegop","Waal","M4","leeg","op","CO2",19055.237402083148,12.91,0.27333679428988161,{"$f":"VLOOKUP(A872,Begin:Einde,7,FALSE)","v":0},1,{"$f":"VLOOKUP(Jaar&X872,Trendfactoren!$A$2:$F$65,6,FALSE)","v":1},0,0,0,0,0,0,0,0,0,0,0,{"$f":"+VLOOKUP(C872,Scheepstypen!$A$1:$F$44,6,FALSE)","v":"L1"}]
["WaalM5geladenaf","Waal","M5","geladen","af","CO2",11324.050578789804,16.309999999999999,0.20521696104451298,{"$f":"VLOOKUP(A873,Begin:Einde,7,FALSE)","v":0},1,{"$f":"VLOOKUP(Jaar&X873,Trendfactoren!$A$2:$F$65,6,FALSE)","v":1},0,0,0,0,0,0,0,0,0,0,0,{"$f":"+VLOOKUP(C873,Scheepstypen!$A$1:$F$44,6,FALSE)","v":"L2"}]
["WaalM5geladenop","Waal","M5","geladen","op","CO2",34997.562476259387,11.84,0.46041237746545688,{"$f":"VLOOKUP(A874,Begin:Einde,7,FALSE)","v":0},1,{"$f":"VLOOKUP(Jaar&X874,Trendfactoren!$A$2:$F$65,6,FALSE)","v":1},0,0,0,0,0,0,0,0,0,0,0,{"$f":"+VLOOKUP(C874,Scheepstypen!$A$1:$F$44,6,FALSE)","v":"L2"}]
["WaalM5leegaf","Waal","M5","leeg","af","CO2",7439.0427597528105,17.77,0.14687976648978604,{"$f":"VLOOKUP(A875,Begin:Einde,7,FALSE)","v":0},1,{"$f":"VLOOKUP(Jaar&X875,Trendfactoren!$A$2:$F$65,6,FALSE)","v":1},0,0,0,0,0,0,0,0,0,0,0,{"$f":"+VLOOKUP(C875,Scheepstypen!$A$1:$F$44,6,FALSE)","v":"L2"}]
["WaalM5leegop","Waal","M5","leeg","op","CO2",21105.086572573731,12.82,0.30063023317821697,{"$f":"VLOOKUP(A876,Begin:Einde,7,FALSE)","v":0},1,{"$f":"VLOOKUP(Jaar&X876,Trendfactoren!$A$2:$F$65,6,FALSE)","v":1},0,0,0,0,0,0,0,0,0,0,0,{"$f":"+VLOOKUP(C876,Scheepstypen!$A$1:$F$44,6,FALSE)","v":"L2"}]
["WaalM6geladenaf","Waal","M6","geladen","af","CO2",13983.700804344036,16.91,0.26273820066828624,{"$f":"VLOOKUP(A877,Begin:Einde,7,FALSE)","v":0},1,{"$f":"VLOOKUP(Jaar&X877,Trendfactoren!$A$2:$F$65,6,FALSE)","v":1},0,0,0,0,0,0,0,0,0,0,0,{"$f":"+VLOOKUP(C877,Scheepstypen!$A$1:$F$44,6,FALSE)","v":"L2"}]
["WaalM6geladenop","Waal","M6","geladen","op","CO2",40298.505697824112,12.28,0.54985072218808895,{"$f":"VLOOKUP(A878,Begin:Einde,7,FALSE)","v":0},1,{"$f":"VLOOKUP(Jaar&X878,Trendfactoren!$A$2:$F$65,6,FALSE)","v":1},0,0,0,0,0,0,0,0,0,0,0,{"$f":"+VLOOKUP(C878,Scheepstypen!$A$1:$F$44,6,FALSE)","v":"L2"}]
["WaalM6leegaf","Waal","M6","leeg","af","CO2",8913.2539187199727,17.649999999999999,0.17479881296156388,{"$f":"VLOOKUP(A879,Begin:Einde,7,FALSE)","v":0},1,{"$f":"VLOOKUP(Jaar&X879,Trendfactoren!$A$2:$F$65,6,FALSE)","v":1},0,0,0,0,0,0,0,0,0,0,0,{"$f":"+VLOOKUP(C879,Scheepstypen!$A$1:$F$44,6,FALSE)","v":"L2"}]
["WaalM6leegop","Waal","M6","leeg","op","CO2",26708.604364128685,13.32,0.39528734458910453,{"$f":"VLOOKUP(A880,Begin:Einde,7,FALSE)","v":0},1,{"$f":"VLOOKUP(Jaar&X880,Trendfactoren!$A$2:$F$65,6,FALSE)","v":1},0,0,0,0,0,0,0,0,0,0,0,{"$f":"+VLOOKUP(C880,Scheepstypen!$A$1:$F$44,6,FALSE)","v":"L2"}]
["WaalM7geladenaf","Waal","M7","geladen","af","CO2",14659.446152146375,16.91,0.27543470492532801,{"$f":"VLOOKUP(A881,Begin:Einde,7,FALSE)","v":0},1,{"$f":"VLOOKUP(Jaar&X881,Trendfactoren!$A$2:$F$65,6,FALSE)","v":1},0,0,0,0,0,0,0,0,0,0,0,{"$f":"+VLOOKUP(C881,Scheepstypen!$A$1:$F$44,6,FALSE)","v":"L2"}]
["WaalM7geladenop","Waal","M7","geladen","op","CO2",42119.841033734963,11.89,0.55644989987900972,{"$f":"VLOOKUP(A882,Begin:Einde,7,FALSE)","v":0},1,{"$f":"VLOOKUP(Jaar&X882,Trendfactoren!$A$2:$F$65,6,FALSE)","v":1},{"$f":"+J882*I882*L882","v":0},{"$f":"+J882*H882","v":0},{"$f":"+J882*G882*K882","v":0},0,0,0,0,{"$f":"+S882/$I882","v":0},{"$f":"+Q882/$I882","v":0},{"$f":"+R882/$I882","v":0},{"$f":"+P882/I882","v":0},{"$f":"+VLOOKUP(C882,Scheepstypen!$A$1:$F$44,6,FALSE)","v":"L2"}]
["WaalM7leegaf","Waal","M7","leeg","af","CO2",11162.252422804224,17.87,0.22163272310612389,{"$f":"VLOOKUP(A883,Begin:Einde,7,FALSE)","v":0},1,{"$f":"VLOOKUP(Jaar&X883,Trendfactoren!$A$2:$F$65,6,FALSE)","v":1},0,0,0,0,0,0,0,0,0,0,0,{"$f":"+VLOOKUP(C883,Scheepstypen!$A$1:$F$44,6,FALSE)","v":"L2"}]
["WaalM7leegop","Waal","M7","leeg","op","CO2",31264.628463065244,13.4,0.4654955793389714,{"$f":"VLOOKUP(A884,Begin:Einde,7,FALSE)","v":0},1,{"$f":"VLOOKUP(Jaar&X884,Trendfactoren!$A$2:$F$65,6,FALSE)","v":1},0,0,0,0,0,0,0,0,0,0,0,{"$f":"+VLOOKUP(C884,Scheepstypen!$A$1:$F$44,6,FALSE)","v":"L2"}]
["WaalM8geladenaf","Waal","M8","geladen","af","CO2",19672.144662452629,17.13,0.37442648674201501,{"$f":"VLOOKUP(A885,Begin:Einde,7,FALSE)","v":0},1,{"$f":"VLOOKUP(Jaar&X885,Trendfactoren!$A$2:$F$65,6,FALSE)","v":1},0,0,0,0,0,0,0,0,0,0,0,{"$f":"+VLOOKUP(C885,Scheepstypen!$A$1:$F$44,6,FALSE)","v":"L3"}]
["WaalM8geladenop","Waal","M8","geladen","op","CO2",59473.19184473066,12.47,0.8240341136708792,{"$f":"VLOOKUP(A886,Begin:Einde,7,FALSE)","v":0},1,{"$f":"VLOOKUP(Jaar&X886,Trendfactoren!$A$2:$F$65,6,FALSE)","v":1},0,0,0,0,0,0,0,0,0,0,0,{"$f":"+VLOOKUP(C886,Scheepstypen!$A$1:$F$44,6,FALSE)","v":"L3"}]
["WaalM8leegaf","Waal","M8","leeg","af","CO2",13674.470504284898,18.07,0.27455298001380901,{"$f":"VLOOKUP(A887,Begin:Einde,7,FALSE)","v":0},1,{"$f":"VLOOKUP(Jaar&X887,Trendfactoren!$A$2:$F$65,6,FALSE)","v":1},0,0,0,0,0,0,0,0,0,0,0,{"$f":"+VLOOKUP(C887,Scheepstypen!$A$1:$F$44,6,FALSE)","v":"L3"}]
["WaalM8leegop","Waal","M8","leeg","op","CO2",39872.401265204484,13.54,0.59985812570096519,{"$f":"VLOOKUP(A888,Begin:Einde,7,FALSE)","v":0},1,{"$f":"VLOOKUP(Jaar&X888,Trendfactoren!$A$2:$F$65,6,FALSE)","v":1},0,0,0,0,0,0,0,0,0,0,0,{"$f":"+VLOOKUP(C888,Scheepstypen!$A$1:$F$44,6,FALSE)","v":"L3"}]
["WaalM9geladenaf","Waal","M9","geladen","af","CO2",18955.948481249834,16.38,0.34499826235874692,{"$f":"VLOOKUP(A889,Begin:Einde,7,FALSE)","v":0},1,{"$f":"VLOOKUP(Jaar&X889,Trendfactoren!$A$2:$F$65,6,FALSE)","v":1},0,0,0,0,0,0,0,0,0,0,0,{"$f":"+VLOOKUP(C889,Scheepstypen!$A$1:$F$44,6,FALSE)","v":"L3"}]
["WaalM9geladenop","Waal","M9","geladen","op","CO2",66382.58843308044,12.4,0.91460455174466382,{"$f":"VLOOKUP(A890,Begin:Einde,7,FALSE)","v":0},1,{"$f":"VLOOKUP(Jaar&X890,Trendfactoren!$A$2:$F$65,6,FALSE)","v":1},0,0,0,0,0,0,0,0,0,0,0,{"$f":"+VLOOKUP(C890,Scheepstypen!$A$1:$F$44,6,FALSE)","v":"L3"}]
["WaalM9leegaf","Waal","M9","leeg","af","CO2",15242.235710114323,17.73,{"$f":"+MJperkgCO2*G891/1000*H891/3600","v":0.30027204348925213},{"$f":"VLOOKUP(A891,Begin:Einde,7,FALSE)","v":0},1,{"$f":"VLOOKUP(Jaar&X891,Trendfactoren!$A$2:$F$65,6,FALSE)","v":1},{"$f":"+J891*I891*L891","v":0},{"$f":"+J891*H891","v":0},{"$f":"+J891*G891*K891","v":0},0,0,0,0,{"$f":"+S891/$I891","v":0},{"$f":"+Q891/$I891","v":0},{"$f":"+R891/$I891","v":0},{"$f":"+P891/I891","v":0},{"$f":"+VLOOKUP(C891,Scheepstypen!$A$1:$F$44,6,FALSE)","v":"L3"}]
[{"$f":"+B892&C892&D892&E892","v":"WaalM9leegop"},"Waal","M9","leeg","op","CO2",48663.839505881704,13.79,0.74563816309567632,{"$f":"VLOOKUP(A892,Begin:Einde,7,FALSE)","v":0},{"$f":"+Afstand","v":1},{"$f":"VLOOKUP(Jaar&X892,Trendfactoren!$A$2:$F$65,6,FALSE)","v":1},0,0,0,0,0,0,0,0,0,0,0,{"$f":"+VLOOKUP(C892,Scheepstypen!$A$1:$F$44,6,FALSE)","v":"L3"}]
["CEMT IBO1geladenbeide","CEMT I","BO1","geladen","beide","CO2",11408.133296744212,8.8000000000000007,0.11154619223483231,{"$f":"VLOOKUP(A893,Begin:Einde,7,FALSE)","v":0},1,{"$f":"VLOOKUP(Jaar&X893,Trendfactoren!$A$2:$F$65,6,FALSE)","v":1},0,0,0,0,0,0,0,0,0,0,0,{"$f":"+VLOOKUP(C893,Scheepstypen!$A$1:$F$44,6,FALSE)","v":"L1"}]
["CEMT IC1lgeladenbeide","CEMT I","C1l","geladen","beide","CO2",15190.999566965827,7.5,0.12659166305804856,{"$f":"VLOOKUP(A894,Begin:Einde,7,FALSE)","v":0},1,{"$f":"VLOOKUP(Jaar&X894,Trendfactoren!$A$2:$F$65,6,FALSE)","v":1},0,0,0,0,0,0,0,0,0,0,0,{"$f":"+VLOOKUP(C894,Scheepstypen!$A$1:$F$44,6,FALSE)","v":"L1"}]
["CEMT IC1lleegbeide","CEMT I","C1l","leeg","beide","CO2",7102.7689139840077,7.5,5.9189740949866732E-2,{"$f":"VLOOKUP(A895,Begin:Einde,7,FALSE)","v":0},1,{"$f":"VLOOKUP(Jaar&X895,Trendfactoren!$A$2:$F$65,6,FALSE)","v":1},0,0,0,0,0,0,0,0,0,0,0,{"$f":"+VLOOKUP(C895,Scheepstypen!$A$1:$F$44,6,FALSE)","v":"L1"}]
["CEMT VbBO1geladenbeide","CEMT Vb","BO1","geladen","beide","CO2",13930.095718253042,9.8000000000000007,{"$f":"+MJperkgCO2*G896/1000*H896/3600","v":0.15168326448764424},{"$f":"VLOOKUP(A896,Begin:Einde,7,FALSE)","v":0},{"$f":"+Afstand","v":1},{"$f":"VLOOKUP(Jaar&X896,Trendfactoren!$A$2:$F$65,6,FALSE)","v":1},{"$f":"+J896*I896*L896","v":0},{"$f":"+J896*H896","v":0},{"$f":"+J896*G896*K896","v":0},{"$f":"+O896/+IF($O$914>0,$O$914,1)","v":0},{"$f":"+IF(E896=\"beide\",O896,0)/IF($O$915>0,$O$915,1)","v":0},{"$f":"+IF(E896=\"op\",O896,0)/IF($O$916>0,$O$916,1)","v":0},{"$f":"+IF(E896=\"af\",O896,0)/IF($O$917>0,$O$917,1)","v":0},{"$f":"+S896/$I896","v":0},{"$f":"+Q896/$I896","v":0},{"$f":"+R896/$I896","v":0},{"$f":"+P896/I896","v":0},{"$f":"+VLOOKUP(C896,Scheepstypen!$A$1:$F$44,6,FALSE)","v":"L1"}]
["CEMT VIaBO1geladenbeide","CEMT VIa","BO1","geladen","beide","CO2",10313.626035258263,10.1,0.11574180328456496,{"$f":"VLOOKUP(A897,Begin:Einde,7,FALSE)","v":0},1,{"$f":"VLOOKUP(Jaar&X897,Trendfactoren!$A$2:$F$65,6,FALSE)","v":1},0,0,0,0,0,0,0,0,0,0,0,{"$f":"+VLOOKUP(C897,Scheepstypen!$A$1:$F$44,6,FALSE)","v":"L1"}]
["CEMT VIaC1lleegbeide","CEMT VIa","C1l","leeg","beide","CO2",11278.095018029579,8.5,0.10651534183694601,{"$f":"VLOOKUP(A898,Begin:Einde,7,FALSE)","v":0},1,{"$f":"VLOOKUP(Jaar&X898,Trendfactoren!$A$2:$F$65,6,FALSE)","v":1},0,0,0,0,0,0,0,0,0,0,0,{"$f":"+VLOOKUP(C898,Scheepstypen!$A$1:$F$44,6,FALSE)","v":"L1"}]
["CEMT VIcBO1geladenbeide","CEMT VIc","BO1","geladen","beide","CO2",11272.407337041603,10.1,{"$f":"+MJperkgCO2*G899/1000*H899/3600","v":0.12650146011568911},{"$f":"VLOOKUP(A899,Begin:Einde,7,FALSE)","v":0},{"$f":"+Afstand","v":1},{"$f":"VLOOKUP(Jaar&X899,Trendfactoren!$A$2:$F$65,6,FALSE)","v":1},{"$f":"+J899*I899*L899","v":0},{"$f":"+J899*H899","v":0},{"$f":"+J899*G899*K899","v":0},{"$f":"+O899/+IF($O$914>0,$O$914,1)","v":0},{"$f":"+IF(E899=\"beide\",O899,0)/IF($O$915>0,$O$915,1)","v":0},{"$f":"+IF(E899=\"op\",O899,0)/IF($O$916>0,$O$916,1)","v":0},{"$f":"+IF(E899=\"af\",O899,0)/IF($O$917>0,$O$917,1)","v":0},{"$f":"+S899/$I899","v":0},{"$f":"+Q899/$I899","v":0},{"$f":"+R899/$I899","v":0},{"$f":"+P899/I899","v":0},{"$f":"+VLOOKUP(C899,Scheepstypen!$A$1:$F$44,6,FALSE)","v":"L1"}]
["IJsselBO1geladenaf","IJssel","BO1","geladen","af","CO2",2750.4627780605833,9.8000000000000007,2.9949483583326355E-2,{"$f":"VLOOKUP(A900,Begin:Einde,7,FALSE)","v":0},1,{"$f":"VLOOKUP(Jaar&X900,Trendfactoren!$A$2:$F$65,6,FALSE)","v":1},0,0,0,0,0,0,0,0,0,0,0,{"$f":"+VLOOKUP(C900,Scheepstypen!$A$1:$F$44,6,FALSE)","v":"L1"}]
["IJsselBO1geladenop","IJssel","BO1","geladen","op","CO2",23358.457180342644,7.5,0.19465380983618868,{"$f":"VLOOKUP(A901,Begin:Einde,7,FALSE)","v":0},1,{"$f":"VLOOKUP(Jaar&X901,Trendfactoren!$A$2:$F$65,6,FALSE)","v":1},0,0,0,0,0,0,0,0,0,0,0,{"$f":"+VLOOKUP(C901,Scheepstypen!$A$1:$F$44,6,FALSE)","v":"L1"}]
["IJsselBO3geladenaf","IJssel","BO3","geladen","af","CO2",9232.6501934745193,9,9.2326501934745189E-2,{"$f":"VLOOKUP(A902,Begin:Einde,7,FALSE)","v":0},1,{"$f":"VLOOKUP(Jaar&X902,Trendfactoren!$A$2:$F$65,6,FALSE)","v":1},0,0,0,0,0,0,0,0,0,0,0,{"$f":"+VLOOKUP(C902,Scheepstypen!$A$1:$F$44,6,FALSE)","v":"L1"}]
["IJsselC1bgeladenaf","IJssel","C1b","geladen","af","CO2",4805.4217903197641,10,{"$f":"+MJperkgCO2*G903/1000*H903/3600","v":5.3393575447997374E-2},{"$f":"VLOOKUP(A903,Begin:Einde,7,FALSE)","v":0},{"$f":"+Afstand","v":1},{"$f":"VLOOKUP(Jaar&X903,Trendfactoren!$A$2:$F$65,6,FALSE)","v":1},{"$f":"+J903*I903*L903","v":0},{"$f":"+J903*H903","v":0},{"$f":"+J903*G903*K903","v":0},{"$f":"+O903/+IF($O$914>0,$O$914,1)","v":0},{"$f":"+IF(E903=\"beide\",O903,0)/IF($O$915>0,$O$915,1)","v":0},{"$f":"+IF(E903=\"op\",O903,0)/IF($O$916>0,$O$916,1)","v":0},{"$f":"+IF(E903=\"af\",O903,0)/IF($O$917>0,$O$917,1)","v":0},{"$f":"+S903/$I903","v":0},{"$f":"+Q903/$I903","v":0},{"$f":"+R903/$I903","v":0},{"$f":"+P903/I903","v":0},{"$f":"+VLOOKUP(C903,Scheepstypen!$A$1:$F$44,6,FALSE)","v":"L1"}]
["IJsselC1bgeladenop","IJssel","C1b","geladen","op","CO2",21035.258648034742,9.5,0.22203884128481116,{"$f":"VLOOKUP(A904,Begin:Einde,7,FALSE)","v":0},1,{"$f":"VLOOKUP(Jaar&X904,Trendfactoren!$A$2:$F$65,6,FALSE)","v":1},0,0,0,0,0,0,0,0,0,0,0,{"$f":"+VLOOKUP(C904,Scheepstypen!$A$1:$F$44,6,FALSE)","v":"L1"}]
["IJsselC1bleegop","IJssel","C1b","leeg","op","CO2",10973.037464110646,11.5,0.14021103426363604,{"$f":"VLOOKUP(A905,Begin:Einde,7,FALSE)","v":0},1,{"$f":"VLOOKUP(Jaar&X905,Trendfactoren!$A$2:$F$65,6,FALSE)","v":1},0,0,0,0,0,0,0,0,0,0,0,{"$f":"+VLOOKUP(C905,Scheepstypen!$A$1:$F$44,6,FALSE)","v":"L1"}]
["IJsselC1lgeladenaf","IJssel","C1l","geladen","af","CO2",11516.169737051112,10.3,{"$f":"+MJperkgCO2*G906/1000*H906/3600","v":0.13179616476847383},{"$f":"VLOOKUP(A906,Begin:Einde,7,FALSE)","v":0},{"$f":"+Afstand","v":1},{"$f":"VLOOKUP(Jaar&X906,Trendfactoren!$A$2:$F$65,6,FALSE)","v":1},{"$f":"+J906*I906*L906","v":0},{"$f":"+J906*H906","v":0},{"$f":"+J906*G906*K906","v":0},{"$f":"+O906/+IF($O$914>0,$O$914,1)","v":0},{"$f":"+IF(E906=\"beide\",O906,0)/IF($O$915>0,$O$915,1)","v":0},{"$f":"+IF(E906=\"op\",O906,0)/IF($O$916>0,$O$916,1)","v":0},{"$f":"+IF(E906=\"af\",O906,0)/IF($O$917>0,$O$917,1)","v":0},{"$f":"+S906/$I906","v":0},{"$f":"+Q906/$I906","v":0},{"$f":"+R906/$I906","v":0},{"$f":"+P906/I906","v":0},{"$f":"+VLOOKUP(C906,Scheepstypen!$A$1:$F$44,6,FALSE)","v":"L1"}]
["IJsselC1lgeladenop","IJssel","C1l","geladen","op","CO2",11379.928713592148,9.69,0.12252389914967547,{"$f":"VLOOKUP(A907,Begin:Einde,7,FALSE)","v":0},1,{"$f":"VLOOKUP(Jaar&X907,Trendfactoren!$A$2:$F$65,6,FALSE)","v":1},0,0,0,0,0,0,0,0,0,0,0,{"$f":"+VLOOKUP(C907,Scheepstypen!$A$1:$F$44,6,FALSE)","v":"L1"}]
["IJsselC1lleegaf","IJssel","C1l","leeg","af","CO2",4725.1054163224417,11,5.7751288421718734E-2,{"$f":"VLOOKUP(A908,Begin:Einde,7,FALSE)","v":0},1,{"$f":"VLOOKUP(Jaar&X908,Trendfactoren!$A$2:$F$65,6,FALSE)","v":1},0,0,0,0,0,0,0,0,0,0,0,{"$f":"+VLOOKUP(C908,Scheepstypen!$A$1:$F$44,6,FALSE)","v":"L1"}]
["IJsselC1lleegop","IJssel","C1l","leeg","op","CO2",6354.669881971613,10,7.0607443133017922E-2,{"$f":"VLOOKUP(A909,Begin:Einde,7,FALSE)","v":0},1,{"$f":"VLOOKUP(Jaar&X909,Trendfactoren!$A$2:$F$65,6,FALSE)","v":1},0,0,0,0,0,0,0,0,0,0,0,{"$f":"+VLOOKUP(C909,Scheepstypen!$A$1:$F$44,6,FALSE)","v":"L1"}]
["LekBO1geladenaf","Lek","BO1","geladen","af","CO2",3865.7280397371192,9.8000000000000007,{"$f":"+MJperkgCO2*G910/1000*H910/3600","v":4.2093483099359744E-2},{"$f":"VLOOKUP(A910,Begin:Einde,7,FALSE)","v":0},{"$f":"+Afstand","v":1},{"$f":"VLOOKUP(Jaar&X910,Trendfactoren!$A$2:$F$65,6,FALSE)","v":1},{"$f":"+J910*I910*L910","v":0},{"$f":"+J910*H910","v":0},{"$f":"+J910*G910*K910","v":0},{"$f":"+O910/+IF($O$914>0,$O$914,1)","v":0},{"$f":"+IF(E910=\"beide\",O910,0)/IF($O$915>0,$O$915,1)","v":0},{"$f":"+IF(E910=\"op\",O910,0)/IF($O$916>0,$O$916,1)","v":0},{"$f":"+IF(E910=\"af\",O910,0)/IF($O$917>0,$O$917,1)","v":0},{"$f":"+S910/$I910","v":0},{"$f":"+Q910/$I910","v":0},{"$f":"+R910/$I910","v":0},{"$f":"+P910/I910","v":0},{"$f":"+VLOOKUP(C910,Scheepstypen!$A$1:$F$44,6,FALSE)","v":"L1"}]
["LekBO1geladenop","Lek","BO1","geladen","op","CO2",20278.188427560392,7.5,0.16898490356300325,{"$f":"VLOOKUP(A911,Begin:Einde,7,FALSE)","v":0},1,{"$f":"VLOOKUP(Jaar&X911,Trendfactoren!$A$2:$F$65,6,FALSE)","v":1},0,0,0,0,0,0,0,0,0,0,0,{"$f":"+VLOOKUP(C911,Scheepstypen!$A$1:$F$44,6,FALSE)","v":"L1"}]
["WaalBO1geladenaf","Waal","BO1","geladen","af","CO2",2397.6563017647832,9.8000000000000007,2.6107813063660969E-2,{"$f":"VLOOKUP(A912,Begin:Einde,7,FALSE)","v":0},1,{"$f":"VLOOKUP(Jaar&X912,Trendfactoren!$A$2:$F$65,6,FALSE)","v":1},0,0,0,0,0,0,0,0,0,0,0,{"$f":"+VLOOKUP(C912,Scheepstypen!$A$1:$F$44,6,FALSE)","v":"L1"}]
["WaalBO1geladenop","Waal","BO1","geladen","op","CO2",17772.223731413738,7.5,0.1481018644284478,{"$f":"VLOOKUP(A913,Begin:Einde,7,FALSE)","v":0},1,{"$f":"VLOOKUP(Jaar&X913,Trendfactoren!$A$2:$F$65,6,FALSE)","v":1},0,0,0,0,0,0,0,0,0,0,0,{"$f":"+VLOOKUP(C913,Scheepstypen!$A$1:$F$44,6,FALSE)","v":"L1"}]
[null,null,null,null,null,null,null,null,null,null,null,null,null,"totaal",{"$f":"+SUM(O2:O913)","v":0},{"$f":"+SUM(P2:P913)","v":0},{"$f":"+SUM(Q2:Q892)","v":0},{"$f":"+SUM(R2:R892)","v":0},{"$f":"+SUM(S2:S892)","v":0},{"$f":"IF(SUM(T2:T913)>0,1/SUM(T2:T913),\"-\")","v":"-"},{"$f":"IF(SUM(U2:U912)>0,1/SUM(U2:U913),\"-\")","v":"-"},{"$f":"IF(SUM(V2:V913)>0,1/SUM(V2:V913),\"-\")","v":"-"},{"$f":"IF(SUM(W2:W913)>0,1/SUM(W2:W913),\"-\")","v":"-"}]
[null,null,null,null,null,null,null,null,null,null,null,null,null,"beide",{"$f":"+SUMIF(E1:E892,\"beide\",O1:O913)","v":0},null,null,null,null,"af","beide","op","totaal"]
[null,null,null,null,null,null,null,null,null,null,null,null,null,"op",{"$f":"+SUMIF(E1:E892,\"op\",O1:O913)","v":0}]
[null,null,null,null,null,null,null,null,null,null,null,null,null,"af",{"$f":"+SUMIF(E1:E892,\"af\",O1:O913)","v":0}]

{"sheet":"Scheepstypen","index":6,"n_rows":33,"n_cols":6,"rows_kept":33,"cut":false,"hidden":false,"merged":[]}
["Scheepstypenr","Description","Verzameltype","CEMTTypeID","ID","Tonnagecategorie"]
["Niet van T","Niet bekend","Niet van T",0,0,"L3"]
["M0","Overige Motorvrachtschepen (B <= 5m of L <= 38m)","M0",1,1,"L1"]
["M1","Spits","M1",2,2,"L1"]
["M2","Kempenaar","M2",3,3,"L1"]
["M3","Hagenaar","M3",4,4,"L1"]
["M4","Dortmund-Eems (L <= 74)","M4",4,5,"L1"]
["M5","Verlengde Dortmund (L > 74m)","M5",4,6,"L2"]
["M6","Rijn-Herne schip (L <= 86m)","M6",5,7,"L2"]
["M7","Verlengde Rijn-Herne schip (L > 86m)","M7",5,8,"L2"]
["M8","Groot Rijnschip","M8",6,9,"L3"]
["M9","Verlengd Groot Rijnschip (L > 111m)","M9",6,28,"L3"]
["M10","Verbreed Groot Rijnschip","M10",8,29,"L3"]
["M11","Verlengd en verbreed Groot Rijnschip","M11",8,30,"L3"]
["M12","Rijnmax Schip","M12",8,31,"L3"]
["BO1","Duwstel 5.20","BO1",1,10,"L1"]
["BO2","Duwstel 6.70","BO2",1,11,"L1"]
["BO3","Duwstel 7.50","BO3",1,12,"L1"]
["BO4","Duwstel 8.2","BO4",1,13,"L1"]
["BI","1 baksduwstel Europa I","BI",5,14,"L2"]
["BII-1","1 baksduwstel Europa II","BII-1",6,15,"L2"]
["BII-2L","2 baksduwstel (lang)","BII-2L",7,16,"L3"]
["BII-2B","2 baksduwstel (breed)","BII-2B",8,17,"L3"]
["BII-4","4 baksduwstel","BII-4",9,18,"L3"]
["BII-6L","6 baksduwstel (lang)","BII-6L",10,19,"L3"]
["BII-6B","6 baksduwstel (breed)","BII-6B",10,20,"L3"]
["C1l","2 Spitsen lang","C1l",2,21,"L1"]
["C1b","2 Spitsen breed (L<=80m)","C1b",2,22,"L1"]
["C2l","Klasse IV + 1 Europa I bak lang","C2l",5,23,"L2"]
["C2b","Klasse IV + 1 Europa I bak breed (L <= 136m)","C2b",8,24,"L2"]
["C3l","Klasse Va + 1 Europa II bak lang (L > 80m)","C3l",7,25,"L3"]
["C3b","Klasse Va + 1 Europa II bak breed (L <= 136m)","C3b",8,26,"L3"]
["C4","Klasse Va + 3 Europa II bakken (L > 136m)","C4",9,27,"L3"]

{"sheet":"Optellingen","index":7,"n_rows":22,"n_cols":6,"rows_kept":22,"cut":false,"hidden":false,"merged":[]}
[]
[]
[null,"Som van Emissie (gram)","Richting"]
[null,"Stof","af","beide","op","Grand Total"]
[null,"NOx",0,0,0,0]
[null,"Fijn stof",0,0,0,0]
[]
[]
[]
[null,"Som van GewWicht_MW","Richting"]
[null,null,"af","beide","op","Grand Total"]
[null,"Total",0,0,0,0]
[]
[]
[null,"Sum","Richting"]
[null,null,"af","beide","op","Grand Total"]
[null,"Total",0,0,0,0]
[]
[]
[null,"Som van Aantal","Richting"]
[null,null,"af","beide","op","Grand Total"]
[null,"Total",0,0,0,0]